Workbook

Sheet inhoudsopgave en toelichting
C1: Energiekentallen Utiliteitsbouw
C4: Project details
D6: Project naam | E6: Energiekentallen Utiliteitsgebouwen
D7: Datum | E7: Augustus 2026
D8: Contactpersoon TNO | E8: Robin Niessink, robin.niessink@tno.nl
C10: Deze dataset is ontwikkeld met subsidie van de Rijksdienst voor Ondernemend Nederland (RVO)
C12: Toelichting
C14: In dit onderzoek zijn energie-kentallen voor aardgaslevering (m3/m2) en elektriciteitslevering (kWh/m2) voor de diverse gebouwtypen van de utiliteitsbouw bepaald voor zichtjaren 2020 t/m 2024. De kentallen zijn waar mogelijk uitgesplitst naar bouwjaar- en oppervlakteklassen. Voor zichtjaar 2024 is ook een opsplitsing naar energielabel gemaakt. Ook voor de groep van panden die binnen de dienstensector valt zijn kentallen ontwikkeld. Voor zonnestroom is een eigen inschatting gemaakt van de teruglevering en daarmee is het eigenverbruik berekend en vervolgens opgeteld bij de netlevering voor een betere benadering van het totaalverbruik.
C16: De kentallen voor zonnestroomproductie (kWh/m2) alsmede het aandeel panden met zonnestroomproductie (in de populatie) zijn toegevoegd in een apart tab.
C18: NB: Een lege cel betekent dat een kental niet kon worden weergegeven vanwege de daarvoor geldende privacyregels. Het aantal overgebleven waarnemingen in de onderzoekspopulatie was hiervoor te laag.
C20: Voor nadere toelichting zie TNO rapport: Energiekentallen utiliteitsgebouwen 2020 t/m 2024 - Een analyse van het energieverbruik per gebouwtype voor de ontwikkeling van benchmark energiekentallen
C22: Inhoudsopgave
C23: Tab naam | E23: Inhoud
C24: elek_kental_ | E24: kentallen elektriciteit per gebouwtype
C25: elek_kental_bouwj_ | E25: kentallen elektriciteit per gebouwtype met uitsplitsing naar bouwjaarklassen
C26: elek_kental_opp_ | E26: kentallen elektriciteit per gebouwtype met uitsplitsing naar (gebruiks)oppervlakteklassen
C27: elek_kental_label_ | E27: kentallen elektriciteit per gebouwtype met uitsplitsing naar energielabelklassen
C28: elek_kental_diensten_ | E28: kentallen elektriciteit per gebouwtype voor panden die vallen binnen de dienstensector
C29: elek_kental_subsets_ | E29: kentallen elektriciteit per gebouwtype voor panden met onderscheid naar panden met of zonder zonnestroom en waar de teruglevering wel of niet hoger is dan de zonnestroomproductie
C30: zonnestroom_kentallen_ | E30: kentallen zonnestroomproductie per gebouwtype
C31: gas_kental_ | E31: kentallen aardgas per gebouwtype
C32: gas_kental_bouwj_ | E32: kentallen aardgas per gebouwtype met uitsplitsing naar bouwjaarklassen
C33: gas_kental_opp_ | E33: kentallen aardgas per gebouwtype met uitsplitsing naar (gebruiks)oppervlakteklassen
C34: gas_kental_label_ | E34: kentallen aardgas per gebouwtype met uitsplitsing naar energielabelklassen
... C36: populatie_overzicht_ | E36: een overzicht met het aantal panden in de onderzoekspopulatie in het betreffende tab, waarmee onder andere is na te gaan welke categorieën ontbreken per tab
C39: Toelichting kolommen in de tabs
C41: Energiedrager | D41: Dit geeft aan of het een kental voor aardgas of elektriciteit is
C42: Gebouwtype | D42: Dit geeft aan over welk gebouwtype het gaat
C43: Aantal panden | D43: Dit geeft het aantal panden in het onderzoek aan waarover de kentallen in de categorie berekend zijn
C44: Aandeel panden per gebouwtype | D44: Het percentage van het aantal panden dat in de betreffende categorie valt per gebouwtype
C45: Gemiddelde kental (kWh/m2) | D45: Het gemiddelde kental
C46: Q1 kental (kWh/m2) | D46: Het kental voor het 1ste kwartiel
C47: Mediaan kental (kWh/m2) | D47: Het kental voor de mediaan
C48: Q3 kental (kWh/m2) | D48: Het kental voor het 3e kwartiel
C49: Gewogen gemiddelde kental (kWh/m2) | D49: Het gemiddelde kental waarbij het pandoppervlak als weegfactor is gebruikt
C50: Gemiddelde kental inclusief eigenverbruik zonnestroom (kWh/m2) | D50: Eerst is het eigenverbruik zonnestroom bepaald en vervolgens opnieuw het gemiddelde bepaald
C51: Q1 kental inclusief eigenverbruik zonnestroom (kWh/m2) | D51: Eerst is het eigenverbruik zonnestroom bepaald en vervolgens opnieuw het 1ste kwartiel
C52: Mediaan kental inclusief eigenverbruik zonnestroom (kWh/m2) | D52: Eerst is het eigenverbruik zonnestroom bepaald en vervolgens opnieuw de mediaan
... C58: Gewogen gemiddelde zonnestroomproductie kental (kWh/m2) (inclusief panden zonder zon-pv) | D58: Het gewogen gemiddelde kental voor zonnestroomproductie berekend als gemiddelde voor panden met en zonder zonnestroomproductie

Sheet gas_kental_2024
A1: Energiedrager | B1: Gebouwtype | C1: Aantal panden | D1: Gemiddelde kental (m3/m2) | E1: Q1 kental (m3/m2) | F1: Mediaan kental (m3/m2) | G1: Q3 kental (m3/m2) | H1: Gewogen gemiddelde kental (m3/m2)
A2: Gas | B2: Asielzoekerscentrum | C2: 67 | D2: 27.030683 | E2: 8.6951076 | F2: 17.633747 | G2: 28.260815 | H2: 15.333722
A3: Gas | B3: Basisschool | C3: 4421 | D3: 8.2544386 | E3: 5.5277045 | F3: 8.0995647 | G3: 10.498368 | H3: 6.6708154
A4: Gas | B4: Bedrijfshal algemeen (geen LISA-informatie) | C4: 18137 | D4: 3.1884993 | E4: 0.23631841 | F4: 1.7568617 | G4: 4.3875339 | H4: 2.9247184
A5: Gas | B5: Bedrijfshal algemeen (met LISA-informatie) | C5: 11155 | D5: 4.1361447 | E5: 1.1879378 | F5: 2.8439597 | G5: 5.3518994 | H5: 3.3214044
A6: Gas | B6: Bedrijfshal met logistieke activiteiten | C6: 4929 | D6: 3.3176342 | E6: 1.257989 | F6: 2.5565574 | G6: 4.393578 | H6: 2.6003699
A7: Gas | B7: Bedrijfshal met maakindustrie en andere economische activiteiten | C7: 4544 | D7: 3.8496546 | E7: 1.3372765 | F7: 2.7292028 | G7: 4.8965222 | H7: 3.7935059
A8: Gas | B8: Bedrijfshal met maakindustrie en logistieke activiteiten | C8: 9659 | D8: 3.6790124 | E8: 1.1650853 | F8: 2.6605269 | G8: 4.8011147 | H8: 2.9952311
A9: Gas | B9: Bedrijfshal uitsluitend maakindustrie | C9: 17641 | D9: 5.0759023 | E9: 1.2706422 | F9: 3.044026 | G9: 5.8091417 | H9: 6.4539181
A10: Gas | B10: Bedrijfswoning | C10: 63374 | D10: 7.9239844 | E10: 3.0653087 | F10: 6.255954 | G10: 10.477925 | H10: 5.4038471
A11: Gas | B11: Bijeenkomstgebouw (niet nader ingedeeld) | C11: 9331 | D11: 7.9476152 | E11: 3.4916063 | F11: 6.4692308 | G11: 10.559894 | H11: 6.9278523
A12: Gas | B12: Campusgebouw | C12: 98 | D12: 8.1113731 | E12: 1.9918014 | F12: 6.2633831 | G12: 11.073907 | H12: 6.0312441
A13: Gas | B13: Cultuurhuis | C13: 542 | D13: 7.5024065 | E13: 3.9710739 | F13: 7.0595382 | G13: 10.057119 | H13: 5.1369842
... A15: Gas | B15: Gebedshuis | C15: 4259 | D15: 6.6975551 | E15: 3.8008537 | F15: 6.1783992 | G15: 9.0275572 | H15: 5.1334455
A16: Gas | B16: Gebouw bij militaire inrichting | C16: 19 | D16: 1526.5782 | H16: 174.50007
A17: Gas | B17: Gebouw bij spooremplacement | C17: 87 | D17: 7.8655856 | E17: 2.4886511 | F17: 6.0562613 | G17: 12.595382 | H17: 6.4699651
A18: Gas | B18: Gebouw bij vliegveld of luchthaven | C18: 171 | D18: 6.1091422 | E18: 1.1941983 | F18: 4.21636 | G18: 8.5980931 | H18: 5.4891638
A19: Gas | B19: Gebouw in landelijk gebied voor industrie (geen landbouwactiviteiten geregistreerd) | C19: 3759 | D19: 4.4916151 | E19: 0.66031182 | F19: 2.4040816 | G19: 5.9475474 | H19: 3.6131423
A20: Gas | B20: Gebouw in stedelijk gebied met industriefunctie | C20: 12388 | D20: 5.6970107 | E20: 0.91942982 | F20: 3.4207943 | G20: 7.4968042 | H20: 4.4111702
A21: Gas | B21: Gebouw op snelwegverzorgingsplaats | C21: 63 | D21: 8.9064271 | E21: 1.3020098 | F21: 5.878453 | G21: 12.318925 | H21: 11.544351
A22: Gas | B22: Gebouw op vakantiepark | C22: 38109 | D22: 9.1473646 | E22: 5.4271845 | F22: 8.5729167 | G22: 11.976471 | H22: 8.7235652
A23: Gas | B23: Gebouw voor landbouwactiviteiten | C23: 2143 | D23: 88.544809 | E23: 2.6248386 | F23: 8.4956522 | G23: 24.897187 | H23: 60.851979
A24: Gas | B24: Groothandel op bedrijventerrein | C24: 566 | D24: 2.8872308 | E24: 1.4680027 | F24: 2.5771223 | G24: 3.691486 | H24: 2.4201763
A25: Gas | B25: Hotel (of ander groot logiesgebouw) | C25: 2449 | D25: 11.312461 | E25: 5.5666667 | F25: 10.04893 | G25: 16.010101 | H25: 9.0574291
A26: Gas | B26: IJsbaan | C26: 121 | D26: 4.0149363 | E26: 1.7098765 | F26: 3.5336134 | G26: 5.1467066 | H26: 2.0123935
A27: Gas | B27: Kantoorpand algemeen | C27: 19634 | D27: 7.2535337 | E27: 3.7022779 | F27: 6.5635596 | G27: 9.9425819 | H27: 5.3543505
A28: Gas | B28: Kinderopvang (gebouw) | C28: 1500 | D28: 10.321793 | E28: 6.7058286 | F28: 9.5048937 | G28: 13.343616 | H28: 8.8382692
A29: Gas | B29: Koelhuis | C29: 83 | D29: 3.3219577 | E29: 0.55421992 | F29: 1.3426233 | G29: 3.6951394 | H29: 2.0865146
A30: Gas | B30: MBO-gebouw | C30: 10 | D30: 3.6348055 | H30: 3.5335311
A31: Gas | B31: Meergezinswoning met andere functie of combinatie van functies | C31: 17624 | D31: 7.9959173 | E31: 4.8207052 | F31: 7.4345165 | G31: 10.394745 | H31: 6.4695196
A32: Gas | B32: Meergezinswoning met cafe of restaurant | C32: 6320 | D32: 12.447746 | E32: 6.7125078 | F32: 10.324537 | G32: 16.015624 | H32: 11.017056
A33: Gas | B33: Meergezinswoning met winkel | C33: 22394 | D33: 8.13311 | E33: 4.8827304 | F33: 7.3654304 | G33: 10.522765 | H33: 6.7532774
A34: Gas | B34: Meergezinswoning met winkels en horeca | C34: 2524 | D34: 8.5105056 | E34: 4.9748066 | F34: 7.6409426 | G34: 11.035783 | H34: 6.5604517
A35: Gas | B35: Meergezinswoning met woonzorgeenheden | C35: 274 | D35: 9.3177788 | E35: 5.4889 | F35: 8.4935847 | G35: 12.055497 | H35: 8.8197438
A36: Gas | B36: Middelbare school | C36: 1065 | D36: 6.2116705 | E36: 3.5189751 | F36: 5.72819 | G36: 8.3675314 | H36: 4.9004648
A37: Gas | B37: Nutsgebouw (elektriciteit) | C37: 58 | D37: 5.6730139 | E37: 1.2214185 | F37: 3.3513991 | G37: 8.8965956 | H37: 5.0477156
A38: Gas | B38: Nutsgebouw (water) | C38: 233 | D38: 13.310442 | E38: 2.8659794 | F38: 8.7092652 | G38: 17.617021 | H38: 6.2195181
A39: Gas | B39: Overig gebouw met maatschappelijke functie | C39: 1580 | D39: 9.3946053 | E39: 3.2307449 | F39: 6.4677923 | G39: 11.441538 | H39: 7.4587545
A40: Gas | B40: Overig gebouw met recreatiefunctie | C40: 82 | D40: 15.09713 | E40: 3.3897158 | F40: 7.5926996 | G40: 15.608326 | H40: 12.972938
A41: Gas | B41: Overig onderwijsgebouw | C41: 3087 | D41: 8.7830293 | E41: 5.0957635 | F41: 8.1465342 | G41: 11.536568 | H41: 6.4373509
A42: Gas | B42: Overig overheidsgebouw | C42: 1054 | D42: 8.3924042 | E42: 4.7583388 | F42: 7.4179168 | G42: 10.862698 | H42: 5.3257382
... A46: Gas | B46: Pand met winkel en kantoor- en/of bijeenkomstfunctie | C46: 1379 | D46: 7.0465897 | E46: 2.3439224 | F46: 5.1715976 | G46: 9.286489 | H46: 3.6102733
A47: Gas | B47: Penitentiaire inrichting | C47: 25 | D47: 16.408099 | F47: 13.349225 | H47: 16.701427
A48: Gas | B48: Praktijk- of zorgwoning | C48: 4924 | D48: 8.461301 | E48: 4.9853872 | F48: 7.5091937 | G48: 10.892163 | H48: 8.121174
A49: Gas | B49: Productie-installatie | C49: 100 | D49: 1029.7419 | E49: 5.6249337 | F49: 62.593419 | G49: 708.80681 | H49: 759.18755
A50: Gas | B50: Restaurant of cafégebouw | C50: 3767 | D50: 22.637788 | E50: 7.8334177 | F50: 16.195652 | G50: 30.829735 | H50: 15.751958
A51: Gas | B51: School voor speciaal onderwijs | C51: 476 | D51: 8.3001154 | E51: 5.4977506 | F51: 7.8879785 | G51: 10.348784 | H51: 6.9779267
A52: Gas | B52: Schoolverzamelgebouw | C52: 94 | D52: 6.0193956 | E52: 3.3832671 | F52: 5.4311254 | G52: 7.9912845 | H52: 5.3075867
A53: Gas | B53: Tuincentrum | C53: 436 | D53: 6.4302613 | E53: 2.532668 | F53: 4.42823 | G53: 7.6336356 | H53: 4.8405949
A54: Gas | B54: Vakantiewoning buiten vakantiepark | C54: 4872 | D54: 10.237244 | E54: 5.3333333 | F54: 8.7926587 | G54: 13.39565 | H54: 9.6512198
A55: Gas | B55: Winkelpand | C55: 19496 | D55: 7.3256404 | E55: 1.8571086 | F55: 4.7737214 | G55: 9.3915104 | H55: 4.0267554
A56: Gas | B56: Woning met andere functie of combinatie van functies | C56: 14149 | D56: 8.3224901 | E56: 3.7590759 | F56: 6.7697063 | G56: 10.813253 | H56: 6.1028347
A57: Gas | B57: Woning met cafe of restaurant | C57: 11246 | D57: 14.294876 | E57: 5.8467366 | F57: 10.674573 | G57: 18.924902 | H57: 11.95018
A58: Gas | B58: Woning met winkel | C58: 32590 | D58: 8.3053928 | E58: 4.2205691 | F58: 7.0394997 | G58: 10.764139 | H58: 6.8896238
A59: Gas | B59: Wooncomplex met andere functie of combinatie van functies | C59: 8279 | D59: 6.9257346 | E59: 4.4431796 | F59: 6.4849206 | G59: 8.8767397 | H59: 5.9199691
... A66: Gas | B66: Zwembad | C66: 482 | D66: 38.075214 | E66: 8.8673607 | F66: 25.628036 | G66: 51.688984 | H66: 32.080442

Sheet gas_kental_bouwj_2024
A1: Energiedrager | B1: Gebouwtype | C1: Bouwjaarklasse | D1: Aantal panden | E1: Aandeel panden per gebouwtype | F1: Gemiddelde kental (m3/m2) | G1: Q1 kental (m3/m2) | H1: Mediaan kental (m3/m2) | I1: Q3 kental (m3/m2) | J1: Gewogen gemiddelde kental (m3/m2)
A2: Gas | B2: Asielzoekerscentrum | C2: tot 1946 | D2: 10 | E2: 0.149 | F2: 20.499003 | J2: 15.829949
A3: Gas | B3: Asielzoekerscentrum | C3: 1946 tot 1978 | D3: 27 | E3: 0.403 | F3: 25.126703 | H3: 20.492336 | J3: 20.814963
A4: Gas | B4: Asielzoekerscentrum | C4: 1978 tot 1995 | D4: 20 | E4: 0.299 | F4: 32.270463 | H4: 17.50696 | J4: 17.394716
A5: Gas | B5: Asielzoekerscentrum | C5: vanaf 1995 | D5: 10 | E5: 0.149 | F5: 28.22355 | J5: 7.5275234
A6: Gas | B6: Basisschool | C6: tot 1946 | D6: 444 | E6: 0.1 | F6: 9.4064 | G6: 6.6971908 | H6: 8.9384194 | I6: 11.584024 | J6: 7.7072313
A7: Gas | B7: Basisschool | C7: 1946 tot 1978 | D7: 1691 | E7: 0.382 | F7: 9.4469017 | G7: 7.1456756 | H7: 9.1453202 | I7: 11.56103 | J7: 8.2304107
A8: Gas | B8: Basisschool | C8: 1978 tot 1995 | D8: 1032 | E8: 0.233 | F8: 8.6178441 | G8: 6.3161775 | H8: 8.3417117 | I8: 10.473836 | J8: 7.4982643
A9: Gas | B9: Basisschool | C9: 1995 tot 2009 | D9: 651 | E9: 0.147 | F9: 7.1197011 | G9: 5.1590021 | H9: 6.8551188 | I9: 8.8892045 | J9: 5.6935041
A10: Gas | B10: Basisschool | C10: 2009 tot 2015 | D10: 437 | E10: 0.099 | F10: 5.0510251 | G10: 2.4764672 | H10: 4.5631709 | I10: 6.4867807 | J10: 4.2474588
A11: Gas | B11: Basisschool | C11: vanaf 2015 | D11: 166 | E11: 0.038 | F11: 3.6498911 | G11: 1.5712909 | H11: 3.0726931 | I11: 4.960402 | J11: 3.3310409
A12: Gas | B12: Bedrijfshal algemeen (geen LISA-informatie) | C12: tot 1946 | D12: 231 | E12: 0.013 | F12: 4.4722654 | G12: 0.6262025 | H12: 3.3277592 | I12: 6.3214476 | J12: 2.8089063
A13: Gas | B13: Bedrijfshal algemeen (geen LISA-informatie) | C13: 1946 tot 1978 | D13: 2585 | E13: 0.143 | F13: 3.6718504 | G13: 0.21447721 | H13: 1.816092 | I13: 4.9517685 | J13: 3.0121788
A14: Gas | B14: Bedrijfshal algemeen (geen LISA-informatie) | C14: 1978 tot 1995 | D14: 4544 | E14: 0.251 | F14: 3.6212621 | G14: 0.45455533 | H14: 2.1077983 | I14: 5.1024943 | J14: 3.0362798
A15: Gas | B15: Bedrijfshal algemeen (geen LISA-informatie) | C15: 1995 tot 2009 | D15: 7944 | E15: 0.438 | F15: 2.9225442 | G15: 0.19839121 | H15: 1.6209677 | I15: 4.0966125 | J15: 2.979528
A16: Gas | B16: Bedrijfshal algemeen (geen LISA-informatie) | C16: 2009 tot 2015 | D16: 1600 | E16: 0.088 | F16: 2.8274246 | G16: 0.19603842 | H16: 1.7390167 | I16: 3.9460853 | J16: 2.8771707
A17: Gas | B17: Bedrijfshal algemeen (geen LISA-informatie) | C17: vanaf 2015 | D17: 1233 | E17: 0.068 | F17: 2.5218155 | H17: 1.2166247 | I17: 3.36 | J17: 2.3263507
A18: Gas | B18: Bedrijfshal algemeen (met LISA-informatie) | C18: tot 1946 | D18: 120 | E18: 0.011 | F18: 5.3150665 | G18: 1.5296191 | H18: 3.8571239 | I18: 7.3451706 | J18: 3.1251667
A19: Gas | B19: Bedrijfshal algemeen (met LISA-informatie) | C19: 1946 tot 1978 | D19: 1485 | E19: 0.133 | F19: 4.6099755 | G19: 1.0706482 | H19: 3.0029412 | I19: 5.6771523 | J19: 3.8315112
A20: Gas | B20: Bedrijfshal algemeen (met LISA-informatie) | C20: 1978 tot 1995 | D20: 2908 | E20: 0.261 | F20: 4.3510205 | G20: 1.3351972 | H20: 3.050073 | I20: 5.8540152 | J20: 3.663662
A21: Gas | B21: Bedrijfshal algemeen (met LISA-informatie) | C21: 1995 tot 2009 | D21: 4979 | E21: 0.446 | F21: 4.0377157 | G21: 1.2478678 | H21: 2.8834951 | I21: 5.2308013 | J21: 3.2297501
A22: Gas | B22: Bedrijfshal algemeen (met LISA-informatie) | C22: 2009 tot 2015 | D22: 1046 | E22: 0.094 | F22: 3.7275779 | G22: 1.0713324 | H22: 2.5311231 | I22: 4.645199 | J22: 2.8260936
A23: Gas | B23: Bedrijfshal algemeen (met LISA-informatie) | C23: vanaf 2015 | D23: 617 | E23: 0.055 | F23: 3.2406362 | G23: 0.732 | H23: 2.0309023 | I23: 4.25 | J23: 2.0561758
A24: Gas | B24: Bedrijfshal met logistieke activiteiten | C24: tot 1946 | D24: 50 | E24: 0.01 | F24: 4.3359663 | G24: 1.337038 | H24: 3.1226909 | I24: 5.4010487 | J24: 2.7235619
A25: Gas | B25: Bedrijfshal met logistieke activiteiten | C25: 1946 tot 1978 | D25: 698 | E25: 0.142 | F25: 3.5944941 | G25: 1.0394245 | H25: 2.5469945 | I25: 4.794994 | J25: 2.9236287
A26: Gas | B26: Bedrijfshal met logistieke activiteiten | C26: 1978 tot 1995 | D26: 1243 | E26: 0.252 | F26: 3.6789491 | G26: 1.3558424 | H26: 2.8940594 | I26: 4.7556557 | J26: 2.7977461
A27: Gas | B27: Bedrijfshal met logistieke activiteiten | C27: 1995 tot 2009 | D27: 2063 | E27: 0.419 | F27: 3.3025035 | G27: 1.4738804 | H27: 2.6612903 | I27: 4.3658478 | J27: 2.6211069
A28: Gas | B28: Bedrijfshal met logistieke activiteiten | C28: 2009 tot 2015 | D28: 556 | E28: 0.113 | F28: 2.8190322 | G28: 1.1804141 | H28: 2.2287184 | I28: 3.8529577 | J28: 2.3792013
A29: Gas | B29: Bedrijfshal met logistieke activiteiten | C29: vanaf 2015 | D29: 319 | E29: 0.065 | F29: 2.1112342 | G29: 0.63090341 | H29: 1.4700748 | I29: 2.5765785 | J29: 1.5249083
... A59: Gas | B59: Bijeenkomstgebouw (niet nader ingedeeld) | C59: vanaf 2015 | D59: 234 | E59: 0.025 | F59: 7.6430089 | G59: 2.8541813 | H59: 5.0301597 | I59: 10.897709 | J59: 5.783967
A60: Gas | B60: Campusgebouw | C60: tot 1978 | D60: 32 | E60: 0.327 | F60: 8.5947183 | H60: 5.144828 | J60: 9.3031946
A61: Gas | B61: Campusgebouw | C61: 1978 tot 1995 | D61: 12 | E61: 0.122 | F61: 10.16604 | J61: 9.4564442
A62: Gas | B62: Campusgebouw | C62: 1995 tot 2009 | D62: 29 | E62: 0.296 | F62: 8.3158653 | H62: 8.0719344 | J62: 8.5661981
A63: Gas | B63: Campusgebouw | C63: 2009 tot 2015 | D63: 12 | E63: 0.122 | F63: 6.0664104 | J63: 4.8310581
A64: Gas | B64: Campusgebouw | C64: vanaf 2015 | D64: 13 | E64: 0.133 | F64: 6.4564679 | J64: 1.2482909
A65: Gas | B65: Cultuurhuis | C65: tot 1946 | D65: 210 | E65: 0.387 | F65: 8.0097979 | G65: 4.0876164 | H65: 7.6982862 | I65: 11.29207 | J65: 4.8088221
A66: Gas | B66: Cultuurhuis | C66: 1946 tot 1978 | D66: 119 | E66: 0.22 | F66: 7.9509245 | G66: 4.8379492 | H66: 7.3953886 | I66: 10.341152 | J66: 5.7067309
A67: Gas | B67: Cultuurhuis | C67: 1978 tot 1995 | D67: 92 | E67: 0.17 | F67: 7.6908161 | G67: 5.0114343 | H67: 7.322857 | I67: 9.4863913 | J67: 6.7118223
A68: Gas | B68: Cultuurhuis | C68: 1995 tot 2009 | D68: 87 | E68: 0.161 | F68: 6.2885385 | G68: 3.6291413 | H68: 5.840772 | I68: 8.1258158 | J68: 4.6342408
A69: Gas | B69: Cultuurhuis | C69: 2009 tot 2015 | D69: 22 | E69: 0.041 | F69: 6.0469199 | H69: 4.7223354 | J69: 3.8675652
A70: Gas | B70: Cultuurhuis | C70: vanaf 2015 | D70: 12 | E70: 0.022 | F70: 4.1997145 | J70: 4.2769491
A71: Gas | B71: Gebedshuis | C71: tot 1946 | D71: 1786 | E71: 0.419 | F71: 7.001662 | G71: 3.6702454 | H71: 6.5012966 | I71: 9.7125564 | J71: 4.8074924
A72: Gas | B72: Gebedshuis | C72: 1946 tot 1978 | D72: 1474 | E72: 0.346 | F72: 6.4886829 | G72: 3.6669173 | H72: 5.9686043 | I72: 8.7444749 | J72: 5.4342965
A73: Gas | B73: Gebedshuis | C73: 1978 tot 1995 | D73: 542 | E73: 0.127 | F73: 6.8373054 | G73: 4.266503 | H73: 6.626935 | I73: 8.8047292 | J73: 5.278163
A74: Gas | B74: Gebedshuis | C74: 1995 tot 2009 | D74: 335 | E74: 0.079 | F74: 6.3636404 | G74: 4.3351047 | H74: 5.9818457 | I74: 7.8048563 | J74: 5.8278593
A75: Gas | B75: Gebedshuis | C75: 2009 tot 2015 | D75: 89 | E75: 0.021 | F75: 5.3595747 | G75: 3.2797383 | H75: 4.8073469 | I75: 6.7148936 | J75: 4.3540684
A76: Gas | B76: Gebedshuis | C76: vanaf 2015 | D76: 33 | E76: 0.008 | F76: 4.271478 | H76: 4.6311983 | J76: 2.899754
A77: Gas | B77: Gebouw bij spooremplacement | C77: tot 1946 | D77: 23 | E77: 0.264 | F77: 7.2618748 | H77: 5.4473388 | J77: 9.1403846
A78: Gas | B78: Gebouw bij spooremplacement | C78: 1946 tot 1978 | D78: 20 | E78: 0.23 | F78: 7.2353933 | H78: 3.8194325 | J78: 6.4036832
A79: Gas | B79: Gebouw bij spooremplacement | C79: 1978 tot 1995 | D79: 16 | E79: 0.184 | F79: 10.760889 | J79: 10.23578
A80: Gas | B80: Gebouw bij spooremplacement | C80: 1995 tot 2009 | D80: 14 | E80: 0.161 | F80: 7.7386837 | J80: 4.5275404
A81: Gas | B81: Gebouw bij spooremplacement | C81: vanaf 2009 | D81: 14 | E81: 0.161 | F81: 6.5756549 | J81: 2.2563612
A82: Gas | B82: Gebouw bij vliegveld of luchthaven | C82: tot 1978 | D82: 29 | E82: 0.17 | F82: 5.0126378 | H82: 4.5746313 | J82: 3.8277262
A83: Gas | B83: Gebouw bij vliegveld of luchthaven | C83: 1978 tot 1995 | D83: 74 | E83: 0.433 | F83: 6.2789023 | G83: 1.5064286 | H83: 3.8132084 | I83: 8.3917361 | J83: 6.6016252
A84: Gas | B84: Gebouw bij vliegveld of luchthaven | C84: 1995 tot 2009 | D84: 47 | E84: 0.275 | F84: 6.8248074 | G84: 1.1677785 | H84: 4.1319534 | I84: 9.9846733 | J84: 5.1581122
A85: Gas | B85: Gebouw bij vliegveld of luchthaven | C85: vanaf 2009 | D85: 21 | E85: 0.123 | F85: 5.4234333 | H85: 4.2186364 | J85: 5.5186944
A86: Gas | B86: Gebouw in landelijk gebied voor industrie (geen landbouwactiviteiten geregistreerd) | C86: tot 1946 | D86: 386 | E86: 0.103 | F86: 5.4651971 | G86: 1.117328 | H86: 3.5636253 | I86: 7.8862689 | J86: 3.7223118
A87: Gas | B87: Gebouw in landelijk gebied voor industrie (geen landbouwactiviteiten geregistreerd) | C87: 1946 tot 1978 | D87: 1064 | E87: 0.283 | F87: 4.2535866 | G87: 0.66691579 | H87: 2.3213225 | I87: 5.6812702 | J87: 3.549075
A88: Gas | B88: Gebouw in landelijk gebied voor industrie (geen landbouwactiviteiten geregistreerd) | C88: 1978 tot 1995 | D88: 1013 | E88: 0.269 | F88: 4.659522 | G88: 0.64794816 | H88: 2.24 | I88: 6.2404372 | J88: 3.8381658
A89: Gas | B89: Gebouw in landelijk gebied voor industrie (geen landbouwactiviteiten geregistreerd) | C89: 1995 tot 2009 | D89: 882 | E89: 0.235 | F89: 4.4137379 | G89: 0.57907808 | H89: 2.3017821 | I89: 5.8156072 | J89: 3.4924362
A90: Gas | B90: Gebouw in landelijk gebied voor industrie (geen landbouwactiviteiten geregistreerd) | C90: 2009 tot 2015 | D90: 248 | E90: 0.066 | F90: 3.9764787 | G90: 0.67793991 | H90: 2.4331349 | I90: 4.9687804 | J90: 3.4216831
A91: Gas | B91: Gebouw in landelijk gebied voor industrie (geen landbouwactiviteiten geregistreerd) | C91: vanaf 2015 | D91: 166 | E91: 0.044 | F91: 3.9121655 | G91: 0.72158569 | H91: 2.0321926 | I91: 5.1153108 | J91: 3.4979151
A92: Gas | B92: Gebouw in stedelijk gebied met industriefunctie | C92: tot 1946 | D92: 2743 | E92: 0.221 | F92: 7.0707696 | G92: 1.1309616 | H92: 4.5301205 | I92: 9.4863281 | J92: 4.7892787
A93: Gas | B93: Gebouw in stedelijk gebied met industriefunctie | C93: 1946 tot 1978 | D93: 4320 | E93: 0.349 | F93: 5.4206473 | G93: 0.67669605 | H93: 3.1526276 | I93: 7.1393237 | J93: 4.7372066
A94: Gas | B94: Gebouw in stedelijk gebied met industriefunctie | C94: 1978 tot 1995 | D94: 2534 | E94: 0.205 | F94: 5.4323414 | G94: 0.99694892 | H94: 3.4237472 | I94: 7.1154247 | J94: 4.0106694
A95: Gas | B95: Gebouw in stedelijk gebied met industriefunctie | C95: 1995 tot 2009 | D95: 2027 | E95: 0.164 | F95: 5.270964 | G95: 1.3124489 | H95: 3.4413257 | I95: 6.7337731 | J95: 4.5495151
A96: Gas | B96: Gebouw in stedelijk gebied met industriefunctie | C96: 2009 tot 2015 | D96: 433 | E96: 0.035 | F96: 4.4565069 | G96: 0.9692429 | H96: 2.6165414 | I96: 5.4742268 | J96: 2.5042424
A97: Gas | B97: Gebouw in stedelijk gebied met industriefunctie | C97: vanaf 2015 | D97: 331 | E97: 0.027 | F97: 4.1776024 | G97: 0.36942475 | H97: 2.0125 | I97: 4.4232663 | J97: 4.4781761
... A109: Gas | B109: Gebouw voor landbouwactiviteiten | C109: vanaf 2015 | D109: 63 | E109: 0.029 | F109: 97.396467 | G109: 1.0651966 | H109: 3.3345822 | I109: 20.29902 | J109: 98.085531
A110: Gas | B110: Groothandel op bedrijventerrein | C110: tot 1946 | D110: 11 | E110: 0.019 | F110: 1.9414759 | J110: 0.90784037
A111: Gas | B111: Groothandel op bedrijventerrein | C111: 1946 tot 1978 | D111: 116 | E111: 0.205 | F111: 2.4312132 | G111: 1.0857419 | H111: 2.0750961 | I111: 3.4152635 | J111: 2.0391121
A112: Gas | B112: Groothandel op bedrijventerrein | C112: 1978 tot 1995 | D112: 173 | E112: 0.306 | F112: 3.2699143 | G112: 1.8484487 | H112: 2.8879908 | I112: 4.0115949 | J112: 2.8142992
A113: Gas | B113: Groothandel op bedrijventerrein | C113: 1995 tot 2009 | D113: 235 | E113: 0.415 | F113: 2.9228103 | G113: 1.5562084 | H113: 2.6004489 | I113: 3.6349193 | J113: 2.5434788
A114: Gas | B114: Groothandel op bedrijventerrein | C114: vanaf 2009 | D114: 31 | E114: 0.055 | F114: 2.5238726 | H114: 2.5797656 | J114: 2.6194977
A115: Gas | B115: Hotel (of ander groot logiesgebouw) | C115: tot 1946 | D115: 1220 | E115: 0.498 | F115: 11.949021 | G115: 6.2495748 | H115: 10.921001 | I115: 16.866214 | J115: 8.5422725
A116: Gas | B116: Hotel (of ander groot logiesgebouw) | C116: 1946 tot 1978 | D116: 473 | E116: 0.193 | F116: 11.411719 | G116: 5.8268839 | H116: 10.278339 | I116: 16.150547 | J116: 10.680198
A117: Gas | B117: Hotel (of ander groot logiesgebouw) | C117: 1978 tot 1995 | D117: 303 | E117: 0.124 | F117: 11.93844 | G117: 6.3125789 | H117: 10.753846 | I117: 16.111354 | J117: 9.9703997
A118: Gas | B118: Hotel (of ander groot logiesgebouw) | C118: 1995 tot 2009 | D118: 244 | E118: 0.1 | F118: 10.580179 | G118: 5.2182126 | H118: 9.1827581 | I118: 14.720822 | J118: 11.193237
A119: Gas | B119: Hotel (of ander groot logiesgebouw) | C119: 2009 tot 2015 | D119: 91 | E119: 0.037 | F119: 8.8096509 | G119: 4.1905948 | H119: 7.8514961 | I119: 11.301006 | J119: 6.607237
A120: Gas | B120: Hotel (of ander groot logiesgebouw) | C120: vanaf 2015 | D120: 118 | E120: 0.048 | F120: 6.1701693 | G120: 2.8524466 | H120: 5.2114409 | I120: 7.6756443 | J120: 3.8305893
A121: Gas | B121: IJsbaan | C121: tot 1978 | D121: 23 | E121: 0.19 | F121: 4.9356847 | H121: 3.7789855 | J121: 5.6904807
A122: Gas | B122: IJsbaan | C122: 1978 tot 1995 | D122: 50 | E122: 0.413 | F122: 4.1171989 | G122: 1.6579987 | H122: 4.0552177 | I122: 5.5805854 | J122: 3.9238035
A123: Gas | B123: IJsbaan | C123: 1995 tot 2009 | D123: 35 | E123: 0.289 | F123: 3.657715 | H123: 3.5125 | J123: 1.3099271
A124: Gas | B124: IJsbaan | C124: vanaf 2009 | D124: 13 | E124: 0.107 | F124: 2.9543521 | J124: 2.5843553
A125: Gas | B125: Kantoorpand algemeen | C125: tot 1946 | D125: 5085 | E125: 0.259 | F125: 9.0777486 | G125: 5.5469897 | H125: 8.6147541 | I125: 12.179191 | J125: 7.317467
A126: Gas | B126: Kantoorpand algemeen | C126: 1946 tot 1978 | D126: 3300 | E126: 0.168 | F126: 7.7870555 | G126: 3.9477495 | H126: 7.187495 | I126: 10.754078 | J126: 5.4697496
A127: Gas | B127: Kantoorpand algemeen | C127: 1978 tot 1995 | D127: 4361 | E127: 0.222 | F127: 6.9241926 | G127: 3.8170213 | H127: 6.3317308 | I127: 9.2131148 | J127: 5.5284375
A128: Gas | B128: Kantoorpand algemeen | C128: 1995 tot 2009 | D128: 5747 | E128: 0.293 | F128: 6.0211196 | G128: 2.9975186 | H128: 5.3844435 | I128: 8.0450975 | J128: 4.9758014
A129: Gas | B129: Kantoorpand algemeen | C129: 2009 tot 2015 | D129: 890 | E129: 0.045 | F129: 4.8759249 | G129: 1.8299505 | H129: 3.9268129 | I129: 6.7207676 | J129: 2.779153
A130: Gas | B130: Kantoorpand algemeen | C130: vanaf 2015 | D130: 251 | E130: 0.013 | F130: 5.6529653 | G130: 1.2565045 | H130: 3.7813713 | I130: 7.7598291 | J130: 3.2139034
A131: Gas | B131: Kinderopvang (gebouw) | C131: tot 1946 | D131: 275 | E131: 0.183 | F131: 11.528625 | G131: 7.4996188 | H131: 10.456193 | I131: 14.75731 | J131: 10.023393
A132: Gas | B132: Kinderopvang (gebouw) | C132: 1946 tot 1978 | D132: 483 | E132: 0.322 | F132: 11.578901 | G132: 7.865749 | H132: 11.104545 | I132: 14.7094 | J132: 9.538136
A133: Gas | B133: Kinderopvang (gebouw) | C133: 1978 tot 1995 | D133: 318 | E133: 0.212 | F133: 9.4384836 | G133: 5.9437362 | H133: 9.0013514 | I133: 12.056432 | J133: 8.1693434
A134: Gas | B134: Kinderopvang (gebouw) | C134: 1995 tot 2009 | D134: 339 | E134: 0.226 | F134: 8.9643451 | G134: 6.2350753 | H134: 8.2194093 | I134: 11.169337 | J134: 7.7929632
A135: Gas | B135: Kinderopvang (gebouw) | C135: 2009 tot 2015 | D135: 73 | E135: 0.049 | F135: 8.0239973 | G135: 5.2313625 | H135: 7.6302521 | I135: 10.765 | J135: 8.2496305
A136: Gas | B136: Kinderopvang (gebouw) | C136: vanaf 2015 | D136: 12 | E136: 0.008 | F136: 7.8004849 | J136: 5.6036107
A137: Gas | B137: Koelhuis | C137: tot 1978 | D137: 11 | E137: 0.133 | F137: 3.9679683 | J137: 1.2461761
A138: Gas | B138: Koelhuis | C138: 1978 tot 1995 | D138: 38 | E138: 0.458 | F138: 3.0008377 | H138: 1.4499598 | J138: 2.3926469
A139: Gas | B139: Koelhuis | C139: vanaf 1995 | D139: 34 | E139: 0.41 | F139: 3.4718531 | H139: 1.2922478 | J139: 2.0405854
A140: Gas | B140: Meergezinswoning met andere functie of combinatie van functies | C140: tot 1946 | D140: 11414 | E140: 0.648 | F140: 8.3816488 | G140: 5.2755129 | H140: 7.8781126 | I140: 10.759853 | J140: 7.2249837
...

Sheet gas_kental_opp_2024
A1: Energiedrager | B1: Gebouwtype | C1: Oppervlakteklasse | D1: Aantal panden | E1: Aandeel panden per gebouwtype | F1: Gemiddelde kental (m3/m2) | G1: Q1 kental (m3/m2) | H1: Mediaan kental (m3/m2) | I1: Q3 kental (m3/m2) | J1: Gewogen gemiddelde kental (m3/m2)
A2: Gas | B2: Asielzoekerscentrum | C2: tot 1000 m2 | D2: 16 | E2: 0.239 | F2: 29.844232 | J2: 23.172824
A3: Gas | B3: Asielzoekerscentrum | C3: 1000 tot 2500 m2 | D3: 20 | E3: 0.299 | F3: 40.035316 | H3: 20.001712 | J3: 34.169004
A4: Gas | B4: Asielzoekerscentrum | C4: 2500 tot 5000 m2 | D4: 13 | E4: 0.194 | F4: 25.331452 | J4: 27.146052
A5: Gas | B5: Asielzoekerscentrum | C5: vanaf 5000 m2 | D5: 18 | E5: 0.269 | F5: 11.307381 | J5: 9.6560578
A6: Gas | B6: Basisschool | C6: tot 250 m2 | D6: 11 | E6: 0.002 | F6: 13.418301 | J6: 14.19141
A7: Gas | B7: Basisschool | C7: 250 tot 500 m2 | D7: 107 | E7: 0.024 | F7: 12.593801 | G7: 10.092891 | H7: 12.025316 | I7: 15.092722 | J7: 12.519015
A8: Gas | B8: Basisschool | C8: 500 tot 1000 m2 | D8: 837 | E8: 0.189 | F8: 10.770977 | G8: 8.3847953 | H8: 10.103293 | I8: 12.718615 | J8: 10.704281
A9: Gas | B9: Basisschool | C9: 1000 tot 2500 m2 | D9: 2552 | E9: 0.577 | F9: 8.3577074 | G9: 6.0883289 | H9: 8.1904143 | I9: 10.41572 | J9: 8.0649772
A10: Gas | B10: Basisschool | C10: 2500 tot 5000 m2 | D10: 717 | E10: 0.162 | F10: 5.4539299 | G10: 3.6123743 | H10: 5.1327307 | I10: 7.2583693 | J10: 5.3620609
A11: Gas | B11: Basisschool | C11: 5000 tot 10000 m2 | D11: 160 | E11: 0.036 | F11: 3.9210124 | G11: 2.1477245 | H11: 3.7920208 | I11: 5.3814983 | J11: 3.9017141
A12: Gas | B12: Basisschool | C12: vanaf 10000 m2 | D12: 37 | E12: 0.008 | F12: 3.1277779 | H12: 2.5411108 | J12: 2.7303472
A13: Gas | B13: Bedrijfshal algemeen (geen LISA-informatie) | C13: tot 50 m2 | D13: 159 | E13: 0.009 | F13: 4.837947 | H13: 1.4074074 | I13: 7.6685714 | J13: 4.7919485
A14: Gas | B14: Bedrijfshal algemeen (geen LISA-informatie) | C14: 50 tot 100 m2 | D14: 1221 | E14: 0.067 | F14: 3.5021453 | H14: 0.83950617 | I14: 5.1369863 | J14: 3.4617805
A15: Gas | B15: Bedrijfshal algemeen (geen LISA-informatie) | C15: 100 tot 250 m2 | D15: 4589 | E15: 0.253 | F15: 2.9393939 | G15: 0.013422819 | H15: 1.3636364 | I15: 4.1302521 | J15: 2.9485602
A16: Gas | B16: Bedrijfshal algemeen (geen LISA-informatie) | C16: 250 tot 500 m2 | D16: 3672 | E16: 0.202 | F16: 3.2587866 | G16: 0.25937548 | H16: 1.9496337 | I16: 4.486231 | J16: 3.2806042
A17: Gas | B17: Bedrijfshal algemeen (geen LISA-informatie) | C17: 500 tot 1000 m2 | D17: 3540 | E17: 0.195 | F17: 3.2581396 | G17: 0.49073795 | H17: 2.0563741 | I17: 4.4607908 | J17: 3.264927
A18: Gas | B18: Bedrijfshal algemeen (geen LISA-informatie) | C18: 1000 tot 2500 m2 | D18: 3112 | E18: 0.172 | F18: 3.4213585 | G18: 0.66288304 | H18: 2.1291149 | I18: 4.7660187 | J18: 3.426595
A19: Gas | B19: Bedrijfshal algemeen (geen LISA-informatie) | C19: 2500 tot 5000 m2 | D19: 1087 | E19: 0.06 | F19: 2.8519409 | G19: 0.47910979 | H19: 1.6297446 | I19: 3.9098644 | J19: 2.8125599
A20: Gas | B20: Bedrijfshal algemeen (geen LISA-informatie) | C20: 5000 tot 10000 m2 | D20: 511 | E20: 0.028 | F20: 2.8746581 | G20: 0.46502998 | H20: 1.5163831 | I20: 3.4846717 | J20: 2.8763791
A21: Gas | B21: Bedrijfshal algemeen (geen LISA-informatie) | C21: vanaf 10000 m2 | D21: 246 | E21: 0.014 | F21: 2.3545661 | G21: 0.26688526 | H21: 0.97108613 | I21: 2.5209844 | J21: 2.1888117
A22: Gas | B22: Bedrijfshal algemeen (met LISA-informatie) | C22: tot 50 m2 | D22: 37 | E22: 0.003 | F22: 10.84108 | H22: 8.8913043 | J22: 10.618505
A23: Gas | B23: Bedrijfshal algemeen (met LISA-informatie) | C23: 50 tot 100 m2 | D23: 357 | E23: 0.032 | F23: 6.0011132 | G23: 1.1313131 | H23: 4.3580247 | I23: 8.3134328 | J23: 5.7903007
A24: Gas | B24: Bedrijfshal algemeen (met LISA-informatie) | C24: 100 tot 250 m2 | D24: 1932 | E24: 0.173 | F24: 4.7179156 | G24: 1.1728506 | H24: 3.3098948 | I24: 6.0178591 | J24: 4.615328
A25: Gas | B25: Bedrijfshal algemeen (met LISA-informatie) | C25: 250 tot 500 m2 | D25: 1901 | E25: 0.17 | F25: 4.4606531 | G25: 1.4050926 | H25: 3.2875 | I25: 5.8787879 | J25: 4.391249
A26: Gas | B26: Bedrijfshal algemeen (met LISA-informatie) | C26: 500 tot 1000 m2 | D26: 2545 | E26: 0.228 | F26: 4.0984557 | G26: 1.4078498 | H26: 3.01 | I26: 5.4193548 | J26: 4.0745705
A27: Gas | B27: Bedrijfshal algemeen (met LISA-informatie) | C27: 1000 tot 2500 m2 | D27: 2598 | E27: 0.233 | F27: 3.7750175 | G27: 1.2145445 | H27: 2.674452 | I27: 4.9194046 | J27: 3.760109
A28: Gas | B28: Bedrijfshal algemeen (met LISA-informatie) | C28: 2500 tot 5000 m2 | D28: 1008 | E28: 0.09 | F28: 3.3970255 | G28: 0.97030477 | H28: 2.158281 | I28: 4.1473743 | J28: 3.3464094
A29: Gas | B29: Bedrijfshal algemeen (met LISA-informatie) | C29: 5000 tot 10000 m2 | D29: 484 | E29: 0.043 | F29: 3.3156064 | G29: 0.81759209 | H29: 1.8180453 | I29: 3.8085379 | J29: 3.3518875
A30: Gas | B30: Bedrijfshal algemeen (met LISA-informatie) | C30: vanaf 10000 m2 | D30: 293 | E30: 0.026 | F30: 2.5032164 | G30: 0.45983428 | H30: 1.4098519 | I30: 2.7314322 | J30: 2.3757124
A31: Gas | B31: Bedrijfshal met logistieke activiteiten | C31: tot 100 m2 | D31: 26 | E31: 0.005 | F31: 5.8754138 | H31: 5.4235417 | J31: 5.5063808
A32: Gas | B32: Bedrijfshal met logistieke activiteiten | C32: 100 tot 250 m2 | D32: 179 | E32: 0.036 | F32: 4.7191071 | G32: 0.85342692 | H32: 3.577381 | I32: 6.8607205 | J32: 4.6702107
A33: Gas | B33: Bedrijfshal met logistieke activiteiten | C33: 250 tot 500 m2 | D33: 322 | E33: 0.065 | F33: 4.5194617 | G33: 1.8365407 | H33: 3.5233976 | I33: 5.7291155 | J33: 4.4567428
A34: Gas | B34: Bedrijfshal met logistieke activiteiten | C34: 500 tot 1000 m2 | D34: 769 | E34: 0.156 | F34: 3.776799 | G34: 1.6689466 | H34: 3.1153153 | I34: 4.8850829 | J34: 3.7107266
A35: Gas | B35: Bedrijfshal met logistieke activiteiten | C35: 1000 tot 2500 m2 | D35: 1733 | E35: 0.352 | F35: 3.1667238 | G35: 1.356301 | H35: 2.576055 | I35: 4.3021101 | J35: 3.1142871
A36: Gas | B36: Bedrijfshal met logistieke activiteiten | C36: 2500 tot 5000 m2 | D36: 1053 | E36: 0.214 | F36: 3.0781367 | G36: 1.2929365 | H36: 2.458751 | I36: 4.0127513 | J36: 3.0233593
A37: Gas | B37: Bedrijfshal met logistieke activiteiten | C37: 5000 tot 10000 m2 | D37: 523 | E37: 0.106 | F37: 2.8033877 | G37: 0.96781929 | H37: 2.0208707 | I37: 3.707139 | J37: 2.7596996
A38: Gas | B38: Bedrijfshal met logistieke activiteiten | C38: vanaf 10000 m2 | D38: 324 | E38: 0.066 | F38: 2.4695407 | G38: 0.68552323 | H38: 1.4292279 | I38: 2.9527891 | J38: 1.9127279
A39: Gas | B39: Bedrijfshal met maakindustrie en andere economische activiteiten | C39: tot 100 m2 | D39: 38 | E39: 0.008 | F39: 7.3804893 | H39: 6.3361842 | J39: 7.5217694
A40: Gas | B40: Bedrijfshal met maakindustrie en andere economische activiteiten | C40: 100 tot 250 m2 | D40: 244 | E40: 0.054 | F40: 5.5880954 | G40: 1.5412428 | H40: 3.6959468 | I40: 7.3376664 | J40: 5.3011017
A41: Gas | B41: Bedrijfshal met maakindustrie en andere economische activiteiten | C41: 250 tot 500 m2 | D41: 403 | E41: 0.089 | F41: 4.36138 | G41: 1.4537938 | H41: 2.9607843 | I41: 5.5785777 | J41: 4.352045
A42: Gas | B42: Bedrijfshal met maakindustrie en andere economische activiteiten | C42: 500 tot 1000 m2 | D42: 1064 | E42: 0.234 | F42: 3.853419 | G42: 1.3859278 | H42: 2.8575996 | I42: 4.8930566 | J42: 3.807006
A43: Gas | B43: Bedrijfshal met maakindustrie en andere economische activiteiten | C43: 1000 tot 2500 m2 | D43: 1666 | E43: 0.367 | F43: 3.4248792 | G43: 1.3276895 | H43: 2.5345768 | I43: 4.4144934 | J43: 3.4232346
A44: Gas | B44: Bedrijfshal met maakindustrie en andere economische activiteiten | C44: 2500 tot 5000 m2 | D44: 714 | E44: 0.157 | F44: 3.6673322 | G44: 1.2631285 | H44: 2.7067853 | I44: 4.8254217 | J44: 3.6756559
A45: Gas | B45: Bedrijfshal met maakindustrie en andere economische activiteiten | C45: 5000 tot 10000 m2 | D45: 279 | E45: 0.061 | F45: 3.7403465 | G45: 1.1979547 | H45: 2.4510882 | I45: 4.6962429 | J45: 3.7033492
A46: Gas | B46: Bedrijfshal met maakindustrie en andere economische activiteiten | C46: vanaf 10000 m2 | D46: 136 | E46: 0.03 | F46: 4.5832503 | G46: 0.80936532 | H46: 2.7615894 | I46: 5.1361333 | J46: 4.4108466
A47: Gas | B47: Bedrijfshal met maakindustrie en logistieke activiteiten | C47: tot 50 m2 | D47: 18 | E47: 0.002 | F47: 11.147373 | J47: 10.164363
A48: Gas | B48: Bedrijfshal met maakindustrie en logistieke activiteiten | C48: 50 tot 100 m2 | D48: 140 | E48: 0.014 | F48: 6.8548788 | G48: 1.65005 | H48: 4.7430643 | I48: 10.026596 | J48: 6.6590768
A49: Gas | B49: Bedrijfshal met maakindustrie en logistieke activiteiten | C49: 100 tot 250 m2 | D49: 832 | E49: 0.086 | F49: 4.5371109 | G49: 1.0055804 | H49: 3.1203241 | I49: 5.9875 | J49: 4.5035857
A50: Gas | B50: Bedrijfshal met maakindustrie en logistieke activiteiten | C50: 250 tot 500 m2 | D50: 1208 | E50: 0.125 | F50: 4.1600045 | G50: 1.3087567 | H50: 3.0477842 | I50: 5.5295464 | J50: 4.1309427
A51: Gas | B51: Bedrijfshal met maakindustrie en logistieke activiteiten | C51: 500 tot 1000 m2 | D51: 2030 | E51: 0.21 | F51: 3.9479091 | G51: 1.4121479 | H51: 2.9927484 | I51: 5.3803362 | J51: 3.9232174
A52: Gas | B52: Bedrijfshal met maakindustrie en logistieke activiteiten | C52: 1000 tot 2500 m2 | D52: 2947 | E52: 0.305 | F52: 3.4581483 | G52: 1.2487491 | H52: 2.6625835 | I52: 4.5766324 | J52: 3.4219391
A53: Gas | B53: Bedrijfshal met maakindustrie en logistieke activiteiten | C53: 2500 tot 5000 m2 | D53: 1426 | E53: 0.148 | F53: 3.1993944 | G53: 1.1712971 | H53: 2.3617717 | I53: 4.1321491 | J53: 3.2010757
A54: Gas | B54: Bedrijfshal met maakindustrie en logistieke activiteiten | C54: 5000 tot 10000 m2 | D54: 699 | E54: 0.072 | F54: 2.6428349 | G54: 0.67282696 | H54: 1.7914141 | I54: 3.6222653 | J54: 2.6375333
A55: Gas | B55: Bedrijfshal met maakindustrie en logistieke activiteiten | C55: vanaf 10000 m2 | D55: 359 | E55: 0.037 | F55: 2.6740563 | G55: 0.44522838 | H55: 1.5233607 | I55: 3.1195338 | J55: 2.4163838
A56: Gas | B56: Bedrijfshal uitsluitend maakindustrie | C56: tot 50 m2 | D56: 38 | E56: 0.002 | F56: 17.499358 | H56: 12.448649 | J56: 17.052863
A57: Gas | B57: Bedrijfshal uitsluitend maakindustrie | C57: 50 tot 100 m2 | D57: 358 | E57: 0.02 | F57: 7.6413415 | G57: 0.37243654 | H57: 3.0889467 | I57: 9.3232323 | J57: 7.2553072
A58: Gas | B58: Bedrijfshal uitsluitend maakindustrie | C58: 100 tot 250 m2 | D58: 2027 | E58: 0.115 | F58: 4.9074679 | G58: 0.63499364 | H58: 2.7087379 | I58: 5.9416993 | J58: 4.791421
A59: Gas | B59: Bedrijfshal uitsluitend maakindustrie | C59: 250 tot 500 m2 | D59: 3077 | E59: 0.174 | F59: 4.3214824 | G59: 1.1066098 | H59: 2.9014989 | I59: 5.2713004 | J59: 4.3355056
A60: Gas | B60: Bedrijfshal uitsluitend maakindustrie | C60: 500 tot 1000 m2 | D60: 4226 | E60: 0.24 | F60: 4.3314109 | G60: 1.2927354 | H60: 2.8579706 | I60: 5.2365883 | J60: 4.3377479
A61: Gas | B61: Bedrijfshal uitsluitend maakindustrie | C61: 1000 tot 2500 m2 | D61: 4888 | E61: 0.277 | F61: 4.993715 | G61: 1.4677016 | H61: 3.1288128 | I61: 5.9282043 | J61: 5.0164423
A62: Gas | B62: Bedrijfshal uitsluitend maakindustrie | C62: 2500 tot 5000 m2 | D62: 1796 | E62: 0.102 | F62: 5.8015817 | G62: 1.5278059 | H62: 3.5559344 | I62: 6.1752999 | J62: 5.8177568
A63: Gas | B63: Bedrijfshal uitsluitend maakindustrie | C63: 5000 tot 10000 m2 | D63: 808 | E63: 0.046 | F63: 7.0955111 | G63: 1.5554869 | H63: 3.8071237 | I63: 6.8207097 | J63: 7.1425949
A64: Gas | B64: Bedrijfshal uitsluitend maakindustrie | C64: vanaf 10000 m2 | D64: 423 | E64: 0.024 | F64: 9.5322511 | G64: 1.5534182 | H64: 4.0277036 | I64: 11.887908 | J64: 9.6582235
A65: Gas | B65: Bedrijfswoning | C65: tot 50 m2 | D65: 124 | E65: 0.002 | F65: 22.287693 | G65: 11.271041 | H65: 20.365854 | I65: 36.246774 | J65: 21.760197
A66: Gas | B66: Bedrijfswoning | C66: 50 tot 100 m2 | D66: 1936 | E66: 0.031 | F66: 15.868624 | G66: 8.3745495 | H66: 13.869008 | I66: 21.409454 | J66: 15.746916
A67: Gas | B67: Bedrijfswoning | C67: 100 tot 250 m2 | D67: 28602 | E67: 0.451 | F67: 10.358089 | G67: 5.6032189 | H67: 8.8143159 | I67: 13.223923 | J67: 10.023853
A68: Gas | B68: Bedrijfswoning | C68: 250 tot 500 m2 | D68: 19172 | E68: 0.303 | F68: 6.5084998 | G68: 3.2558727 | H68: 5.4819798 | I68: 8.3684058 | J68: 6.3197486
... A72: Gas | B72: Bedrijfswoning | C72: 5000 tot 10000 m2 | D72: 44 | E72: 0.001 | F72: 2.8117626 | G72: 0.44827897 | H72: 1.2554445 | I72: 3.5185625 | J72: 2.6165342
A73: Gas | B73: Bedrijfswoning | C73: vanaf 10000 m2 | D73: 30 | E73: 0 | F73: 4.4513029 | H73: 1.7129516 | J73: 4.468597
A74: Gas | B74: Bijeenkomstgebouw (niet nader ingedeeld) | C74: tot 50 m2 | D74: 118 | E74: 0.013 | F74: 11.440888 | G74: 3.0560462 | H74: 9.096131 | I74: 18.195924 | J74: 11.693264
A75: Gas | B75: Bijeenkomstgebouw (niet nader ingedeeld) | C75: 50 tot 100 m2 | D75: 750 | E75: 0.08 | F75: 10.018409 | G75: 3.8815096 | H75: 8.1027952 | I75: 14.004581 | J75: 9.9254906
A76: Gas | B76: Bijeenkomstgebouw (niet nader ingedeeld) | C76: 100 tot 250 m2 | D76: 2896 | E76: 0.31 | F76: 8.2893944 | G76: 3.8761796 | H76: 6.8264251 | I76: 11.027591 | J76: 8.1952837
A77: Gas | B77: Bijeenkomstgebouw (niet nader ingedeeld) | C77: 250 tot 500 m2 | D77: 2675 | E77: 0.287 | F77: 7.7554682 | G77: 3.7789762 | H77: 6.3930131 | I77: 10.056504 | J77: 7.7509614
A78: Gas | B78: Bijeenkomstgebouw (niet nader ingedeeld) | C78: 500 tot 1000 m2 | D78: 1726 | E78: 0.185 | F78: 7.3903414 | G78: 3.2953759 | H78: 6.0322951 | I78: 9.922349 | J78: 7.3721408
A79: Gas | B79: Bijeenkomstgebouw (niet nader ingedeeld) | C79: 1000 tot 2500 m2 | D79: 871 | E79: 0.093 | F79: 6.9892845 | G79: 2.9685779 | H79: 5.9005736 | I79: 9.5852625 | J79: 6.8731027
A80: Gas | B80: Bijeenkomstgebouw (niet nader ingedeeld) | C80: 2500 tot 5000 m2 | D80: 193 | E80: 0.021 | F80: 5.8724386 | G80: 1.5359361 | H80: 3.8213745 | I80: 8.9542197 | J80: 5.880902
A81: Gas | B81: Bijeenkomstgebouw (niet nader ingedeeld) | C81: 5000 tot 10000 m2 | D81: 75 | E81: 0.008 | F81: 5.3754528 | G81: 1.2631604 | H81: 2.7108338 | I81: 7.5672321 | J81: 5.6443591
A82: Gas | B82: Bijeenkomstgebouw (niet nader ingedeeld) | C82: vanaf 10000 m2 | D82: 27 | E82: 0.003 | F82: 6.0543279 | H82: 1.6535417 | J82: 5.3847875
A83: Gas | B83: Campusgebouw | C83: tot 1000 m2 | D83: 16 | E83: 0.163 | F83: 10.237109 | J83: 10.978008
A84: Gas | B84: Campusgebouw | C84: 1000 tot 2500 m2 | D84: 12 | E84: 0.122 | F84: 8.1502628 | J84: 7.8238048
A85: Gas | B85: Campusgebouw | C85: 2500 tot 5000 m2 | D85: 15 | E85: 0.153 | F85: 7.1164241 | J85: 7.0950628
A86: Gas | B86: Campusgebouw | C86: 5000 tot 10000 m2 | D86: 21 | E86: 0.214 | F86: 7.4775151 | H86: 6.5267143 | J86: 7.5934025
A87: Gas | B87: Campusgebouw | C87: vanaf 10000 m2 | D87: 34 | E87: 0.347 | F87: 7.9277493 | H87: 2.9834683 | J87: 5.5756239
A88: Gas | B88: Cultuurhuis | C88: tot 250 m2 | D88: 21 | E88: 0.039 | F88: 11.472626 | H88: 11.300578 | J88: 11.086343
A89: Gas | B89: Cultuurhuis | C89: 250 tot 500 m2 | D89: 60 | E89: 0.111 | F89: 9.3264073 | G89: 6.7825198 | H89: 8.707105 | I89: 11.726858 | J89: 9.0859365
A90: Gas | B90: Cultuurhuis | C90: 500 tot 1000 m2 | D90: 117 | E90: 0.216 | F90: 8.7416319 | G90: 5.7092199 | H90: 8.4829843 | I90: 10.791019 | J90: 8.6810118
A91: Gas | B91: Cultuurhuis | C91: 1000 tot 2500 m2 | D91: 164 | E91: 0.303 | F91: 7.6148735 | G91: 4.0615416 | H91: 7.1358603 | I91: 9.6831766 | J91: 7.6034153
A92: Gas | B92: Cultuurhuis | C92: 2500 tot 5000 m2 | D92: 89 | E92: 0.164 | F92: 5.7483855 | G92: 3.3471912 | H92: 5.2723938 | I92: 7.4360307 | J92: 5.7365979
A93: Gas | B93: Cultuurhuis | C93: 5000 tot 10000 m2 | D93: 50 | E93: 0.092 | F93: 6.7263261 | G93: 3.6754806 | H93: 6.2350419 | I93: 8.1031864 | J93: 6.6250662
A94: Gas | B94: Cultuurhuis | C94: vanaf 10000 m2 | D94: 41 | E94: 0.076 | F94: 3.5673637 | G94: 1.4080837 | H94: 3.0876839 | I94: 5.3677083 | J94: 3.0755369
A95: Gas | B95: Gebedshuis | C95: tot 100 m2 | D95: 31 | E95: 0.007 | F95: 9.7441694 | H95: 10.38 | J95: 9.6674679
A96: Gas | B96: Gebedshuis | C96: 100 tot 250 m2 | D96: 424 | E96: 0.1 | F96: 9.1419585 | G96: 5.7517162 | H96: 8.8166775 | I96: 12.485996 | J96: 9.0655485
A97: Gas | B97: Gebedshuis | C97: 250 tot 500 m2 | D97: 1054 | E97: 0.247 | F97: 7.8935079 | G97: 5.1601238 | H97: 7.4766039 | I97: 10.215101 | J97: 7.809202
A98: Gas | B98: Gebedshuis | C98: 500 tot 1000 m2 | D98: 1376 | E98: 0.323 | F98: 6.7732412 | G98: 4.1223077 | H98: 6.3612926 | I98: 8.7579401 | J98: 6.7073179
A99: Gas | B99: Gebedshuis | C99: 1000 tot 2500 m2 | D99: 1073 | E99: 0.252 | F99: 5.2888103 | G99: 2.9292776 | H99: 4.9489517 | I99: 7.074041 | J99: 5.1928385
A100: Gas | B100: Gebedshuis | C100: 2500 tot 5000 m2 | D100: 197 | E100: 0.046 | F100: 3.47025 | G100: 1.3957529 | H100: 2.9245779 | I100: 4.6223614 | J100: 3.4761294
A101: Gas | B101: Gebedshuis | C101: 5000 tot 10000 m2 | D101: 68 | E101: 0.016 | F101: 3.6888216 | G101: 0.85216245 | H101: 2.1218193 | I101: 6.0194086 | J101: 3.6527551
A102: Gas | B102: Gebedshuis | C102: vanaf 10000 m2 | D102: 36 | E102: 0.008 | F102: 2.708818 | H102: 1.050744 | J102: 2.7005291
A103: Gas | B103: Gebouw bij spooremplacement | C103: tot 500 m2 | D103: 19 | E103: 0.218 | F103: 9.0176785 | J103: 9.6915096
...

Sheet gas_kental_label_2024
A1: Energiedrager | B1: Gebouwtype | C1: Labelklasse | D1: Aantal panden | E1: Aandeel panden per gebouwtype | F1: Gemiddelde kental (m3/m2) | G1: Q1 kental (m3/m2) | H1: Mediaan kental (m3/m2) | I1: Q3 kental (m3/m2) | J1: Gewogen gemiddelde kental (m3/m2)
A2: Gas | B2: Basisschool | C2: G | D2: 139 | E2: 0.099 | F2: 10.118495 | G2: 7.5939716 | H2: 9.7115223 | I2: 11.94491 | J2: 8.6922676
A3: Gas | B3: Basisschool | C3: F | D3: 64 | E3: 0.045 | F3: 9.8286663 | G3: 7.3856674 | H3: 9.4497949 | I3: 11.652517 | J3: 8.2906451
A4: Gas | B4: Basisschool | C4: E | D4: 93 | E4: 0.066 | F4: 9.5049793 | G4: 7.2194617 | H4: 8.8843338 | I4: 11.800554 | J4: 7.4485128
A5: Gas | B5: Basisschool | C5: D | D5: 151 | E5: 0.107 | F5: 9.3386325 | G5: 6.5978539 | H5: 8.9696049 | I5: 11.135523 | J5: 8.5673571
A6: Gas | B6: Basisschool | C6: C | D6: 196 | E6: 0.139 | F6: 8.4127756 | G6: 6.5435176 | H6: 8.3646852 | I6: 10.312178 | J6: 7.4395909
A7: Gas | B7: Basisschool | C7: B | D7: 122 | E7: 0.087 | F7: 7.278147 | G7: 4.7971679 | H7: 6.9967878 | I7: 8.9143534 | J7: 6.2821233
A8: Gas | B8: Basisschool | C8: A en beter | D8: 642 | E8: 0.456 | F8: 5.5826351 | G8: 3.168554 | H8: 5.140097 | I8: 7.5646517 | J8: 4.5820735
A9: Gas | B9: Bijeenkomstgebouw (niet nader ingedeeld) | C9: G | D9: 536 | E9: 0.201 | F9: 9.7404413 | G9: 4.3480263 | H9: 8.1830759 | I9: 13.053354 | J9: 9.1378608
A10: Gas | B10: Bijeenkomstgebouw (niet nader ingedeeld) | C10: F | D10: 148 | E10: 0.056 | F10: 9.0584942 | G10: 4.1229167 | H10: 7.745324 | I10: 12.660997 | J10: 7.1113427
A11: Gas | B11: Bijeenkomstgebouw (niet nader ingedeeld) | C11: E | D11: 214 | E11: 0.08 | F11: 9.1147033 | G11: 3.6096276 | H11: 7.6073649 | I11: 12.943438 | J11: 9.0408409
A12: Gas | B12: Bijeenkomstgebouw (niet nader ingedeeld) | C12: D | D12: 260 | E12: 0.098 | F12: 8.6909482 | G12: 4.5346584 | H12: 8.0161052 | I12: 11.788194 | J12: 7.466043
A13: Gas | B13: Bijeenkomstgebouw (niet nader ingedeeld) | C13: C | D13: 356 | E13: 0.134 | F13: 8.6362651 | G13: 4.524273 | H13: 7.6119745 | I13: 11.450631 | J13: 7.5954073
... A15: Gas | B15: Bijeenkomstgebouw (niet nader ingedeeld) | C15: A en beter | D15: 900 | E15: 0.338 | F15: 7.8140141 | G15: 3.7197799 | H15: 6.5528283 | I15: 10.25426 | J15: 6.4552992
A16: Gas | B16: Campusgebouw | C16: G t/m E | D16: 11 | E16: 0.149 | F16: 9.742455 | J16: 7.1983608
A17: Gas | B17: Campusgebouw | C17: D en C | D17: 11 | E17: 0.149 | F17: 9.0399094 | J17: 5.7530795
A18: Gas | B18: Campusgebouw | C18: B | D18: 13 | E18: 0.176 | F18: 9.2165594 | J18: 12.706091
A19: Gas | B19: Campusgebouw | C19: A en beter | D19: 39 | E19: 0.527 | F19: 5.2313017 | H19: 4.7010178 | J19: 2.2868456
A20: Gas | B20: Cultuurhuis | C20: G | D20: 26 | E20: 0.097 | F20: 9.1305136 | H20: 9.5682283 | J20: 2.6608329
A21: Gas | B21: Cultuurhuis | C21: F en E | D21: 28 | E21: 0.104 | F21: 9.5336877 | H21: 10.326884 | J21: 8.1854138
A22: Gas | B22: Cultuurhuis | C22: D | D22: 25 | E22: 0.093 | F22: 8.9590605 | H22: 7.3393443 | J22: 5.4215985
A23: Gas | B23: Cultuurhuis | C23: C | D23: 33 | E23: 0.123 | F23: 7.2590992 | H23: 7.0591032 | J23: 5.6900162
A24: Gas | B24: Cultuurhuis | C24: B | D24: 32 | E24: 0.119 | F24: 7.601847 | H24: 6.7969504 | J24: 7.0330472
A25: Gas | B25: Cultuurhuis | C25: A en beter | D25: 124 | E25: 0.463 | F25: 6.1772915 | G25: 3.6565131 | H25: 5.7940528 | I25: 8.0011848 | J25: 4.7184722
A26: Gas | B26: Gebedshuis | C26: G | D26: 58 | E26: 0.175 | F26: 7.2541301 | G26: 3.9493278 | H26: 6.3165399 | I26: 10.355079 | J26: 5.3400301
A27: Gas | B27: Gebedshuis | C27: F | D27: 24 | E27: 0.072 | F27: 6.4259913 | H27: 6.1050117 | J27: 4.5897107
A28: Gas | B28: Gebedshuis | C28: E | D28: 24 | E28: 0.072 | F28: 5.9604409 | H28: 5.4537946 | J28: 6.5942857
A29: Gas | B29: Gebedshuis | C29: D | D29: 39 | E29: 0.117 | F29: 6.6830393 | H29: 5.4969121 | J29: 5.1990256
A30: Gas | B30: Gebedshuis | C30: C | D30: 50 | E30: 0.151 | F30: 7.3018208 | G30: 5.0577573 | H30: 6.8101276 | I30: 8.7889677 | J30: 5.6539681
A31: Gas | B31: Gebedshuis | C31: B | D31: 39 | E31: 0.117 | F31: 5.7465576 | H31: 4.9070856 | J31: 5.5142631
A32: Gas | B32: Gebedshuis | C32: A en beter | D32: 98 | E32: 0.295 | F32: 5.4522325 | G32: 2.9759164 | H32: 5.1801497 | I32: 7.4720111 | J32: 4.2975268
A33: Gas | B33: Gebouw bij spooremplacement | C33: G | D33: 11 | E33: 0.229 | F33: 8.3758278 | J33: 10.44485
A34: Gas | B34: Gebouw bij spooremplacement | C34: F t/m D | D34: 11 | E34: 0.229 | F34: 3.6687226 | J34: 2.5347308
A35: Gas | B35: Gebouw bij spooremplacement | C35: C en B | D35: 10 | E35: 0.208 | F35: 7.7337007 | J35: 6.1507584
A36: Gas | B36: Gebouw bij spooremplacement | C36: A en beter | D36: 16 | E36: 0.333 | F36: 5.7366007 | J36: 4.3156225
A37: Gas | B37: Gebouw op vakantiepark | C37: G | D37: 617 | E37: 0.036 | F37: 11.252737 | G37: 5.8611111 | H37: 10.388889 | I37: 16.322581 | J37: 9.956594
A38: Gas | B38: Gebouw op vakantiepark | C38: F | D38: 496 | E38: 0.029 | F38: 11.053221 | G38: 6.9122291 | H38: 10.496964 | I38: 14.68365 | J38: 9.2909793
A39: Gas | B39: Gebouw op vakantiepark | C39: E | D39: 779 | E39: 0.046 | F39: 10.460548 | G39: 6.6197738 | H39: 10 | I39: 13.760256 | J39: 9.7212563
A40: Gas | B40: Gebouw op vakantiepark | C40: D | D40: 1249 | E40: 0.074 | F40: 10.298572 | G40: 6.4285714 | H40: 9.7264957 | I40: 13.6 | J40: 9.3824623
A41: Gas | B41: Gebouw op vakantiepark | C41: C | D41: 5131 | E41: 0.303 | F41: 10.09384 | G41: 6.8710465 | H41: 9.8319328 | I41: 12.88584 | J41: 9.8700712
A42: Gas | B42: Gebouw op vakantiepark | C42: B | D42: 4496 | E42: 0.266 | F42: 9.2206894 | G42: 6.5421608 | H42: 9.1878094 | I42: 11.633824 | J42: 9.1731272
A43: Gas | B43: Gebouw op vakantiepark | C43: A en beter | D43: 4145 | E43: 0.245 | F43: 9.0561935 | G43: 6.6375 | H43: 8.9677419 | I43: 11.133663 | J43: 8.7977367
A44: Gas | B44: Hotel (of ander groot logiesgebouw) | C44: G | D44: 171 | E44: 0.162 | F44: 12.932444 | G44: 6.4883482 | H44: 11.793867 | I44: 18.029291 | J44: 11.544114
A45: Gas | B45: Hotel (of ander groot logiesgebouw) | C45: F | D45: 60 | E45: 0.057 | F45: 13.109015 | G45: 7.923609 | H45: 12.816912 | I45: 17.837733 | J45: 12.566799
A46: Gas | B46: Hotel (of ander groot logiesgebouw) | C46: E | D46: 89 | E46: 0.084 | F46: 11.788632 | G46: 6.7386254 | H46: 10.903981 | I46: 15.753846 | J46: 8.7741287
A47: Gas | B47: Hotel (of ander groot logiesgebouw) | C47: D | D47: 104 | E47: 0.098 | F47: 12.747955 | G47: 7.1461044 | H47: 11.489312 | I47: 16.967813 | J47: 11.052179
A48: Gas | B48: Hotel (of ander groot logiesgebouw) | C48: C | D48: 155 | E48: 0.147 | F48: 12.184862 | G48: 6.7925903 | H48: 11.077064 | I48: 16.857667 | J48: 12.191902
... A58: Gas | B58: Kinderopvang (gebouw) | C58: G | D58: 123 | E58: 0.168 | F58: 13.011401 | G58: 8.9660312 | H58: 12.95672 | I58: 16.7439 | J58: 11.459825
A59: Gas | B59: Kinderopvang (gebouw) | C59: F | D59: 31 | E59: 0.042 | F59: 11.846086 | H59: 12.020833 | J59: 11.136665
A60: Gas | B60: Kinderopvang (gebouw) | C60: E | D60: 43 | E60: 0.059 | F60: 12.808004 | G60: 8.3311111 | H60: 11.714801 | I60: 15.885618 | J60: 11.596266
A61: Gas | B61: Kinderopvang (gebouw) | C61: D | D61: 75 | E61: 0.103 | F61: 10.453291 | G61: 7.4966216 | H61: 10.196382 | I61: 13.426287 | J61: 8.3910996
A62: Gas | B62: Kinderopvang (gebouw) | C62: C | D62: 103 | E62: 0.141 | F62: 10.165914 | G62: 6.3241071 | H62: 9.8707865 | I62: 13.760739 | J62: 7.8208227
A63: Gas | B63: Kinderopvang (gebouw) | C63: B | D63: 75 | E63: 0.103 | F63: 9.8001687 | G63: 6.8936241 | H63: 9.4319527 | I63: 12.148811 | J63: 9.1379068
A64: Gas | B64: Kinderopvang (gebouw) | C64: A en beter | D64: 281 | E64: 0.384 | F64: 9.1816088 | G64: 6.1761872 | H64: 8.2213439 | I64: 11.428947 | J64: 7.7052341
A65: Gas | B65: Meergezinswoning met andere functie of combinatie van functies | C65: G | D65: 1387 | E65: 0.115 | F65: 8.4237941 | G65: 4.8303133 | H65: 7.9892857 | I65: 11.216471 | J65: 7.1307764
A66: Gas | B66: Meergezinswoning met andere functie of combinatie van functies | C66: F | D66: 818 | E66: 0.068 | F66: 8.6219504 | G66: 5.5073101 | H66: 8.3750809 | I66: 11.225778 | J66: 7.7071344
A67: Gas | B67: Meergezinswoning met andere functie of combinatie van functies | C67: E | D67: 1473 | E67: 0.122 | F67: 8.7322344 | G67: 5.8173653 | H67: 8.4463519 | I67: 11.262443 | J67: 7.5818892
A68: Gas | B68: Meergezinswoning met andere functie of combinatie van functies | C68: D | D68: 2129 | E68: 0.177 | F68: 8.6937179 | G68: 5.8039216 | H68: 8.2550336 | I68: 11.087248 | J68: 7.5792081
A69: Gas | B69: Meergezinswoning met andere functie of combinatie van functies | C69: C | D69: 2645 | E69: 0.22 | F69: 8.1995775 | G69: 5.6686567 | H69: 7.844504 | I69: 10.134783 | J69: 7.1231533
A70: Gas | B70: Meergezinswoning met andere functie of combinatie van functies | C70: B | D70: 1881 | E70: 0.156 | F70: 7.2567454 | G70: 4.9006524 | H70: 6.7853357 | I70: 9.0622222 | J70: 5.8366392
A71: Gas | B71: Meergezinswoning met andere functie of combinatie van functies | C71: A en beter | D71: 1694 | E71: 0.141 | F71: 6.354041 | G71: 3.8326666 | H71: 5.7149475 | I71: 8.2099565 | J71: 4.7253207
... A92: Gas | B92: Meergezinswoning met winkels en horeca | C92: A en beter | D92: 407 | E92: 0.198 | F92: 6.6828801 | G92: 4.0614042 | H92: 5.8385965 | I92: 8.4105178 | J92: 4.0778614
A93: Gas | B93: Meergezinswoning met woonzorgeenheden | C93: G | D93: 13 | E93: 0.056 | F93: 8.6312366 | J93: 9.0570658
A94: Gas | B94: Meergezinswoning met woonzorgeenheden | C94: F | D94: 11 | E94: 0.047 | F94: 10.483168 | J94: 9.9944937
A95: Gas | B95: Meergezinswoning met woonzorgeenheden | C95: E | D95: 20 | E95: 0.085 | F95: 10.886462 | H95: 9.49073 | J95: 10.627079
A96: Gas | B96: Meergezinswoning met woonzorgeenheden | C96: D | D96: 33 | E96: 0.141 | F96: 10.18601 | H96: 9.0033613 | J96: 7.631645
A97: Gas | B97: Meergezinswoning met woonzorgeenheden | C97: C | D97: 54 | E97: 0.231 | F97: 10.353328 | G97: 6.5496114 | H97: 9.2123263 | I97: 14.052627 | J97: 9.203479
A98: Gas | B98: Meergezinswoning met woonzorgeenheden | C98: B | D98: 41 | E98: 0.175 | F98: 9.7540848 | G98: 5.4874372 | H98: 7.4973545 | I98: 14.732283 | J98: 10.032118
A99: Gas | B99: Meergezinswoning met woonzorgeenheden | C99: A en beter | D99: 62 | E99: 0.265 | F99: 7.2280666 | G99: 4.3365553 | H99: 6.9611169 | I99: 9.276677 | J99: 7.8946656
A100: Gas | B100: Middelbare school | C100: G | D100: 40 | E100: 0.115 | F100: 8.2910172 | G100: 5.200952 | H100: 8.1987319 | I100: 11.660569 | J100: 6.4373501
A101: Gas | B101: Middelbare school | C101: F | D101: 13 | E101: 0.037 | F101: 9.2327466 | J101: 8.0834697
A102: Gas | B102: Middelbare school | C102: E | D102: 21 | E102: 0.06 | F102: 8.1986224 | H102: 7.3543279 | J102: 7.2333705
A103: Gas | B103: Middelbare school | C103: D | D103: 35 | E103: 0.1 | F103: 6.9708677 | H103: 6.7789474 | J103: 5.920386
A104: Gas | B104: Middelbare school | C104: C | D104: 46 | E104: 0.132 | F104: 7.6919159 | G104: 4.9028208 | H104: 7.0658615 | I104: 9.330593 | J104: 5.6781642
A105: Gas | B105: Middelbare school | C105: B | D105: 28 | E105: 0.08 | F105: 7.0029422 | H105: 5.810619 | J105: 5.6263108
A106: Gas | B106: Middelbare school | C106: A en beter | D106: 166 | E106: 0.476 | F106: 4.47567 | G106: 1.0557103 | H106: 4.1819496 | I106: 6.6175332 | J106: 3.4491249
A107: Gas | B107: Overig gebouw met maatschappelijke functie | C107: G | D107: 71 | E107: 0.259 | F107: 15.920532 | G107: 6.5527731 | H107: 13.933333 | I107: 21.661413 | J107: 13.180461
A108: Gas | B108: Overig gebouw met maatschappelijke functie | C108: F en E | D108: 26 | E108: 0.095 | F108: 15.429435 | H108: 10.176275 | J108: 11.969256
A109: Gas | B109: Overig gebouw met maatschappelijke functie | C109: D | D109: 17 | E109: 0.062 | F109: 16.360297 | J109: 17.514729
A110: Gas | B110: Overig gebouw met maatschappelijke functie | C110: C | D110: 31 | E110: 0.113 | F110: 13.628797 | H110: 9.7168539 | J110: 12.80971
A111: Gas | B111: Overig gebouw met maatschappelijke functie | C111: B | D111: 37 | E111: 0.135 | F111: 15.77524 | H111: 8.2988048 | J111: 7.3933694
A112: Gas | B112: Overig gebouw met maatschappelijke functie | C112: A en beter | D112: 92 | E112: 0.336 | F112: 11.432823 | G112: 3.7633286 | H112: 6.7197805 | I112: 12.721878 | J112: 8.0535152
A113: Gas | B113: Overig onderwijsgebouw | C113: G | D113: 294 | E113: 0.218 | F113: 9.9322467 | G113: 5.9366711 | H113: 10.10783 | I113: 13.464699 | J113: 7.4228537
A114: Gas | B114: Overig onderwijsgebouw | C114: F | D114: 80 | E114: 0.059 | F114: 9.5374776 | G114: 6.2389925 | H114: 9.459276 | I114: 11.595054 | J114: 8.3822453
A115: Gas | B115: Overig onderwijsgebouw | C115: E | D115: 124 | E115: 0.092 | F115: 9.2546238 | G115: 5.9764654 | H115: 9.3397882 | I115: 12.472614 | J115: 6.9251827
A116: Gas | B116: Overig onderwijsgebouw | C116: D | D116: 107 | E116: 0.079 | F116: 9.7213135 | G116: 6.0741585 | H116: 8.9322034 | I116: 13.435138 | J116: 6.9216529
A117: Gas | B117: Overig onderwijsgebouw | C117: C | D117: 177 | E117: 0.131 | F117: 8.3537698 | G117: 5.8065041 | H117: 7.5430605 | I117: 10.305556 | J117: 6.5925021
A118: Gas | B118: Overig onderwijsgebouw | C118: B | D118: 120 | E118: 0.089 | F118: 7.9773587 | G118: 5.0665461 | H118: 6.6789367 | I118: 9.8184788 | J118: 6.3901961
A119: Gas | B119: Overig onderwijsgebouw | C119: A en beter | D119: 447 | E119: 0.331 | F119: 6.7869321 | G119: 3.486537 | H119: 6.1937378 | I119: 9.2603754 | J119: 4.7154804
A120: Gas | B120: Overig overheidsgebouw | C120: G | D120: 45 | E120: 0.051 | F120: 12.020748 | G120: 7.8043636 | H120: 12.39207 | I120: 15.237179 | J120: 9.6966343
A121: Gas | B121: Overig overheidsgebouw | C121: F | D121: 19 | E121: 0.021 | F121: 8.9972481 | J121: 6.2564785
A122: Gas | B122: Overig overheidsgebouw | C122: E | D122: 19 | E122: 0.021 | F122: 12.769544 | J122: 5.8339296
A123: Gas | B123: Overig overheidsgebouw | C123: D | D123: 32 | E123: 0.036 | F123: 10.539704 | H123: 8.9089458 | J123: 8.5033255
A124: Gas | B124: Overig overheidsgebouw | C124: C | D124: 162 | E124: 0.182 | F124: 9.0367541 | G124: 5.3006064 | H124: 8.0276533 | I124: 11.326818 | J124: 5.3952173
A125: Gas | B125: Overig overheidsgebouw | C125: B | D125: 120 | E125: 0.135 | F125: 8.3669616 | G125: 4.9834269 | H125: 7.6117632 | I125: 10.304188 | J125: 6.9281523
A126: Gas | B126: Overig overheidsgebouw | C126: A en beter | D126: 494 | E126: 0.554 | F126: 7.1281095 | G126: 3.7156237 | H126: 6.1001859 | I126: 9.0865013 | J126: 4.5892072
A127: Gas | B127: Overig sportgebouw | C127: G | D127: 341 | E127: 0.134 | F127: 10.706714 | G127: 5.8009479 | H127: 9.8752294 | I127: 14.248747 | J127: 8.8460148
A128: Gas | B128: Overig sportgebouw | C128: F | D128: 105 | E128: 0.041 | F128: 9.5230999 | G128: 4.6093023 | H128: 8.291954 | I128: 14.242604 | J128: 7.7921997
A129: Gas | B129: Overig sportgebouw | C129: E | D129: 151 | E129: 0.059 | F129: 10.085474 | G129: 5.1237491 | H129: 9.0600343 | I129: 13.835931 | J129: 8.8011893
A130: Gas | B130: Overig sportgebouw | C130: D | D130: 186 | E130: 0.073 | F130: 9.809227 | G130: 5.1109754 | H130: 8.732654 | I130: 12.448852 | J130: 7.6497171
...

Sheet gas_kental_diensten_2024
A1: Energiedrager | B1: Gebouwtype | C1: Aantal panden | D1: Gemiddelde kental (m3/m2) | E1: Q1 kental (m3/m2) | F1: Mediaan kental (m3/m2) | G1: Q3 kental (m3/m2) | H1: Gewogen gemiddelde kental (m3/m2)
A2: Gas | B2: Asielzoekerscentrum | C2: 45 | D2: 26.376081 | E2: 11.947459 | F2: 19.575917 | G2: 28.130901 | H2: 19.725105
A3: Gas | B3: Basisschool | C3: 3919 | D3: 8.4178898 | E3: 5.8158063 | F3: 8.2446809 | G3: 10.639919 | H3: 6.9645691
A4: Gas | B4: Bedrijfshal algemeen (geen LISA-informatie) | C4: 9621 | D4: 3.1583836 | E4: 0.21236559 | F4: 1.7235294 | G4: 4.4 | H4: 2.7556953
A5: Gas | B5: Bedrijfshal algemeen (met LISA-informatie) | C5: 7430 | D5: 4.2205248 | E5: 1.2502929 | F5: 2.9719136 | G5: 5.4886308 | H5: 3.3204062
A6: Gas | B6: Bedrijfshal met logistieke activiteiten | C6: 1883 | D6: 3.4713314 | E6: 1.1478575 | F6: 2.6232033 | G6: 4.722556 | H6: 2.6913163
A7: Gas | B7: Bedrijfshal met maakindustrie en andere economische activiteiten | C7: 1403 | D7: 4.095638 | E7: 1.3354612 | F7: 2.9172662 | G7: 5.3877371 | H7: 3.5852306
A8: Gas | B8: Bedrijfshal met maakindustrie en logistieke activiteiten | C8: 5851 | D8: 3.6833016 | E8: 1.1784346 | F8: 2.6907277 | G8: 4.9056783 | H8: 2.899576
A9: Gas | B9: Bedrijfshal uitsluitend maakindustrie | C9: 6293 | D9: 4.7131699 | E9: 1.2424242 | F9: 3.2247475 | G9: 6.0967273 | H9: 4.8226444
A10: Gas | B10: Bedrijfswoning | C10: 8004 | D10: 8.624905 | E10: 3.5822388 | F10: 6.8166447 | G10: 11.297286 | H10: 6.2980132
A11: Gas | B11: Bijeenkomstgebouw (niet nader ingedeeld) | C11: 8231 | D11: 8.0063227 | E11: 3.6000731 | F11: 6.5225806 | G11: 10.613359 | H11: 7.0745002
A12: Gas | B12: Campusgebouw | C12: 66 | D12: 8.343593 | E12: 1.9918014 | F12: 6.5308783 | G12: 11.505005 | H12: 8.662221
A13: Gas | B13: Cultuurhuis | C13: 442 | D13: 7.709645 | E13: 4.1603733 | F13: 7.3564953 | G13: 10.384589 | H13: 5.5768605
A14: Gas | B14: Datacenter | C14: 36 | D14: 2.821748 | F14: 1.4376674 | H14: 2.4458376
A15: Gas | B15: Gebedshuis | C15: 3551 | D15: 6.7532318 | E15: 3.8056807 | F15: 6.2486339 | G15: 9.0598014 | H15: 5.1822709
A16: Gas | B16: Gebouw bij militaire inrichting
A17: Gas | B17: Gebouw bij spooremplacement | C17: 43 | D17: 8.148062 | E17: 1.5875023 | F17: 6.5258918 | G17: 12.636073 | H17: 7.8413177
A18: Gas | B18: Gebouw bij vliegveld of luchthaven | C18: 111 | D18: 6.1971065 | E18: 1.2491553 | F18: 4.3611111 | G18: 8.615566 | H18: 5.6802408
A19: Gas | B19: Gebouw in landelijk gebied voor industrie (geen landbouwactiviteiten geregistreerd) | C19: 1748 | D19: 4.7260496 | E19: 0.79426055 | F19: 2.7281892 | G19: 6.3425619 | H19: 3.0361567
A20: Gas | B20: Gebouw in stedelijk gebied met industriefunctie | C20: 7589 | D20: 5.8442287 | E20: 0.95833333 | F20: 3.5945946 | G20: 7.7620751 | H20: 4.1649759
A21: Gas | B21: Gebouw op snelwegverzorgingsplaats | C21: 52 | D21: 8.8595461 | E21: 0.98758109 | F21: 5.4828232 | G21: 12.96922 | H21: 11.727664
A22: Gas | B22: Gebouw op vakantiepark | C22: 33182 | D22: 9.1274382 | E22: 5.4832387 | F22: 8.5852361 | G22: 11.930868 | H22: 8.9238332
A23: Gas | B23: Gebouw voor landbouwactiviteiten | C23: 200 | D23: 10.32056 | E23: 1.1641346 | F23: 4.5493031 | G23: 12.256633 | H23: 2.7028863
A24: Gas | B24: Groothandel op bedrijventerrein | C24: 157 | D24: 3.2443498 | E24: 1.5153121 | F24: 2.8812936 | G24: 4.335 | H24: 2.7758379
A25: Gas | B25: Hotel (of ander groot logiesgebouw) | C25: 2008 | D25: 11.748661 | E25: 6.1382286 | F25: 10.667727 | G25: 16.435742 | H25: 9.7004041
A26: Gas | B26: IJsbaan | C26: 104 | D26: 3.8495173 | E26: 1.6678736 | F26: 3.4760302 | G26: 4.8665909 | H26: 1.7290434
A27: Gas | B27: Kantoorpand algemeen | C27: 15690 | D27: 7.4351092 | E27: 3.9433961 | F27: 6.8067972 | G27: 10.155119 | H27: 5.6059851
A28: Gas | B28: Kinderopvang (gebouw) | C28: 1351 | D28: 10.298472 | E28: 6.7231268 | F28: 9.4983051 | G28: 13.252405 | H28: 8.8446967
A29: Gas | B29: Koelhuis | C29: 62 | D29: 3.4551054 | E29: 0.50871645 | F29: 1.0979716 | G29: 4.1193114 | H29: 2.0569811
A30: Gas | B30: MBO-gebouw
A31: Gas | B31: Meergezinswoning met andere functie of combinatie van functies | C31: 1630 | D31: 8.2977859 | E31: 3.8865139 | F31: 7.4461336 | G31: 11.894834 | H31: 6.6982093
A32: Gas | B32: Meergezinswoning met cafe of restaurant | C32: 1009 | D32: 12.691474 | E32: 5.8344086 | F32: 10.503106 | G32: 17.5 | H32: 10.862246
A33: Gas | B33: Meergezinswoning met winkel | C33: 2613 | D33: 8.1544356 | E33: 3.7301927 | F33: 7.2827586 | G33: 11.441365 | H33: 6.8409668
A34: Gas | B34: Meergezinswoning met winkels en horeca | C34: 267 | D34: 9.2837119 | E34: 4.3940872 | F34: 8.2064607 | G34: 12.958931 | H34: 4.632823
A35: Gas | B35: Meergezinswoning met woonzorgeenheden | C35: 81 | D35: 11.308839 | E35: 7.4397906 | F35: 9.9539394 | G35: 15.4375 | H35: 10.302195
A36: Gas | B36: Middelbare school | C36: 971 | D36: 6.2804627 | E36: 3.5463234 | F36: 5.8003597 | G36: 8.4562593 | H36: 4.9757505
A37: Gas | B37: Nutsgebouw (elektriciteit)
A38: Gas | B38: Nutsgebouw (water) | C38: 163 | D38: 14.31629 | E38: 4.2119828 | F38: 10.5375 | G38: 18.121591 | H38: 7.8014349
A39: Gas | B39: Overig gebouw met maatschappelijke functie | C39: 1373 | D39: 9.2415201 | E39: 3.209607 | F39: 6.3994801 | G39: 11.400203 | H39: 7.9425553
A40: Gas | B40: Overig gebouw met recreatiefunctie | C40: 60 | D40: 15.763279 | E40: 4.2570099 | F40: 8.8667333 | G40: 18.131343 | H40: 13.799746
A41: Gas | B41: Overig onderwijsgebouw | C41: 2656 | D41: 8.8439288 | E41: 5.2272933 | F41: 8.268281 | G41: 11.555712 | H41: 6.5857465
A42: Gas | B42: Overig overheidsgebouw | C42: 940 | D42: 8.4863061 | E42: 4.8308434 | F42: 7.5848392 | G42: 10.932543 | H42: 5.4026742
A43: Gas | B43: Overig sportgebouw | C43: 6672 | D43: 7.9531204 | E43: 3.5887316 | F43: 6.4014102 | G43: 10.356489 | H43: 6.1578757
A44: Gas | B44: Overig zorggebouw | C44: 2670 | D44: 9.0770126 | E44: 4.69494 | F44: 7.6695402 | G44: 11.687235 | H44: 8.1440111
A45: Gas | B45: Overige utiliteitsbouw | C45: 2090 | D45: 12.246845 | E45: 1.9798601 | F45: 5.880385 | G45: 12.340233 | H45: 6.0813588
A46: Gas | B46: Pand met winkel en kantoor- en/of bijeenkomstfunctie | C46: 551 | D46: 6.8358614 | E46: 2.2773315 | F46: 5.2160088 | G46: 9.3263441 | H46: 4.178556
A47: Gas | B47: Penitentiaire inrichting | C47: 20 | D47: 15.796168 | F47: 13.245862 | H47: 16.011489
A48: Gas | B48: Praktijk- of zorgwoning | C48: 1464 | D48: 9.8819985 | E48: 5.5976158 | F48: 8.7260525 | G48: 13.215938 | H48: 9.6436101
A49: Gas | B49: Productie-installatie
A50: Gas | B50: Restaurant of cafégebouw | C50: 3681 | D50: 22.809234 | E50: 7.9166667 | F50: 16.413453 | G50: 31.073684 | H50: 16.285974
A51: Gas | B51: School voor speciaal onderwijs | C51: 423 | D51: 8.3142998 | E51: 5.6280851 | F51: 7.89701 | G51: 10.30971 | H51: 7.0365834
A52: Gas | B52: Schoolverzamelgebouw | C52: 75 | D52: 5.4923795 | E52: 2.8342765 | F52: 4.8292143 | G52: 6.8503749 | H52: 4.9299736
A53: Gas | B53: Tuincentrum | C53: 333 | D53: 5.9283223 | E53: 2.5263709 | F53: 4.2027168 | G53: 7.044702 | H53: 4.4865167
A54: Gas | B54: Vakantiewoning buiten vakantiepark | C54: 3703 | D54: 10.255665 | E54: 5.3790491 | F54: 8.8064516 | G54: 13.378678 | H54: 9.8318517
A55: Gas | B55: Winkelpand | C55: 17500 | D55: 7.290207 | E55: 1.8888965 | F55: 4.8396373 | G55: 9.4292063 | H55: 4.0990807
A56: Gas | B56: Woning met andere functie of combinatie van functies | C56: 4027 | D56: 9.5447629 | E56: 3.877013 | F56: 7.5773196 | G56: 12.836482 | H56: 7.7115698
A57: Gas | B57: Woning met cafe of restaurant | C57: 6891 | D57: 15.883414 | E57: 6.5080843 | F57: 12.058939 | G57: 21.441562 | H57: 13.033446
A58: Gas | B58: Woning met winkel | C58: 13646 | D58: 8.8543669 | E58: 4.263962 | F58: 7.4366856 | G58: 11.702151 | H58: 7.0390153
A59: Gas | B59: Wooncomplex met andere functie of combinatie van functies | C59: 697 | D59: 9.7402616 | E59: 5.6840215 | F59: 9.6125047 | G59: 13.288295 | H59: 8.9797067
A60: Gas | B60: Wooncomplex met winkels en/of horeca | C60: 156 | D60: 7.5314577 | E60: 3.9418909 | F60: 7.2218805 | G60: 10.942824 | H60: 7.0639491
A61: Gas | B61: Woonzorgcomplex | C61: 836 | D61: 12.952968 | E61: 7.4866067 | F61: 11.420298 | G61: 16.147828 | H61: 11.862791
... A66: Gas | B66: Zwembad | C66: 405 | D66: 38.742986 | E66: 9.2544413 | F66: 26.465 | G66: 51.727626 | H66: 34.326221

Sheet elek_kental_2024
A1: Energiedrager | B1: Gebouwtype | C1: Aantal panden | D1: Gemiddelde kental (kWh/m2) | E1: Q1 kental (kWh/m2) | F1: Mediaan kental (kWh/m2) | G1: Q3 kental (kWh/m2) | H1: Gewogen gemiddelde kental (kWh/m2) | I1: Gemiddelde kental inclusief eigenverbruik zonnestroom (kWh/m2) | J1: Q1 kental inclusief eigenverbruik zonnestroom (kWh/m2) | K1: Mediaan kental inclusief eigenverbruik zonnestroom (kWh/m2) | L1: Q3 kental inclusief eigenverbruik zonnestroom (kWh/m2) | M1: Gewogen gemiddelde kental inclusief eigenverbruik zonnestroom (kWh/m2)
A2: Elektriciteit | B2: Asielzoekerscentrum | C2: 75 | D2: 121.43814 | E2: 37.008572 | F2: 60.030928 | G2: 118.27417 | H2: 72.299584 | I2: 123.90551 | J2: 38.30757 | K2: 63.630945 | L2: 118.27417 | M2: 74.861023
A3: Elektriciteit | B3: Basisschool | C3: 4930 | D3: 24.77279 | E3: 15.045799 | F3: 21.118983 | G3: 30.883732 | H3: 25.684712 | I3: 28.405393 | J3: 17.468165 | K3: 23.47714 | L3: 35.233114 | M3: 28.961781
A4: Elektriciteit | B4: Bedrijfshal algemeen (geen LISA-informatie) | C4: 22285 | D4: 33.26362 | E4: 10.40367 | F4: 18.973333 | G4: 36.841026 | H4: 37.870124 | I4: 37.349624 | J4: 11.20915 | K4: 20.866525 | L4: 41.128713 | M4: 43.024716
A5: Elektriciteit | B5: Bedrijfshal algemeen (met LISA-informatie) | C5: 12743 | D5: 43.434489 | E5: 13.936855 | F5: 24.252841 | G5: 45.575192 | H5: 45.738201 | I5: 49.122897 | J5: 15.724275 | K5: 27.554545 | L5: 51.791725 | M5: 51.750546
A6: Elektriciteit | B6: Bedrijfshal met logistieke activiteiten | C6: 5661 | D6: 36.207149 | E6: 15.152954 | F6: 24.135202 | G6: 40.110097 | H6: 37.97006 | I6: 41.134233 | J6: 17.096639 | K6: 27.286858 | L6: 45.946667 | M6: 44.1881
A7: Elektriciteit | B7: Bedrijfshal met maakindustrie en andere economische activiteiten | C7: 5028 | D7: 39.561654 | E7: 15.034078 | F7: 24.992309 | G7: 44.484931 | H7: 47.652182 | I7: 45.055608 | J7: 17.000382 | K7: 28.870423 | L7: 51.402008 | M7: 53.216129
A8: Elektriciteit | B8: Bedrijfshal met maakindustrie en logistieke activiteiten | C8: 10761 | D8: 42.889546 | E8: 13.475678 | F8: 23.05516 | G8: 42.635185 | H8: 49.65584 | I8: 48.063405 | J8: 15.432547 | K8: 26.30819 | L8: 48.599791 | M8: 55.901457
A9: Elektriciteit | B9: Bedrijfshal uitsluitend maakindustrie | C9: 19454 | D9: 50.798117 | E9: 14.710111 | F9: 26.273841 | G9: 51.372941 | H9: 79.83267 | I9: 56.924152 | J9: 16.96766 | K9: 30.556537 | L9: 59.009558 | M9: 86.479202
A10: Elektriciteit | B10: Bedrijfswoning | C10: 67198 | D10: 58.513914 | E10: 14.890449 | F10: 26.784193 | G10: 56.891871 | H10: 45.976228 | I10: 80.15241 | J10: 17.533621 | K10: 32.316373 | L10: 70.619292 | M10: 62.230678
A11: Elektriciteit | B11: Bijeenkomstgebouw (niet nader ingedeeld) | C11: 9530 | D11: 47.052097 | E11: 12.952238 | F11: 24.753251 | G11: 53.560551 | H11: 49.241456 | I11: 51.148077 | J11: 14.221235 | K11: 27.960731 | L11: 59.413789 | M11: 52.509167
A12: Elektriciteit | B12: Campusgebouw | C12: 115 | D12: 91.635741 | E12: 34.235934 | F12: 58.501563 | G12: 116.19666 | H12: 72.494543 | I12: 95.546906 | J12: 37.675532 | K12: 58.946216 | L12: 119.07943 | M12: 75.08946
A13: Elektriciteit | B13: Cultuurhuis | C13: 575 | D13: 54.223419 | E13: 23.251727 | F13: 40.424335 | G13: 72.638561 | H13: 53.9969 | I13: 56.707223 | J13: 25.002248 | K13: 44.326882 | L13: 76.628148 | M13: 55.91128
... A15: Elektriciteit | B15: Gebedshuis | C15: 3530 | D15: 15.477606 | E15: 8.3444955 | F15: 12.194097 | G15: 19.602974 | H15: 16.567463 | I15: 17.27179 | J15: 8.9809591 | K15: 13.511421 | L15: 21.985621 | M15: 18.53106
A16: Elektriciteit | B16: Gebouw bij militaire inrichting | C16: 13 | D16: 861.69505 | H16: 595.18111 | I16: 873.34379 | M16: 599.79765
A17: Elektriciteit | B17: Gebouw bij spooremplacement | C17: 71 | D17: 64.815502 | E17: 16.32036 | F17: 47.354251 | G17: 94.649063 | H17: 55.425133 | I17: 68.587196 | J17: 18.527861 | K17: 48.443662 | L17: 94.649063 | M17: 56.850267
A18: Elektriciteit | B18: Gebouw bij vliegveld of luchthaven | C18: 157 | D18: 48.742141 | E18: 11.548634 | F18: 27.287139 | G18: 64.383324 | H18: 64.207088 | I18: 53.593908 | J18: 14.60356 | K18: 32.282897 | L18: 74.511724 | M18: 67.06001
A19: Elektriciteit | B19: Gebouw in landelijk gebied voor industrie (geen landbouwactiviteiten geregistreerd) | C19: 5053 | D19: 43.576024 | E19: 12.115385 | F19: 23.704887 | G19: 49.613853 | H19: 45.738521 | I19: 59.650332 | J19: 14.281798 | K19: 28.2 | L19: 60.637218 | M19: 58.50652
A20: Elektriciteit | B20: Gebouw in stedelijk gebied met industriefunctie | C20: 13663 | D20: 50.419378 | E20: 12.459059 | F20: 23.776508 | G20: 50.25463 | H20: 53.089438 | I20: 55.147629 | J20: 13.806343 | K20: 27.055838 | L20: 56.577663 | M20: 57.803669
A21: Elektriciteit | B21: Gebouw op snelwegverzorgingsplaats | C21: 152 | D21: 703.72823 | E21: 268.59076 | F21: 665.10508 | G21: 1001.8179 | H21: 430.33922 | I21: 712.14402 | J21: 268.59076 | K21: 665.10508 | L21: 1008.8862 | M21: 436.03397
A22: Elektriciteit | B22: Gebouw op vakantiepark | C22: 39605 | D22: 26.324611 | E22: 11.2 | F22: 17.035294 | G22: 29.592593 | H22: 31.757036 | I22: 29.852616 | J22: 11.904762 | K22: 18.595506 | L22: 33.701493 | M22: 36.542598
A23: Elektriciteit | B23: Gebouw voor landbouwactiviteiten | C23: 2455 | D23: 104.63683 | E23: 19.702734 | F23: 44.887755 | G23: 122.05453 | H23: 82.198463 | I23: 126.02186 | J23: 23.790448 | K23: 54.28054 | L23: 144.27606 | M23: 93.234484
A24: Elektriciteit | B24: Groothandel op bedrijventerrein | C24: 591 | D24: 27.899207 | E24: 14.949154 | F24: 21.945351 | G24: 33.706231 | H24: 25.946504 | I24: 31.006315 | J24: 16.120143 | K24: 24.346597 | L24: 38.299734 | M24: 28.235355
A25: Elektriciteit | B25: Hotel (of ander groot logiesgebouw) | C25: 2600 | D25: 66.812788 | E25: 24.594063 | F25: 51.560658 | G25: 95.839304 | H25: 76.254597 | I25: 69.770777 | J25: 27.706277 | K25: 54.412801 | L25: 99.453019 | M25: 77.858503
A26: Elektriciteit | B26: IJsbaan | C26: 114 | D26: 25.211189 | E26: 9.3133195 | F26: 16.731959 | G26: 32.116581 | H26: 77.004135 | I26: 29.358032 | J26: 9.5980706 | K26: 19.27184 | L26: 38.775595 | M26: 83.042534
A27: Elektriciteit | B27: Kantoorpand algemeen | C27: 21054 | D27: 44.588973 | E27: 19.176339 | F27: 33.460576 | G27: 58.036873 | H27: 52.019291 | I27: 49.527857 | J27: 21.562863 | K27: 37.429524 | L27: 63.701697 | M27: 55.049982
A28: Elektriciteit | B28: Kinderopvang (gebouw) | C28: 1567 | D28: 31.631261 | E28: 18.732678 | F28: 27.369492 | G28: 38.826691 | H28: 30.493834 | I28: 34.436962 | J28: 20.689706 | K28: 29.720482 | L28: 42.719815 | M28: 33.299784
A29: Elektriciteit | B29: Koelhuis | C29: 95 | D29: 247.53321 | E29: 54.659789 | F29: 166.78694 | G29: 323.9036 | H29: 226.06655 | I29: 265.03585 | J29: 78.079722 | K29: 181.20014 | L29: 335.99496 | M29: 242.85272
A30: Elektriciteit | B30: MBO-gebouw | C30: 16 | D30: 64.027382 | H30: 60.471046 | I30: 66.100231 | M30: 62.37861
A31: Elektriciteit | B31: Meergezinswoning met andere functie of combinatie van functies | C31: 17949 | D31: 35.719191 | E31: 17.389522 | F31: 25.514768 | G31: 39.966307 | H31: 37.12111 | I31: 38.683549 | J31: 18.461538 | K31: 26.933921 | L31: 42.801205 | M31: 39.698231
A32: Elektriciteit | B32: Meergezinswoning met cafe of restaurant | C32: 6339 | D32: 89.21967 | E32: 33.657704 | F32: 74.337963 | G32: 126.67289 | H32: 80.567007 | I32: 90.25793 | J32: 34.93406 | K32: 75.550756 | L32: 127.34798 | M32: 81.710356
A33: Elektriciteit | B33: Meergezinswoning met winkel | C33: 22455 | D33: 46.60631 | E33: 21.811959 | F33: 33.458333 | G33: 56.074545 | H33: 47.885293 | I33: 47.601837 | J33: 22.448333 | K33: 34.391645 | L33: 57.402316 | M33: 48.944969
A34: Elektriciteit | B34: Meergezinswoning met winkels en horeca | C34: 2590 | D34: 54.171417 | E34: 24.26134 | F34: 39.517828 | G34: 70.150316 | H34: 54.828427 | I34: 55.561119 | J34: 25.410304 | K34: 41.408548 | L34: 71.763054 | M34: 56.171982
A35: Elektriciteit | B35: Meergezinswoning met woonzorgeenheden | C35: 321 | D35: 30.87645 | E35: 18.858639 | F35: 27.486641 | G35: 39.960227 | H35: 33.141654 | I35: 33.944223 | J35: 20.027149 | K35: 30.753086 | L35: 43.909333 | M35: 36.523977
A36: Elektriciteit | B36: Middelbare school | C36: 1127 | D36: 34.778672 | E36: 21.390959 | F36: 29.79037 | G36: 41.977418 | H36: 32.014334 | I36: 38.570301 | J36: 24.268306 | K36: 33.451557 | L36: 46.407812 | M36: 35.710668
A37: Elektriciteit | B37: Nutsgebouw (elektriciteit) | C37: 173 | D37: 295.7194 | E37: 40.308867 | F37: 113.82857 | G37: 425.10547 | H37: 134.11058 | I37: 553.79525 | J37: 41.419463 | K37: 122.42534 | L37: 433.20385 | M37: 168.55254
A38: Elektriciteit | B38: Nutsgebouw (water) | C38: 71 | D38: 762.79155 | E38: 26.979906 | F38: 123.81459 | G38: 469.69434 | H38: 315.89649 | I38: 989.31099 | J38: 34.462122 | K38: 154.62116 | L38: 883.84636 | M38: 405.75713
A39: Elektriciteit | B39: Overig gebouw met maatschappelijke functie | C39: 1208 | D39: 39.267599 | E39: 8.8952377 | F39: 15.833145 | G39: 42.695817 | H39: 58.826026 | I39: 41.277175 | J39: 9.1355546 | K39: 16.629009 | L39: 45.903771 | M39: 61.317283
A40: Elektriciteit | B40: Overig gebouw met recreatiefunctie | C40: 82 | D40: 121.55007 | E40: 32.078812 | F40: 79.958349 | G40: 184.51074 | H40: 154.44514 | I40: 130.91996 | J40: 35.068806 | K40: 86.316483 | L40: 197.1199 | M40: 163.77049
A41: Elektriciteit | B41: Overig onderwijsgebouw | C41: 3143 | D41: 29.940371 | E41: 14.62802 | F41: 22.474118 | G41: 37.168468 | H41: 34.942183 | I41: 32.280965 | J41: 15.705472 | K41: 24.181672 | L41: 39.897671 | M41: 36.939433
A42: Elektriciteit | B42: Overig overheidsgebouw | C42: 827 | D42: 70.613472 | E42: 34.986455 | F42: 57.429748 | G42: 88.617996 | H42: 64.82022 | I42: 73.682501 | J42: 38.131523 | K42: 60.994382 | L42: 92.596114 | M42: 66.929032
... A46: Elektriciteit | B46: Pand met winkel en kantoor- en/of bijeenkomstfunctie | C46: 1476 | D46: 75.276002 | E46: 25.719558 | F46: 47.264595 | G46: 95.721474 | H46: 60.911023 | I46: 77.568404 | J46: 27.745208 | K46: 49.149331 | L46: 97.857792 | M46: 63.236708
A47: Elektriciteit | B47: Penitentiaire inrichting | C47: 25 | D47: 142.70026 | F47: 81.225274 | H47: 126.80072 | I47: 147.76735 | K47: 91.727039 | M47: 129.86172
A48: Elektriciteit | B48: Praktijk- of zorgwoning | C48: 5203 | D48: 29.622422 | E48: 15.332413 | F48: 23.709559 | G48: 38.235894 | H48: 31.14898 | I48: 35.000878 | J48: 18.553746 | K48: 28.544118 | L48: 44.646626 | M48: 36.051604
A49: Elektriciteit | B49: Productie-installatie | C49: 112 | D49: 1637.1987 | E49: 49.857143 | F49: 339.17869 | G49: 2531.6392 | H49: 2027.8874 | I49: 1669.7145 | J49: 58.155998 | K49: 339.17869 | L49: 2585.9454 | M49: 2037.1746
A50: Elektriciteit | B50: Restaurant of cafégebouw | C50: 3939 | D50: 240.39994 | E50: 103.54435 | F50: 187.81398 | G50: 313.71903 | H50: 184.68258 | I50: 243.89853 | J50: 105.19156 | K50: 191.20896 | L50: 317.84921 | M50: 187.32283
A51: Elektriciteit | B51: School voor speciaal onderwijs | C51: 518 | D51: 27.374115 | E51: 16.458272 | F51: 23.169217 | G51: 33.59229 | H51: 26.715285 | I51: 30.64201 | J51: 18.643713 | K51: 25.848952 | L51: 37.937651 | M51: 30.272328
A52: Elektriciteit | B52: Schoolverzamelgebouw | C52: 107 | D52: 34.813799 | E52: 21.158989 | F52: 29.99493 | G52: 42.165002 | H52: 33.032456 | I52: 38.547091 | J52: 24.642292 | K52: 34.220762 | L52: 47.638082 | M52: 35.937057
A53: Elektriciteit | B53: Tuincentrum | C53: 458 | D53: 34.437536 | E53: 14.475848 | F53: 26.634363 | G53: 44.113568 | H53: 28.420155 | I53: 40.223951 | J53: 17.354257 | K53: 30.869741 | L53: 50.507144 | M53: 33.007043
A54: Elektriciteit | B54: Vakantiewoning buiten vakantiepark | C54: 6034 | D54: 33.701827 | E54: 12.400962 | F54: 21.136932 | G54: 40.948391 | H54: 37.320875 | I54: 38.386183 | J54: 13.034914 | K54: 23.221041 | L54: 46.506597 | M54: 41.624451
A55: Elektriciteit | B55: Winkelpand | C55: 21541 | D55: 85.140695 | E55: 22.263636 | F55: 45.624386 | G55: 102.80488 | H55: 70.544233 | I55: 88.689743 | J55: 24.184704 | K55: 48.00172 | L55: 106.81658 | M55: 74.106786
A56: Elektriciteit | B56: Woning met andere functie of combinatie van functies | C56: 14585 | D56: 43.02895 | E56: 15.217391 | F56: 25.836538 | G56: 48.555556 | H56: 44.051558 | I56: 48.629592 | J56: 18.009119 | K56: 30.270742 | L56: 55.966667 | M56: 48.45801
A57: Elektriciteit | B57: Woning met cafe of restaurant | C57: 11088 | D57: 101.08855 | E57: 31.532954 | F57: 79.456109 | G57: 143.79937 | H57: 86.04129 | I57: 104.50542 | J57: 34.89325 | K57: 82.416801 | L57: 147.59036 | M57: 89.371144
A58: Elektriciteit | B58: Woning met winkel | C58: 32023 | D58: 45.758991 | E58: 17.670487 | F58: 29.645472 | G58: 52.860894 | H58: 44.423276 | I58: 48.856345 | J58: 19.57414 | K58: 32.792381 | L58: 57.035087 | M58: 47.432716
A59: Elektriciteit | B59: Wooncomplex met andere functie of combinatie van functies | C59: 9947 | D59: 40.057915 | E59: 24.387021 | F59: 32.338244 | G59: 47.890403 | H59: 42.006417 | I59: 41.335299 | J59: 25.089085 | K59: 33.447777 | L59: 49.59476 | M59: 43.045203
... A66: Elektriciteit | B66: Zwembad | C66: 502 | D66: 218.3599 | E66: 75.822006 | F66: 124.92993 | G66: 232.9723 | H66: 124.47398 | I66: 235.98918 | J66: 81.813156 | K66: 142.51261 | L66: 251.00441 | M66: 132.32955

Sheet elek_kental_bouwj_2024
A1: Energiedrager | B1: Gebouwtype | C1: Bouwjaarklasse | D1: Aantal panden | E1: Aandeel panden per gebouwtype | F1: Gemiddelde kental (kWh/m2) | G1: Q1 kental (kWh/m2) | H1: Mediaan kental (kWh/m2) | I1: Q3 kental (kWh/m2) | J1: Gewogen gemiddelde kental (kWh/m2) | K1: Gemiddelde kental inclusief eigenverbruik zonnestroom (kWh/m2) | L1: Q1 kental inclusief eigenverbruik zonnestroom (kWh/m2) | M1: Mediaan kental inclusief eigenverbruik zonnestroom (kWh/m2) | N1: Q3 kental inclusief eigenverbruik zonnestroom (kWh/m2) | O1: Gewogen gemiddelde kental inclusief eigenverbruik zonnestroom (kWh/m2)
A2: Elektriciteit | B2: Asielzoekerscentrum | C2: tot 1946 | D2: 11 | E2: 0.147 | F2: 144.22211 | J2: 64.969788 | K2: 146.36684 | O2: 68.441102
A3: Elektriciteit | B3: Asielzoekerscentrum | C3: 1946 tot 1978 | D3: 26 | E3: 0.347 | F3: 113.2972 | H3: 52.689421 | J3: 77.554188 | K3: 117.07002 | M3: 58.724866 | O3: 80.079716
A4: Elektriciteit | B4: Asielzoekerscentrum | C4: 1978 tot 1995 | D4: 22 | E4: 0.293 | F4: 147.97903 | H4: 77.123862 | J4: 82.740499 | K4: 148.33977 | M4: 77.123862 | O4: 82.982307
A5: Elektriciteit | B5: Asielzoekerscentrum | C5: vanaf 1995 | D5: 16 | E5: 0.213 | F5: 82.509474 | J5: 58.505191 | K5: 85.973909 | O5: 63.193024
A6: Elektriciteit | B6: Basisschool | C6: tot 1946 | D6: 458 | E6: 0.093 | F6: 22.379053 | G6: 13.828223 | H6: 19.006711 | I6: 27.070632 | J6: 20.438303 | K6: 25.07903 | L6: 16.025344 | M6: 21.176796 | N6: 30.040093 | O6: 22.690232
A7: Elektriciteit | B7: Basisschool | C7: 1946 tot 1978 | D7: 1734 | E7: 0.352 | F7: 20.662787 | G7: 13.59497 | H7: 18.326142 | I7: 24.524621 | J7: 19.737554 | K7: 23.528491 | L7: 15.873396 | M7: 20.376993 | N7: 27.219654 | O7: 22.248837
A8: Elektriciteit | B8: Basisschool | C8: 1978 tot 1995 | D8: 1109 | E8: 0.225 | F8: 20.722189 | G8: 13.812571 | H8: 18.581132 | I8: 24.365954 | J8: 20.053301 | K8: 23.754198 | L8: 16.269697 | M8: 21.05689 | N8: 27.434848 | O8: 22.861896
A9: Elektriciteit | B9: Basisschool | C9: 1995 tot 2009 | D9: 716 | E9: 0.145 | F9: 25.82153 | G9: 16.94802 | H9: 22.60125 | I9: 31.306353 | J9: 25.829947 | K9: 29.344152 | L9: 19.480097 | M9: 25.781968 | N9: 35.938627 | O9: 28.531583
A10: Elektriciteit | B10: Basisschool | C10: 2009 tot 2015 | D10: 480 | E10: 0.097 | F10: 37.89178 | G10: 26.182061 | H10: 35.67803 | I10: 47.469385 | J10: 38.229927 | K10: 43.074447 | L10: 31.065871 | M10: 41.626957 | N10: 53.91688 | O10: 42.262901
A11: Elektriciteit | B11: Basisschool | C11: vanaf 2015 | D11: 433 | E11: 0.088 | F11: 37.860971 | G11: 26.446248 | H11: 36.373976 | I11: 47.934859 | J11: 36.667056 | K11: 45.552971 | L11: 33.083775 | M11: 43.728453 | N11: 56.857194 | O11: 43.695692
A12: Elektriciteit | B12: Bedrijfshal algemeen (geen LISA-informatie) | C12: tot 1946 | D12: 228 | E12: 0.01 | F12: 36.610052 | G12: 10.405331 | H12: 19.00472 | I12: 36.272051 | J12: 32.801557 | K12: 38.362317 | L12: 11.121083 | M12: 19.834793 | N12: 36.763162 | O12: 33.803451
A13: Elektriciteit | B13: Bedrijfshal algemeen (geen LISA-informatie) | C13: 1946 tot 1978 | D13: 2242 | E13: 0.101 | F13: 35.04578 | G13: 10.367582 | H13: 18.450005 | I13: 40.241263 | J13: 39.916408 | K13: 38.856163 | L13: 10.940967 | M13: 20.220047 | N13: 43.531105 | O13: 44.269894
A14: Elektriciteit | B14: Bedrijfshal algemeen (geen LISA-informatie) | C14: 1978 tot 1995 | D14: 4132 | E14: 0.185 | F14: 36.651877 | G14: 10.449048 | H14: 18.977117 | I14: 39.012757 | J14: 39.91315 | K14: 40.114715 | L14: 11.060846 | M14: 20.902015 | N14: 43.647388 | O14: 43.534007
A15: Elektriciteit | B15: Bedrijfshal algemeen (geen LISA-informatie) | C15: 1995 tot 2009 | D15: 7526 | E15: 0.338 | F15: 30.97309 | G15: 9.9903498 | H15: 17.816797 | I15: 33.872979 | J15: 35.110865 | K15: 36.066108 | L15: 10.526304 | M15: 19.352886 | N15: 37.741067 | O15: 40.143426
A16: Elektriciteit | B16: Bedrijfshal algemeen (geen LISA-informatie) | C16: 2009 tot 2015 | D16: 1616 | E16: 0.073 | F16: 33.282762 | G16: 9.8499696 | H16: 17.957415 | I16: 36.399273 | J16: 45.888159 | K16: 36.734596 | L16: 10.54458 | M16: 20.007016 | N16: 39.543393 | O16: 51.504692
A17: Elektriciteit | B17: Bedrijfshal algemeen (geen LISA-informatie) | C17: vanaf 2015 | D17: 6541 | E17: 0.294 | F17: 33.026458 | G17: 11.158537 | H17: 20.54955 | I17: 38.138545 | J17: 36.285274 | K17: 36.679957 | L17: 12.611913 | M17: 23.649351 | N17: 43.048983 | O17: 43.171023
... A59: Elektriciteit | B59: Bijeenkomstgebouw (niet nader ingedeeld) | C59: vanaf 2015 | D59: 561 | E59: 0.059 | F59: 75.196284 | G59: 22.540323 | H59: 45.857143 | I59: 107.9469 | J59: 70.633701 | K59: 88.988295 | L59: 27.189857 | M59: 57.808824 | N59: 122.49558 | O59: 81.102824
A60: Elektriciteit | B60: Campusgebouw | C60: tot 1978 | D60: 30 | E60: 0.261 | F60: 76.348964 | H60: 51.290501 | J60: 89.380074 | K60: 78.490562 | M60: 51.290501 | O60: 91.715899
A61: Elektriciteit | B61: Campusgebouw | C61: 1978 tot 1995 | D61: 16 | E61: 0.139 | F61: 68.637829 | J61: 78.366019 | K61: 71.917734 | O61: 82.234983
A62: Elektriciteit | B62: Campusgebouw | C62: 1995 tot 2009 | D62: 34 | E62: 0.296 | F62: 95.545312 | H62: 58.052686 | J62: 90.330435 | K62: 99.276614 | M62: 58.165448 | O62: 93.32571
A63: Elektriciteit | B63: Campusgebouw | C63: 2009 tot 2015 | D63: 12 | E63: 0.104 | F63: 132.23811 | J63: 88.847508 | K63: 134.96385 | O63: 89.973935
A64: Elektriciteit | B64: Campusgebouw | C64: vanaf 2015 | D64: 23 | E64: 0.2 | F64: 100.61035 | H64: 82.946115 | J64: 46.984654 | K64: 108.15315 | M64: 97.37082 | O64: 49.635707
A65: Elektriciteit | B65: Cultuurhuis | C65: tot 1946 | D65: 225 | E65: 0.391 | F65: 55.714173 | G65: 23.259392 | H65: 44.654683 | I65: 72.576302 | J65: 54.88945 | K65: 56.823189 | L65: 23.945829 | M65: 45.40873 | N65: 74.856995 | O65: 55.379326
A66: Elektriciteit | B66: Cultuurhuis | C66: 1946 tot 1978 | D66: 116 | E66: 0.202 | F66: 39.205587 | G66: 18.88624 | H66: 25.882207 | I66: 45.717221 | J66: 45.261943 | K66: 41.572445 | L66: 21.193511 | M66: 30.111345 | N66: 47.188863 | O66: 47.308512
A67: Elektriciteit | B67: Cultuurhuis | C67: 1978 tot 1995 | D67: 104 | E67: 0.181 | F67: 53.432771 | G67: 27.128241 | H67: 39.298495 | I67: 72.7921 | J67: 52.097005 | K67: 56.375895 | L67: 27.626734 | M67: 44.192853 | N67: 77.989529 | O67: 54.42918
A68: Elektriciteit | B68: Cultuurhuis | C68: 1995 tot 2009 | D68: 84 | E68: 0.146 | F68: 59.32334 | G68: 26.699181 | H68: 45.218689 | I68: 79.114554 | J68: 57.807477 | K68: 62.939038 | L68: 30.141694 | M68: 46.099524 | N68: 92.44224 | O68: 59.803963
A69: Elektriciteit | B69: Cultuurhuis | C69: 2009 tot 2015 | D69: 24 | E69: 0.042 | F69: 78.610986 | H69: 67.378897 | J69: 58.635999 | K69: 81.320421 | M69: 67.378897 | O69: 58.9763
A70: Elektriciteit | B70: Cultuurhuis | C70: vanaf 2015 | D70: 22 | E70: 0.038 | F70: 75.822558 | H70: 71.450393 | J70: 62.22617 | K70: 86.24407 | M70: 87.202308 | O70: 71.186851
A71: Elektriciteit | B71: Gebedshuis | C71: tot 1946 | D71: 1400 | E71: 0.397 | F71: 14.476947 | G71: 7.754001 | H71: 11.156483 | I71: 17.573709 | J71: 14.018758 | K71: 15.462455 | L71: 8.022209 | M71: 11.777252 | N71: 18.892506 | O71: 15.110725
A72: Elektriciteit | B72: Gebedshuis | C72: 1946 tot 1978 | D72: 1192 | E72: 0.338 | F72: 15.028605 | G72: 8.2600677 | H72: 11.815934 | I72: 18.862424 | J72: 16.136301 | K72: 17.227609 | L72: 9.1426945 | M72: 13.309633 | N72: 21.569401 | O72: 18.568982
A73: Elektriciteit | B73: Gebedshuis | C73: 1978 tot 1995 | D73: 504 | E73: 0.143 | F73: 15.864233 | G73: 8.8470217 | H73: 13.569013 | I73: 20.130376 | J73: 16.936455 | K73: 17.885465 | L73: 9.7670965 | M73: 15.002413 | N73: 22.433961 | O73: 19.032876
A74: Elektriciteit | B74: Gebedshuis | C74: 1995 tot 2009 | D74: 316 | E74: 0.09 | F74: 18.786875 | G74: 10.552293 | H74: 15.47947 | I74: 24.075073 | J74: 22.64632 | K74: 21.394637 | L74: 11.862498 | M74: 17.82768 | N74: 28.147333 | O74: 24.907433
A75: Elektriciteit | B75: Gebedshuis | C75: 2009 tot 2015 | D75: 81 | E75: 0.023 | F75: 20.549064 | G75: 13.382395 | H75: 18.217913 | I75: 24.743875 | J75: 20.394713 | K75: 24.3817 | L75: 15.791873 | M75: 22.605634 | N75: 30.96063 | O75: 23.770864
A76: Elektriciteit | B76: Gebedshuis | C76: vanaf 2015 | D76: 37 | E76: 0.01 | F76: 23.173656 | H76: 21.419095 | J76: 25.615439 | K76: 28.020981 | M76: 27.100993 | O76: 29.902516
A77: Elektriciteit | B77: Gebouw bij spooremplacement | C77: tot 1946 | D77: 15 | E77: 0.211 | F77: 32.922725 | J77: 20.277769 | K77: 33.59278 | O77: 21.865657
A78: Elektriciteit | B78: Gebouw bij spooremplacement | C78: 1946 tot 1978 | D78: 10 | E78: 0.141 | F78: 33.287045 | J78: 14.775275 | K78: 33.72831 | O78: 14.855074
A79: Elektriciteit | B79: Gebouw bij spooremplacement | C79: 1978 tot 1995 | D79: 11 | E79: 0.155 | F79: 73.975631 | J79: 51.581098 | K79: 74.419879 | O79: 51.664189
A80: Elektriciteit | B80: Gebouw bij spooremplacement | C80: 1995 tot 2009 | D80: 21 | E80: 0.296 | F80: 103.66586 | H80: 100.08001 | J80: 98.916317 | K80: 112.73255 | M80: 100.08001 | O80: 99.744902
A81: Elektriciteit | B81: Gebouw bij spooremplacement | C81: vanaf 2009 | D81: 14 | E81: 0.197 | F81: 56.033877 | J81: 41.833588 | K81: 60.179564 | O81: 44.24995
A82: Elektriciteit | B82: Gebouw bij vliegveld of luchthaven | C82: tot 1978 | D82: 31 | E82: 0.197 | F82: 44.901219 | H82: 27.127841 | J82: 72.550324 | K82: 47.180698 | M82: 30.144444 | O82: 73.933415
A83: Elektriciteit | B83: Gebouw bij vliegveld of luchthaven | C83: 1978 tot 1995 | D83: 54 | E83: 0.344 | F83: 43.598534 | G83: 10.032312 | H83: 20.135835 | I83: 60.265319 | J83: 64.044183 | K83: 47.853584 | L83: 12.584587 | M83: 23.535868 | N83: 64.135156 | O83: 69.213998
A84: Elektriciteit | B84: Gebouw bij vliegveld of luchthaven | C84: 1995 tot 2009 | D84: 41 | E84: 0.261 | F84: 42.331111 | G84: 14.60356 | H84: 31.711027 | I84: 53.841241 | J84: 51.248218 | K84: 45.677023 | L84: 14.625899 | M84: 32.282897 | N84: 65.10316 | O84: 52.29341
A85: Elektriciteit | B85: Gebouw bij vliegveld of luchthaven | C85: 2009 tot 2015 | D85: 14 | E85: 0.089 | F85: 63.761927 | J85: 78.139484 | K85: 83.329631 | O85: 84.214314
A86: Elektriciteit | B86: Gebouw bij vliegveld of luchthaven | C86: vanaf 2015 | D86: 17 | E86: 0.108 | F86: 75.177356 | J86: 65.797809 | K86: 78.127973 | O86: 67.181607
A87: Elektriciteit | B87: Gebouw in landelijk gebied voor industrie (geen landbouwactiviteiten geregistreerd) | C87: tot 1946 | D87: 525 | E87: 0.104 | F87: 42.530167 | G87: 11.88412 | H87: 21.7 | I87: 48.403509 | J87: 37.207381 | K87: 48.807194 | L87: 13.76 | M87: 24.563636 | N87: 54.505246 | O87: 42.376812
A88: Elektriciteit | B88: Gebouw in landelijk gebied voor industrie (geen landbouwactiviteiten geregistreerd) | C88: 1946 tot 1978 | D88: 1350 | E88: 0.267 | F88: 40.430429 | G88: 11.228593 | H88: 20.864878 | I88: 46.386734 | J88: 45.250277 | K88: 49.84457 | L88: 12.478446 | M88: 25.315362 | N88: 55.629452 | O88: 54.420947
A89: Elektriciteit | B89: Gebouw in landelijk gebied voor industrie (geen landbouwactiviteiten geregistreerd) | C89: 1978 tot 1995 | D89: 1185 | E89: 0.235 | F89: 47.945481 | G89: 12.878311 | H89: 26.294253 | I89: 55.205882 | J89: 53.074222 | K89: 69.914845 | L89: 14.794286 | M89: 31.181185 | N89: 68.140625 | O89: 66.076007
A90: Elektriciteit | B90: Gebouw in landelijk gebied voor industrie (geen landbouwactiviteiten geregistreerd) | C90: 1995 tot 2009 | D90: 1075 | E90: 0.213 | F90: 44.414407 | G90: 11.544535 | H90: 23.62406 | I90: 49.349933 | J90: 41.815453 | K90: 72.274516 | L90: 14.110418 | M90: 27.666667 | N90: 63.315874 | O90: 58.812944
A91: Elektriciteit | B91: Gebouw in landelijk gebied voor industrie (geen landbouwactiviteiten geregistreerd) | C91: 2009 tot 2015 | D91: 351 | E91: 0.069 | F91: 46.86465 | G91: 13.391166 | H91: 26.112805 | I91: 58.367943 | J91: 51.582815 | K91: 56.608177 | L91: 17.437096 | M91: 33.063256 | N91: 68.617489 | O91: 63.688369
A92: Elektriciteit | B92: Gebouw in landelijk gebied voor industrie (geen landbouwactiviteiten geregistreerd) | C92: vanaf 2015 | D92: 567 | E92: 0.112 | F92: 39.276644 | G92: 13.053552 | H92: 25.599793 | I92: 45.333248 | J92: 40.369229 | K92: 49.533541 | L92: 15.684947 | M92: 30.755725 | N92: 56.717834 | O92: 56.40213
A93: Elektriciteit | B93: Gebouw in stedelijk gebied met industriefunctie | C93: tot 1946 | D93: 2994 | E93: 0.219 | F93: 47.856638 | G93: 12.103169 | H93: 23.652098 | I93: 48.666236 | J93: 46.125245 | K93: 51.174336 | L93: 12.833484 | M93: 25.760452 | N93: 53.135549 | O93: 48.404202
A94: Elektriciteit | B94: Gebouw in stedelijk gebied met industriefunctie | C94: 1946 tot 1978 | D94: 4373 | E94: 0.32 | F94: 47.641713 | G94: 11.557895 | H94: 22.280255 | I94: 48.105706 | J94: 60.413094 | K94: 51.649462 | L94: 12.610169 | M94: 25.01608 | N94: 54.713043 | O94: 64.16386
A95: Elektriciteit | B95: Gebouw in stedelijk gebied met industriefunctie | C95: 1978 tot 1995 | D95: 2651 | E95: 0.194 | F95: 53.319688 | G95: 13.000473 | H95: 24.155556 | I95: 51.281045 | J95: 47.792002 | K95: 58.520081 | L95: 14.4 | M95: 27.442797 | N95: 56.623303 | O95: 50.961122
A96: Elektriciteit | B96: Gebouw in stedelijk gebied met industriefunctie | C96: 1995 tot 2009 | D96: 2226 | E96: 0.163 | F96: 57.809101 | G96: 13.56523 | H96: 26.362145 | I96: 57.935021 | J96: 54.440605 | K96: 63.712944 | L96: 15.560914 | M96: 29.775952 | N96: 66.610558 | O96: 62.587682
A97: Elektriciteit | B97: Gebouw in stedelijk gebied met industriefunctie | C97: 2009 tot 2015 | D97: 508 | E97: 0.037 | F97: 50.101044 | G97: 13.617961 | H97: 24.647261 | I97: 46.561633 | J97: 46.801504 | K97: 56.290876 | L97: 15.594292 | M97: 28.182472 | N97: 58.361251 | O97: 50.826236
A98: Elektriciteit | B98: Gebouw in stedelijk gebied met industriefunctie | C98: vanaf 2015 | D98: 911 | E98: 0.067 | F98: 45.856308 | G98: 13.714317 | H98: 25.777778 | I98: 47.913292 | J98: 53.32603 | K98: 53.617436 | L98: 16.202096 | M98: 30.854545 | N98: 57.354167 | O98: 61.726743
... A110: Elektriciteit | B110: Gebouw voor landbouwactiviteiten | C110: vanaf 2015 | D110: 126 | E110: 0.051 | F110: 90.899353 | G110: 15.92911 | H110: 37.680837 | I110: 88.627285 | J110: 74.609139 | K110: 104.44814 | L110: 20.684793 | M110: 44.543037 | N110: 105.14652 | O110: 84.866817
A111: Elektriciteit | B111: Groothandel op bedrijventerrein | C111: tot 1946 | D111: 11 | E111: 0.019 | F111: 21.243246 | J111: 14.604629 | K111: 22.412086 | O111: 14.886481
A112: Elektriciteit | B112: Groothandel op bedrijventerrein | C112: 1946 tot 1978 | D112: 108 | E112: 0.183 | F112: 25.430808 | G112: 13.575153 | H112: 17.962551 | I112: 26.337384 | J112: 22.517023 | K112: 29.371777 | L112: 15.037609 | M112: 19.98748 | N112: 28.428011 | O112: 25.902358
A113: Elektriciteit | B113: Groothandel op bedrijventerrein | C113: 1978 tot 1995 | D113: 178 | E113: 0.301 | F113: 28.377661 | G113: 14.81402 | H113: 22.7422 | I113: 33.28149 | J113: 24.355244 | K113: 30.799274 | L113: 16.044114 | M113: 24.207687 | N113: 38.134829 | O113: 26.360732
A114: Elektriciteit | B114: Groothandel op bedrijventerrein | C114: 1995 tot 2009 | D114: 245 | E114: 0.415 | F114: 28.151928 | G114: 15.09747 | H114: 23.498405 | I114: 35.322674 | J114: 29.775728 | K114: 30.723981 | L114: 17.169376 | M114: 26.271255 | N114: 39.030713 | O114: 31.400342
A115: Elektriciteit | B115: Groothandel op bedrijventerrein | C115: 2009 tot 2015 | D115: 22 | E115: 0.037 | F115: 31.245744 | H115: 25.439769 | J115: 32.14534 | K115: 34.525807 | M115: 27.680787 | O115: 34.829298
A116: Elektriciteit | B116: Groothandel op bedrijventerrein | C116: vanaf 2015 | D116: 27 | E116: 0.046 | F116: 32.310218 | H116: 25.585819 | J116: 31.558412 | K116: 42.104952 | M116: 30.957875 | O116: 38.370583
A117: Elektriciteit | B117: Hotel (of ander groot logiesgebouw) | C117: tot 1946 | D117: 1242 | E117: 0.478 | F117: 65.054214 | G117: 24.578671 | H117: 47.135423 | I117: 90.238449 | J117: 64.026351 | K117: 67.262 | L117: 26.728865 | M117: 48.978271 | N117: 93.20423 | O117: 65.25689
A118: Elektriciteit | B118: Hotel (of ander groot logiesgebouw) | C118: 1946 tot 1978 | D118: 485 | E118: 0.187 | F118: 62.825774 | G118: 22.340771 | H118: 49.576063 | I118: 87.666105 | J118: 72.983975 | K118: 66.116279 | L118: 25.666874 | M118: 51.325134 | N118: 92.526316 | O118: 74.737521
A119: Elektriciteit | B119: Hotel (of ander groot logiesgebouw) | C119: 1978 tot 1995 | D119: 307 | E119: 0.118 | F119: 74.26912 | G119: 31.09306 | H119: 66.181903 | I119: 105.88356 | J119: 79.390533 | K119: 76.555652 | L119: 32.629713 | M119: 67.952911 | N119: 107.00496 | O119: 80.541733
A120: Elektriciteit | B120: Hotel (of ander groot logiesgebouw) | C120: 1995 tot 2009 | D120: 263 | E120: 0.101 | F120: 68.872885 | G120: 25.613091 | H120: 56.800759 | I120: 96.474157 | J120: 85.921352 | K120: 73.066742 | L120: 32.033377 | M120: 61.149843 | N120: 100.81736 | O120: 87.939679
A121: Elektriciteit | B121: Hotel (of ander groot logiesgebouw) | C121: 2009 tot 2015 | D121: 98 | E121: 0.038 | F121: 65.866872 | G121: 23.394671 | H121: 47.355596 | I121: 97.685793 | J121: 83.33315 | K121: 70.220148 | L121: 33.462058 | M121: 51.144515 | N121: 104.70753 | O121: 84.330772
A122: Elektriciteit | B122: Hotel (of ander groot logiesgebouw) | C122: vanaf 2015 | D122: 205 | E122: 0.079 | F122: 73.542791 | G122: 23.579365 | H122: 59.259259 | I122: 109.40183 | J122: 92.759748 | K122: 79.01223 | L122: 29.459836 | M122: 67.830687 | N122: 116.08739 | O122: 95.755475
A123: Elektriciteit | B123: IJsbaan | C123: tot 1978 | D123: 18 | E123: 0.158 | F123: 18.520214 | J123: 19.494442 | K123: 18.625232 | O123: 19.557076
A124: Elektriciteit | B124: IJsbaan | C124: 1978 tot 1995 | D124: 41 | E124: 0.36 | F124: 19.823559 | G124: 7.8631579 | H124: 15.278788 | I124: 21.29386 | J124: 17.714435 | K124: 25.464997 | L124: 9.2801932 | M124: 19.214912 | N124: 32.240385 | O124: 20.986828
A125: Elektriciteit | B125: IJsbaan | C125: 1995 tot 2009 | D125: 31 | E125: 0.272 | F125: 33.41582 | H125: 19.479167 | J125: 92.961898 | K125: 36.518348 | M125: 19.818182 | O125: 99.901995
A126: Elektriciteit | B126: IJsbaan | C126: vanaf 2009 | D126: 24 | E126: 0.211 | F126: 28.835642 | H126: 18.111961 | J126: 24.608935 | K126: 34.809493 | M126: 26.394372 | O126: 30.28084
A127: Elektriciteit | B127: Kantoorpand algemeen | C127: tot 1946 | D127: 5136 | E127: 0.244 | F127: 36.72344 | G127: 16.577211 | H127: 26.490714 | I127: 44.182082 | J127: 39.308297 | K127: 39.040178 | L127: 17.892783 | M127: 28.667836 | N127: 47.409724 | O127: 40.939969
A128: Elektriciteit | B128: Kantoorpand algemeen | C128: 1946 tot 1978 | D128: 3353 | E128: 0.159 | F128: 40.752088 | G128: 16.861386 | H128: 29.47541 | I128: 50.063008 | J128: 47.942533 | K128: 46.616481 | L128: 19.055172 | M128: 33.207317 | N128: 56.697297 | O128: 50.690015
A129: Elektriciteit | B129: Kantoorpand algemeen | C129: 1978 tot 1995 | D129: 4396 | E129: 0.209 | F129: 44.508403 | G129: 20.418412 | H129: 34.505511 | I129: 58.391049 | J129: 49.103413 | K129: 49.556026 | L129: 23.618691 | M129: 39.496636 | N129: 64.046995 | O129: 51.952296
A130: Elektriciteit | B130: Kantoorpand algemeen | C130: 1995 tot 2009 | D130: 6227 | E130: 0.296 | F130: 48.24956 | G130: 21.681424 | H130: 38.908451 | I130: 63.755977 | J130: 56.115542 | K130: 53.346774 | L130: 24.924801 | M130: 42.8791 | N130: 69.044294 | O130: 59.087402
A131: Elektriciteit | B131: Kantoorpand algemeen | C131: 2009 tot 2015 | D131: 1106 | E131: 0.053 | F131: 58.579924 | G131: 24.002686 | H131: 47.432099 | I131: 81.158142 | J131: 68.321645 | K131: 64.513433 | L131: 27.047519 | M131: 53.467379 | N131: 86.936369 | O131: 72.482977
A132: Elektriciteit | B132: Kantoorpand algemeen | C132: vanaf 2015 | D132: 836 | E132: 0.04 | F132: 62.948029 | G132: 29.526588 | H132: 52.292319 | I132: 86.211984 | J132: 60.21674 | K132: 77.217194 | L132: 36.867078 | M132: 63.916944 | N132: 98.90838 | O132: 68.710633
A133: Elektriciteit | B133: Kinderopvang (gebouw) | C133: tot 1946 | D133: 275 | E133: 0.175 | F133: 32.041018 | G133: 18.305914 | H133: 26.053753 | I133: 40.987057 | J133: 28.163474 | K133: 33.313749 | L133: 19.375036 | M133: 26.991085 | N133: 43.392537 | O133: 29.494765
A134: Elektriciteit | B134: Kinderopvang (gebouw) | C134: 1946 tot 1978 | D134: 471 | E134: 0.301 | F134: 26.607191 | G134: 16.567568 | H134: 23.888636 | I134: 32.441053 | J134: 26.072953 | K134: 29.584373 | L134: 17.656807 | M134: 26.362044 | N134: 34.827769 | O134: 28.909803
A135: Elektriciteit | B135: Kinderopvang (gebouw) | C135: 1978 tot 1995 | D135: 340 | E135: 0.217 | F135: 32.026571 | G135: 19.451949 | H135: 28.192186 | I135: 40.031668 | J135: 30.789278 | K135: 34.261784 | L135: 20.871447 | M135: 30.411144 | N135: 41.785185 | O135: 33.10648
A136: Elektriciteit | B136: Kinderopvang (gebouw) | C136: 1995 tot 2009 | D136: 356 | E136: 0.227 | F136: 33.225296 | G136: 20.094757 | H136: 29.458905 | I136: 40.644172 | J136: 32.291367 | K136: 36.472422 | L136: 23.504348 | M136: 31.761619 | N136: 45.036089 | O136: 35.679512
A137: Elektriciteit | B137: Kinderopvang (gebouw) | C137: 2009 tot 2015 | D137: 91 | E137: 0.058 | F137: 42.72923 | G137: 28.022733 | H137: 37.569663 | I137: 52.506614 | J137: 41.447571 | K137: 47.624188 | L137: 29.200712 | M137: 40.797285 | N137: 62.817813 | O137: 45.568548
A138: Elektriciteit | B138: Kinderopvang (gebouw) | C138: vanaf 2015 | D138: 34 | E138: 0.022 | F138: 47.56821 | H138: 40.861164 | J138: 40.410355 | K138: 55.888501 | M138: 45.040793 | O138: 48.053203
A139: Elektriciteit | B139: Koelhuis | C139: tot 1978 | D139: 13 | E139: 0.137 | F139: 271.9029 | J139: 380.89195 | K139: 294.16519 | O139: 409.15035
A140: Elektriciteit | B140: Koelhuis | C140: 1978 tot 1995 | D140: 40 | E140: 0.421 | F140: 262.28619 | G140: 112.67029 | H140: 188.24432 | I140: 396.57241 | J140: 271.80166 | K140: 280.75864 | L140: 121.59346 | M140: 198.54318 | N140: 423.87748 | O140: 290.41217
A141: Elektriciteit | B141: Koelhuis | C141: 1995 tot 2009 | D141: 30 | E141: 0.316 | F141: 259.65701 | H141: 150.79154 | J141: 197.29261 | K141: 277.30733 | M141: 174.17902 | O141: 214.99016
A142: Elektriciteit | B142: Koelhuis | C142: vanaf 2009 | D142: 12 | E142: 0.126 | F142: 141.64659 | J142: 103.18523 | K142: 150.39107 | O142: 109.60174
A143: Elektriciteit | B143: Meergezinswoning met andere functie of combinatie van functies | C143: tot 1946 | D143: 11492 | E143: 0.64 | F143: 34.732618 | G143: 16.930997 | H143: 24.686565 | I143: 38.522396 | J143: 34.867394 | K143: 37.080243 | L143: 17.873882 | M143: 25.803457 | N143: 40.570558 | O143: 37.255199
A144: Elektriciteit | B144: Meergezinswoning met andere functie of combinatie van functies | C144: 1946 tot 1978 | D144: 3368 | E144: 0.188 | F144: 36.59899 | G144: 17.550764 | H144: 26.248999 | I144: 41.840915 | J144: 36.541119 | K144: 40.489605 | L144: 19.143227 | M144: 28.421237 | N144: 45.982764 | O144: 39.182783
A145: Elektriciteit | B145: Meergezinswoning met andere functie of combinatie van functies | C145: 1978 tot 1995 | D145: 1457 | E145: 0.081 | F145: 38.406885 | G145: 18.376147 | H145: 27.176319 | I145: 42.831418 | J145: 39.975147 | K145: 42.039751 | L145: 19.34728 | M145: 29.075472 | N145: 46.823834 | O145: 42.770481
A146: Elektriciteit | B146: Meergezinswoning met andere functie of combinatie van functies | C146: 1995 tot 2009 | D146: 1167 | E146: 0.065 | F146: 37.592087 | G146: 19.256583 | H146: 27.861439 | I146: 42.464625 | J146: 43.497028 | K146: 42.717994 | L146: 20.676609 | M146: 30.16129 | N146: 45.448688 | O146: 46.640779
A147: Elektriciteit | B147: Meergezinswoning met andere functie of combinatie van functies | C147: 2009 tot 2015 | D147: 237 | E147: 0.013 | F147: 40.191472 | G147: 19.772242 | H147: 30.047198 | I147: 47.095495 | J147: 44.955878 | K147: 42.987425 | L147: 21.829861 | M147: 32.358524 | N147: 53.45 | O147: 46.84876
A148: Elektriciteit | B148: Meergezinswoning met andere functie of combinatie van functies | C148: vanaf 2015 | D148: 228 | E148: 0.013 | F148: 41.039182 | G148: 21.901913 | H148: 33.146364 | I148: 48.655224 | J148: 44.518831 | K148: 46.24577 | L148: 25.366043 | M148: 39.12547 | N148: 53.701001 | O148: 48.151649
A149: Elektriciteit | B149: Meergezinswoning met cafe of restaurant | C149: tot 1946 | D149: 4988 | E149: 0.787 | F149: 92.054157 | G149: 36.307294 | H149: 77.419909 | I149: 130.65334 | J149: 84.298204 | K149: 92.820785 | L149: 36.916819 | M149: 78.422693 | N149: 130.77218 | O149: 85.088604
A150: Elektriciteit | B150: Meergezinswoning met cafe of restaurant | C150: 1946 tot 1978 | D150: 734 | E150: 0.116 | F150: 80.449029 | G150: 26.150433 | H150: 66.257676 | I150: 115.44201 | J150: 72.373329 | K150: 82.223192 | L150: 27.698308 | M150: 67.594183 | N150: 117.77465 | O150: 73.947465
A151: Elektriciteit | B151: Meergezinswoning met cafe of restaurant | C151: 1978 tot 1995 | D151: 258 | E151: 0.041 | F151: 76.821485 | G151: 26.577498 | H151: 63.76321 | I151: 110.05068 | J151: 69.501479 | K151: 78.458215 | L151: 27.154102 | M151: 63.870975 | N151: 110.35782 | O151: 71.237508
A152: Elektriciteit | B152: Meergezinswoning met cafe of restaurant | C152: 1995 tot 2009 | D152: 234 | E152: 0.037 | F152: 77.486404 | G152: 27.433826 | H152: 55.092475 | I152: 109.79841 | J152: 67.664384 | K152: 79.134476 | L152: 28.666896 | M152: 56.835954 | N152: 111.17476 | O152: 69.509381
...

Sheet elek_kental_opp_2024
A1: Energiedrager | B1: Gebouwtype | C1: Oppervlakteklasse | D1: Aantal panden | E1: Aandeel panden per gebouwtype | F1: Gemiddelde kental (kWh/m2) | G1: Q1 kental (kWh/m2) | H1: Mediaan kental (kWh/m2) | I1: Q3 kental (kWh/m2) | J1: Gewogen gemiddelde kental (kWh/m2) | K1: Gemiddelde kental inclusief eigenverbruik zonnestroom (kWh/m2) | L1: Q1 kental inclusief eigenverbruik zonnestroom (kWh/m2) | M1: Mediaan kental inclusief eigenverbruik zonnestroom (kWh/m2) | N1: Q3 kental inclusief eigenverbruik zonnestroom (kWh/m2) | O1: Gewogen gemiddelde kental inclusief eigenverbruik zonnestroom (kWh/m2)
A2: Elektriciteit | B2: Asielzoekerscentrum | C2: tot 1000 m2 | D2: 22 | E2: 0.293 | F2: 140.60659 | H2: 52.283176 | J2: 162.34746 | K2: 142.91567 | M2: 56.962723 | O2: 165.5304
A3: Elektriciteit | B3: Asielzoekerscentrum | C3: 1000 tot 2500 m2 | D3: 23 | E3: 0.307 | F3: 163.85843 | H3: 75.968534 | J3: 146.35245 | K3: 164.3109 | M3: 75.968534 | O3: 146.72146
A4: Elektriciteit | B4: Asielzoekerscentrum | C4: 2500 tot 5000 m2 | D4: 13 | E4: 0.173 | F4: 102.29536 | J4: 107.67126 | K4: 107.89609 | O4: 112.01029
A5: Elektriciteit | B5: Asielzoekerscentrum | C5: vanaf 5000 m2 | D5: 17 | E5: 0.227 | F5: 53.878369 | J5: 46.711445 | K5: 56.880508 | O5: 49.206195
A6: Elektriciteit | B6: Basisschool | C6: tot 250 m2 | D6: 17 | E6: 0.003 | F6: 47.626491 | J6: 46.631725 | K6: 53.219148 | O6: 50.614345
A7: Elektriciteit | B7: Basisschool | C7: 250 tot 500 m2 | D7: 110 | E7: 0.022 | F7: 28.327759 | G7: 18.039195 | H7: 23.352012 | I7: 34.855346 | J7: 27.638111 | K7: 32.200429 | L7: 21.429653 | M7: 25.668326 | N7: 38.729568 | O7: 31.317593
A8: Elektriciteit | B8: Basisschool | C8: 500 tot 1000 m2 | D8: 910 | E8: 0.185 | F8: 23.361653 | G8: 14.973618 | H8: 19.620989 | I8: 28.018536 | J8: 23.238513 | K8: 27.499444 | L8: 17.197428 | M8: 22.064556 | N8: 32.545751 | O8: 27.362265
A9: Elektriciteit | B9: Basisschool | C9: 1000 tot 2500 m2 | D9: 2838 | E9: 0.576 | F9: 23.924711 | G9: 15.10518 | H9: 20.507115 | I9: 28.631377 | J9: 24.142554 | K9: 27.59034 | L9: 17.586168 | M9: 22.937708 | N9: 33.341495 | O9: 27.870558
A10: Elektriciteit | B10: Basisschool | C10: 2500 tot 5000 m2 | D10: 841 | E10: 0.171 | F10: 27.377344 | G10: 14.920083 | H10: 25.001768 | I10: 36.395954 | J10: 27.489864 | K10: 30.765589 | L10: 17.500852 | M10: 28.180916 | N10: 42.045538 | O10: 30.91298
A11: Elektriciteit | B11: Basisschool | C11: 5000 tot 10000 m2 | D11: 179 | E11: 0.036 | F11: 29.551476 | G11: 12.576302 | H11: 26.490392 | I11: 42.892917 | J11: 29.803845 | K11: 31.467441 | L11: 13.433345 | M11: 28.295295 | N11: 45.08783 | O11: 31.672777
A12: Elektriciteit | B12: Basisschool | C12: vanaf 10000 m2 | D12: 35 | E12: 0.007 | F12: 20.933052 | H12: 17.947038 | J12: 23.082749 | K12: 21.697249 | M12: 18.421784 | O12: 23.915034
A13: Elektriciteit | B13: Bedrijfshal algemeen (geen LISA-informatie) | C13: tot 50 m2 | D13: 692 | E13: 0.031 | F13: 55.623739 | G13: 11.422348 | H13: 26.070724 | I13: 83.914742 | J13: 53.734608 | K13: 58.302548 | L13: 11.488636 | M13: 27.608456 | N13: 84.777778 | O13: 56.411539
A14: Elektriciteit | B14: Bedrijfshal algemeen (geen LISA-informatie) | C14: 50 tot 100 m2 | D14: 2391 | E14: 0.107 | F14: 36.475499 | G14: 10 | H14: 20.883117 | I14: 44.511878 | J14: 36.328198 | K14: 38.878609 | L14: 10.418587 | M14: 22.173077 | N14: 47.244792 | O14: 38.69607
A15: Elektriciteit | B15: Bedrijfshal algemeen (geen LISA-informatie) | C15: 100 tot 250 m2 | D15: 6152 | E15: 0.276 | F15: 29.987359 | G15: 10.144375 | H15: 18.658416 | I15: 33.58023 | J15: 29.917484 | K15: 32.701227 | L15: 10.627287 | M15: 19.846837 | N15: 36.300951 | O15: 32.694594
A16: Elektriciteit | B16: Bedrijfshal algemeen (geen LISA-informatie) | C16: 250 tot 500 m2 | D16: 3902 | E16: 0.175 | F16: 29.895426 | G16: 9.9959598 | H16: 17.40721 | I16: 33.227104 | J16: 29.902724 | K16: 37.178825 | L16: 10.821804 | M16: 18.995879 | N16: 38.045757 | O16: 37.072143
A17: Elektriciteit | B17: Bedrijfshal algemeen (geen LISA-informatie) | C17: 500 tot 1000 m2 | D17: 3730 | E17: 0.167 | F17: 29.466499 | G17: 10.051086 | H17: 17.470455 | I17: 32.463509 | J17: 29.935147 | K17: 32.932719 | L17: 11.197338 | M17: 19.990084 | N17: 36.404655 | O17: 33.499406
A18: Elektriciteit | B18: Bedrijfshal algemeen (geen LISA-informatie) | C18: 1000 tot 2500 m2 | D18: 3336 | E18: 0.15 | F18: 34.83288 | G18: 11.221448 | H18: 20.151344 | I18: 38.46606 | J18: 35.338793 | K18: 39.431335 | L18: 12.474528 | M18: 22.337153 | N18: 44.235971 | O18: 39.870268
A19: Elektriciteit | B19: Bedrijfshal algemeen (geen LISA-informatie) | C19: 2500 tot 5000 m2 | D19: 1168 | E19: 0.052 | F19: 41.52179 | G19: 11.9505 | H19: 21.813148 | I19: 46.883915 | J19: 41.883802 | K19: 45.729548 | L19: 12.97015 | M19: 24.77633 | N19: 51.494273 | O19: 46.241652
A20: Elektriciteit | B20: Bedrijfshal algemeen (geen LISA-informatie) | C20: 5000 tot 10000 m2 | D20: 580 | E20: 0.026 | F20: 44.731672 | G20: 11.516309 | H20: 23.255709 | I20: 53.431462 | J20: 45.011321 | K20: 49.921688 | L20: 12.920167 | M20: 26.587414 | N20: 63.470745 | O20: 50.570584
A21: Elektriciteit | B21: Bedrijfshal algemeen (geen LISA-informatie) | C21: vanaf 10000 m2 | D21: 334 | E21: 0.015 | F21: 41.576912 | G21: 11.506162 | H21: 21.923866 | I21: 44.260821 | J21: 39.370133 | K21: 48.005554 | L21: 13.068392 | M21: 26.456085 | N21: 55.076752 | O21: 46.162291
A22: Elektriciteit | B22: Bedrijfshal algemeen (met LISA-informatie) | C22: tot 50 m2 | D22: 84 | E22: 0.007 | F22: 114.55605 | G22: 26.239615 | H22: 56.658588 | I22: 191.57262 | J22: 108.55447 | K22: 122.48097 | L22: 26.239615 | M22: 58.659494 | N22: 202.485 | O22: 116.1888
A23: Elektriciteit | B23: Bedrijfshal algemeen (met LISA-informatie) | C23: 50 tot 100 m2 | D23: 583 | E23: 0.046 | F23: 67.367672 | G23: 18.230862 | H23: 34.674699 | I23: 75.581744 | J23: 64.305141 | K23: 74.136254 | L23: 19.527681 | M23: 38.677083 | N23: 78.717518 | O23: 70.980752
A24: Elektriciteit | B24: Bedrijfshal algemeen (met LISA-informatie) | C24: 100 tot 250 m2 | D24: 2410 | E24: 0.189 | F24: 46.098817 | G24: 14.19923 | H24: 25.642762 | I24: 48.308544 | J24: 45.282291 | K24: 51.401638 | L24: 15.270992 | M24: 28.389039 | N24: 54.024879 | O24: 50.398017
... A46: Elektriciteit | B46: Bedrijfshal met maakindustrie en andere economische activiteiten | C46: vanaf 10000 m2 | D46: 150 | E46: 0.03 | F46: 67.502512 | G46: 19.112733 | H46: 37.189191 | I46: 75.52331 | J46: 66.270086 | K46: 72.456243 | L46: 23.237041 | M46: 43.928733 | N46: 85.573499 | O46: 70.965877
A47: Elektriciteit | B47: Bedrijfshal met maakindustrie en logistieke activiteiten | C47: tot 50 m2 | D47: 27 | E47: 0.003 | F47: 84.043469 | H47: 36.333333 | J47: 81.786495 | K47: 104.63691 | M47: 38.782609 | O47: 102.37919
A48: Elektriciteit | B48: Bedrijfshal met maakindustrie en logistieke activiteiten | C48: 50 tot 100 m2 | D48: 218 | E48: 0.02 | F48: 60.36163 | G48: 16.433217 | H48: 33.379907 | I48: 73.011513 | J48: 58.109381 | K48: 65.568775 | L48: 16.911891 | M48: 34.547229 | N48: 80.960048 | O48: 63.32308
A49: Elektriciteit | B49: Bedrijfshal met maakindustrie en logistieke activiteiten | C49: 100 tot 250 m2 | D49: 1033 | E49: 0.096 | F49: 41.558885 | G49: 13.52 | H49: 24.340102 | I49: 45.005128 | J49: 41.563589 | K49: 45.850221 | L49: 14.219178 | M49: 25.795238 | N49: 49.165746 | O49: 46.032561
A50: Elektriciteit | B50: Bedrijfshal met maakindustrie en logistieke activiteiten | C50: 250 tot 500 m2 | D50: 1328 | E50: 0.123 | F50: 39.67285 | G50: 13.864856 | H50: 22.558689 | I50: 40.546032 | J50: 39.679828 | K50: 43.70965 | L50: 14.918473 | M50: 25.709637 | N50: 45.749489 | O50: 43.684128
A51: Elektriciteit | B51: Bedrijfshal met maakindustrie en logistieke activiteiten | C51: 500 tot 1000 m2 | D51: 2229 | E51: 0.207 | F51: 38.666065 | G51: 12.773676 | H51: 21.92029 | I51: 36.977169 | J51: 38.61843 | K51: 43.057228 | L51: 14.846369 | M51: 24.622378 | N51: 42.541619 | O51: 43.001682
A52: Elektriciteit | B52: Bedrijfshal met maakindustrie en logistieke activiteiten | C52: 1000 tot 2500 m2 | D52: 3181 | E52: 0.296 | F52: 38.47715 | G52: 13.204724 | H52: 21.631858 | I52: 38.698039 | J52: 38.811728 | K52: 43.647616 | L52: 15.394838 | M52: 25.221381 | N52: 43.726336 | O52: 43.897429
A53: Elektriciteit | B53: Bedrijfshal met maakindustrie en logistieke activiteiten | C53: 2500 tot 5000 m2 | D53: 1559 | E53: 0.145 | F53: 47.09008 | G53: 13.690435 | H53: 23.952727 | I53: 47.750364 | J53: 47.020541 | K53: 52.86361 | L53: 15.95409 | M53: 28.233578 | N53: 52.98319 | O53: 52.824509
A54: Elektriciteit | B54: Bedrijfshal met maakindustrie en logistieke activiteiten | C54: 5000 tot 10000 m2 | D54: 772 | E54: 0.072 | F54: 53.091076 | G54: 13.745835 | H54: 25.537218 | I54: 60.207182 | J54: 53.761947 | K54: 60.308856 | L54: 16.41407 | M54: 30.705764 | N54: 70.31864 | O54: 60.906628
A55: Elektriciteit | B55: Bedrijfshal met maakindustrie en logistieke activiteiten | C55: vanaf 10000 m2 | D55: 414 | E55: 0.038 | F55: 66.44518 | G55: 16.827957 | H55: 31.130291 | I55: 72.186127 | J55: 59.979609 | K55: 74.615909 | L55: 19.687135 | M55: 38.178693 | N55: 82.215092 | O55: 67.368306
A56: Elektriciteit | B56: Bedrijfshal uitsluitend maakindustrie | C56: tot 50 m2 | D56: 86 | E56: 0.004 | F56: 118.92847 | G56: 26.697222 | H56: 53.48173 | I56: 182.62179 | J56: 112.48307 | K56: 140.29684 | L56: 29.103759 | M56: 58.465986 | N56: 188.00241 | O56: 136.25426
A57: Elektriciteit | B57: Bedrijfshal uitsluitend maakindustrie | C57: 50 tot 100 m2 | D57: 504 | E57: 0.026 | F57: 55.512317 | G57: 13.984463 | H57: 28.796617 | I57: 60.331833 | J57: 53.276508 | K57: 61.97304 | L57: 14.299336 | M57: 30.882012 | N57: 63.430348 | O57: 59.834691
A58: Elektriciteit | B58: Bedrijfshal uitsluitend maakindustrie | C58: 100 tot 250 m2 | D58: 2431 | E58: 0.125 | F58: 39.810043 | G58: 12.796026 | H58: 22.2 | I58: 40.288403 | J58: 39.555325 | K58: 44.593127 | L58: 13.603994 | M58: 24.26 | N58: 44.775714 | O58: 44.435791
A59: Elektriciteit | B59: Bedrijfshal uitsluitend maakindustrie | C59: 250 tot 500 m2 | D59: 3363 | E59: 0.173 | F59: 37.893051 | G59: 13.111807 | H59: 21.875 | I59: 37.434129 | J59: 38.126231 | K59: 42.551015 | L59: 14.813162 | M59: 25.012136 | N59: 44.053 | O59: 42.823319
... A71: Elektriciteit | B71: Bedrijfswoning | C71: 2500 tot 5000 m2 | D71: 277 | E71: 0.004 | F71: 35.162418 | G71: 10.882174 | H71: 20.207608 | I71: 38.385903 | J71: 36.133626 | K71: 40.951455 | L71: 13.315243 | M71: 26.386056 | N71: 50.504365 | O71: 42.303226
A72: Elektriciteit | B72: Bedrijfswoning | C72: 5000 tot 10000 m2 | D72: 32 | E72: 0 | F72: 35.899707 | H72: 19.121981 | J72: 34.771347 | K72: 39.905339 | M72: 20.15325 | O72: 38.539078
A73: Elektriciteit | B73: Bedrijfswoning | C73: vanaf 10000 m2 | D73: 25 | E73: 0 | F73: 64.565665 | H73: 49.585184 | J73: 74.643213 | K73: 74.939874 | M73: 49.585184 | O73: 82.414205
A74: Elektriciteit | B74: Bijeenkomstgebouw (niet nader ingedeeld) | C74: tot 50 m2 | D74: 216 | E74: 0.023 | F74: 85.664728 | G74: 19.915923 | H74: 53.793182 | I74: 130.28765 | J74: 81.381165 | K74: 93.986536 | L74: 23.306424 | M74: 56.410282 | N74: 139.92445 | O74: 89.948388
A75: Elektriciteit | B75: Bijeenkomstgebouw (niet nader ingedeeld) | C75: 50 tot 100 m2 | D75: 943 | E75: 0.099 | F75: 63.140829 | G75: 15.26898 | H75: 36.046875 | I75: 84.698685 | J75: 63.201086 | K75: 68.872207 | L75: 15.656818 | M75: 37.769231 | N75: 93.357982 | O75: 68.886064
A76: Elektriciteit | B76: Bijeenkomstgebouw (niet nader ingedeeld) | C76: 100 tot 250 m2 | D76: 2896 | E76: 0.304 | F76: 46.445833 | G76: 12.135524 | H76: 23.030128 | I76: 50.643935 | J76: 45.85465 | K76: 50.522389 | L76: 13.059622 | M76: 25.584728 | N76: 58.316712 | O76: 49.986402
A77: Elektriciteit | B77: Bijeenkomstgebouw (niet nader ingedeeld) | C77: 250 tot 500 m2 | D77: 2654 | E77: 0.278 | F77: 40.367097 | G77: 12.083546 | H77: 21.98272 | I77: 43.951216 | J77: 40.414214 | K77: 44.455153 | L77: 13.374213 | M77: 24.898485 | N77: 49.701034 | O77: 44.567839
A78: Elektriciteit | B78: Bijeenkomstgebouw (niet nader ingedeeld) | C78: 500 tot 1000 m2 | D78: 1665 | E78: 0.175 | F78: 42.927282 | G78: 13.050874 | H78: 24.464286 | I78: 46.206858 | J78: 42.944261 | K78: 46.369439 | L78: 14.861751 | M78: 27.709497 | N78: 50.658436 | O78: 46.310574
A79: Elektriciteit | B79: Bijeenkomstgebouw (niet nader ingedeeld) | C79: 1000 tot 2500 m2 | D79: 865 | E79: 0.091 | F79: 47.146316 | G79: 16.040394 | H79: 28.920279 | I79: 55.677706 | J79: 48.243891 | K79: 50.27613 | L79: 18.368034 | M79: 31.773061 | N79: 62.912873 | O79: 51.480736
A80: Elektriciteit | B80: Bijeenkomstgebouw (niet nader ingedeeld) | C80: 2500 tot 5000 m2 | D80: 200 | E80: 0.021 | F80: 56.440144 | G80: 16.02588 | H80: 35.474377 | I80: 80.985384 | J80: 56.017673 | K80: 58.984791 | L80: 18.354114 | M80: 40.757408 | N80: 83.007513 | O80: 58.539928
A81: Elektriciteit | B81: Bijeenkomstgebouw (niet nader ingedeeld) | C81: 5000 tot 10000 m2 | D81: 64 | E81: 0.007 | F81: 48.647632 | G81: 14.714475 | H81: 33.217332 | I81: 62.516918 | J81: 53.136202 | K81: 51.718582 | L81: 15.041711 | M81: 36.686854 | N81: 69.159151 | O81: 55.976596
A82: Elektriciteit | B82: Bijeenkomstgebouw (niet nader ingedeeld) | C82: vanaf 10000 m2 | D82: 27 | E82: 0.003 | F82: 76.397431 | H82: 71.525932 | J82: 76.385297 | K82: 77.62454 | M82: 71.525932 | O82: 77.525813
A83: Elektriciteit | B83: Campusgebouw | C83: tot 1000 m2 | D83: 18 | E83: 0.157 | F83: 99.395856 | J83: 98.547337 | K83: 105.42924 | O83: 105.251
A84: Elektriciteit | B84: Campusgebouw | C84: 1000 tot 2500 m2 | D84: 14 | E84: 0.122 | F84: 82.382279 | J84: 88.016745 | K84: 84.626314 | O84: 89.807042
A85: Elektriciteit | B85: Campusgebouw | C85: 2500 tot 5000 m2 | D85: 19 | E85: 0.165 | F85: 95.600691 | J85: 94.204542 | K85: 101.2311 | O85: 99.610618
A86: Elektriciteit | B86: Campusgebouw | C86: 5000 tot 10000 m2 | D86: 28 | E86: 0.243 | F86: 81.852589 | H86: 57.19101 | J86: 80.525413 | K86: 85.109796 | M86: 62.06191 | O86: 83.680586
A87: Elektriciteit | B87: Campusgebouw | C87: vanaf 10000 m2 | D87: 36 | E87: 0.313 | F87: 96.870759 | H87: 60.564846 | J87: 67.852351 | K87: 99.970395 | M87: 60.628383 | O87: 70.042973
A88: Elektriciteit | B88: Cultuurhuis | C88: tot 250 m2 | D88: 29 | E88: 0.05 | F88: 58.023858 | H88: 32.491667 | J88: 53.61773 | K88: 60.617074 | M88: 32.491667 | O88: 56.641398
A89: Elektriciteit | B89: Cultuurhuis | C89: 250 tot 500 m2 | D89: 67 | E89: 0.117 | F89: 43.107583 | G89: 22.125333 | H89: 31.658986 | I89: 51.330684 | J89: 43.051635 | K89: 46.363065 | L89: 22.709762 | M89: 35.043771 | N89: 59.940407 | O89: 46.2139
A90: Elektriciteit | B90: Cultuurhuis | C90: 500 tot 1000 m2 | D90: 118 | E90: 0.205 | F90: 41.737232 | G90: 18.477241 | H90: 26.288695 | I90: 56.532003 | J90: 41.655007 | K90: 43.758278 | L90: 19.299083 | M90: 28.024731 | N90: 58.408475 | O90: 43.905256
A91: Elektriciteit | B91: Cultuurhuis | C91: 1000 tot 2500 m2 | D91: 162 | E91: 0.282 | F91: 59.659598 | G91: 27.722318 | H91: 45.02496 | I91: 76.40142 | J91: 60.666576 | K91: 62.322171 | L91: 28.458074 | M91: 46.836007 | N91: 83.479462 | O91: 63.156797
A92: Elektriciteit | B92: Cultuurhuis | C92: 2500 tot 5000 m2 | D92: 88 | E92: 0.153 | F92: 56.174238 | G92: 30.065725 | H92: 44.638228 | I92: 73.286356 | J92: 55.944774 | K92: 58.584297 | L92: 31.468599 | M92: 45.482824 | N92: 80.794227 | O92: 58.566413
A93: Elektriciteit | B93: Cultuurhuis | C93: 5000 tot 10000 m2 | D93: 60 | E93: 0.104 | F93: 71.956636 | G93: 42.545355 | H93: 65.632855 | I93: 93.963041 | J93: 72.384649 | K93: 74.622909 | L93: 45.717385 | M93: 69.355302 | N93: 100.58908 | O93: 74.763266
A94: Elektriciteit | B94: Cultuurhuis | C94: vanaf 10000 m2 | D94: 51 | E94: 0.089 | F94: 54.058558 | G94: 27.810209 | H94: 44.741638 | I94: 71.188406 | J94: 46.006027 | K94: 55.881789 | L94: 28.887084 | M94: 45.781696 | N94: 71.188406 | O94: 47.353024
A95: Elektriciteit | B95: Gebedshuis | C95: tot 100 m2 | D95: 40 | E95: 0.011 | F95: 23.567329 | G95: 10.95008 | H95: 23.413152 | I95: 36.859996 | J95: 23.406281 | K95: 24.599434 | L95: 10.95008 | M95: 23.413152 | N95: 36.859996 | O95: 24.490478
A96: Elektriciteit | B96: Gebedshuis | C96: 100 tot 250 m2 | D96: 394 | E96: 0.112 | F96: 16.31602 | G96: 8.3656898 | H96: 12.249528 | I96: 20.815982 | J96: 16.270841 | K96: 17.482554 | L96: 8.4793773 | M96: 12.767921 | N96: 21.5951 | O96: 17.535272
A97: Elektriciteit | B97: Gebedshuis | C97: 250 tot 500 m2 | D97: 919 | E97: 0.26 | F97: 16.100973 | G97: 8.796344 | H97: 13.232558 | I97: 20.75137 | J97: 15.939576 | K97: 17.525994 | L97: 9.1904462 | M97: 13.83 | N97: 22.69321 | O97: 17.335862
A98: Elektriciteit | B98: Gebedshuis | C98: 500 tot 1000 m2 | D98: 1196 | E98: 0.339 | F98: 14.486985 | G98: 8.2913486 | H98: 11.728648 | I98: 17.58102 | J98: 14.447536 | K98: 16.548942 | L98: 9.0155523 | M98: 13.140395 | N98: 20.282617 | O98: 16.508587
A99: Elektriciteit | B99: Gebedshuis | C99: 1000 tot 2500 m2 | D99: 820 | E99: 0.232 | F99: 14.459673 | G99: 7.8733504 | H99: 11.503067 | I99: 18.665225 | J99: 14.714291 | K99: 16.602118 | L99: 8.8610184 | M99: 12.869838 | N99: 21.310851 | O99: 16.832777
A100: Elektriciteit | B100: Gebedshuis | C100: 2500 tot 5000 m2 | D100: 111 | E100: 0.031 | F100: 19.43855 | G100: 8.9900929 | H100: 16.430063 | I100: 26.355525 | J100: 20.0975 | K100: 21.330324 | L100: 9.1457664 | M100: 18.854471 | N100: 29.685327 | O100: 22.039389
A101: Elektriciteit | B101: Gebedshuis | C101: 5000 tot 10000 m2 | D101: 34 | E101: 0.01 | F101: 20.993469 | H101: 19.654411 | J101: 21.059267 | K101: 22.594501 | M101: 22.500421 | O101: 22.577925
A102: Elektriciteit | B102: Gebedshuis | C102: vanaf 10000 m2 | D102: 16 | E102: 0.005 | F102: 25.820305 | J102: 24.32626 | K102: 28.048565 | O102: 26.600715
A103: Elektriciteit | B103: Gebouw bij spooremplacement | C103: tot 500 m2 | D103: 18 | E103: 0.254 | F103: 82.604901 | J103: 52.019831 | K103: 82.604901 | O103: 52.019831
A104: Elektriciteit | B104: Gebouw bij spooremplacement | C104: 500 tot 2500 m2 | D104: 22 | E104: 0.31 | F104: 60.396381 | H104: 39.189498 | J104: 56.124591 | K104: 70.356674 | M104: 42.137724 | O104: 61.958725
A105: Elektriciteit | B105: Gebouw bij spooremplacement | C105: 2500 tot 5000 m2 | D105: 14 | E105: 0.197 | F105: 74.034592 | J105: 74.378975 | K105: 74.034592 | O105: 74.378975
A106: Elektriciteit | B106: Gebouw bij spooremplacement | C106: vanaf 5000 m2 | D106: 17 | E106: 0.239 | F106: 44.10634 | J106: 52.779904 | K106: 46.968916 | O106: 54.097361
A107: Elektriciteit | B107: Gebouw bij vliegveld of luchthaven | C107: tot 250 m2 | D107: 21 | E107: 0.134 | F107: 64.13417 | H107: 40.304688 | J107: 58.299342 | K107: 81.97148 | M107: 72.3125 | O107: 68.036184
A108: Elektriciteit | B108: Gebouw bij vliegveld of luchthaven | C108: 250 tot 500 m2 | D108: 19 | E108: 0.121 | F108: 40.723574 | J108: 40.326336 | K108: 41.097295 | O108: 40.721643
A109: Elektriciteit | B109: Gebouw bij vliegveld of luchthaven | C109: 500 tot 1000 m2 | D109: 40 | E109: 0.255 | F109: 26.761822 | G109: 9.8479798 | H109: 15.300569 | I109: 33.366256 | J109: 27.124987 | K109: 30.073922 | L109: 9.8479798 | M109: 19.223293 | N109: 34.839317 | O109: 30.514583
A110: Elektriciteit | B110: Gebouw bij vliegveld of luchthaven | C110: 1000 tot 2500 m2 | D110: 34 | E110: 0.217 | F110: 44.227481 | H110: 21.819082 | J110: 48.551525 | K110: 45.775191 | M110: 31.557079 | O110: 49.894922
A111: Elektriciteit | B111: Gebouw bij vliegveld of luchthaven | C111: 2500 tot 5000 m2 | D111: 23 | E111: 0.146 | F111: 59.405767 | H111: 32.282897 | J111: 58.874235 | K111: 65.326621 | M111: 37.977055 | O111: 65.119485
A112: Elektriciteit | B112: Gebouw bij vliegveld of luchthaven | C112: 5000 tot 10000 m2 | D112: 10 | E112: 0.064 | F112: 85.672182 | J112: 80.328336 | K112: 90.612582 | O112: 85.645336
A113: Elektriciteit | B113: Gebouw bij vliegveld of luchthaven | C113: vanaf 10000 m2 | D113: 10 | E113: 0.064 | F113: 73.468906 | J113: 70.693763 | K113: 74.404234 | O113: 72.036626
A114: Elektriciteit | B114: Gebouw in landelijk gebied voor industrie (geen landbouwactiviteiten geregistreerd) | C114: tot 50 m2 | D114: 102 | E114: 0.02 | F114: 83.066623 | G114: 24.230655 | H114: 54.837316 | I114: 119.90909 | J114: 81.358601 | K114: 91.597224 | L114: 24.984537 | M114: 54.837316 | N114: 121.09517 | O114: 89.507594
A115: Elektriciteit | B115: Gebouw in landelijk gebied voor industrie (geen landbouwactiviteiten geregistreerd) | C115: 50 tot 100 m2 | D115: 281 | E115: 0.056 | F115: 64.463446 | G115: 16.318681 | H115: 37.928571 | I115: 76.852941 | J115: 64.255306 | K115: 72.654832 | L115: 17.442308 | M115: 41.035714 | N115: 82.892857 | O115: 73.22163
A116: Elektriciteit | B116: Gebouw in landelijk gebied voor industrie (geen landbouwactiviteiten geregistreerd) | C116: 100 tot 250 m2 | D116: 940 | E116: 0.186 | F116: 47.806077 | G116: 13.075122 | H116: 25.45 | I116: 57.204148 | J116: 46.838169 | K116: 72.451317 | L116: 14.177949 | M116: 28.832296 | N116: 67.242436 | O116: 73.486111
A117: Elektriciteit | B117: Gebouw in landelijk gebied voor industrie (geen landbouwactiviteiten geregistreerd) | C117: 250 tot 500 m2 | D117: 991 | E117: 0.196 | F117: 43.069657 | G117: 12.116915 | H117: 25.238671 | I117: 50.093491 | J117: 43.032311 | K117: 52.077003 | L117: 13.760284 | M117: 29.819838 | N117: 62.173891 | O117: 52.228492
A118: Elektriciteit | B118: Gebouw in landelijk gebied voor industrie (geen landbouwactiviteiten geregistreerd) | C118: 500 tot 1000 m2 | D118: 1090 | E118: 0.216 | F118: 36.710476 | G118: 11.042115 | H118: 20.878284 | I118: 42.207122 | J118: 36.898814 | K118: 63.079281 | L118: 13.08358 | M118: 25.315362 | N118: 49.838519 | O118: 60.391029
A119: Elektriciteit | B119: Gebouw in landelijk gebied voor industrie (geen landbouwactiviteiten geregistreerd) | C119: 1000 tot 2500 m2 | D119: 1074 | E119: 0.213 | F119: 36.263804 | G119: 10.984685 | H119: 20.484931 | I119: 41.327891 | J119: 35.906864 | K119: 45.758282 | L119: 13.75335 | M119: 24.866413 | N119: 52.471112 | O119: 45.340795
A120: Elektriciteit | B120: Gebouw in landelijk gebied voor industrie (geen landbouwactiviteiten geregistreerd) | C120: 2500 tot 5000 m2 | D120: 360 | E120: 0.071 | F120: 40.217756 | G120: 11.783154 | H120: 20.527842 | I120: 45.819639 | J120: 40.537262 | K120: 52.818132 | L120: 14.08638 | M120: 26.283654 | N120: 55.438691 | O120: 52.533613
A121: Elektriciteit | B121: Gebouw in landelijk gebied voor industrie (geen landbouwactiviteiten geregistreerd) | C121: 5000 tot 10000 m2 | D121: 165 | E121: 0.033 | F121: 53.079848 | G121: 13.861485 | H121: 31.582057 | I121: 67.318973 | J121: 55.076987 | K121: 64.214351 | L121: 19.462537 | M121: 42.158022 | N121: 81.623077 | O121: 66.417003
A122: Elektriciteit | B122: Gebouw in landelijk gebied voor industrie (geen landbouwactiviteiten geregistreerd) | C122: vanaf 10000 m2 | D122: 50 | E122: 0.01 | F122: 75.691402 | G122: 14.553879 | H122: 33.467154 | I122: 131.40841 | J122: 71.29346 | K122: 88.619009 | L122: 15.030484 | M122: 35.041491 | N122: 143.34578 | O122: 82.824095
A123: Elektriciteit | B123: Gebouw in stedelijk gebied met industriefunctie | C123: tot 50 m2 | D123: 580 | E123: 0.042 | F123: 89.761802 | G123: 13.348214 | H123: 38.703216 | I123: 119.39396 | J123: 86.103201 | K123: 100.48405 | L123: 13.774457 | M123: 41.169089 | N123: 132.5697 | O123: 96.389754
A124: Elektriciteit | B124: Gebouw in stedelijk gebied met industriefunctie | C124: 50 tot 100 m2 | D124: 1356 | E124: 0.099 | F124: 65.115287 | G124: 13.432359 | H124: 29.762644 | I124: 66.16094 | J124: 64.416275 | K124: 70.369153 | L124: 14.1555 | M124: 31.775681 | N124: 75.603553 | O124: 69.844187
A125: Elektriciteit | B125: Gebouw in stedelijk gebied met industriefunctie | C125: 100 tot 250 m2 | D125: 3468 | E125: 0.254 | F125: 55.661923 | G125: 12.54897 | H125: 24.758432 | I125: 54.302135 | J125: 54.981225 | K125: 60.610291 | L125: 13.495612 | M125: 27.797727 | N125: 61.10749 | O125: 59.991486
... A137: Elektriciteit | B137: Gebouw op vakantiepark | C137: 1000 tot 2500 m2 | D137: 156 | E137: 0.004 | F137: 52.343462 | G137: 16.090571 | H137: 31.451348 | I137: 74.861796 | J137: 52.248533 | K137: 61.669962 | L137: 19.104263 | M137: 41.094017 | N137: 80.753545 | O137: 61.573609
A138: Elektriciteit | B138: Gebouw op vakantiepark | C138: vanaf 2500 m2 | D138: 30 | E138: 0.001 | F138: 68.634555 | H138: 47.51823 | J138: 70.25471 | K138: 74.220954 | M138: 49.771791 | O138: 77.499182
A139: Elektriciteit | B139: Gebouw voor landbouwactiviteiten | C139: tot 50 m2 | D139: 25 | E139: 0.01 | F139: 194.19164 | H139: 153.83333 | J139: 169.35328 | K139: 250.78714 | M139: 159.3 | O139: 226.57377
A140: Elektriciteit | B140: Gebouw voor landbouwactiviteiten | C140: 50 tot 100 m2 | D140: 85 | E140: 0.035 | F140: 135.78672 | G140: 29.938144 | H140: 77.916667 | I140: 188.69737 | J140: 128.21061 | K140: 170.53984 | L140: 37.134146 | M140: 93.712766 | N140: 207.72 | O140: 165.26383
A141: Elektriciteit | B141: Gebouw voor landbouwactiviteiten | C141: 100 tot 250 m2 | D141: 929 | E141: 0.378 | F141: 104.02251 | G141: 23.827381 | H141: 45.552941 | I141: 105.59394 | J141: 104.69842 | K141: 131.79637 | L141: 28.358289 | M141: 55.313043 | N141: 137.77778 | O141: 129.79759
A142: Elektriciteit | B142: Gebouw voor landbouwactiviteiten | C142: 250 tot 500 m2 | D142: 348 | E142: 0.142 | F142: 90.047858 | G142: 17.444942 | H142: 39.059704 | I142: 100.83191 | J142: 91.081058 | K142: 108.86284 | L142: 20.297234 | M142: 46.186805 | N142: 118.14443 | O142: 109.9117
A143: Elektriciteit | B143: Gebouw voor landbouwactiviteiten | C143: 500 tot 1000 m2 | D143: 320 | E143: 0.13 | F143: 112.01979 | G143: 14.839179 | H143: 41.99576 | I143: 150.47328 | J143: 115.25615 | K143: 131.83214 | L143: 17.580486 | M143: 47.817508 | N143: 176.79781 | O143: 136.46593
...

Sheet elek_kental_label_2024
A1: Energiedrager | B1: Gebouwtype | C1: Labelklasse | D1: Aantal panden | E1: Aandeel panden per gebouwtype | F1: Gemiddelde kental (kWh/m2) | G1: Q1 kental (kWh/m2) | H1: Mediaan kental (kWh/m2) | I1: Q3 kental (kWh/m2) | J1: Gewogen gemiddelde kental (kWh/m2) | K1: Gemiddelde kental inclusief eigenverbruik zonnestroom (kWh/m2) | L1: Q1 kental inclusief eigenverbruik zonnestroom (kWh/m2) | M1: Mediaan kental inclusief eigenverbruik zonnestroom (kWh/m2) | N1: Q3 kental inclusief eigenverbruik zonnestroom (kWh/m2) | O1: Gewogen gemiddelde kental inclusief eigenverbruik zonnestroom (kWh/m2)
A2: Elektriciteit | B2: Basisschool | C2: G | D2: 150 | E2: 0.09 | F2: 19.537268 | G2: 13.411248 | H2: 17.418172 | I2: 22.587835 | J2: 18.567463 | K2: 20.57276 | L2: 14.017224 | M2: 18.485465 | N2: 24.269532 | O2: 19.393365
A3: Elektriciteit | B3: Basisschool | C3: F | D3: 71 | E3: 0.043 | F3: 19.649315 | G3: 13.184066 | H3: 17.831721 | I3: 23.281504 | J3: 18.647977 | K3: 20.878056 | L3: 14.757757 | M3: 18.496575 | N3: 24.032056 | O3: 20.258966
A4: Elektriciteit | B4: Basisschool | C4: E | D4: 93 | E4: 0.056 | F4: 19.488738 | G4: 15.26384 | H4: 17.867903 | I4: 24.270396 | J4: 17.876112 | K4: 21.423854 | L4: 16.213885 | M4: 19.024357 | N4: 25.243531 | O4: 19.28565
A5: Elektriciteit | B5: Basisschool | C5: D | D5: 154 | E5: 0.092 | F5: 20.275235 | G5: 13.519103 | H5: 18.261805 | I5: 24.12937 | J5: 19.710652 | K5: 22.571936 | L5: 15.261004 | M5: 20.288329 | N5: 27.138926 | O5: 21.838355
A6: Elektriciteit | B6: Basisschool | C6: C | D6: 204 | E6: 0.122 | F6: 22.768548 | G6: 15.093539 | H6: 20.067862 | I6: 27.190134 | J6: 22.265938 | K6: 25.093382 | L6: 16.362974 | M6: 21.244032 | N6: 29.894523 | O6: 24.187192
A7: Elektriciteit | B7: Basisschool | C7: B | D7: 135 | E7: 0.081 | F7: 23.61669 | G7: 14.294341 | H7: 21.152087 | I7: 29.569922 | J7: 24.787769 | K7: 27.561706 | L7: 18.69657 | M7: 24.34599 | N7: 31.937012 | O7: 27.469585
A8: Elektriciteit | B8: Basisschool | C8: A en beter | D8: 861 | E8: 0.516 | F8: 33.947744 | G8: 21.90854 | H8: 32.01165 | I8: 43.788056 | J8: 34.46406 | K8: 39.186267 | L8: 25.125152 | M8: 36.482475 | N8: 50.311407 | O8: 38.524991
A9: Elektriciteit | B9: Bijeenkomstgebouw (niet nader ingedeeld) | C9: G | D9: 482 | E9: 0.185 | F9: 44.498722 | G9: 13.006384 | H9: 23.831593 | I9: 51.518547 | J9: 44.740824 | K9: 46.19375 | L9: 13.328392 | M9: 24.626149 | N9: 54.98425 | O9: 45.962508
A10: Elektriciteit | B10: Bijeenkomstgebouw (niet nader ingedeeld) | C10: F | D10: 130 | E10: 0.05 | F10: 46.274932 | G10: 14.168133 | H10: 25.212456 | I10: 54.064244 | J10: 43.615866 | K10: 48.297477 | L10: 15.643703 | M10: 26.872426 | N10: 54.985542 | O10: 45.811141
A11: Elektriciteit | B11: Bijeenkomstgebouw (niet nader ingedeeld) | C11: E | D11: 195 | E11: 0.075 | F11: 54.103736 | G11: 15.056041 | H11: 29.724528 | I11: 61.049348 | J11: 48.649828 | K11: 59.173136 | L11: 17.517023 | M11: 32.833031 | N11: 65.21974 | O11: 51.963031
A12: Elektriciteit | B12: Bijeenkomstgebouw (niet nader ingedeeld) | C12: D | D12: 237 | E12: 0.091 | F12: 52.30158 | G12: 16.291866 | H12: 30.65 | I12: 63.830846 | J12: 68.332787 | K12: 55.061409 | L12: 17.04878 | M12: 33.280193 | N12: 66.899378 | O12: 69.900468
A13: Elektriciteit | B13: Bijeenkomstgebouw (niet nader ingedeeld) | C13: C | D13: 331 | E13: 0.127 | F13: 47.277213 | G13: 16.024001 | H13: 26.278481 | I13: 52.066983 | J13: 45.722504 | K13: 49.670242 | L13: 17.338157 | M13: 29.321185 | N13: 56.176698 | O13: 47.803008
... A15: Elektriciteit | B15: Bijeenkomstgebouw (niet nader ingedeeld) | C15: A en beter | D15: 998 | E15: 0.382 | F15: 56.88126 | G15: 19.551518 | H15: 34.330701 | I15: 68.688537 | J15: 61.39759 | K15: 61.974435 | L15: 21.925831 | M15: 38.671306 | N15: 76.341571 | O15: 65.854945
A16: Elektriciteit | B16: Cultuurhuis | C16: G | D16: 24 | E16: 0.083 | F16: 43.210658 | H16: 44.53365 | J16: 27.921769 | K16: 45.367701 | M16: 44.9447 | O16: 28.363239
A17: Elektriciteit | B17: Cultuurhuis | C17: F en E | D17: 27 | E17: 0.094 | F17: 61.330182 | H17: 48.228297 | J17: 70.417366 | K17: 62.150298 | M17: 51.989189 | O17: 70.919018
A18: Elektriciteit | B18: Cultuurhuis | C18: D | D18: 22 | E18: 0.076 | F18: 52.482668 | H18: 39.778591 | J18: 53.345358 | K18: 52.798653 | M18: 39.778591 | O18: 54.020492
A19: Elektriciteit | B19: Cultuurhuis | C19: C | D19: 39 | E19: 0.135 | F19: 50.475443 | H19: 37.754237 | J19: 56.488813 | K19: 53.147161 | M19: 40.74034 | O19: 58.142163
A20: Elektriciteit | B20: Cultuurhuis | C20: B | D20: 33 | E20: 0.115 | F20: 44.390881 | H20: 33.299663 | J20: 66.818988 | K20: 46.967402 | M20: 37.970282 | O20: 69.520736
A21: Elektriciteit | B21: Cultuurhuis | C21: A en beter | D21: 143 | E21: 0.497 | F21: 61.419473 | G21: 31.743675 | H21: 51.878261 | I21: 82.832736 | J21: 57.26895 | K21: 64.673606 | L21: 34.649693 | M21: 53.199764 | N21: 88.914012 | O21: 59.106245
A22: Elektriciteit | B22: Gebedshuis | C22: G | D22: 44 | E22: 0.147 | F22: 16.746906 | G22: 9.146705 | H22: 13.104012 | I22: 21.773372 | J22: 16.35875 | K22: 17.715072 | L22: 10.031509 | M22: 14.421784 | N22: 21.773372 | O22: 17.553637
A23: Elektriciteit | B23: Gebedshuis | C23: F | D23: 22 | E23: 0.074 | F23: 15.278786 | H23: 15.280695 | J23: 12.909132 | K23: 15.887862 | M23: 15.280695 | O23: 13.232801
A24: Elektriciteit | B24: Gebedshuis | C24: E | D24: 20 | E24: 0.067 | F24: 20.348838 | H24: 16.784995 | J24: 27.381656 | K24: 21.48377 | M24: 19.253218 | O24: 27.72969
A25: Elektriciteit | B25: Gebedshuis | C25: D | D25: 34 | E25: 0.114 | F25: 19.164747 | H25: 15.857533 | J25: 16.158511 | K25: 21.099137 | M25: 16.614889 | O25: 17.624306
A26: Elektriciteit | B26: Gebedshuis | C26: C | D26: 44 | E26: 0.147 | F26: 21.029493 | G26: 13.462149 | H26: 19.012893 | I26: 27.701669 | J26: 25.470848 | K26: 26.547189 | L26: 15.928772 | M26: 25.912597 | N26: 33.669948 | O26: 28.537113
A27: Elektriciteit | B27: Gebedshuis | C27: B | D27: 37 | E27: 0.124 | F27: 22.354947 | H27: 22.402314 | J27: 23.13949 | K27: 24.292744 | M27: 23.348015 | O27: 25.132986
A28: Elektriciteit | B28: Gebedshuis | C28: A en beter | D28: 98 | E28: 0.328 | F28: 26.335371 | G28: 15.481676 | H28: 26.355525 | I28: 35.915069 | J28: 25.866613 | K28: 28.829723 | L28: 20.624766 | M28: 28.894987 | N28: 38.196327 | O28: 28.24315
A29: Elektriciteit | B29: Gebouw op vakantiepark | C29: G | D29: 639 | E29: 0.035 | F29: 32.262513 | G29: 12.472687 | H29: 19.835821 | I29: 37.886348 | J29: 41.186484 | K29: 36.634619 | L29: 12.810373 | M29: 21.101124 | N29: 43.889706 | O29: 48.371196
A30: Elektriciteit | B30: Gebouw op vakantiepark | C30: F | D30: 521 | E30: 0.028 | F30: 31.832146 | G30: 12.263889 | H30: 18 | I30: 37.261538 | J30: 36.082331 | K30: 35.0142 | L30: 12.448276 | M30: 19.270833 | N30: 42.169697 | O30: 41.355866
A31: Elektriciteit | B31: Gebouw op vakantiepark | C31: E | D31: 754 | E31: 0.041 | F31: 24.358894 | G31: 11.248413 | H31: 16.077074 | I31: 25.910606 | J31: 27.312415 | K31: 26.791888 | L31: 11.503049 | M31: 16.666048 | N31: 28.356908 | O31: 30.594199
A32: Elektriciteit | B32: Gebouw op vakantiepark | C32: D | D32: 1312 | E32: 0.072 | F32: 25.732815 | G32: 11.575152 | H32: 16.725 | I32: 28.908934 | J32: 27.943908 | K32: 29.021879 | L32: 12.297273 | M32: 18.21464 | N32: 32.124513 | O32: 32.252734
A33: Elektriciteit | B33: Gebouw op vakantiepark | C33: C | D33: 4982 | E33: 0.272 | F33: 21.511945 | G33: 11.179108 | H33: 15.291941 | I33: 22.742857 | J33: 24.578753 | K33: 23.876194 | L33: 11.693799 | M33: 16.191159 | N33: 24.569391 | O33: 27.139231
A34: Elektriciteit | B34: Gebouw op vakantiepark | C34: B | D34: 4418 | E34: 0.241 | F34: 20.945204 | G34: 11.693011 | H34: 16.351515 | I34: 22.752717 | J34: 23.127388 | K34: 23.337058 | L34: 12.594755 | M34: 17.586252 | N34: 25.061172 | O34: 25.612105
A35: Elektriciteit | B35: Gebouw op vakantiepark | C35: A en beter | D35: 5670 | E35: 0.31 | F35: 33.710261 | G35: 13.950403 | H35: 22.141534 | I35: 45.754775 | J35: 37.950502 | K35: 39.566578 | L35: 16.136942 | M35: 26.502222 | N35: 54.315527 | O35: 43.874674
A36: Elektriciteit | B36: Hotel (of ander groot logiesgebouw) | C36: G | D36: 180 | E36: 0.159 | F36: 61.319557 | G36: 22.006776 | H36: 52.8211 | I36: 79.662439 | J36: 68.00453 | K36: 63.658849 | L36: 23.744444 | M36: 53.16501 | N36: 84.355689 | O36: 69.61116
A37: Elektriciteit | B37: Hotel (of ander groot logiesgebouw) | C37: F | D37: 64 | E37: 0.056 | F37: 60.756458 | G37: 24.580621 | H37: 43.898737 | I37: 71.442056 | J37: 69.648607 | K37: 63.317097 | L37: 26.026806 | M37: 44.18983 | N37: 71.442056 | O37: 70.59895
A38: Elektriciteit | B38: Hotel (of ander groot logiesgebouw) | C38: E | D38: 89 | E38: 0.078 | F38: 61.19421 | G38: 27.536489 | H38: 47.854118 | I38: 83.771536 | J38: 63.629393 | K38: 62.310547 | L38: 29.652291 | M38: 49.67789 | N38: 84.218222 | O38: 63.875998
A39: Elektriciteit | B39: Hotel (of ander groot logiesgebouw) | C39: D | D39: 110 | E39: 0.097 | F39: 67.131553 | G39: 20.73041 | H39: 47.772079 | I39: 102.63593 | J39: 73.521325 | K39: 68.672325 | L39: 21.832856 | M39: 47.772079 | N39: 108.1373 | O39: 74.44701
... A50: Elektriciteit | B50: Kinderopvang (gebouw) | C50: G | D50: 120 | E50: 0.161 | F50: 26.689254 | G50: 18.519247 | H50: 23.621678 | I50: 31.305738 | J50: 26.787892 | K50: 27.644312 | L50: 18.944141 | M50: 24.644464 | N50: 32.124572 | O50: 27.694228
A51: Elektriciteit | B51: Kinderopvang (gebouw) | C51: F | D51: 28 | E51: 0.038 | F51: 30.729764 | H51: 28.630148 | J51: 31.69133 | K51: 32.472256 | M51: 29.291269 | O51: 33.77829
A52: Elektriciteit | B52: Kinderopvang (gebouw) | C52: E | D52: 41 | E52: 0.055 | F52: 27.613949 | G52: 18.550725 | H52: 26.657967 | I52: 31.319672 | J52: 30.11298 | K52: 29.993792 | L52: 19.862816 | M52: 28.908148 | N52: 33.849404 | O52: 32.783158
A53: Elektriciteit | B53: Kinderopvang (gebouw) | C53: D | D53: 72 | E53: 0.097 | F53: 32.186942 | G53: 19.793633 | H53: 28.957641 | I53: 37.229793 | J53: 29.487793 | K53: 34.521124 | L53: 19.793633 | M53: 30.123486 | N53: 41.020821 | O53: 32.062283
A54: Elektriciteit | B54: Kinderopvang (gebouw) | C54: C | D54: 97 | E54: 0.13 | F54: 31.037543 | G54: 19.200733 | H54: 27.130568 | I54: 37.355263 | J54: 30.991298 | K54: 32.322815 | L54: 19.893617 | M54: 28.181185 | N54: 37.355263 | O54: 32.031482
A55: Elektriciteit | B55: Kinderopvang (gebouw) | C55: B | D55: 70 | E55: 0.094 | F55: 32.954265 | G55: 19.733026 | H55: 30.48435 | I55: 39.427673 | J55: 30.486833 | K55: 34.83694 | L55: 25.051801 | M55: 31.230835 | N55: 39.904075 | O55: 32.770238
A56: Elektriciteit | B56: Kinderopvang (gebouw) | C56: A en beter | D56: 316 | E56: 0.425 | F56: 35.46016 | G56: 21.541461 | H56: 30.713805 | I56: 44.71895 | J56: 33.598649 | K56: 38.514252 | L56: 23.868697 | M56: 32.023159 | N56: 46.867254 | O56: 36.248338
A57: Elektriciteit | B57: Meergezinswoning met andere functie of combinatie van functies | C57: G | D57: 1389 | E57: 0.113 | F57: 33.079456 | G57: 16.378788 | H57: 24.473077 | I57: 38.913043 | J57: 31.591549 | K57: 34.858529 | L57: 17.092063 | M57: 25.742647 | N57: 41.003663 | O57: 33.07496
A58: Elektriciteit | B58: Meergezinswoning met andere functie of combinatie van functies | C58: F | D58: 810 | E58: 0.066 | F58: 32.674907 | G58: 16.819338 | H58: 23.856062 | I58: 36.339771 | J58: 34.882027 | K58: 33.80006 | L58: 17.600602 | M58: 24.334093 | N58: 37.530981 | O58: 36.22602
A59: Elektriciteit | B59: Meergezinswoning met andere functie of combinatie van functies | C59: E | D59: 1483 | E59: 0.121 | F59: 33.920114 | G59: 17.360931 | H59: 25.995272 | I59: 37.44908 | J59: 34.674851 | K59: 35.118489 | L59: 18.223456 | M59: 26.624309 | N59: 38.882849 | O59: 35.743649
A60: Elektriciteit | B60: Meergezinswoning met andere functie of combinatie van functies | C60: D | D60: 2139 | E60: 0.174 | F60: 33.217239 | G60: 17.949675 | H60: 24.575758 | I60: 36.061548 | J60: 34.5945 | K60: 34.309166 | L60: 18.806871 | M60: 25.514815 | N60: 37.134958 | O60: 35.67017
A61: Elektriciteit | B61: Meergezinswoning met andere functie of combinatie van functies | C61: C | D61: 2676 | E61: 0.218 | F61: 33.372399 | G61: 17.860593 | H61: 24.863458 | I61: 35.606885 | J61: 35.559086 | K61: 34.706713 | L61: 18.619972 | M61: 25.751178 | N61: 37.97528 | O61: 36.756171
A62: Elektriciteit | B62: Meergezinswoning met andere functie of combinatie van functies | C62: B | D62: 1934 | E62: 0.157 | F62: 33.995141 | G62: 18.081435 | H62: 25.707065 | I62: 38.328386 | J62: 36.443902 | K62: 35.198364 | L62: 19.078571 | M62: 26.711241 | N62: 39.859644 | O62: 38.206273
A63: Elektriciteit | B63: Meergezinswoning met andere functie of combinatie van functies | C63: A en beter | D63: 1853 | E63: 0.151 | F63: 39.416673 | G63: 19.545969 | H63: 29.310551 | I63: 46.103175 | J63: 46.893173 | K63: 42.317502 | L63: 21.242925 | M63: 31.824444 | N63: 49.183424 | O63: 49.183144
... A84: Elektriciteit | B84: Meergezinswoning met winkels en horeca | C84: A en beter | D84: 448 | E84: 0.211 | F84: 54.433849 | G84: 25.547957 | H84: 40.001938 | I84: 69.402696 | J84: 58.733374 | K84: 56.730553 | L84: 26.943295 | M84: 44.532239 | N84: 72.219413 | O84: 60.576337
A85: Elektriciteit | B85: Meergezinswoning met woonzorgeenheden | C85: G | D85: 12 | E85: 0.043 | F85: 29.215033 | J85: 30.451503 | K85: 31.771632 | O85: 32.644271
A86: Elektriciteit | B86: Meergezinswoning met woonzorgeenheden | C86: F | D86: 14 | E86: 0.05 | F86: 29.503618 | J86: 24.065593 | K86: 31.814628 | O86: 26.397759
A87: Elektriciteit | B87: Meergezinswoning met woonzorgeenheden | C87: E | D87: 22 | E87: 0.079 | F87: 28.060651 | H87: 20.813045 | J87: 28.2438 | K87: 31.376933 | M87: 27.064547 | O87: 32.1098
A88: Elektriciteit | B88: Meergezinswoning met woonzorgeenheden | C88: D | D88: 34 | E88: 0.122 | F88: 27.694235 | H88: 24.838552 | J88: 27.092464 | K88: 30.834745 | M88: 26.765636 | O88: 28.854791
A89: Elektriciteit | B89: Meergezinswoning met woonzorgeenheden | C89: C | D89: 60 | E89: 0.216 | F89: 30.529001 | G89: 18.309253 | H89: 25.551972 | I89: 41.990028 | J89: 29.530641 | K89: 33.151408 | L89: 20.60891 | M89: 27.343992 | N89: 43.017611 | O89: 33.643092
A90: Elektriciteit | B90: Meergezinswoning met woonzorgeenheden | C90: B | D90: 52 | E90: 0.187 | F90: 30.566039 | G90: 19.14004 | H90: 28.755375 | I90: 40.358362 | J90: 33.783371 | K90: 31.438894 | L90: 19.433944 | M90: 29.864194 | N90: 40.358362 | O90: 36.012981
A91: Elektriciteit | B91: Meergezinswoning met woonzorgeenheden | C91: A en beter | D91: 84 | E91: 0.302 | F91: 32.357265 | G91: 20.706994 | H91: 30.171166 | I91: 39.025431 | J91: 35.666992 | K91: 35.798537 | L91: 24.973318 | M91: 33.917013 | N91: 43.082962 | O91: 38.973401
A92: Elektriciteit | B92: Middelbare school | C92: G | D92: 38 | E92: 0.098 | F92: 27.138147 | H92: 22.197507 | J92: 25.619625 | K92: 31.019496 | M92: 25.803089 | O92: 28.652161
A93: Elektriciteit | B93: Middelbare school | C93: F | D93: 14 | E93: 0.036 | F93: 30.383154 | J93: 23.830774 | K93: 32.844636 | O93: 28.537922
A94: Elektriciteit | B94: Middelbare school | C94: E | D94: 21 | E94: 0.054 | F94: 29.390356 | H94: 23.254096 | J94: 28.129216 | K94: 31.358248 | M94: 27.994136 | O94: 30.592738
A95: Elektriciteit | B95: Middelbare school | C95: D | D95: 34 | E95: 0.088 | F95: 26.564626 | H95: 21.588119 | J95: 23.123436 | K95: 29.623625 | M95: 27.349847 | O95: 25.850534
A96: Elektriciteit | B96: Middelbare school | C96: C | D96: 47 | E96: 0.122 | F96: 39.547283 | G96: 20.985548 | H96: 31.304593 | I96: 47.536897 | J96: 33.837929 | K96: 41.492823 | L96: 25.399696 | M96: 33.642794 | N96: 47.581256 | O96: 36.234757
A97: Elektriciteit | B97: Middelbare school | C97: B | D97: 31 | E97: 0.08 | F97: 33.375525 | H97: 26.889227 | J97: 34.257791 | K97: 37.541721 | M97: 33.546075 | O97: 38.463908
A98: Elektriciteit | B98: Middelbare school | C98: A en beter | D98: 201 | E98: 0.521 | F98: 39.628875 | G98: 25.821275 | H98: 34.876466 | I98: 48.157229 | J98: 35.710344 | K98: 44.960901 | L98: 30.249711 | M98: 39.322519 | N98: 53.168806 | O98: 40.223575
A99: Elektriciteit | B99: Overig gebouw met maatschappelijke functie | C99: G | D99: 49 | E99: 0.198 | F99: 52.604299 | G99: 9.125 | H99: 27.8 | I99: 66.993671 | J99: 53.530772 | K99: 57.017991 | L99: 11.511905 | M99: 27.8 | N99: 66.993671 | O99: 54.895027
A100: Elektriciteit | B100: Overig gebouw met maatschappelijke functie | C100: F en E | D100: 22 | E100: 0.089 | F100: 52.717695 | H100: 28.543688 | J100: 47.469946 | K100: 55.732769 | M100: 28.543688 | O100: 48.211086
A101: Elektriciteit | B101: Overig gebouw met maatschappelijke functie | C101: D | D101: 16 | E101: 0.065 | F101: 71.391287 | J101: 87.00982 | K101: 72.216124 | O101: 87.613332
A102: Elektriciteit | B102: Overig gebouw met maatschappelijke functie | C102: C | D102: 31 | E102: 0.126 | F102: 86.243077 | H102: 53.417993 | J102: 170.63635 | K102: 87.499759 | M102: 53.417993 | O102: 170.82435
A103: Elektriciteit | B103: Overig gebouw met maatschappelijke functie | C103: B | D103: 35 | E103: 0.142 | F103: 71.902395 | H103: 57.524528 | J103: 67.357903 | K103: 72.828824 | M103: 57.524528 | O103: 68.868532
A104: Elektriciteit | B104: Overig gebouw met maatschappelijke functie | C104: A en beter | D104: 94 | E104: 0.381 | F104: 85.901621 | G104: 26.995956 | H104: 70.522739 | I104: 124.47677 | J104: 83.747368 | K104: 91.66881 | L104: 31.134751 | M104: 72.212306 | N104: 128.82933 | O104: 85.596014
A105: Elektriciteit | B105: Overig onderwijsgebouw | C105: G | D105: 254 | E105: 0.186 | F105: 23.558486 | G105: 11.787411 | H105: 18.534932 | I105: 27.385321 | J105: 24.979253 | K105: 24.524244 | L105: 12.140978 | M105: 19.142736 | N105: 28.179513 | O105: 25.61972
A106: Elektriciteit | B106: Overig onderwijsgebouw | C106: F | D106: 74 | E106: 0.054 | F106: 29.494672 | G106: 13.769598 | H106: 20.167752 | I106: 30.314213 | J106: 31.033394 | K106: 30.754689 | L106: 14.137329 | M106: 23.39238 | N106: 31.245652 | O106: 31.890943
A107: Elektriciteit | B107: Overig onderwijsgebouw | C107: E | D107: 113 | E107: 0.083 | F107: 23.451536 | G107: 13.616129 | H107: 19.656304 | I107: 28.963885 | J107: 25.550726 | K107: 26.541421 | L107: 14.302594 | M107: 20.33871 | N107: 29.712441 | O107: 27.324047
A108: Elektriciteit | B108: Overig onderwijsgebouw | C108: D | D108: 106 | E108: 0.078 | F108: 29.426716 | G108: 15.96509 | H108: 22.890401 | I108: 37.433486 | J108: 26.834348 | K108: 31.840156 | L108: 16.559153 | M108: 23.935677 | N108: 38.999684 | O108: 28.042469
A109: Elektriciteit | B109: Overig onderwijsgebouw | C109: C | D109: 173 | E109: 0.127 | F109: 29.995549 | G109: 16.613562 | H109: 25.189624 | I109: 37.391332 | J109: 33.226263 | K109: 31.719018 | L109: 17.275878 | M109: 25.284698 | N109: 40.366972 | O109: 35.454087
A110: Elektriciteit | B110: Overig onderwijsgebouw | C110: B | D110: 115 | E110: 0.084 | F110: 34.94406 | G110: 16.802493 | H110: 25.571429 | I110: 43.709924 | J110: 43.070919 | K110: 37.355217 | L110: 17.762541 | M110: 28.576085 | N110: 45.386778 | O110: 44.599486
A111: Elektriciteit | B111: Overig onderwijsgebouw | C111: A en beter | D111: 528 | E111: 0.387 | F111: 40.075992 | G111: 20.352223 | H111: 33.833462 | I111: 51.101041 | J111: 45.244595 | K111: 43.687941 | L111: 23.165764 | M111: 36.660795 | N111: 57.845372 | O111: 48.151763
A112: Elektriciteit | B112: Overig overheidsgebouw | C112: G | D112: 30 | E112: 0.042 | F112: 75.098616 | H112: 37.018646 | J112: 71.035539 | K112: 75.255607 | M112: 37.018646 | O112: 71.146458
A113: Elektriciteit | B113: Overig overheidsgebouw | C113: F | D113: 12 | E113: 0.017 | F113: 57.161019 | J113: 47.046473 | K113: 57.42115 | O113: 47.547594
A114: Elektriciteit | B114: Overig overheidsgebouw | C114: E | D114: 10 | E114: 0.014 | F114: 55.812561 | J114: 35.205136 | K114: 55.882231 | O114: 35.242873
A115: Elektriciteit | B115: Overig overheidsgebouw | C115: D | D115: 25 | E115: 0.035 | F115: 57.359574 | H115: 46.94359 | J115: 57.175675 | K115: 58.460073 | M115: 48.812821 | O115: 58.131606
A116: Elektriciteit | B116: Overig overheidsgebouw | C116: C | D116: 123 | E116: 0.172 | F116: 74.497273 | G116: 39.869272 | H116: 59.286722 | I116: 95.156571 | J116: 62.454823 | K116: 76.239169 | L116: 42.274502 | M116: 59.865065 | N116: 96.602226 | O116: 63.693975
A117: Elektriciteit | B117: Overig overheidsgebouw | C117: B | D117: 94 | E117: 0.131 | F117: 79.844652 | G117: 41.907953 | H117: 68.848073 | I117: 99.131109 | J117: 80.64589 | K117: 82.645432 | L117: 44.340828 | M117: 70.815864 | N117: 104.19825 | O117: 82.901222
A118: Elektriciteit | B118: Overig overheidsgebouw | C118: A en beter | D118: 422 | E118: 0.589 | F118: 72.766101 | G118: 40.443307 | H118: 61.269944 | I118: 89.47264 | J118: 66.058801 | K118: 76.951461 | L118: 43.772027 | M118: 67.424161 | N118: 94.000453 | O118: 68.566765
A119: Elektriciteit | B119: Overig sportgebouw | C119: G | D119: 256 | E119: 0.116 | F119: 31.878112 | G119: 12.274634 | H119: 19.995964 | I119: 32.43348 | J119: 29.677073 | K119: 34.356833 | L119: 12.972228 | M119: 20.783245 | N119: 35.168236 | O119: 32.643994
A120: Elektriciteit | B120: Overig sportgebouw | C120: F | D120: 80 | E120: 0.036 | F120: 40.256827 | G120: 13.952872 | H120: 23.140315 | I120: 52.067834 | J120: 35.858214 | K120: 43.479091 | L120: 14.638705 | M120: 25.596773 | N120: 54.964687 | O120: 38.007661
A121: Elektriciteit | B121: Overig sportgebouw | C121: E | D121: 123 | E121: 0.056 | F121: 35.238874 | G121: 13.247411 | H121: 21.468966 | I121: 40.76071 | J121: 33.825649 | K121: 38.16819 | L121: 13.615924 | M121: 24.577778 | N121: 46.399681 | O121: 36.727921
A122: Elektriciteit | B122: Overig sportgebouw | C122: D | D122: 148 | E122: 0.067 | F122: 42.378257 | G122: 15.31671 | H122: 28.758642 | I122: 48.940056 | J122: 40.980746 | K122: 49.341519 | L122: 17.340732 | M122: 30.41587 | N122: 52.37686 | O122: 43.752625
A123: Elektriciteit | B123: Overig sportgebouw | C123: C | D123: 248 | E123: 0.112 | F123: 44.803992 | G123: 16.297252 | H123: 29.286953 | I123: 54.760958 | J123: 54.724833 | K123: 49.100775 | L123: 18.340998 | M123: 33.081182 | N123: 61.331508 | O123: 59.127128
A124: Elektriciteit | B124: Overig sportgebouw | C124: B | D124: 213 | E124: 0.096 | F124: 44.594015 | G124: 17.24 | H124: 32.485742 | I124: 53.981314 | J124: 46.66273 | K124: 48.96918 | L124: 19.043958 | M124: 35.084637 | N124: 60.784628 | O124: 49.727843
A125: Elektriciteit | B125: Overig sportgebouw | C125: A en beter | D125: 1142 | E125: 0.517 | F125: 55.083591 | G125: 22.325522 | H125: 39.994194 | I125: 69.63134 | J125: 62.358657 | K125: 62.263769 | L125: 26.943392 | M125: 44.827744 | N125: 77.393734 | O125: 67.955371
A126: Elektriciteit | B126: Overig zorggebouw | C126: G | D126: 158 | E126: 0.078 | F126: 46.964056 | G126: 17.683813 | H126: 27.991347 | I126: 56.576734 | J126: 41.982493 | K126: 49.880789 | L126: 19.927686 | M126: 31.260874 | N126: 61.772764 | O126: 44.447998
A127: Elektriciteit | B127: Overig zorggebouw | C127: F | D127: 73 | E127: 0.036 | F127: 40.075652 | G127: 16.683794 | H127: 28.947368 | I127: 49.841667 | J127: 53.877186 | K127: 43.16143 | L127: 19.329091 | M127: 30.536105 | N127: 53.158974 | O127: 56.508217
... A133: Elektriciteit | B133: Pand met winkel en kantoor- en/of bijeenkomstfunctie | C133: G | D133: 68 | E133: 0.073 | F133: 82.827687 | G133: 30.398149 | H133: 51.109031 | I133: 124.14906 | J133: 62.737379 | K133: 83.695879 | L133: 31.479081 | M133: 58.960429 | N133: 124.14906 | O133: 66.934608
A134: Elektriciteit | B134: Pand met winkel en kantoor- en/of bijeenkomstfunctie | C134: F | D134: 19 | E134: 0.02 | F134: 65.621828 | J134: 61.974415 | K134: 66.108922 | O134: 63.079989
A135: Elektriciteit | B135: Pand met winkel en kantoor- en/of bijeenkomstfunctie | C135: E | D135: 52 | E135: 0.056 | F135: 93.672281 | G135: 27.020134 | H135: 58.957099 | I135: 117.90481 | J135: 51.835894 | K135: 93.773711 | L135: 27.020134 | M135: 58.957099 | N135: 117.90481 | O135: 51.935637
A136: Elektriciteit | B136: Pand met winkel en kantoor- en/of bijeenkomstfunctie | C136: D | D136: 49 | E136: 0.053 | F136: 69.320437 | G136: 24.858156 | H136: 52.272241 | I136: 111.26526 | J136: 45.591426 | K136: 73.692509 | L136: 26.219653 | M136: 52.272241 | N136: 124.65866 | O136: 54.657826
...

Sheet elek_kental_diensten_2024
A1: Energiedrager | B1: Gebouwtype | C1: Aantal panden | D1: Gemiddelde kental (kWh/m2) | E1: Q1 kental (kWh/m2) | F1: Mediaan kental (kWh/m2) | G1: Q3 kental (kWh/m2) | H1: Gewogen gemiddelde kental (kWh/m2) | I1: Gemiddelde kental inclusief eigenverbruik zonnestroom (kWh/m2) | J1: Q1 kental inclusief eigenverbruik zonnestroom (kWh/m2) | K1: Mediaan kental inclusief eigenverbruik zonnestroom (kWh/m2) | L1: Q3 kental inclusief eigenverbruik zonnestroom (kWh/m2) | M1: Gewogen gemiddelde kental inclusief eigenverbruik zonnestroom (kWh/m2)
A2: Elektriciteit | B2: Asielzoekerscentrum | C2: 48 | D2: 137.61039 | E2: 48.335444 | F2: 74.028755 | G2: 149.56689 | H2: 86.458173 | I2: 138.88666 | J2: 51.867237 | K2: 74.028755 | L2: 149.56689 | M2: 86.783357
A3: Elektriciteit | B3: Basisschool | C3: 4356 | D3: 24.008607 | E3: 14.757922 | F3: 20.496505 | G3: 29.426953 | H3: 24.203992 | I3: 27.721715 | J3: 17.184816 | K3: 22.930177 | L3: 34.301803 | M3: 27.717318
A4: Elektriciteit | B4: Bedrijfshal algemeen (geen LISA-informatie) | C4: 11071 | D4: 32.529378 | E4: 10.142857 | F4: 18.467783 | G4: 35.533962 | H4: 32.889145 | I4: 35.808092 | J4: 10.814742 | K4: 20.336758 | L4: 39.819915 | M4: 36.9263
A5: Elektriciteit | B5: Bedrijfshal algemeen (met LISA-informatie) | C5: 8520 | D5: 41.628115 | E5: 14.010858 | F5: 24.091098 | G5: 44.093937 | H5: 41.789957 | I5: 47.198541 | J5: 15.81211 | K5: 27.545104 | L5: 50.436427 | M5: 47.242646
A6: Elektriciteit | B6: Bedrijfshal met logistieke activiteiten | C6: 2141 | D6: 36.601944 | E6: 13.746835 | F6: 23.413842 | G6: 41.775018 | H6: 38.701619 | I6: 42.476017 | J6: 16.115546 | K6: 27.493151 | L6: 48.850502 | M6: 45.178971
A7: Elektriciteit | B7: Bedrijfshal met maakindustrie en andere economische activiteiten | C7: 1542 | D7: 35.896324 | E7: 14.644871 | F7: 24.824502 | G7: 42.168805 | H7: 39.831199 | I7: 41.32251 | J7: 16.579235 | K7: 28.792801 | L7: 48.349199 | M7: 45.377515
A8: Elektriciteit | B8: Bedrijfshal met maakindustrie en logistieke activiteiten | C8: 6493 | D8: 39.903154 | E8: 12.928492 | F8: 22.286913 | G8: 40.23956 | H8: 45.816821 | I8: 44.91948 | J8: 14.824 | K8: 25.383117 | L8: 45.266667 | M8: 51.55435
A9: Elektriciteit | B9: Bedrijfshal uitsluitend maakindustrie | C9: 7022 | D9: 37.516362 | E9: 14.195367 | F9: 24.239943 | G9: 42.7278 | H9: 43.356835 | I9: 42.750829 | J9: 15.966324 | K9: 27.554038 | L9: 48.2166 | M9: 48.958387
A10: Elektriciteit | B10: Bedrijfswoning | C10: 8738 | D10: 44.733076 | E10: 15.308234 | F10: 26.002273 | G10: 47.145448 | H10: 36.775638 | I10: 53.334828 | J10: 17.929271 | K10: 30.727082 | L10: 56.130676 | M10: 43.260801
A11: Elektriciteit | B11: Bijeenkomstgebouw (niet nader ingedeeld) | C11: 8373 | D11: 46.609431 | E11: 12.798913 | F11: 24.4875 | G11: 52.546154 | H11: 48.33882 | I11: 50.395551 | J11: 14.148387 | K11: 27.533858 | L11: 58.267139 | M11: 51.514325
A12: Elektriciteit | B12: Campusgebouw | C12: 76 | D12: 87.372275 | E12: 36.356845 | F12: 58.388801 | G12: 105.03562 | H12: 89.970534 | I12: 91.057728 | J12: 38.130641 | K12: 58.72389 | L12: 108.48869 | M12: 93.080073
A13: Elektriciteit | B13: Cultuurhuis | C13: 466 | D13: 53.328685 | E13: 22.591884 | F13: 39.203462 | G13: 70.871838 | H13: 56.235485 | I13: 55.817317 | J13: 24.128736 | K13: 43.634112 | L13: 76.712864 | M13: 58.055379
... A15: Elektriciteit | B15: Gebedshuis | C15: 2917 | D15: 14.806763 | E15: 8.1749271 | F15: 11.747036 | G15: 18.604965 | H15: 15.135326 | I15: 16.617753 | J15: 8.8169643 | K15: 12.952576 | L15: 21.091071 | M15: 17.239204
A16: Elektriciteit | B16: Gebouw bij militaire inrichting
A17: Elektriciteit | B17: Gebouw bij spooremplacement | C17: 31 | D17: 88.411926 | F17: 73.089789 | H17: 64.760055 | I17: 93.41846 | K17: 73.089789 | M17: 65.763987
A18: Elektriciteit | B18: Gebouw bij vliegveld of luchthaven | C18: 98 | D18: 50.185528 | E18: 11.301542 | F18: 29.387079 | G18: 78.530734 | H18: 51.472017 | I18: 55.915767 | J18: 14.282877 | K18: 32.324665 | L18: 86.947444 | M18: 53.916272
A19: Elektriciteit | B19: Gebouw in landelijk gebied voor industrie (geen landbouwactiviteiten geregistreerd) | C19: 2135 | D19: 41.053938 | E19: 11.476382 | F19: 22.450593 | G19: 46.942662 | H19: 36.33922 | I19: 47.882634 | J19: 13.149015 | K19: 26.294253 | L19: 54.91489 | M19: 43.597261
A20: Elektriciteit | B20: Gebouw in stedelijk gebied met industriefunctie | C20: 8339 | D20: 51.998092 | E20: 12.705704 | F20: 24.486301 | G20: 51.588624 | H20: 45.177039 | I20: 56.422497 | J20: 14.058081 | K20: 27.573529 | L20: 57.337255 | M20: 48.851385
A21: Elektriciteit | B21: Gebouw op snelwegverzorgingsplaats | C21: 124 | D21: 674.03898 | E21: 271.51928 | F21: 662.5004 | G21: 942.73978 | H21: 401.28199 | I21: 682.3922 | J21: 283.36228 | K21: 662.5004 | L21: 955.9232 | M21: 406.71047
A22: Elektriciteit | B22: Gebouw op vakantiepark | C22: 33996 | D22: 24.732779 | E22: 10.928247 | F22: 16.5 | G22: 27.402592 | H22: 28.806046 | I22: 27.726609 | J22: 11.620341 | K22: 17.842473 | L22: 31.160306 | M22: 32.522336
A23: Elektriciteit | B23: Gebouw voor landbouwactiviteiten | C23: 244 | D23: 68.991215 | E23: 13.523807 | F23: 29.796395 | G23: 67.063048 | H23: 40.792805 | I23: 108.6462 | J23: 16.751136 | K23: 35.557103 | L23: 79.855566 | M23: 50.357685
A24: Elektriciteit | B24: Groothandel op bedrijventerrein | C24: 161 | D24: 30.744401 | E24: 14.283049 | F24: 23.408138 | G24: 37.888406 | H24: 27.456434 | I24: 34.865863 | J24: 16.227857 | K24: 26.060155 | L24: 41.953889 | M24: 31.098067
A25: Elektriciteit | B25: Hotel (of ander groot logiesgebouw) | C25: 2123 | D25: 68.781448 | E25: 26.02409 | F25: 53.896158 | G25: 100.00578 | H25: 77.823629 | I25: 71.669853 | J25: 28.855853 | K25: 57.034816 | L25: 102.91744 | M25: 79.541217
A26: Elektriciteit | B26: IJsbaan | C26: 102 | D26: 25.831 | E26: 9.1450483 | F26: 16.053969 | G26: 33.107715 | H26: 80.933402 | I26: 30.173878 | J26: 9.487968 | K26: 19.147875 | L26: 41.394245 | M26: 87.282036
A27: Elektriciteit | B27: Kantoorpand algemeen | C27: 16902 | D27: 43.250197 | E27: 18.840923 | F27: 32.664869 | G27: 56.24967 | H27: 50.293066 | I27: 47.821949 | J27: 21.215366 | K27: 36.592964 | L27: 61.997702 | M27: 53.312014
A28: Elektriciteit | B28: Kinderopvang (gebouw) | C28: 1413 | D28: 30.882463 | E28: 18.550725 | F28: 27.059322 | G28: 37.855263 | H28: 29.754881 | I28: 33.630467 | J28: 20.311111 | K28: 29.367718 | L28: 41.375451 | M28: 32.462555
A29: Elektriciteit | B29: Koelhuis | C29: 71 | D29: 270.15817 | E29: 74.99474 | F29: 180.53941 | G29: 357.34504 | H29: 248.0338 | I29: 286.45083 | J29: 105.11979 | K29: 221.47179 | L29: 390.72713 | M29: 263.00555
A30: Elektriciteit | B30: MBO-gebouw
A31: Elektriciteit | B31: Meergezinswoning met andere functie of combinatie van functies | C31: 1644 | D31: 39.404968 | E31: 17.062896 | F31: 28.171082 | G31: 47.573953 | H31: 37.762537 | I31: 42.492255 | J31: 18.713157 | K31: 30.776457 | L31: 52.16628 | M31: 40.305545
A32: Elektriciteit | B32: Meergezinswoning met cafe of restaurant | C32: 993 | D32: 95.367441 | E32: 38.375286 | F32: 79.235835 | G32: 133.56303 | H32: 82.625032 | I32: 97.982023 | J32: 40.320236 | K32: 83.459547 | L32: 136.73684 | M32: 85.441985
A33: Elektriciteit | B33: Meergezinswoning met winkel | C33: 2605 | D33: 46.192345 | E33: 20.4 | F33: 34.025692 | G33: 56.942857 | H33: 42.264349 | I33: 48.364745 | J33: 21.943548 | K33: 35.685393 | L33: 59.293103 | M33: 44.399909
A34: Elektriciteit | B34: Meergezinswoning met winkels en horeca | C34: 274 | D34: 46.92373 | E34: 19.458356 | F34: 36.034248 | G34: 56.673527 | H34: 46.157234 | I34: 49.407495 | J34: 21.565378 | K34: 38.78906 | L34: 59.767432 | M34: 48.110679
A35: Elektriciteit | B35: Meergezinswoning met woonzorgeenheden | C35: 90 | D35: 33.755344 | E35: 22.589775 | F35: 30.930398 | G35: 43.959777 | H35: 39.268135 | I35: 37.079753 | J35: 24.237146 | K35: 36.616924 | L35: 47.520954 | M35: 43.07594
A36: Elektriciteit | B36: Middelbare school | C36: 1025 | D36: 34.789092 | E36: 21.595617 | F36: 29.814711 | G36: 42.006307 | H36: 32.248449 | I36: 38.746556 | J36: 24.427 | K36: 33.602093 | L36: 46.308927 | M36: 36.193255
A37: Elektriciteit | B37: Nutsgebouw (elektriciteit)
A38: Elektriciteit | B38: Nutsgebouw (water) | C38: 30 | D38: 315.3709 | F38: 46.156731 | H38: 150.19096 | I38: 500.45187 | K38: 85.341288 | M38: 544.26551
A39: Elektriciteit | B39: Overig gebouw met maatschappelijke functie | C39: 1010 | D39: 36.177331 | E39: 8.4857595 | F39: 14.491659 | G39: 38.08631 | H39: 45.883459 | I39: 38.298232 | J39: 8.6458814 | K39: 15.033495 | L39: 41.23735 | M39: 49.611064
A40: Elektriciteit | B40: Overig gebouw met recreatiefunctie | C40: 61 | D40: 132.90265 | E40: 33.85 | F40: 91.722859 | G40: 206.60287 | H40: 178.39019 | I40: 143.87584 | J40: 45.829522 | K40: 91.722859 | L40: 215.81903 | M40: 189.04084
A41: Elektriciteit | B41: Overig onderwijsgebouw | C41: 2700 | D41: 29.20217 | E41: 14.565004 | F41: 21.978321 | G41: 35.551882 | H41: 33.96718 | I41: 31.417823 | J41: 15.545998 | K41: 23.941098 | L41: 38.43737 | M41: 35.848056
A42: Elektriciteit | B42: Overig overheidsgebouw | C42: 713 | D42: 70.666703 | E42: 35.351842 | F42: 57.79 | G42: 88.585377 | H42: 64.225787 | I42: 73.849956 | J42: 38.276494 | K42: 61.301446 | L42: 92.642923 | M42: 66.397953
A43: Elektriciteit | B43: Overig sportgebouw | C43: 6159 | D43: 49.052794 | E43: 17.621697 | F43: 33.237037 | G43: 62.841877 | H43: 48.378492 | I43: 56.603602 | J43: 20.421883 | K43: 39.394525 | L43: 72.207389 | M43: 54.2957
A44: Elektriciteit | B44: Overig zorggebouw | C44: 2937 | D44: 50.480745 | E44: 23.067797 | F44: 40.283688 | G44: 65.29878 | H44: 55.810956 | I44: 56.633334 | J44: 26.5 | K44: 46.82163 | L44: 74.483871 | M44: 60.391216
A45: Elektriciteit | B45: Overige utiliteitsbouw | C45: 2892 | D45: 81.530806 | E45: 14.512564 | F45: 29.872985 | G45: 71.325 | H45: 51.399389 | I45: 85.927261 | J45: 15.585061 | K45: 32.832881 | L45: 77.63062 | M45: 53.765288
A46: Elektriciteit | B46: Pand met winkel en kantoor- en/of bijeenkomstfunctie | C46: 583 | D46: 66.154917 | E46: 21.24371 | F46: 40.236957 | G46: 77.04386 | H46: 56.46388 | I46: 69.125379 | J46: 24.874721 | K46: 43.377956 | L46: 79.548209 | M46: 59.17604
A47: Elektriciteit | B47: Penitentiaire inrichting | C47: 19 | D47: 155.6411 | H47: 128.61947 | I47: 162.20054 | M47: 132.28107
A48: Elektriciteit | B48: Praktijk- of zorgwoning | C48: 1586 | D48: 35.693006 | E48: 18.579335 | F48: 29.723434 | G48: 46.697046 | H48: 36.937692 | I48: 40.824949 | J48: 22.352373 | K48: 34.339953 | L48: 53.356698 | M48: 41.367489
A49: Elektriciteit | B49: Productie-installatie
A50: Elektriciteit | B50: Restaurant of cafégebouw | C50: 3849 | D50: 240.96297 | E50: 103.8629 | F50: 188.20721 | G50: 313.85185 | H50: 188.63656 | I50: 244.50741 | J50: 105.98718 | K50: 191.47273 | L50: 318.06667 | M50: 191.32567
A51: Elektriciteit | B51: School voor speciaal onderwijs | C51: 456 | D51: 26.96222 | E51: 16.287209 | F51: 22.654721 | G51: 32.429727 | H51: 26.085688 | I51: 30.341041 | J51: 18.418887 | K51: 25.548971 | L51: 37.364537 | M51: 29.816845
A52: Elektriciteit | B52: Schoolverzamelgebouw | C52: 86 | D52: 34.383458 | E52: 21.572569 | F52: 31.329874 | G52: 42.314493 | H52: 32.855149 | I52: 37.875138 | J52: 24.733417 | K52: 34.327026 | L52: 47.653376 | M52: 35.862374
A53: Elektriciteit | B53: Tuincentrum | C53: 354 | D53: 34.717482 | E53: 14.516859 | F53: 25.393222 | G53: 45.291698 | H53: 29.937537 | I53: 39.904307 | J53: 17.326724 | K53: 30.80118 | L53: 49.881573 | M53: 34.662927
A54: Elektriciteit | B54: Vakantiewoning buiten vakantiepark | C54: 4577 | D54: 32.782668 | E54: 12.233333 | F54: 20.850746 | G54: 39.88 | H54: 34.989856 | I54: 37.217088 | J54: 12.784314 | K54: 22.701299 | L54: 45.131579 | M54: 39.019203
A55: Elektriciteit | B55: Winkelpand | C55: 19429 | D55: 83.544746 | E55: 22.248292 | F55: 44.821138 | G55: 98.471519 | H55: 67.646385 | I55: 86.852486 | J55: 24.117536 | K55: 47.221939 | L55: 102.78378 | M55: 71.354134
A56: Elektriciteit | B56: Woning met andere functie of combinatie van functies | C56: 4190 | D56: 53.957481 | E56: 18.537299 | F56: 33.201593 | G56: 65.843933 | H56: 49.789885 | I56: 58.871979 | J56: 21.389198 | K56: 37.990541 | L56: 73.46639 | M56: 54.226328
A57: Elektriciteit | B57: Woning met cafe of restaurant | C57: 6799 | D57: 114.26586 | E57: 46.862379 | F57: 93.679856 | G57: 157.35543 | H57: 93.686799 | I57: 117.70552 | J57: 49.087632 | K57: 97.282051 | L57: 161.49936 | M57: 96.839059
A58: Elektriciteit | B58: Woning met winkel | C58: 13431 | D58: 48.673905 | E58: 18.12641 | F58: 31.214286 | G58: 57.277047 | H58: 44.55278 | I58: 52.35599 | J58: 20.351546 | K58: 34.719298 | L58: 61.703425 | M58: 48.177737
A59: Elektriciteit | B59: Wooncomplex met andere functie of combinatie van functies | C59: 820 | D59: 49.069682 | E59: 30.804493 | F59: 45.211754 | G59: 61.577214 | H59: 48.39481 | I59: 51.820294 | J59: 32.889353 | K59: 46.452957 | L59: 65.62417 | M59: 50.506535
A60: Elektriciteit | B60: Wooncomplex met winkels en/of horeca | C60: 193 | D60: 48.920652 | E60: 27.047059 | F60: 40.86283 | G60: 61.780533 | H60: 53.055618 | I60: 51.746311 | J60: 28.421408 | K60: 41.358209 | L60: 64.010148 | M60: 55.779781
A61: Elektriciteit | B61: Woonzorgcomplex | C61: 949 | D61: 56.13389 | E61: 33.553506 | F61: 46.853464 | G61: 68.675565 | H61: 60.220798 | I61: 59.912124 | J61: 35.579452 | K61: 50.395918 | L61: 71.67735 | M61: 63.769183
... A66: Elektriciteit | B66: Zwembad | C66: 424 | D66: 219.4676 | E66: 81.512794 | F66: 135.03683 | G66: 237.60137 | H66: 127.84923 | I66: 237.01645 | J66: 85.533922 | K66: 147.75208 | L66: 253.00914 | M66: 135.86859

Sheet elek_kental_subsets_2024
A1: Energiedrager | B1: Gebouwtype | C1: Categorie zonnestroom en teruglevering | D1: Aantal panden | E1: Aandeel panden per gebouwtype | F1: Gemiddelde kental (kWh/m2) | G1: Q1 kental (kWh/m2) | H1: Mediaan kental (kWh/m2) | I1: Q3 kental (kWh/m2) | J1: Gewogen gemiddelde kental (kWh/m2) | K1: Gemiddelde kental inclusief eigenverbruik zonnestroom (kWh/m2) | L1: Q1 kental inclusief eigenverbruik zonnestroom (kWh/m2) | M1: Mediaan kental inclusief eigenverbruik zonnestroom (kWh/m2) | N1: Q3 kental inclusief eigenverbruik zonnestroom (kWh/m2) | O1: Gewogen gemiddelde kental inclusief eigenverbruik zonnestroom (kWh/m2)
A2: Elektriciteit | B2: Basisschool | C2: pand met zonnestroomproductie en een teruglevering hoger dan de zonnestroomproductie | D2: 145 | E2: 0.029 | F2: 24.156399 | G2: 12.64507 | H2: 19.849842 | I2: 30.675997 | J2: 24.940887 | K2: 29.167451 | L2: 15.460164 | M2: 23.277456 | N2: 37.848725 | O2: 29.2131
A3: Elektriciteit | B3: Basisschool | C3: pand met zonnestroomproductie en een teruglevering kleiner of gelijk aan zonnestroomproductie | D3: 1912 | E3: 0.388 | F3: 24.288388 | G3: 13.158433 | H3: 20.117335 | I3: 31.790906 | J3: 25.773809 | K3: 33.274857 | L3: 19.576964 | M3: 28.127726 | N3: 42.846221 | O3: 33.598863
A4: Elektriciteit | B4: Basisschool | C4: pand zonder zonnestroomproductie met een teruglevering | D4: 182 | E4: 0.037 | F4: 29.537187 | G4: 15.352236 | H4: 25.654435 | I4: 40.72389 | J4: 32.08447
A5: Elektriciteit | B5: Basisschool | C5: pand zonder zonnestroomproductie en zonder teruglevering | D5: 2691 | E5: 0.546 | F5: 24.82795 | G5: 16.408442 | H5: 21.481512 | I5: 29.551184 | J5: 25.075671
A6: Elektriciteit | B6: Bedrijfshal algemeen (geen LISA-informatie) | C6: pand met zonnestroomproductie en een teruglevering hoger dan de zonnestroomproductie | D6: 556 | E6: 0.025 | F6: 32.1313 | G6: 10.212488 | H6: 18.997937 | I6: 34.381324 | J6: 32.276717 | K6: 76.661621 | L6: 17.296886 | M6: 28.461489 | N6: 48.501068 | O6: 60.253836
A7: Elektriciteit | B7: Bedrijfshal algemeen (geen LISA-informatie) | C7: pand met zonnestroomproductie en een teruglevering kleiner of gelijk aan zonnestroomproductie | D7: 4327 | E7: 0.194 | F7: 35.987935 | G7: 12.319736 | H7: 21.473684 | I7: 39.247413 | J7: 40.449351 | K7: 51.309806 | L7: 18.45835 | M7: 31.796296 | N7: 58.365385 | O7: 54.771813
A8: Elektriciteit | B8: Bedrijfshal algemeen (geen LISA-informatie) | C8: pand zonder zonnestroomproductie met een teruglevering | D8: 640 | E8: 0.029 | F8: 35.698219 | G8: 10.124238 | H8: 18.270158 | I8: 37.783845 | J8: 45.947499
A9: Elektriciteit | B9: Bedrijfshal algemeen (geen LISA-informatie) | C9: pand zonder zonnestroomproductie en zonder teruglevering | D9: 16762 | E9: 0.752 | F9: 32.504958 | G9: 10.029121 | H9: 18.293014 | I9: 36.140138 | J9: 36.730172
A10: Elektriciteit | B10: Bedrijfshal algemeen (met LISA-informatie) | C10: pand met zonnestroomproductie en een teruglevering hoger dan de zonnestroomproductie | D10: 328 | E10: 0.026 | F10: 34.154565 | G10: 12.909663 | H10: 22.728513 | I10: 37.006774 | J10: 33.895649 | K10: 55.099275 | L10: 19.694883 | M10: 32.817051 | N10: 53.004193 | O10: 64.554747
A11: Elektriciteit | B11: Bedrijfshal algemeen (met LISA-informatie) | C11: pand met zonnestroomproductie en een teruglevering kleiner of gelijk aan zonnestroomproductie | D11: 3446 | E11: 0.27 | F11: 42.45328 | G11: 14.235959 | H11: 24.781814 | I11: 46.45835 | J11: 46.3963 | K11: 61.494927 | L11: 21.762875 | M11: 37.438866 | N11: 68.267128 | O11: 62.363179
A12: Elektriciteit | B12: Bedrijfshal algemeen (met LISA-informatie) | C12: pand zonder zonnestroomproductie met een teruglevering | D12: 308 | E12: 0.024 | F12: 52.214534 | G12: 14.658091 | H12: 26.392574 | I12: 63.617191 | J12: 55.255693
A13: Elektriciteit | B13: Bedrijfshal algemeen (met LISA-informatie) | C13: pand zonder zonnestroomproductie en zonder teruglevering | D13: 8661 | E13: 0.68 | F13: 43.864094 | G13: 13.818275 | H13: 24.06875 | I13: 45.053004 | J13: 45.599368
A14: Elektriciteit | B14: Bedrijfshal met logistieke activiteiten | C14: pand met zonnestroomproductie en een teruglevering hoger dan de zonnestroomproductie | D14: 207 | E14: 0.037 | F14: 31.090639 | G14: 14.60851 | H14: 21.917494 | I14: 33.749603 | J14: 38.329324 | K14: 43.012254 | L14: 19.38222 | M14: 28.62184 | N14: 44.228927 | O14: 68.214324
A15: Elektriciteit | B15: Bedrijfshal met logistieke activiteiten | C15: pand met zonnestroomproductie en een teruglevering kleiner of gelijk aan zonnestroomproductie | D15: 2088 | E15: 0.369 | F15: 34.848894 | G15: 15.199189 | H15: 23.839436 | I15: 38.662081 | J15: 38.798371 | K15: 47.025352 | L15: 20.568468 | M15: 31.438528 | N15: 51.43979 | O15: 50.538103
A16: Elektriciteit | B16: Bedrijfshal met logistieke activiteiten | C16: pand zonder zonnestroomproductie met een teruglevering | D16: 130 | E16: 0.023 | F16: 36.963228 | G16: 15.727003 | H16: 27.815517 | I16: 39.435845 | J16: 37.030134
A17: Elektriciteit | B17: Bedrijfshal met logistieke activiteiten | C17: pand zonder zonnestroomproductie en zonder teruglevering | D17: 3236 | E17: 0.572 | F17: 37.38047 | G17: 15.167938 | H17: 24.642365 | I17: 41.884 | J17: 37.349175
A18: Elektriciteit | B18: Bedrijfshal met maakindustrie en andere economische activiteiten | C18: pand met zonnestroomproductie en een teruglevering hoger dan de zonnestroomproductie | D18: 180 | E18: 0.036 | F18: 32.446449 | G18: 14.957628 | H18: 21.652527 | I18: 37.429625 | J18: 42.167838 | K18: 44.992294 | L18: 18.447216 | M18: 28.833995 | N18: 44.502204 | O18: 55.190127
A19: Elektriciteit | B19: Bedrijfshal met maakindustrie en andere economische activiteiten | C19: pand met zonnestroomproductie en een teruglevering kleiner of gelijk aan zonnestroomproductie | D19: 1783 | E19: 0.355 | F19: 36.016421 | G19: 14.998882 | H19: 24.124739 | I19: 41.166529 | J19: 44.27919 | K19: 50.24264 | L19: 21.416534 | M19: 34.459794 | N19: 59.755799 | O19: 57.407795
A20: Elektriciteit | B20: Bedrijfshal met maakindustrie en andere economische activiteiten | C20: pand zonder zonnestroomproductie met een teruglevering | D20: 124 | E20: 0.025 | F20: 53.694268 | G20: 16.14042 | H20: 28.522557 | I20: 58.503031 | J20: 69.326343
A21: Elektriciteit | B21: Bedrijfshal met maakindustrie en andere economische activiteiten | C21: pand zonder zonnestroomproductie en zonder teruglevering | D21: 2941 | E21: 0.585 | F21: 41.550583 | G21: 15.03532 | H21: 25.702492 | I21: 46.520041 | J21: 49.287225
A22: Elektriciteit | B22: Bedrijfshal met maakindustrie en logistieke activiteiten | C22: pand met zonnestroomproductie en een teruglevering hoger dan de zonnestroomproductie | D22: 281 | E22: 0.026 | F22: 33.287479 | G22: 11.208417 | H22: 19.776744 | I22: 33.862492 | J22: 37.828465 | K22: 47.026738 | L22: 16.981319 | M22: 29.275798 | N22: 47.563918 | O22: 58.36913
A23: Elektriciteit | B23: Bedrijfshal met maakindustrie en logistieke activiteiten | C23: pand met zonnestroomproductie en een teruglevering kleiner of gelijk aan zonnestroomproductie | D23: 3050 | E23: 0.283 | F23: 42.322391 | G23: 13.189151 | H23: 22.212533 | I23: 41.846618 | J23: 51.79064 | K23: 59.31097 | L23: 20.894601 | M23: 34.290686 | N23: 61.729013 | O23: 68.072294
A24: Elektriciteit | B24: Bedrijfshal met maakindustrie en logistieke activiteiten | C24: pand zonder zonnestroomproductie met een teruglevering | D24: 242 | E24: 0.022 | F24: 52.031671 | G24: 14.09454 | H24: 26.084122 | I24: 63.194364 | J24: 49.652258
A25: Elektriciteit | B25: Bedrijfshal met maakindustrie en logistieke activiteiten | C25: pand zonder zonnestroomproductie en zonder teruglevering | D25: 7188 | E25: 0.668 | F25: 43.197783 | G25: 13.654374 | H25: 23.565066 | I25: 42.868513 | J25: 49.041457
A26: Elektriciteit | B26: Bedrijfswoning | C26: pand met zonnestroomproductie en een teruglevering hoger dan de zonnestroomproductie | D26: 4453 | E26: 0.066 | F26: 84.059218 | G26: 19.77931 | H26: 41.12619 | I26: 102.68333 | J26: 54.88593 | K26: 199.00241 | L26: 27.377754 | M26: 55.336698 | N26: 139.4571 | O26: 128.70635
A27: Elektriciteit | B27: Bedrijfswoning | C27: pand met zonnestroomproductie en een teruglevering kleiner of gelijk aan zonnestroomproductie | D27: 28877 | E27: 0.43 | F27: 64.362258 | G27: 15.978571 | H27: 29.388535 | I27: 64.96663 | J27: 48.659512 | K27: 96.99105 | L27: 23.934783 | M27: 42.941935 | N27: 95.055249 | O27: 72.249374
A28: Elektriciteit | B28: Bedrijfswoning | C28: pand zonder zonnestroomproductie met een teruglevering | D28: 1143 | E28: 0.017 | F28: 82.879976 | G28: 18.506764 | H28: 35.324742 | I28: 99.73004 | J28: 57.087686
A29: Elektriciteit | B29: Bedrijfswoning | C29: pand zonder zonnestroomproductie en zonder teruglevering | D29: 32725 | E29: 0.487 | F29: 49.026174 | G29: 13.625926 | H29: 23.464174 | I29: 46.155738 | J29: 41.306458
A30: Elektriciteit | B30: Bijeenkomstgebouw (niet nader ingedeeld) | C30: pand met zonnestroomproductie en een teruglevering hoger dan de zonnestroomproductie | D30: 182 | E30: 0.019 | F30: 38.137418 | G30: 13.354961 | H30: 23.595222 | I30: 39.695465 | J30: 31.167473 | K30: 60.498539 | L30: 20.109321 | M30: 33.179327 | N30: 56.826452 | O30: 43.582223
A31: Elektriciteit | B31: Bijeenkomstgebouw (niet nader ingedeeld) | C31: pand met zonnestroomproductie en een teruglevering kleiner of gelijk aan zonnestroomproductie | D31: 2218 | E31: 0.233 | F31: 41.720887 | G31: 13.687893 | H31: 24.337652 | I31: 47.590376 | J31: 41.234633 | K31: 57.485074 | L31: 20.495842 | M31: 36.355723 | N31: 67.352115 | O31: 53.6877
A32: Elektriciteit | B32: Bijeenkomstgebouw (niet nader ingedeeld) | C32: pand zonder zonnestroomproductie met een teruglevering | D32: 150 | E32: 0.016 | F32: 54.723427 | G32: 12.82831 | H32: 29.130421 | I32: 72.685941 | J32: 55.737088
A33: Elektriciteit | B33: Bijeenkomstgebouw (niet nader ingedeeld) | C33: pand zonder zonnestroomproductie en zonder teruglevering | D33: 6980 | E33: 0.732 | F33: 48.813759 | G33: 12.695645 | H33: 25.024599 | I33: 55.769742 | J33: 52.191872
A34: Elektriciteit | B34: Gebedshuis | C34: pand met zonnestroomproductie en een teruglevering hoger dan de zonnestroomproductie | D34: 74 | E34: 0.021 | F34: 19.240834 | G34: 10.121768 | H34: 16.885235 | I34: 23.506961 | J34: 17.351787 | K34: 24.669261 | L34: 13.852145 | M34: 21.30078 | N34: 30.527032 | O34: 21.537245
A35: Elektriciteit | B35: Gebedshuis | C35: pand met zonnestroomproductie en een teruglevering kleiner of gelijk aan zonnestroomproductie | D35: 879 | E35: 0.249 | F35: 16.64206 | G35: 8.7502655 | H35: 13.192308 | I35: 21.19638 | J35: 17.763957 | K35: 23.390375 | L35: 12.656995 | M35: 19.008055 | N35: 30.560664 | O35: 23.727182
A36: Elektriciteit | B36: Gebedshuis | C36: pand zonder zonnestroomproductie met een teruglevering | D36: 52 | E36: 0.015 | F36: 17.439183 | G36: 9.7410055 | H36: 14.532404 | I36: 21.761666 | J36: 17.236819
A37: Elektriciteit | B37: Gebedshuis | C37: pand zonder zonnestroomproductie en zonder teruglevering | D37: 2525 | E37: 0.715 | F37: 14.921552 | G37: 8.1811765 | H37: 11.747036 | I37: 18.748474 | J37: 15.91255
A38: Elektriciteit | B38: Gebouw in landelijk gebied voor industrie (geen landbouwactiviteiten geregistreerd) | C38: pand met zonnestroomproductie en een teruglevering hoger dan de zonnestroomproductie | D38: 265 | E38: 0.052 | F38: 39.357115 | G38: 11.730256 | H38: 22.396356 | I38: 45.3616 | J38: 29.90841 | K38: 192.17116 | L38: 17.690886 | M38: 32.252075 | N38: 64.918243 | O38: 89.994153
A39: Elektriciteit | B39: Gebouw in landelijk gebied voor industrie (geen landbouwactiviteiten geregistreerd) | C39: pand met zonnestroomproductie en een teruglevering kleiner of gelijk aan zonnestroomproductie | D39: 1726 | E39: 0.342 | F39: 46.883139 | G39: 13.636252 | H39: 26.798562 | I39: 56.668329 | J39: 51.637102 | K39: 70.479755 | L39: 21.090802 | M39: 41.069321 | N39: 83.923068 | O39: 73.336262
A40: Elektriciteit | B40: Gebouw in landelijk gebied voor industrie (geen landbouwactiviteiten geregistreerd) | C40: pand zonder zonnestroomproductie met een teruglevering | D40: 150 | E40: 0.03 | F40: 50.580141 | G40: 12.480875 | H40: 26.827582 | I40: 56.628206 | J40: 54.425296
A41: Elektriciteit | B41: Gebouw in landelijk gebied voor industrie (geen landbouwactiviteiten geregistreerd) | C41: pand zonder zonnestroomproductie en zonder teruglevering | D41: 2912 | E41: 0.576 | F41: 41.638974 | G41: 11.104841 | H41: 21.871907 | I41: 46.27515 | J41: 41.771456
A42: Elektriciteit | B42: Gebouw in stedelijk gebied met industriefunctie | C42: pand met zonnestroomproductie en een teruglevering hoger dan de zonnestroomproductie | D42: 321 | E42: 0.023 | F42: 36.050356 | G42: 12.601389 | H42: 21.686945 | I42: 39.294737 | J42: 42.191552 | K42: 49.143035 | L42: 18.698997 | M42: 29.599512 | N42: 52.146729 | O42: 79.411112
A43: Elektriciteit | B43: Gebouw in stedelijk gebied met industriefunctie | C43: pand met zonnestroomproductie en een teruglevering kleiner of gelijk aan zonnestroomproductie | D43: 3148 | E43: 0.23 | F43: 46.158367 | G43: 13.592127 | H43: 24.023654 | I43: 46.777615 | J43: 48.669793 | K43: 65.344945 | L43: 21.55857 | M43: 36.54905 | N43: 69.65539 | O43: 62.086472
A44: Elektriciteit | B44: Gebouw in stedelijk gebied met industriefunctie | C44: pand zonder zonnestroomproductie met een teruglevering | D44: 284 | E44: 0.021 | F44: 70.075864 | G44: 14.483657 | H44: 34.228433 | I44: 78.972083 | J44: 74.750524
A45: Elektriciteit | B45: Gebouw in stedelijk gebied met industriefunctie | C45: pand zonder zonnestroomproductie en zonder teruglevering | D45: 9910 | E45: 0.725 | F45: 51.675047 | G45: 12.008063 | H45: 23.563589 | I45: 51.056701 | J45: 54.120411
A46: Elektriciteit | B46: Gebouw op snelwegverzorgingsplaats | C46: pand met zonnestroomproductie en een teruglevering kleiner of gelijk aan zonnestroomproductie | D46: 28 | E46: 0.184 | F46: 768.09208 | H46: 758.27965 | J46: 412.61646 | K46: 813.77782 | M46: 840.92759 | O46: 436.1044
A47: Elektriciteit | B47: Gebouw op snelwegverzorgingsplaats | C47: pand zonder zonnestroomproductie met een teruglevering | D47: 10 | E47: 0.066 | F47: 769.54174 | J47: 550.17478
A48: Elektriciteit | B48: Gebouw op snelwegverzorgingsplaats | C48: pand zonder zonnestroomproductie en zonder teruglevering | D48: 114 | E48: 0.75 | F48: 682.14645 | G48: 267.38373 | H48: 662.5004 | I48: 957.10294 | J48: 426.50907
A49: Elektriciteit | B49: Gebouw op vakantiepark | C49: pand met zonnestroomproductie en een teruglevering hoger dan de zonnestroomproductie | D49: 834 | E49: 0.021 | F49: 34.953393 | G49: 11.935509 | H49: 21.026715 | I49: 41.393254 | J49: 41.829126 | K49: 47.037696 | L49: 21.777226 | M49: 31.606715 | N49: 53.52326 | O49: 54.123584
A50: Elektriciteit | B50: Gebouw op vakantiepark | C50: pand met zonnestroomproductie en een teruglevering kleiner of gelijk aan zonnestroomproductie | D50: 8062 | E50: 0.204 | F50: 35.479266 | G50: 13.305184 | H50: 22.869709 | I50: 44.899056 | J50: 42.872995 | K50: 51.560675 | L50: 21.093878 | M50: 35.905566 | N50: 65.549851 | O50: 60.288924
A51: Elektriciteit | B51: Gebouw op vakantiepark | C51: pand zonder zonnestroomproductie met een teruglevering | D51: 1122 | E51: 0.028 | F51: 36.559498 | G51: 12.694407 | H51: 24.966319 | I51: 51.396963 | J51: 40.635574
A52: Elektriciteit | B52: Gebouw op vakantiepark | C52: pand zonder zonnestroomproductie en zonder teruglevering | D52: 29587 | E52: 0.747 | F52: 23.198753 | G52: 10.780521 | H52: 15.888889 | I52: 25.252929 | J52: 26.758682
A53: Elektriciteit | B53: Gebouw voor landbouwactiviteiten | C53: pand met zonnestroomproductie en een teruglevering hoger dan de zonnestroomproductie | D53: 193 | E53: 0.079 | F53: 145.22829 | G53: 26.521472 | H53: 58.819277 | I53: 210.46586 | J53: 98.752457 | K53: 192.81385 | L53: 35.021242 | M53: 75.209879 | N53: 242.88116 | O53: 121.88413
A54: Elektriciteit | B54: Gebouw voor landbouwactiviteiten | C54: pand met zonnestroomproductie en een teruglevering kleiner of gelijk aan zonnestroomproductie | D54: 960 | E54: 0.391 | F54: 91.725961 | G54: 19.996206 | H54: 42.958614 | I54: 102.34312 | J54: 73.147358 | K54: 136.84705 | L54: 30.876204 | M54: 65.55656 | N54: 150.66781 | O54: 97.302405
A55: Elektriciteit | B55: Gebouw voor landbouwactiviteiten | C55: pand zonder zonnestroomproductie met een teruglevering | D55: 208 | E55: 0.085 | F55: 218.44412 | G55: 48.30434 | H55: 157.10532 | I55: 342.0739 | J55: 125.85598
A56: Elektriciteit | B56: Gebouw voor landbouwactiviteiten | C56: pand zonder zonnestroomproductie en zonder teruglevering | D56: 1094 | E56: 0.446 | F56: 87.167318 | G56: 17.283639 | H56: 36.891436 | I56: 94.272544 | J56: 68.104827
A57: Elektriciteit | B57: Groothandel op bedrijventerrein | C57: pand met zonnestroomproductie en een teruglevering hoger dan de zonnestroomproductie | D57: 16 | E57: 0.027 | F57: 22.506813 | J57: 23.158691 | K57: 26.149234 | O57: 25.693726
A58: Elektriciteit | B58: Groothandel op bedrijventerrein | C58: pand met zonnestroomproductie en een teruglevering kleiner of gelijk aan zonnestroomproductie | D58: 213 | E58: 0.36 | F58: 28.676625 | G58: 15.881159 | H58: 22.510102 | I58: 34.105951 | J58: 25.536271 | K58: 37.024148 | L58: 20.466993 | M58: 29.573034 | N58: 42.976158 | O58: 32.364385
A59: Elektriciteit | B59: Groothandel op bedrijventerrein | C59: pand zonder zonnestroomproductie met een teruglevering | D59: 16 | E59: 0.027 | F59: 26.984395 | J59: 29.724302
A60: Elektriciteit | B60: Groothandel op bedrijventerrein | C60: pand zonder zonnestroomproductie en zonder teruglevering | D60: 346 | E60: 0.585 | F60: 27.712285 | G60: 14.20837 | H60: 21.668969 | I60: 33.457221 | J60: 25.929895
A61: Elektriciteit | B61: Hotel (of ander groot logiesgebouw) | C61: pand met zonnestroomproductie en een teruglevering hoger dan de zonnestroomproductie | D61: 38 | E61: 0.015 | F61: 42.849348 | H61: 23.600201 | J61: 52.612126 | K61: 51.499178 | M61: 34.624409 | O61: 59.083023
A62: Elektriciteit | B62: Hotel (of ander groot logiesgebouw) | C62: pand met zonnestroomproductie en een teruglevering kleiner of gelijk aan zonnestroomproductie | D62: 519 | E62: 0.2 | F62: 59.27372 | G62: 22.540754 | H62: 44.670732 | I62: 78.580072 | J62: 79.382842 | K62: 73.45884 | L62: 33.931849 | M62: 57.706452 | N62: 95.949898 | O62: 87.616288
A63: Elektriciteit | B63: Hotel (of ander groot logiesgebouw) | C63: pand zonder zonnestroomproductie met een teruglevering | D63: 81 | E63: 0.031 | F63: 64.874613 | G63: 25.069643 | H63: 53.394218 | I63: 100.1705 | J63: 76.688271
A64: Elektriciteit | B64: Hotel (of ander groot logiesgebouw) | C64: pand zonder zonnestroomproductie en zonder teruglevering | D64: 1962 | E64: 0.755 | F64: 69.351207 | G64: 26.375897 | H64: 54.146868 | I64: 100.45339 | J64: 75.611283
A65: Elektriciteit | B65: Kantoorpand algemeen | C65: pand met zonnestroomproductie en een teruglevering hoger dan de zonnestroomproductie | D65: 296 | E65: 0.014 | F65: 39.732372 | G65: 16.859842 | H65: 26.832046 | I65: 47.21915 | J65: 40.342344 | K65: 66.349578 | L65: 21.455549 | M65: 36.320492 | N65: 58.012694 | O65: 50.532223
A66: Elektriciteit | B66: Kantoorpand algemeen | C66: pand met zonnestroomproductie en een teruglevering kleiner of gelijk aan zonnestroomproductie | D66: 5441 | E66: 0.258 | F66: 44.025766 | G66: 19.319372 | H66: 33.150812 | I66: 57.803771 | J66: 50.294541 | K66: 61.6888 | L66: 30.331906 | M66: 48.444944 | N66: 75.938729 | O66: 62.295986
A67: Elektriciteit | B67: Kantoorpand algemeen | C67: pand zonder zonnestroomproductie met een teruglevering | D67: 386 | E67: 0.018 | F67: 56.46184 | G67: 25.08793 | H67: 46.800521 | I67: 77.943484 | J67: 62.578637
A68: Elektriciteit | B68: Kantoorpand algemeen | C68: pand zonder zonnestroomproductie en zonder teruglevering | D68: 14931 | E68: 0.709 | F68: 44.58355 | G68: 19.116992 | H68: 33.481203 | I68: 57.836861 | J68: 52.303898
A69: Elektriciteit | B69: Kinderopvang (gebouw) | C69: pand met zonnestroomproductie en een teruglevering hoger dan de zonnestroomproductie | D69: 25 | E69: 0.016 | F69: 34.486595 | H69: 29.392945 | J69: 34.570816 | K69: 42.849149 | M69: 38.456559 | O69: 42.751845
A70: Elektriciteit | B70: Kinderopvang (gebouw) | C70: pand met zonnestroomproductie en een teruglevering kleiner of gelijk aan zonnestroomproductie | D70: 311 | E70: 0.198 | F70: 27.978882 | G70: 14.79533 | H70: 23.008197 | I70: 33.920796 | J70: 28.077426 | K70: 41.443416 | L70: 24.753451 | M70: 34.752941 | N70: 49.701265 | O70: 39.768468
A71: Elektriciteit | B71: Kinderopvang (gebouw) | C71: pand zonder zonnestroomproductie met een teruglevering | D71: 28 | E71: 0.018 | F71: 31.334519 | H71: 23.884989 | J71: 28.208721
A72: Elektriciteit | B72: Kinderopvang (gebouw) | C72: pand zonder zonnestroomproductie en zonder teruglevering | D72: 1203 | E72: 0.768 | F72: 32.523044 | G72: 20.137583 | H72: 28.432432 | I72: 40.024897 | J72: 31.221922
A73: Elektriciteit | B73: Meergezinswoning met andere functie of combinatie van functies | C73: pand met zonnestroomproductie en een teruglevering hoger dan de zonnestroomproductie | D73: 395 | E73: 0.022 | F73: 42.069569 | G73: 18.774423 | H73: 29.921162 | I73: 49.987692 | J73: 34.233417 | K73: 51.886139 | L73: 22.681867 | M73: 36.060029 | N73: 58.35556 | O73: 41.320366
A74: Elektriciteit | B74: Meergezinswoning met andere functie of combinatie van functies | C74: pand met zonnestroomproductie en een teruglevering kleiner of gelijk aan zonnestroomproductie | D74: 3868 | E74: 0.215 | F74: 37.349276 | G74: 16.38677 | H74: 25.351485 | I74: 43.295475 | J74: 38.248351 | K74: 50.102564 | L74: 22.11126 | M74: 33.206656 | N74: 56.656561 | O74: 48.05815
A75: Elektriciteit | B75: Meergezinswoning met andere functie of combinatie van functies | C75: pand zonder zonnestroomproductie met een teruglevering | D75: 315 | E75: 0.018 | F75: 38.415073 | G75: 19.317651 | H75: 30.049046 | I75: 44.857732 | J75: 38.325821
A76: Elektriciteit | B76: Meergezinswoning met andere functie of combinatie van functies | C76: pand zonder zonnestroomproductie en zonder teruglevering | D76: 13371 | E76: 0.745 | F76: 34.996524 | G76: 17.551001 | H76: 25.36983 | I76: 38.822505 | J76: 36.792225
A77: Elektriciteit | B77: Meergezinswoning met cafe of restaurant | C77: pand met zonnestroomproductie en een teruglevering hoger dan de zonnestroomproductie | D77: 44 | E77: 0.007 | F77: 72.365492 | G77: 24.967795 | H77: 58.183189 | I77: 106.95933 | J77: 68.566026 | K77: 76.168029 | L77: 29.597345 | M77: 61.804866 | N77: 110.20813 | O77: 72.084576
A78: Elektriciteit | B78: Meergezinswoning met cafe of restaurant | C78: pand met zonnestroomproductie en een teruglevering kleiner of gelijk aan zonnestroomproductie | D78: 594 | E78: 0.094 | F78: 70.352131 | G78: 23.368592 | H78: 51.011666 | I78: 99.39302 | J78: 64.214068 | K78: 81.150481 | L78: 31.165897 | M78: 62.492853 | N78: 110.10037 | O78: 73.527675
A79: Elektriciteit | B79: Meergezinswoning met cafe of restaurant | C79: pand zonder zonnestroomproductie met een teruglevering | D79: 99 | E79: 0.016 | F79: 90.323035 | G79: 27.663409 | H79: 74.390244 | I79: 129.11827 | J79: 83.294146
A80: Elektriciteit | B80: Meergezinswoning met cafe of restaurant | C80: pand zonder zonnestroomproductie en zonder teruglevering | D80: 5602 | E80: 0.884 | F80: 91.333142 | G80: 35.771483 | H80: 76.859179 | I80: 128.94788 | J80: 82.907576
A81: Elektriciteit | B81: Meergezinswoning met winkel | C81: pand met zonnestroomproductie en een teruglevering hoger dan de zonnestroomproductie | D81: 173 | E81: 0.008 | F81: 44.632125 | G81: 21.393333 | H81: 32.352436 | I81: 54.862185 | J81: 44.751569 | K81: 49.601661 | L81: 25.178342 | M81: 38.04997 | N81: 59.597454 | O81: 48.393557
A82: Elektriciteit | B82: Meergezinswoning met winkel | C82: pand met zonnestroomproductie en een teruglevering kleiner of gelijk aan zonnestroomproductie | D82: 2604 | E82: 0.116 | F82: 43.205789 | G82: 20.222913 | H82: 30.773183 | I82: 51.373884 | J82: 47.895864 | K82: 51.460337 | L82: 26.006309 | M82: 38.604624 | N82: 61.819716 | O82: 54.696112
A83: Elektriciteit | B83: Meergezinswoning met winkel | C83: pand zonder zonnestroomproductie met een teruglevering | D83: 361 | E83: 0.016 | F83: 51.0682 | G83: 23.490566 | H83: 34.967391 | I83: 60.832278 | J83: 56.783416
A84: Elektriciteit | B84: Meergezinswoning met winkel | C84: pand zonder zonnestroomproductie en zonder teruglevering | D84: 19317 | E84: 0.86 | F84: 46.999008 | G84: 21.993769 | H84: 33.780488 | I84: 56.609137 | J84: 47.680284
A85: Elektriciteit | B85: Meergezinswoning met winkels en horeca | C85: pand met zonnestroomproductie en een teruglevering hoger dan de zonnestroomproductie | D85: 31 | E85: 0.012 | F85: 40.874144 | H85: 35.814706 | J85: 55.868561 | K85: 44.051049 | M85: 39.098586 | O85: 57.99278
A86: Elektriciteit | B86: Meergezinswoning met winkels en horeca | C86: pand met zonnestroomproductie en een teruglevering kleiner of gelijk aan zonnestroomproductie | D86: 491 | E86: 0.19 | F86: 48.026361 | G86: 21.53779 | H86: 35.729938 | I86: 62.314532 | J86: 51.76856 | K86: 55.156389 | L86: 27.3081 | M86: 42.85567 | N86: 69.687126 | O86: 57.534323
A87: Elektriciteit | B87: Meergezinswoning met winkels en horeca | C87: pand zonder zonnestroomproductie met een teruglevering | D87: 62 | E87: 0.024 | F87: 69.39768 | G87: 31.288075 | H87: 53.169538 | I87: 99.345553 | J87: 71.094545
A88: Elektriciteit | B88: Meergezinswoning met winkels en horeca | C88: pand zonder zonnestroomproductie en zonder teruglevering | D88: 2006 | E88: 0.775 | F88: 55.410404 | G88: 24.771753 | H88: 40.658555 | I88: 71.763054 | J88: 55.168925
A89: Elektriciteit | B89: Middelbare school | C89: pand met zonnestroomproductie en een teruglevering hoger dan de zonnestroomproductie | D89: 12 | E89: 0.011 | F89: 41.236496 | J89: 35.591762 | K89: 44.628813 | O89: 39.076095
A90: Elektriciteit | B90: Middelbare school | C90: pand met zonnestroomproductie en een teruglevering kleiner of gelijk aan zonnestroomproductie | D90: 513 | E90: 0.455 | F90: 33.753551 | G90: 19.997428 | H90: 28.148747 | I90: 40.449134 | J90: 30.421707 | K90: 42.003956 | L90: 26.397021 | M90: 35.767147 | N90: 49.100976 | O90: 37.295745
A91: Elektriciteit | B91: Middelbare school | C91: pand zonder zonnestroomproductie met een teruglevering | D91: 44 | E91: 0.039 | F91: 41.433896 | G91: 25.816059 | H91: 38.280913 | I91: 59.656755 | J91: 41.37599
A92: Elektriciteit | B92: Middelbare school | C92: pand zonder zonnestroomproductie en zonder teruglevering | D92: 558 | E92: 0.495 | F92: 35.057459 | G92: 22.52182 | H92: 30.259923 | I92: 41.845402 | J92: 33.019107
A93: Elektriciteit | B93: Overig gebouw met maatschappelijke functie | C93: pand met zonnestroomproductie en een teruglevering hoger dan de zonnestroomproductie | D93: 10 | E93: 0.008 | F93: 53.213529 | J93: 33.296856 | K93: 70.037387 | O93: 42.000137
A94: Elektriciteit | B94: Overig gebouw met maatschappelijke functie | C94: pand met zonnestroomproductie en een teruglevering kleiner of gelijk aan zonnestroomproductie | D94: 146 | E94: 0.121 | F94: 50.347975 | G94: 13.744089 | H94: 28.422115 | I94: 60.801911 | J94: 56.506231 | K94: 65.822833 | L94: 22.013163 | M94: 36.267769 | N94: 81.728228 | O94: 66.108333
A95: Elektriciteit | B95: Overig gebouw met maatschappelijke functie | C95: pand zonder zonnestroomproductie met een teruglevering | D95: 28 | E95: 0.023 | F95: 84.292757 | H95: 52.086873 | J95: 122.20255
A96: Elektriciteit | B96: Overig gebouw met maatschappelijke functie | C96: pand zonder zonnestroomproductie en zonder teruglevering | D96: 1024 | E96: 0.848 | F96: 36.320432 | G96: 8.5441802 | H96: 14.311224 | I96: 37.084336 | J96: 54.834441
A97: Elektriciteit | B97: Overig onderwijsgebouw | C97: pand met zonnestroomproductie en een teruglevering hoger dan de zonnestroomproductie | D97: 39 | E97: 0.012 | F97: 29.377328 | H97: 22.680612 | J97: 37.090885 | K97: 41.955462 | M97: 33.104054 | O97: 47.255732
