Workbook

Sheet inhoudsopgave en toelichting
C1: Energiekentallen Utiliteitsbouw
C4: Project details
D6: Project naam | E6: Energiekentallen Utiliteitsgebouwen
D7: Datum | E7: Augustus 2026
D8: Contactpersoon TNO | E8: Robin Niessink, robin.niessink@tno.nl
C10: Deze dataset is ontwikkeld met subsidie van de Rijksdienst voor Ondernemend Nederland (RVO)
C12: Toelichting
C14: In dit onderzoek zijn energie-kentallen voor aardgaslevering (m3/m2) en elektriciteitslevering (kWh/m2) voor de diverse gebouwtypen van de utiliteitsbouw bepaald voor zichtjaren 2020 t/m 2024. De kentallen zijn waar mogelijk uitgesplitst naar bouwjaar- en oppervlakteklassen. Voor zichtjaar 2024 is ook een opsplitsing naar energielabel gemaakt. Ook voor de groep van panden die binnen de dienstensector valt zijn kentallen ontwikkeld. Voor zonnestroom is een eigen inschatting gemaakt van de teruglevering en daarmee is het eigenverbruik berekend en vervolgens opgeteld bij de netlevering voor een betere benadering van het totaalverbruik.
C16: De kentallen voor zonnestroomproductie (kWh/m2) alsmede het aandeel panden met zonnestroomproductie (in de populatie) zijn toegevoegd in een apart tab.
C18: NB: Een lege cel betekent dat een kental niet kon worden weergegeven vanwege de daarvoor geldende privacyregels. Het aantal overgebleven waarnemingen in de onderzoekspopulatie was hiervoor te laag.
C20: Voor nadere toelichting zie TNO rapport: Energiekentallen utiliteitsgebouwen 2020 t/m 2024 - Een analyse van het energieverbruik per gebouwtype voor de ontwikkeling van benchmark energiekentallen
C22: Inhoudsopgave
C23: Tab naam | E23: Inhoud
C24: elek_kental_ | E24: kentallen elektriciteit per gebouwtype
C25: elek_kental_bouwj_ | E25: kentallen elektriciteit per gebouwtype met uitsplitsing naar bouwjaarklassen
C26: elek_kental_opp_ | E26: kentallen elektriciteit per gebouwtype met uitsplitsing naar (gebruiks)oppervlakteklassen
C27: elek_kental_label_ | E27: kentallen elektriciteit per gebouwtype met uitsplitsing naar energielabelklassen
C28: elek_kental_diensten_ | E28: kentallen elektriciteit per gebouwtype voor panden die vallen binnen de dienstensector
C29: elek_kental_subsets_ | E29: kentallen elektriciteit per gebouwtype voor panden met onderscheid naar panden met of zonder zonnestroom en waar de teruglevering wel of niet hoger is dan de zonnestroomproductie
C30: zonnestroom_kentallen_ | E30: kentallen zonnestroomproductie per gebouwtype
C31: gas_kental_ | E31: kentallen aardgas per gebouwtype
C32: gas_kental_bouwj_ | E32: kentallen aardgas per gebouwtype met uitsplitsing naar bouwjaarklassen
C33: gas_kental_opp_ | E33: kentallen aardgas per gebouwtype met uitsplitsing naar (gebruiks)oppervlakteklassen
C34: gas_kental_label_ | E34: kentallen aardgas per gebouwtype met uitsplitsing naar energielabelklassen
... C36: populatie_overzicht_ | E36: een overzicht met het aantal panden in de onderzoekspopulatie in het betreffende tab, waarmee onder andere is na te gaan welke categorieën ontbreken per tab
C39: Toelichting kolommen in de tabs
C41: Energiedrager | D41: Dit geeft aan of het een kental voor aardgas of elektriciteit is
C42: Gebouwtype | D42: Dit geeft aan over welk gebouwtype het gaat
C43: Aantal panden | D43: Dit geeft het aantal panden in het onderzoek aan waarover de kentallen in de categorie berekend zijn
C44: Aandeel panden per gebouwtype | D44: Het percentage van het aantal panden dat in de betreffende categorie valt per gebouwtype
C45: Gemiddelde kental (kWh/m2) | D45: Het gemiddelde kental
C46: Q1 kental (kWh/m2) | D46: Het kental voor het 1ste kwartiel
C47: Mediaan kental (kWh/m2) | D47: Het kental voor de mediaan
C48: Q3 kental (kWh/m2) | D48: Het kental voor het 3e kwartiel
C49: Gewogen gemiddelde kental (kWh/m2) | D49: Het gemiddelde kental waarbij het pandoppervlak als weegfactor is gebruikt
C50: Gemiddelde kental inclusief eigenverbruik zonnestroom (kWh/m2) | D50: Eerst is het eigenverbruik zonnestroom bepaald en vervolgens opnieuw het gemiddelde bepaald
C51: Q1 kental inclusief eigenverbruik zonnestroom (kWh/m2) | D51: Eerst is het eigenverbruik zonnestroom bepaald en vervolgens opnieuw het 1ste kwartiel
C52: Mediaan kental inclusief eigenverbruik zonnestroom (kWh/m2) | D52: Eerst is het eigenverbruik zonnestroom bepaald en vervolgens opnieuw de mediaan
... C58: Gewogen gemiddelde zonnestroomproductie kental (kWh/m2) (inclusief panden zonder zon-pv) | D58: Het gewogen gemiddelde kental voor zonnestroomproductie berekend als gemiddelde voor panden met en zonder zonnestroomproductie

Sheet gas_kental_2024
A1: Energiedrager | B1: Gebouwtype | C1: Aantal panden | D1: Gemiddelde kental (m3/m2) | E1: Q1 kental (m3/m2) | F1: Mediaan kental (m3/m2) | G1: Q3 kental (m3/m2) | H1: Gewogen gemiddelde kental (m3/m2)
A2: Gas | B2: Asielzoekerscentrum | C2: 67 | D2: 27.030683 | E2: 8.6951076 | F2: 17.633747 | G2: 28.260815 | H2: 15.333722
A3: Gas | B3: Basisschool | C3: 4421 | D3: 8.2544386 | E3: 5.5277045 | F3: 8.0995647 | G3: 10.498368 | H3: 6.6708154
A4: Gas | B4: Bedrijfshal algemeen (geen LISA-informatie) | C4: 18137 | D4: 3.1884993 | E4: 0.23631841 | F4: 1.7568617 | G4: 4.3875339 | H4: 2.9247184
A5: Gas | B5: Bedrijfshal algemeen (met LISA-informatie) | C5: 11155 | D5: 4.1361447 | E5: 1.1879378 | F5: 2.8439597 | G5: 5.3518994 | H5: 3.3214044
A6: Gas | B6: Bedrijfshal met logistieke activiteiten | C6: 4929 | D6: 3.3176342 | E6: 1.257989 | F6: 2.5565574 | G6: 4.393578 | H6: 2.6003699
A7: Gas | B7: Bedrijfshal met maakindustrie en andere economische activiteiten | C7: 4544 | D7: 3.8496546 | E7: 1.3372765 | F7: 2.7292028 | G7: 4.8965222 | H7: 3.7935059
A8: Gas | B8: Bedrijfshal met maakindustrie en logistieke activiteiten | C8: 9659 | D8: 3.6790124 | E8: 1.1650853 | F8: 2.6605269 | G8: 4.8011147 | H8: 2.9952311
A9: Gas | B9: Bedrijfshal uitsluitend maakindustrie | C9: 17641 | D9: 5.0759023 | E9: 1.2706422 | F9: 3.044026 | G9: 5.8091417 | H9: 6.4539181
A10: Gas | B10: Bedrijfswoning | C10: 63374 | D10: 7.9239844 | E10: 3.0653087 | F10: 6.255954 | G10: 10.477925 | H10: 5.4038471
A11: Gas | B11: Bijeenkomstgebouw (niet nader ingedeeld) | C11: 9331 | D11: 7.9476152 | E11: 3.4916063 | F11: 6.4692308 | G11: 10.559894 | H11: 6.9278523
A12: Gas | B12: Campusgebouw | C12: 98 | D12: 8.1113731 | E12: 1.9918014 | F12: 6.2633831 | G12: 11.073907 | H12: 6.0312441
A13: Gas | B13: Cultuurhuis | C13: 542 | D13: 7.5024065 | E13: 3.9710739 | F13: 7.0595382 | G13: 10.057119 | H13: 5.1369842
... A15: Gas | B15: Gebedshuis | C15: 4259 | D15: 6.6975551 | E15: 3.8008537 | F15: 6.1783992 | G15: 9.0275572 | H15: 5.1334455
A16: Gas | B16: Gebouw bij militaire inrichting | C16: 19 | D16: 1526.5782 | H16: 174.50007
A17: Gas | B17: Gebouw bij spooremplacement | C17: 87 | D17: 7.8655856 | E17: 2.4886511 | F17: 6.0562613 | G17: 12.595382 | H17: 6.4699651
A18: Gas | B18: Gebouw bij vliegveld of luchthaven | C18: 171 | D18: 6.1091422 | E18: 1.1941983 | F18: 4.21636 | G18: 8.5980931 | H18: 5.4891638
A19: Gas | B19: Gebouw in landelijk gebied voor industrie (geen landbouwactiviteiten geregistreerd) | C19: 3759 | D19: 4.4916151 | E19: 0.66031182 | F19: 2.4040816 | G19: 5.9475474 | H19: 3.6131423
A20: Gas | B20: Gebouw in stedelijk gebied met industriefunctie | C20: 12388 | D20: 5.6970107 | E20: 0.91942982 | F20: 3.4207943 | G20: 7.4968042 | H20: 4.4111702
A21: Gas | B21: Gebouw op snelwegverzorgingsplaats | C21: 63 | D21: 8.9064271 | E21: 1.3020098 | F21: 5.878453 | G21: 12.318925 | H21: 11.544351
A22: Gas | B22: Gebouw op vakantiepark | C22: 38109 | D22: 9.1473646 | E22: 5.4271845 | F22: 8.5729167 | G22: 11.976471 | H22: 8.7235652
A23: Gas | B23: Gebouw voor landbouwactiviteiten | C23: 2143 | D23: 88.544809 | E23: 2.6248386 | F23: 8.4956522 | G23: 24.897187 | H23: 60.851979
A24: Gas | B24: Groothandel op bedrijventerrein | C24: 566 | D24: 2.8872308 | E24: 1.4680027 | F24: 2.5771223 | G24: 3.691486 | H24: 2.4201763
A25: Gas | B25: Hotel (of ander groot logiesgebouw) | C25: 2449 | D25: 11.312461 | E25: 5.5666667 | F25: 10.04893 | G25: 16.010101 | H25: 9.0574291
A26: Gas | B26: IJsbaan | C26: 121 | D26: 4.0149363 | E26: 1.7098765 | F26: 3.5336134 | G26: 5.1467066 | H26: 2.0123935
A27: Gas | B27: Kantoorpand algemeen | C27: 19634 | D27: 7.2535337 | E27: 3.7022779 | F27: 6.5635596 | G27: 9.9425819 | H27: 5.3543505
A28: Gas | B28: Kinderopvang (gebouw) | C28: 1500 | D28: 10.321793 | E28: 6.7058286 | F28: 9.5048937 | G28: 13.343616 | H28: 8.8382692
A29: Gas | B29: Koelhuis | C29: 83 | D29: 3.3219577 | E29: 0.55421992 | F29: 1.3426233 | G29: 3.6951394 | H29: 2.0865146
A30: Gas | B30: MBO-gebouw | C30: 10 | D30: 3.6348055 | H30: 3.5335311
A31: Gas | B31: Meergezinswoning met andere functie of combinatie van functies | C31: 17624 | D31: 7.9959173 | E31: 4.8207052 | F31: 7.4345165 | G31: 10.394745 | H31: 6.4695196
A32: Gas | B32: Meergezinswoning met cafe of restaurant | C32: 6320 | D32: 12.447746 | E32: 6.7125078 | F32: 10.324537 | G32: 16.015624 | H32: 11.017056
A33: Gas | B33: Meergezinswoning met winkel | C33: 22394 | D33: 8.13311 | E33: 4.8827304 | F33: 7.3654304 | G33: 10.522765 | H33: 6.7532774
A34: Gas | B34: Meergezinswoning met winkels en horeca | C34: 2524 | D34: 8.5105056 | E34: 4.9748066 | F34: 7.6409426 | G34: 11.035783 | H34: 6.5604517
A35: Gas | B35: Meergezinswoning met woonzorgeenheden | C35: 274 | D35: 9.3177788 | E35: 5.4889 | F35: 8.4935847 | G35: 12.055497 | H35: 8.8197438
A36: Gas | B36: Middelbare school | C36: 1065 | D36: 6.2116705 | E36: 3.5189751 | F36: 5.72819 | G36: 8.3675314 | H36: 4.9004648
A37: Gas | B37: Nutsgebouw (elektriciteit) | C37: 58 | D37: 5.6730139 | E37: 1.2214185 | F37: 3.3513991 | G37: 8.8965956 | H37: 5.0477156
A38: Gas | B38: Nutsgebouw (water) | C38: 233 | D38: 13.310442 | E38: 2.8659794 | F38: 8.7092652 | G38: 17.617021 | H38: 6.2195181
A39: Gas | B39: Overig gebouw met maatschappelijke functie | C39: 1580 | D39: 9.3946053 | E39: 3.2307449 | F39: 6.4677923 | G39: 11.441538 | H39: 7.4587545
A40: Gas | B40: Overig gebouw met recreatiefunctie | C40: 82 | D40: 15.09713 | E40: 3.3897158 | F40: 7.5926996 | G40: 15.608326 | H40: 12.972938
A41: Gas | B41: Overig onderwijsgebouw | C41: 3087 | D41: 8.7830293 | E41: 5.0957635 | F41: 8.1465342 | G41: 11.536568 | H41: 6.4373509
...

Sheet gas_kental_bouwj_2024
A1: Energiedrager | B1: Gebouwtype | C1: Bouwjaarklasse | D1: Aantal panden | E1: Aandeel panden per gebouwtype | F1: Gemiddelde kental (m3/m2) | G1: Q1 kental (m3/m2) | H1: Mediaan kental (m3/m2) | I1: Q3 kental (m3/m2) | J1: Gewogen gemiddelde kental (m3/m2)
A2: Gas | B2: Asielzoekerscentrum | C2: tot 1946 | D2: 10 | E2: 0.149 | F2: 20.499003 | J2: 15.829949
A3: Gas | B3: Asielzoekerscentrum | C3: 1946 tot 1978 | D3: 27 | E3: 0.403 | F3: 25.126703 | H3: 20.492336 | J3: 20.814963
A4: Gas | B4: Asielzoekerscentrum | C4: 1978 tot 1995 | D4: 20 | E4: 0.299 | F4: 32.270463 | H4: 17.50696 | J4: 17.394716
A5: Gas | B5: Asielzoekerscentrum | C5: vanaf 1995 | D5: 10 | E5: 0.149 | F5: 28.22355 | J5: 7.5275234
A6: Gas | B6: Basisschool | C6: tot 1946 | D6: 444 | E6: 0.1 | F6: 9.4064 | G6: 6.6971908 | H6: 8.9384194 | I6: 11.584024 | J6: 7.7072313
A7: Gas | B7: Basisschool | C7: 1946 tot 1978 | D7: 1691 | E7: 0.382 | F7: 9.4469017 | G7: 7.1456756 | H7: 9.1453202 | I7: 11.56103 | J7: 8.2304107
A8: Gas | B8: Basisschool | C8: 1978 tot 1995 | D8: 1032 | E8: 0.233 | F8: 8.6178441 | G8: 6.3161775 | H8: 8.3417117 | I8: 10.473836 | J8: 7.4982643
A9: Gas | B9: Basisschool | C9: 1995 tot 2009 | D9: 651 | E9: 0.147 | F9: 7.1197011 | G9: 5.1590021 | H9: 6.8551188 | I9: 8.8892045 | J9: 5.6935041
A10: Gas | B10: Basisschool | C10: 2009 tot 2015 | D10: 437 | E10: 0.099 | F10: 5.0510251 | G10: 2.4764672 | H10: 4.5631709 | I10: 6.4867807 | J10: 4.2474588
A11: Gas | B11: Basisschool | C11: vanaf 2015 | D11: 166 | E11: 0.038 | F11: 3.6498911 | G11: 1.5712909 | H11: 3.0726931 | I11: 4.960402 | J11: 3.3310409
A12: Gas | B12: Bedrijfshal algemeen (geen LISA-informatie) | C12: tot 1946 | D12: 231 | E12: 0.013 | F12: 4.4722654 | G12: 0.6262025 | H12: 3.3277592 | I12: 6.3214476 | J12: 2.8089063
A13: Gas | B13: Bedrijfshal algemeen (geen LISA-informatie) | C13: 1946 tot 1978 | D13: 2585 | E13: 0.143 | F13: 3.6718504 | G13: 0.21447721 | H13: 1.816092 | I13: 4.9517685 | J13: 3.0121788
A14: Gas | B14: Bedrijfshal algemeen (geen LISA-informatie) | C14: 1978 tot 1995 | D14: 4544 | E14: 0.251 | F14: 3.6212621 | G14: 0.45455533 | H14: 2.1077983 | I14: 5.1024943 | J14: 3.0362798
A15: Gas | B15: Bedrijfshal algemeen (geen LISA-informatie) | C15: 1995 tot 2009 | D15: 7944 | E15: 0.438 | F15: 2.9225442 | G15: 0.19839121 | H15: 1.6209677 | I15: 4.0966125 | J15: 2.979528
A16: Gas | B16: Bedrijfshal algemeen (geen LISA-informatie) | C16: 2009 tot 2015 | D16: 1600 | E16: 0.088 | F16: 2.8274246 | G16: 0.19603842 | H16: 1.7390167 | I16: 3.9460853 | J16: 2.8771707
A17: Gas | B17: Bedrijfshal algemeen (geen LISA-informatie) | C17: vanaf 2015 | D17: 1233 | E17: 0.068 | F17: 2.5218155 | H17: 1.2166247 | I17: 3.36 | J17: 2.3263507
A18: Gas | B18: Bedrijfshal algemeen (met LISA-informatie) | C18: tot 1946 | D18: 120 | E18: 0.011 | F18: 5.3150665 | G18: 1.5296191 | H18: 3.8571239 | I18: 7.3451706 | J18: 3.1251667
A19: Gas | B19: Bedrijfshal algemeen (met LISA-informatie) | C19: 1946 tot 1978 | D19: 1485 | E19: 0.133 | F19: 4.6099755 | G19: 1.0706482 | H19: 3.0029412 | I19: 5.6771523 | J19: 3.8315112
A20: Gas | B20: Bedrijfshal algemeen (met LISA-informatie) | C20: 1978 tot 1995 | D20: 2908 | E20: 0.261 | F20: 4.3510205 | G20: 1.3351972 | H20: 3.050073 | I20: 5.8540152 | J20: 3.663662
A21: Gas | B21: Bedrijfshal algemeen (met LISA-informatie) | C21: 1995 tot 2009 | D21: 4979 | E21: 0.446 | F21: 4.0377157 | G21: 1.2478678 | H21: 2.8834951 | I21: 5.2308013 | J21: 3.2297501
A22: Gas | B22: Bedrijfshal algemeen (met LISA-informatie) | C22: 2009 tot 2015 | D22: 1046 | E22: 0.094 | F22: 3.7275779 | G22: 1.0713324 | H22: 2.5311231 | I22: 4.645199 | J22: 2.8260936
A23: Gas | B23: Bedrijfshal algemeen (met LISA-informatie) | C23: vanaf 2015 | D23: 617 | E23: 0.055 | F23: 3.2406362 | G23: 0.732 | H23: 2.0309023 | I23: 4.25 | J23: 2.0561758
A24: Gas | B24: Bedrijfshal met logistieke activiteiten | C24: tot 1946 | D24: 50 | E24: 0.01 | F24: 4.3359663 | G24: 1.337038 | H24: 3.1226909 | I24: 5.4010487 | J24: 2.7235619
A25: Gas | B25: Bedrijfshal met logistieke activiteiten | C25: 1946 tot 1978 | D25: 698 | E25: 0.142 | F25: 3.5944941 | G25: 1.0394245 | H25: 2.5469945 | I25: 4.794994 | J25: 2.9236287
A26: Gas | B26: Bedrijfshal met logistieke activiteiten | C26: 1978 tot 1995 | D26: 1243 | E26: 0.252 | F26: 3.6789491 | G26: 1.3558424 | H26: 2.8940594 | I26: 4.7556557 | J26: 2.7977461
A27: Gas | B27: Bedrijfshal met logistieke activiteiten | C27: 1995 tot 2009 | D27: 2063 | E27: 0.419 | F27: 3.3025035 | G27: 1.4738804 | H27: 2.6612903 | I27: 4.3658478 | J27: 2.6211069
A28: Gas | B28: Bedrijfshal met logistieke activiteiten | C28: 2009 tot 2015 | D28: 556 | E28: 0.113 | F28: 2.8190322 | G28: 1.1804141 | H28: 2.2287184 | I28: 3.8529577 | J28: 2.3792013
A29: Gas | B29: Bedrijfshal met logistieke activiteiten | C29: vanaf 2015 | D29: 319 | E29: 0.065 | F29: 2.1112342 | G29: 0.63090341 | H29: 1.4700748 | I29: 2.5765785 | J29: 1.5249083
... A59: Gas | B59: Bijeenkomstgebouw (niet nader ingedeeld) | C59: vanaf 2015 | D59: 234 | E59: 0.025 | F59: 7.6430089 | G59: 2.8541813 | H59: 5.0301597 | I59: 10.897709 | J59: 5.783967
A60: Gas | B60: Campusgebouw | C60: tot 1978 | D60: 32 | E60: 0.327 | F60: 8.5947183 | H60: 5.144828 | J60: 9.3031946
A61: Gas | B61: Campusgebouw | C61: 1978 tot 1995 | D61: 12 | E61: 0.122 | F61: 10.16604 | J61: 9.4564442
A62: Gas | B62: Campusgebouw | C62: 1995 tot 2009 | D62: 29 | E62: 0.296 | F62: 8.3158653 | H62: 8.0719344 | J62: 8.5661981
A63: Gas | B63: Campusgebouw | C63: 2009 tot 2015 | D63: 12 | E63: 0.122 | F63: 6.0664104 | J63: 4.8310581
A64: Gas | B64: Campusgebouw | C64: vanaf 2015 | D64: 13 | E64: 0.133 | F64: 6.4564679 | J64: 1.2482909
A65: Gas | B65: Cultuurhuis | C65: tot 1946 | D65: 210 | E65: 0.387 | F65: 8.0097979 | G65: 4.0876164 | H65: 7.6982862 | I65: 11.29207 | J65: 4.8088221
A66: Gas | B66: Cultuurhuis | C66: 1946 tot 1978 | D66: 119 | E66: 0.22 | F66: 7.9509245 | G66: 4.8379492 | H66: 7.3953886 | I66: 10.341152 | J66: 5.7067309
A67: Gas | B67: Cultuurhuis | C67: 1978 tot 1995 | D67: 92 | E67: 0.17 | F67: 7.6908161 | G67: 5.0114343 | H67: 7.322857 | I67: 9.4863913 | J67: 6.7118223
A68: Gas | B68: Cultuurhuis | C68: 1995 tot 2009 | D68: 87 | E68: 0.161 | F68: 6.2885385 | G68: 3.6291413 | H68: 5.840772 | I68: 8.1258158 | J68: 4.6342408
A69: Gas | B69: Cultuurhuis | C69: 2009 tot 2015 | D69: 22 | E69: 0.041 | F69: 6.0469199 | H69: 4.7223354 | J69: 3.8675652
...

Sheet gas_kental_opp_2024
A1: Energiedrager | B1: Gebouwtype | C1: Oppervlakteklasse | D1: Aantal panden | E1: Aandeel panden per gebouwtype | F1: Gemiddelde kental (m3/m2) | G1: Q1 kental (m3/m2) | H1: Mediaan kental (m3/m2) | I1: Q3 kental (m3/m2) | J1: Gewogen gemiddelde kental (m3/m2)
A2: Gas | B2: Asielzoekerscentrum | C2: tot 1000 m2 | D2: 16 | E2: 0.239 | F2: 29.844232 | J2: 23.172824
A3: Gas | B3: Asielzoekerscentrum | C3: 1000 tot 2500 m2 | D3: 20 | E3: 0.299 | F3: 40.035316 | H3: 20.001712 | J3: 34.169004
A4: Gas | B4: Asielzoekerscentrum | C4: 2500 tot 5000 m2 | D4: 13 | E4: 0.194 | F4: 25.331452 | J4: 27.146052
A5: Gas | B5: Asielzoekerscentrum | C5: vanaf 5000 m2 | D5: 18 | E5: 0.269 | F5: 11.307381 | J5: 9.6560578
A6: Gas | B6: Basisschool | C6: tot 250 m2 | D6: 11 | E6: 0.002 | F6: 13.418301 | J6: 14.19141
A7: Gas | B7: Basisschool | C7: 250 tot 500 m2 | D7: 107 | E7: 0.024 | F7: 12.593801 | G7: 10.092891 | H7: 12.025316 | I7: 15.092722 | J7: 12.519015
A8: Gas | B8: Basisschool | C8: 500 tot 1000 m2 | D8: 837 | E8: 0.189 | F8: 10.770977 | G8: 8.3847953 | H8: 10.103293 | I8: 12.718615 | J8: 10.704281
A9: Gas | B9: Basisschool | C9: 1000 tot 2500 m2 | D9: 2552 | E9: 0.577 | F9: 8.3577074 | G9: 6.0883289 | H9: 8.1904143 | I9: 10.41572 | J9: 8.0649772
A10: Gas | B10: Basisschool | C10: 2500 tot 5000 m2 | D10: 717 | E10: 0.162 | F10: 5.4539299 | G10: 3.6123743 | H10: 5.1327307 | I10: 7.2583693 | J10: 5.3620609
A11: Gas | B11: Basisschool | C11: 5000 tot 10000 m2 | D11: 160 | E11: 0.036 | F11: 3.9210124 | G11: 2.1477245 | H11: 3.7920208 | I11: 5.3814983 | J11: 3.9017141
A12: Gas | B12: Basisschool | C12: vanaf 10000 m2 | D12: 37 | E12: 0.008 | F12: 3.1277779 | H12: 2.5411108 | J12: 2.7303472
A13: Gas | B13: Bedrijfshal algemeen (geen LISA-informatie) | C13: tot 50 m2 | D13: 159 | E13: 0.009 | F13: 4.837947 | H13: 1.4074074 | I13: 7.6685714 | J13: 4.7919485
A14: Gas | B14: Bedrijfshal algemeen (geen LISA-informatie) | C14: 50 tot 100 m2 | D14: 1221 | E14: 0.067 | F14: 3.5021453 | H14: 0.83950617 | I14: 5.1369863 | J14: 3.4617805
A15: Gas | B15: Bedrijfshal algemeen (geen LISA-informatie) | C15: 100 tot 250 m2 | D15: 4589 | E15: 0.253 | F15: 2.9393939 | G15: 0.013422819 | H15: 1.3636364 | I15: 4.1302521 | J15: 2.9485602
A16: Gas | B16: Bedrijfshal algemeen (geen LISA-informatie) | C16: 250 tot 500 m2 | D16: 3672 | E16: 0.202 | F16: 3.2587866 | G16: 0.25937548 | H16: 1.9496337 | I16: 4.486231 | J16: 3.2806042
A17: Gas | B17: Bedrijfshal algemeen (geen LISA-informatie) | C17: 500 tot 1000 m2 | D17: 3540 | E17: 0.195 | F17: 3.2581396 | G17: 0.49073795 | H17: 2.0563741 | I17: 4.4607908 | J17: 3.264927
A18: Gas | B18: Bedrijfshal algemeen (geen LISA-informatie) | C18: 1000 tot 2500 m2 | D18: 3112 | E18: 0.172 | F18: 3.4213585 | G18: 0.66288304 | H18: 2.1291149 | I18: 4.7660187 | J18: 3.426595
A19: Gas | B19: Bedrijfshal algemeen (geen LISA-informatie) | C19: 2500 tot 5000 m2 | D19: 1087 | E19: 0.06 | F19: 2.8519409 | G19: 0.47910979 | H19: 1.6297446 | I19: 3.9098644 | J19: 2.8125599
A20: Gas | B20: Bedrijfshal algemeen (geen LISA-informatie) | C20: 5000 tot 10000 m2 | D20: 511 | E20: 0.028 | F20: 2.8746581 | G20: 0.46502998 | H20: 1.5163831 | I20: 3.4846717 | J20: 2.8763791
A21: Gas | B21: Bedrijfshal algemeen (geen LISA-informatie) | C21: vanaf 10000 m2 | D21: 246 | E21: 0.014 | F21: 2.3545661 | G21: 0.26688526 | H21: 0.97108613 | I21: 2.5209844 | J21: 2.1888117
A22: Gas | B22: Bedrijfshal algemeen (met LISA-informatie) | C22: tot 50 m2 | D22: 37 | E22: 0.003 | F22: 10.84108 | H22: 8.8913043 | J22: 10.618505
A23: Gas | B23: Bedrijfshal algemeen (met LISA-informatie) | C23: 50 tot 100 m2 | D23: 357 | E23: 0.032 | F23: 6.0011132 | G23: 1.1313131 | H23: 4.3580247 | I23: 8.3134328 | J23: 5.7903007
A24: Gas | B24: Bedrijfshal algemeen (met LISA-informatie) | C24: 100 tot 250 m2 | D24: 1932 | E24: 0.173 | F24: 4.7179156 | G24: 1.1728506 | H24: 3.3098948 | I24: 6.0178591 | J24: 4.615328
A25: Gas | B25: Bedrijfshal algemeen (met LISA-informatie) | C25: 250 tot 500 m2 | D25: 1901 | E25: 0.17 | F25: 4.4606531 | G25: 1.4050926 | H25: 3.2875 | I25: 5.8787879 | J25: 4.391249
A26: Gas | B26: Bedrijfshal algemeen (met LISA-informatie) | C26: 500 tot 1000 m2 | D26: 2545 | E26: 0.228 | F26: 4.0984557 | G26: 1.4078498 | H26: 3.01 | I26: 5.4193548 | J26: 4.0745705
A27: Gas | B27: Bedrijfshal algemeen (met LISA-informatie) | C27: 1000 tot 2500 m2 | D27: 2598 | E27: 0.233 | F27: 3.7750175 | G27: 1.2145445 | H27: 2.674452 | I27: 4.9194046 | J27: 3.760109
A28: Gas | B28: Bedrijfshal algemeen (met LISA-informatie) | C28: 2500 tot 5000 m2 | D28: 1008 | E28: 0.09 | F28: 3.3970255 | G28: 0.97030477 | H28: 2.158281 | I28: 4.1473743 | J28: 3.3464094
A29: Gas | B29: Bedrijfshal algemeen (met LISA-informatie) | C29: 5000 tot 10000 m2 | D29: 484 | E29: 0.043 | F29: 3.3156064 | G29: 0.81759209 | H29: 1.8180453 | I29: 3.8085379 | J29: 3.3518875
A30: Gas | B30: Bedrijfshal algemeen (met LISA-informatie) | C30: vanaf 10000 m2 | D30: 293 | E30: 0.026 | F30: 2.5032164 | G30: 0.45983428 | H30: 1.4098519 | I30: 2.7314322 | J30: 2.3757124
A31: Gas | B31: Bedrijfshal met logistieke activiteiten | C31: tot 100 m2 | D31: 26 | E31: 0.005 | F31: 5.8754138 | H31: 5.4235417 | J31: 5.5063808
A32: Gas | B32: Bedrijfshal met logistieke activiteiten | C32: 100 tot 250 m2 | D32: 179 | E32: 0.036 | F32: 4.7191071 | G32: 0.85342692 | H32: 3.577381 | I32: 6.8607205 | J32: 4.6702107
A33: Gas | B33: Bedrijfshal met logistieke activiteiten | C33: 250 tot 500 m2 | D33: 322 | E33: 0.065 | F33: 4.5194617 | G33: 1.8365407 | H33: 3.5233976 | I33: 5.7291155 | J33: 4.4567428
A34: Gas | B34: Bedrijfshal met logistieke activiteiten | C34: 500 tot 1000 m2 | D34: 769 | E34: 0.156 | F34: 3.776799 | G34: 1.6689466 | H34: 3.1153153 | I34: 4.8850829 | J34: 3.7107266
A35: Gas | B35: Bedrijfshal met logistieke activiteiten | C35: 1000 tot 2500 m2 | D35: 1733 | E35: 0.352 | F35: 3.1667238 | G35: 1.356301 | H35: 2.576055 | I35: 4.3021101 | J35: 3.1142871
A36: Gas | B36: Bedrijfshal met logistieke activiteiten | C36: 2500 tot 5000 m2 | D36: 1053 | E36: 0.214 | F36: 3.0781367 | G36: 1.2929365 | H36: 2.458751 | I36: 4.0127513 | J36: 3.0233593
A37: Gas | B37: Bedrijfshal met logistieke activiteiten | C37: 5000 tot 10000 m2 | D37: 523 | E37: 0.106 | F37: 2.8033877 | G37: 0.96781929 | H37: 2.0208707 | I37: 3.707139 | J37: 2.7596996
A38: Gas | B38: Bedrijfshal met logistieke activiteiten | C38: vanaf 10000 m2 | D38: 324 | E38: 0.066 | F38: 2.4695407 | G38: 0.68552323 | H38: 1.4292279 | I38: 2.9527891 | J38: 1.9127279
A39: Gas | B39: Bedrijfshal met maakindustrie en andere economische activiteiten | C39: tot 100 m2 | D39: 38 | E39: 0.008 | F39: 7.3804893 | H39: 6.3361842 | J39: 7.5217694
A40: Gas | B40: Bedrijfshal met maakindustrie en andere economische activiteiten | C40: 100 tot 250 m2 | D40: 244 | E40: 0.054 | F40: 5.5880954 | G40: 1.5412428 | H40: 3.6959468 | I40: 7.3376664 | J40: 5.3011017
...

Sheet gas_kental_label_2024
A1: Energiedrager | B1: Gebouwtype | C1: Labelklasse | D1: Aantal panden | E1: Aandeel panden per gebouwtype | F1: Gemiddelde kental (m3/m2) | G1: Q1 kental (m3/m2) | H1: Mediaan kental (m3/m2) | I1: Q3 kental (m3/m2) | J1: Gewogen gemiddelde kental (m3/m2)
A2: Gas | B2: Basisschool | C2: G | D2: 139 | E2: 0.099 | F2: 10.118495 | G2: 7.5939716 | H2: 9.7115223 | I2: 11.94491 | J2: 8.6922676
A3: Gas | B3: Basisschool | C3: F | D3: 64 | E3: 0.045 | F3: 9.8286663 | G3: 7.3856674 | H3: 9.4497949 | I3: 11.652517 | J3: 8.2906451
A4: Gas | B4: Basisschool | C4: E | D4: 93 | E4: 0.066 | F4: 9.5049793 | G4: 7.2194617 | H4: 8.8843338 | I4: 11.800554 | J4: 7.4485128
A5: Gas | B5: Basisschool | C5: D | D5: 151 | E5: 0.107 | F5: 9.3386325 | G5: 6.5978539 | H5: 8.9696049 | I5: 11.135523 | J5: 8.5673571
A6: Gas | B6: Basisschool | C6: C | D6: 196 | E6: 0.139 | F6: 8.4127756 | G6: 6.5435176 | H6: 8.3646852 | I6: 10.312178 | J6: 7.4395909
A7: Gas | B7: Basisschool | C7: B | D7: 122 | E7: 0.087 | F7: 7.278147 | G7: 4.7971679 | H7: 6.9967878 | I7: 8.9143534 | J7: 6.2821233
A8: Gas | B8: Basisschool | C8: A en beter | D8: 642 | E8: 0.456 | F8: 5.5826351 | G8: 3.168554 | H8: 5.140097 | I8: 7.5646517 | J8: 4.5820735
A9: Gas | B9: Bijeenkomstgebouw (niet nader ingedeeld) | C9: G | D9: 536 | E9: 0.201 | F9: 9.7404413 | G9: 4.3480263 | H9: 8.1830759 | I9: 13.053354 | J9: 9.1378608
A10: Gas | B10: Bijeenkomstgebouw (niet nader ingedeeld) | C10: F | D10: 148 | E10: 0.056 | F10: 9.0584942 | G10: 4.1229167 | H10: 7.745324 | I10: 12.660997 | J10: 7.1113427
A11: Gas | B11: Bijeenkomstgebouw (niet nader ingedeeld) | C11: E | D11: 214 | E11: 0.08 | F11: 9.1147033 | G11: 3.6096276 | H11: 7.6073649 | I11: 12.943438 | J11: 9.0408409
A12: Gas | B12: Bijeenkomstgebouw (niet nader ingedeeld) | C12: D | D12: 260 | E12: 0.098 | F12: 8.6909482 | G12: 4.5346584 | H12: 8.0161052 | I12: 11.788194 | J12: 7.466043
A13: Gas | B13: Bijeenkomstgebouw (niet nader ingedeeld) | C13: C | D13: 356 | E13: 0.134 | F13: 8.6362651 | G13: 4.524273 | H13: 7.6119745 | I13: 11.450631 | J13: 7.5954073
... A15: Gas | B15: Bijeenkomstgebouw (niet nader ingedeeld) | C15: A en beter | D15: 900 | E15: 0.338 | F15: 7.8140141 | G15: 3.7197799 | H15: 6.5528283 | I15: 10.25426 | J15: 6.4552992
A16: Gas | B16: Campusgebouw | C16: G t/m E | D16: 11 | E16: 0.149 | F16: 9.742455 | J16: 7.1983608
A17: Gas | B17: Campusgebouw | C17: D en C | D17: 11 | E17: 0.149 | F17: 9.0399094 | J17: 5.7530795
A18: Gas | B18: Campusgebouw | C18: B | D18: 13 | E18: 0.176 | F18: 9.2165594 | J18: 12.706091
A19: Gas | B19: Campusgebouw | C19: A en beter | D19: 39 | E19: 0.527 | F19: 5.2313017 | H19: 4.7010178 | J19: 2.2868456
A20: Gas | B20: Cultuurhuis | C20: G | D20: 26 | E20: 0.097 | F20: 9.1305136 | H20: 9.5682283 | J20: 2.6608329
A21: Gas | B21: Cultuurhuis | C21: F en E | D21: 28 | E21: 0.104 | F21: 9.5336877 | H21: 10.326884 | J21: 8.1854138
A22: Gas | B22: Cultuurhuis | C22: D | D22: 25 | E22: 0.093 | F22: 8.9590605 | H22: 7.3393443 | J22: 5.4215985
A23: Gas | B23: Cultuurhuis | C23: C | D23: 33 | E23: 0.123 | F23: 7.2590992 | H23: 7.0591032 | J23: 5.6900162
A24: Gas | B24: Cultuurhuis | C24: B | D24: 32 | E24: 0.119 | F24: 7.601847 | H24: 6.7969504 | J24: 7.0330472
A25: Gas | B25: Cultuurhuis | C25: A en beter | D25: 124 | E25: 0.463 | F25: 6.1772915 | G25: 3.6565131 | H25: 5.7940528 | I25: 8.0011848 | J25: 4.7184722
A26: Gas | B26: Gebedshuis | C26: G | D26: 58 | E26: 0.175 | F26: 7.2541301 | G26: 3.9493278 | H26: 6.3165399 | I26: 10.355079 | J26: 5.3400301
A27: Gas | B27: Gebedshuis | C27: F | D27: 24 | E27: 0.072 | F27: 6.4259913 | H27: 6.1050117 | J27: 4.5897107
A28: Gas | B28: Gebedshuis | C28: E | D28: 24 | E28: 0.072 | F28: 5.9604409 | H28: 5.4537946 | J28: 6.5942857
A29: Gas | B29: Gebedshuis | C29: D | D29: 39 | E29: 0.117 | F29: 6.6830393 | H29: 5.4969121 | J29: 5.1990256
A30: Gas | B30: Gebedshuis | C30: C | D30: 50 | E30: 0.151 | F30: 7.3018208 | G30: 5.0577573 | H30: 6.8101276 | I30: 8.7889677 | J30: 5.6539681
A31: Gas | B31: Gebedshuis | C31: B | D31: 39 | E31: 0.117 | F31: 5.7465576 | H31: 4.9070856 | J31: 5.5142631
A32: Gas | B32: Gebedshuis | C32: A en beter | D32: 98 | E32: 0.295 | F32: 5.4522325 | G32: 2.9759164 | H32: 5.1801497 | I32: 7.4720111 | J32: 4.2975268
A33: Gas | B33: Gebouw bij spooremplacement | C33: G | D33: 11 | E33: 0.229 | F33: 8.3758278 | J33: 10.44485
A34: Gas | B34: Gebouw bij spooremplacement | C34: F t/m D | D34: 11 | E34: 0.229 | F34: 3.6687226 | J34: 2.5347308
A35: Gas | B35: Gebouw bij spooremplacement | C35: C en B | D35: 10 | E35: 0.208 | F35: 7.7337007 | J35: 6.1507584
A36: Gas | B36: Gebouw bij spooremplacement | C36: A en beter | D36: 16 | E36: 0.333 | F36: 5.7366007 | J36: 4.3156225
A37: Gas | B37: Gebouw op vakantiepark | C37: G | D37: 617 | E37: 0.036 | F37: 11.252737 | G37: 5.8611111 | H37: 10.388889 | I37: 16.322581 | J37: 9.956594
A38: Gas | B38: Gebouw op vakantiepark | C38: F | D38: 496 | E38: 0.029 | F38: 11.053221 | G38: 6.9122291 | H38: 10.496964 | I38: 14.68365 | J38: 9.2909793
A39: Gas | B39: Gebouw op vakantiepark | C39: E | D39: 779 | E39: 0.046 | F39: 10.460548 | G39: 6.6197738 | H39: 10 | I39: 13.760256 | J39: 9.7212563
A40: Gas | B40: Gebouw op vakantiepark | C40: D | D40: 1249 | E40: 0.074 | F40: 10.298572 | G40: 6.4285714 | H40: 9.7264957 | I40: 13.6 | J40: 9.3824623
A41: Gas | B41: Gebouw op vakantiepark | C41: C | D41: 5131 | E41: 0.303 | F41: 10.09384 | G41: 6.8710465 | H41: 9.8319328 | I41: 12.88584 | J41: 9.8700712
...

Sheet gas_kental_diensten_2024
A1: Energiedrager | B1: Gebouwtype | C1: Aantal panden | D1: Gemiddelde kental (m3/m2) | E1: Q1 kental (m3/m2) | F1: Mediaan kental (m3/m2) | G1: Q3 kental (m3/m2) | H1: Gewogen gemiddelde kental (m3/m2)
A2: Gas | B2: Asielzoekerscentrum | C2: 45 | D2: 26.376081 | E2: 11.947459 | F2: 19.575917 | G2: 28.130901 | H2: 19.725105
A3: Gas | B3: Basisschool | C3: 3919 | D3: 8.4178898 | E3: 5.8158063 | F3: 8.2446809 | G3: 10.639919 | H3: 6.9645691
A4: Gas | B4: Bedrijfshal algemeen (geen LISA-informatie) | C4: 9621 | D4: 3.1583836 | E4: 0.21236559 | F4: 1.7235294 | G4: 4.4 | H4: 2.7556953
A5: Gas | B5: Bedrijfshal algemeen (met LISA-informatie) | C5: 7430 | D5: 4.2205248 | E5: 1.2502929 | F5: 2.9719136 | G5: 5.4886308 | H5: 3.3204062
A6: Gas | B6: Bedrijfshal met logistieke activiteiten | C6: 1883 | D6: 3.4713314 | E6: 1.1478575 | F6: 2.6232033 | G6: 4.722556 | H6: 2.6913163
A7: Gas | B7: Bedrijfshal met maakindustrie en andere economische activiteiten | C7: 1403 | D7: 4.095638 | E7: 1.3354612 | F7: 2.9172662 | G7: 5.3877371 | H7: 3.5852306
A8: Gas | B8: Bedrijfshal met maakindustrie en logistieke activiteiten | C8: 5851 | D8: 3.6833016 | E8: 1.1784346 | F8: 2.6907277 | G8: 4.9056783 | H8: 2.899576
A9: Gas | B9: Bedrijfshal uitsluitend maakindustrie | C9: 6293 | D9: 4.7131699 | E9: 1.2424242 | F9: 3.2247475 | G9: 6.0967273 | H9: 4.8226444
A10: Gas | B10: Bedrijfswoning | C10: 8004 | D10: 8.624905 | E10: 3.5822388 | F10: 6.8166447 | G10: 11.297286 | H10: 6.2980132
A11: Gas | B11: Bijeenkomstgebouw (niet nader ingedeeld) | C11: 8231 | D11: 8.0063227 | E11: 3.6000731 | F11: 6.5225806 | G11: 10.613359 | H11: 7.0745002
A12: Gas | B12: Campusgebouw | C12: 66 | D12: 8.343593 | E12: 1.9918014 | F12: 6.5308783 | G12: 11.505005 | H12: 8.662221
A13: Gas | B13: Cultuurhuis | C13: 442 | D13: 7.709645 | E13: 4.1603733 | F13: 7.3564953 | G13: 10.384589 | H13: 5.5768605
A14: Gas | B14: Datacenter | C14: 36 | D14: 2.821748 | F14: 1.4376674 | H14: 2.4458376
A15: Gas | B15: Gebedshuis | C15: 3551 | D15: 6.7532318 | E15: 3.8056807 | F15: 6.2486339 | G15: 9.0598014 | H15: 5.1822709
A16: Gas | B16: Gebouw bij militaire inrichting
A17: Gas | B17: Gebouw bij spooremplacement | C17: 43 | D17: 8.148062 | E17: 1.5875023 | F17: 6.5258918 | G17: 12.636073 | H17: 7.8413177
A18: Gas | B18: Gebouw bij vliegveld of luchthaven | C18: 111 | D18: 6.1971065 | E18: 1.2491553 | F18: 4.3611111 | G18: 8.615566 | H18: 5.6802408
A19: Gas | B19: Gebouw in landelijk gebied voor industrie (geen landbouwactiviteiten geregistreerd) | C19: 1748 | D19: 4.7260496 | E19: 0.79426055 | F19: 2.7281892 | G19: 6.3425619 | H19: 3.0361567
A20: Gas | B20: Gebouw in stedelijk gebied met industriefunctie | C20: 7589 | D20: 5.8442287 | E20: 0.95833333 | F20: 3.5945946 | G20: 7.7620751 | H20: 4.1649759
A21: Gas | B21: Gebouw op snelwegverzorgingsplaats | C21: 52 | D21: 8.8595461 | E21: 0.98758109 | F21: 5.4828232 | G21: 12.96922 | H21: 11.727664
A22: Gas | B22: Gebouw op vakantiepark | C22: 33182 | D22: 9.1274382 | E22: 5.4832387 | F22: 8.5852361 | G22: 11.930868 | H22: 8.9238332
A23: Gas | B23: Gebouw voor landbouwactiviteiten | C23: 200 | D23: 10.32056 | E23: 1.1641346 | F23: 4.5493031 | G23: 12.256633 | H23: 2.7028863
A24: Gas | B24: Groothandel op bedrijventerrein | C24: 157 | D24: 3.2443498 | E24: 1.5153121 | F24: 2.8812936 | G24: 4.335 | H24: 2.7758379
A25: Gas | B25: Hotel (of ander groot logiesgebouw) | C25: 2008 | D25: 11.748661 | E25: 6.1382286 | F25: 10.667727 | G25: 16.435742 | H25: 9.7004041
A26: Gas | B26: IJsbaan | C26: 104 | D26: 3.8495173 | E26: 1.6678736 | F26: 3.4760302 | G26: 4.8665909 | H26: 1.7290434
A27: Gas | B27: Kantoorpand algemeen | C27: 15690 | D27: 7.4351092 | E27: 3.9433961 | F27: 6.8067972 | G27: 10.155119 | H27: 5.6059851
A28: Gas | B28: Kinderopvang (gebouw) | C28: 1351 | D28: 10.298472 | E28: 6.7231268 | F28: 9.4983051 | G28: 13.252405 | H28: 8.8446967
A29: Gas | B29: Koelhuis | C29: 62 | D29: 3.4551054 | E29: 0.50871645 | F29: 1.0979716 | G29: 4.1193114 | H29: 2.0569811
A30: Gas | B30: MBO-gebouw
A31: Gas | B31: Meergezinswoning met andere functie of combinatie van functies | C31: 1630 | D31: 8.2977859 | E31: 3.8865139 | F31: 7.4461336 | G31: 11.894834 | H31: 6.6982093
A32: Gas | B32: Meergezinswoning met cafe of restaurant | C32: 1009 | D32: 12.691474 | E32: 5.8344086 | F32: 10.503106 | G32: 17.5 | H32: 10.862246
A33: Gas | B33: Meergezinswoning met winkel | C33: 2613 | D33: 8.1544356 | E33: 3.7301927 | F33: 7.2827586 | G33: 11.441365 | H33: 6.8409668
A34: Gas | B34: Meergezinswoning met winkels en horeca | C34: 267 | D34: 9.2837119 | E34: 4.3940872 | F34: 8.2064607 | G34: 12.958931 | H34: 4.632823
A35: Gas | B35: Meergezinswoning met woonzorgeenheden | C35: 81 | D35: 11.308839 | E35: 7.4397906 | F35: 9.9539394 | G35: 15.4375 | H35: 10.302195
A36: Gas | B36: Middelbare school | C36: 971 | D36: 6.2804627 | E36: 3.5463234 | F36: 5.8003597 | G36: 8.4562593 | H36: 4.9757505
A37: Gas | B37: Nutsgebouw (elektriciteit)
A38: Gas | B38: Nutsgebouw (water) | C38: 163 | D38: 14.31629 | E38: 4.2119828 | F38: 10.5375 | G38: 18.121591 | H38: 7.8014349
A39: Gas | B39: Overig gebouw met maatschappelijke functie | C39: 1373 | D39: 9.2415201 | E39: 3.209607 | F39: 6.3994801 | G39: 11.400203 | H39: 7.9425553
A40: Gas | B40: Overig gebouw met recreatiefunctie | C40: 60 | D40: 15.763279 | E40: 4.2570099 | F40: 8.8667333 | G40: 18.131343 | H40: 13.799746
...

Sheet elek_kental_2024
A1: Energiedrager | B1: Gebouwtype | C1: Aantal panden | D1: Gemiddelde kental (kWh/m2) | E1: Q1 kental (kWh/m2) | F1: Mediaan kental (kWh/m2) | G1: Q3 kental (kWh/m2) | H1: Gewogen gemiddelde kental (kWh/m2) | I1: Gemiddelde kental inclusief eigenverbruik zonnestroom (kWh/m2) | J1: Q1 kental inclusief eigenverbruik zonnestroom (kWh/m2) | K1: Mediaan kental inclusief eigenverbruik zonnestroom (kWh/m2) | L1: Q3 kental inclusief eigenverbruik zonnestroom (kWh/m2) | M1: Gewogen gemiddelde kental inclusief eigenverbruik zonnestroom (kWh/m2)
A2: Elektriciteit | B2: Asielzoekerscentrum | C2: 75 | D2: 121.43814 | E2: 37.008572 | F2: 60.030928 | G2: 118.27417 | H2: 72.299584 | I2: 123.90551 | J2: 38.30757 | K2: 63.630945 | L2: 118.27417 | M2: 74.861023
A3: Elektriciteit | B3: Basisschool | C3: 4930 | D3: 24.77279 | E3: 15.045799 | F3: 21.118983 | G3: 30.883732 | H3: 25.684712 | I3: 28.405393 | J3: 17.468165 | K3: 23.47714 | L3: 35.233114 | M3: 28.961781
A4: Elektriciteit | B4: Bedrijfshal algemeen (geen LISA-informatie) | C4: 22285 | D4: 33.26362 | E4: 10.40367 | F4: 18.973333 | G4: 36.841026 | H4: 37.870124 | I4: 37.349624 | J4: 11.20915 | K4: 20.866525 | L4: 41.128713 | M4: 43.024716
A5: Elektriciteit | B5: Bedrijfshal algemeen (met LISA-informatie) | C5: 12743 | D5: 43.434489 | E5: 13.936855 | F5: 24.252841 | G5: 45.575192 | H5: 45.738201 | I5: 49.122897 | J5: 15.724275 | K5: 27.554545 | L5: 51.791725 | M5: 51.750546
A6: Elektriciteit | B6: Bedrijfshal met logistieke activiteiten | C6: 5661 | D6: 36.207149 | E6: 15.152954 | F6: 24.135202 | G6: 40.110097 | H6: 37.97006 | I6: 41.134233 | J6: 17.096639 | K6: 27.286858 | L6: 45.946667 | M6: 44.1881
A7: Elektriciteit | B7: Bedrijfshal met maakindustrie en andere economische activiteiten | C7: 5028 | D7: 39.561654 | E7: 15.034078 | F7: 24.992309 | G7: 44.484931 | H7: 47.652182 | I7: 45.055608 | J7: 17.000382 | K7: 28.870423 | L7: 51.402008 | M7: 53.216129
A8: Elektriciteit | B8: Bedrijfshal met maakindustrie en logistieke activiteiten | C8: 10761 | D8: 42.889546 | E8: 13.475678 | F8: 23.05516 | G8: 42.635185 | H8: 49.65584 | I8: 48.063405 | J8: 15.432547 | K8: 26.30819 | L8: 48.599791 | M8: 55.901457
A9: Elektriciteit | B9: Bedrijfshal uitsluitend maakindustrie | C9: 19454 | D9: 50.798117 | E9: 14.710111 | F9: 26.273841 | G9: 51.372941 | H9: 79.83267 | I9: 56.924152 | J9: 16.96766 | K9: 30.556537 | L9: 59.009558 | M9: 86.479202
A10: Elektriciteit | B10: Bedrijfswoning | C10: 67198 | D10: 58.513914 | E10: 14.890449 | F10: 26.784193 | G10: 56.891871 | H10: 45.976228 | I10: 80.15241 | J10: 17.533621 | K10: 32.316373 | L10: 70.619292 | M10: 62.230678
A11: Elektriciteit | B11: Bijeenkomstgebouw (niet nader ingedeeld) | C11: 9530 | D11: 47.052097 | E11: 12.952238 | F11: 24.753251 | G11: 53.560551 | H11: 49.241456 | I11: 51.148077 | J11: 14.221235 | K11: 27.960731 | L11: 59.413789 | M11: 52.509167
A12: Elektriciteit | B12: Campusgebouw | C12: 115 | D12: 91.635741 | E12: 34.235934 | F12: 58.501563 | G12: 116.19666 | H12: 72.494543 | I12: 95.546906 | J12: 37.675532 | K12: 58.946216 | L12: 119.07943 | M12: 75.08946
A13: Elektriciteit | B13: Cultuurhuis | C13: 575 | D13: 54.223419 | E13: 23.251727 | F13: 40.424335 | G13: 72.638561 | H13: 53.9969 | I13: 56.707223 | J13: 25.002248 | K13: 44.326882 | L13: 76.628148 | M13: 55.91128
... A15: Elektriciteit | B15: Gebedshuis | C15: 3530 | D15: 15.477606 | E15: 8.3444955 | F15: 12.194097 | G15: 19.602974 | H15: 16.567463 | I15: 17.27179 | J15: 8.9809591 | K15: 13.511421 | L15: 21.985621 | M15: 18.53106
A16: Elektriciteit | B16: Gebouw bij militaire inrichting | C16: 13 | D16: 861.69505 | H16: 595.18111 | I16: 873.34379 | M16: 599.79765
A17: Elektriciteit | B17: Gebouw bij spooremplacement | C17: 71 | D17: 64.815502 | E17: 16.32036 | F17: 47.354251 | G17: 94.649063 | H17: 55.425133 | I17: 68.587196 | J17: 18.527861 | K17: 48.443662 | L17: 94.649063 | M17: 56.850267
A18: Elektriciteit | B18: Gebouw bij vliegveld of luchthaven | C18: 157 | D18: 48.742141 | E18: 11.548634 | F18: 27.287139 | G18: 64.383324 | H18: 64.207088 | I18: 53.593908 | J18: 14.60356 | K18: 32.282897 | L18: 74.511724 | M18: 67.06001
A19: Elektriciteit | B19: Gebouw in landelijk gebied voor industrie (geen landbouwactiviteiten geregistreerd) | C19: 5053 | D19: 43.576024 | E19: 12.115385 | F19: 23.704887 | G19: 49.613853 | H19: 45.738521 | I19: 59.650332 | J19: 14.281798 | K19: 28.2 | L19: 60.637218 | M19: 58.50652
A20: Elektriciteit | B20: Gebouw in stedelijk gebied met industriefunctie | C20: 13663 | D20: 50.419378 | E20: 12.459059 | F20: 23.776508 | G20: 50.25463 | H20: 53.089438 | I20: 55.147629 | J20: 13.806343 | K20: 27.055838 | L20: 56.577663 | M20: 57.803669
A21: Elektriciteit | B21: Gebouw op snelwegverzorgingsplaats | C21: 152 | D21: 703.72823 | E21: 268.59076 | F21: 665.10508 | G21: 1001.8179 | H21: 430.33922 | I21: 712.14402 | J21: 268.59076 | K21: 665.10508 | L21: 1008.8862 | M21: 436.03397
A22: Elektriciteit | B22: Gebouw op vakantiepark | C22: 39605 | D22: 26.324611 | E22: 11.2 | F22: 17.035294 | G22: 29.592593 | H22: 31.757036 | I22: 29.852616 | J22: 11.904762 | K22: 18.595506 | L22: 33.701493 | M22: 36.542598
A23: Elektriciteit | B23: Gebouw voor landbouwactiviteiten | C23: 2455 | D23: 104.63683 | E23: 19.702734 | F23: 44.887755 | G23: 122.05453 | H23: 82.198463 | I23: 126.02186 | J23: 23.790448 | K23: 54.28054 | L23: 144.27606 | M23: 93.234484
A24: Elektriciteit | B24: Groothandel op bedrijventerrein | C24: 591 | D24: 27.899207 | E24: 14.949154 | F24: 21.945351 | G24: 33.706231 | H24: 25.946504 | I24: 31.006315 | J24: 16.120143 | K24: 24.346597 | L24: 38.299734 | M24: 28.235355
A25: Elektriciteit | B25: Hotel (of ander groot logiesgebouw) | C25: 2600 | D25: 66.812788 | E25: 24.594063 | F25: 51.560658 | G25: 95.839304 | H25: 76.254597 | I25: 69.770777 | J25: 27.706277 | K25: 54.412801 | L25: 99.453019 | M25: 77.858503
A26: Elektriciteit | B26: IJsbaan | C26: 114 | D26: 25.211189 | E26: 9.3133195 | F26: 16.731959 | G26: 32.116581 | H26: 77.004135 | I26: 29.358032 | J26: 9.5980706 | K26: 19.27184 | L26: 38.775595 | M26: 83.042534
A27: Elektriciteit | B27: Kantoorpand algemeen | C27: 21054 | D27: 44.588973 | E27: 19.176339 | F27: 33.460576 | G27: 58.036873 | H27: 52.019291 | I27: 49.527857 | J27: 21.562863 | K27: 37.429524 | L27: 63.701697 | M27: 55.049982
A28: Elektriciteit | B28: Kinderopvang (gebouw) | C28: 1567 | D28: 31.631261 | E28: 18.732678 | F28: 27.369492 | G28: 38.826691 | H28: 30.493834 | I28: 34.436962 | J28: 20.689706 | K28: 29.720482 | L28: 42.719815 | M28: 33.299784
A29: Elektriciteit | B29: Koelhuis | C29: 95 | D29: 247.53321 | E29: 54.659789 | F29: 166.78694 | G29: 323.9036 | H29: 226.06655 | I29: 265.03585 | J29: 78.079722 | K29: 181.20014 | L29: 335.99496 | M29: 242.85272
A30: Elektriciteit | B30: MBO-gebouw | C30: 16 | D30: 64.027382 | H30: 60.471046 | I30: 66.100231 | M30: 62.37861
A31: Elektriciteit | B31: Meergezinswoning met andere functie of combinatie van functies | C31: 17949 | D31: 35.719191 | E31: 17.389522 | F31: 25.514768 | G31: 39.966307 | H31: 37.12111 | I31: 38.683549 | J31: 18.461538 | K31: 26.933921 | L31: 42.801205 | M31: 39.698231
A32: Elektriciteit | B32: Meergezinswoning met cafe of restaurant | C32: 6339 | D32: 89.21967 | E32: 33.657704 | F32: 74.337963 | G32: 126.67289 | H32: 80.567007 | I32: 90.25793 | J32: 34.93406 | K32: 75.550756 | L32: 127.34798 | M32: 81.710356
A33: Elektriciteit | B33: Meergezinswoning met winkel | C33: 22455 | D33: 46.60631 | E33: 21.811959 | F33: 33.458333 | G33: 56.074545 | H33: 47.885293 | I33: 47.601837 | J33: 22.448333 | K33: 34.391645 | L33: 57.402316 | M33: 48.944969
A34: Elektriciteit | B34: Meergezinswoning met winkels en horeca | C34: 2590 | D34: 54.171417 | E34: 24.26134 | F34: 39.517828 | G34: 70.150316 | H34: 54.828427 | I34: 55.561119 | J34: 25.410304 | K34: 41.408548 | L34: 71.763054 | M34: 56.171982
A35: Elektriciteit | B35: Meergezinswoning met woonzorgeenheden | C35: 321 | D35: 30.87645 | E35: 18.858639 | F35: 27.486641 | G35: 39.960227 | H35: 33.141654 | I35: 33.944223 | J35: 20.027149 | K35: 30.753086 | L35: 43.909333 | M35: 36.523977
A36: Elektriciteit | B36: Middelbare school | C36: 1127 | D36: 34.778672 | E36: 21.390959 | F36: 29.79037 | G36: 41.977418 | H36: 32.014334 | I36: 38.570301 | J36: 24.268306 | K36: 33.451557 | L36: 46.407812 | M36: 35.710668
A37: Elektriciteit | B37: Nutsgebouw (elektriciteit) | C37: 173 | D37: 295.7194 | E37: 40.308867 | F37: 113.82857 | G37: 425.10547 | H37: 134.11058 | I37: 553.79525 | J37: 41.419463 | K37: 122.42534 | L37: 433.20385 | M37: 168.55254
A38: Elektriciteit | B38: Nutsgebouw (water) | C38: 71 | D38: 762.79155 | E38: 26.979906 | F38: 123.81459 | G38: 469.69434 | H38: 315.89649 | I38: 989.31099 | J38: 34.462122 | K38: 154.62116 | L38: 883.84636 | M38: 405.75713
A39: Elektriciteit | B39: Overig gebouw met maatschappelijke functie | C39: 1208 | D39: 39.267599 | E39: 8.8952377 | F39: 15.833145 | G39: 42.695817 | H39: 58.826026 | I39: 41.277175 | J39: 9.1355546 | K39: 16.629009 | L39: 45.903771 | M39: 61.317283
A40: Elektriciteit | B40: Overig gebouw met recreatiefunctie | C40: 82 | D40: 121.55007 | E40: 32.078812 | F40: 79.958349 | G40: 184.51074 | H40: 154.44514 | I40: 130.91996 | J40: 35.068806 | K40: 86.316483 | L40: 197.1199 | M40: 163.77049
A41: Elektriciteit | B41: Overig onderwijsgebouw | C41: 3143 | D41: 29.940371 | E41: 14.62802 | F41: 22.474118 | G41: 37.168468 | H41: 34.942183 | I41: 32.280965 | J41: 15.705472 | K41: 24.181672 | L41: 39.897671 | M41: 36.939433
...

Sheet elek_kental_bouwj_2024
A1: Energiedrager | B1: Gebouwtype | C1: Bouwjaarklasse | D1: Aantal panden | E1: Aandeel panden per gebouwtype | F1: Gemiddelde kental (kWh/m2) | G1: Q1 kental (kWh/m2) | H1: Mediaan kental (kWh/m2) | I1: Q3 kental (kWh/m2) | J1: Gewogen gemiddelde kental (kWh/m2) | K1: Gemiddelde kental inclusief eigenverbruik zonnestroom (kWh/m2) | L1: Q1 kental inclusief eigenverbruik zonnestroom (kWh/m2) | M1: Mediaan kental inclusief eigenverbruik zonnestroom (kWh/m2) | N1: Q3 kental inclusief eigenverbruik zonnestroom (kWh/m2) | O1: Gewogen gemiddelde kental inclusief eigenverbruik zonnestroom (kWh/m2)
A2: Elektriciteit | B2: Asielzoekerscentrum | C2: tot 1946 | D2: 11 | E2: 0.147 | F2: 144.22211 | J2: 64.969788 | K2: 146.36684 | O2: 68.441102
A3: Elektriciteit | B3: Asielzoekerscentrum | C3: 1946 tot 1978 | D3: 26 | E3: 0.347 | F3: 113.2972 | H3: 52.689421 | J3: 77.554188 | K3: 117.07002 | M3: 58.724866 | O3: 80.079716
A4: Elektriciteit | B4: Asielzoekerscentrum | C4: 1978 tot 1995 | D4: 22 | E4: 0.293 | F4: 147.97903 | H4: 77.123862 | J4: 82.740499 | K4: 148.33977 | M4: 77.123862 | O4: 82.982307
A5: Elektriciteit | B5: Asielzoekerscentrum | C5: vanaf 1995 | D5: 16 | E5: 0.213 | F5: 82.509474 | J5: 58.505191 | K5: 85.973909 | O5: 63.193024
A6: Elektriciteit | B6: Basisschool | C6: tot 1946 | D6: 458 | E6: 0.093 | F6: 22.379053 | G6: 13.828223 | H6: 19.006711 | I6: 27.070632 | J6: 20.438303 | K6: 25.07903 | L6: 16.025344 | M6: 21.176796 | N6: 30.040093 | O6: 22.690232
A7: Elektriciteit | B7: Basisschool | C7: 1946 tot 1978 | D7: 1734 | E7: 0.352 | F7: 20.662787 | G7: 13.59497 | H7: 18.326142 | I7: 24.524621 | J7: 19.737554 | K7: 23.528491 | L7: 15.873396 | M7: 20.376993 | N7: 27.219654 | O7: 22.248837
A8: Elektriciteit | B8: Basisschool | C8: 1978 tot 1995 | D8: 1109 | E8: 0.225 | F8: 20.722189 | G8: 13.812571 | H8: 18.581132 | I8: 24.365954 | J8: 20.053301 | K8: 23.754198 | L8: 16.269697 | M8: 21.05689 | N8: 27.434848 | O8: 22.861896
A9: Elektriciteit | B9: Basisschool | C9: 1995 tot 2009 | D9: 716 | E9: 0.145 | F9: 25.82153 | G9: 16.94802 | H9: 22.60125 | I9: 31.306353 | J9: 25.829947 | K9: 29.344152 | L9: 19.480097 | M9: 25.781968 | N9: 35.938627 | O9: 28.531583
A10: Elektriciteit | B10: Basisschool | C10: 2009 tot 2015 | D10: 480 | E10: 0.097 | F10: 37.89178 | G10: 26.182061 | H10: 35.67803 | I10: 47.469385 | J10: 38.229927 | K10: 43.074447 | L10: 31.065871 | M10: 41.626957 | N10: 53.91688 | O10: 42.262901
A11: Elektriciteit | B11: Basisschool | C11: vanaf 2015 | D11: 433 | E11: 0.088 | F11: 37.860971 | G11: 26.446248 | H11: 36.373976 | I11: 47.934859 | J11: 36.667056 | K11: 45.552971 | L11: 33.083775 | M11: 43.728453 | N11: 56.857194 | O11: 43.695692
A12: Elektriciteit | B12: Bedrijfshal algemeen (geen LISA-informatie) | C12: tot 1946 | D12: 228 | E12: 0.01 | F12: 36.610052 | G12: 10.405331 | H12: 19.00472 | I12: 36.272051 | J12: 32.801557 | K12: 38.362317 | L12: 11.121083 | M12: 19.834793 | N12: 36.763162 | O12: 33.803451
A13: Elektriciteit | B13: Bedrijfshal algemeen (geen LISA-informatie) | C13: 1946 tot 1978 | D13: 2242 | E13: 0.101 | F13: 35.04578 | G13: 10.367582 | H13: 18.450005 | I13: 40.241263 | J13: 39.916408 | K13: 38.856163 | L13: 10.940967 | M13: 20.220047 | N13: 43.531105 | O13: 44.269894
A14: Elektriciteit | B14: Bedrijfshal algemeen (geen LISA-informatie) | C14: 1978 tot 1995 | D14: 4132 | E14: 0.185 | F14: 36.651877 | G14: 10.449048 | H14: 18.977117 | I14: 39.012757 | J14: 39.91315 | K14: 40.114715 | L14: 11.060846 | M14: 20.902015 | N14: 43.647388 | O14: 43.534007
A15: Elektriciteit | B15: Bedrijfshal algemeen (geen LISA-informatie) | C15: 1995 tot 2009 | D15: 7526 | E15: 0.338 | F15: 30.97309 | G15: 9.9903498 | H15: 17.816797 | I15: 33.872979 | J15: 35.110865 | K15: 36.066108 | L15: 10.526304 | M15: 19.352886 | N15: 37.741067 | O15: 40.143426
A16: Elektriciteit | B16: Bedrijfshal algemeen (geen LISA-informatie) | C16: 2009 tot 2015 | D16: 1616 | E16: 0.073 | F16: 33.282762 | G16: 9.8499696 | H16: 17.957415 | I16: 36.399273 | J16: 45.888159 | K16: 36.734596 | L16: 10.54458 | M16: 20.007016 | N16: 39.543393 | O16: 51.504692
A17: Elektriciteit | B17: Bedrijfshal algemeen (geen LISA-informatie) | C17: vanaf 2015 | D17: 6541 | E17: 0.294 | F17: 33.026458 | G17: 11.158537 | H17: 20.54955 | I17: 38.138545 | J17: 36.285274 | K17: 36.679957 | L17: 12.611913 | M17: 23.649351 | N17: 43.048983 | O17: 43.171023
... A59: Elektriciteit | B59: Bijeenkomstgebouw (niet nader ingedeeld) | C59: vanaf 2015 | D59: 561 | E59: 0.059 | F59: 75.196284 | G59: 22.540323 | H59: 45.857143 | I59: 107.9469 | J59: 70.633701 | K59: 88.988295 | L59: 27.189857 | M59: 57.808824 | N59: 122.49558 | O59: 81.102824
A60: Elektriciteit | B60: Campusgebouw | C60: tot 1978 | D60: 30 | E60: 0.261 | F60: 76.348964 | H60: 51.290501 | J60: 89.380074 | K60: 78.490562 | M60: 51.290501 | O60: 91.715899
A61: Elektriciteit | B61: Campusgebouw | C61: 1978 tot 1995 | D61: 16 | E61: 0.139 | F61: 68.637829 | J61: 78.366019 | K61: 71.917734 | O61: 82.234983
A62: Elektriciteit | B62: Campusgebouw | C62: 1995 tot 2009 | D62: 34 | E62: 0.296 | F62: 95.545312 | H62: 58.052686 | J62: 90.330435 | K62: 99.276614 | M62: 58.165448 | O62: 93.32571
A63: Elektriciteit | B63: Campusgebouw | C63: 2009 tot 2015 | D63: 12 | E63: 0.104 | F63: 132.23811 | J63: 88.847508 | K63: 134.96385 | O63: 89.973935
A64: Elektriciteit | B64: Campusgebouw | C64: vanaf 2015 | D64: 23 | E64: 0.2 | F64: 100.61035 | H64: 82.946115 | J64: 46.984654 | K64: 108.15315 | M64: 97.37082 | O64: 49.635707
A65: Elektriciteit | B65: Cultuurhuis | C65: tot 1946 | D65: 225 | E65: 0.391 | F65: 55.714173 | G65: 23.259392 | H65: 44.654683 | I65: 72.576302 | J65: 54.88945 | K65: 56.823189 | L65: 23.945829 | M65: 45.40873 | N65: 74.856995 | O65: 55.379326
A66: Elektriciteit | B66: Cultuurhuis | C66: 1946 tot 1978 | D66: 116 | E66: 0.202 | F66: 39.205587 | G66: 18.88624 | H66: 25.882207 | I66: 45.717221 | J66: 45.261943 | K66: 41.572445 | L66: 21.193511 | M66: 30.111345 | N66: 47.188863 | O66: 47.308512
A67: Elektriciteit | B67: Cultuurhuis | C67: 1978 tot 1995 | D67: 104 | E67: 0.181 | F67: 53.432771 | G67: 27.128241 | H67: 39.298495 | I67: 72.7921 | J67: 52.097005 | K67: 56.375895 | L67: 27.626734 | M67: 44.192853 | N67: 77.989529 | O67: 54.42918
A68: Elektriciteit | B68: Cultuurhuis | C68: 1995 tot 2009 | D68: 84 | E68: 0.146 | F68: 59.32334 | G68: 26.699181 | H68: 45.218689 | I68: 79.114554 | J68: 57.807477 | K68: 62.939038 | L68: 30.141694 | M68: 46.099524 | N68: 92.44224 | O68: 59.803963
A69: Elektriciteit | B69: Cultuurhuis | C69: 2009 tot 2015 | D69: 24 | E69: 0.042 | F69: 78.610986 | H69: 67.378897 | J69: 58.635999 | K69: 81.320421 | M69: 67.378897 | O69: 58.9763
A70: Elektriciteit | B70: Cultuurhuis | C70: vanaf 2015 | D70: 22 | E70: 0.038 | F70: 75.822558 | H70: 71.450393 | J70: 62.22617 | K70: 86.24407 | M70: 87.202308 | O70: 71.186851
A71: Elektriciteit | B71: Gebedshuis | C71: tot 1946 | D71: 1400 | E71: 0.397 | F71: 14.476947 | G71: 7.754001 | H71: 11.156483 | I71: 17.573709 | J71: 14.018758 | K71: 15.462455 | L71: 8.022209 | M71: 11.777252 | N71: 18.892506 | O71: 15.110725
A72: Elektriciteit | B72: Gebedshuis | C72: 1946 tot 1978 | D72: 1192 | E72: 0.338 | F72: 15.028605 | G72: 8.2600677 | H72: 11.815934 | I72: 18.862424 | J72: 16.136301 | K72: 17.227609 | L72: 9.1426945 | M72: 13.309633 | N72: 21.569401 | O72: 18.568982
A73: Elektriciteit | B73: Gebedshuis | C73: 1978 tot 1995 | D73: 504 | E73: 0.143 | F73: 15.864233 | G73: 8.8470217 | H73: 13.569013 | I73: 20.130376 | J73: 16.936455 | K73: 17.885465 | L73: 9.7670965 | M73: 15.002413 | N73: 22.433961 | O73: 19.032876
A74: Elektriciteit | B74: Gebedshuis | C74: 1995 tot 2009 | D74: 316 | E74: 0.09 | F74: 18.786875 | G74: 10.552293 | H74: 15.47947 | I74: 24.075073 | J74: 22.64632 | K74: 21.394637 | L74: 11.862498 | M74: 17.82768 | N74: 28.147333 | O74: 24.907433
A75: Elektriciteit | B75: Gebedshuis | C75: 2009 tot 2015 | D75: 81 | E75: 0.023 | F75: 20.549064 | G75: 13.382395 | H75: 18.217913 | I75: 24.743875 | J75: 20.394713 | K75: 24.3817 | L75: 15.791873 | M75: 22.605634 | N75: 30.96063 | O75: 23.770864
A76: Elektriciteit | B76: Gebedshuis | C76: vanaf 2015 | D76: 37 | E76: 0.01 | F76: 23.173656 | H76: 21.419095 | J76: 25.615439 | K76: 28.020981 | M76: 27.100993 | O76: 29.902516
A77: Elektriciteit | B77: Gebouw bij spooremplacement | C77: tot 1946 | D77: 15 | E77: 0.211 | F77: 32.922725 | J77: 20.277769 | K77: 33.59278 | O77: 21.865657
A78: Elektriciteit | B78: Gebouw bij spooremplacement | C78: 1946 tot 1978 | D78: 10 | E78: 0.141 | F78: 33.287045 | J78: 14.775275 | K78: 33.72831 | O78: 14.855074
A79: Elektriciteit | B79: Gebouw bij spooremplacement | C79: 1978 tot 1995 | D79: 11 | E79: 0.155 | F79: 73.975631 | J79: 51.581098 | K79: 74.419879 | O79: 51.664189
A80: Elektriciteit | B80: Gebouw bij spooremplacement | C80: 1995 tot 2009 | D80: 21 | E80: 0.296 | F80: 103.66586 | H80: 100.08001 | J80: 98.916317 | K80: 112.73255 | M80: 100.08001 | O80: 99.744902
A81: Elektriciteit | B81: Gebouw bij spooremplacement | C81: vanaf 2009 | D81: 14 | E81: 0.197 | F81: 56.033877 | J81: 41.833588 | K81: 60.179564 | O81: 44.24995
...

Sheet elek_kental_opp_2024
A1: Energiedrager | B1: Gebouwtype | C1: Oppervlakteklasse | D1: Aantal panden | E1: Aandeel panden per gebouwtype | F1: Gemiddelde kental (kWh/m2) | G1: Q1 kental (kWh/m2) | H1: Mediaan kental (kWh/m2) | I1: Q3 kental (kWh/m2) | J1: Gewogen gemiddelde kental (kWh/m2) | K1: Gemiddelde kental inclusief eigenverbruik zonnestroom (kWh/m2) | L1: Q1 kental inclusief eigenverbruik zonnestroom (kWh/m2) | M1: Mediaan kental inclusief eigenverbruik zonnestroom (kWh/m2) | N1: Q3 kental inclusief eigenverbruik zonnestroom (kWh/m2) | O1: Gewogen gemiddelde kental inclusief eigenverbruik zonnestroom (kWh/m2)
A2: Elektriciteit | B2: Asielzoekerscentrum | C2: tot 1000 m2 | D2: 22 | E2: 0.293 | F2: 140.60659 | H2: 52.283176 | J2: 162.34746 | K2: 142.91567 | M2: 56.962723 | O2: 165.5304
A3: Elektriciteit | B3: Asielzoekerscentrum | C3: 1000 tot 2500 m2 | D3: 23 | E3: 0.307 | F3: 163.85843 | H3: 75.968534 | J3: 146.35245 | K3: 164.3109 | M3: 75.968534 | O3: 146.72146
A4: Elektriciteit | B4: Asielzoekerscentrum | C4: 2500 tot 5000 m2 | D4: 13 | E4: 0.173 | F4: 102.29536 | J4: 107.67126 | K4: 107.89609 | O4: 112.01029
A5: Elektriciteit | B5: Asielzoekerscentrum | C5: vanaf 5000 m2 | D5: 17 | E5: 0.227 | F5: 53.878369 | J5: 46.711445 | K5: 56.880508 | O5: 49.206195
A6: Elektriciteit | B6: Basisschool | C6: tot 250 m2 | D6: 17 | E6: 0.003 | F6: 47.626491 | J6: 46.631725 | K6: 53.219148 | O6: 50.614345
A7: Elektriciteit | B7: Basisschool | C7: 250 tot 500 m2 | D7: 110 | E7: 0.022 | F7: 28.327759 | G7: 18.039195 | H7: 23.352012 | I7: 34.855346 | J7: 27.638111 | K7: 32.200429 | L7: 21.429653 | M7: 25.668326 | N7: 38.729568 | O7: 31.317593
A8: Elektriciteit | B8: Basisschool | C8: 500 tot 1000 m2 | D8: 910 | E8: 0.185 | F8: 23.361653 | G8: 14.973618 | H8: 19.620989 | I8: 28.018536 | J8: 23.238513 | K8: 27.499444 | L8: 17.197428 | M8: 22.064556 | N8: 32.545751 | O8: 27.362265
A9: Elektriciteit | B9: Basisschool | C9: 1000 tot 2500 m2 | D9: 2838 | E9: 0.576 | F9: 23.924711 | G9: 15.10518 | H9: 20.507115 | I9: 28.631377 | J9: 24.142554 | K9: 27.59034 | L9: 17.586168 | M9: 22.937708 | N9: 33.341495 | O9: 27.870558
A10: Elektriciteit | B10: Basisschool | C10: 2500 tot 5000 m2 | D10: 841 | E10: 0.171 | F10: 27.377344 | G10: 14.920083 | H10: 25.001768 | I10: 36.395954 | J10: 27.489864 | K10: 30.765589 | L10: 17.500852 | M10: 28.180916 | N10: 42.045538 | O10: 30.91298
A11: Elektriciteit | B11: Basisschool | C11: 5000 tot 10000 m2 | D11: 179 | E11: 0.036 | F11: 29.551476 | G11: 12.576302 | H11: 26.490392 | I11: 42.892917 | J11: 29.803845 | K11: 31.467441 | L11: 13.433345 | M11: 28.295295 | N11: 45.08783 | O11: 31.672777
A12: Elektriciteit | B12: Basisschool | C12: vanaf 10000 m2 | D12: 35 | E12: 0.007 | F12: 20.933052 | H12: 17.947038 | J12: 23.082749 | K12: 21.697249 | M12: 18.421784 | O12: 23.915034
A13: Elektriciteit | B13: Bedrijfshal algemeen (geen LISA-informatie) | C13: tot 50 m2 | D13: 692 | E13: 0.031 | F13: 55.623739 | G13: 11.422348 | H13: 26.070724 | I13: 83.914742 | J13: 53.734608 | K13: 58.302548 | L13: 11.488636 | M13: 27.608456 | N13: 84.777778 | O13: 56.411539
A14: Elektriciteit | B14: Bedrijfshal algemeen (geen LISA-informatie) | C14: 50 tot 100 m2 | D14: 2391 | E14: 0.107 | F14: 36.475499 | G14: 10 | H14: 20.883117 | I14: 44.511878 | J14: 36.328198 | K14: 38.878609 | L14: 10.418587 | M14: 22.173077 | N14: 47.244792 | O14: 38.69607
A15: Elektriciteit | B15: Bedrijfshal algemeen (geen LISA-informatie) | C15: 100 tot 250 m2 | D15: 6152 | E15: 0.276 | F15: 29.987359 | G15: 10.144375 | H15: 18.658416 | I15: 33.58023 | J15: 29.917484 | K15: 32.701227 | L15: 10.627287 | M15: 19.846837 | N15: 36.300951 | O15: 32.694594
A16: Elektriciteit | B16: Bedrijfshal algemeen (geen LISA-informatie) | C16: 250 tot 500 m2 | D16: 3902 | E16: 0.175 | F16: 29.895426 | G16: 9.9959598 | H16: 17.40721 | I16: 33.227104 | J16: 29.902724 | K16: 37.178825 | L16: 10.821804 | M16: 18.995879 | N16: 38.045757 | O16: 37.072143
A17: Elektriciteit | B17: Bedrijfshal algemeen (geen LISA-informatie) | C17: 500 tot 1000 m2 | D17: 3730 | E17: 0.167 | F17: 29.466499 | G17: 10.051086 | H17: 17.470455 | I17: 32.463509 | J17: 29.935147 | K17: 32.932719 | L17: 11.197338 | M17: 19.990084 | N17: 36.404655 | O17: 33.499406
A18: Elektriciteit | B18: Bedrijfshal algemeen (geen LISA-informatie) | C18: 1000 tot 2500 m2 | D18: 3336 | E18: 0.15 | F18: 34.83288 | G18: 11.221448 | H18: 20.151344 | I18: 38.46606 | J18: 35.338793 | K18: 39.431335 | L18: 12.474528 | M18: 22.337153 | N18: 44.235971 | O18: 39.870268
A19: Elektriciteit | B19: Bedrijfshal algemeen (geen LISA-informatie) | C19: 2500 tot 5000 m2 | D19: 1168 | E19: 0.052 | F19: 41.52179 | G19: 11.9505 | H19: 21.813148 | I19: 46.883915 | J19: 41.883802 | K19: 45.729548 | L19: 12.97015 | M19: 24.77633 | N19: 51.494273 | O19: 46.241652
A20: Elektriciteit | B20: Bedrijfshal algemeen (geen LISA-informatie) | C20: 5000 tot 10000 m2 | D20: 580 | E20: 0.026 | F20: 44.731672 | G20: 11.516309 | H20: 23.255709 | I20: 53.431462 | J20: 45.011321 | K20: 49.921688 | L20: 12.920167 | M20: 26.587414 | N20: 63.470745 | O20: 50.570584
A21: Elektriciteit | B21: Bedrijfshal algemeen (geen LISA-informatie) | C21: vanaf 10000 m2 | D21: 334 | E21: 0.015 | F21: 41.576912 | G21: 11.506162 | H21: 21.923866 | I21: 44.260821 | J21: 39.370133 | K21: 48.005554 | L21: 13.068392 | M21: 26.456085 | N21: 55.076752 | O21: 46.162291
A22: Elektriciteit | B22: Bedrijfshal algemeen (met LISA-informatie) | C22: tot 50 m2 | D22: 84 | E22: 0.007 | F22: 114.55605 | G22: 26.239615 | H22: 56.658588 | I22: 191.57262 | J22: 108.55447 | K22: 122.48097 | L22: 26.239615 | M22: 58.659494 | N22: 202.485 | O22: 116.1888
A23: Elektriciteit | B23: Bedrijfshal algemeen (met LISA-informatie) | C23: 50 tot 100 m2 | D23: 583 | E23: 0.046 | F23: 67.367672 | G23: 18.230862 | H23: 34.674699 | I23: 75.581744 | J23: 64.305141 | K23: 74.136254 | L23: 19.527681 | M23: 38.677083 | N23: 78.717518 | O23: 70.980752
A24: Elektriciteit | B24: Bedrijfshal algemeen (met LISA-informatie) | C24: 100 tot 250 m2 | D24: 2410 | E24: 0.189 | F24: 46.098817 | G24: 14.19923 | H24: 25.642762 | I24: 48.308544 | J24: 45.282291 | K24: 51.401638 | L24: 15.270992 | M24: 28.389039 | N24: 54.024879 | O24: 50.398017
... A46: Elektriciteit | B46: Bedrijfshal met maakindustrie en andere economische activiteiten | C46: vanaf 10000 m2 | D46: 150 | E46: 0.03 | F46: 67.502512 | G46: 19.112733 | H46: 37.189191 | I46: 75.52331 | J46: 66.270086 | K46: 72.456243 | L46: 23.237041 | M46: 43.928733 | N46: 85.573499 | O46: 70.965877
