Workbook

Sheet inhoudsopgave en toelichting
C1: Energiekentallen Utiliteitsbouw
C4: Project details
D6: Project naam | E6: Energiekentallen Utiliteitsgebouwen
D7: Datum | E7: Augustus 2026
D8: Contactpersoon TNO | E8: Robin Niessink, robin.niessink@tno.nl
C10: Deze dataset is ontwikkeld met subsidie van de Rijksdienst voor Ondernemend Nederland (RVO)
C12: Toelichting
C14: In dit onderzoek zijn energie-kentallen voor aardgaslevering (m3/m2) en elektriciteitslevering (kWh/m2) voor de diverse gebouwtypen van de utiliteitsbouw bepaald voor zichtjaren 2020 t/m 2024. De kentallen zijn waar mogelijk uitgesplitst naar bouwjaar- en oppervlakteklassen. Voor zichtjaar 2024 is ook een opsplitsing naar energielabel gemaakt. Ook voor de groep van panden die binnen de dienstensector valt zijn kentallen ontwikkeld. Voor zonnestroom is een eigen inschatting gemaakt van de teruglevering en daarmee is het eigenverbruik berekend en vervolgens opgeteld bij de netlevering voor een betere benadering van het totaalverbruik.
C16: De kentallen voor zonnestroomproductie (kWh/m2) alsmede het aandeel panden met zonnestroomproductie (in de populatie) zijn toegevoegd in een apart tab.
C18: NB: Een lege cel betekent dat een kental niet kon worden weergegeven vanwege de daarvoor geldende privacyregels. Het aantal overgebleven waarnemingen in de onderzoekspopulatie was hiervoor te laag.
C20: Voor nadere toelichting zie TNO rapport: Energiekentallen utiliteitsgebouwen 2020 t/m 2024 - Een analyse van het energieverbruik per gebouwtype voor de ontwikkeling van benchmark energiekentallen
C22: Inhoudsopgave
C23: Tab naam | E23: Inhoud
C24: elek_kental_ | E24: kentallen elektriciteit per gebouwtype
C25: elek_kental_bouwj_ | E25: kentallen elektriciteit per gebouwtype met uitsplitsing naar bouwjaarklassen
C26: elek_kental_opp_ | E26: kentallen elektriciteit per gebouwtype met uitsplitsing naar (gebruiks)oppervlakteklassen
C27: elek_kental_diensten_ | E27: kentallen elektriciteit per gebouwtype voor panden die vallen binnen de dienstensector
C28: elek_kental_subsets_ | E28: kentallen elektriciteit per gebouwtype voor panden met onderscheid naar panden met of zonder zonnestroom en waar de teruglevering wel of niet hoger is dan de zonnestroomproductie
C29: zonnestroom_kentallen_ | E29: kentallen zonnestroomproductie per gebouwtype
C30: gas_kental_ | E30: kentallen aardgas per gebouwtype
C31: gas_kental_bouwj_ | E31: kentallen aardgas per gebouwtype met uitsplitsing naar bouwjaarklassen
C32: gas_kental_opp_ | E32: kentallen aardgas per gebouwtype met uitsplitsing naar (gebruiks)oppervlakteklassen
C33: gas_kental_diensten_ | E33: kentallen aardgas per gebouwtype voor panden die vallen binnen de dienstensector
C34: populatie_overzicht_ | E34: een overzicht met het aantal panden in de onderzoekspopulatie in het betreffende tab, waarmee onder andere is na te gaan welke categorieën ontbreken per tab
C37: Toelichting kolommen in de tabs
C39: Energiedrager | D39: Dit geeft aan of het een kental voor aardgas of elektriciteit is
C40: Gebouwtype | D40: Dit geeft aan over welk gebouwtype het gaat
C41: Aantal panden | D41: Dit geeft het aantal panden in het onderzoek aan waarover de kentallen in de categorie berekend zijn
C42: Aandeel panden per gebouwtype | D42: Het percentage van het aantal panden dat in de betreffende categorie valt per gebouwtype
C43: Gemiddelde kental (kWh/m2) | D43: Het gemiddelde kental
C44: Q1 kental (kWh/m2) | D44: Het kental voor het 1ste kwartiel
C45: Mediaan kental (kWh/m2) | D45: Het kental voor de mediaan
C46: Q3 kental (kWh/m2) | D46: Het kental voor het 3e kwartiel
C47: Gewogen gemiddelde kental (kWh/m2) | D47: Het gemiddelde kental waarbij het pandoppervlak als weegfactor is gebruikt
C48: Gemiddelde kental inclusief eigenverbruik zonnestroom (kWh/m2) | D48: Eerst is het eigenverbruik zonnestroom bepaald en vervolgens opnieuw het gemiddelde bepaald
C49: Q1 kental inclusief eigenverbruik zonnestroom (kWh/m2) | D49: Eerst is het eigenverbruik zonnestroom bepaald en vervolgens opnieuw het 1ste kwartiel
C50: Mediaan kental inclusief eigenverbruik zonnestroom (kWh/m2) | D50: Eerst is het eigenverbruik zonnestroom bepaald en vervolgens opnieuw de mediaan
... C56: Gewogen gemiddelde zonnestroomproductie kental (kWh/m2) (inclusief panden zonder zon-pv) | D56: Het gewogen gemiddelde kental voor zonnestroomproductie berekend als gemiddelde voor panden met en zonder zonnestroomproductie

Sheet gas_kental_2023
A1: Energiedrager | B1: Gebouwtype | C1: Aantal panden | D1: Gemiddelde kental (m3/m2) | E1: Q1 kental (m3/m2) | F1: Mediaan kental (m3/m2) | G1: Q3 kental (m3/m2) | H1: Gewogen gemiddelde kental (m3/m2)
A2: Gas | B2: Asielzoekerscentrum | C2: 64 | D2: 25.389397 | E2: 8.8026061 | F2: 18.558511 | G2: 35.345278 | H2: 14.726476
A3: Gas | B3: Basisschool | C3: 4403 | D3: 8.7797706 | E3: 5.9761279 | F3: 8.5016413 | G3: 11.107516 | H3: 7.1778126
A4: Gas | B4: Bedrijfshal algemeen (geen LISA-informatie) | C4: 17441 | D4: 3.5284484 | E4: 0.33333333 | F4: 1.9756098 | G4: 4.8074074 | H4: 3.2964198
A5: Gas | B5: Bedrijfshal algemeen (met LISA-informatie) | C5: 10863 | D5: 4.5558584 | E5: 1.3235676 | F5: 3.1142857 | G5: 5.7843728 | H5: 3.7432782
A6: Gas | B6: Bedrijfshal met logistieke activiteiten | C6: 4852 | D6: 3.6370465 | E6: 1.3939152 | F6: 2.7553604 | G6: 4.7111993 | H6: 2.9413626
A7: Gas | B7: Bedrijfshal met maakindustrie en andere economische activiteiten | C7: 4456 | D7: 4.2372966 | E7: 1.4472416 | F7: 2.9882482 | G7: 5.3155091 | H7: 4.2259105
A8: Gas | B8: Bedrijfshal met maakindustrie en logistieke activiteiten | C8: 9414 | D8: 4.0717779 | E8: 1.301981 | F8: 2.9454044 | G8: 5.32791 | H8: 3.5053024
A9: Gas | B9: Bedrijfshal uitsluitend maakindustrie | C9: 17325 | D9: 5.8057712 | E9: 1.4874652 | F9: 3.4038462 | G9: 6.475058 | H9: 7.6545413
A10: Gas | B10: Bedrijfswoning | C10: 62179 | D10: 8.3650028 | E10: 3.2820125 | F10: 6.4777911 | G10: 10.873655 | H10: 5.7737559
A11: Gas | B11: Bijeenkomstgebouw (niet nader ingedeeld) | C11: 9150 | D11: 8.3503992 | E11: 3.6939783 | F11: 6.7122534 | G11: 11.039384 | H11: 7.506789
A12: Gas | B12: Campusgebouw | C12: 95 | D12: 10.74376 | E12: 3.2799839 | F12: 7.4026667 | G12: 12.529715 | H12: 7.6352791
A13: Gas | B13: Cultuurhuis | C13: 537 | D13: 8.3414802 | E13: 4.6590909 | F13: 7.7559682 | G13: 11.125176 | H13: 5.8734465
... A15: Gas | B15: Gebedshuis | C15: 4217 | D15: 7.1494204 | E15: 4.0506024 | F15: 6.5523256 | G15: 9.5698052 | H15: 5.4915276
A16: Gas | B16: Gebouw bij militaire inrichting | C16: 19 | D16: 1535.1975 | H16: 177.9926
A17: Gas | B17: Gebouw bij spooremplacement | C17: 84 | D17: 9.0292378 | E17: 2.988282 | F17: 6.7747749 | G17: 13.259596 | H17: 7.4155819
A18: Gas | B18: Gebouw bij vliegveld of luchthaven | C18: 165 | D18: 6.8690541 | E18: 1.5906887 | F18: 4.7830616 | G18: 9.4503704 | H18: 5.7562555
A19: Gas | B19: Gebouw in landelijk gebied voor industrie (geen landbouwactiviteiten geregistreerd) | C19: 3662 | D19: 4.977683 | E19: 0.81164931 | F19: 2.7274169 | G19: 6.679695 | H19: 4.2371656
A20: Gas | B20: Gebouw in stedelijk gebied met industriefunctie | C20: 12076 | D20: 6.2104489 | E20: 1.0624452 | F20: 3.7615197 | G20: 8.0537972 | H20: 5.0506808
A21: Gas | B21: Gebouw op snelwegverzorgingsplaats | C21: 58 | D21: 10.264802 | E21: 2.5460435 | F21: 5.556467 | G21: 12.616597 | H21: 15.480359
A22: Gas | B22: Gebouw op vakantiepark | C22: 37098 | D22: 9.2717453 | E22: 5.4865754 | F22: 8.6283883 | G22: 12.166284 | H22: 8.9186933
A23: Gas | B23: Gebouw voor landbouwactiviteiten | C23: 2093 | D23: 94.789351 | E23: 2.8066202 | F23: 8.9914894 | G23: 27.587912 | H23: 61.145816
A24: Gas | B24: Groothandel op bedrijventerrein | C24: 559 | D24: 3.2062556 | E24: 1.615813 | F24: 2.8020901 | G24: 4.0984496 | H24: 2.72261
A25: Gas | B25: Hotel (of ander groot logiesgebouw) | C25: 2380 | D25: 12.121062 | E25: 5.9610089 | F25: 10.908688 | G25: 16.903674 | H25: 9.8682949
A26: Gas | B26: IJsbaan | C26: 122 | D26: 4.0807197 | E26: 1.8314941 | F26: 3.5255208 | G26: 5.5011278 | H26: 2.6705004
A27: Gas | B27: Kantoorpand algemeen | C27: 19239 | D27: 7.8470355 | E27: 4.1269834 | F27: 7.0830258 | G27: 10.63965 | H27: 5.9747663
A28: Gas | B28: Kinderopvang (gebouw) | C28: 1477 | D28: 10.804102 | E28: 6.961165 | F28: 10.133053 | G28: 13.855818 | H28: 9.3485718
A29: Gas | B29: Koelhuis | C29: 85 | D29: 3.8774403 | E29: 0.59137255 | F29: 1.8380382 | G29: 4.3110931 | H29: 3.0567273
A30: Gas | B30: MBO-gebouw | C30: 10 | D30: 4.1695682 | H30: 4.0553044
A31: Gas | B31: Meergezinswoning met andere functie of combinatie van functies | C31: 17428 | D31: 8.0156507 | E31: 4.6943182 | F31: 7.37639 | G31: 10.459874 | H31: 6.5718026
A32: Gas | B32: Meergezinswoning met cafe of restaurant | C32: 6245 | D32: 12.37395 | E32: 6.4265734 | F32: 10.148148 | G32: 15.900164 | H32: 11.067207
A33: Gas | B33: Meergezinswoning met winkel | C33: 22217 | D33: 8.0631351 | E33: 4.6581818 | F33: 7.22 | G33: 10.481481 | H33: 6.7176548
A34: Gas | B34: Meergezinswoning met winkels en horeca | C34: 2498 | D34: 8.4666359 | E34: 4.8710172 | F34: 7.5588717 | G34: 10.894379 | H34: 6.6236451
A35: Gas | B35: Meergezinswoning met woonzorgeenheden | C35: 260 | D35: 9.5935146 | E35: 5.5331362 | F35: 8.3516506 | G35: 12.503091 | H35: 9.0153894
A36: Gas | B36: Middelbare school | C36: 1054 | D36: 7.2609112 | E36: 4.0573755 | F36: 6.7208274 | G36: 9.4673969 | H36: 5.8323535
A37: Gas | B37: Nutsgebouw (elektriciteit) | C37: 56 | D37: 6.7107483 | E37: 1.6255317 | F37: 5.7532298 | G37: 10.056681 | H37: 5.5751595
A38: Gas | B38: Nutsgebouw (water) | C38: 232 | D38: 15.830884 | E38: 2.7859557 | F38: 9.8288544 | G38: 19.972144 | H38: 5.9894305
A39: Gas | B39: Overig gebouw met maatschappelijke functie | C39: 1556 | D39: 10.234282 | E39: 3.4507761 | F39: 6.8674269 | G39: 12.045913 | H39: 8.2929446
A40: Gas | B40: Overig gebouw met recreatiefunctie | C40: 80 | D40: 16.706506 | E40: 4.2022375 | F40: 8.5784993 | G40: 18.027399 | H40: 14.95355
A41: Gas | B41: Overig onderwijsgebouw | C41: 3077 | D41: 9.4574906 | E41: 5.5696078 | F41: 8.8047493 | G41: 12.263441 | H41: 7.1340986
A42: Gas | B42: Overig overheidsgebouw | C42: 1053 | D42: 9.3782931 | E42: 5.4617044 | F42: 8.3758283 | G42: 12.049505 | H42: 6.0150113
... A46: Gas | B46: Pand met winkel en kantoor- en/of bijeenkomstfunctie | C46: 1355 | D46: 7.5332785 | E46: 2.6392853 | F46: 5.5256125 | G46: 9.8059672 | H46: 3.9781549
A47: Gas | B47: Penitentiaire inrichting | C47: 25 | D47: 19.196913 | F47: 15.730785 | H47: 19.282452
A48: Gas | B48: Praktijk- of zorgwoning | C48: 4800 | D48: 8.809611 | E48: 5.1768788 | F48: 7.7266798 | G48: 11.224183 | H48: 8.5802914
A49: Gas | B49: Productie-installatie | C49: 103 | D49: 928.70553 | E49: 6.9173421 | F49: 93.80122 | G49: 744.0506 | H49: 726.80594
A50: Gas | B50: Restaurant of cafégebouw | C50: 3665 | D50: 24.08462 | E50: 8.5742905 | F50: 17.651515 | G50: 32.678146 | H50: 17.492258
A51: Gas | B51: School voor speciaal onderwijs | C51: 476 | D51: 9.3590194 | E51: 6.2331002 | F51: 8.7062095 | G51: 11.684578 | H51: 7.8555845
A52: Gas | B52: Schoolverzamelgebouw | C52: 94 | D52: 6.523715 | E52: 3.3810995 | F52: 6.1813581 | G52: 8.5898304 | H52: 5.9996722
A53: Gas | B53: Tuincentrum | C53: 439 | D53: 7.0610397 | E53: 2.73256 | F53: 4.8399539 | G53: 8.3426841 | H53: 5.2318465
A54: Gas | B54: Vakantiewoning buiten vakantiepark | C54: 4718 | D54: 10.410164 | E54: 5.3355789 | F54: 8.9247843 | G54: 13.528167 | H54: 9.8084977
A55: Gas | B55: Winkelpand | C55: 18975 | D55: 7.8606945 | E55: 2.1667672 | F55: 5.2170543 | G55: 9.9499043 | H55: 4.4669412
A56: Gas | B56: Woning met andere functie of combinatie van functies | C56: 13682 | D56: 8.677048 | E56: 3.8886379 | F56: 6.94834 | G56: 11.162596 | H56: 6.6220058
A57: Gas | B57: Woning met cafe of restaurant | C57: 10860 | D57: 14.965018 | E57: 5.9734627 | F57: 11.18736 | G57: 19.864671 | H57: 12.589985
A58: Gas | B58: Woning met winkel | C58: 31655 | D58: 8.5405189 | E58: 4.2977135 | F58: 7.1147541 | G58: 10.97604 | H58: 7.105715
A59: Gas | B59: Wooncomplex met andere functie of combinatie van functies | C59: 8252 | D59: 7.1989882 | E59: 4.4353144 | F59: 6.534321 | G59: 9.2841911 | H59: 6.1836839
... A66: Gas | B66: Zwembad | C66: 485 | D66: 45.918618 | E66: 12.488 | F66: 30.845238 | G66: 59.861818 | H66: 35.480148

Sheet gas_kental_bouwj_2023
A1: Energiedrager | B1: Gebouwtype | C1: Bouwjaarklasse | D1: Aantal panden | E1: Aandeel panden per gebouwtype | F1: Gemiddelde kental (m3/m2) | G1: Q1 kental (m3/m2) | H1: Mediaan kental (m3/m2) | I1: Q3 kental (m3/m2) | J1: Gewogen gemiddelde kental (m3/m2)
A2: Gas | B2: Basisschool | C2: tot 1946 | D2: 434 | E2: 0.099 | F2: 10.184157 | G2: 7.4026873 | H2: 9.6296786 | I2: 12.785526 | J2: 8.4534285
A3: Gas | B3: Basisschool | C3: 1946 tot 1978 | D3: 1688 | E3: 0.383 | F3: 9.9362073 | G3: 7.5330015 | H3: 9.6150546 | I3: 12.126879 | J3: 8.747991
A4: Gas | B4: Basisschool | C4: 1978 tot 1995 | D4: 1028 | E4: 0.233 | F4: 9.0696898 | G4: 6.8261595 | H4: 8.7148179 | I4: 10.983822 | J4: 7.9652198
A5: Gas | B5: Basisschool | C5: 1995 tot 2009 | D5: 648 | E5: 0.147 | F5: 7.7781045 | G5: 5.6926513 | H5: 7.414166 | I5: 9.6456293 | J5: 6.2228728
A6: Gas | B6: Basisschool | C6: 2009 tot 2015 | D6: 439 | E6: 0.1 | F6: 5.5025005 | G6: 2.653406 | H6: 5.1183844 | I6: 7.2023457 | J6: 4.6697989
A7: Gas | B7: Basisschool | C7: vanaf 2015 | D7: 166 | E7: 0.038 | F7: 4.1303481 | G7: 1.6575892 | H7: 3.7745624 | I7: 5.7165708 | J7: 3.7163811
A8: Gas | B8: Bedrijfshal algemeen (geen LISA-informatie) | C8: tot 1946 | D8: 227 | E8: 0.013 | F8: 5.0899638 | G8: 0.59956626 | H8: 3.2320988 | I8: 7.116231 | J8: 3.1892075
A9: Gas | B9: Bedrijfshal algemeen (geen LISA-informatie) | C9: 1946 tot 1978 | D9: 2490 | E9: 0.143 | F9: 4.1697107 | G9: 0.33818055 | H9: 2.1283893 | I9: 5.6511202 | J9: 3.5386621
A10: Gas | B10: Bedrijfshal algemeen (geen LISA-informatie) | C10: 1978 tot 1995 | D10: 4439 | E10: 0.255 | F10: 4.0622163 | G10: 0.59229873 | H10: 2.4192177 | I10: 5.6731117 | J10: 3.6356334
A11: Gas | B11: Bedrijfshal algemeen (geen LISA-informatie) | C11: 1995 tot 2009 | D11: 7645 | E11: 0.438 | F11: 3.2222521 | G11: 0.27831715 | H11: 1.8392857 | I11: 4.46 | J11: 3.3092127
A12: Gas | B12: Bedrijfshal algemeen (geen LISA-informatie) | C12: 2009 tot 2015 | D12: 1522 | E12: 0.087 | F12: 2.9936377 | G12: 0.2159536 | H12: 1.839584 | I12: 4.160822 | J12: 3.0277337
A13: Gas | B13: Bedrijfshal algemeen (geen LISA-informatie) | C13: vanaf 2015 | D13: 1118 | E13: 0.064 | F13: 2.4857372 | G13: 0.0041217488 | H13: 1.2696143 | I13: 3.3978632 | J13: 1.9283961
... A55: Gas | B55: Bijeenkomstgebouw (niet nader ingedeeld) | C55: vanaf 2015 | D55: 225 | E55: 0.025 | F55: 9.0173543 | G55: 3.1921837 | H55: 5.5366771 | I55: 12.145946 | J55: 7.2881129
A56: Gas | B56: Campusgebouw | C56: tot 1978 | D56: 30 | E56: 0.316 | F56: 10.165967 | H56: 5.662586 | J56: 10.420502
A57: Gas | B57: Campusgebouw | C57: 1978 tot 1995 | D57: 14 | E57: 0.147 | F57: 17.688732 | J57: 18.97834
A58: Gas | B58: Campusgebouw | C58: 1995 tot 2009 | D58: 26 | E58: 0.274 | F58: 11.036656 | H58: 9.2438867 | J58: 11.324419
A59: Gas | B59: Campusgebouw | C59: 2009 tot 2015 | D59: 12 | E59: 0.126 | F59: 7.6348825 | J59: 5.4280424
A60: Gas | B60: Campusgebouw | C60: vanaf 2015 | D60: 13 | E60: 0.137 | F60: 6.8818667 | J60: 1.1689347
A61: Gas | B61: Cultuurhuis | C61: tot 1946 | D61: 210 | E61: 0.391 | F61: 9.2103671 | G61: 5.0603078 | H61: 8.5219323 | I61: 12.320646 | J61: 5.6087716
A62: Gas | B62: Cultuurhuis | C62: 1946 tot 1978 | D62: 118 | E62: 0.22 | F62: 8.3593182 | G62: 5.0778617 | H62: 7.7883983 | I62: 11.009649 | J62: 6.7716812
A63: Gas | B63: Cultuurhuis | C63: 1978 tot 1995 | D63: 91 | E63: 0.169 | F63: 8.6268265 | G63: 5.4470598 | H63: 8.0232816 | I63: 10.446164 | J63: 7.3846631
A64: Gas | B64: Cultuurhuis | C64: 1995 tot 2009 | D64: 86 | E64: 0.16 | F64: 7.0333973 | G64: 3.8812164 | H64: 6.6874214 | I64: 8.7369487 | J64: 5.4440772
A65: Gas | B65: Cultuurhuis | C65: 2009 tot 2015 | D65: 20 | E65: 0.037 | F65: 5.6017308 | H65: 4.8904562 | J65: 3.2430625
A66: Gas | B66: Cultuurhuis | C66: vanaf 2015 | D66: 12 | E66: 0.022 | F66: 4.7375205 | J66: 5.3043271
A67: Gas | B67: Gebedshuis | C67: tot 1946 | D67: 1776 | E67: 0.421 | F67: 7.5034866 | G67: 3.7469608 | H67: 6.8541667 | I67: 10.36802 | J67: 5.1338932
A68: Gas | B68: Gebedshuis | C68: 1946 tot 1978 | D68: 1451 | E68: 0.344 | F68: 7.0227438 | G68: 4.1517369 | H68: 6.4612403 | I68: 9.441223 | J68: 5.9182412
A69: Gas | B69: Gebedshuis | C69: 1978 tot 1995 | D69: 537 | E69: 0.127 | F69: 7.0572495 | G69: 4.3185654 | H69: 6.7079365 | I69: 8.9846154 | J69: 5.6374738
A70: Gas | B70: Gebedshuis | C70: 1995 tot 2009 | D70: 334 | E70: 0.079 | F70: 6.6219475 | G70: 4.6071233 | H70: 6.2016706 | I70: 8.2638403 | J70: 6.0343993
A71: Gas | B71: Gebedshuis | C71: 2009 tot 2015 | D71: 87 | E71: 0.021 | F71: 5.5256877 | G71: 3.5662083 | H71: 4.9061033 | I71: 7.0106223 | J71: 4.4151526
A72: Gas | B72: Gebedshuis | C72: vanaf 2015 | D72: 32 | E72: 0.008 | F72: 4.7095029 | H72: 4.7647836 | J72: 2.8783017
A73: Gas | B73: Gebouw bij spooremplacement | C73: tot 1946 | D73: 23 | E73: 0.274 | F73: 9.317009 | H73: 5.4714104 | J73: 9.5824545
A74: Gas | B74: Gebouw bij spooremplacement | C74: 1946 tot 1978 | D74: 16 | E74: 0.19 | F74: 9.9708095 | J74: 10.507437
A75: Gas | B75: Gebouw bij spooremplacement | C75: 1978 tot 1995 | D75: 17 | E75: 0.202 | F75: 12.072927 | J75: 10.789858
A76: Gas | B76: Gebouw bij spooremplacement | C76: 1995 tot 2009 | D76: 14 | E76: 0.167 | F76: 7.773825 | J76: 4.9904484
A77: Gas | B77: Gebouw bij spooremplacement | C77: vanaf 2009 | D77: 14 | E77: 0.167 | F77: 5.039894 | J77: 2.2447667
A78: Gas | B78: Gebouw bij vliegveld of luchthaven | C78: tot 1978 | D78: 26 | E78: 0.158 | F78: 6.6875983 | H78: 6.0026429 | J78: 5.4433898
A79: Gas | B79: Gebouw bij vliegveld of luchthaven | C79: 1978 tot 1995 | D79: 68 | E79: 0.412 | F79: 6.7703947 | G79: 1.670547 | H79: 4.9457783 | I79: 9.5409986 | J79: 6.1162133
A80: Gas | B80: Gebouw bij vliegveld of luchthaven | C80: 1995 tot 2009 | D80: 49 | E80: 0.297 | F80: 7.6503487 | G80: 0.82562278 | H80: 4.4527814 | I80: 11.214737 | J80: 6.3977209
A81: Gas | B81: Gebouw bij vliegveld of luchthaven | C81: vanaf 2009 | D81: 22 | E81: 0.133 | F81: 5.648293 | H81: 3.5213561 | J81: 4.8970364
A82: Gas | B82: Gebouw in landelijk gebied voor industrie (geen landbouwactiviteiten geregistreerd) | C82: tot 1946 | D82: 379 | E82: 0.103 | F82: 5.8690174 | G82: 1.2777571 | H82: 3.550885 | I82: 8.3537766 | J82: 4.6036285
A83: Gas | B83: Gebouw in landelijk gebied voor industrie (geen landbouwactiviteiten geregistreerd) | C83: 1946 tot 1978 | D83: 1025 | E83: 0.28 | F83: 4.7208667 | G83: 0.75316456 | H83: 2.4935622 | I83: 6.1472393 | J83: 4.0135793
A84: Gas | B84: Gebouw in landelijk gebied voor industrie (geen landbouwactiviteiten geregistreerd) | C84: 1978 tot 1995 | D84: 1000 | E84: 0.273 | F84: 5.3437712 | G84: 0.81022266 | H84: 2.7414091 | I84: 6.9120968 | J84: 4.4041027
A85: Gas | B85: Gebouw in landelijk gebied voor industrie (geen landbouwactiviteiten geregistreerd) | C85: 1995 tot 2009 | D85: 862 | E85: 0.235 | F85: 4.7504381 | G85: 0.69958579 | H85: 2.5924185 | I85: 6.6530347 | J85: 4.3349636
A86: Gas | B86: Gebouw in landelijk gebied voor industrie (geen landbouwactiviteiten geregistreerd) | C86: 2009 tot 2015 | D86: 237 | E86: 0.065 | F86: 4.4120546 | G86: 0.85362319 | H86: 2.6728142 | I86: 5.1521429 | J86: 3.7256551
A87: Gas | B87: Gebouw in landelijk gebied voor industrie (geen landbouwactiviteiten geregistreerd) | C87: vanaf 2015 | D87: 159 | E87: 0.043 | F87: 4.2812806 | G87: 0.88524481 | H87: 2.1432806 | I87: 5.6010101 | J87: 4.2047601
A88: Gas | B88: Gebouw in stedelijk gebied met industriefunctie | C88: tot 1946 | D88: 2650 | E88: 0.219 | F88: 7.5020429 | G88: 1.3458251 | H88: 4.9289092 | I88: 9.9676368 | J88: 5.5966699
A89: Gas | B89: Gebouw in stedelijk gebied met industriefunctie | C89: 1946 tot 1978 | D89: 4215 | E89: 0.349 | F89: 5.949761 | G89: 0.83620179 | H89: 3.4711111 | I89: 7.9083088 | J89: 5.341512
A90: Gas | B90: Gebouw in stedelijk gebied met industriefunctie | C90: 1978 tot 1995 | D90: 2489 | E90: 0.206 | F90: 6.0190155 | G90: 1.1403509 | H90: 3.7203166 | I90: 7.8778626 | J90: 4.9574658
A91: Gas | B91: Gebouw in stedelijk gebied met industriefunctie | C91: 1995 tot 2009 | D91: 1991 | E91: 0.165 | F91: 5.7839174 | G91: 1.3534037 | H91: 3.8045113 | I91: 7.0095673 | J91: 4.8521551
A92: Gas | B92: Gebouw in stedelijk gebied met industriefunctie | C92: 2009 tot 2015 | D92: 419 | E92: 0.035 | F92: 4.9227647 | G92: 1.0325 | H92: 2.7111111 | I92: 5.7545627 | J92: 2.7967548
A93: Gas | B93: Gebouw in stedelijk gebied met industriefunctie | C93: vanaf 2015 | D93: 312 | E93: 0.026 | F93: 4.7403092 | G93: 0.50208707 | H93: 2.0925473 | I93: 5.7500281 | J93: 5.2974549
... A105: Gas | B105: Gebouw voor landbouwactiviteiten | C105: vanaf 2015 | D105: 62 | E105: 0.03 | F105: 71.38826 | G105: 1.1756772 | H105: 3.6759232 | I105: 25.60615 | J105: 66.39584
A106: Gas | B106: Groothandel op bedrijventerrein | C106: tot 1946 | D106: 11 | E106: 0.02 | F106: 2.4052137 | J106: 1.2334303
A107: Gas | B107: Groothandel op bedrijventerrein | C107: 1946 tot 1978 | D107: 114 | E107: 0.204 | F107: 2.8087251 | G107: 1.2305647 | H107: 2.3836846 | I107: 3.7679636 | J107: 2.4075325
A108: Gas | B108: Groothandel op bedrijventerrein | C108: 1978 tot 1995 | D108: 171 | E108: 0.306 | F108: 3.5252906 | G108: 2.0315574 | H108: 3.2419592 | I108: 4.2921224 | J108: 3.1493783
A109: Gas | B109: Groothandel op bedrijventerrein | C109: 1995 tot 2009 | D109: 234 | E109: 0.419 | F109: 3.2704049 | G109: 1.7488957 | H109: 2.6921998 | I109: 4.1434297 | J109: 2.7914407
A110: Gas | B110: Groothandel op bedrijventerrein | C110: vanaf 2009 | D110: 29 | E110: 0.052 | F110: 2.6739803 | H110: 2.6729064 | J110: 2.5673363
A111: Gas | B111: Hotel (of ander groot logiesgebouw) | C111: tot 1946 | D111: 1188 | E111: 0.499 | F111: 12.712894 | G111: 6.3497801 | H111: 11.638272 | I111: 17.998522 | J111: 9.3932918
A112: Gas | B112: Hotel (of ander groot logiesgebouw) | C112: 1946 tot 1978 | D112: 451 | E112: 0.189 | F112: 11.997147 | G112: 5.9016016 | H112: 10.843333 | I112: 16.842634 | J112: 11.46496
A113: Gas | B113: Hotel (of ander groot logiesgebouw) | C113: 1978 tot 1995 | D113: 299 | E113: 0.126 | F113: 13.268757 | G113: 6.9710425 | H113: 12.474126 | I113: 17.678723 | J113: 11.058063
A114: Gas | B114: Hotel (of ander groot logiesgebouw) | C114: 1995 tot 2009 | D114: 241 | E114: 0.101 | F114: 11.58872 | G114: 5.647343 | H114: 10.717073 | I114: 15.879386 | J114: 11.741549
A115: Gas | B115: Hotel (of ander groot logiesgebouw) | C115: 2009 tot 2015 | D115: 89 | E115: 0.037 | F115: 9.3422784 | G115: 4.7458631 | H115: 8.7521256 | I115: 12.097953 | J115: 6.9562693
A116: Gas | B116: Hotel (of ander groot logiesgebouw) | C116: vanaf 2015 | D116: 112 | E116: 0.047 | F116: 6.6320757 | G116: 3.434557 | H116: 5.515828 | I116: 8.8440107 | J116: 4.6206734
A117: Gas | B117: IJsbaan | C117: tot 1978 | D117: 23 | E117: 0.189 | F117: 4.5735909 | H117: 3.6761905 | J117: 5.4424049
A118: Gas | B118: IJsbaan | C118: 1978 tot 1995 | D118: 51 | E118: 0.418 | F118: 4.4201529 | G118: 1.8640046 | H118: 4.2959184 | I118: 5.9181287 | J118: 4.2131754
A119: Gas | B119: IJsbaan | C119: 1995 tot 2009 | D119: 34 | E119: 0.279 | F119: 3.8649682 | H119: 3.4706358 | J119: 2.1607718
A120: Gas | B120: IJsbaan | C120: vanaf 2009 | D120: 14 | E120: 0.115 | F120: 2.5584637 | J120: 2.303248
A121: Gas | B121: Kantoorpand algemeen | C121: tot 1946 | D121: 4982 | E121: 0.259 | F121: 9.6884551 | G121: 5.9416742 | H121: 9.160035 | I121: 12.730051 | J121: 7.9662946
A122: Gas | B122: Kantoorpand algemeen | C122: 1946 tot 1978 | D122: 3260 | E122: 0.169 | F122: 8.4288317 | G122: 4.4776378 | H122: 7.6431132 | I122: 11.490441 | J122: 6.1685166
A123: Gas | B123: Kantoorpand algemeen | C123: 1978 tot 1995 | D123: 4282 | E123: 0.223 | F123: 7.5854154 | G123: 4.2930103 | H123: 6.9039509 | I123: 10.05859 | J123: 6.2518579
A124: Gas | B124: Kantoorpand algemeen | C124: 1995 tot 2009 | D124: 5608 | E124: 0.291 | F124: 6.5290063 | G124: 3.3282585 | H124: 5.9069661 | I124: 8.6880071 | J124: 5.5433016
A125: Gas | B125: Kantoorpand algemeen | C125: 2009 tot 2015 | D125: 876 | E125: 0.046 | F125: 5.3309177 | G125: 1.8900824 | H125: 4.105535 | I125: 7.2442688 | J125: 3.0621103
A126: Gas | B126: Kantoorpand algemeen | C126: vanaf 2015 | D126: 231 | E126: 0.012 | F126: 6.3114377 | G126: 1.4156425 | H126: 4.3561873 | I126: 9.3344298 | J126: 3.7964759
A127: Gas | B127: Kinderopvang (gebouw) | C127: tot 1946 | D127: 269 | E127: 0.182 | F127: 12.472589 | G127: 7.8650307 | H127: 11.618596 | I127: 15.729124 | J127: 11.175865
A128: Gas | B128: Kinderopvang (gebouw) | C128: 1946 tot 1978 | D128: 479 | E128: 0.324 | F128: 12.031768 | G128: 8.066248 | H128: 11.527778 | I128: 15.165181 | J128: 9.8441077
A129: Gas | B129: Kinderopvang (gebouw) | C129: 1978 tot 1995 | D129: 308 | E129: 0.209 | F129: 9.9836984 | G129: 6.6333468 | H129: 9.4523889 | I129: 12.407905 | J129: 8.9550617
A130: Gas | B130: Kinderopvang (gebouw) | C130: 1995 tot 2009 | D130: 339 | E130: 0.23 | F130: 9.2917839 | G130: 6.2802962 | H130: 8.5074627 | I130: 11.331328 | J130: 7.9607821
A131: Gas | B131: Kinderopvang (gebouw) | C131: 2009 tot 2015 | D131: 70 | E131: 0.047 | F131: 7.5809377 | G131: 5.0222813 | H131: 8.0336666 | I131: 10.114707 | J131: 8.263832
A132: Gas | B132: Kinderopvang (gebouw) | C132: vanaf 2015 | D132: 12 | E132: 0.008 | F132: 6.9796306 | J132: 5.6593912
A133: Gas | B133: Koelhuis | C133: tot 1978 | D133: 11 | E133: 0.129 | F133: 4.6013156 | J133: 1.3328937
A134: Gas | B134: Koelhuis | C134: 1978 tot 1995 | D134: 40 | E134: 0.471 | F134: 4.5026195 | G134: 0.62894877 | H134: 2.1896774 | I134: 5.056926 | J134: 4.5104246
A135: Gas | B135: Koelhuis | C135: vanaf 1995 | D135: 34 | E135: 0.4 | F135: 2.9077403 | H135: 1.4577152 | J135: 2.2118586
A136: Gas | B136: Meergezinswoning met andere functie of combinatie van functies | C136: tot 1946 | D136: 11282 | E136: 0.647 | F136: 8.387974 | G136: 5.1244572 | H136: 7.8000932 | I136: 10.842866 | J136: 7.2758462
A137: Gas | B137: Meergezinswoning met andere functie of combinatie van functies | C137: 1946 tot 1978 | D137: 3322 | E137: 0.191 | F137: 7.8037164 | G137: 4.1876944 | H137: 7.1525903 | I137: 10.555867 | J137: 6.2538945
A138: Gas | B138: Meergezinswoning met andere functie of combinatie van functies | C138: 1978 tot 1995 | D138: 1413 | E138: 0.081 | F138: 7.2783387 | G138: 4.4126344 | H138: 6.816358 | I138: 9.2209632 | J138: 6.1596847
A139: Gas | B139: Meergezinswoning met andere functie of combinatie van functies | C139: 1995 tot 2009 | D139: 1086 | E139: 0.062 | F139: 6.4787346 | G139: 3.9863082 | H139: 5.685591 | I139: 8.1153341 | J139: 4.9389115
A140: Gas | B140: Meergezinswoning met andere functie of combinatie van functies | C140: 2009 tot 2015 | D140: 208 | E140: 0.012 | F140: 5.8605023 | G140: 3.3740072 | H140: 4.9377976 | I140: 6.9141952 | J140: 4.3519445
A141: Gas | B141: Meergezinswoning met andere functie of combinatie van functies | C141: vanaf 2015 | D141: 117 | E141: 0.007 | F141: 5.1325632 | G141: 3.1002045 | H141: 4.5040092 | I141: 6.2827443 | J141: 4.2909975
A142: Gas | B142: Meergezinswoning met cafe of restaurant | C142: tot 1946 | D142: 4957 | E142: 0.794 | F142: 12.649152 | G142: 6.5988539 | H142: 10.438073 | I142: 16.33218 | J142: 11.617985
A143: Gas | B143: Meergezinswoning met cafe of restaurant | C143: 1946 tot 1978 | D143: 731 | E143: 0.117 | F143: 12.009113 | G143: 5.914676 | H143: 9.7401434 | I143: 15.6351 | J143: 10.446609
A144: Gas | B144: Meergezinswoning met cafe of restaurant | C144: 1978 tot 1995 | D144: 250 | E144: 0.04 | F144: 11.102872 | G144: 5.8632767 | H144: 9.3187736 | I144: 14.354481 | J144: 9.864958
A145: Gas | B145: Meergezinswoning met cafe of restaurant | C145: 1995 tot 2009 | D145: 222 | E145: 0.036 | F145: 10.347577 | G145: 4.9365541 | H145: 8.0878199 | I145: 12.788154 | J145: 8.2533094
A146: Gas | B146: Meergezinswoning met cafe of restaurant | C146: 2009 tot 2015 | D146: 43 | E146: 0.007 | F146: 9.4530592 | G146: 4.5680195 | H146: 7.5821138 | I146: 10.832921 | J146: 8.3643053
A147: Gas | B147: Meergezinswoning met cafe of restaurant | C147: vanaf 2015 | D147: 42 | E147: 0.007 | F147: 7.5106557 | G147: 3.5073082 | H147: 6.4113373 | I147: 12.032153 | J147: 5.817468
... A158: Gas | B158: Meergezinswoning met winkels en horeca | C158: 2009 tot 2015 | D158: 80 | E158: 0.032 | F158: 7.6538486 | G158: 3.935438 | H158: 5.8979685 | I158: 8.6271752 | J158: 6.2745675
A159: Gas | B159: Meergezinswoning met winkels en horeca | C159: vanaf 2015 | D159: 30 | E159: 0.012 | F159: 5.2841365 | H159: 4.6472068 | J159: 4.1703147
A160: Gas | B160: Meergezinswoning met woonzorgeenheden | C160: tot 1946 | D160: 68 | E160: 0.262 | F160: 8.7639938 | G160: 5.1412209 | H160: 7.6929035 | I160: 11.343089 | J160: 9.5124133
A161: Gas | B161: Meergezinswoning met woonzorgeenheden | C161: 1946 tot 1978 | D161: 70 | E161: 0.269 | F161: 8.9313604 | G161: 5.5018879 | H161: 8.2608664 | I161: 12.010373 | J161: 7.8218843
A162: Gas | B162: Meergezinswoning met woonzorgeenheden | C162: 1978 tot 1995 | D162: 48 | E162: 0.185 | F162: 11.365672 | G162: 6.7883152 | H162: 8.6449257 | I162: 15.304054 | J162: 9.5326097
...

Sheet gas_kental_opp_2023
A1: Energiedrager | B1: Gebouwtype | C1: Oppervlakteklasse | D1: Aantal panden | E1: Aandeel panden per gebouwtype | F1: Gemiddelde kental (m3/m2) | G1: Q1 kental (m3/m2) | H1: Mediaan kental (m3/m2) | I1: Q3 kental (m3/m2) | J1: Gewogen gemiddelde kental (m3/m2)
A2: Gas | B2: Basisschool | C2: tot 500 m2 | D2: 118 | E2: 0.027 | F2: 13.276225 | G2: 10.231249 | H2: 12.576877 | I2: 15.231244 | J2: 13.159799
A3: Gas | B3: Basisschool | C3: 500 tot 1000 m2 | D3: 843 | E3: 0.191 | F3: 11.233922 | G3: 8.6123081 | H3: 10.592243 | I3: 13.286003 | J3: 11.158325
A4: Gas | B4: Basisschool | C4: 1000 tot 2500 m2 | D4: 2550 | E4: 0.579 | F4: 8.8671708 | G4: 6.4681268 | H4: 8.5714809 | I4: 10.95341 | J4: 8.5989383
A5: Gas | B5: Basisschool | C5: 2500 tot 5000 m2 | D5: 696 | E5: 0.158 | F5: 6.0301861 | G5: 3.787518 | H5: 5.7767688 | I5: 8.0270782 | J5: 5.9323721
A6: Gas | B6: Basisschool | C6: 5000 tot 10000 m2 | D6: 159 | E6: 0.036 | F6: 4.3298262 | G6: 2.2626718 | H6: 4.1242489 | I6: 6.0238737 | J6: 4.2991939
A7: Gas | B7: Basisschool | C7: vanaf 10000 m2 | D7: 37 | E7: 0.008 | F7: 3.3460034 | H7: 2.6530191 | J7: 2.9039538
A8: Gas | B8: Bedrijfshal algemeen (geen LISA-informatie) | C8: tot 50 m2 | D8: 167 | E8: 0.01 | F8: 6.0365776 | H8: 1.8108108 | I8: 8.9345455 | J8: 5.8290413
A9: Gas | B9: Bedrijfshal algemeen (geen LISA-informatie) | C9: 50 tot 100 m2 | D9: 1152 | E9: 0.066 | F9: 3.9291854 | H9: 1.2074137 | I9: 5.6778756 | J9: 3.9006014
A10: Gas | B10: Bedrijfshal algemeen (geen LISA-informatie) | C10: 100 tot 250 m2 | D10: 4358 | E10: 0.25 | F10: 3.1598431 | G10: 0.030879719 | H10: 1.4965308 | I10: 4.3675 | J10: 3.1682563
A11: Gas | B11: Bedrijfshal algemeen (geen LISA-informatie) | C11: 250 tot 500 m2 | D11: 3534 | E11: 0.203 | F11: 3.5036358 | G11: 0.36692808 | H11: 2.0665275 | I11: 4.7523954 | J11: 3.526993
A12: Gas | B12: Bedrijfshal algemeen (geen LISA-informatie) | C12: 500 tot 1000 m2 | D12: 3442 | E12: 0.197 | F12: 3.6084994 | G12: 0.59042323 | H12: 2.2856849 | I12: 4.850777 | J12: 3.6135968
A13: Gas | B13: Bedrijfshal algemeen (geen LISA-informatie) | C13: 1000 tot 2500 m2 | D13: 3016 | E13: 0.173 | F13: 3.8464921 | G13: 0.80787572 | H13: 2.3926477 | I13: 5.1725056 | J13: 3.8620202
A14: Gas | B14: Bedrijfshal algemeen (geen LISA-informatie) | C14: 2500 tot 5000 m2 | D14: 1054 | E14: 0.06 | F14: 3.3956966 | G14: 0.54009521 | H14: 1.9584868 | I14: 4.9604102 | J14: 3.3604926
A15: Gas | B15: Bedrijfshal algemeen (geen LISA-informatie) | C15: 5000 tot 10000 m2 | D15: 482 | E15: 0.028 | F15: 3.4236754 | G15: 0.48740675 | H15: 1.8438051 | I15: 4.182987 | J15: 3.4422674
A16: Gas | B16: Bedrijfshal algemeen (geen LISA-informatie) | C16: vanaf 10000 m2 | D16: 236 | E16: 0.014 | F16: 2.5506026 | G16: 0.35126082 | H16: 1.1511534 | I16: 2.9146843 | J16: 2.2399348
A17: Gas | B17: Bedrijfshal algemeen (met LISA-informatie) | C17: tot 50 m2 | D17: 39 | E17: 0.004 | F17: 14.805577 | H17: 11.043478 | J17: 14.399042
A18: Gas | B18: Bedrijfshal algemeen (met LISA-informatie) | C18: 50 tot 100 m2 | D18: 339 | E18: 0.031 | F18: 6.7454837 | G18: 1.2708333 | H18: 4.6666667 | I18: 8.7750263 | J18: 6.5152862
A19: Gas | B19: Bedrijfshal algemeen (met LISA-informatie) | C19: 100 tot 250 m2 | D19: 1861 | E19: 0.171 | F19: 5.097167 | G19: 1.4090909 | H19: 3.5067568 | I19: 6.3921569 | J19: 4.9490957
A20: Gas | B20: Bedrijfshal algemeen (met LISA-informatie) | C20: 250 tot 500 m2 | D20: 1847 | E20: 0.17 | F20: 4.8419976 | G20: 1.5073333 | H20: 3.4225722 | I20: 6.1347748 | J20: 4.7656075
A21: Gas | B21: Bedrijfshal algemeen (met LISA-informatie) | C21: 500 tot 1000 m2 | D21: 2479 | E21: 0.228 | F21: 4.4429345 | G21: 1.5341797 | H21: 3.1713287 | I21: 5.7344162 | J21: 4.4228753
A22: Gas | B22: Bedrijfshal algemeen (met LISA-informatie) | C22: 1000 tot 2500 m2 | D22: 2533 | E22: 0.233 | F22: 4.1777466 | G22: 1.3331987 | H22: 2.9410774 | I22: 5.389 | J22: 4.1683243
A23: Gas | B23: Bedrijfshal algemeen (met LISA-informatie) | C23: 2500 tot 5000 m2 | D23: 999 | E23: 0.092 | F23: 3.9714058 | G23: 1.150065 | H23: 2.644465 | I23: 4.8918388 | J23: 3.9378397
A24: Gas | B24: Bedrijfshal algemeen (met LISA-informatie) | C24: 5000 tot 10000 m2 | D24: 478 | E24: 0.044 | F24: 3.7896207 | G24: 0.95265643 | H24: 2.1416086 | I24: 4.7054268 | J24: 3.8217649
A25: Gas | B25: Bedrijfshal algemeen (met LISA-informatie) | C25: vanaf 10000 m2 | D25: 288 | E25: 0.027 | F25: 2.8542227 | G25: 0.5177699 | H25: 1.6462704 | I25: 3.3223142 | J25: 2.6948853
A26: Gas | B26: Bedrijfshal met logistieke activiteiten | C26: tot 100 m2 | D26: 21 | E26: 0.004 | F26: 5.3830007 | H26: 4.1022727 | J26: 4.9502488
A27: Gas | B27: Bedrijfshal met logistieke activiteiten | C27: 100 tot 250 m2 | D27: 175 | E27: 0.036 | F27: 5.2453673 | G27: 1.3432731 | H27: 4.1785714 | I27: 7.2575304 | J27: 5.168605
A28: Gas | B28: Bedrijfshal met logistieke activiteiten | C28: 250 tot 500 m2 | D28: 317 | E28: 0.065 | F28: 4.7152153 | G28: 1.8828452 | H28: 3.7773438 | I28: 6.1994382 | J28: 4.6611013
A29: Gas | B29: Bedrijfshal met logistieke activiteiten | C29: 500 tot 1000 m2 | D29: 755 | E29: 0.156 | F29: 4.0495292 | G29: 1.794242 | H29: 3.2217617 | I29: 5.2210673 | J29: 3.9805968
A30: Gas | B30: Bedrijfshal met logistieke activiteiten | C30: 1000 tot 2500 m2 | D30: 1713 | E30: 0.353 | F30: 3.461729 | G30: 1.4155405 | H30: 2.6482213 | I30: 4.5525478 | J30: 3.4080178
A31: Gas | B31: Bedrijfshal met logistieke activiteiten | C31: 2500 tot 5000 m2 | D31: 1030 | E31: 0.212 | F31: 3.4518529 | G31: 1.4214437 | H31: 2.6654276 | I31: 4.3991491 | J31: 3.4071797
A32: Gas | B32: Bedrijfshal met logistieke activiteiten | C32: 5000 tot 10000 m2 | D32: 517 | E32: 0.107 | F32: 3.2288449 | G32: 1.1533246 | H32: 2.3307751 | I32: 4.1022849 | J32: 3.2134477
A33: Gas | B33: Bedrijfshal met logistieke activiteiten | C33: vanaf 10000 m2 | D33: 324 | E33: 0.067 | F33: 2.8061316 | G33: 0.82180111 | H33: 1.7049813 | I33: 3.3879904 | J33: 2.2076234
A34: Gas | B34: Bedrijfshal met maakindustrie en andere economische activiteiten | C34: tot 100 m2 | D34: 38 | E34: 0.009 | F34: 8.7119533 | H34: 6.0345362 | J34: 8.5094737
A35: Gas | B35: Bedrijfshal met maakindustrie en andere economische activiteiten | C35: 100 tot 250 m2 | D35: 236 | E35: 0.053 | F35: 5.8548358 | G35: 1.7440191 | H35: 4.076981 | I35: 7.3468339 | J35: 5.6148188
A36: Gas | B36: Bedrijfshal met maakindustrie en andere economische activiteiten | C36: 250 tot 500 m2 | D36: 386 | E36: 0.087 | F36: 4.4621624 | G36: 1.6535244 | H36: 3.1639695 | I36: 5.4501982 | J36: 4.4147282
A37: Gas | B37: Bedrijfshal met maakindustrie en andere economische activiteiten | C37: 500 tot 1000 m2 | D37: 1049 | E37: 0.235 | F37: 4.1157863 | G37: 1.4074074 | H37: 2.9824742 | I37: 5.234375 | J37: 4.0990017
A38: Gas | B38: Bedrijfshal met maakindustrie en andere economische activiteiten | C38: 1000 tot 2500 m2 | D38: 1635 | E38: 0.367 | F38: 3.8567559 | G38: 1.443103 | H38: 2.7980392 | I38: 4.8520237 | J38: 3.862101
A39: Gas | B39: Bedrijfshal met maakindustrie en andere economische activiteiten | C39: 2500 tot 5000 m2 | D39: 705 | E39: 0.158 | F39: 4.2792288 | G39: 1.4532448 | H39: 3.0959581 | I39: 5.5483871 | J39: 4.2942145
A40: Gas | B40: Bedrijfshal met maakindustrie en andere economische activiteiten | C40: 5000 tot 10000 m2 | D40: 270 | E40: 0.061 | F40: 4.2684479 | G40: 1.2692042 | H40: 2.9758095 | I40: 5.0534759 | J40: 4.2980143
A41: Gas | B41: Bedrijfshal met maakindustrie en andere economische activiteiten | C41: vanaf 10000 m2 | D41: 137 | E41: 0.031 | F41: 4.770879 | G41: 1.0030478 | H41: 3.0281751 | I41: 5.9907216 | J41: 4.5446768
A42: Gas | B42: Bedrijfshal met maakindustrie en logistieke activiteiten | C42: tot 50 m2 | D42: 19 | E42: 0.002 | F42: 11.104992 | J42: 10.043478
A43: Gas | B43: Bedrijfshal met maakindustrie en logistieke activiteiten | C43: 50 tot 100 m2 | D43: 133 | E43: 0.014 | F43: 7.3995389 | G43: 1.5106383 | H43: 5.0348837 | I43: 10.375 | J43: 7.2486593
A44: Gas | B44: Bedrijfshal met maakindustrie en logistieke activiteiten | C44: 100 tot 250 m2 | D44: 786 | E44: 0.083 | F44: 4.8148863 | G44: 1.0957689 | H44: 3.1778186 | I44: 6.3266667 | J44: 4.7361348
A45: Gas | B45: Bedrijfshal met maakindustrie en logistieke activiteiten | C45: 250 tot 500 m2 | D45: 1178 | E45: 0.125 | F45: 4.4723174 | G45: 1.5848806 | H45: 3.2977371 | I45: 5.7496208 | J45: 4.4535794
A46: Gas | B46: Bedrijfshal met maakindustrie en logistieke activiteiten | C46: 500 tot 1000 m2 | D46: 1977 | E46: 0.21 | F46: 4.211402 | G46: 1.5034483 | H46: 3.2220828 | I46: 5.6890909 | J46: 4.1816308
A47: Gas | B47: Bedrijfshal met maakindustrie en logistieke activiteiten | C47: 1000 tot 2500 m2 | D47: 2879 | E47: 0.306 | F47: 3.8236334 | G47: 1.3495267 | H47: 2.9081996 | I47: 5.1089235 | J47: 3.8081201
A48: Gas | B48: Bedrijfshal met maakindustrie en logistieke activiteiten | C48: 2500 tot 5000 m2 | D48: 1410 | E48: 0.15 | F48: 3.8300541 | G48: 1.3036298 | H48: 2.6893797 | I48: 4.9071655 | J48: 3.868903
A49: Gas | B49: Bedrijfshal met maakindustrie en logistieke activiteiten | C49: 5000 tot 10000 m2 | D49: 683 | E49: 0.073 | F49: 3.2112644 | G49: 0.8059682 | H49: 2.1055461 | I49: 4.3377457 | J49: 3.2123341
A50: Gas | B50: Bedrijfshal met maakindustrie en logistieke activiteiten | C50: vanaf 10000 m2 | D50: 349 | E50: 0.037 | F50: 3.311864 | G50: 0.57023652 | H50: 1.898233 | I50: 3.8962751 | J50: 2.9200274
A51: Gas | B51: Bedrijfshal uitsluitend maakindustrie | C51: tot 50 m2 | D51: 44 | E51: 0.003 | F51: 19.926636 | G51: 0.21607246 | H51: 11.811905 | I51: 31.840909 | J51: 19.48672
A52: Gas | B52: Bedrijfshal uitsluitend maakindustrie | C52: 50 tot 100 m2 | D52: 339 | E52: 0.02 | F52: 8.051054 | G52: 0.72829822 | H52: 4.1829268 | I52: 10.322534 | J52: 7.7745498
A53: Gas | B53: Bedrijfshal uitsluitend maakindustrie | C53: 100 tot 250 m2 | D53: 1960 | E53: 0.113 | F53: 5.4428324 | G53: 0.88511905 | H53: 2.867676 | I53: 6.5 | J53: 5.3121598
A54: Gas | B54: Bedrijfshal uitsluitend maakindustrie | C54: 250 tot 500 m2 | D54: 3009 | E54: 0.174 | F54: 4.7228258 | G54: 1.2947977 | H54: 3.0635697 | I54: 5.7015385 | J54: 4.7268713
... A67: Gas | B67: Bedrijfswoning | C67: 5000 tot 10000 m2 | D67: 41 | E67: 0.001 | F67: 3.3269861 | G67: 0.45078831 | H67: 1.5787638 | I67: 4.4926659 | J67: 3.1242285
A68: Gas | B68: Bedrijfswoning | C68: vanaf 10000 m2 | D68: 31 | E68: 0 | F68: 6.665719 | H68: 2.7630683 | J68: 7.8625487
A69: Gas | B69: Bijeenkomstgebouw (niet nader ingedeeld) | C69: tot 50 m2 | D69: 119 | E69: 0.013 | F69: 11.549752 | G69: 2.8382353 | H69: 9.1020408 | I69: 19.742857 | J69: 11.740137
A70: Gas | B70: Bijeenkomstgebouw (niet nader ingedeeld) | C70: 50 tot 100 m2 | D70: 735 | E70: 0.08 | F70: 10.622847 | G70: 4.199549 | H70: 8.5851064 | I70: 14.921875 | J70: 10.521722
A71: Gas | B71: Bijeenkomstgebouw (niet nader ingedeeld) | C71: 100 tot 250 m2 | D71: 2837 | E71: 0.31 | F71: 8.6118821 | G71: 4.0493274 | H71: 7.0769231 | I71: 11.27572 | J71: 8.5321036
A72: Gas | B72: Bijeenkomstgebouw (niet nader ingedeeld) | C72: 250 tot 500 m2 | D72: 2608 | E72: 0.285 | F72: 8.0275128 | G72: 3.9181993 | H72: 6.4902717 | I72: 10.398926 | J72: 8.0253675
A73: Gas | B73: Bijeenkomstgebouw (niet nader ingedeeld) | C73: 500 tot 1000 m2 | D73: 1690 | E73: 0.185 | F73: 7.7602448 | G73: 3.3189413 | H73: 6.3228051 | I73: 10.327793 | J73: 7.7447811
A74: Gas | B74: Bijeenkomstgebouw (niet nader ingedeeld) | C74: 1000 tot 2500 m2 | D74: 867 | E74: 0.095 | F74: 7.7834566 | G74: 3.3651338 | H74: 6.1622746 | I74: 10.83177 | J74: 7.6878469
A75: Gas | B75: Bijeenkomstgebouw (niet nader ingedeeld) | C75: 2500 tot 5000 m2 | D75: 191 | E75: 0.021 | F75: 7.1348729 | G75: 1.510123 | H75: 4.4028179 | I75: 10.931197 | J75: 7.1437978
A76: Gas | B76: Bijeenkomstgebouw (niet nader ingedeeld) | C76: 5000 tot 10000 m2 | D76: 75 | E76: 0.008 | F76: 5.9424026 | G76: 1.2863146 | H76: 2.9158147 | I76: 8.4224263 | J76: 6.1512809
A77: Gas | B77: Bijeenkomstgebouw (niet nader ingedeeld) | C77: vanaf 10000 m2 | D77: 28 | E77: 0.003 | F77: 6.5987644 | H77: 2.5694268 | J77: 5.9411188
A78: Gas | B78: Campusgebouw | C78: tot 1000 m2 | D78: 15 | E78: 0.158 | F78: 10.004963 | J78: 9.7986746
A79: Gas | B79: Campusgebouw | C79: 1000 tot 2500 m2 | D79: 13 | E79: 0.137 | F79: 13.409016 | J79: 12.881523
A80: Gas | B80: Campusgebouw | C80: 2500 tot 5000 m2 | D80: 14 | E80: 0.147 | F80: 10.36455 | J80: 9.9485496
A81: Gas | B81: Campusgebouw | C81: 5000 tot 10000 m2 | D81: 21 | E81: 0.221 | F81: 12.530415 | H81: 6.1257664 | J81: 13.557503
A82: Gas | B82: Campusgebouw | C82: vanaf 10000 m2 | D82: 32 | E82: 0.337 | F82: 9.0007216 | H82: 4.1822854 | J82: 6.1955965
A83: Gas | B83: Cultuurhuis | C83: tot 250 m2 | D83: 20 | E83: 0.037 | F83: 11.876281 | H83: 11.866947 | J83: 11.942423
A84: Gas | B84: Cultuurhuis | C84: 250 tot 500 m2 | D84: 59 | E84: 0.11 | F84: 9.9438646 | G84: 7.0041419 | H84: 8.7547619 | I84: 12.04995 | J84: 9.5523939
A85: Gas | B85: Cultuurhuis | C85: 500 tot 1000 m2 | D85: 118 | E85: 0.22 | F85: 9.4434293 | G85: 6.0103463 | H85: 8.7157695 | I85: 11.448285 | J85: 9.3670611
A86: Gas | B86: Cultuurhuis | C86: 1000 tot 2500 m2 | D86: 163 | E86: 0.304 | F86: 8.6192739 | G86: 4.7051316 | H86: 7.9706717 | I86: 11.096981 | J86: 8.4882857
A87: Gas | B87: Cultuurhuis | C87: 2500 tot 5000 m2 | D87: 88 | E87: 0.164 | F87: 6.4794938 | G87: 3.6794673 | H87: 6.0609274 | I87: 8.1021988 | J87: 6.4391596
A88: Gas | B88: Cultuurhuis | C88: 5000 tot 10000 m2 | D88: 48 | E88: 0.089 | F88: 8.0254498 | G88: 3.9062916 | H88: 7.7507611 | I88: 10.665015 | J88: 7.8507872
A89: Gas | B89: Cultuurhuis | C89: vanaf 10000 m2 | D89: 41 | E89: 0.076 | F89: 4.4019006 | G89: 1.391681 | H89: 3.6311518 | I89: 6.0636111 | J89: 3.6724081
A90: Gas | B90: Gebedshuis | C90: tot 100 m2 | D90: 34 | E90: 0.008 | F90: 10.167638 | H90: 10.507087 | J90: 10.233771
A91: Gas | B91: Gebedshuis | C91: 100 tot 250 m2 | D91: 422 | E91: 0.1 | F91: 9.8194289 | G91: 6.1184192 | H91: 9.2387759 | I91: 13.31008 | J91: 9.7926351
A92: Gas | B92: Gebedshuis | C92: 250 tot 500 m2 | D92: 1046 | E92: 0.248 | F92: 8.2902038 | G92: 5.3180904 | H92: 7.6253014 | I92: 10.682943 | J92: 8.2117824
A93: Gas | B93: Gebedshuis | C93: 500 tot 1000 m2 | D93: 1340 | E93: 0.318 | F93: 7.2869571 | G93: 4.5698354 | H93: 6.7357026 | I93: 9.5344142 | J93: 7.2133612
A94: Gas | B94: Gebedshuis | C94: 1000 tot 2500 m2 | D94: 1075 | E94: 0.255 | F94: 5.6840361 | G94: 3.0958947 | H94: 5.2379845 | I94: 7.5381537 | J94: 5.5707382
A95: Gas | B95: Gebedshuis | C95: 2500 tot 5000 m2 | D95: 194 | E95: 0.046 | F95: 3.7473329 | G95: 1.5224671 | H95: 3.1589351 | I95: 5.268273 | J95: 3.7376134
A96: Gas | B96: Gebedshuis | C96: 5000 tot 10000 m2 | D96: 71 | E96: 0.017 | F96: 4.0102328 | G96: 0.84817959 | H96: 1.8320686 | I96: 6.1108573 | J96: 3.9711509
A97: Gas | B97: Gebedshuis | C97: vanaf 10000 m2 | D97: 35 | E97: 0.008 | F97: 2.8995271 | H97: 0.96163319 | J97: 2.8608771
A98: Gas | B98: Gebouw bij spooremplacement | C98: tot 500 m2 | D98: 18 | E98: 0.214 | F98: 7.8753968 | J98: 7.8489594
A99: Gas | B99: Gebouw bij spooremplacement | C99: 500 tot 1000 m2 | D99: 17 | E99: 0.202 | F99: 11.111328 | J99: 11.565936
A100: Gas | B100: Gebouw bij spooremplacement | C100: 1000 tot 2500 m2 | D100: 11 | E100: 0.131 | F100: 11.304999 | J100: 10.276078
A101: Gas | B101: Gebouw bij spooremplacement | C101: 2500 tot 10000 m2 | D101: 19 | E101: 0.226 | F101: 8.7085889 | J101: 8.5854964
A102: Gas | B102: Gebouw bij spooremplacement | C102: vanaf 10000 m2 | D102: 19 | E102: 0.226 | F102: 7.2625305 | J102: 6.9296166
A103: Gas | B103: Gebouw bij vliegveld of luchthaven | C103: tot 250 m2 | D103: 19 | E103: 0.115 | F103: 11.199071 | J103: 9.6118348
A104: Gas | B104: Gebouw bij vliegveld of luchthaven | C104: 250 tot 500 m2 | D104: 26 | E104: 0.158 | F104: 8.2343805 | H104: 6.9879908 | J104: 8.4244145
A105: Gas | B105: Gebouw bij vliegveld of luchthaven | C105: 500 tot 1000 m2 | D105: 39 | E105: 0.236 | F105: 5.3202755 | H105: 3.7051429 | J105: 5.5523071
A106: Gas | B106: Gebouw bij vliegveld of luchthaven | C106: 1000 tot 2500 m2 | D106: 40 | E106: 0.242 | F106: 4.9043009 | G106: 1.404051 | H106: 2.7637649 | I106: 6.4487475 | J106: 4.9160002
A107: Gas | B107: Gebouw bij vliegveld of luchthaven | C107: 2500 tot 5000 m2 | D107: 25 | E107: 0.152 | F107: 8.1653005 | H107: 6.3597352 | J107: 8.1370587
A108: Gas | B108: Gebouw bij vliegveld of luchthaven | C108: vanaf 5000 m2 | D108: 16 | E108: 0.097 | F108: 6.1701497 | J108: 5.2538581
A109: Gas | B109: Gebouw in landelijk gebied voor industrie (geen landbouwactiviteiten geregistreerd) | C109: tot 50 m2 | D109: 19 | E109: 0.005 | F109: 13.451641 | J109: 13.406579
A110: Gas | B110: Gebouw in landelijk gebied voor industrie (geen landbouwactiviteiten geregistreerd) | C110: 50 tot 100 m2 | D110: 126 | E110: 0.034 | F110: 8.7193852 | G110: 0.35813492 | H110: 7.7757937 | I110: 14.045372 | J110: 8.7084025
A111: Gas | B111: Gebouw in landelijk gebied voor industrie (geen landbouwactiviteiten geregistreerd) | C111: 100 tot 250 m2 | D111: 564 | E111: 0.154 | F111: 7.9931338 | G111: 1.728964 | H111: 6.0260073 | I111: 11.567602 | J111: 7.8004348
A112: Gas | B112: Gebouw in landelijk gebied voor industrie (geen landbouwactiviteiten geregistreerd) | C112: 250 tot 500 m2 | D112: 773 | E112: 0.211 | F112: 5.2692 | G112: 0.93430657 | H112: 3.4591837 | I112: 7.4794521 | J112: 5.1365464
...

Sheet gas_kental_diensten_2023
A1: Energiedrager | B1: Gebouwtype | C1: Aantal panden | D1: Gemiddelde kental (m3/m2) | E1: Q1 kental (m3/m2) | F1: Mediaan kental (m3/m2) | G1: Q3 kental (m3/m2) | H1: Gewogen gemiddelde kental (m3/m2)
A2: Gas | B2: Asielzoekerscentrum | C2: 47 | D2: 29.138655 | E2: 11.566625 | F2: 20.059856 | G2: 38.169572 | H2: 19.707804
A3: Gas | B3: Basisschool | C3: 3959 | D3: 8.9090744 | E3: 6.2085357 | F3: 8.6383333 | G3: 11.234756 | H3: 7.4703285
A4: Gas | B4: Bedrijfshal algemeen (geen LISA-informatie) | C4: 9557 | D4: 3.440245 | E4: 0.27751196 | F4: 1.8795181 | G4: 4.7555556 | H4: 3.0615445
A5: Gas | B5: Bedrijfshal algemeen (met LISA-informatie) | C5: 7422 | D5: 4.6012671 | E5: 1.3845493 | F5: 3.188971 | G5: 5.9037187 | H5: 3.6696607
A6: Gas | B6: Bedrijfshal met logistieke activiteiten | C6: 1915 | D6: 3.8416227 | E6: 1.3710571 | F6: 2.9954632 | G6: 5.2747925 | H6: 3.0075315
A7: Gas | B7: Bedrijfshal met maakindustrie en andere economische activiteiten | C7: 1426 | D7: 4.516677 | E7: 1.4090146 | F7: 3.1918503 | G7: 5.8101933 | H7: 4.0388141
A8: Gas | B8: Bedrijfshal met maakindustrie en logistieke activiteiten | C8: 5828 | D8: 4.0392575 | E8: 1.2919808 | F8: 2.9753726 | G8: 5.379754 | H8: 3.3411334
A9: Gas | B9: Bedrijfshal uitsluitend maakindustrie | C9: 6229 | D9: 5.2858982 | E9: 1.4356955 | F9: 3.5049929 | G9: 6.7316017 | H9: 5.5959428
A10: Gas | B10: Bedrijfswoning | C10: 8140 | D10: 9.0278589 | E10: 3.7076296 | F10: 7.0221949 | G10: 11.674344 | H10: 6.9876309
A11: Gas | B11: Bijeenkomstgebouw (niet nader ingedeeld) | C11: 8208 | D11: 8.4295365 | E11: 3.7934868 | F11: 6.7812117 | G11: 11.090403 | H11: 7.6987685
A12: Gas | B12: Campusgebouw | C12: 67 | D12: 11.518844 | E12: 3.714946 | F12: 7.4418255 | G12: 12.18861 | H12: 11.33392
A13: Gas | B13: Cultuurhuis | C13: 447 | D13: 8.6099585 | E13: 4.920119 | F13: 8.007732 | G13: 11.326604 | H13: 6.41187
A14: Gas | B14: Datacenter | C14: 38 | D14: 2.6969759 | F14: 1.4684532 | H14: 2.6547137
A15: Gas | B15: Gebedshuis | C15: 3572 | D15: 7.1967973 | E15: 4.0841485 | F15: 6.6109944 | G15: 9.5937542 | H15: 5.5519105
A16: Gas | B16: Gebouw bij militaire inrichting
A17: Gas | B17: Gebouw bij spooremplacement | C17: 43 | D17: 7.5461078 | E17: 2.3079449 | F17: 5.8596087 | G17: 10.833766 | H17: 6.1726254
A18: Gas | B18: Gebouw bij vliegveld of luchthaven | C18: 108 | D18: 6.927002 | E18: 1.4869875 | F18: 5.184287 | G18: 9.0994654 | H18: 5.17607
A19: Gas | B19: Gebouw in landelijk gebied voor industrie (geen landbouwactiviteiten geregistreerd) | C19: 1743 | D19: 5.0705377 | E19: 0.89085455 | F19: 2.938172 | G19: 6.9378788 | H19: 3.3782835
A20: Gas | B20: Gebouw in stedelijk gebied met industriefunctie | C20: 7601 | D20: 6.3649768 | E20: 1.08 | F20: 3.964467 | G20: 8.4052632 | H20: 4.6349395
A21: Gas | B21: Gebouw op snelwegverzorgingsplaats | C21: 49 | D21: 11.294054 | E21: 2.6270492 | F21: 6.609375 | G21: 14.213333 | H21: 17.596302
A22: Gas | B22: Gebouw op vakantiepark | C22: 31995 | D22: 9.2438951 | E22: 5.5235327 | F22: 8.6333333 | G22: 12.098402 | H22: 9.121318
A23: Gas | B23: Gebouw voor landbouwactiviteiten | C23: 199 | D23: 11.351322 | E23: 1.2132673 | F23: 4.9 | G23: 11.82839 | H23: 2.6747808
A24: Gas | B24: Groothandel op bedrijventerrein | C24: 161 | D24: 3.7720492 | E24: 1.5338208 | F24: 3.3968692 | G24: 4.7939642 | H24: 3.2734145
A25: Gas | B25: Hotel (of ander groot logiesgebouw) | C25: 1970 | D25: 12.608105 | E25: 6.5142844 | F25: 11.576583 | G25: 17.364652 | H25: 10.535771
A26: Gas | B26: IJsbaan | C26: 106 | D26: 4.1321437 | E26: 1.8314941 | F26: 3.5717949 | G26: 5.3729637 | H26: 2.4535518
A27: Gas | B27: Kantoorpand algemeen | C27: 15515 | D27: 8.0198915 | E27: 4.3844224 | F27: 7.3126615 | G27: 10.807489 | H27: 6.2677839
A28: Gas | B28: Kinderopvang (gebouw) | C28: 1357 | D28: 10.785687 | E28: 6.972067 | F28: 10.1673 | G28: 13.875556 | H28: 9.4290044
A29: Gas | B29: Koelhuis | C29: 65 | D29: 4.075584 | E29: 0.57435617 | F29: 1.4234731 | G29: 4.5613008 | H29: 3.1064588
A30: Gas | B30: MBO-gebouw
A31: Gas | B31: Meergezinswoning met andere functie of combinatie van functies | C31: 1724 | D31: 8.5610768 | E31: 4.1033097 | F31: 7.6932791 | G31: 11.993687 | H31: 7.1086173
A32: Gas | B32: Meergezinswoning met cafe of restaurant | C32: 1058 | D32: 13.1585 | E32: 5.926692 | F32: 10.911462 | G32: 18.515181 | H32: 11.595788
A33: Gas | B33: Meergezinswoning met winkel | C33: 2856 | D33: 8.1241753 | E33: 3.5320544 | F33: 7.2180402 | G33: 11.574174 | H33: 6.8601779
A34: Gas | B34: Meergezinswoning met winkels en horeca | C34: 288 | D34: 9.5418391 | E34: 4.523374 | F34: 8.0454732 | G34: 13.110106 | H34: 5.0026584
A35: Gas | B35: Meergezinswoning met woonzorgeenheden | C35: 83 | D35: 11.363627 | E35: 7.0263514 | F35: 10.505556 | G35: 15.400975 | H35: 10.371429
A36: Gas | B36: Middelbare school | C36: 971 | D36: 7.2675422 | E36: 4.0654883 | F36: 6.7678025 | G36: 9.4908836 | H36: 5.8471792
A37: Gas | B37: Nutsgebouw (elektriciteit) | F37: 7.3462189
A38: Gas | B38: Nutsgebouw (water) | C38: 167 | D38: 18.11612 | E38: 4.579705 | F38: 11.399103 | G38: 22.126515 | H38: 9.317301
A39: Gas | B39: Overig gebouw met maatschappelijke functie | C39: 1365 | D39: 10.065432 | E39: 3.4518664 | F39: 6.7843866 | G39: 11.990099 | H39: 9.1146734
A40: Gas | B40: Overig gebouw met recreatiefunctie | C40: 59 | D40: 17.587311 | E40: 4.7359686 | F40: 9.8395666 | G40: 19.145037 | H40: 16.465815
A41: Gas | B41: Overig onderwijsgebouw | C41: 2697 | D41: 9.4929384 | E41: 5.6909091 | F41: 8.9044219 | G41: 12.263441 | H41: 7.2782318
A42: Gas | B42: Overig overheidsgebouw | C42: 955 | D42: 9.468493 | E42: 5.5562915 | F42: 8.4903934 | G42: 12.154998 | H42: 6.2933305
A43: Gas | B43: Overig sportgebouw | C43: 6709 | D43: 8.7279957 | E43: 3.9184466 | F43: 6.9473684 | G43: 11.312102 | H43: 6.9759502
A44: Gas | B44: Overig zorggebouw | C44: 2642 | D44: 9.7549018 | E44: 5.0398515 | F44: 8.2658161 | G44: 12.213744 | H44: 9.0899382
A45: Gas | B45: Overige utiliteitsbouw | C45: 2082 | D45: 13.297743 | E45: 2.2989567 | F45: 6.153351 | G45: 12.659792 | H45: 6.7493277
A46: Gas | B46: Pand met winkel en kantoor- en/of bijeenkomstfunctie | C46: 567 | D46: 7.1405943 | E46: 2.5108221 | F46: 5.3728814 | G46: 9.4596393 | H46: 4.1891392
A47: Gas | B47: Penitentiaire inrichting | C47: 21 | D47: 18.749508 | F47: 15.730785 | H47: 18.507041
A48: Gas | B48: Praktijk- of zorgwoning | C48: 1459 | D48: 10.259065 | E48: 5.6740251 | F48: 9.0313253 | G48: 13.384501 | H48: 10.173364
A49: Gas | B49: Productie-installatie
A50: Gas | B50: Restaurant of cafégebouw | C50: 3566 | D50: 24.24742 | E50: 8.6809975 | F50: 17.910213 | G50: 32.789629 | H50: 17.742636
A51: Gas | B51: School voor speciaal onderwijs | C51: 426 | D51: 9.4142812 | E51: 6.3950125 | F51: 8.8773468 | G51: 11.689538 | H51: 7.9738989
A52: Gas | B52: Schoolverzamelgebouw | C52: 77 | D52: 6.2624575 | E52: 3.3187661 | F52: 5.6448378 | G52: 8.0134519 | H52: 5.7401575
A53: Gas | B53: Tuincentrum | C53: 340 | D53: 6.7075248 | E53: 2.688104 | F53: 4.6364263 | G53: 7.7602465 | H53: 4.9234908
A54: Gas | B54: Vakantiewoning buiten vakantiepark | C54: 3621 | D54: 10.423181 | E54: 5.3352273 | F54: 8.9651163 | G54: 13.511111 | H54: 9.9437725
A55: Gas | B55: Winkelpand | C55: 17078 | D55: 7.8304381 | E55: 2.2148618 | F55: 5.2779595 | G55: 10.005714 | H55: 4.5607686
A56: Gas | B56: Woning met andere functie of combinatie van functies | C56: 4093 | D56: 10.042132 | E56: 4.0024213 | F56: 7.8285714 | G56: 13.614943 | H56: 8.5958425
A57: Gas | B57: Woning met cafe of restaurant | C57: 6795 | D57: 16.664592 | E57: 6.8147221 | F57: 12.8 | G57: 22.444272 | H57: 13.700554
A58: Gas | B58: Woning met winkel | C58: 13807 | D58: 9.1266733 | E58: 4.3800999 | F58: 7.5090909 | G58: 11.89878 | H58: 7.2732815
A59: Gas | B59: Wooncomplex met andere functie of combinatie van functies | C59: 724 | D59: 10.537502 | E59: 6.2031502 | F59: 10.457235 | G59: 14.199112 | H59: 9.7708618
A60: Gas | B60: Wooncomplex met winkels en/of horeca | C60: 165 | D60: 8.1143329 | E60: 3.2922853 | F60: 7.8568486 | G60: 11.560284 | H60: 7.6273983
A61: Gas | B61: Woonzorgcomplex | C61: 856 | D61: 13.959402 | E61: 7.970508 | F61: 12.313922 | G61: 17.639293 | H61: 13.143807
... A66: Gas | B66: Zwembad | C66: 410 | D66: 46.256656 | E66: 12.539636 | F66: 32.690691 | G66: 60.442754 | H66: 37.27544

Sheet elek_kental_2023
A1: Energiedrager | B1: Gebouwtype | C1: Aantal panden | D1: Gemiddelde kental (kWh/m2) | E1: Q1 kental (kWh/m2) | F1: Mediaan kental (kWh/m2) | G1: Q3 kental (kWh/m2) | H1: Gewogen gemiddelde kental (kWh/m2) | I1: Gemiddelde kental inclusief eigenverbruik zonnestroom (kWh/m2) | J1: Q1 kental inclusief eigenverbruik zonnestroom (kWh/m2) | K1: Mediaan kental inclusief eigenverbruik zonnestroom (kWh/m2) | L1: Q3 kental inclusief eigenverbruik zonnestroom (kWh/m2) | M1: Gewogen gemiddelde kental inclusief eigenverbruik zonnestroom (kWh/m2)
A2: Elektriciteit | B2: Asielzoekerscentrum | C2: 72 | D2: 95.286072 | E2: 26.669081 | F2: 55.635441 | G2: 103.35415 | H2: 61.476917 | I2: 97.445762 | J2: 32.40258 | K2: 57.157323 | L2: 104.47928 | M2: 63.093153
A3: Elektriciteit | B3: Basisschool | C3: 4847 | D3: 24.717537 | E3: 15.159547 | F3: 21.032412 | G3: 30.586853 | H3: 25.833002 | I3: 28.404702 | J3: 17.313457 | K3: 23.232011 | L3: 34.562918 | M3: 29.346041
A4: Elektriciteit | B4: Bedrijfshal algemeen (geen LISA-informatie) | C4: 19457 | D4: 34.169249 | E4: 10.245098 | F4: 18.611404 | G4: 37.286913 | H4: 39.883314 | I4: 37.932116 | J4: 10.877419 | K4: 20.256356 | L4: 40.876923 | M4: 45.513556
A5: Elektriciteit | B5: Bedrijfshal algemeen (met LISA-informatie) | C5: 12346 | D5: 44.178162 | E5: 14.069139 | F5: 24.558334 | G5: 46.27125 | H5: 46.540239 | I5: 50.34469 | J5: 15.66552 | K5: 27.253216 | L5: 52.06244 | M5: 53.214576
A6: Elektriciteit | B6: Bedrijfshal met logistieke activiteiten | C6: 5585 | D6: 36.694499 | E6: 15.060811 | F6: 24.100624 | G6: 40.541463 | H6: 38.625123 | I6: 41.899877 | J6: 16.776287 | K6: 26.906956 | L6: 45.741549 | M6: 45.335846
A7: Elektriciteit | B7: Bedrijfshal met maakindustrie en andere economische activiteiten | C7: 4928 | D7: 40.334917 | E7: 14.911993 | F7: 25.043023 | G7: 44.575317 | H7: 48.61218 | I7: 45.495447 | J7: 16.631692 | K7: 28.26815 | L7: 51.402104 | M7: 54.226438
A8: Elektriciteit | B8: Bedrijfshal met maakindustrie en logistieke activiteiten | C8: 10515 | D8: 43.568129 | E8: 13.783978 | F8: 23.442938 | G8: 43.345294 | H8: 50.51565 | I8: 52.366001 | J8: 15.55054 | K8: 26.206821 | L8: 49.062287 | M8: 57.40826
A9: Elektriciteit | B9: Bedrijfshal uitsluitend maakindustrie | C9: 19013 | D9: 53.03074 | E9: 14.903817 | F9: 26.768293 | G9: 52.743363 | H9: 85.666349 | I9: 58.683279 | J9: 16.833492 | K9: 30.441468 | L9: 59.995907 | M9: 92.371111
A10: Elektriciteit | B10: Bedrijfswoning | C10: 65594 | D10: 59.526998 | E10: 14.742355 | F10: 26.393524 | G10: 56.885218 | H10: 46.43927 | I10: 80.158596 | J10: 17.098639 | K10: 31.227088 | L10: 69.602557 | M10: 61.493521
A11: Elektriciteit | B11: Bijeenkomstgebouw (niet nader ingedeeld) | C11: 9153 | D11: 45.446696 | E11: 12.774295 | F11: 24.344507 | G11: 52.216776 | H11: 48.164568 | I11: 49.029085 | J11: 13.980413 | K11: 26.798333 | L11: 56.991173 | M11: 51.293722
A12: Elektriciteit | B12: Campusgebouw | C12: 114 | D12: 100.23563 | E12: 36.182924 | F12: 60.563429 | G12: 131.82543 | H12: 77.101932 | I12: 104.05968 | J12: 41.758489 | K12: 62.594163 | L12: 139.32879 | M12: 80.292844
A13: Elektriciteit | B13: Cultuurhuis | C13: 570 | D13: 55.889216 | E13: 23.936519 | F13: 40.331401 | G13: 76.632431 | H13: 55.508009 | I13: 58.584316 | J13: 25.228303 | K13: 44.425074 | L13: 78.856405 | M13: 57.475114
... A15: Elektriciteit | B15: Gebedshuis | C15: 3468 | D15: 15.062869 | E15: 8.3466705 | F15: 12.078279 | G15: 18.947703 | H15: 16.314085 | I15: 16.546518 | J15: 8.8480432 | K15: 13.071919 | L15: 20.548046 | M15: 18.022641
A16: Elektriciteit | B16: Gebouw bij militaire inrichting | C16: 13 | D16: 817.40416 | H16: 568.50825 | I16: 817.40416 | M16: 568.50825
A17: Elektriciteit | B17: Gebouw bij spooremplacement | C17: 69 | D17: 68.140025 | E17: 17.996599 | F17: 50.398936 | G17: 99.517857 | H17: 53.228625 | I17: 69.190977 | J17: 21.674074 | K17: 50.940991 | L17: 99.517857 | M17: 54.345554
A18: Elektriciteit | B18: Gebouw bij vliegveld of luchthaven | C18: 129 | D18: 34.595676 | E18: 11.995136 | F18: 24.259587 | G18: 48.722124 | H18: 42.09417 | I18: 39.534432 | J18: 14.030303 | K18: 31.333612 | L18: 56.769024 | M18: 44.308339
A19: Elektriciteit | B19: Gebouw in landelijk gebied voor industrie (geen landbouwactiviteiten geregistreerd) | C19: 4785 | D19: 44.527911 | E19: 12.187558 | F19: 23.515306 | G19: 51.16307 | H19: 47.028863 | I19: 60.659779 | J19: 13.877273 | K19: 27.713789 | L19: 61.058315 | M19: 60.377707
A20: Elektriciteit | B20: Gebouw in stedelijk gebied met industriefunctie | C20: 13069 | D20: 51.013922 | E20: 12.543689 | F20: 23.969388 | G20: 50.558306 | H20: 54.414093 | I20: 55.164714 | J20: 13.668142 | K20: 26.684211 | L20: 56.360345 | M20: 58.433246
A21: Elektriciteit | B21: Gebouw op snelwegverzorgingsplaats | C21: 144 | D21: 638.80175 | E21: 278.20242 | F21: 649.14092 | G21: 897.06548 | H21: 390.79155 | I21: 662.58627 | J21: 278.20242 | K21: 655.11255 | L21: 924.99476 | M21: 407.65011
A22: Elektriciteit | B22: Gebouw op vakantiepark | C22: 37975 | D22: 25.436125 | E22: 11.110703 | F22: 16.7625 | G22: 27.857705 | H22: 31.219917 | I22: 28.482441 | J22: 11.64297 | K22: 17.88 | L22: 30.985151 | M22: 35.377603
A23: Elektriciteit | B23: Gebouw voor landbouwactiviteiten | C23: 2388 | D23: 105.92794 | E23: 19.960741 | F23: 44.153931 | G23: 124.68002 | H23: 80.153195 | I23: 126.96955 | J23: 23.49375 | K23: 53.15241 | L23: 148.28221 | M23: 91.683929
A24: Elektriciteit | B24: Groothandel op bedrijventerrein | C24: 581 | D24: 27.691904 | E24: 14.494858 | F24: 21.971637 | G24: 33.888737 | H24: 26.078969 | I24: 30.486702 | J24: 15.661017 | K24: 23.969267 | L24: 37.17172 | M24: 28.262063
A25: Elektriciteit | B25: Hotel (of ander groot logiesgebouw) | C25: 2499 | D25: 67.352328 | E25: 24.455533 | F25: 52.597179 | G25: 97.523872 | H25: 75.701339 | I25: 69.869777 | J25: 27.27376 | K25: 55.18 | L25: 99.870464 | M25: 77.191082
A26: Elektriciteit | B26: IJsbaan | C26: 100 | D26: 22.181064 | E26: 9.63794 | F26: 17.050456 | G26: 27.371191 | H26: 46.854106 | I26: 27.016533 | J26: 10.385543 | K26: 18.713235 | L26: 30.753245 | M26: 48.996344
A27: Elektriciteit | B27: Kantoorpand algemeen | C27: 20471 | D27: 45.250322 | E27: 19.5 | F27: 34.315625 | G27: 59.186458 | H27: 53.018255 | I27: 51.590388 | J27: 21.442642 | K27: 37.541318 | L27: 63.735449 | M27: 56.31796
A28: Elektriciteit | B28: Kinderopvang (gebouw) | C28: 1528 | D28: 31.809556 | E28: 19.266175 | F28: 27.664835 | G28: 38.151641 | H28: 30.855154 | I28: 34.067236 | J28: 20.876721 | K28: 29.590878 | L28: 41.053431 | M28: 33.059422
A29: Elektriciteit | B29: Koelhuis | C29: 93 | D29: 261.471 | E29: 55.293489 | F29: 173.98695 | G29: 349.22834 | H29: 227.54555 | I29: 275.71425 | J29: 83.969144 | K29: 191.19377 | L29: 357.29249 | M29: 243.7014
A30: Elektriciteit | B30: MBO-gebouw | C30: 16 | D30: 67.042569 | H30: 63.725673 | I30: 68.770983 | M30: 64.945011
A31: Elektriciteit | B31: Meergezinswoning met andere functie of combinatie van functies | C31: 17590 | D31: 34.729065 | E31: 16.438282 | F31: 24.429597 | G31: 38.537712 | H31: 36.301575 | I31: 37.263399 | J31: 17.320141 | K31: 25.647066 | L31: 41.07699 | M31: 38.501067
A32: Elektriciteit | B32: Meergezinswoning met cafe of restaurant | C32: 6227 | D32: 86.035197 | E32: 30.257046 | F32: 71.046008 | G32: 123.06191 | H32: 77.980818 | I32: 86.787005 | J32: 31.24965 | K32: 71.627016 | L32: 123.46416 | M32: 78.849129
A33: Elektriciteit | B33: Meergezinswoning met winkel | C33: 22101 | D33: 44.712997 | E33: 20.440339 | F33: 31.954248 | G33: 54.039841 | H33: 46.25489 | I33: 45.499189 | J33: 20.911032 | K33: 32.791262 | L33: 54.962963 | M33: 47.126839
A34: Elektriciteit | B34: Meergezinswoning met winkels en horeca | C34: 2551 | D34: 52.19662 | E34: 24.036514 | F34: 37.620915 | G34: 68.997684 | H34: 52.806319 | I34: 53.275168 | J34: 24.526286 | K34: 39.100365 | L34: 69.911004 | M34: 53.846584
A35: Elektriciteit | B35: Meergezinswoning met woonzorgeenheden | C35: 296 | D35: 30.718172 | E35: 18.520216 | F35: 28.4628 | G35: 39.588263 | H35: 33.587039 | I35: 33.592048 | J35: 20.125458 | K35: 30.430592 | L35: 43.315241 | M35: 37.498785
A36: Elektriciteit | B36: Middelbare school | C36: 1102 | D36: 35.26091 | E36: 21.560234 | F36: 29.472647 | G36: 42.553721 | H36: 32.483176 | I36: 39.440366 | J36: 24.681636 | K36: 33.493064 | L36: 47.396537 | M36: 36.464063
A37: Elektriciteit | B37: Nutsgebouw (elektriciteit) | C37: 122 | D37: 137.1664 | E37: 30.139897 | F37: 67.474193 | G37: 213.89344 | H37: 77.035583 | I37: 313.63662 | J37: 32.263479 | K37: 68.62936 | L37: 214.18317 | M37: 118.70976
A38: Elektriciteit | B38: Nutsgebouw (water) | C38: 62 | D38: 555.72943 | E38: 27.243653 | F38: 93.235572 | G38: 338.70476 | H38: 309.96345 | I38: 1020.2385 | J38: 36.756428 | K38: 144.07596 | L38: 698.04661 | M38: 427.80852
A39: Elektriciteit | B39: Overig gebouw met maatschappelijke functie | C39: 1182 | D39: 37.564657 | E39: 8.6608259 | F39: 15.656363 | G39: 40.813312 | H39: 56.885366 | I39: 39.17881 | J39: 8.8308775 | K39: 16.430977 | L39: 42.612779 | M39: 59.75532
A40: Elektriciteit | B40: Overig gebouw met recreatiefunctie | C40: 76 | D40: 110.39681 | E40: 26.523395 | F40: 72.499713 | G40: 150.35905 | H40: 140.41499 | I40: 120.5954 | J40: 34.281475 | K40: 75.111698 | L40: 158.31364 | M40: 147.85137
A41: Elektriciteit | B41: Overig onderwijsgebouw | C41: 3094 | D41: 29.839633 | E41: 14.776307 | F41: 22.425517 | G41: 36.485436 | H41: 35.052554 | I41: 31.896333 | J41: 15.652689 | K41: 23.659472 | L41: 39.05221 | M41: 36.911131
A42: Elektriciteit | B42: Overig overheidsgebouw | C42: 819 | D42: 72.86894 | E42: 36.198511 | F42: 58.922835 | G42: 90.373944 | H42: 64.716979 | I42: 76.45317 | J42: 38.44395 | K42: 62.284971 | L42: 93.049891 | M42: 66.943164
... A46: Elektriciteit | B46: Pand met winkel en kantoor- en/of bijeenkomstfunctie | C46: 1453 | D46: 73.761449 | E46: 25.957029 | F46: 46.10073 | G46: 93.368874 | H46: 60.711059 | I46: 75.791219 | J46: 27.534274 | K46: 48.317073 | L46: 95.787879 | M46: 62.78945
A47: Elektriciteit | B47: Penitentiaire inrichting | C47: 25 | D47: 142.6543 | F47: 91.319049 | H47: 125.10679 | I47: 147.82107 | K47: 91.319049 | M47: 128.06076
A48: Elektriciteit | B48: Praktijk- of zorgwoning | C48: 5023 | D48: 29.283946 | E48: 15.192871 | F48: 23.526201 | G48: 37.42771 | H48: 30.779255 | I48: 33.964674 | J48: 17.87304 | K48: 27.481013 | L48: 42.653562 | M48: 34.881435
A49: Elektriciteit | B49: Productie-installatie | C49: 105 | D49: 1828.8546 | E49: 62.189407 | F49: 490.15222 | G49: 2592.1864 | H49: 1801.6669 | I49: 1849.2301 | J49: 62.189407 | K49: 490.15222 | L49: 2639.4949 | M49: 1809.0794
A50: Elektriciteit | B50: Restaurant of cafégebouw | C50: 3837 | D50: 242.28828 | E50: 108.39474 | F50: 192.02139 | G50: 316.73704 | H50: 188.1624 | I50: 245.05565 | J50: 110.37226 | K50: 195.12667 | L50: 319.5125 | M50: 190.35881
A51: Elektriciteit | B51: School voor speciaal onderwijs | C51: 516 | D51: 28.233206 | E51: 17.320825 | F51: 24.025265 | G51: 33.662809 | H51: 27.14522 | I51: 31.520597 | J51: 18.169064 | K51: 26.35054 | L51: 38.307992 | M51: 30.549718
A52: Elektriciteit | B52: Schoolverzamelgebouw | C52: 103 | D52: 34.040624 | E52: 21.11499 | F52: 28.816631 | G52: 44.637707 | H52: 32.163256 | I52: 38.078827 | J52: 23.328898 | K52: 30.732075 | L52: 50.944088 | M52: 35.400258
A53: Elektriciteit | B53: Tuincentrum | C53: 449 | D53: 34.721178 | E53: 15.692667 | F53: 26.880984 | G53: 42.808642 | H53: 29.121719 | I53: 40.114407 | J53: 18.087924 | K53: 30.786918 | L53: 50.275635 | M53: 33.447029
A54: Elektriciteit | B54: Vakantiewoning buiten vakantiepark | C54: 5618 | D54: 32.505197 | E54: 12.210165 | F54: 20.592593 | G54: 39.488045 | H54: 36.052054 | I54: 36.220632 | J54: 12.766057 | K54: 22.095874 | L54: 43.850404 | M54: 39.607194
A55: Elektriciteit | B55: Winkelpand | C55: 20862 | D55: 86.548245 | E55: 22.912377 | F55: 46.772602 | G55: 105.09522 | H55: 71.802646 | I55: 89.751155 | J55: 24.598235 | K55: 49.165834 | L55: 108.75052 | M55: 75.467587
A56: Elektriciteit | B56: Woning met andere functie of combinatie van functies | C56: 14010 | D56: 42.728753 | E56: 14.9239 | F56: 25.14781 | G56: 47.912431 | H56: 44.603006 | I56: 47.989838 | J56: 17.315042 | K56: 28.940909 | L56: 54.215609 | M56: 48.695051
A57: Elektriciteit | B57: Woning met cafe of restaurant | C57: 10728 | D57: 101.17049 | E57: 30.773011 | F57: 79.379976 | G57: 145.06385 | H57: 86.048404 | I57: 103.78341 | J57: 33.571214 | K57: 81.462094 | L57: 147.44427 | M57: 88.633274
A58: Elektriciteit | B58: Woning met winkel | C58: 31125 | D58: 45.736802 | E58: 17.360515 | F58: 29.554217 | G58: 52.80315 | H58: 44.554487 | I58: 48.275689 | J58: 18.984456 | K58: 32.035857 | L58: 56.198718 | M58: 46.994693
A59: Elektriciteit | B59: Wooncomplex met andere functie of combinatie van functies | C59: 9753 | D59: 38.870736 | E59: 23.33957 | F59: 31.206104 | G59: 46.252848 | H59: 40.836169 | I59: 40.145715 | J59: 24.02226 | K59: 32.23765 | L59: 47.798153 | M59: 41.867242
... A66: Elektriciteit | B66: Zwembad | C66: 487 | D66: 213.04965 | E66: 74.92798 | F66: 121.86925 | G66: 215.42415 | H66: 123.17534 | I66: 228.46334 | J66: 80.976369 | K66: 136.00824 | L66: 240.27647 | M66: 130.96643

Sheet elek_kental_bouwj_2023
A1: Energiedrager | B1: Gebouwtype | C1: Bouwjaarklasse | D1: Aantal panden | E1: Aandeel panden per gebouwtype | F1: Gemiddelde kental (kWh/m2) | G1: Q1 kental (kWh/m2) | H1: Mediaan kental (kWh/m2) | I1: Q3 kental (kWh/m2) | J1: Gewogen gemiddelde kental (kWh/m2) | K1: Gemiddelde kental inclusief eigenverbruik zonnestroom (kWh/m2) | L1: Q1 kental inclusief eigenverbruik zonnestroom (kWh/m2) | M1: Mediaan kental inclusief eigenverbruik zonnestroom (kWh/m2) | N1: Q3 kental inclusief eigenverbruik zonnestroom (kWh/m2) | O1: Gewogen gemiddelde kental inclusief eigenverbruik zonnestroom (kWh/m2)
A2: Elektriciteit | B2: Basisschool | C2: tot 1946 | D2: 451 | E2: 0.093 | F2: 22.64452 | G2: 13.978985 | H2: 19.434462 | I2: 26.874356 | J2: 20.941838 | K2: 25.067362 | L2: 15.929252 | M2: 21.694444 | N2: 29.284697 | O2: 23.124759
A3: Elektriciteit | B3: Basisschool | C3: 1946 tot 1978 | D3: 1722 | E3: 0.355 | F3: 20.414526 | G3: 13.599019 | H3: 18.313723 | I3: 23.985142 | J3: 19.561649 | K3: 23.058094 | L3: 15.656646 | M3: 20.022044 | N3: 26.605128 | O3: 21.901287
A4: Elektriciteit | B4: Basisschool | C4: 1978 tot 1995 | D4: 1099 | E4: 0.227 | F4: 20.773374 | G4: 14.080823 | H4: 18.638393 | I4: 24.552158 | J4: 20.144006 | K4: 23.731466 | L4: 16.357318 | M4: 20.897098 | N4: 27.009038 | O4: 22.859041
A5: Elektriciteit | B5: Basisschool | C5: 1995 tot 2009 | D5: 707 | E5: 0.146 | F5: 26.030459 | G5: 16.872445 | H5: 22.746608 | I5: 32.022326 | J5: 26.308281 | K5: 29.304683 | L5: 19.126392 | M5: 25.445666 | N5: 36.061739 | O5: 29.127689
A6: Elektriciteit | B6: Basisschool | C6: 2009 tot 2015 | D6: 480 | E6: 0.099 | F6: 38.359996 | G6: 27.2078 | H6: 36.906467 | I6: 48.763463 | J6: 38.805022 | K6: 44.111041 | L6: 31.712768 | M6: 42.258521 | N6: 53.352892 | O6: 43.493945
A7: Elektriciteit | B7: Basisschool | C7: vanaf 2015 | D7: 388 | E7: 0.08 | F7: 38.126642 | G7: 26.345886 | H7: 36.673043 | I7: 48.100648 | J7: 37.151171 | K7: 48.179334 | L7: 33.467947 | M7: 45.834888 | N7: 58.932194 | O7: 46.452404
A8: Elektriciteit | B8: Bedrijfshal algemeen (geen LISA-informatie) | C8: tot 1946 | D8: 216 | E8: 0.011 | F8: 39.025215 | G8: 10.909859 | H8: 19.228542 | I8: 36.398136 | J8: 34.10697 | K8: 40.868523 | L8: 11.236837 | M8: 21.875404 | N8: 39.467382 | O8: 36.132432
A9: Elektriciteit | B9: Bedrijfshal algemeen (geen LISA-informatie) | C9: 1946 tot 1978 | D9: 2135 | E9: 0.11 | F9: 35.210458 | G9: 9.8422611 | H9: 18.332589 | I9: 38.084655 | J9: 41.224753 | K9: 38.220505 | L9: 10.422211 | M9: 20.089776 | N9: 41.186364 | O9: 45.589127
A10: Elektriciteit | B10: Bedrijfshal algemeen (geen LISA-informatie) | C10: 1978 tot 1995 | D10: 3984 | E10: 0.205 | F10: 37.607002 | G10: 10.40522 | H10: 18.764359 | I10: 38.975615 | J10: 43.523961 | K10: 40.915837 | L10: 11.092845 | M10: 20.164956 | N10: 43.21732 | O10: 47.204087
A11: Elektriciteit | B11: Bedrijfshal algemeen (geen LISA-informatie) | C11: 1995 tot 2009 | D11: 7229 | E11: 0.372 | F11: 31.775812 | G11: 9.8865546 | H11: 17.589474 | I11: 34.112676 | J11: 36.852654 | K11: 34.38492 | L11: 10.320917 | M11: 18.78125 | N11: 37.202899 | O11: 41.162471
A12: Elektriciteit | B12: Bedrijfshal algemeen (geen LISA-informatie) | C12: 2009 tot 2015 | D12: 1522 | E12: 0.078 | F12: 34.047951 | G12: 10.101586 | H12: 17.701144 | I12: 36.595849 | J12: 46.941156 | K12: 44.992502 | L12: 10.480156 | M12: 19.237709 | N12: 39.472149 | O12: 54.843468
A13: Elektriciteit | B13: Bedrijfshal algemeen (geen LISA-informatie) | C13: vanaf 2015 | D13: 4371 | E13: 0.225 | F13: 34.287963 | G13: 11.034178 | H13: 21.020833 | I13: 39.814433 | J13: 37.099846 | K13: 38.334689 | L13: 12.074862 | M13: 23.842784 | N13: 43.978261 | O13: 46.732711
... A55: Elektriciteit | B55: Bijeenkomstgebouw (niet nader ingedeeld) | C55: vanaf 2015 | D55: 477 | E55: 0.052 | F55: 71.2502 | G55: 21.193548 | H55: 42.692308 | I55: 97.846667 | J55: 70.247845 | K55: 85.038808 | L55: 25.354494 | M55: 53.094156 | N55: 112.78222 | O55: 82.530922
A56: Elektriciteit | B56: Campusgebouw | C56: tot 1978 | D56: 32 | E56: 0.281 | F56: 80.030619 | H56: 52.220757 | J56: 97.990468 | K56: 82.291529 | M56: 52.624913 | O56: 100.45746
A57: Elektriciteit | B57: Campusgebouw | C57: 1978 tot 1995 | D57: 15 | E57: 0.132 | F57: 65.793043 | J57: 80.266222 | K57: 69.645449 | O57: 88.964801
A58: Elektriciteit | B58: Campusgebouw | C58: 1995 tot 2009 | D58: 36 | E58: 0.316 | F58: 106.998 | H58: 54.659423 | J58: 92.484857 | K58: 109.665 | M58: 59.629855 | O58: 94.918522
A59: Elektriciteit | B59: Campusgebouw | C59: 2009 tot 2015 | D59: 11 | E59: 0.096 | F59: 150.1871 | J59: 102.56264 | K59: 153.00694 | O59: 103.9051
A60: Elektriciteit | B60: Campusgebouw | C60: vanaf 2015 | D60: 20 | E60: 0.175 | F60: 118.75002 | H60: 79.884066 | J60: 46.111857 | K60: 127.68882 | M60: 91.279824 | O60: 49.118962
A61: Elektriciteit | B61: Cultuurhuis | C61: tot 1946 | D61: 222 | E61: 0.389 | F61: 55.951063 | G61: 24.136009 | H61: 44.425074 | I61: 76.486104 | J61: 55.231237 | K61: 56.66312 | L61: 24.887916 | M61: 44.780828 | N61: 77.745487 | O61: 55.726627
A62: Elektriciteit | B62: Cultuurhuis | C62: 1946 tot 1978 | D62: 114 | E62: 0.2 | F62: 39.383744 | G62: 18.93247 | H62: 25.644004 | I62: 42.823452 | J62: 46.027877 | K62: 41.886584 | L62: 20.502616 | M62: 28.536027 | N62: 45.931921 | O62: 48.002755
A63: Elektriciteit | B63: Cultuurhuis | C63: 1978 tot 1995 | D63: 103 | E63: 0.181 | F63: 55.199843 | G63: 27.106831 | H63: 40.518931 | I63: 76.762959 | J63: 53.908215 | K63: 59.435451 | L63: 27.195843 | M63: 46.404301 | N63: 77.884695 | O63: 56.10161
A64: Elektriciteit | B64: Cultuurhuis | C64: 1995 tot 2009 | D64: 85 | E64: 0.149 | F64: 66.435688 | G64: 27.5 | H64: 51.763488 | I64: 101.39394 | J64: 63.752309 | K64: 70.645289 | L64: 28.901168 | M64: 58.674879 | N64: 101.39394 | O64: 66.478761
A65: Elektriciteit | B65: Cultuurhuis | C65: 2009 tot 2015 | D65: 24 | E65: 0.042 | F65: 79.434646 | H65: 69.53056 | J65: 56.272176 | K65: 82.347168 | M65: 69.53056 | O65: 56.615262
A66: Elektriciteit | B66: Cultuurhuis | C66: vanaf 2015 | D66: 22 | E66: 0.039 | F66: 77.587338 | H66: 73.427521 | J66: 62.937441 | K66: 87.988354 | M66: 82.332928 | O66: 71.323792
A67: Elektriciteit | B67: Gebedshuis | C67: tot 1946 | D67: 1377 | E67: 0.397 | F67: 14.053729 | G67: 7.6989796 | H67: 11.005666 | I67: 16.848442 | J67: 13.757497 | K67: 14.953338 | L67: 7.9044665 | M67: 11.727749 | N67: 17.893662 | O67: 14.566075
A68: Elektriciteit | B68: Gebedshuis | C68: 1946 tot 1978 | D68: 1178 | E68: 0.34 | F68: 14.467937 | G68: 8.1533397 | H68: 11.47188 | I68: 18.102903 | J68: 15.705943 | K68: 16.121516 | L68: 8.8218211 | M68: 12.547427 | N68: 20.01427 | O68: 17.775704
A69: Elektriciteit | B69: Gebedshuis | C69: 1978 tot 1995 | D69: 488 | E69: 0.141 | F69: 15.868356 | G69: 9.1117294 | H69: 13.673891 | I69: 20.288609 | J69: 16.848796 | K69: 17.466504 | L69: 10.095693 | M69: 14.599163 | N69: 21.507817 | O69: 18.820133
A70: Elektriciteit | B70: Gebedshuis | C70: 1995 tot 2009 | D70: 310 | E70: 0.089 | F70: 18.314505 | G70: 10.697928 | H70: 15.637093 | I70: 23.605752 | J70: 22.224328 | K70: 20.792858 | L70: 12.367916 | M70: 17.546874 | N70: 25.205294 | O70: 24.610063
A71: Elektriciteit | B71: Gebedshuis | C71: 2009 tot 2015 | D71: 81 | E71: 0.023 | F71: 19.815395 | G71: 12.244141 | H71: 17.243777 | I71: 23.961232 | J71: 20.155969 | K71: 23.269896 | L71: 14.559885 | M71: 20.672278 | N71: 28.572727 | O71: 23.19776
A72: Elektriciteit | B72: Gebedshuis | C72: vanaf 2015 | D72: 34 | E72: 0.01 | F72: 24.015117 | H72: 23.275729 | J72: 28.195538 | K72: 27.856833 | M72: 26.857477 | O72: 31.150341
A73: Elektriciteit | B73: Gebouw bij spooremplacement | C73: tot 1946 | D73: 14 | E73: 0.203 | F73: 31.21509 | J73: 14.099582 | K73: 32.062782 | O73: 15.28157
A74: Elektriciteit | B74: Gebouw bij spooremplacement | C74: 1995 tot 2009 | D74: 22 | E74: 0.319 | F74: 108.05236 | H74: 92.893501 | J74: 103.04433 | K74: 108.05236 | M74: 92.893501 | O74: 103.04433
A75: Elektriciteit | B75: Gebouw bij spooremplacement | C75: vanaf 2009 | D75: 14 | E75: 0.203 | F75: 55.394437 | J75: 41.141655 | K75: 58.872118 | O75: 43.209511
A76: Elektriciteit | B76: Gebouw bij spooremplacement | D76: 19 | E76: 0.275 | F76: 58.52508 | J76: 36.974813 | K76: 59.154577 | O76: 37.654827
A77: Elektriciteit | B77: Gebouw bij vliegveld of luchthaven | C77: tot 1978 | D77: 21 | E77: 0.163 | F77: 39.62926 | H77: 31.820755 | J77: 86.584391 | K77: 43.081732 | M77: 33.584906 | O77: 89.005257
A78: Elektriciteit | B78: Gebouw bij vliegveld of luchthaven | C78: 1978 tot 1995 | D78: 46 | E78: 0.357 | F78: 31.334617 | G78: 9.9698674 | H78: 17.376842 | I78: 44.893308 | J78: 32.612138 | K78: 35.351961 | L78: 12.109007 | M78: 20.363529 | N78: 45.283848 | O78: 37.968922
A79: Elektriciteit | B79: Gebouw bij vliegveld of luchthaven | C79: 1995 tot 2009 | D79: 38 | E79: 0.295 | F79: 37.821422 | H79: 31.841806 | J79: 44.234333 | K79: 39.735057 | M79: 31.841806 | O79: 44.333628
A80: Elektriciteit | B80: Gebouw bij vliegveld of luchthaven | C80: 2009 tot 2015 | D80: 10 | E80: 0.078 | F80: 30.331047 | J80: 43.516408 | K80: 53.619694 | O80: 48.23424
A81: Elektriciteit | B81: Gebouw bij vliegveld of luchthaven | C81: vanaf 2015 | D81: 14 | E81: 0.109 | F81: 32.050777 | J81: 30.161312 | K81: 37.350429 | O81: 30.657277
A82: Elektriciteit | B82: Gebouw in landelijk gebied voor industrie (geen landbouwactiviteiten geregistreerd) | C82: tot 1946 | D82: 502 | E82: 0.105 | F82: 40.971688 | G82: 11.285901 | H82: 20.970858 | I82: 47.510772 | J82: 42.023429 | K82: 47.373016 | L82: 12.573655 | M82: 23.470764 | N82: 52.141364 | O82: 46.248037
A83: Elektriciteit | B83: Gebouw in landelijk gebied voor industrie (geen landbouwactiviteiten geregistreerd) | C83: 1946 tot 1978 | D83: 1283 | E83: 0.268 | F83: 40.818817 | G83: 11.308982 | H83: 21.62753 | I83: 48.923917 | J83: 46.727753 | K83: 65.724731 | L83: 12.220404 | M83: 25.288269 | N83: 57.884642 | O83: 59.683306
A84: Elektriciteit | B84: Gebouw in landelijk gebied voor industrie (geen landbouwactiviteiten geregistreerd) | C84: 1978 tot 1995 | D84: 1167 | E84: 0.244 | F84: 48.327298 | G84: 12.706124 | H84: 25.75 | I84: 54.764612 | J84: 51.376293 | K84: 62.704549 | L84: 14.528944 | M84: 29.27764 | N84: 64.937687 | O84: 66.017293
A85: Elektriciteit | B85: Gebouw in landelijk gebied voor industrie (geen landbouwactiviteiten geregistreerd) | C85: 1995 tot 2009 | D85: 1034 | E85: 0.216 | F85: 46.881548 | G85: 12.485858 | H85: 23.824588 | I85: 52.463412 | J85: 44.184213 | K85: 61.246777 | L85: 14.209725 | M85: 29.098075 | N85: 64.456704 | O85: 54.889388
A86: Elektriciteit | B86: Gebouw in landelijk gebied voor industrie (geen landbouwactiviteiten geregistreerd) | C86: 2009 tot 2015 | D86: 334 | E86: 0.07 | F86: 48.464077 | G86: 13.977387 | H86: 26.245403 | I86: 56.627263 | J86: 53.46721 | K86: 60.707701 | L86: 16.675153 | M86: 32.784984 | N86: 74.981941 | O86: 69.442559
A87: Elektriciteit | B87: Gebouw in landelijk gebied voor industrie (geen landbouwactiviteiten geregistreerd) | C87: vanaf 2015 | D87: 465 | E87: 0.097 | F87: 41.004827 | G87: 13.785714 | H87: 25.099522 | I87: 45.175737 | J87: 42.185969 | K87: 54.557444 | L87: 15.785467 | M87: 30.563348 | N87: 59.543061 | O87: 63.491052
A88: Elektriciteit | B88: Gebouw in stedelijk gebied met industriefunctie | C88: tot 1946 | D88: 2865 | E88: 0.219 | F88: 48.255295 | G88: 12.142029 | H88: 23.15102 | I88: 48.211931 | J88: 46.72937 | K88: 50.69081 | L88: 12.736842 | M88: 24.8 | N88: 51.931507 | O88: 48.812256
A89: Elektriciteit | B89: Gebouw in stedelijk gebied met industriefunctie | C89: 1946 tot 1978 | D89: 4229 | E89: 0.324 | F89: 47.705019 | G89: 11.546632 | H89: 22.518987 | I89: 48.439739 | J89: 61.170214 | K89: 51.265631 | L89: 12.701299 | M89: 24.774892 | N89: 52.884828 | O89: 65.515189
A90: Elektriciteit | B90: Gebouw in stedelijk gebied met industriefunctie | C90: 1978 tot 1995 | D90: 2571 | E90: 0.197 | F90: 54.801229 | G90: 13.165407 | H90: 25.202212 | I90: 52.353478 | J90: 49.955829 | K90: 59.673311 | L90: 14.294863 | M90: 28.050124 | N90: 57.580657 | O90: 52.761945
A91: Elektriciteit | B91: Gebouw in stedelijk gebied met industriefunctie | C91: 1995 tot 2009 | D91: 2161 | E91: 0.165 | F91: 57.626902 | G91: 13.714029 | H91: 26.283887 | I91: 58.732143 | J91: 56.039094 | K91: 62.224817 | L91: 15.525926 | M91: 29.158352 | N91: 64.816176 | O91: 60.707517
A92: Elektriciteit | B92: Gebouw in stedelijk gebied met industriefunctie | C92: 2009 tot 2015 | D92: 488 | E92: 0.037 | F92: 50.54227 | G92: 13.593849 | H92: 22.645311 | I92: 48.056874 | J92: 47.95398 | K92: 57.3074 | L92: 14.961033 | M92: 25.967116 | N92: 56.852628 | O92: 51.599709
A93: Elektriciteit | B93: Gebouw in stedelijk gebied met industriefunctie | C93: vanaf 2015 | D93: 755 | E93: 0.058 | F93: 48.496255 | G93: 14.252403 | H93: 26.317204 | I93: 51.814141 | J93: 55.302095 | K93: 57.036025 | L93: 16.926855 | M93: 33.298611 | N93: 63.666964 | O93: 64.025184
... A105: Elektriciteit | B105: Gebouw voor landbouwactiviteiten | C105: vanaf 2015 | D105: 114 | E105: 0.048 | F105: 95.664434 | G105: 16.390971 | H105: 35.152596 | I105: 98.221257 | J105: 82.793728 | K105: 110.96226 | L105: 20.355485 | M105: 46.57324 | N105: 112.94141 | O105: 96.508761
A106: Elektriciteit | B106: Groothandel op bedrijventerrein | C106: tot 1946 | D106: 11 | E106: 0.019 | F106: 21.595599 | J106: 14.550822 | K106: 22.837598 | O106: 14.877086
A107: Elektriciteit | B107: Groothandel op bedrijventerrein | C107: 1946 tot 1978 | D107: 111 | E107: 0.191 | F107: 25.49853 | G107: 13.701664 | H107: 19.124467 | I107: 27.577533 | J107: 23.316821 | K107: 28.899346 | L107: 13.915467 | M107: 19.765481 | N107: 29.946933 | O107: 26.658588
A108: Elektriciteit | B108: Groothandel op bedrijventerrein | C108: 1978 tot 1995 | D108: 172 | E108: 0.296 | F108: 27.193013 | G108: 14.457539 | H108: 21.779601 | I108: 32.385225 | J108: 23.597506 | K108: 29.399692 | L108: 15.102284 | M108: 23.729218 | N108: 35.664271 | O108: 25.656829
A109: Elektriciteit | B109: Groothandel op bedrijventerrein | C109: 1995 tot 2009 | D109: 240 | E109: 0.413 | F109: 28.378926 | G109: 14.637807 | H109: 23.730551 | I109: 35.35878 | J109: 30.040894 | K109: 30.608784 | L109: 17.037761 | M109: 26.321216 | N109: 38.254032 | O109: 31.319446
A110: Elektriciteit | B110: Groothandel op bedrijventerrein | C110: 2009 tot 2015 | D110: 22 | E110: 0.038 | F110: 31.395851 | H110: 25.214691 | J110: 33.11541 | K110: 33.727516 | M110: 26.570198 | O110: 34.958851
A111: Elektriciteit | B111: Groothandel op bedrijventerrein | C111: vanaf 2015 | D111: 25 | E111: 0.043 | F111: 33.690337 | H111: 27.135624 | J111: 33.383258 | K111: 44.35488 | M111: 31.95779 | O111: 41.723928
A112: Elektriciteit | B112: Hotel (of ander groot logiesgebouw) | C112: tot 1946 | D112: 1205 | E112: 0.482 | F112: 65.548052 | G112: 24.020863 | H112: 46.757616 | I112: 93.320225 | J112: 64.43104 | K112: 67.274483 | L112: 25.957859 | M112: 48.703019 | N112: 93.777236 | O112: 65.334007
A113: Elektriciteit | B113: Hotel (of ander groot logiesgebouw) | C113: 1946 tot 1978 | D113: 460 | E113: 0.184 | F113: 63.001193 | G113: 21.447625 | H113: 49.725312 | I113: 88.172676 | J113: 71.23372 | K113: 65.331448 | L113: 23.70847 | M113: 52.236677 | N113: 90.756634 | O113: 72.53691
A114: Elektriciteit | B114: Hotel (of ander groot logiesgebouw) | C114: 1978 tot 1995 | D114: 301 | E114: 0.12 | F114: 75.296683 | G114: 33.741728 | H114: 68.050847 | I114: 106.52446 | J114: 81.601612 | K114: 78.216942 | L114: 36.226044 | M114: 71.638026 | N114: 109.82834 | O114: 83.036906
A115: Elektriciteit | B115: Hotel (of ander groot logiesgebouw) | C115: 1995 tot 2009 | D115: 253 | E115: 0.101 | F115: 70.325516 | G115: 27.403101 | H115: 57.652513 | I115: 103.69604 | J115: 81.17296 | K115: 73.836212 | L115: 31.975479 | M115: 63.130408 | N115: 105.81297 | O115: 82.77657
A116: Elektriciteit | B116: Hotel (of ander groot logiesgebouw) | C116: 2009 tot 2015 | D116: 96 | E116: 0.038 | F116: 67.633646 | G116: 21.790685 | H116: 52.447065 | I116: 104.49465 | J116: 82.851548 | K116: 71.427851 | L116: 26.488679 | M116: 54.246026 | N116: 108.39981 | O116: 83.882324
A117: Elektriciteit | B117: Hotel (of ander groot logiesgebouw) | C117: vanaf 2015 | D117: 184 | E117: 0.074 | F117: 72.815375 | G117: 23.187187 | H117: 61.763005 | I117: 111.34419 | J117: 91.119838 | K117: 78.290324 | L117: 29.881888 | M117: 70.509196 | N117: 115.90748 | O117: 94.635683
A118: Elektriciteit | B118: IJsbaan | C118: tot 1978 | D118: 15 | E118: 0.15 | F118: 17.883116 | J118: 14.906688 | K118: 18.608212 | O118: 15.29415
A119: Elektriciteit | B119: IJsbaan | C119: 1978 tot 1995 | D119: 37 | E119: 0.37 | F119: 21.59057 | H119: 17.05102 | J119: 19.06565 | K119: 26.744587 | M119: 18.859756 | O119: 22.45763
A120: Elektriciteit | B120: IJsbaan | C120: 1995 tot 2009 | D120: 28 | E120: 0.28 | F120: 26.247713 | H120: 16.400699 | J120: 66.794696 | K120: 28.592315 | M120: 18.177462 | O120: 67.413007
A121: Elektriciteit | B121: IJsbaan | C121: vanaf 2009 | D121: 20 | E121: 0.2 | F121: 20.803633 | H121: 17.310439 | J121: 19.397146 | K121: 31.61978 | M121: 18.671616 | O121: 30.70701
A122: Elektriciteit | B122: Kantoorpand algemeen | C122: tot 1946 | D122: 5009 | E122: 0.245 | F122: 36.978771 | G122: 16.89697 | H122: 27.241799 | I122: 44.675 | J122: 39.783119 | K122: 38.861818 | L122: 17.822222 | M122: 28.81407 | N122: 47.438662 | O122: 41.200894
A123: Elektriciteit | B123: Kantoorpand algemeen | C123: 1946 tot 1978 | D123: 3284 | E123: 0.16 | F123: 40.905202 | G123: 16.93124 | H123: 29.934636 | I123: 51.053056 | J123: 47.762556 | K123: 46.604819 | L123: 18.671928 | M123: 32.988425 | N123: 56.066093 | O123: 50.290547
A124: Elektriciteit | B124: Kantoorpand algemeen | C124: 1978 tot 1995 | D124: 4316 | E124: 0.211 | F124: 45.610784 | G124: 20.936889 | H124: 35.327178 | I124: 59.796403 | J124: 50.426315 | K124: 52.180217 | L124: 23.653572 | M124: 39.079805 | N124: 64.327197 | O124: 54.367712
A125: Elektriciteit | B125: Kantoorpand algemeen | C125: 1995 tot 2009 | D125: 6062 | E125: 0.296 | F125: 49.532574 | G125: 22.361598 | H125: 40.26532 | I125: 65.763024 | J125: 57.301336 | K125: 54.06735 | L125: 25.123494 | M125: 43.775618 | N125: 69.775791 | O125: 60.068853
A126: Elektriciteit | B126: Kantoorpand algemeen | C126: 2009 tot 2015 | D126: 1081 | E126: 0.053 | F126: 59.240888 | G126: 25.152542 | H126: 47.574932 | I126: 82.369014 | J126: 69.718171 | K126: 78.226649 | L126: 27.835574 | M126: 53.041667 | N126: 88.169867 | O126: 74.649384
A127: Elektriciteit | B127: Kantoorpand algemeen | C127: vanaf 2015 | D127: 719 | E127: 0.035 | F127: 63.418635 | G127: 29.503909 | H127: 51.454079 | I127: 86.16497 | J127: 62.9162 | K127: 98.565592 | L127: 36.908867 | M127: 64.337544 | N127: 101.48636 | O127: 73.970923
A128: Elektriciteit | B128: Kinderopvang (gebouw) | C128: tot 1946 | D128: 264 | E128: 0.173 | F128: 32.038177 | G128: 19.737167 | H128: 26.90712 | I128: 39.08141 | J128: 28.854991 | K128: 33.452366 | L128: 20.414186 | M128: 28.064362 | N128: 42.631697 | O128: 30.431207
A129: Elektriciteit | B129: Kinderopvang (gebouw) | C129: 1946 tot 1978 | D129: 466 | E129: 0.305 | F129: 26.535766 | G129: 16.641564 | H129: 23.903073 | I129: 32.146949 | J129: 25.498231 | K129: 28.59627 | L129: 17.536841 | M129: 25.743296 | N129: 33.463636 | O129: 27.426159
A130: Elektriciteit | B130: Kinderopvang (gebouw) | C130: 1978 tot 1995 | D130: 328 | E130: 0.215 | F130: 32.435158 | G130: 20.205133 | H130: 28.408494 | I130: 38.929553 | J130: 31.533332 | K130: 34.257764 | L130: 21.110939 | M130: 30.427954 | N130: 41.746467 | O130: 33.626192
A131: Elektriciteit | B131: Kinderopvang (gebouw) | C131: 1995 tot 2009 | D131: 347 | E131: 0.227 | F131: 34.070473 | G131: 21.190756 | H131: 29.87782 | I131: 40.984831 | J131: 33.228073 | K131: 36.356234 | L131: 23.046268 | M131: 31.634383 | N131: 43.317915 | O131: 35.46035
A132: Elektriciteit | B132: Kinderopvang (gebouw) | C132: 2009 tot 2015 | D132: 89 | E132: 0.058 | F132: 42.761804 | G132: 25.824645 | H132: 35.952902 | I132: 54.812234 | J132: 42.542818 | K132: 46.450475 | L132: 28.841216 | M132: 38.293447 | N132: 64.370401 | O132: 45.39937
A133: Elektriciteit | B133: Kinderopvang (gebouw) | C133: vanaf 2015 | D133: 34 | E133: 0.022 | F133: 44.537349 | H133: 35.513 | J133: 38.811282 | K133: 56.211708 | M133: 41.843108 | O133: 46.866461
A134: Elektriciteit | B134: Koelhuis | C134: tot 1978 | D134: 13 | E134: 0.14 | F134: 315.2279 | J134: 354.67305 | K134: 343.08702 | O134: 389.78382
A135: Elektriciteit | B135: Koelhuis | C135: 1978 tot 1995 | D135: 39 | E135: 0.419 | F135: 276.5006 | H135: 200.43033 | J135: 279.53925 | K135: 287.50964 | M135: 201.78833 | O135: 288.93967
A136: Elektriciteit | B136: Koelhuis | C136: 1995 tot 2009 | D136: 29 | E136: 0.312 | F136: 266.35536 | H136: 151.56116 | J136: 201.72607 | K136: 278.46855 | M136: 158.5793 | O136: 211.96127
A137: Elektriciteit | B137: Koelhuis | C137: vanaf 2009 | D137: 12 | E137: 0.129 | F137: 142.58433 | J137: 107.32337 | K137: 157.73583 | O137: 129.45921
A138: Elektriciteit | B138: Meergezinswoning met andere functie of combinatie van functies | C138: tot 1946 | D138: 11266 | E138: 0.64 | F138: 33.565849 | G138: 15.996932 | H138: 23.619689 | I138: 36.903849 | J138: 33.729586 | K138: 35.506872 | L138: 16.665002 | M138: 24.561019 | N138: 38.453113 | O138: 35.653473
A139: Elektriciteit | B139: Meergezinswoning met andere functie of combinatie van functies | C139: 1946 tot 1978 | D139: 3305 | E139: 0.188 | F139: 36.149698 | G139: 16.581935 | H139: 25.166667 | I139: 40.601493 | J139: 36.377163 | K139: 39.522254 | L139: 17.948498 | M139: 26.766055 | N139: 44.613568 | O139: 38.714471
A140: Elektriciteit | B140: Meergezinswoning met andere functie of combinatie van functies | C140: 1978 tot 1995 | D140: 1432 | E140: 0.081 | F140: 37.523336 | G140: 17.625281 | H140: 25.820424 | I140: 42.059592 | J140: 40.094618 | K140: 41.161143 | L140: 18.402734 | M140: 27.859974 | N140: 46.207528 | O140: 42.87671
A141: Elektriciteit | B141: Meergezinswoning met andere functie of combinatie van functies | C141: 1995 tot 2009 | D141: 1149 | E141: 0.065 | F141: 36.728709 | G141: 18.337374 | H141: 26.874115 | I141: 41.328157 | J141: 41.056107 | K141: 40.905048 | L141: 19.926009 | M141: 28.60061 | N141: 44.352998 | O141: 43.662134
A142: Elektriciteit | B142: Meergezinswoning met andere functie of combinatie van functies | C142: 2009 tot 2015 | D142: 232 | E142: 0.013 | F142: 39.59884 | G142: 19.397302 | H142: 29.980847 | I142: 47.284138 | J142: 45.947698 | K142: 42.181876 | L142: 21.755946 | M142: 31.699407 | N142: 49.933749 | O142: 47.601584
A143: Elektriciteit | B143: Meergezinswoning met andere functie of combinatie van functies | C143: vanaf 2015 | D143: 206 | E143: 0.012 | F143: 39.490408 | G143: 20.744333 | H143: 31.549212 | I143: 45.42276 | J143: 44.205614 | K143: 44.140137 | L143: 23.001814 | M143: 35.93487 | N143: 50.407516 | O143: 47.494495
A144: Elektriciteit | B144: Meergezinswoning met cafe of restaurant | C144: tot 1946 | D144: 4914 | E144: 0.789 | F144: 88.784457 | G144: 32.612131 | H144: 73.703667 | I144: 126.49545 | J144: 81.553917 | K144: 89.287424 | L144: 32.985104 | M144: 74.174916 | N144: 126.69801 | O144: 82.070265
A145: Elektriciteit | B145: Meergezinswoning met cafe of restaurant | C145: 1946 tot 1978 | D145: 712 | E145: 0.114 | F145: 77.344918 | G145: 24.330778 | H145: 61.946938 | I145: 112.98156 | J145: 70.759338 | K145: 78.673678 | L145: 26.690714 | M145: 63.030195 | N145: 113.3914 | O145: 71.971458
A146: Elektriciteit | B146: Meergezinswoning met cafe of restaurant | C146: 1978 tot 1995 | D146: 255 | E146: 0.041 | F146: 75.697373 | G146: 24.689321 | H146: 58.328904 | I146: 107.84113 | J146: 68.242816 | K146: 77.096844 | L146: 25.949398 | M146: 59.089172 | N146: 109.95418 | O146: 69.847265
A147: Elektriciteit | B147: Meergezinswoning met cafe of restaurant | C147: 1995 tot 2009 | D147: 229 | E147: 0.037 | F147: 73.150059 | G147: 23.671429 | H147: 52.914127 | I147: 104.90972 | J147: 63.074728 | K147: 74.932719 | L147: 24.950241 | M147: 53.267606 | N147: 106.59341 | O147: 64.862063
A148: Elektriciteit | B148: Meergezinswoning met cafe of restaurant | C148: 2009 tot 2015 | D148: 49 | E148: 0.008 | F148: 63.937195 | G148: 21.30008 | H148: 42.088926 | I148: 84.029183 | J148: 64.98576 | K148: 64.432371 | L148: 21.30008 | M148: 42.088926 | N148: 84.029183 | O148: 65.693015
A149: Elektriciteit | B149: Meergezinswoning met cafe of restaurant | C149: vanaf 2015 | D149: 68 | E149: 0.011 | F149: 76.436032 | G149: 29.839351 | H149: 51.023042 | I149: 123.19568 | J149: 73.29715 | K149: 83.413923 | L149: 36.88098 | M149: 58.726829 | N149: 126.83072 | O149: 80.814291
... A165: Elektriciteit | B165: Meergezinswoning met woonzorgeenheden | C165: 1995 tot 2009 | D165: 51 | E165: 0.172 | F165: 32.433803 | G165: 22.560287 | H165: 30.966216 | I165: 39.305352 | J165: 33.77363 | K165: 34.012316 | L165: 24.272343 | M165: 32.75 | N165: 39.686277 | O165: 34.675911
A166: Elektriciteit | B166: Meergezinswoning met woonzorgeenheden | C166: 2009 tot 2015 | D166: 24 | E166: 0.081 | F166: 34.929958 | H166: 38.448278 | J166: 35.707074 | K166: 36.787879 | M166: 38.448278 | O166: 37.107983
A167: Elektriciteit | B167: Meergezinswoning met woonzorgeenheden | C167: vanaf 2015 | D167: 18 | E167: 0.061 | F167: 41.620528 | J167: 46.217095 | K167: 48.129167 | O167: 55.324758
...

Sheet elek_kental_opp_2023
A1: Energiedrager | B1: Gebouwtype | C1: Oppervlakteklasse | D1: Aantal panden | E1: Aandeel panden per gebouwtype | F1: Gemiddelde kental (kWh/m2) | G1: Q1 kental (kWh/m2) | H1: Mediaan kental (kWh/m2) | I1: Q3 kental (kWh/m2) | J1: Gewogen gemiddelde kental (kWh/m2) | K1: Gemiddelde kental inclusief eigenverbruik zonnestroom (kWh/m2) | L1: Q1 kental inclusief eigenverbruik zonnestroom (kWh/m2) | M1: Mediaan kental inclusief eigenverbruik zonnestroom (kWh/m2) | N1: Q3 kental inclusief eigenverbruik zonnestroom (kWh/m2) | O1: Gewogen gemiddelde kental inclusief eigenverbruik zonnestroom (kWh/m2)
A2: Elektriciteit | B2: Basisschool | C2: tot 250 m2 | D2: 16 | E2: 0.003 | F2: 45.566914 | J2: 44.077098 | K2: 50.614913 | O2: 47.592251
A3: Elektriciteit | B3: Basisschool | C3: 250 tot 500 m2 | D3: 110 | E3: 0.023 | F3: 26.983877 | G3: 17.443735 | H3: 23.255413 | I3: 31.290809 | J3: 26.6895 | K3: 31.547483 | L3: 20.399754 | M3: 25.394066 | N3: 35.186573 | O3: 31.108685
A4: Elektriciteit | B4: Basisschool | C4: 500 tot 1000 m2 | D4: 907 | E4: 0.187 | F4: 23.21583 | G4: 14.879426 | H4: 19.573152 | I4: 26.863122 | J4: 23.126982 | K4: 27.062971 | L4: 17.192224 | M4: 21.794928 | N4: 31.544932 | O4: 26.986275
A5: Elektriciteit | B5: Basisschool | C5: 1000 tot 2500 m2 | D5: 2799 | E5: 0.577 | F5: 23.817058 | G5: 15.213575 | H5: 20.40708 | I5: 28.826864 | J5: 24.079438 | K5: 27.441826 | L5: 17.372745 | M5: 22.54872 | N5: 32.533742 | O5: 27.840897
A6: Elektriciteit | B6: Basisschool | C6: 2500 tot 5000 m2 | D6: 804 | E6: 0.166 | F6: 27.810998 | G6: 15.622842 | H6: 25.001763 | I6: 37.301891 | J6: 27.963761 | K6: 31.768775 | L6: 17.399942 | M6: 28.683491 | N6: 43.967886 | O6: 31.921527
A7: Elektriciteit | B7: Basisschool | C7: 5000 tot 10000 m2 | D7: 177 | E7: 0.037 | F7: 29.807438 | G7: 13.22358 | H7: 26.936032 | I7: 43.487374 | J7: 29.830981 | K7: 32.255594 | L7: 13.358949 | M7: 28.362507 | N7: 46.171228 | O7: 32.226125
A8: Elektriciteit | B8: Basisschool | C8: vanaf 10000 m2 | D8: 34 | E8: 0.007 | F8: 22.115894 | H8: 19.879934 | J8: 24.239703 | K8: 23.247318 | M8: 21.54832 | O8: 25.369047
A9: Elektriciteit | B9: Bedrijfshal algemeen (geen LISA-informatie) | C9: tot 50 m2 | D9: 619 | E9: 0.032 | F9: 56.91532 | G9: 10.95 | H9: 26.938776 | I9: 84.708333 | J9: 54.491041 | K9: 59.014943 | L9: 11.24375 | M9: 28.565217 | N9: 84.875 | O9: 56.63227
A10: Elektriciteit | B10: Bedrijfshal algemeen (geen LISA-informatie) | C10: 50 tot 100 m2 | D10: 2002 | E10: 0.103 | F10: 38.263297 | G10: 9.7976982 | H10: 20.551971 | I10: 45.436806 | J10: 37.641281 | K10: 40.627251 | L10: 10.003125 | M10: 21.603391 | N10: 48.308999 | O10: 39.981257
A11: Elektriciteit | B11: Bedrijfshal algemeen (geen LISA-informatie) | C11: 100 tot 250 m2 | D11: 5171 | E11: 0.266 | F11: 30.547472 | G11: 9.8302469 | H11: 18.16 | I11: 33.094828 | J11: 30.452923 | K11: 33.017468 | L11: 10.185735 | M11: 19.346457 | N11: 36.030172 | O11: 32.943905
A12: Elektriciteit | B12: Bedrijfshal algemeen (geen LISA-informatie) | C12: 250 tot 500 m2 | D12: 3517 | E12: 0.181 | F12: 29.833413 | G12: 9.8822314 | H12: 16.931034 | I12: 32.960212 | J12: 29.957765 | K12: 36.152927 | L12: 10.553125 | M12: 18.358696 | N12: 36.383202 | O12: 35.430089
A13: Elektriciteit | B13: Bedrijfshal algemeen (geen LISA-informatie) | C13: 500 tot 1000 m2 | D13: 3370 | E13: 0.173 | F13: 30.185504 | G13: 9.9460976 | H13: 17.102793 | I13: 31.938153 | J13: 30.679852 | K13: 32.804149 | L13: 10.901501 | M13: 19.413671 | N13: 34.8829 | O13: 33.37874
A14: Elektriciteit | B14: Bedrijfshal algemeen (geen LISA-informatie) | C14: 1000 tot 2500 m2 | D14: 2920 | E14: 0.15 | F14: 35.64611 | G14: 11.188387 | H14: 19.885833 | I14: 38.960792 | J14: 36.473269 | K14: 40.12206 | L14: 12.083811 | M14: 21.603324 | N14: 43.812505 | O14: 41.062787
A15: Elektriciteit | B15: Bedrijfshal algemeen (geen LISA-informatie) | C15: 2500 tot 5000 m2 | D15: 1052 | E15: 0.054 | F15: 45.063963 | G15: 11.509115 | H15: 22.470273 | I15: 47.891766 | J15: 45.696963 | K15: 49.66568 | L15: 12.482787 | M15: 24.721378 | N15: 53.452084 | O15: 50.523105
A16: Elektriciteit | B16: Bedrijfshal algemeen (geen LISA-informatie) | C16: 5000 tot 10000 m2 | D16: 512 | E16: 0.026 | F16: 47.327548 | G16: 11.682781 | H16: 23.373055 | I16: 57.265183 | J16: 47.654818 | K16: 53.099555 | L16: 12.740967 | M16: 27.408709 | N16: 68.988694 | O16: 53.792261
A17: Elektriciteit | B17: Bedrijfshal algemeen (geen LISA-informatie) | C17: vanaf 10000 m2 | D17: 294 | E17: 0.015 | F17: 43.066335 | G17: 13.208063 | H17: 22.657169 | I17: 45.053337 | J17: 41.865284 | K17: 51.545346 | L17: 14.63357 | M17: 28.894005 | N17: 59.019918 | O17: 50.933655
A18: Elektriciteit | B18: Bedrijfshal algemeen (met LISA-informatie) | C18: tot 50 m2 | D18: 81 | E18: 0.007 | F18: 116.44101 | G18: 22.142857 | H18: 61.466667 | I18: 184.15385 | J18: 112.22506 | K18: 118.34687 | L18: 24.487805 | M18: 65.645833 | N18: 184.15385 | O18: 114.19637
A19: Elektriciteit | B19: Bedrijfshal algemeen (met LISA-informatie) | C19: 50 tot 100 m2 | D19: 557 | E19: 0.045 | F19: 69.257951 | G19: 18.175439 | H19: 36.177778 | I19: 74.777778 | J19: 66.332023 | K19: 75.430923 | L19: 19.148148 | M19: 39.136842 | N19: 85.296875 | O19: 72.500868
A20: Elektriciteit | B20: Bedrijfshal algemeen (met LISA-informatie) | C20: 100 tot 250 m2 | D20: 2306 | E20: 0.187 | F20: 47.108865 | G20: 14.696259 | H20: 26.574669 | I20: 48.543866 | J20: 46.738388 | K20: 51.793723 | L20: 15.631611 | M20: 28.549842 | N20: 53.76217 | O20: 51.234975
... A42: Elektriciteit | B42: Bedrijfshal met maakindustrie en andere economische activiteiten | C42: vanaf 10000 m2 | D42: 151 | E42: 0.031 | F42: 69.568748 | G42: 19.21871 | H42: 42.770651 | I42: 81.680545 | J42: 68.405364 | K42: 75.01622 | L42: 22.46705 | M42: 48.43419 | N42: 91.401306 | O42: 73.397749
A43: Elektriciteit | B43: Bedrijfshal met maakindustrie en logistieke activiteiten | C43: tot 50 m2 | D43: 29 | E43: 0.003 | F43: 105.45273 | H43: 67 | J43: 97.976901 | K43: 124.20734 | M43: 70.645161 | O43: 116.95485
A44: Elektriciteit | B44: Bedrijfshal met maakindustrie en logistieke activiteiten | C44: 50 tot 100 m2 | D44: 202 | E44: 0.019 | F44: 63.628131 | G44: 18.012401 | H44: 35.597628 | I44: 74.342719 | J44: 61.471564 | K44: 250.47704 | L44: 19.306606 | M44: 39.055255 | N44: 79.496659 | O44: 255.58618
A45: Elektriciteit | B45: Bedrijfshal met maakindustrie en logistieke activiteiten | C45: 100 tot 250 m2 | D45: 979 | E45: 0.093 | F45: 44.191803 | G45: 13.518939 | H45: 24.855932 | I45: 46.496679 | J45: 43.555328 | K45: 48.976966 | L45: 14.726345 | M45: 26.670732 | N45: 49.900509 | O45: 48.509464
A46: Elektriciteit | B46: Bedrijfshal met maakindustrie en logistieke activiteiten | C46: 250 tot 500 m2 | D46: 1316 | E46: 0.125 | F46: 39.014334 | G46: 14.009807 | H46: 23.617015 | I46: 40.414128 | J46: 38.986671 | K46: 44.122226 | L46: 15.248047 | M46: 25.376582 | N46: 44.58758 | O46: 43.987614
A47: Elektriciteit | B47: Bedrijfshal met maakindustrie en logistieke activiteiten | C47: 500 tot 1000 m2 | D47: 2163 | E47: 0.206 | F47: 38.70247 | G47: 13.143166 | H47: 21.786078 | I47: 37.073786 | J47: 38.635898 | K47: 42.957439 | L47: 14.706424 | M47: 24.181004 | N47: 40.586461 | O47: 42.778086
A48: Elektriciteit | B48: Bedrijfshal met maakindustrie en logistieke activiteiten | C48: 1000 tot 2500 m2 | D48: 3116 | E48: 0.296 | F48: 39.044626 | G48: 13.472632 | H48: 22.023335 | I48: 38.503168 | J48: 39.418287 | K48: 43.837193 | L48: 15.433295 | M48: 24.882557 | N48: 43.937706 | O48: 44.150175
A49: Elektriciteit | B49: Bedrijfshal met maakindustrie en logistieke activiteiten | C49: 2500 tot 5000 m2 | D49: 1541 | E49: 0.147 | F49: 47.848201 | G49: 13.710033 | H49: 24.522588 | I49: 47.904837 | J49: 47.738008 | K49: 53.747778 | L49: 15.676695 | M49: 28.633489 | N49: 55.628906 | O49: 53.700341
A50: Elektriciteit | B50: Bedrijfshal met maakindustrie en logistieke activiteiten | C50: 5000 tot 10000 m2 | D50: 767 | E50: 0.073 | F50: 53.769662 | G50: 14.074917 | H50: 26.409808 | I50: 59.271694 | J50: 54.735396 | K50: 61.362424 | L50: 16.974768 | M50: 30.932401 | N50: 71.725237 | O50: 62.217753
A51: Elektriciteit | B51: Bedrijfshal met maakindustrie en logistieke activiteiten | C51: vanaf 10000 m2 | D51: 402 | E51: 0.038 | F51: 67.784381 | G51: 16.775239 | H51: 34.407428 | I51: 77.058585 | J51: 61.222827 | K51: 77.146483 | L51: 21.338483 | M51: 41.219223 | N51: 101.94987 | O51: 70.340369
A52: Elektriciteit | B52: Bedrijfshal uitsluitend maakindustrie | C52: tot 50 m2 | D52: 89 | E52: 0.005 | F52: 121.31816 | G52: 27.690476 | H52: 56.826087 | I52: 167.38235 | J52: 118.01104 | K52: 128.59907 | L52: 28.463415 | M52: 62.487805 | N52: 181.11744 | O52: 125.17356
A53: Elektriciteit | B53: Bedrijfshal uitsluitend maakindustrie | C53: 50 tot 100 m2 | D53: 480 | E53: 0.025 | F53: 57.017492 | G53: 13.951838 | H53: 28.506044 | I53: 60.174684 | J53: 54.914931 | K53: 61.443132 | L53: 14.11 | M53: 30.075833 | N53: 63.422885 | O53: 59.283089
A54: Elektriciteit | B54: Bedrijfshal uitsluitend maakindustrie | C54: 100 tot 250 m2 | D54: 2348 | E54: 0.123 | F54: 40.053789 | G54: 12.698113 | H54: 22.105999 | I54: 40.333961 | J54: 39.398967 | K54: 44.63917 | L54: 13.398634 | M54: 23.587037 | N54: 43.632493 | O54: 43.881473
A55: Elektriciteit | B55: Bedrijfshal uitsluitend maakindustrie | C55: 250 tot 500 m2 | D55: 3250 | E55: 0.171 | F55: 38.834573 | G55: 13.271027 | H55: 22.335967 | I55: 38.609645 | J55: 38.910978 | K55: 42.72119 | L55: 14.657762 | M55: 24.946053 | N55: 43.483049 | O55: 42.832458
... A67: Elektriciteit | B67: Bedrijfswoning | C67: 2500 tot 5000 m2 | D67: 278 | E67: 0.004 | F67: 34.653507 | G67: 10.663656 | H67: 19.779866 | I67: 40.943838 | J67: 35.390559 | K67: 39.846722 | L67: 12.525138 | M67: 25.449696 | N67: 50.126126 | O67: 40.409138
A68: Elektriciteit | B68: Bedrijfswoning | C68: 5000 tot 10000 m2 | D68: 33 | E68: 0.001 | F68: 31.25893 | H68: 17.599735 | J68: 30.24585 | K68: 34.488434 | M68: 17.954506 | O68: 33.360699
A69: Elektriciteit | B69: Bedrijfswoning | C69: vanaf 10000 m2 | D69: 26 | E69: 0 | F69: 63.162879 | H69: 42.1809 | J69: 73.26379 | K69: 75.51685 | M69: 45.515318 | O69: 82.340814
A70: Elektriciteit | B70: Bijeenkomstgebouw (niet nader ingedeeld) | C70: tot 50 m2 | D70: 214 | E70: 0.023 | F70: 75.32996 | G70: 15.797436 | H70: 39.48 | I70: 113.78106 | J70: 71.287447 | K70: 79.870655 | L70: 16.903493 | M70: 43.652936 | N70: 123.18713 | O70: 75.74362
A71: Elektriciteit | B71: Bijeenkomstgebouw (niet nader ingedeeld) | C71: 50 tot 100 m2 | D71: 885 | E71: 0.097 | F71: 62.024699 | G71: 15.252747 | H71: 34.505495 | I71: 84.609375 | J71: 61.878408 | K71: 67.411808 | L71: 16 | M71: 36.301205 | N71: 90.633333 | O71: 67.103337
A72: Elektriciteit | B72: Bijeenkomstgebouw (niet nader ingedeeld) | C72: 100 tot 250 m2 | D72: 2781 | E72: 0.304 | F72: 44.875149 | G72: 12.128788 | H72: 22.93578 | I72: 49.102128 | J72: 44.295122 | K72: 48.337661 | L72: 12.775758 | M72: 24.682927 | N72: 55.00813 | O72: 47.784647
A73: Elektriciteit | B73: Bijeenkomstgebouw (niet nader ingedeeld) | C73: 250 tot 500 m2 | D73: 2537 | E73: 0.277 | F73: 39.319851 | G73: 12.162963 | H73: 20.907216 | I73: 42.897233 | J73: 39.45358 | K73: 43.045518 | L73: 13.403743 | M73: 23.737089 | N73: 47.411444 | O73: 43.309803
A74: Elektriciteit | B74: Bijeenkomstgebouw (niet nader ingedeeld) | C74: 500 tot 1000 m2 | D74: 1607 | E74: 0.176 | F74: 40.549434 | G74: 12.619035 | H74: 23.895785 | I74: 44.864166 | J74: 40.453536 | K74: 43.445087 | L74: 14.637873 | M74: 26.783203 | N74: 49.266077 | O74: 43.329081
A75: Elektriciteit | B75: Bijeenkomstgebouw (niet nader ingedeeld) | C75: 1000 tot 2500 m2 | D75: 843 | E75: 0.092 | F75: 46.823264 | G75: 16.026215 | H75: 30.698014 | I75: 56.520577 | J75: 48.170932 | K75: 49.787139 | L75: 17.25344 | M75: 32.792215 | N75: 60.594801 | O75: 51.177438
A76: Elektriciteit | B76: Bijeenkomstgebouw (niet nader ingedeeld) | C76: 2500 tot 5000 m2 | D76: 195 | E76: 0.021 | F76: 54.248723 | G76: 14.180261 | H76: 35.206482 | I76: 81.213549 | J76: 53.797687 | K76: 56.893177 | L76: 15.30744 | M76: 40.421473 | N76: 83.72955 | O76: 56.369171
A77: Elektriciteit | B77: Bijeenkomstgebouw (niet nader ingedeeld) | C77: 5000 tot 10000 m2 | D77: 65 | E77: 0.007 | F77: 49.1916 | G77: 14.405145 | H77: 35.808246 | I77: 67.808934 | J77: 52.476343 | K77: 52.908379 | L77: 15.379245 | M77: 36.857143 | N77: 74.46485 | O77: 56.158744
A78: Elektriciteit | B78: Bijeenkomstgebouw (niet nader ingedeeld) | C78: vanaf 10000 m2 | D78: 26 | E78: 0.003 | F78: 76.845411 | H78: 55.186002 | J78: 77.440096 | K78: 79.150185 | M78: 55.186002 | O78: 79.485148
A79: Elektriciteit | B79: Campusgebouw | C79: tot 1000 m2 | D79: 18 | E79: 0.158 | F79: 104.72853 | J79: 103.38998 | K79: 108.99548 | O79: 108.60386
A80: Elektriciteit | B80: Campusgebouw | C80: 1000 tot 2500 m2 | D80: 13 | E80: 0.114 | F80: 69.692192 | J80: 72.978014 | K80: 71.290074 | O80: 74.319626
A81: Elektriciteit | B81: Campusgebouw | C81: 2500 tot 5000 m2 | D81: 21 | E81: 0.184 | F81: 131.92422 | H81: 72.030244 | J81: 131.78588 | K81: 136.36099 | M81: 72.030244 | O81: 135.97814
A82: Elektriciteit | B82: Campusgebouw | C82: 5000 tot 10000 m2 | D82: 25 | E82: 0.219 | F82: 86.488619 | H82: 58.13042 | J82: 85.888352 | K82: 90.786087 | M82: 68.259326 | O82: 90.251358
A83: Elektriciteit | B83: Campusgebouw | C83: vanaf 10000 m2 | D83: 37 | E83: 0.325 | F83: 100.08448 | H83: 61.64914 | J83: 70.151056 | K83: 103.80759 | M83: 63.11373 | O83: 73.011287
A84: Elektriciteit | B84: Cultuurhuis | C84: tot 250 m2 | D84: 28 | E84: 0.049 | F84: 59.750714 | H84: 34.680856 | J84: 56.025242 | K84: 68.009869 | M84: 34.680856 | O84: 63.478476
A85: Elektriciteit | B85: Cultuurhuis | C85: 250 tot 500 m2 | D85: 66 | E85: 0.116 | F85: 42.26126 | G85: 20.767138 | H85: 28.687773 | I85: 52.918646 | J85: 41.950829 | K85: 44.634325 | L85: 21.904294 | M85: 31.610917 | N85: 59.483986 | O85: 44.205587
A86: Elektriciteit | B86: Cultuurhuis | C86: 500 tot 1000 m2 | D86: 118 | E86: 0.207 | F86: 41.93605 | G86: 18.93247 | H86: 28.548237 | I86: 55.93707 | J86: 41.716895 | K86: 44.071535 | L86: 21.097935 | M86: 29.64095 | N86: 58.236475 | O86: 44.146321
A87: Elektriciteit | B87: Cultuurhuis | C87: 1000 tot 2500 m2 | D87: 161 | E87: 0.282 | F87: 61.841815 | G87: 27.656566 | H87: 47.02678 | I87: 78.661468 | J87: 63.194948 | K87: 64.216239 | L87: 28.901168 | M87: 49.315917 | N87: 85.648689 | O87: 65.566843
A88: Elektriciteit | B88: Cultuurhuis | C88: 2500 tot 5000 m2 | D88: 89 | E88: 0.156 | F88: 59.76573 | G88: 29.803141 | H88: 47.431914 | I88: 85.922493 | J88: 58.93482 | K88: 62.780851 | L88: 30.983523 | M88: 51.097374 | N88: 87.822746 | O88: 62.09647
A89: Elektriciteit | B89: Cultuurhuis | C89: 5000 tot 10000 m2 | D89: 57 | E89: 0.1 | F89: 75.775769 | G89: 37.194778 | H89: 72.661169 | I89: 99.668884 | J89: 76.075064 | K89: 78.206049 | L89: 45.996568 | M89: 76.364668 | N89: 105.26927 | O89: 78.158843
A90: Elektriciteit | B90: Cultuurhuis | C90: vanaf 10000 m2 | D90: 51 | E90: 0.089 | F90: 55.906569 | G90: 26.866363 | H90: 46.040269 | I90: 75.618802 | J90: 46.771434 | K90: 58.008275 | L90: 27.81969 | M90: 50.055309 | N90: 75.618802 | O90: 48.211302
A91: Elektriciteit | B91: Gebedshuis | C91: tot 100 m2 | D91: 41 | E91: 0.012 | F91: 24.176467 | G91: 10.37931 | H91: 22.974684 | I91: 32.066667 | J91: 24.030303 | K91: 25.815896 | L91: 10.37931 | M91: 22.974684 | N91: 32.066667 | O91: 25.820817
A92: Elektriciteit | B92: Gebedshuis | C92: 100 tot 250 m2 | D92: 399 | E92: 0.115 | F92: 15.916949 | G92: 8.0642857 | H92: 12.368932 | I92: 19.977772 | J92: 15.884561 | K92: 16.848983 | L92: 8.2890791 | M92: 12.552147 | N92: 20.132207 | O92: 16.90171
A93: Elektriciteit | B93: Gebedshuis | C93: 250 tot 500 m2 | D93: 914 | E93: 0.264 | F93: 15.26557 | G93: 8.5519956 | H93: 12.329375 | I93: 19.713556 | J93: 15.112926 | K93: 16.487615 | L93: 8.7830592 | M93: 13.034184 | N93: 20.618734 | O93: 16.244218
A94: Elektriciteit | B94: Gebedshuis | C94: 500 tot 1000 m2 | D94: 1150 | E94: 0.332 | F94: 14.190713 | G94: 8.435531 | H94: 11.775091 | I94: 16.970858 | J94: 14.123868 | K94: 15.81981 | L94: 9.0821358 | M94: 12.869271 | N94: 19.160485 | O94: 15.746206
A95: Elektriciteit | B95: Gebedshuis | C95: 1000 tot 2500 m2 | D95: 806 | E95: 0.232 | F95: 14.140384 | G95: 8.047848 | H95: 11.31706 | I95: 17.862434 | J95: 14.291378 | K95: 15.928315 | L95: 8.7221496 | M95: 12.711551 | N95: 19.657604 | O95: 16.087798
A96: Elektriciteit | B96: Gebedshuis | C96: 2500 tot 5000 m2 | D96: 106 | E96: 0.031 | F96: 19.0299 | G96: 9.0392645 | H96: 16.049953 | I96: 26.247526 | J96: 19.497507 | K96: 20.490504 | L96: 9.287136 | M96: 16.977953 | N96: 29.646866 | O96: 20.99772
A97: Elektriciteit | B97: Gebedshuis | C97: 5000 tot 10000 m2 | D97: 36 | E97: 0.01 | F97: 22.338051 | H97: 21.827223 | J97: 22.349882 | K97: 24.627922 | M97: 24.863905 | O97: 24.68266
A98: Elektriciteit | B98: Gebedshuis | C98: vanaf 10000 m2 | D98: 16 | E98: 0.005 | F98: 25.337033 | J98: 24.319717 | K98: 27.677993 | O98: 26.582564
A99: Elektriciteit | B99: Gebouw bij spooremplacement | C99: tot 500 m2 | D99: 18 | E99: 0.261 | F99: 96.819452 | J99: 54.495294 | K99: 96.819452 | O99: 54.495294
A100: Elektriciteit | B100: Gebouw bij spooremplacement | C100: 500 tot 2500 m2 | D100: 20 | E100: 0.29 | F100: 59.986778 | H100: 42.71466 | J100: 58.932563 | K100: 61.076283 | M100: 42.71466 | O100: 60.142825
A101: Elektriciteit | B101: Gebouw bij spooremplacement | C101: 2500 tot 10000 m2 | D101: 17 | E101: 0.246 | F101: 71.119989 | J101: 66.323882 | K101: 73.876136 | O101: 71.54419
A102: Elektriciteit | B102: Gebouw bij spooremplacement | C102: vanaf 10000 m2 | D102: 14 | E102: 0.203 | F102: 39.295443 | J102: 49.999732 | K102: 39.571948 | O102: 50.232553
A103: Elektriciteit | B103: Gebouw bij vliegveld of luchthaven | C103: tot 250 m2 | D103: 19 | E103: 0.147 | F103: 46.772012 | J103: 49.483503 | K103: 66.177518 | O103: 60.432231
A104: Elektriciteit | B104: Gebouw bij vliegveld of luchthaven | C104: 250 tot 500 m2 | D104: 18 | E104: 0.14 | F104: 43.217399 | J104: 43.46903 | K104: 43.594058 | O104: 43.868396
A105: Elektriciteit | B105: Gebouw bij vliegveld of luchthaven | C105: 500 tot 1000 m2 | D105: 33 | E105: 0.256 | F105: 23.202468 | H105: 15.353436 | J105: 23.095093 | K105: 25.617912 | M105: 17.998208 | O105: 25.182518
A106: Elektriciteit | B106: Gebouw bij vliegveld of luchthaven | C106: 1000 tot 2500 m2 | D106: 30 | E106: 0.233 | F106: 31.619308 | H106: 21.549077 | J106: 32.681436 | K106: 32.91107 | M106: 26.613484 | O106: 33.945986
A107: Elektriciteit | B107: Gebouw bij vliegveld of luchthaven | C107: 2500 tot 5000 m2 | D107: 17 | E107: 0.132 | F107: 31.204464 | J107: 32.385267 | K107: 37.717194 | O107: 38.800049
A108: Elektriciteit | B108: Gebouw bij vliegveld of luchthaven | C108: vanaf 5000 m2 | D108: 12 | E108: 0.093 | F108: 45.960353 | J108: 48.317526 | K108: 48.663363 | O108: 49.674759
A109: Elektriciteit | B109: Gebouw in landelijk gebied voor industrie (geen landbouwactiviteiten geregistreerd) | C109: tot 50 m2 | D109: 101 | E109: 0.021 | F109: 83.912147 | G109: 25.060606 | H109: 53.315789 | I109: 118.27273 | J109: 80.540664 | K109: 93.038571 | L109: 26.821429 | M109: 53.78125 | N109: 123.13333 | O109: 88.544095
A110: Elektriciteit | B110: Gebouw in landelijk gebied voor industrie (geen landbouwactiviteiten geregistreerd) | C110: 50 tot 100 m2 | D110: 255 | E110: 0.053 | F110: 63.303048 | G110: 16.683673 | H110: 37.461538 | I110: 79.577616 | J110: 63.110166 | K110: 68.458325 | L110: 16.683673 | M110: 41.684211 | N110: 81.762319 | O110: 68.64462
A111: Elektriciteit | B111: Gebouw in landelijk gebied voor industrie (geen landbouwactiviteiten geregistreerd) | C111: 100 tot 250 m2 | D111: 868 | E111: 0.181 | F111: 50.778401 | G111: 13.033075 | H111: 24.332064 | I111: 58.871314 | J111: 49.643011 | K111: 71.26058 | L111: 13.933706 | M111: 26.83694 | N111: 69.612777 | O111: 67.827467
A112: Elektriciteit | B112: Gebouw in landelijk gebied voor industrie (geen landbouwactiviteiten geregistreerd) | C112: 250 tot 500 m2 | D112: 972 | E112: 0.203 | F112: 43.856594 | G112: 12.163481 | H112: 24.549663 | I112: 50.932747 | J112: 43.80897 | K112: 68.202097 | L112: 13.472082 | M112: 28.608621 | N112: 59.70842 | O112: 73.143329
A113: Elektriciteit | B113: Gebouw in landelijk gebied voor industrie (geen landbouwactiviteiten geregistreerd) | C113: 500 tot 1000 m2 | D113: 1017 | E113: 0.213 | F113: 36.803647 | G113: 10.840149 | H113: 20.610032 | I113: 40.328446 | J113: 37.071953 | K113: 52.090188 | L113: 12.491639 | M113: 25.637544 | N113: 48.772504 | O113: 54.732628
A114: Elektriciteit | B114: Gebouw in landelijk gebied voor industrie (geen landbouwactiviteiten geregistreerd) | C114: 1000 tot 2500 m2 | D114: 1029 | E114: 0.215 | F114: 37.146924 | G114: 11.066315 | H114: 20.529835 | I114: 40.693396 | J114: 36.779709 | K114: 47.665748 | L114: 13.589139 | M114: 24.854804 | N114: 53.525295 | O114: 47.559677
A115: Elektriciteit | B115: Gebouw in landelijk gebied voor industrie (geen landbouwactiviteiten geregistreerd) | C115: 2500 tot 5000 m2 | D115: 332 | E115: 0.069 | F115: 38.881253 | G115: 12.283525 | H115: 21.538693 | I115: 45.205448 | J115: 39.151155 | K115: 53.395133 | L115: 14.212097 | M115: 27.980764 | N115: 57.62036 | O115: 52.981069
A116: Elektriciteit | B116: Gebouw in landelijk gebied voor industrie (geen landbouwactiviteiten geregistreerd) | C116: 5000 tot 10000 m2 | D116: 165 | E116: 0.034 | F116: 59.449686 | G116: 15.408981 | H116: 36.335819 | I116: 70.671632 | J116: 61.756381 | K116: 71.6538 | L116: 22.272262 | M116: 46.188265 | N116: 94.385491 | O116: 74.381592
A117: Elektriciteit | B117: Gebouw in landelijk gebied voor industrie (geen landbouwactiviteiten geregistreerd) | C117: vanaf 10000 m2 | D117: 46 | E117: 0.01 | F117: 73.328683 | G117: 15.152844 | H117: 31.138188 | I117: 140.24109 | J117: 70.898874 | K117: 80.061233 | L117: 17.018625 | M117: 31.829342 | N117: 158.24818 | O117: 77.124249
A118: Elektriciteit | B118: Gebouw in stedelijk gebied met industriefunctie | C118: tot 50 m2 | D118: 530 | E118: 0.041 | F118: 92.878804 | G118: 14.6375 | H118: 40.813656 | I118: 130.94739 | J118: 89.801737 | K118: 99.747867 | L118: 15.525298 | M118: 42.693464 | N118: 140.09274 | O118: 95.990345
A119: Elektriciteit | B119: Gebouw in stedelijk gebied met industriefunctie | C119: 50 tot 100 m2 | D119: 1314 | E119: 0.101 | F119: 65.342796 | G119: 13.580357 | H119: 29.660417 | I119: 66.103323 | J119: 64.911594 | K119: 69.685092 | L119: 14.039863 | M119: 31.282857 | N119: 72.671739 | O119: 69.395207
A120: Elektriciteit | B120: Gebouw in stedelijk gebied met industriefunctie | C120: 100 tot 250 m2 | D120: 3281 | E120: 0.251 | F120: 56.192508 | G120: 12.430962 | H120: 24.844311 | I120: 53.038889 | J120: 55.337179 | K120: 60.698774 | L120: 13.445455 | M120: 27.583333 | N120: 59.488722 | O120: 59.812925
... A132: Elektriciteit | B132: Gebouw op vakantiepark | C132: 1000 tot 2500 m2 | D132: 156 | E132: 0.004 | F132: 51.148519 | G132: 14.209725 | H132: 30.553504 | I132: 74.224304 | J132: 50.620414 | K132: 59.563358 | L132: 15.861971 | M132: 37.922903 | N132: 82.131959 | O132: 59.184818
A133: Elektriciteit | B133: Gebouw op vakantiepark | C133: 2500 tot 5000 m2 | D133: 17 | E133: 0 | F133: 46.224155 | J133: 45.829572 | K133: 48.966602 | O133: 48.791879
A134: Elektriciteit | B134: Gebouw op vakantiepark | C134: vanaf 5000 m2 | D134: 10 | E134: 0 | F134: 88.399594 | J134: 93.425026 | K134: 93.257936 | O134: 101.65085
A135: Elektriciteit | B135: Gebouw voor landbouwactiviteiten | C135: tot 50 m2 | D135: 25 | E135: 0.01 | F135: 235.8439 | H135: 162.5 | J135: 202.92069 | K135: 294.31994 | M135: 181.89583 | O135: 260.96191
A136: Elektriciteit | B136: Gebouw voor landbouwactiviteiten | C136: 50 tot 100 m2 | D136: 82 | E136: 0.034 | F136: 141.16928 | G136: 33.023067 | H136: 84.558007 | I136: 183.02282 | J136: 135.78161 | K136: 176.85482 | L136: 36.994845 | M136: 102.21715 | N136: 199.54174 | O136: 173.56663
A137: Elektriciteit | B137: Gebouw voor landbouwactiviteiten | C137: 100 tot 250 m2 | D137: 900 | E137: 0.377 | F137: 108.85095 | G137: 23.733004 | H137: 46.51268 | I137: 115.91075 | J137: 109.38836 | K137: 136.85035 | L137: 28.20849 | M137: 57.268955 | N137: 145.77604 | O137: 134.64775
A138: Elektriciteit | B138: Gebouw voor landbouwactiviteiten | C138: 250 tot 500 m2 | D138: 340 | E138: 0.142 | F138: 94.51984 | G138: 17.746831 | H138: 40.247809 | I138: 101.4527 | J138: 94.607358 | K138: 110.30674 | L138: 20.429645 | M138: 45.938784 | N138: 119.84599 | O138: 110.47829
A139: Elektriciteit | B139: Gebouw voor landbouwactiviteiten | C139: 500 tot 1000 m2 | D139: 311 | E139: 0.13 | F139: 109.46939 | G139: 15.373743 | H139: 35.682857 | I139: 151.86049 | J139: 112.35235 | K139: 127.13966 | L139: 17.198972 | M139: 44.44051 | N139: 185.4239 | O139: 130.77307
A140: Elektriciteit | B140: Gebouw voor landbouwactiviteiten | C140: 1000 tot 2500 m2 | D140: 390 | E140: 0.163 | F140: 112.8346 | G140: 18.448726 | H140: 57.229742 | I140: 148.71052 | J140: 110.72698 | K140: 128.2645 | L140: 24.09023 | M140: 67.544386 | N140: 172.31574 | O140: 126.75349
A141: Elektriciteit | B141: Gebouw voor landbouwactiviteiten | C141: 2500 tot 5000 m2 | D141: 171 | E141: 0.072 | F141: 93.241501 | G141: 18.098443 | H141: 36.961317 | I141: 110.92964 | J141: 90.390173 | K141: 107.41416 | L141: 21.926659 | M141: 48.083542 | N141: 130.01283 | O141: 105.2417
A142: Elektriciteit | B142: Gebouw voor landbouwactiviteiten | C142: 5000 tot 10000 m2 | D142: 94 | E142: 0.039 | F142: 80.140885 | G142: 11.930735 | H142: 29.001315 | I142: 71.176187 | J142: 79.325951 | K142: 91.446866 | L142: 17.113163 | M142: 36.341669 | N142: 83.846345 | O142: 89.732443
A143: Elektriciteit | B143: Gebouw voor landbouwactiviteiten | C143: vanaf 10000 m2 | D143: 75 | E143: 0.031 | F143: 51.377914 | G143: 10.951695 | H143: 22.61851 | I143: 52.191546 | J143: 46.471465 | K143: 55.28234 | L143: 11.468382 | M143: 32.013194 | N143: 55.636427 | O143: 50.659824
...

Sheet elek_kental_diensten_2023
A1: Energiedrager | B1: Gebouwtype | C1: Aantal panden | D1: Gemiddelde kental (kWh/m2) | E1: Q1 kental (kWh/m2) | F1: Mediaan kental (kWh/m2) | G1: Q3 kental (kWh/m2) | H1: Gewogen gemiddelde kental (kWh/m2) | I1: Gemiddelde kental inclusief eigenverbruik zonnestroom (kWh/m2) | J1: Q1 kental inclusief eigenverbruik zonnestroom (kWh/m2) | K1: Mediaan kental inclusief eigenverbruik zonnestroom (kWh/m2) | L1: Q3 kental inclusief eigenverbruik zonnestroom (kWh/m2) | M1: Gewogen gemiddelde kental inclusief eigenverbruik zonnestroom (kWh/m2)
A2: Elektriciteit | B2: Asielzoekerscentrum | C2: 50 | D2: 106.28129 | E2: 45.495889 | F2: 70.83653 | G2: 112.19286 | H2: 67.742722 | I2: 106.76542 | J2: 45.687097 | K2: 70.83653 | L2: 112.19286 | M2: 67.876605
A3: Elektriciteit | B3: Basisschool | C3: 4339 | D3: 24.019862 | E3: 14.95505 | F3: 20.540909 | G3: 29.370123 | H3: 24.465217 | I3: 27.714534 | J3: 17.09408 | K3: 22.741646 | L3: 33.544592 | M3: 28.134018
A4: Elektriciteit | B4: Bedrijfshal algemeen (geen LISA-informatie) | C4: 10277 | D4: 32.569568 | E4: 10.023636 | F4: 18.01 | G4: 35.171103 | H4: 33.353406 | I4: 35.572993 | J4: 10.565084 | K4: 19.5375 | L4: 38.839052 | M4: 37.862725
A5: Elektriciteit | B5: Bedrijfshal algemeen (met LISA-informatie) | C5: 8447 | D5: 42.252328 | E5: 14.13567 | F5: 24.395214 | G5: 45.102589 | H5: 42.208004 | I5: 47.955829 | J5: 15.731421 | K5: 27.051667 | L5: 50.38656 | M5: 47.963242
A6: Elektriciteit | B6: Bedrijfshal met logistieke activiteiten | C6: 2183 | D6: 36.858454 | E6: 13.7084 | F6: 23.917471 | G6: 42.299903 | H6: 38.035711 | I6: 42.221676 | J6: 15.800169 | K6: 26.796296 | L6: 48.632059 | M6: 43.745006
A7: Elektriciteit | B7: Bedrijfshal met maakindustrie en andere economische activiteiten | C7: 1564 | D7: 36.778557 | E7: 15.059404 | F7: 24.832303 | G7: 42.874373 | H7: 43.387978 | I7: 41.605778 | J7: 16.717927 | K7: 27.966392 | L7: 48.444965 | M7: 49.046204
A8: Elektriciteit | B8: Bedrijfshal met maakindustrie en logistieke activiteiten | C8: 6488 | D8: 40.811982 | E8: 13.257219 | F8: 22.846649 | G8: 41.163485 | H8: 46.408527 | I8: 47.053164 | J8: 14.91114 | K8: 25.382431 | L8: 45.897803 | M8: 52.370104
A9: Elektriciteit | B9: Bedrijfshal uitsluitend maakindustrie | C9: 6916 | D9: 38.581117 | E9: 14.515298 | F9: 24.874501 | G9: 43.606694 | H9: 45.22 | I9: 43.47069 | J9: 16.003074 | K9: 27.600345 | L9: 48.379011 | M9: 50.375154
A10: Elektriciteit | B10: Bedrijfswoning | C10: 8805 | D10: 45.032731 | E10: 15.130872 | F10: 25.772679 | G10: 46.707657 | H10: 36.665295 | I10: 52.613904 | J10: 17.66069 | K10: 29.767606 | L10: 54.555556 | M10: 42.556885
A11: Elektriciteit | B11: Bijeenkomstgebouw (niet nader ingedeeld) | C11: 8176 | D11: 45.359754 | E11: 12.747312 | F11: 24.141888 | G11: 51.532684 | H11: 47.532016 | I11: 48.555211 | J11: 13.937903 | K11: 26.5242 | L11: 56.561452 | M11: 50.591777
A12: Elektriciteit | B12: Campusgebouw | C12: 79 | D12: 97.170714 | E12: 37.405036 | F12: 61.123031 | G12: 111.0645 | H12: 94.223056 | I12: 100.81073 | J12: 42.077253 | K12: 62.074595 | L12: 111.0645 | M12: 98.508491
A13: Elektriciteit | B13: Cultuurhuis | C13: 470 | D13: 54.473485 | E13: 23.25326 | F13: 38.967307 | G13: 76.566964 | H13: 57.459068 | I13: 57.089663 | J13: 24.24411 | K13: 41.746802 | L13: 78.627598 | M13: 59.308447
... A15: Elektriciteit | B15: Gebedshuis | C15: 2919 | D15: 14.588921 | E15: 8.1733793 | F15: 11.712222 | G15: 18.101775 | H15: 14.9306 | I15: 16.10591 | J15: 8.6855441 | K15: 12.630219 | L15: 19.863945 | M15: 16.77495
A16: Elektriciteit | B16: Gebouw bij militaire inrichting
A17: Elektriciteit | B17: Gebouw bij spooremplacement | C17: 33 | D17: 94.22039 | F17: 77.475352 | H17: 42.170465 | I17: 94.367673 | K17: 77.475352 | M17: 42.189826
A18: Elektriciteit | B18: Gebouw bij vliegveld of luchthaven | C18: 83 | D18: 32.66575 | E18: 11.425063 | F18: 23.543796 | G18: 46.184203 | H18: 31.683261 | I18: 38.4243 | J18: 13.024203 | K18: 26.779791 | L18: 54.427281 | M18: 33.937738
A19: Elektriciteit | B19: Gebouw in landelijk gebied voor industrie (geen landbouwactiviteiten geregistreerd) | C19: 2076 | D19: 41.137427 | E19: 11.760313 | F19: 22.026134 | G19: 45.229667 | H19: 37.81043 | I19: 47.218428 | J19: 13.043214 | K19: 25.915055 | L19: 54.191564 | M19: 44.84586
A20: Elektriciteit | B20: Gebouw in stedelijk gebied met industriefunctie | C20: 8191 | D20: 52.620776 | E20: 12.81918 | F20: 24.802469 | G20: 51.860324 | H20: 46.728919 | I20: 56.49597 | J20: 13.984585 | K20: 27.426087 | L20: 56.879258 | M20: 50.185197
A21: Elektriciteit | B21: Gebouw op snelwegverzorgingsplaats | C21: 121 | D21: 638.94773 | E21: 286.64829 | F21: 660.53313 | G21: 894.57143 | H21: 368.89701 | I21: 644.66204 | J21: 286.64829 | K21: 660.53313 | L21: 914.8982 | M21: 375.09211
A22: Elektriciteit | B22: Gebouw op vakantiepark | C22: 32059 | D22: 23.672609 | E22: 10.884737 | F22: 16.255102 | G22: 25.858243 | H22: 28.464181 | I22: 26.248964 | J22: 11.396389 | K22: 17.209945 | L22: 28.478251 | M22: 31.644892
A23: Elektriciteit | B23: Gebouw voor landbouwactiviteiten | C23: 241 | D23: 70.788594 | E23: 14.252811 | F23: 29.964664 | G23: 70.851852 | H23: 43.693955 | I23: 111.2981 | J23: 15.70411 | K23: 33.923887 | L23: 80.094801 | M23: 54.403847
A24: Elektriciteit | B24: Groothandel op bedrijventerrein | C24: 165 | D24: 30.84412 | E24: 15.131623 | F24: 25.378625 | G24: 35.493701 | H24: 27.220204 | I24: 34.511828 | J24: 17.063115 | K24: 26.630605 | L24: 44.657845 | M24: 30.421111
A25: Elektriciteit | B25: Hotel (of ander groot logiesgebouw) | C25: 2054 | D25: 68.599159 | E25: 26.430685 | F25: 54.121978 | G25: 99.701343 | H25: 76.355756 | I25: 71.123195 | J25: 28.252112 | K25: 57.259678 | L25: 103.012 | M25: 77.82261
A26: Elektriciteit | B26: IJsbaan | C26: 89 | D26: 21.594227 | E26: 9.3675676 | F26: 14.692308 | G26: 25.505208 | H26: 50.540217 | I26: 26.521263 | J26: 9.47 | K26: 18.162162 | L26: 30.048077 | M26: 52.717053
A27: Elektriciteit | B27: Kantoorpand algemeen | C27: 16567 | D27: 44.163987 | E27: 19.415428 | F27: 33.828042 | G27: 57.56594 | H27: 51.541427 | I27: 49.361074 | J27: 21.26677 | K27: 36.961009 | L27: 62.193188 | M27: 54.753804
A28: Elektriciteit | B28: Kinderopvang (gebouw) | C28: 1402 | D28: 31.24107 | E28: 19.247577 | F28: 27.462853 | G28: 37.520636 | H28: 30.298676 | I28: 33.445269 | J28: 20.795311 | K28: 29.304616 | L28: 39.909612 | M28: 32.404963
A29: Elektriciteit | B29: Koelhuis | C29: 70 | D29: 287.44283 | E29: 83.650853 | F29: 200.83005 | G29: 361.78001 | H29: 254.92262 | I29: 300.22745 | J29: 118.27676 | K29: 226.01506 | L29: 361.78001 | M29: 266.05386
A30: Elektriciteit | B30: MBO-gebouw
A31: Elektriciteit | B31: Meergezinswoning met andere functie of combinatie van functies | C31: 1742 | D31: 38.664577 | E31: 15.990263 | F31: 27.316248 | G31: 46.624384 | H31: 37.59607 | I31: 41.165546 | J31: 17.022796 | K31: 29.4766 | L31: 50.355885 | M31: 39.583311
A32: Elektriciteit | B32: Meergezinswoning met cafe of restaurant | C32: 1033 | D32: 92.820676 | E32: 36.116788 | F32: 77.247059 | G32: 132.03448 | H32: 81.929503 | I32: 94.286789 | J32: 38.511095 | K32: 77.636158 | L32: 133.91136 | M32: 83.599419
A33: Elektriciteit | B33: Meergezinswoning met winkel | C33: 2808 | D33: 45.2688 | E33: 19.1646 | F33: 33.230655 | G33: 56.304985 | H33: 41.095309 | I33: 46.796067 | J33: 20.391043 | K33: 34.641497 | L33: 58.76243 | M33: 42.607583
A34: Elektriciteit | B34: Meergezinswoning met winkels en horeca | C34: 288 | D34: 46.394891 | E34: 20.535478 | F34: 34.954617 | G34: 57.438475 | H34: 45.779827 | I34: 48.29953 | J34: 21.698958 | K34: 36.653729 | L34: 59.724767 | M34: 47.488049
A35: Elektriciteit | B35: Meergezinswoning met woonzorgeenheden | C35: 91 | D35: 33.991876 | E35: 21.986061 | F35: 30.966216 | G35: 43.417945 | H35: 39.433156 | I35: 37.266852 | J35: 22.564618 | K35: 36.018672 | L35: 46.923129 | M35: 45.439341
A36: Elektriciteit | B36: Middelbare school | C36: 1012 | D36: 35.139711 | E36: 21.647092 | F36: 29.48955 | G36: 42.247167 | H36: 32.548104 | I36: 39.471964 | J36: 24.976127 | K36: 33.805667 | L36: 46.977492 | M36: 36.813985
A37: Elektriciteit | B37: Nutsgebouw (elektriciteit)
A38: Elektriciteit | B38: Nutsgebouw (water) | C38: 28 | D38: 416.17394 | F38: 48.405837 | H38: 174.05091 | I38: 1014.5679 | K38: 79.256818 | M38: 678.71155
A39: Elektriciteit | B39: Overig gebouw met maatschappelijke functie | C39: 1001 | D39: 35.224127 | E39: 8.2739726 | F39: 14.345679 | G39: 37.995 | H39: 56.666658 | I39: 36.939172 | J39: 8.3333333 | K39: 15.022989 | L39: 39.433166 | M39: 61.162554
A40: Elektriciteit | B40: Overig gebouw met recreatiefunctie | C40: 56 | D40: 120.02114 | E40: 32.844374 | F40: 83.406304 | G40: 170.84696 | H40: 166.17362 | I40: 126.95277 | J40: 35.174352 | K40: 89.158402 | L40: 183.89296 | M40: 175.12025
A41: Elektriciteit | B41: Overig onderwijsgebouw | C41: 2709 | D41: 29.08703 | E41: 14.763158 | F41: 22.063181 | G41: 35.448921 | H41: 33.905837 | I41: 31.121619 | J41: 15.647467 | K41: 23.501805 | L41: 37.922491 | M41: 35.869309
A42: Elektriciteit | B42: Overig overheidsgebouw | C42: 723 | D42: 73.384327 | E42: 36.413072 | F42: 59.378911 | G42: 90.394766 | H42: 64.446661 | I42: 77.024 | J42: 38.861517 | K42: 62.438283 | L42: 93.450731 | M42: 66.76345
A43: Elektriciteit | B43: Overig sportgebouw | C43: 6090 | D43: 49.477386 | E43: 17.614176 | F43: 33.382668 | G43: 63.360732 | H43: 49.259665 | I43: 56.452529 | J43: 19.983307 | K43: 38.695099 | L43: 71.929055 | M43: 55.146234
A44: Elektriciteit | B44: Overig zorggebouw | C44: 2849 | D44: 52.148425 | E44: 23.63141 | F44: 40.758865 | G44: 67.02459 | H44: 59.227939 | I44: 57.298717 | J44: 26.352227 | K44: 46.674419 | L44: 74.944149 | M44: 63.46592
A45: Elektriciteit | B45: Overige utiliteitsbouw | C45: 2824 | D45: 79.64161 | E45: 14.336158 | F45: 28.948029 | G45: 70.407101 | H45: 53.09864 | I45: 84.694137 | J45: 15.371447 | K45: 31.215018 | L45: 76.828471 | M45: 55.581595
A46: Elektriciteit | B46: Pand met winkel en kantoor- en/of bijeenkomstfunctie | C46: 605 | D46: 63.847012 | E46: 21.054617 | F46: 38.389198 | G46: 76.961145 | H46: 53.657639 | I46: 66.442902 | J46: 23.218006 | K46: 40.634008 | L46: 80.189427 | M46: 55.803657
A47: Elektriciteit | B47: Penitentiaire inrichting | C47: 20 | D47: 149.05648 | F47: 85.933314 | H47: 120.75002 | I47: 155.51353 | K47: 88.447655 | M47: 124.05082
A48: Elektriciteit | B48: Praktijk- of zorgwoning | C48: 1549 | D48: 35.788697 | E48: 18.577236 | F48: 29.923331 | G48: 46.141176 | H48: 36.81943 | I48: 40.352347 | J48: 21.547059 | K48: 34.036364 | L48: 51.490085 | M48: 40.48271
A49: Elektriciteit | B49: Productie-installatie
A50: Elektriciteit | B50: Restaurant of cafégebouw | C50: 3737 | D50: 242.84186 | E50: 109.55072 | F50: 192.29775 | G50: 317.26471 | H50: 192.19508 | I50: 245.63255 | J50: 110.91034 | K50: 195.54286 | L50: 319.62366 | M50: 194.36619
A51: Elektriciteit | B51: School voor speciaal onderwijs | C51: 458 | D51: 27.870956 | E51: 17.051527 | F51: 23.742209 | G51: 32.438544 | H51: 26.529152 | I51: 31.109942 | J51: 18.167639 | K51: 26.008778 | L51: 36.847408 | M51: 29.89682
A52: Elektriciteit | B52: Schoolverzamelgebouw | C52: 85 | D52: 35.181593 | E52: 21.477544 | F52: 29.394688 | G52: 49.338428 | H52: 33.762645 | I52: 39.253866 | J52: 24.401982 | K52: 33.125753 | L52: 54.449425 | M52: 37.363972
A53: Elektriciteit | B53: Tuincentrum | C53: 352 | D53: 35.415677 | E53: 16.062486 | F53: 26.546036 | G53: 44.676332 | H53: 31.026429 | I53: 40.361382 | J53: 18.726216 | K53: 30.431193 | L53: 50.097979 | M53: 35.295923
A54: Elektriciteit | B54: Vakantiewoning buiten vakantiepark | C54: 4258 | D54: 31.767211 | E54: 12.081863 | F54: 20.03367 | G54: 38.498193 | H54: 35.554818 | I54: 35.166342 | J54: 12.515252 | K54: 21.57827 | L54: 42.273798 | M54: 38.711036
A55: Elektriciteit | B55: Winkelpand | C55: 18846 | D55: 85.178987 | E55: 22.934529 | F55: 46.194193 | G55: 101.24114 | H55: 69.344269 | I55: 88.077464 | J55: 24.545167 | K55: 48.392873 | L55: 104.41305 | M55: 73.145689
A56: Elektriciteit | B56: Woning met andere functie of combinatie van functies | C56: 4252 | D56: 54.454451 | E56: 18.481929 | F56: 33.411018 | G56: 68.110979 | H56: 50.160983 | I56: 58.641581 | J56: 20.542116 | K56: 36.952207 | L56: 72.916747 | M56: 53.747667
A57: Elektriciteit | B57: Woning met cafe of restaurant | C57: 6735 | D57: 114.63317 | E57: 46.816134 | F57: 94.658768 | G57: 158.26917 | H57: 93.925268 | I57: 117.02915 | J57: 48.639485 | K57: 97.273187 | L57: 160.73649 | M57: 96.090943
A58: Elektriciteit | B58: Woning met winkel | C58: 13617 | D58: 49.406064 | E58: 18.19084 | F58: 31.86747 | G58: 58.34398 | H58: 45.32636 | I58: 52.32954 | J58: 20.060606 | K58: 34.544643 | L58: 61.774648 | M58: 48.171589
A59: Elektriciteit | B59: Wooncomplex met andere functie of combinatie van functies | C59: 844 | D59: 48.357824 | E59: 29.468676 | F59: 43.71307 | G59: 62.388806 | H59: 48.442855 | I59: 51.732262 | J59: 31.574978 | K59: 45.96074 | L59: 65.997537 | M59: 50.971018
A60: Elektriciteit | B60: Wooncomplex met winkels en/of horeca | C60: 190 | D60: 50.77246 | E60: 26.736372 | F60: 40.589317 | G60: 67.695233 | H60: 48.690089 | I60: 53.7519 | J60: 28.18422 | K60: 43.871945 | L60: 71.738305 | M60: 51.578741
A61: Elektriciteit | B61: Woonzorgcomplex | C61: 964 | D61: 57.230026 | E61: 31.978761 | F61: 46.582184 | G61: 69.457709 | H61: 60.543261 | I61: 60.536122 | J61: 34.549886 | K61: 50.672101 | L61: 72.591309 | M61: 64.034226
... A66: Elektriciteit | B66: Zwembad | C66: 415 | D66: 214.83211 | E66: 79.495098 | F66: 127.019 | G66: 218.99977 | H66: 127.90906 | I66: 229.95124 | J66: 84.50218 | K66: 141.60678 | L66: 243.06825 | M66: 135.97224

Sheet elek_kental_subsets_2023
A1: Energiedrager | B1: Gebouwtype | C1: Categorie zonnestroom en teruglevering | D1: Aantal panden | E1: Aandeel panden per gebouwtype | F1: Gemiddelde kental (kWh/m2) | G1: Q1 kental (kWh/m2) | H1: Mediaan kental (kWh/m2) | I1: Q3 kental (kWh/m2) | J1: Gewogen gemiddelde kental (kWh/m2) | K1: Gemiddelde kental inclusief eigenverbruik zonnestroom (kWh/m2) | L1: Q1 kental inclusief eigenverbruik zonnestroom (kWh/m2) | M1: Mediaan kental inclusief eigenverbruik zonnestroom (kWh/m2) | N1: Q3 kental inclusief eigenverbruik zonnestroom (kWh/m2) | O1: Gewogen gemiddelde kental inclusief eigenverbruik zonnestroom (kWh/m2)
A2: Elektriciteit | B2: Basisschool | C2: pand met zonPV en andere eigen opwek en teruglevering | D2: 143 | E2: 0.03 | F2: 23.363212 | G2: 11.078075 | H2: 18.584906 | I2: 31.362429 | J2: 24.372799 | K2: 28.051546 | L2: 13.924007 | M2: 22.239769 | N2: 37.983955 | O2: 28.465794
A3: Elektriciteit | B3: Basisschool | C3: pand met zonPV en teruglevering | D3: 1652 | E3: 0.341 | F3: 23.778206 | G3: 13.172542 | H3: 19.284159 | I3: 31.512632 | J3: 25.850873 | K3: 34.190591 | L3: 19.707637 | M3: 28.147229 | N3: 44.340507 | O3: 35.356294
A4: Elektriciteit | B4: Basisschool | C4: pand zonder zonPV met andere eigen opwek | D4: 264 | E4: 0.054 | F4: 27.986334 | G4: 15.08259 | H4: 24.657032 | I4: 36.239609 | J4: 30.258545
A5: Elektriciteit | B5: Basisschool | C5: pand zonder zonPV zonder andere eigen opwek | D5: 2788 | E5: 0.575 | F5: 25.034065 | G5: 16.606395 | H5: 21.477994 | I5: 29.590042 | J5: 25.37612
A6: Elektriciteit | B6: Bedrijfshal algemeen (geen LISA-informatie) | C6: pand met zonPV en andere eigen opwek en teruglevering | D6: 476 | E6: 0.024 | F6: 34.531217 | G6: 10.928568 | H6: 18.579391 | I6: 38.066767 | J6: 36.403878 | K6: 75.239552 | L6: 19.009797 | M6: 31.535897 | N6: 55.850367 | O6: 65.30211
A7: Elektriciteit | B7: Bedrijfshal algemeen (geen LISA-informatie) | C7: pand met zonPV en teruglevering | D7: 3020 | E7: 0.155 | F7: 37.170784 | G7: 11.972208 | H7: 20.688714 | I7: 40.181374 | J7: 44.105538 | K7: 54.997581 | L7: 17.943819 | M7: 31.91284 | N7: 61.430935 | O7: 64.416268
A8: Elektriciteit | B8: Bedrijfshal algemeen (geen LISA-informatie) | C8: pand zonder zonPV met andere eigen opwek | D8: 729 | E8: 0.037 | F8: 37.936054 | G8: 11.358079 | H8: 20.681561 | I8: 41.616667 | J8: 37.961606
A9: Elektriciteit | B9: Bedrijfshal algemeen (geen LISA-informatie) | C9: pand zonder zonPV zonder andere eigen opwek | D9: 15232 | E9: 0.783 | F9: 33.382555 | G9: 9.8816911 | H9: 18.083879 | I9: 36.364519 | J9: 39.125182
A10: Elektriciteit | B10: Bedrijfshal algemeen (met LISA-informatie) | C10: pand met zonPV en andere eigen opwek en teruglevering | D10: 350 | E10: 0.028 | F10: 32.269864 | G10: 13.347549 | H10: 22.979091 | I10: 36.157951 | J10: 40.236243 | K10: 89.436853 | L10: 19.924952 | M10: 33.452596 | N10: 56.151275 | O10: 77.296435
A11: Elektriciteit | B11: Bedrijfshal algemeen (met LISA-informatie) | C11: pand met zonPV en teruglevering | D11: 2843 | E11: 0.23 | F11: 41.698811 | G11: 13.78284 | H11: 24.461701 | I11: 46.846353 | J11: 45.592004 | K11: 61.439758 | L11: 21.434043 | M11: 37.531318 | N11: 68.70068 | O11: 64.498077
A12: Elektriciteit | B12: Bedrijfshal algemeen (met LISA-informatie) | C12: pand zonder zonPV met andere eigen opwek | D12: 402 | E12: 0.033 | F12: 45.27163 | G12: 14.439344 | H12: 24.54925 | I12: 51.96369 | J12: 47.933441
A13: Elektriciteit | B13: Bedrijfshal algemeen (met LISA-informatie) | C13: pand zonder zonPV zonder andere eigen opwek | D13: 8751 | E13: 0.709 | F13: 45.409693 | G13: 14.178365 | H13: 24.69145 | I13: 46.360983 | J13: 47.33436
A14: Elektriciteit | B14: Bedrijfshal met logistieke activiteiten | C14: pand met zonPV en andere eigen opwek en teruglevering | D14: 232 | E14: 0.042 | F14: 31.724691 | G14: 16.012071 | H14: 23.111689 | I14: 35.905097 | J14: 41.79344 | K14: 51.826739 | L14: 19.919127 | M14: 30.586983 | N14: 49.552193 | O14: 72.195018
A15: Elektriciteit | B15: Bedrijfshal met logistieke activiteiten | C15: pand met zonPV en teruglevering | D15: 1766 | E15: 0.316 | F15: 35.36042 | G15: 14.962642 | H15: 23.351834 | I15: 38.668722 | J15: 40.295578 | K15: 49.181691 | L15: 19.869714 | M15: 31.413839 | N15: 52.103112 | O15: 54.464142
A16: Elektriciteit | B16: Bedrijfshal met logistieke activiteiten | C16: pand zonder zonPV met andere eigen opwek | D16: 225 | E16: 0.04 | F16: 37.249158 | G16: 14.848227 | H16: 26.214932 | I16: 39.136083 | J16: 39.483293
A17: Elektriciteit | B17: Bedrijfshal met logistieke activiteiten | C17: pand zonder zonPV zonder andere eigen opwek | D17: 3362 | E17: 0.602 | F17: 37.701096 | G17: 15.016237 | H17: 24.639977 | I17: 42.402925 | J17: 37.187777
A18: Elektriciteit | B18: Bedrijfshal met maakindustrie en andere economische activiteiten | C18: pand met zonPV en andere eigen opwek en teruglevering | D18: 192 | E18: 0.039 | F18: 29.23175 | G18: 13.517556 | H18: 22.117604 | I18: 32.802298 | J18: 35.473794 | K18: 41.565613 | L18: 16.902006 | M18: 28.454931 | N18: 45.988703 | O18: 49.293497
A19: Elektriciteit | B19: Bedrijfshal met maakindustrie en andere economische activiteiten | C19: pand met zonPV en teruglevering | D19: 1478 | E19: 0.3 | F19: 36.896977 | G19: 14.668058 | H19: 24.079794 | I19: 41.949327 | J19: 45.291379 | K19: 52.501165 | L19: 20.865417 | M19: 34.773381 | N19: 63.001857 | O19: 60.587359
A20: Elektriciteit | B20: Bedrijfshal met maakindustrie en andere economische activiteiten | C20: pand zonder zonPV met andere eigen opwek | D20: 210 | E20: 0.043 | F20: 46.112614 | G20: 13.398007 | H20: 23.420533 | I20: 41.198248 | J20: 55.865119
A21: Elektriciteit | B21: Bedrijfshal met maakindustrie en andere economische activiteiten | C21: pand zonder zonPV zonder andere eigen opwek | D21: 3048 | E21: 0.619 | F21: 42.303345 | G21: 15.248171 | H21: 25.929643 | I21: 47.103526 | J21: 50.753179
A22: Elektriciteit | B22: Bedrijfshal met maakindustrie en logistieke activiteiten | C22: pand met zonPV en andere eigen opwek en teruglevering | D22: 319 | E22: 0.03 | F22: 36.977532 | G22: 12.164805 | H22: 20.418065 | I22: 38.402697 | J22: 44.417393 | K22: 138.14005 | L22: 17.902113 | M22: 31.242573 | N22: 58.942316 | O22: 71.336082
A23: Elektriciteit | B23: Bedrijfshal met maakindustrie en logistieke activiteiten | C23: pand met zonPV en teruglevering | D23: 2553 | E23: 0.243 | F23: 42.343676 | G23: 13.214156 | H23: 21.934423 | I23: 42.884228 | J23: 52.49583 | K23: 65.938967 | L23: 20.522327 | M23: 34.130381 | N23: 66.121166 | O23: 72.021998
A24: Elektriciteit | B24: Bedrijfshal met maakindustrie en logistieke activiteiten | C24: pand zonder zonPV met andere eigen opwek | D24: 305 | E24: 0.029 | F24: 45.569348 | G24: 12.650165 | H24: 23.282759 | I24: 50.02988 | J24: 41.502292
A25: Elektriciteit | B25: Bedrijfshal met maakindustrie en logistieke activiteiten | C25: pand zonder zonPV zonder andere eigen opwek | D25: 7338 | E25: 0.698 | F25: 44.197464 | G25: 14.20266 | H25: 24.094748 | I25: 43.53182 | J25: 50.671585
A26: Elektriciteit | B26: Bedrijfshal uitsluitend maakindustrie | C26: pand met zonPV en andere eigen opwek en teruglevering | D26: 606 | E26: 0.032 | F26: 37.852061 | G26: 12.954869 | H26: 22.348902 | I26: 38.340346 | J26: 48.776779 | K26: 60.130951 | L26: 18.540831 | M26: 30.603267 | N26: 51.870941 | O26: 70.46997
A27: Elektriciteit | B27: Bedrijfshal uitsluitend maakindustrie | C27: pand met zonPV en teruglevering | D27: 4696 | E27: 0.247 | F27: 46.947477 | G27: 13.969487 | H27: 24.104041 | I27: 46.228899 | J27: 69.23666 | K27: 66.95828 | L27: 21.815598 | M27: 37.562208 | N27: 71.461891 | O27: 90.468263
A28: Elektriciteit | B28: Bedrijfshal uitsluitend maakindustrie | C28: pand zonder zonPV met andere eigen opwek | D28: 684 | E28: 0.036 | F28: 51.421541 | G28: 15.651081 | H28: 29.317877 | I28: 59.181765 | J28: 63.712555
A29: Elektriciteit | B29: Bedrijfshal uitsluitend maakindustrie | C29: pand zonder zonPV zonder andere eigen opwek | D29: 13027 | E29: 0.685 | F29: 56.014233 | G29: 15.317483 | H29: 27.992857 | I29: 55.977848 | J29: 95.762604
A30: Elektriciteit | B30: Bedrijfswoning | C30: pand met zonPV en andere eigen opwek en teruglevering | D30: 4667 | E30: 0.071 | F30: 84.770273 | G30: 18.980232 | H30: 39.128205 | I30: 104.79793 | J30: 55.923055 | K30: 179.44062 | L30: 26.52269 | M30: 54.672956 | N30: 144.8164 | O30: 114.54035
A31: Elektriciteit | B31: Bedrijfswoning | C31: pand met zonPV en teruglevering | D31: 25081 | E31: 0.382 | F31: 64.865724 | G31: 15.468421 | H31: 28.408 | I31: 63.50165 | J31: 48.857893 | K31: 101.20728 | L31: 22.578571 | M31: 41.236422 | N31: 94.057143 | O31: 75.132856
A32: Elektriciteit | B32: Bedrijfswoning | C32: pand zonder zonPV met andere eigen opwek | D32: 1817 | E32: 0.028 | F32: 85.614281 | G32: 19.541463 | H32: 37.04142 | I32: 99.327957 | J32: 59.307362
A33: Elektriciteit | B33: Bedrijfswoning | C33: pand zonder zonPV zonder andere eigen opwek | D33: 34029 | E33: 0.519 | F33: 50.737097 | G33: 13.705357 | H33: 23.781513 | I33: 47.729927 | J33: 42.104837
A34: Elektriciteit | B34: Bijeenkomstgebouw (niet nader ingedeeld) | C34: pand met zonPV en andere eigen opwek en teruglevering | D34: 152 | E34: 0.017 | F34: 35.847674 | G34: 11.561175 | H34: 22.989855 | I34: 40.110246 | J34: 26.773763 | K34: 66.190482 | L34: 18.671654 | M34: 32.089904 | N34: 57.995174 | O34: 42.689158
A35: Elektriciteit | B35: Bijeenkomstgebouw (niet nader ingedeeld) | C35: pand met zonPV en teruglevering | D35: 1778 | E35: 0.194 | F35: 39.488546 | G35: 12.946898 | H35: 23.097252 | I35: 46.556503 | J35: 39.613087 | K35: 55.336409 | L35: 19.164275 | M35: 34.512721 | N35: 65.02921 | O35: 53.841542
A36: Elektriciteit | B36: Bijeenkomstgebouw (niet nader ingedeeld) | C36: pand zonder zonPV met andere eigen opwek | D36: 231 | E36: 0.025 | F36: 47.405534 | G36: 13.835459 | H36: 27.039344 | I36: 61.500892 | J36: 44.957291
A37: Elektriciteit | B37: Bijeenkomstgebouw (niet nader ingedeeld) | C37: pand zonder zonPV zonder andere eigen opwek | D37: 6992 | E37: 0.764 | F37: 47.105756 | G37: 12.712756 | H37: 24.681981 | I37: 53.677403 | J37: 51.015688
A38: Elektriciteit | B38: Campusgebouw | C38: pand met zonPV en teruglevering | D38: 32 | E38: 0.281 | F38: 104.36776 | H38: 72.862445 | J38: 63.132518 | K38: 117.99094 | M38: 78.664483 | O38: 69.423525
A39: Elektriciteit | B39: Campusgebouw | C39: pand zonder zonPV met andere eigen opwek | D39: 10 | E39: 0.088 | F39: 160.76356 | J39: 154.10647
A40: Elektriciteit | B40: Campusgebouw | C40: pand zonder zonPV zonder andere eigen opwek | D40: 72 | E40: 0.632 | F40: 89.992468 | G40: 35.08061 | H40: 57.882688 | I40: 105.27775 | J40: 80.351022
A41: Elektriciteit | B41: Cultuurhuis | C41: pand met zonPV en andere eigen opwek en teruglevering | D41: 13 | E41: 0.023 | F41: 39.406387 | J41: 32.414861 | K41: 47.947915 | O41: 39.184328
A42: Elektriciteit | B42: Cultuurhuis | C42: pand met zonPV en teruglevering | D42: 108 | E42: 0.189 | F42: 52.652976 | G42: 21.461541 | H42: 36.364538 | I42: 75.781715 | J42: 53.285764 | K42: 65.848966 | L42: 28.807802 | M42: 50.117687 | N42: 86.836181 | O42: 61.048657
A43: Elektriciteit | B43: Cultuurhuis | C43: pand zonder zonPV met andere eigen opwek | D43: 10 | E43: 0.018 | F43: 41.282475 | J43: 31.075583
A44: Elektriciteit | B44: Cultuurhuis | C44: pand zonder zonPV zonder andere eigen opwek | D44: 439 | E44: 0.77 | F44: 57.506205 | G44: 24.244318 | H44: 43.76985 | I44: 77.911203 | J44: 57.861419
A45: Elektriciteit | B45: Gebedshuis | C45: pand met zonPV en andere eigen opwek en teruglevering | D45: 52 | E45: 0.015 | F45: 18.707645 | G45: 9.2820247 | H45: 15.726715 | I45: 23.38933 | J45: 16.475933 | K45: 24.557672 | L45: 14.915495 | M45: 19.710005 | N45: 32.946591 | O45: 21.521938
A46: Elektriciteit | B46: Gebedshuis | C46: pand met zonPV en teruglevering | D46: 728 | E46: 0.21 | F46: 15.982078 | G46: 8.75227 | H46: 12.519569 | I46: 20.438918 | J46: 18.372784 | K46: 22.631933 | L46: 12.332098 | M46: 18.009876 | N46: 29.473821 | O46: 24.404705
A47: Elektriciteit | B47: Gebedshuis | C47: pand zonder zonPV met andere eigen opwek | D47: 88 | E47: 0.025 | F47: 15.017356 | G47: 8.2914147 | H47: 12.262771 | I47: 19.395639 | J47: 17.624875
A48: Elektriciteit | B48: Gebedshuis | C48: pand zonder zonPV zonder andere eigen opwek | D48: 2600 | E48: 0.75 | F48: 14.734135 | G48: 8.2186784 | H48: 11.918027 | I48: 18.33689 | J48: 15.352848
A49: Elektriciteit | B49: Gebouw in landelijk gebied voor industrie (geen landbouwactiviteiten geregistreerd) | C49: pand met zonPV en andere eigen opwek en teruglevering | D49: 263 | E49: 0.055 | F49: 41.690445 | G49: 13.853231 | H49: 23.819328 | I49: 44.773681 | J49: 31.957938 | K49: 171.98024 | L49: 20.584088 | M49: 35.518866 | N49: 73.552256 | O49: 108.95632
A50: Elektriciteit | B50: Gebouw in landelijk gebied voor industrie (geen landbouwactiviteiten geregistreerd) | C50: pand met zonPV en teruglevering | D50: 1423 | E50: 0.297 | F50: 47.060795 | G50: 13.629859 | H50: 26.585308 | I50: 56.540447 | J50: 49.746628 | K50: 77.225781 | L50: 21.089588 | M50: 40.675781 | N50: 84.852569 | O50: 74.12782
A51: Elektriciteit | B51: Gebouw in landelijk gebied voor industrie (geen landbouwactiviteiten geregistreerd) | C51: pand zonder zonPV met andere eigen opwek | D51: 192 | E51: 0.04 | F51: 53.41713 | G51: 15.042872 | H51: 28.773692 | I51: 59.23483 | J51: 61.107057
A52: Elektriciteit | B52: Gebouw in landelijk gebied voor industrie (geen landbouwactiviteiten geregistreerd) | C52: pand zonder zonPV zonder andere eigen opwek | D52: 2907 | E52: 0.608 | F52: 42.957643 | G52: 11.317877 | H52: 21.884783 | I52: 47.623635 | J52: 45.455118
A53: Elektriciteit | B53: Gebouw in stedelijk gebied met industriefunctie | C53: pand met zonPV en andere eigen opwek en teruglevering | D53: 301 | E53: 0.023 | F53: 37.812277 | G53: 12.710997 | H53: 21.906818 | I53: 37.712 | J53: 43.6058 | K53: 49.657245 | L53: 19.057186 | M53: 30.481881 | N53: 49.276318 | O53: 54.321039
A54: Elektriciteit | B54: Gebouw in stedelijk gebied met industriefunctie | C54: pand met zonPV en teruglevering | D54: 2579 | E54: 0.197 | F54: 45.981219 | G54: 13.271382 | H54: 23.596491 | I54: 48.092697 | J54: 53.046229 | K54: 65.632779 | L54: 20.685772 | M54: 36.158073 | N54: 69.653559 | O54: 68.403066
A55: Elektriciteit | B55: Gebouw in stedelijk gebied met industriefunctie | C55: pand zonder zonPV met andere eigen opwek | D55: 366 | E55: 0.028 | F55: 57.707478 | G55: 15.506667 | H55: 29.567556 | I55: 60.027703 | J55: 68.265428
A56: Elektriciteit | B56: Gebouw in stedelijk gebied met industriefunctie | C56: pand zonder zonPV zonder andere eigen opwek | D56: 9823 | E56: 0.752 | F56: 52.490374 | G56: 12.254412 | H56: 23.970684 | I56: 51.958676 | J56: 54.504348
A57: Elektriciteit | B57: Gebouw op vakantiepark | C57: pand met zonPV en andere eigen opwek en teruglevering | D57: 888 | E57: 0.023 | F57: 35.734083 | G57: 12.211161 | H57: 22.053369 | I57: 46.298743 | J57: 41.097958 | K57: 46.975825 | L57: 20.578085 | M57: 32.187267 | N57: 56.633816 | O57: 52.097657
A58: Elektriciteit | B58: Gebouw op vakantiepark | C58: pand met zonPV en teruglevering | D58: 6209 | E58: 0.164 | F58: 34.243129 | G58: 12.942529 | H58: 21.627451 | I58: 42.028986 | J58: 42.358223 | K58: 51.266997 | L58: 19.533333 | M58: 33.869159 | N58: 64.095238 | O58: 60.487179
A59: Elektriciteit | B59: Gebouw op vakantiepark | C59: pand zonder zonPV met andere eigen opwek | D59: 1268 | E59: 0.033 | F59: 34.120279 | G59: 12.250725 | H59: 21.626166 | I59: 46.269643 | J59: 35.702988
A60: Elektriciteit | B60: Gebouw op vakantiepark | C60: pand zonder zonPV zonder andere eigen opwek | D60: 29610 | E60: 0.78 | F60: 22.908641 | G60: 10.768623 | H60: 15.907179 | I60: 24.855587 | J60: 27.260698
A61: Elektriciteit | B61: Gebouw voor landbouwactiviteiten | C61: pand met zonPV en andere eigen opwek en teruglevering | D61: 183 | E61: 0.077 | F61: 132.2053 | G61: 21.530727 | H61: 50.136453 | I61: 190.04419 | J61: 91.601231 | K61: 180.02794 | L61: 33.810643 | M61: 72.123677 | N61: 230.655 | O61: 115.25403
A62: Elektriciteit | B62: Gebouw voor landbouwactiviteiten | C62: pand met zonPV en teruglevering | D62: 857 | E62: 0.359 | F62: 93.488177 | G62: 20.241031 | H62: 43.342525 | I62: 100.98374 | J62: 72.220417 | K62: 141.90804 | L62: 30.782609 | M62: 64.233846 | N62: 155.01818 | O62: 99.64121
A63: Elektriciteit | B63: Gebouw voor landbouwactiviteiten | C63: pand zonder zonPV met andere eigen opwek | D63: 226 | E63: 0.095 | F63: 215.2137 | G63: 39.747949 | H63: 158.12598 | I63: 320.84766 | J63: 135.94969
A64: Elektriciteit | B64: Gebouw voor landbouwactiviteiten | C64: pand zonder zonPV zonder andere eigen opwek | D64: 1122 | E64: 0.47 | F64: 89.130747 | G64: 17.167763 | H64: 37.62732 | I64: 100.27929 | J64: 62.58559
A65: Elektriciteit | B65: Groothandel op bedrijventerrein | C65: pand met zonPV en andere eigen opwek en teruglevering | D65: 16 | E65: 0.028 | F65: 21.13642 | J65: 21.479676 | K65: 26.295563 | O65: 25.715607
A66: Elektriciteit | B66: Groothandel op bedrijventerrein | C66: pand met zonPV en teruglevering | D66: 188 | E66: 0.324 | F66: 28.621763 | G66: 15.037794 | H66: 23.104323 | I66: 34.228542 | J66: 26.112113 | K66: 36.819801 | L66: 19.193928 | M66: 28.904068 | N66: 44.590965 | O66: 32.918488
A67: Elektriciteit | B67: Groothandel op bedrijventerrein | C67: pand zonder zonPV met andere eigen opwek | D67: 17 | E67: 0.029 | F67: 34.00505 | J67: 24.931335
A68: Elektriciteit | B68: Groothandel op bedrijventerrein | C68: pand zonder zonPV zonder andere eigen opwek | D68: 360 | E68: 0.62 | F68: 27.199545 | G68: 14.259802 | H68: 21.728311 | I68: 33.392837 | J68: 26.257092
A69: Elektriciteit | B69: Hotel (of ander groot logiesgebouw) | C69: pand met zonPV en andere eigen opwek en teruglevering | D69: 46 | E69: 0.018 | F69: 45.460018 | G69: 18.610139 | H69: 31.382257 | I69: 74.94894 | J69: 76.471195 | K69: 55.329183 | L69: 21.236271 | M69: 36.863625 | N69: 80.884701 | O69: 82.501364
A70: Elektriciteit | B70: Hotel (of ander groot logiesgebouw) | C70: pand met zonPV en teruglevering | D70: 405 | E70: 0.162 | F70: 58.934207 | G70: 21.702013 | H70: 43.28489 | I70: 78.103893 | J70: 76.066063 | K70: 73.346857 | L70: 32.078049 | M70: 57.046834 | N70: 97.416652 | O70: 85.366961
A71: Elektriciteit | B71: Hotel (of ander groot logiesgebouw) | C71: pand zonder zonPV met andere eigen opwek | D71: 88 | E71: 0.035 | F71: 68.894315 | G71: 24.034316 | H71: 58.649364 | I71: 99.164141 | J71: 73.21005
A72: Elektriciteit | B72: Hotel (of ander groot logiesgebouw) | C72: pand zonder zonPV zonder andere eigen opwek | D72: 1960 | E72: 0.784 | F72: 69.536354 | G72: 26.56593 | H72: 55.167253 | I72: 102.2454 | J72: 75.754453
A73: Elektriciteit | B73: Kantoorpand algemeen | C73: pand met zonPV en andere eigen opwek en teruglevering | D73: 288 | E73: 0.014 | F73: 40.025519 | G73: 16.139171 | H73: 27.265772 | I73: 49.29034 | J73: 46.127087 | K73: 146.81292 | L73: 21.514355 | M73: 37.906901 | N73: 63.267952 | O73: 94.422208
A74: Elektriciteit | B74: Kantoorpand algemeen | C74: pand met zonPV en teruglevering | D74: 4396 | E74: 0.215 | F74: 43.425934 | G74: 19.393576 | H74: 33.003347 | I74: 56.087448 | J74: 49.600505 | K74: 65.953847 | L74: 29.552304 | M74: 47.926802 | N74: 76.750671 | O74: 63.281012
A75: Elektriciteit | B75: Kantoorpand algemeen | C75: pand zonder zonPV met andere eigen opwek | D75: 586 | E75: 0.029 | F75: 50.744384 | G75: 22.96906 | H75: 38.40954 | I75: 66.713981 | J75: 58.054925
A76: Elektriciteit | B76: Kantoorpand algemeen | C76: pand zonder zonPV zonder andere eigen opwek | D76: 15201 | E76: 0.743 | F76: 45.665113 | G76: 19.513393 | H76: 34.675258 | I76: 59.601173 | J76: 53.77625
A77: Elektriciteit | B77: Kinderopvang (gebouw) | C77: pand met zonPV en andere eigen opwek en teruglevering | D77: 22 | E77: 0.014 | F77: 30.657757 | H77: 26.046357 | J77: 29.381981 | K77: 38.736512 | M77: 33.957017 | O77: 35.868073
A78: Elektriciteit | B78: Kinderopvang (gebouw) | C78: pand met zonPV en teruglevering | D78: 253 | E78: 0.166 | F78: 29.546459 | G78: 15.740702 | H78: 23.761598 | I78: 34.92278 | J78: 29.584499 | K78: 42.479273 | L78: 23.550891 | M78: 34.533396 | N78: 51.301248 | O78: 40.282565
A79: Elektriciteit | B79: Kinderopvang (gebouw) | C79: pand zonder zonPV met andere eigen opwek | D79: 41 | E79: 0.027 | F79: 27.030092 | G79: 14.325623 | H79: 21.460352 | I79: 33.935223 | J79: 24.74367
A80: Elektriciteit | B80: Kinderopvang (gebouw) | C80: pand zonder zonPV zonder andere eigen opwek | D80: 1212 | E80: 0.793 | F80: 32.464557 | G80: 20.732583 | H80: 28.780748 | I80: 38.875559 | J80: 31.547445
A81: Elektriciteit | B81: Meergezinswoning met andere functie of combinatie van functies | C81: pand met zonPV en andere eigen opwek en teruglevering | D81: 400 | E81: 0.023 | F81: 45.153765 | G81: 18.605825 | H81: 30.035839 | I81: 55.067515 | J81: 43.590706 | K81: 56.909617 | L81: 22.825411 | M81: 36.993316 | N81: 64.979559 | O81: 52.643601
A82: Elektriciteit | B82: Meergezinswoning met andere functie of combinatie van functies | C82: pand met zonPV en teruglevering | D82: 3176 | E82: 0.181 | F82: 35.804242 | G82: 15.584336 | H82: 24.0264 | I82: 40.663355 | J82: 36.24793 | K82: 48.359843 | L82: 20.715087 | M82: 31.706073 | N82: 53.443971 | O82: 45.736649
A83: Elektriciteit | B83: Meergezinswoning met andere functie of combinatie van functies | C83: pand zonder zonPV met andere eigen opwek | D83: 482 | E83: 0.027 | F83: 40.048318 | G83: 18.378099 | H83: 27.368073 | I83: 45.794255 | J83: 38.023295
A84: Elektriciteit | B84: Meergezinswoning met andere functie of combinatie van functies | C84: pand zonder zonPV zonder andere eigen opwek | D84: 13532 | E84: 0.769 | F84: 33.979101 | G84: 16.510533 | H84: 24.262109 | I84: 37.598783 | J84: 36.002464
A85: Elektriciteit | B85: Meergezinswoning met winkel | C85: pand met zonPV en andere eigen opwek en teruglevering | D85: 159 | E85: 0.007 | F85: 37.843989 | G85: 15.569725 | H85: 25.885993 | I85: 40.307442 | J85: 40.037197 | K85: 42.447383 | L85: 20.218581 | M85: 28.788361 | N85: 45.874576 | O85: 43.695026
A86: Elektriciteit | B86: Meergezinswoning met winkel | C86: pand met zonPV en teruglevering | D86: 2029 | E86: 0.092 | F86: 41.519966 | G86: 19.1825 | H86: 29.758089 | I86: 47.242744 | J86: 47.000052 | K86: 49.722863 | L86: 24.97561 | M86: 37.015152 | N86: 58.572674 | O86: 53.806567
A87: Elektriciteit | B87: Meergezinswoning met winkel | C87: pand zonder zonPV met andere eigen opwek | D87: 541 | E87: 0.024 | F87: 46.586238 | G87: 22.615616 | H87: 34.29987 | I87: 54.525157 | J87: 49.35574
A88: Elektriciteit | B88: Meergezinswoning met winkel | C88: pand zonder zonPV zonder andere eigen opwek | D88: 19372 | E88: 0.877 | F88: 45.051497 | G88: 20.572451 | H88: 32.218934 | I88: 54.618653 | J88: 46.104059
A89: Elektriciteit | B89: Meergezinswoning met winkels en horeca | C89: pand met zonPV en andere eigen opwek en teruglevering | D89: 36 | E89: 0.014 | F89: 44.512062 | H89: 30.609605 | J89: 49.016028 | K89: 48.18409 | M89: 36.986504 | O89: 52.486158
A90: Elektriciteit | B90: Meergezinswoning met winkels en horeca | C90: pand met zonPV en teruglevering | D90: 392 | E90: 0.154 | F90: 45.654065 | G90: 21.267667 | H90: 33.902978 | I90: 59.209734 | J90: 48.785857 | K90: 52.335651 | L90: 26.532691 | M90: 41.182047 | N90: 67.64645 | O90: 54.226004
A91: Elektriciteit | B91: Meergezinswoning met winkels en horeca | C91: pand zonder zonPV met andere eigen opwek | D91: 80 | E91: 0.031 | F91: 55.246541 | G91: 26.722322 | H91: 43.363258 | I91: 68.309282 | J91: 63.373941
A92: Elektriciteit | B92: Meergezinswoning met winkels en horeca | C92: pand zonder zonPV zonder andere eigen opwek | D92: 2043 | E92: 0.801 | F92: 53.467953 | G92: 24.293408 | H92: 38.533881 | I92: 71.151952 | J92: 53.306932
A93: Elektriciteit | B93: Meergezinswoning met woonzorgeenheden | C93: pand met zonPV en andere eigen opwek en teruglevering | D93: 10 | E93: 0.034 | F93: 31.692481 | J93: 32.152236 | K93: 35.640116 | O93: 35.830577
A94: Elektriciteit | B94: Meergezinswoning met woonzorgeenheden | C94: pand met zonPV en teruglevering | D94: 81 | E94: 0.274 | F94: 30.945022 | G94: 18.708197 | H94: 26.988235 | I94: 38.79941 | J94: 36.705374 | K94: 40.959723 | L94: 23.208226 | M94: 37.024779 | N94: 50.017442 | O94: 48.298403
A95: Elektriciteit | B95: Meergezinswoning met woonzorgeenheden | C95: pand zonder zonPV met andere eigen opwek | D95: 12 | E95: 0.041 | F95: 40.418112 | J95: 42.164168
A96: Elektriciteit | B96: Meergezinswoning met woonzorgeenheden | C96: pand zonder zonPV zonder andere eigen opwek | D96: 193 | E96: 0.652 | F96: 29.969378 | G96: 18.079625 | H96: 28.347619 | I96: 39.531073 | J96: 31.185852
A97: Elektriciteit | B97: Middelbare school | C97: pand met zonPV en andere eigen opwek en teruglevering | D97: 23 | E97: 0.021 | F97: 43.685481 | H97: 39.109873 | J97: 38.513488 | K97: 48.772976 | M97: 46.290837 | O97: 42.513061
A98: Elektriciteit | B98: Middelbare school | C98: pand met zonPV en teruglevering | D98: 451 | E98: 0.409 | F98: 33.781127 | G98: 19.343629 | H98: 28.668156 | I98: 41.931889 | J98: 30.647863 | K98: 43.734003 | L98: 26.887273 | M98: 37.959933 | N98: 51.949472 | O98: 38.894751
A99: Elektriciteit | B99: Middelbare school | C99: pand zonder zonPV met andere eigen opwek | D99: 53 | E99: 0.048 | F99: 36.519298 | G99: 22.701054 | H99: 31.57068 | I99: 42.505227 | J99: 35.819518
A100: Elektriciteit | B100: Middelbare school | C100: pand zonder zonPV zonder andere eigen opwek | D100: 575 | E100: 0.522 | F100: 35.968602 | G100: 23.480414 | H100: 30.009132 | I100: 42.73182 | J100: 33.682603
...

Sheet zonnestroom_kentallen_2023
A1: Energiedrager | B1: Gebouwtype | C1: Aantal panden | D1: Aantal panden met zonnestroomproductie | E1: Aandeel panden met zonnestroomproductie | F1: Gemiddelde zonnestroomproductie kental (kWh/m2) | G1: Gewogen gemiddelde zonnestroomproductie kental (kWh/m2)
A2: Elektriciteit | B2: Asielzoekerscentrum | C2: 72
A3: Elektriciteit | B3: Basisschool | C3: 4847 | D3: 1795 | E3: 0.37 | F3: 6.3246112 | G3: 5.8356285
A4: Elektriciteit | B4: Bedrijfshal algemeen (geen LISA-informatie) | C4: 19457 | D4: 3496 | E4: 0.18 | F4: 8.9327734 | G4: 12.677894
A5: Elektriciteit | B5: Bedrijfshal algemeen (met LISA-informatie) | C5: 12346 | D5: 3193 | E5: 0.259 | F5: 13.272028 | G5: 14.54837
A6: Elektriciteit | B6: Bedrijfshal met logistieke activiteiten | C6: 5585 | D6: 1998 | E6: 0.358 | F6: 11.553851 | G6: 14.213513
A7: Elektriciteit | B7: Bedrijfshal met maakindustrie en andere economische activiteiten | C7: 4928 | D7: 1670 | E7: 0.339 | F7: 10.8246 | G7: 11.187284
A8: Elektriciteit | B8: Bedrijfshal met maakindustrie en logistieke activiteiten | C8: 10515 | D8: 2872 | E8: 0.273 | F8: 20.103809 | G8: 14.814943
A9: Elektriciteit | B9: Bedrijfshal uitsluitend maakindustrie | C9: 19013 | D9: 5302 | E9: 0.279 | F9: 12.265533 | G9: 12.286387
A10: Elektriciteit | B10: Bedrijfswoning | C10: 65594 | D10: 29748 | E10: 0.454 | F10: 60.588977 | G10: 44.467042
A11: Elektriciteit | B11: Bijeenkomstgebouw (niet nader ingedeeld) | C11: 9153 | D11: 1930 | E11: 0.211 | F11: 6.9986152 | G11: 5.5464684
A12: Elektriciteit | B12: Campusgebouw | C12: 114 | D12: 32 | E12: 0.281 | F12: 4.6605621 | G12: 3.4873289
A13: Elektriciteit | B13: Cultuurhuis | C13: 570 | D13: 121 | E13: 0.212 | F13: 4.0959473 | G13: 2.667289
A14: Elektriciteit | B14: Datacenter | C14: 80 | D14: 17 | E14: 0.212 | F14: 8.4163424 | G14: 4.2790721
A15: Elektriciteit | B15: Gebedshuis | C15: 3468 | D15: 780 | E15: 0.225 | F15: 3.3732827 | G15: 3.4816523
A16: Elektriciteit | B16: Gebouw bij militaire inrichting | C16: 13
A17: Elektriciteit | B17: Gebouw bij spooremplacement | C17: 69
A18: Elektriciteit | B18: Gebouw bij vliegveld of luchthaven | C18: 129 | D18: 30 | E18: 0.233
A19: Elektriciteit | B19: Gebouw in landelijk gebied voor industrie (geen landbouwactiviteiten geregistreerd) | C19: 4785 | D19: 1686 | E19: 0.352 | F19: 64.179227 | G19: 33.866317
A20: Elektriciteit | B20: Gebouw in stedelijk gebied met industriefunctie | C20: 13069 | D20: 2880 | E20: 0.22 | F20: 8.8404813 | G20: 7.8429921
A21: Elektriciteit | B21: Gebouw op snelwegverzorgingsplaats | C21: 144 | D21: 19 | E21: 0.132
A22: Elektriciteit | B22: Gebouw op vakantiepark | C22: 37975 | D22: 7097 | E22: 0.187 | F22: 7.2909484 | G22: 9.8309037
A23: Elektriciteit | B23: Gebouw voor landbouwactiviteiten | C23: 2388 | D23: 1040 | E23: 0.436 | F23: 52.819568 | G23: 26.169716
A24: Elektriciteit | B24: Groothandel op bedrijventerrein | C24: 581 | D24: 204 | E24: 0.351 | F24: 6.5143782 | G24: 5.9090079
A25: Elektriciteit | B25: Hotel (of ander groot logiesgebouw) | C25: 2499 | D25: 451 | E25: 0.18 | F25: 4.4158416 | G25: 2.040819
A26: Elektriciteit | B26: IJsbaan | C26: 100 | D26: 24 | E26: 0.24 | F26: 9.0295625 | G26: 4.3554925
A27: Elektriciteit | B27: Kantoorpand algemeen | C27: 20471 | D27: 4684 | E27: 0.229 | F27: 11.627473 | G27: 5.8961405
A28: Elektriciteit | B28: Kinderopvang (gebouw) | C28: 1528 | D28: 275 | E28: 0.18 | F28: 4.8684019 | G28: 4.5096775
A29: Elektriciteit | B29: Koelhuis | C29: 93 | D29: 35 | E29: 0.376 | F29: 19.814526 | G29: 25.207577
A30: Elektriciteit | B30: MBO-gebouw | C30: 16
A31: Elektriciteit | B31: Meergezinswoning met andere functie of combinatie van functies | C31: 17590 | D31: 3576 | E31: 0.203 | F31: 6.7525301 | G31: 5.571606
A32: Elektriciteit | B32: Meergezinswoning met cafe of restaurant | C32: 6227
A33: Elektriciteit | B33: Meergezinswoning met winkel | C33: 22101
A34: Elektriciteit | B34: Meergezinswoning met winkels en horeca | C34: 2551 | D34: 428 | E34: 0.168 | F34: 2.0255163 | G34: 1.9486205
A35: Elektriciteit | B35: Meergezinswoning met woonzorgeenheden | C35: 296 | D35: 91 | E35: 0.307 | F35: 6.6674547 | G35: 7.3881167
A36: Elektriciteit | B36: Middelbare school | C36: 1102 | D36: 474 | E36: 0.43 | F36: 6.6355008 | G36: 6.1407087
A37: Elektriciteit | B37: Nutsgebouw (elektriciteit) | C37: 122 | D37: 15 | E37: 0.123
A38: Elektriciteit | B38: Nutsgebouw (water) | C38: 62 | D38: 14 | E38: 0.226
A39: Elektriciteit | B39: Overig gebouw met maatschappelijke functie | C39: 1182 | D39: 119 | E39: 0.101 | F39: 3.5859406 | G39: 4.1623005
A40: Elektriciteit | B40: Overig gebouw met recreatiefunctie | C40: 76 | D40: 20 | E40: 0.263 | F40: 15.737203 | G40: 9.8597069
A41: Elektriciteit | B41: Overig onderwijsgebouw | C41: 3094 | D41: 553 | E41: 0.179 | F41: 3.741842 | G41: 3.3206344
A42: Elektriciteit | B42: Overig overheidsgebouw | C42: 819 | D42: 232 | E42: 0.283 | F42: 4.9762818 | G42: 2.7592176
A43: Elektriciteit | B43: Overig sportgebouw | C43: 7312 | D43: 2639 | E43: 0.361 | F43: 26.340126 | G43: 15.030076
A44: Elektriciteit | B44: Overig zorggebouw | C44: 3420 | D44: 940 | E44: 0.275 | F44: 8.5417845 | G44: 5.7623804
A45: Elektriciteit | B45: Overige utiliteitsbouw | C45: 3853 | D45: 651 | E45: 0.169
A46: Elektriciteit | B46: Pand met winkel en kantoor- en/of bijeenkomstfunctie | C46: 1453 | D46: 204 | E46: 0.14 | F46: 3.6889442 | G46: 3.8109326
A47: Elektriciteit | B47: Penitentiaire inrichting | C47: 25
A48: Elektriciteit | B48: Praktijk- of zorgwoning | C48: 5023 | D48: 2215 | E48: 0.441 | F48: 10.192266 | G48: 8.572508
A49: Elektriciteit | B49: Productie-installatie | C49: 105 | D49: 14 | E49: 0.133
A50: Elektriciteit | B50: Restaurant of cafégebouw | C50: 3837
A51: Elektriciteit | B51: School voor speciaal onderwijs | C51: 516 | D51: 149 | E51: 0.289 | F51: 5.1725651 | G51: 5.0984721
A52: Elektriciteit | B52: Schoolverzamelgebouw | C52: 103 | D52: 36 | E52: 0.35 | F52: 6.8266166 | G52: 5.2157175
A53: Elektriciteit | B53: Tuincentrum | C53: 449 | D53: 147 | E53: 0.327 | F53: 13.151171 | G53: 7.9583812
A54: Elektriciteit | B54: Vakantiewoning buiten vakantiepark | C54: 5618 | D54: 1081 | E54: 0.192 | F54: 8.4330816 | G54: 8.2288629
A55: Elektriciteit | B55: Winkelpand | C55: 20862 | D55: 2707 | E55: 0.13 | F55: 7.2493896 | G55: 7.8203839
A56: Elektriciteit | B56: Woning met andere functie of combinatie van functies | C56: 14010 | D56: 5297 | E56: 0.378 | F56: 12.274746 | G56: 8.8576507
A57: Elektriciteit | B57: Woning met cafe of restaurant | C57: 10728 | D57: 1635 | E57: 0.152 | F57: 4.6651899 | G57: 4.5516093
A58: Elektriciteit | B58: Woning met winkel | C58: 31125 | D58: 6697 | E58: 0.215 | F58: 5.1177525 | G58: 4.7594551
A59: Elektriciteit | B59: Wooncomplex met andere functie of combinatie van functies | C59: 9753 | D59: 2492 | E59: 0.256 | F59: 2.2255366 | G59: 1.6858498
A60: Elektriciteit | B60: Wooncomplex met winkels en/of horeca | C60: 4538 | D60: 991 | E60: 0.218 | F60: 2.0207411 | G60: 1.8146934
A61: Elektriciteit | B61: Woonzorgcomplex | C61: 1631 | D61: 444 | E61: 0.272 | F61: 6.3146 | G61: 3.9597693
A62: Elektriciteit | B62: Ziekenhuis | C62: 114 | D62: 24 | E62: 0.211
A63: Elektriciteit | B63: Zorg met bed | C63: 420 | D63: 96 | E63: 0.229 | F63: 7.3010706 | G63: 5.0978848
A64: Elektriciteit | B64: Zorginstelling | C64: 175 | D64: 44 | E64: 0.251 | F64: 11.389925 | G64: 17.138918
A65: Elektriciteit | B65: Zorgpraktijk | C65: 2446 | D65: 742 | E65: 0.303 | F65: 10.608603 | G65: 8.5787535
A66: Elektriciteit | B66: Zwembad | C66: 487 | D66: 160 | E66: 0.329 | F66: 20.66797 | G66: 9.8258021

Sheet populatie_overzicht_2023
A1: Welk tabblad? | B1: elek_kental_totaal_ | C1: elek_kental_bouwj_ | D1: elek_kental_opp_ | E1: elek_kental_subsets_ | F1: elek_kental_diensten_ | G1: zonnestroom_kentallen_totaal_ | H1: gas_kental_totaal_ | I1: gas_kental_bouwj_ | J1: gas_kental_opp_ | K1: gas_kental_diensten_
A3: Aantal unieke gebouwtype categorieën in het betreffende tab | B3: =COUNTIF(B14:B98,">0") -> 65 | C3: =COUNTIF(C14:C98,">0") -> 58 | D3: =COUNTIF(D14:D98,">0") -> 58 | E3: =COUNTIF(E14:E98,">0") -> 42 | F3: =COUNTIF(F14:F98,">0") -> 61 | G3: =COUNTIF(G14:G98,">0") -> 65 | H3: =COUNTIF(H14:H98,">0") -> 65 | I3: =COUNTIF(I14:I98,">0") -> 58 | ... K3: =COUNTIF(K14:K98,">0") -> 61
A4: Totaal aantal panden in populatie in het betreffende tab | B4: =SUM(B16:B80) -> 422827 | C4: =SUM(C16:C80) -> 422355 | D4: =SUM(D16:D80) -> 422355 | E4: =SUM(E16:E80) -> 408328 | F4: =SUM(F16:F80) -> 207106 | G4: =SUM(G16:G80) -> 422827 | H4: =SUM(H16:H80) -> 401753 | I4: =SUM(I16:I80) -> 401470 | ... K4: =SUM(K16:K80) -> 198206
A6: Missende categorieën t.o.v. tab ‘totaal’? | B6: Totaal aantal categorieën | C6: 7 categorieën verwijderd | D6: 7 categorieën verwijderd | E6: 23 categorieën verwijderd | F6: 4 categorieën verwijderd | G6: Totaal aantal categorieën | H6: Totaal aantal categorieën | I6: 7 categorieën verwijderd | J6: 7 categorieën verwijderd | K6: 4 categorieën verwijderd
C7: Asielzoekerscentrum | D7: Asielzoekerscentrum | F7: Gebouw bij militaire inrichting | I7: Asielzoekerscentrum | J7: Asielzoekerscentrum | K7: Gebouw bij militaire inrichting
C8: Datacenter | D8: Datacenter | F8: MBO-gebouw | I8: Datacenter | J8: Datacenter | K8: MBO-gebouw
C9: Gebouw bij militaire inrichting | D9: Gebouw bij militaire inrichting | F9: Nutsgebouw (elektriciteit) | I9: Gebouw bij militaire inrichting | J9: Gebouw bij militaire inrichting | K9: Nutsgebouw (elektriciteit)
C10: Gebouw op snelwegverzorgingsplaats | D10: Gebouw op snelwegverzorgingsplaats | F10: Productie-installatie | I10: Gebouw op snelwegverzorgingsplaats | J10: Gebouw op snelwegverzorgingsplaats | K10: Productie-installatie
C11: MBO-gebouw | D11: MBO-gebouw | I11: MBO-gebouw | J11: MBO-gebouw
C12: Penitentiaire inrichting | D12: Penitentiaire inrichting | I12: Penitentiaire inrichting | J12: Penitentiaire inrichting
C13: Nutsgebouw (elektriciteit) | D13: Nutsgebouw (elektriciteit) | I13: Nutsgebouw (elektriciteit) | J13: Nutsgebouw (elektriciteit)
A15: gebouwtype_keuze | B15: Aantal panden in tab elek_kental_totaal_ | C15: Aantal panden in tab elek_kental_bouwj_ | D15: Aantal panden in tab elek_kental_opp_ | E15: Aantal panden in tab elek_kental_subsets_ | F15: Aantal panden in tab elek_kental_diensten_ | G15: Aantal panden in tab zonnestroom_kentallen_totaal_ | H15: Aantal panden in tab gas_kental_totaal_ | I15: Aantal panden in tab gas_kental_bouwj_ | J15: Aantal panden in tab gas_kental_opp_ | K15: Aantal panden in tab gas_kental_diensten_
A16: Asielzoekerscentrum | B16: =IF(SUMIF(elek_kental_2023!$B$2:$B$10000,A16,elek_kental_2023!$C$2:$C$10000)>0,SUMIF(elek_kental_2023!$B$2:$B$10000,A16,elek_kental_2023!$C$2:$C$10000),"") -> 72 | C16: =IF(SUMIF(elek_kental_bouwj_2023!$B$2:$B$10000,A16,elek_kental_bouwj_2023!$D$2:$D$10000)>0,SUMIF(elek_kental_bouwj_2023!$B$2:$B$10000,A16,elek_kental_bouwj_2023!$D$2:$D$10000),"") | D16: =IF(SUMIF(elek_kental_opp_2023!$B$2:$B$10000,A16,elek_kental_opp_2023!$D$2:$D$10000)>0,SUMIF(elek_kental_opp_2023!$B$2:$B$10000,A16,elek_kental_opp_2023!$D$2:$D$10000),"") | E16: =IF(SUMIF(elek_kental_subsets_2023!$B$2:$B$10001,A16,elek_kental_subsets_2023!$D$2:$D$10001)>0,SUMIF(elek_kental_subsets_2023!$B$2:$B$10001,A16,elek_kental_subsets_2023!$D$2:$D$10001),"") | F16: =IF(SUMIF(elek_kental_diensten_2023!$B$2:$B$10000,A16,elek_kental_diensten_2023!$C$2:$C$10000)>0,SUMIF(elek_kental_diensten_2023!$B$2:$B$10000,A16,elek_kental_diensten_2023!$C$2:$C$10000),"") -> 50 | G16: =IF(SUMIF(zonnestroom_kentallen_2023!$B$2:$B$10000,A16,zonnestroom_kentallen_2023!$C$2:$C$10000)>0,SUMIF(zonnestroom_kentallen_2023!$B$2:$B$10000,A16,zonnestroom_kentallen_2023!$C$2:$C$10000),"") -> 72 | H16: =IF(SUMIF(gas_kental_2023!$B$2:$B$10000,A16,gas_kental_2023!$C$2:$C$10000)>0,SUMIF(gas_kental_2023!$B$2:$B$10000,A16,gas_kental_2023!$C$2:$C$10000),"") -> 64 | I16: =IF(SUMIF(gas_kental_bouwj_2023!$B$2:$B$10000,A16,gas_kental_bouwj_2023!$D$2:$D$10000)>0,SUMIF(gas_kental_bouwj_2023!$B$2:$B$10000,A16,gas_kental_bouwj_2023!$D$2:$D$10000),"") | J16: =IF(SUMIF(gas_kental_opp_2023!$B$2:$B$10000,A16,gas_kental_opp_2023!$D$2:$D$10000)>0,SUMIF(gas_kental_opp_2023!$B$2:$B$10000,A16,gas_kental_opp_2023!$D$2:$D$10000),"") | K16: =IF(SUMIF(gas_kental_diensten_2023!$B$2:$B$10000,A16,gas_kental_diensten_2023!$C$2:$C$10000)>0,SUMIF(gas_kental_diensten_2023!$B$2:$B$10000,A16,gas_kental_diensten_2023!$C$2:$C$10000),"") -> 47
A17: Basisschool | B17: =IF(SUMIF(elek_kental_2023!$B$2:$B$10000,A17,elek_kental_2023!$C$2:$C$10000)>0,SUMIF(elek_kental_2023!$B$2:$B$10000,A17,elek_kental_2023!$C$2:$C$10000),"") -> 4847 | C17: =IF(SUMIF(elek_kental_bouwj_2023!$B$2:$B$10000,A17,elek_kental_bouwj_2023!$D$2:$D$10000)>0,SUMIF(elek_kental_bouwj_2023!$B$2:$B$10000,A17,elek_kental_bouwj_2023!$D$2:$D$10000),"") -> 4847 | D17: =IF(SUMIF(elek_kental_opp_2023!$B$2:$B$10000,A17,elek_kental_opp_2023!$D$2:$D$10000)>0,SUMIF(elek_kental_opp_2023!$B$2:$B$10000,A17,elek_kental_opp_2023!$D$2:$D$10000),"") -> 4847 | E17: =IF(SUMIF(elek_kental_subsets_2023!$B$2:$B$10001,A17,elek_kental_subsets_2023!$D$2:$D$10001)>0,SUMIF(elek_kental_subsets_2023!$B$2:$B$10001,A17,elek_kental_subsets_2023!$D$2:$D$10001),"") -> 4847 | F17: =IF(SUMIF(elek_kental_diensten_2023!$B$2:$B$10000,A17,elek_kental_diensten_2023!$C$2:$C$10000)>0,SUMIF(elek_kental_diensten_2023!$B$2:$B$10000,A17,elek_kental_diensten_2023!$C$2:$C$10000),"") -> 4339 | G17: =IF(SUMIF(zonnestroom_kentallen_2023!$B$2:$B$10000,A17,zonnestroom_kentallen_2023!$C$2:$C$10000)>0,SUMIF(zonnestroom_kentallen_2023!$B$2:$B$10000,A17,zonnestroom_kentallen_2023!$C$2:$C$10000),"") -> 4847 | H17: =IF(SUMIF(gas_kental_2023!$B$2:$B$10000,A17,gas_kental_2023!$C$2:$C$10000)>0,SUMIF(gas_kental_2023!$B$2:$B$10000,A17,gas_kental_2023!$C$2:$C$10000),"") -> 4403 | I17: =IF(SUMIF(gas_kental_bouwj_2023!$B$2:$B$10000,A17,gas_kental_bouwj_2023!$D$2:$D$10000)>0,SUMIF(gas_kental_bouwj_2023!$B$2:$B$10000,A17,gas_kental_bouwj_2023!$D$2:$D$10000),"") -> 4403 | J17: =IF(SUMIF(gas_kental_opp_2023!$B$2:$B$10000,A17,gas_kental_opp_2023!$D$2:$D$10000)>0,SUMIF(gas_kental_opp_2023!$B$2:$B$10000,A17,gas_kental_opp_2023!$D$2:$D$10000),"") -> 4403 | K17: =IF(SUMIF(gas_kental_diensten_2023!$B$2:$B$10000,A17,gas_kental_diensten_2023!$C$2:$C$10000)>0,SUMIF(gas_kental_diensten_2023!$B$2:$B$10000,A17,gas_kental_diensten_2023!$C$2:$C$10000),"") -> 3959
A18: Bedrijfshal algemeen (geen LISA-informatie) | B18: =IF(SUMIF(elek_kental_2023!$B$2:$B$10000,A18,elek_kental_2023!$C$2:$C$10000)>0,SUMIF(elek_kental_2023!$B$2:$B$10000,A18,elek_kental_2023!$C$2:$C$10000),"") -> 19457 | C18: =IF(SUMIF(elek_kental_bouwj_2023!$B$2:$B$10000,A18,elek_kental_bouwj_2023!$D$2:$D$10000)>0,SUMIF(elek_kental_bouwj_2023!$B$2:$B$10000,A18,elek_kental_bouwj_2023!$D$2:$D$10000),"") -> 19457 | D18: =IF(SUMIF(elek_kental_opp_2023!$B$2:$B$10000,A18,elek_kental_opp_2023!$D$2:$D$10000)>0,SUMIF(elek_kental_opp_2023!$B$2:$B$10000,A18,elek_kental_opp_2023!$D$2:$D$10000),"") -> 19457 | E18: =IF(SUMIF(elek_kental_subsets_2023!$B$2:$B$10001,A18,elek_kental_subsets_2023!$D$2:$D$10001)>0,SUMIF(elek_kental_subsets_2023!$B$2:$B$10001,A18,elek_kental_subsets_2023!$D$2:$D$10001),"") -> 19457 | F18: =IF(SUMIF(elek_kental_diensten_2023!$B$2:$B$10000,A18,elek_kental_diensten_2023!$C$2:$C$10000)>0,SUMIF(elek_kental_diensten_2023!$B$2:$B$10000,A18,elek_kental_diensten_2023!$C$2:$C$10000),"") -> 10277 | G18: =IF(SUMIF(zonnestroom_kentallen_2023!$B$2:$B$10000,A18,zonnestroom_kentallen_2023!$C$2:$C$10000)>0,SUMIF(zonnestroom_kentallen_2023!$B$2:$B$10000,A18,zonnestroom_kentallen_2023!$C$2:$C$10000),"") -> 19457 | H18: =IF(SUMIF(gas_kental_2023!$B$2:$B$10000,A18,gas_kental_2023!$C$2:$C$10000)>0,SUMIF(gas_kental_2023!$B$2:$B$10000,A18,gas_kental_2023!$C$2:$C$10000),"") -> 17441 | I18: =IF(SUMIF(gas_kental_bouwj_2023!$B$2:$B$10000,A18,gas_kental_bouwj_2023!$D$2:$D$10000)>0,SUMIF(gas_kental_bouwj_2023!$B$2:$B$10000,A18,gas_kental_bouwj_2023!$D$2:$D$10000),"") -> 17441 | J18: =IF(SUMIF(gas_kental_opp_2023!$B$2:$B$10000,A18,gas_kental_opp_2023!$D$2:$D$10000)>0,SUMIF(gas_kental_opp_2023!$B$2:$B$10000,A18,gas_kental_opp_2023!$D$2:$D$10000),"") -> 17441 | K18: =IF(SUMIF(gas_kental_diensten_2023!$B$2:$B$10000,A18,gas_kental_diensten_2023!$C$2:$C$10000)>0,SUMIF(gas_kental_diensten_2023!$B$2:$B$10000,A18,gas_kental_diensten_2023!$C$2:$C$10000),"") -> 9557
A19: Bedrijfshal algemeen (met LISA-informatie) | B19: =IF(SUMIF(elek_kental_2023!$B$2:$B$10000,A19,elek_kental_2023!$C$2:$C$10000)>0,SUMIF(elek_kental_2023!$B$2:$B$10000,A19,elek_kental_2023!$C$2:$C$10000),"") -> 12346 | C19: =IF(SUMIF(elek_kental_bouwj_2023!$B$2:$B$10000,A19,elek_kental_bouwj_2023!$D$2:$D$10000)>0,SUMIF(elek_kental_bouwj_2023!$B$2:$B$10000,A19,elek_kental_bouwj_2023!$D$2:$D$10000),"") -> 12346 | D19: =IF(SUMIF(elek_kental_opp_2023!$B$2:$B$10000,A19,elek_kental_opp_2023!$D$2:$D$10000)>0,SUMIF(elek_kental_opp_2023!$B$2:$B$10000,A19,elek_kental_opp_2023!$D$2:$D$10000),"") -> 12346 | E19: =IF(SUMIF(elek_kental_subsets_2023!$B$2:$B$10001,A19,elek_kental_subsets_2023!$D$2:$D$10001)>0,SUMIF(elek_kental_subsets_2023!$B$2:$B$10001,A19,elek_kental_subsets_2023!$D$2:$D$10001),"") -> 12346 | F19: =IF(SUMIF(elek_kental_diensten_2023!$B$2:$B$10000,A19,elek_kental_diensten_2023!$C$2:$C$10000)>0,SUMIF(elek_kental_diensten_2023!$B$2:$B$10000,A19,elek_kental_diensten_2023!$C$2:$C$10000),"") -> 8447 | G19: =IF(SUMIF(zonnestroom_kentallen_2023!$B$2:$B$10000,A19,zonnestroom_kentallen_2023!$C$2:$C$10000)>0,SUMIF(zonnestroom_kentallen_2023!$B$2:$B$10000,A19,zonnestroom_kentallen_2023!$C$2:$C$10000),"") -> 12346 | H19: =IF(SUMIF(gas_kental_2023!$B$2:$B$10000,A19,gas_kental_2023!$C$2:$C$10000)>0,SUMIF(gas_kental_2023!$B$2:$B$10000,A19,gas_kental_2023!$C$2:$C$10000),"") -> 10863 | I19: =IF(SUMIF(gas_kental_bouwj_2023!$B$2:$B$10000,A19,gas_kental_bouwj_2023!$D$2:$D$10000)>0,SUMIF(gas_kental_bouwj_2023!$B$2:$B$10000,A19,gas_kental_bouwj_2023!$D$2:$D$10000),"") -> 10863 | J19: =IF(SUMIF(gas_kental_opp_2023!$B$2:$B$10000,A19,gas_kental_opp_2023!$D$2:$D$10000)>0,SUMIF(gas_kental_opp_2023!$B$2:$B$10000,A19,gas_kental_opp_2023!$D$2:$D$10000),"") -> 10863 | K19: =IF(SUMIF(gas_kental_diensten_2023!$B$2:$B$10000,A19,gas_kental_diensten_2023!$C$2:$C$10000)>0,SUMIF(gas_kental_diensten_2023!$B$2:$B$10000,A19,gas_kental_diensten_2023!$C$2:$C$10000),"") -> 7422
A20: Bedrijfshal met logistieke activiteiten | B20: =IF(SUMIF(elek_kental_2023!$B$2:$B$10000,A20,elek_kental_2023!$C$2:$C$10000)>0,SUMIF(elek_kental_2023!$B$2:$B$10000,A20,elek_kental_2023!$C$2:$C$10000),"") -> 5585 | C20: =IF(SUMIF(elek_kental_bouwj_2023!$B$2:$B$10000,A20,elek_kental_bouwj_2023!$D$2:$D$10000)>0,SUMIF(elek_kental_bouwj_2023!$B$2:$B$10000,A20,elek_kental_bouwj_2023!$D$2:$D$10000),"") -> 5585 | D20: =IF(SUMIF(elek_kental_opp_2023!$B$2:$B$10000,A20,elek_kental_opp_2023!$D$2:$D$10000)>0,SUMIF(elek_kental_opp_2023!$B$2:$B$10000,A20,elek_kental_opp_2023!$D$2:$D$10000),"") -> 5585 | E20: =IF(SUMIF(elek_kental_subsets_2023!$B$2:$B$10001,A20,elek_kental_subsets_2023!$D$2:$D$10001)>0,SUMIF(elek_kental_subsets_2023!$B$2:$B$10001,A20,elek_kental_subsets_2023!$D$2:$D$10001),"") -> 5585 | F20: =IF(SUMIF(elek_kental_diensten_2023!$B$2:$B$10000,A20,elek_kental_diensten_2023!$C$2:$C$10000)>0,SUMIF(elek_kental_diensten_2023!$B$2:$B$10000,A20,elek_kental_diensten_2023!$C$2:$C$10000),"") -> 2183 | G20: =IF(SUMIF(zonnestroom_kentallen_2023!$B$2:$B$10000,A20,zonnestroom_kentallen_2023!$C$2:$C$10000)>0,SUMIF(zonnestroom_kentallen_2023!$B$2:$B$10000,A20,zonnestroom_kentallen_2023!$C$2:$C$10000),"") -> 5585 | H20: =IF(SUMIF(gas_kental_2023!$B$2:$B$10000,A20,gas_kental_2023!$C$2:$C$10000)>0,SUMIF(gas_kental_2023!$B$2:$B$10000,A20,gas_kental_2023!$C$2:$C$10000),"") -> 4852 | I20: =IF(SUMIF(gas_kental_bouwj_2023!$B$2:$B$10000,A20,gas_kental_bouwj_2023!$D$2:$D$10000)>0,SUMIF(gas_kental_bouwj_2023!$B$2:$B$10000,A20,gas_kental_bouwj_2023!$D$2:$D$10000),"") -> 4852 | J20: =IF(SUMIF(gas_kental_opp_2023!$B$2:$B$10000,A20,gas_kental_opp_2023!$D$2:$D$10000)>0,SUMIF(gas_kental_opp_2023!$B$2:$B$10000,A20,gas_kental_opp_2023!$D$2:$D$10000),"") -> 4852 | K20: =IF(SUMIF(gas_kental_diensten_2023!$B$2:$B$10000,A20,gas_kental_diensten_2023!$C$2:$C$10000)>0,SUMIF(gas_kental_diensten_2023!$B$2:$B$10000,A20,gas_kental_diensten_2023!$C$2:$C$10000),"") -> 1915
A21: Bedrijfshal met maakindustrie en andere economische activiteiten | B21: =IF(SUMIF(elek_kental_2023!$B$2:$B$10000,A21,elek_kental_2023!$C$2:$C$10000)>0,SUMIF(elek_kental_2023!$B$2:$B$10000,A21,elek_kental_2023!$C$2:$C$10000),"") -> 4928 | C21: =IF(SUMIF(elek_kental_bouwj_2023!$B$2:$B$10000,A21,elek_kental_bouwj_2023!$D$2:$D$10000)>0,SUMIF(elek_kental_bouwj_2023!$B$2:$B$10000,A21,elek_kental_bouwj_2023!$D$2:$D$10000),"") -> 4928 | D21: =IF(SUMIF(elek_kental_opp_2023!$B$2:$B$10000,A21,elek_kental_opp_2023!$D$2:$D$10000)>0,SUMIF(elek_kental_opp_2023!$B$2:$B$10000,A21,elek_kental_opp_2023!$D$2:$D$10000),"") -> 4928 | E21: =IF(SUMIF(elek_kental_subsets_2023!$B$2:$B$10001,A21,elek_kental_subsets_2023!$D$2:$D$10001)>0,SUMIF(elek_kental_subsets_2023!$B$2:$B$10001,A21,elek_kental_subsets_2023!$D$2:$D$10001),"") -> 4928 | F21: =IF(SUMIF(elek_kental_diensten_2023!$B$2:$B$10000,A21,elek_kental_diensten_2023!$C$2:$C$10000)>0,SUMIF(elek_kental_diensten_2023!$B$2:$B$10000,A21,elek_kental_diensten_2023!$C$2:$C$10000),"") -> 1564 | G21: =IF(SUMIF(zonnestroom_kentallen_2023!$B$2:$B$10000,A21,zonnestroom_kentallen_2023!$C$2:$C$10000)>0,SUMIF(zonnestroom_kentallen_2023!$B$2:$B$10000,A21,zonnestroom_kentallen_2023!$C$2:$C$10000),"") -> 4928 | H21: =IF(SUMIF(gas_kental_2023!$B$2:$B$10000,A21,gas_kental_2023!$C$2:$C$10000)>0,SUMIF(gas_kental_2023!$B$2:$B$10000,A21,gas_kental_2023!$C$2:$C$10000),"") -> 4456 | I21: =IF(SUMIF(gas_kental_bouwj_2023!$B$2:$B$10000,A21,gas_kental_bouwj_2023!$D$2:$D$10000)>0,SUMIF(gas_kental_bouwj_2023!$B$2:$B$10000,A21,gas_kental_bouwj_2023!$D$2:$D$10000),"") -> 4456 | J21: =IF(SUMIF(gas_kental_opp_2023!$B$2:$B$10000,A21,gas_kental_opp_2023!$D$2:$D$10000)>0,SUMIF(gas_kental_opp_2023!$B$2:$B$10000,A21,gas_kental_opp_2023!$D$2:$D$10000),"") -> 4456 | K21: =IF(SUMIF(gas_kental_diensten_2023!$B$2:$B$10000,A21,gas_kental_diensten_2023!$C$2:$C$10000)>0,SUMIF(gas_kental_diensten_2023!$B$2:$B$10000,A21,gas_kental_diensten_2023!$C$2:$C$10000),"") -> 1426
A22: Bedrijfshal met maakindustrie en logistieke activiteiten | B22: =IF(SUMIF(elek_kental_2023!$B$2:$B$10000,A22,elek_kental_2023!$C$2:$C$10000)>0,SUMIF(elek_kental_2023!$B$2:$B$10000,A22,elek_kental_2023!$C$2:$C$10000),"") -> 10515 | C22: =IF(SUMIF(elek_kental_bouwj_2023!$B$2:$B$10000,A22,elek_kental_bouwj_2023!$D$2:$D$10000)>0,SUMIF(elek_kental_bouwj_2023!$B$2:$B$10000,A22,elek_kental_bouwj_2023!$D$2:$D$10000),"") -> 10515 | D22: =IF(SUMIF(elek_kental_opp_2023!$B$2:$B$10000,A22,elek_kental_opp_2023!$D$2:$D$10000)>0,SUMIF(elek_kental_opp_2023!$B$2:$B$10000,A22,elek_kental_opp_2023!$D$2:$D$10000),"") -> 10515 | E22: =IF(SUMIF(elek_kental_subsets_2023!$B$2:$B$10001,A22,elek_kental_subsets_2023!$D$2:$D$10001)>0,SUMIF(elek_kental_subsets_2023!$B$2:$B$10001,A22,elek_kental_subsets_2023!$D$2:$D$10001),"") -> 10515 | F22: =IF(SUMIF(elek_kental_diensten_2023!$B$2:$B$10000,A22,elek_kental_diensten_2023!$C$2:$C$10000)>0,SUMIF(elek_kental_diensten_2023!$B$2:$B$10000,A22,elek_kental_diensten_2023!$C$2:$C$10000),"") -> 6488 | G22: =IF(SUMIF(zonnestroom_kentallen_2023!$B$2:$B$10000,A22,zonnestroom_kentallen_2023!$C$2:$C$10000)>0,SUMIF(zonnestroom_kentallen_2023!$B$2:$B$10000,A22,zonnestroom_kentallen_2023!$C$2:$C$10000),"") -> 10515 | H22: =IF(SUMIF(gas_kental_2023!$B$2:$B$10000,A22,gas_kental_2023!$C$2:$C$10000)>0,SUMIF(gas_kental_2023!$B$2:$B$10000,A22,gas_kental_2023!$C$2:$C$10000),"") -> 9414 | I22: =IF(SUMIF(gas_kental_bouwj_2023!$B$2:$B$10000,A22,gas_kental_bouwj_2023!$D$2:$D$10000)>0,SUMIF(gas_kental_bouwj_2023!$B$2:$B$10000,A22,gas_kental_bouwj_2023!$D$2:$D$10000),"") -> 9414 | J22: =IF(SUMIF(gas_kental_opp_2023!$B$2:$B$10000,A22,gas_kental_opp_2023!$D$2:$D$10000)>0,SUMIF(gas_kental_opp_2023!$B$2:$B$10000,A22,gas_kental_opp_2023!$D$2:$D$10000),"") -> 9414 | K22: =IF(SUMIF(gas_kental_diensten_2023!$B$2:$B$10000,A22,gas_kental_diensten_2023!$C$2:$C$10000)>0,SUMIF(gas_kental_diensten_2023!$B$2:$B$10000,A22,gas_kental_diensten_2023!$C$2:$C$10000),"") -> 5828
A23: Bedrijfshal uitsluitend maakindustrie | B23: =IF(SUMIF(elek_kental_2023!$B$2:$B$10000,A23,elek_kental_2023!$C$2:$C$10000)>0,SUMIF(elek_kental_2023!$B$2:$B$10000,A23,elek_kental_2023!$C$2:$C$10000),"") -> 19013 | C23: =IF(SUMIF(elek_kental_bouwj_2023!$B$2:$B$10000,A23,elek_kental_bouwj_2023!$D$2:$D$10000)>0,SUMIF(elek_kental_bouwj_2023!$B$2:$B$10000,A23,elek_kental_bouwj_2023!$D$2:$D$10000),"") -> 19013 | D23: =IF(SUMIF(elek_kental_opp_2023!$B$2:$B$10000,A23,elek_kental_opp_2023!$D$2:$D$10000)>0,SUMIF(elek_kental_opp_2023!$B$2:$B$10000,A23,elek_kental_opp_2023!$D$2:$D$10000),"") -> 19013 | E23: =IF(SUMIF(elek_kental_subsets_2023!$B$2:$B$10001,A23,elek_kental_subsets_2023!$D$2:$D$10001)>0,SUMIF(elek_kental_subsets_2023!$B$2:$B$10001,A23,elek_kental_subsets_2023!$D$2:$D$10001),"") -> 19013 | F23: =IF(SUMIF(elek_kental_diensten_2023!$B$2:$B$10000,A23,elek_kental_diensten_2023!$C$2:$C$10000)>0,SUMIF(elek_kental_diensten_2023!$B$2:$B$10000,A23,elek_kental_diensten_2023!$C$2:$C$10000),"") -> 6916 | G23: =IF(SUMIF(zonnestroom_kentallen_2023!$B$2:$B$10000,A23,zonnestroom_kentallen_2023!$C$2:$C$10000)>0,SUMIF(zonnestroom_kentallen_2023!$B$2:$B$10000,A23,zonnestroom_kentallen_2023!$C$2:$C$10000),"") -> 19013 | H23: =IF(SUMIF(gas_kental_2023!$B$2:$B$10000,A23,gas_kental_2023!$C$2:$C$10000)>0,SUMIF(gas_kental_2023!$B$2:$B$10000,A23,gas_kental_2023!$C$2:$C$10000),"") -> 17325 | I23: =IF(SUMIF(gas_kental_bouwj_2023!$B$2:$B$10000,A23,gas_kental_bouwj_2023!$D$2:$D$10000)>0,SUMIF(gas_kental_bouwj_2023!$B$2:$B$10000,A23,gas_kental_bouwj_2023!$D$2:$D$10000),"") -> 17325 | J23: =IF(SUMIF(gas_kental_opp_2023!$B$2:$B$10000,A23,gas_kental_opp_2023!$D$2:$D$10000)>0,SUMIF(gas_kental_opp_2023!$B$2:$B$10000,A23,gas_kental_opp_2023!$D$2:$D$10000),"") -> 17325 | K23: =IF(SUMIF(gas_kental_diensten_2023!$B$2:$B$10000,A23,gas_kental_diensten_2023!$C$2:$C$10000)>0,SUMIF(gas_kental_diensten_2023!$B$2:$B$10000,A23,gas_kental_diensten_2023!$C$2:$C$10000),"") -> 6229
A24: Bedrijfswoning | B24: =IF(SUMIF(elek_kental_2023!$B$2:$B$10000,A24,elek_kental_2023!$C$2:$C$10000)>0,SUMIF(elek_kental_2023!$B$2:$B$10000,A24,elek_kental_2023!$C$2:$C$10000),"") -> 65594 | C24: =IF(SUMIF(elek_kental_bouwj_2023!$B$2:$B$10000,A24,elek_kental_bouwj_2023!$D$2:$D$10000)>0,SUMIF(elek_kental_bouwj_2023!$B$2:$B$10000,A24,elek_kental_bouwj_2023!$D$2:$D$10000),"") -> 65594 | D24: =IF(SUMIF(elek_kental_opp_2023!$B$2:$B$10000,A24,elek_kental_opp_2023!$D$2:$D$10000)>0,SUMIF(elek_kental_opp_2023!$B$2:$B$10000,A24,elek_kental_opp_2023!$D$2:$D$10000),"") -> 65594 | E24: =IF(SUMIF(elek_kental_subsets_2023!$B$2:$B$10001,A24,elek_kental_subsets_2023!$D$2:$D$10001)>0,SUMIF(elek_kental_subsets_2023!$B$2:$B$10001,A24,elek_kental_subsets_2023!$D$2:$D$10001),"") -> 65594 | F24: =IF(SUMIF(elek_kental_diensten_2023!$B$2:$B$10000,A24,elek_kental_diensten_2023!$C$2:$C$10000)>0,SUMIF(elek_kental_diensten_2023!$B$2:$B$10000,A24,elek_kental_diensten_2023!$C$2:$C$10000),"") -> 8805 | G24: =IF(SUMIF(zonnestroom_kentallen_2023!$B$2:$B$10000,A24,zonnestroom_kentallen_2023!$C$2:$C$10000)>0,SUMIF(zonnestroom_kentallen_2023!$B$2:$B$10000,A24,zonnestroom_kentallen_2023!$C$2:$C$10000),"") -> 65594 | H24: =IF(SUMIF(gas_kental_2023!$B$2:$B$10000,A24,gas_kental_2023!$C$2:$C$10000)>0,SUMIF(gas_kental_2023!$B$2:$B$10000,A24,gas_kental_2023!$C$2:$C$10000),"") -> 62179 | I24: =IF(SUMIF(gas_kental_bouwj_2023!$B$2:$B$10000,A24,gas_kental_bouwj_2023!$D$2:$D$10000)>0,SUMIF(gas_kental_bouwj_2023!$B$2:$B$10000,A24,gas_kental_bouwj_2023!$D$2:$D$10000),"") -> 62179 | J24: =IF(SUMIF(gas_kental_opp_2023!$B$2:$B$10000,A24,gas_kental_opp_2023!$D$2:$D$10000)>0,SUMIF(gas_kental_opp_2023!$B$2:$B$10000,A24,gas_kental_opp_2023!$D$2:$D$10000),"") -> 62179 | K24: =IF(SUMIF(gas_kental_diensten_2023!$B$2:$B$10000,A24,gas_kental_diensten_2023!$C$2:$C$10000)>0,SUMIF(gas_kental_diensten_2023!$B$2:$B$10000,A24,gas_kental_diensten_2023!$C$2:$C$10000),"") -> 8140
A25: Bijeenkomstgebouw (niet nader ingedeeld) | B25: =IF(SUMIF(elek_kental_2023!$B$2:$B$10000,A25,elek_kental_2023!$C$2:$C$10000)>0,SUMIF(elek_kental_2023!$B$2:$B$10000,A25,elek_kental_2023!$C$2:$C$10000),"") -> 9153 | C25: =IF(SUMIF(elek_kental_bouwj_2023!$B$2:$B$10000,A25,elek_kental_bouwj_2023!$D$2:$D$10000)>0,SUMIF(elek_kental_bouwj_2023!$B$2:$B$10000,A25,elek_kental_bouwj_2023!$D$2:$D$10000),"") -> 9153 | D25: =IF(SUMIF(elek_kental_opp_2023!$B$2:$B$10000,A25,elek_kental_opp_2023!$D$2:$D$10000)>0,SUMIF(elek_kental_opp_2023!$B$2:$B$10000,A25,elek_kental_opp_2023!$D$2:$D$10000),"") -> 9153 | E25: =IF(SUMIF(elek_kental_subsets_2023!$B$2:$B$10001,A25,elek_kental_subsets_2023!$D$2:$D$10001)>0,SUMIF(elek_kental_subsets_2023!$B$2:$B$10001,A25,elek_kental_subsets_2023!$D$2:$D$10001),"") -> 9153 | F25: =IF(SUMIF(elek_kental_diensten_2023!$B$2:$B$10000,A25,elek_kental_diensten_2023!$C$2:$C$10000)>0,SUMIF(elek_kental_diensten_2023!$B$2:$B$10000,A25,elek_kental_diensten_2023!$C$2:$C$10000),"") -> 8176 | G25: =IF(SUMIF(zonnestroom_kentallen_2023!$B$2:$B$10000,A25,zonnestroom_kentallen_2023!$C$2:$C$10000)>0,SUMIF(zonnestroom_kentallen_2023!$B$2:$B$10000,A25,zonnestroom_kentallen_2023!$C$2:$C$10000),"") -> 9153 | H25: =IF(SUMIF(gas_kental_2023!$B$2:$B$10000,A25,gas_kental_2023!$C$2:$C$10000)>0,SUMIF(gas_kental_2023!$B$2:$B$10000,A25,gas_kental_2023!$C$2:$C$10000),"") -> 9150 | I25: =IF(SUMIF(gas_kental_bouwj_2023!$B$2:$B$10000,A25,gas_kental_bouwj_2023!$D$2:$D$10000)>0,SUMIF(gas_kental_bouwj_2023!$B$2:$B$10000,A25,gas_kental_bouwj_2023!$D$2:$D$10000),"") -> 9150 | J25: =IF(SUMIF(gas_kental_opp_2023!$B$2:$B$10000,A25,gas_kental_opp_2023!$D$2:$D$10000)>0,SUMIF(gas_kental_opp_2023!$B$2:$B$10000,A25,gas_kental_opp_2023!$D$2:$D$10000),"") -> 9150 | K25: =IF(SUMIF(gas_kental_diensten_2023!$B$2:$B$10000,A25,gas_kental_diensten_2023!$C$2:$C$10000)>0,SUMIF(gas_kental_diensten_2023!$B$2:$B$10000,A25,gas_kental_diensten_2023!$C$2:$C$10000),"") -> 8208
A26: Campusgebouw | B26: =IF(SUMIF(elek_kental_2023!$B$2:$B$10000,A26,elek_kental_2023!$C$2:$C$10000)>0,SUMIF(elek_kental_2023!$B$2:$B$10000,A26,elek_kental_2023!$C$2:$C$10000),"") -> 114 | C26: =IF(SUMIF(elek_kental_bouwj_2023!$B$2:$B$10000,A26,elek_kental_bouwj_2023!$D$2:$D$10000)>0,SUMIF(elek_kental_bouwj_2023!$B$2:$B$10000,A26,elek_kental_bouwj_2023!$D$2:$D$10000),"") -> 114 | D26: =IF(SUMIF(elek_kental_opp_2023!$B$2:$B$10000,A26,elek_kental_opp_2023!$D$2:$D$10000)>0,SUMIF(elek_kental_opp_2023!$B$2:$B$10000,A26,elek_kental_opp_2023!$D$2:$D$10000),"") -> 114 | E26: =IF(SUMIF(elek_kental_subsets_2023!$B$2:$B$10001,A26,elek_kental_subsets_2023!$D$2:$D$10001)>0,SUMIF(elek_kental_subsets_2023!$B$2:$B$10001,A26,elek_kental_subsets_2023!$D$2:$D$10001),"") -> 114 | F26: =IF(SUMIF(elek_kental_diensten_2023!$B$2:$B$10000,A26,elek_kental_diensten_2023!$C$2:$C$10000)>0,SUMIF(elek_kental_diensten_2023!$B$2:$B$10000,A26,elek_kental_diensten_2023!$C$2:$C$10000),"") -> 79 | G26: =IF(SUMIF(zonnestroom_kentallen_2023!$B$2:$B$10000,A26,zonnestroom_kentallen_2023!$C$2:$C$10000)>0,SUMIF(zonnestroom_kentallen_2023!$B$2:$B$10000,A26,zonnestroom_kentallen_2023!$C$2:$C$10000),"") -> 114 | H26: =IF(SUMIF(gas_kental_2023!$B$2:$B$10000,A26,gas_kental_2023!$C$2:$C$10000)>0,SUMIF(gas_kental_2023!$B$2:$B$10000,A26,gas_kental_2023!$C$2:$C$10000),"") -> 95 | I26: =IF(SUMIF(gas_kental_bouwj_2023!$B$2:$B$10000,A26,gas_kental_bouwj_2023!$D$2:$D$10000)>0,SUMIF(gas_kental_bouwj_2023!$B$2:$B$10000,A26,gas_kental_bouwj_2023!$D$2:$D$10000),"") -> 95 | J26: =IF(SUMIF(gas_kental_opp_2023!$B$2:$B$10000,A26,gas_kental_opp_2023!$D$2:$D$10000)>0,SUMIF(gas_kental_opp_2023!$B$2:$B$10000,A26,gas_kental_opp_2023!$D$2:$D$10000),"") -> 95 | K26: =IF(SUMIF(gas_kental_diensten_2023!$B$2:$B$10000,A26,gas_kental_diensten_2023!$C$2:$C$10000)>0,SUMIF(gas_kental_diensten_2023!$B$2:$B$10000,A26,gas_kental_diensten_2023!$C$2:$C$10000),"") -> 67
A27: Cultuurhuis | B27: =IF(SUMIF(elek_kental_2023!$B$2:$B$10000,A27,elek_kental_2023!$C$2:$C$10000)>0,SUMIF(elek_kental_2023!$B$2:$B$10000,A27,elek_kental_2023!$C$2:$C$10000),"") -> 570 | C27: =IF(SUMIF(elek_kental_bouwj_2023!$B$2:$B$10000,A27,elek_kental_bouwj_2023!$D$2:$D$10000)>0,SUMIF(elek_kental_bouwj_2023!$B$2:$B$10000,A27,elek_kental_bouwj_2023!$D$2:$D$10000),"") -> 570 | D27: =IF(SUMIF(elek_kental_opp_2023!$B$2:$B$10000,A27,elek_kental_opp_2023!$D$2:$D$10000)>0,SUMIF(elek_kental_opp_2023!$B$2:$B$10000,A27,elek_kental_opp_2023!$D$2:$D$10000),"") -> 570 | E27: =IF(SUMIF(elek_kental_subsets_2023!$B$2:$B$10001,A27,elek_kental_subsets_2023!$D$2:$D$10001)>0,SUMIF(elek_kental_subsets_2023!$B$2:$B$10001,A27,elek_kental_subsets_2023!$D$2:$D$10001),"") -> 570 | F27: =IF(SUMIF(elek_kental_diensten_2023!$B$2:$B$10000,A27,elek_kental_diensten_2023!$C$2:$C$10000)>0,SUMIF(elek_kental_diensten_2023!$B$2:$B$10000,A27,elek_kental_diensten_2023!$C$2:$C$10000),"") -> 470 | G27: =IF(SUMIF(zonnestroom_kentallen_2023!$B$2:$B$10000,A27,zonnestroom_kentallen_2023!$C$2:$C$10000)>0,SUMIF(zonnestroom_kentallen_2023!$B$2:$B$10000,A27,zonnestroom_kentallen_2023!$C$2:$C$10000),"") -> 570 | H27: =IF(SUMIF(gas_kental_2023!$B$2:$B$10000,A27,gas_kental_2023!$C$2:$C$10000)>0,SUMIF(gas_kental_2023!$B$2:$B$10000,A27,gas_kental_2023!$C$2:$C$10000),"") -> 537 | I27: =IF(SUMIF(gas_kental_bouwj_2023!$B$2:$B$10000,A27,gas_kental_bouwj_2023!$D$2:$D$10000)>0,SUMIF(gas_kental_bouwj_2023!$B$2:$B$10000,A27,gas_kental_bouwj_2023!$D$2:$D$10000),"") -> 537 | J27: =IF(SUMIF(gas_kental_opp_2023!$B$2:$B$10000,A27,gas_kental_opp_2023!$D$2:$D$10000)>0,SUMIF(gas_kental_opp_2023!$B$2:$B$10000,A27,gas_kental_opp_2023!$D$2:$D$10000),"") -> 537 | K27: =IF(SUMIF(gas_kental_diensten_2023!$B$2:$B$10000,A27,gas_kental_diensten_2023!$C$2:$C$10000)>0,SUMIF(gas_kental_diensten_2023!$B$2:$B$10000,A27,gas_kental_diensten_2023!$C$2:$C$10000),"") -> 447
... A80: Zwembad | B80: =IF(SUMIF(elek_kental_2023!$B$2:$B$10000,A80,elek_kental_2023!$C$2:$C$10000)>0,SUMIF(elek_kental_2023!$B$2:$B$10000,A80,elek_kental_2023!$C$2:$C$10000),"") -> 487 | C80: =IF(SUMIF(elek_kental_bouwj_2023!$B$2:$B$10000,A80,elek_kental_bouwj_2023!$D$2:$D$10000)>0,SUMIF(elek_kental_bouwj_2023!$B$2:$B$10000,A80,elek_kental_bouwj_2023!$D$2:$D$10000),"") -> 487 | D80: =IF(SUMIF(elek_kental_opp_2023!$B$2:$B$10000,A80,elek_kental_opp_2023!$D$2:$D$10000)>0,SUMIF(elek_kental_opp_2023!$B$2:$B$10000,A80,elek_kental_opp_2023!$D$2:$D$10000),"") -> 487 | E80: =IF(SUMIF(elek_kental_subsets_2023!$B$2:$B$10001,A80,elek_kental_subsets_2023!$D$2:$D$10001)>0,SUMIF(elek_kental_subsets_2023!$B$2:$B$10001,A80,elek_kental_subsets_2023!$D$2:$D$10001),"") -> 487 | F80: =IF(SUMIF(elek_kental_diensten_2023!$B$2:$B$10000,A80,elek_kental_diensten_2023!$C$2:$C$10000)>0,SUMIF(elek_kental_diensten_2023!$B$2:$B$10000,A80,elek_kental_diensten_2023!$C$2:$C$10000),"") -> 415 | G80: =IF(SUMIF(zonnestroom_kentallen_2023!$B$2:$B$10000,A80,zonnestroom_kentallen_2023!$C$2:$C$10000)>0,SUMIF(zonnestroom_kentallen_2023!$B$2:$B$10000,A80,zonnestroom_kentallen_2023!$C$2:$C$10000),"") -> 487 | H80: =IF(SUMIF(gas_kental_2023!$B$2:$B$10000,A80,gas_kental_2023!$C$2:$C$10000)>0,SUMIF(gas_kental_2023!$B$2:$B$10000,A80,gas_kental_2023!$C$2:$C$10000),"") -> 485 | I80: =IF(SUMIF(gas_kental_bouwj_2023!$B$2:$B$10000,A80,gas_kental_bouwj_2023!$D$2:$D$10000)>0,SUMIF(gas_kental_bouwj_2023!$B$2:$B$10000,A80,gas_kental_bouwj_2023!$D$2:$D$10000),"") -> 485 | J80: =IF(SUMIF(gas_kental_opp_2023!$B$2:$B$10000,A80,gas_kental_opp_2023!$D$2:$D$10000)>0,SUMIF(gas_kental_opp_2023!$B$2:$B$10000,A80,gas_kental_opp_2023!$D$2:$D$10000),"") -> 485 | K80: =IF(SUMIF(gas_kental_diensten_2023!$B$2:$B$10000,A80,gas_kental_diensten_2023!$C$2:$C$10000)>0,SUMIF(gas_kental_diensten_2023!$B$2:$B$10000,A80,gas_kental_diensten_2023!$C$2:$C$10000),"") -> 410
