Workbook

Sheet inhoudsopgave en toelichting
C1: Energiekentallen Utiliteitsbouw
C4: Project details
D6: Project naam | E6: Energiekentallen Utiliteitsgebouwen
D7: Datum | E7: Augustus 2026
D8: Contactpersoon TNO | E8: Robin Niessink, robin.niessink@tno.nl
C10: Deze dataset is ontwikkeld met subsidie van de Rijksdienst voor Ondernemend Nederland (RVO)
C12: Toelichting
C14: In dit onderzoek zijn energie-kentallen voor aardgaslevering (m3/m2) en elektriciteitslevering (kWh/m2) voor de diverse gebouwtypen van de utiliteitsbouw bepaald voor zichtjaren 2020 t/m 2024. De kentallen zijn waar mogelijk uitgesplitst naar bouwjaar- en oppervlakteklassen. Voor zichtjaar 2024 is ook een opsplitsing naar energielabel gemaakt. Ook voor de groep van panden die binnen de dienstensector valt zijn kentallen ontwikkeld. Voor zonnestroom is een eigen inschatting gemaakt van de teruglevering en daarmee is het eigenverbruik berekend en vervolgens opgeteld bij de netlevering voor een betere benadering van het totaalverbruik.
C16: De kentallen voor zonnestroomproductie (kWh/m2) alsmede het aandeel panden met zonnestroomproductie (in de populatie) zijn toegevoegd in een apart tab.
C18: NB: Een lege cel betekent dat een kental niet kon worden weergegeven vanwege de daarvoor geldende privacyregels. Het aantal overgebleven waarnemingen in de onderzoekspopulatie was hiervoor te laag.
C20: Voor nadere toelichting zie TNO rapport: Energiekentallen utiliteitsgebouwen 2020 t/m 2024 - Een analyse van het energieverbruik per gebouwtype voor de ontwikkeling van benchmark energiekentallen
C22: Inhoudsopgave
C23: Tab naam | E23: Inhoud
C24: elek_kental_ | E24: kentallen elektriciteit per gebouwtype
C25: elek_kental_bouwj_ | E25: kentallen elektriciteit per gebouwtype met uitsplitsing naar bouwjaarklassen
C26: elek_kental_opp_ | E26: kentallen elektriciteit per gebouwtype met uitsplitsing naar (gebruiks)oppervlakteklassen
C27: elek_kental_diensten_ | E27: kentallen elektriciteit per gebouwtype voor panden die vallen binnen de dienstensector
C28: elek_kental_subsets_ | E28: kentallen elektriciteit per gebouwtype voor panden met onderscheid naar panden met of zonder zonnestroom en waar de teruglevering wel of niet hoger is dan de zonnestroomproductie
C29: zonnestroom_kentallen_ | E29: kentallen zonnestroomproductie per gebouwtype
C30: gas_kental_ | E30: kentallen aardgas per gebouwtype
C31: gas_kental_bouwj_ | E31: kentallen aardgas per gebouwtype met uitsplitsing naar bouwjaarklassen
C32: gas_kental_opp_ | E32: kentallen aardgas per gebouwtype met uitsplitsing naar (gebruiks)oppervlakteklassen
C33: gas_kental_diensten_ | E33: kentallen aardgas per gebouwtype voor panden die vallen binnen de dienstensector
C34: populatie_overzicht_ | E34: een overzicht met het aantal panden in de onderzoekspopulatie in het betreffende tab, waarmee onder andere is na te gaan welke categorieën ontbreken per tab
C37: Toelichting kolommen in de tabs
C39: Energiedrager | D39: Dit geeft aan of het een kental voor aardgas of elektriciteit is
C40: Gebouwtype | D40: Dit geeft aan over welk gebouwtype het gaat
C41: Aantal panden | D41: Dit geeft het aantal panden in het onderzoek aan waarover de kentallen in de categorie berekend zijn
C42: Aandeel panden per gebouwtype | D42: Het percentage van het aantal panden dat in de betreffende categorie valt per gebouwtype
C43: Gemiddelde kental (kWh/m2) | D43: Het gemiddelde kental
C44: Q1 kental (kWh/m2) | D44: Het kental voor het 1ste kwartiel
C45: Mediaan kental (kWh/m2) | D45: Het kental voor de mediaan
C46: Q3 kental (kWh/m2) | D46: Het kental voor het 3e kwartiel
C47: Gewogen gemiddelde kental (kWh/m2) | D47: Het gemiddelde kental waarbij het pandoppervlak als weegfactor is gebruikt
C48: Gemiddelde kental inclusief eigenverbruik zonnestroom (kWh/m2) | D48: Eerst is het eigenverbruik zonnestroom bepaald en vervolgens opnieuw het gemiddelde bepaald
C49: Q1 kental inclusief eigenverbruik zonnestroom (kWh/m2) | D49: Eerst is het eigenverbruik zonnestroom bepaald en vervolgens opnieuw het 1ste kwartiel
C50: Mediaan kental inclusief eigenverbruik zonnestroom (kWh/m2) | D50: Eerst is het eigenverbruik zonnestroom bepaald en vervolgens opnieuw de mediaan
... C56: Gewogen gemiddelde zonnestroomproductie kental (kWh/m2) (inclusief panden zonder zon-pv) | D56: Het gewogen gemiddelde kental voor zonnestroomproductie berekend als gemiddelde voor panden met en zonder zonnestroomproductie

Sheet gas_kental_2023
A1: Energiedrager | B1: Gebouwtype | C1: Aantal panden | D1: Gemiddelde kental (m3/m2) | E1: Q1 kental (m3/m2) | F1: Mediaan kental (m3/m2) | G1: Q3 kental (m3/m2) | H1: Gewogen gemiddelde kental (m3/m2)
A2: Gas | B2: Asielzoekerscentrum | C2: 64 | D2: 25.389397 | E2: 8.8026061 | F2: 18.558511 | G2: 35.345278 | H2: 14.726476
A3: Gas | B3: Basisschool | C3: 4403 | D3: 8.7797706 | E3: 5.9761279 | F3: 8.5016413 | G3: 11.107516 | H3: 7.1778126
A4: Gas | B4: Bedrijfshal algemeen (geen LISA-informatie) | C4: 17441 | D4: 3.5284484 | E4: 0.33333333 | F4: 1.9756098 | G4: 4.8074074 | H4: 3.2964198
A5: Gas | B5: Bedrijfshal algemeen (met LISA-informatie) | C5: 10863 | D5: 4.5558584 | E5: 1.3235676 | F5: 3.1142857 | G5: 5.7843728 | H5: 3.7432782
A6: Gas | B6: Bedrijfshal met logistieke activiteiten | C6: 4852 | D6: 3.6370465 | E6: 1.3939152 | F6: 2.7553604 | G6: 4.7111993 | H6: 2.9413626
A7: Gas | B7: Bedrijfshal met maakindustrie en andere economische activiteiten | C7: 4456 | D7: 4.2372966 | E7: 1.4472416 | F7: 2.9882482 | G7: 5.3155091 | H7: 4.2259105
A8: Gas | B8: Bedrijfshal met maakindustrie en logistieke activiteiten | C8: 9414 | D8: 4.0717779 | E8: 1.301981 | F8: 2.9454044 | G8: 5.32791 | H8: 3.5053024
A9: Gas | B9: Bedrijfshal uitsluitend maakindustrie | C9: 17325 | D9: 5.8057712 | E9: 1.4874652 | F9: 3.4038462 | G9: 6.475058 | H9: 7.6545413
A10: Gas | B10: Bedrijfswoning | C10: 62179 | D10: 8.3650028 | E10: 3.2820125 | F10: 6.4777911 | G10: 10.873655 | H10: 5.7737559
A11: Gas | B11: Bijeenkomstgebouw (niet nader ingedeeld) | C11: 9150 | D11: 8.3503992 | E11: 3.6939783 | F11: 6.7122534 | G11: 11.039384 | H11: 7.506789
A12: Gas | B12: Campusgebouw | C12: 95 | D12: 10.74376 | E12: 3.2799839 | F12: 7.4026667 | G12: 12.529715 | H12: 7.6352791
A13: Gas | B13: Cultuurhuis | C13: 537 | D13: 8.3414802 | E13: 4.6590909 | F13: 7.7559682 | G13: 11.125176 | H13: 5.8734465
... A15: Gas | B15: Gebedshuis | C15: 4217 | D15: 7.1494204 | E15: 4.0506024 | F15: 6.5523256 | G15: 9.5698052 | H15: 5.4915276
A16: Gas | B16: Gebouw bij militaire inrichting | C16: 19 | D16: 1535.1975 | H16: 177.9926
A17: Gas | B17: Gebouw bij spooremplacement | C17: 84 | D17: 9.0292378 | E17: 2.988282 | F17: 6.7747749 | G17: 13.259596 | H17: 7.4155819
A18: Gas | B18: Gebouw bij vliegveld of luchthaven | C18: 165 | D18: 6.8690541 | E18: 1.5906887 | F18: 4.7830616 | G18: 9.4503704 | H18: 5.7562555
A19: Gas | B19: Gebouw in landelijk gebied voor industrie (geen landbouwactiviteiten geregistreerd) | C19: 3662 | D19: 4.977683 | E19: 0.81164931 | F19: 2.7274169 | G19: 6.679695 | H19: 4.2371656
A20: Gas | B20: Gebouw in stedelijk gebied met industriefunctie | C20: 12076 | D20: 6.2104489 | E20: 1.0624452 | F20: 3.7615197 | G20: 8.0537972 | H20: 5.0506808
A21: Gas | B21: Gebouw op snelwegverzorgingsplaats | C21: 58 | D21: 10.264802 | E21: 2.5460435 | F21: 5.556467 | G21: 12.616597 | H21: 15.480359
A22: Gas | B22: Gebouw op vakantiepark | C22: 37098 | D22: 9.2717453 | E22: 5.4865754 | F22: 8.6283883 | G22: 12.166284 | H22: 8.9186933
A23: Gas | B23: Gebouw voor landbouwactiviteiten | C23: 2093 | D23: 94.789351 | E23: 2.8066202 | F23: 8.9914894 | G23: 27.587912 | H23: 61.145816
A24: Gas | B24: Groothandel op bedrijventerrein | C24: 559 | D24: 3.2062556 | E24: 1.615813 | F24: 2.8020901 | G24: 4.0984496 | H24: 2.72261
A25: Gas | B25: Hotel (of ander groot logiesgebouw) | C25: 2380 | D25: 12.121062 | E25: 5.9610089 | F25: 10.908688 | G25: 16.903674 | H25: 9.8682949
A26: Gas | B26: IJsbaan | C26: 122 | D26: 4.0807197 | E26: 1.8314941 | F26: 3.5255208 | G26: 5.5011278 | H26: 2.6705004
A27: Gas | B27: Kantoorpand algemeen | C27: 19239 | D27: 7.8470355 | E27: 4.1269834 | F27: 7.0830258 | G27: 10.63965 | H27: 5.9747663
A28: Gas | B28: Kinderopvang (gebouw) | C28: 1477 | D28: 10.804102 | E28: 6.961165 | F28: 10.133053 | G28: 13.855818 | H28: 9.3485718
A29: Gas | B29: Koelhuis | C29: 85 | D29: 3.8774403 | E29: 0.59137255 | F29: 1.8380382 | G29: 4.3110931 | H29: 3.0567273
A30: Gas | B30: MBO-gebouw | C30: 10 | D30: 4.1695682 | H30: 4.0553044
A31: Gas | B31: Meergezinswoning met andere functie of combinatie van functies | C31: 17428 | D31: 8.0156507 | E31: 4.6943182 | F31: 7.37639 | G31: 10.459874 | H31: 6.5718026
A32: Gas | B32: Meergezinswoning met cafe of restaurant | C32: 6245 | D32: 12.37395 | E32: 6.4265734 | F32: 10.148148 | G32: 15.900164 | H32: 11.067207
A33: Gas | B33: Meergezinswoning met winkel | C33: 22217 | D33: 8.0631351 | E33: 4.6581818 | F33: 7.22 | G33: 10.481481 | H33: 6.7176548
A34: Gas | B34: Meergezinswoning met winkels en horeca | C34: 2498 | D34: 8.4666359 | E34: 4.8710172 | F34: 7.5588717 | G34: 10.894379 | H34: 6.6236451
A35: Gas | B35: Meergezinswoning met woonzorgeenheden | C35: 260 | D35: 9.5935146 | E35: 5.5331362 | F35: 8.3516506 | G35: 12.503091 | H35: 9.0153894
A36: Gas | B36: Middelbare school | C36: 1054 | D36: 7.2609112 | E36: 4.0573755 | F36: 6.7208274 | G36: 9.4673969 | H36: 5.8323535
A37: Gas | B37: Nutsgebouw (elektriciteit) | C37: 56 | D37: 6.7107483 | E37: 1.6255317 | F37: 5.7532298 | G37: 10.056681 | H37: 5.5751595
A38: Gas | B38: Nutsgebouw (water) | C38: 232 | D38: 15.830884 | E38: 2.7859557 | F38: 9.8288544 | G38: 19.972144 | H38: 5.9894305
A39: Gas | B39: Overig gebouw met maatschappelijke functie | C39: 1556 | D39: 10.234282 | E39: 3.4507761 | F39: 6.8674269 | G39: 12.045913 | H39: 8.2929446
A40: Gas | B40: Overig gebouw met recreatiefunctie | C40: 80 | D40: 16.706506 | E40: 4.2022375 | F40: 8.5784993 | G40: 18.027399 | H40: 14.95355
A41: Gas | B41: Overig onderwijsgebouw | C41: 3077 | D41: 9.4574906 | E41: 5.5696078 | F41: 8.8047493 | G41: 12.263441 | H41: 7.1340986
...

Sheet gas_kental_bouwj_2023
A1: Energiedrager | B1: Gebouwtype | C1: Bouwjaarklasse | D1: Aantal panden | E1: Aandeel panden per gebouwtype | F1: Gemiddelde kental (m3/m2) | G1: Q1 kental (m3/m2) | H1: Mediaan kental (m3/m2) | I1: Q3 kental (m3/m2) | J1: Gewogen gemiddelde kental (m3/m2)
A2: Gas | B2: Basisschool | C2: tot 1946 | D2: 434 | E2: 0.099 | F2: 10.184157 | G2: 7.4026873 | H2: 9.6296786 | I2: 12.785526 | J2: 8.4534285
A3: Gas | B3: Basisschool | C3: 1946 tot 1978 | D3: 1688 | E3: 0.383 | F3: 9.9362073 | G3: 7.5330015 | H3: 9.6150546 | I3: 12.126879 | J3: 8.747991
A4: Gas | B4: Basisschool | C4: 1978 tot 1995 | D4: 1028 | E4: 0.233 | F4: 9.0696898 | G4: 6.8261595 | H4: 8.7148179 | I4: 10.983822 | J4: 7.9652198
A5: Gas | B5: Basisschool | C5: 1995 tot 2009 | D5: 648 | E5: 0.147 | F5: 7.7781045 | G5: 5.6926513 | H5: 7.414166 | I5: 9.6456293 | J5: 6.2228728
A6: Gas | B6: Basisschool | C6: 2009 tot 2015 | D6: 439 | E6: 0.1 | F6: 5.5025005 | G6: 2.653406 | H6: 5.1183844 | I6: 7.2023457 | J6: 4.6697989
A7: Gas | B7: Basisschool | C7: vanaf 2015 | D7: 166 | E7: 0.038 | F7: 4.1303481 | G7: 1.6575892 | H7: 3.7745624 | I7: 5.7165708 | J7: 3.7163811
A8: Gas | B8: Bedrijfshal algemeen (geen LISA-informatie) | C8: tot 1946 | D8: 227 | E8: 0.013 | F8: 5.0899638 | G8: 0.59956626 | H8: 3.2320988 | I8: 7.116231 | J8: 3.1892075
A9: Gas | B9: Bedrijfshal algemeen (geen LISA-informatie) | C9: 1946 tot 1978 | D9: 2490 | E9: 0.143 | F9: 4.1697107 | G9: 0.33818055 | H9: 2.1283893 | I9: 5.6511202 | J9: 3.5386621
A10: Gas | B10: Bedrijfshal algemeen (geen LISA-informatie) | C10: 1978 tot 1995 | D10: 4439 | E10: 0.255 | F10: 4.0622163 | G10: 0.59229873 | H10: 2.4192177 | I10: 5.6731117 | J10: 3.6356334
A11: Gas | B11: Bedrijfshal algemeen (geen LISA-informatie) | C11: 1995 tot 2009 | D11: 7645 | E11: 0.438 | F11: 3.2222521 | G11: 0.27831715 | H11: 1.8392857 | I11: 4.46 | J11: 3.3092127
A12: Gas | B12: Bedrijfshal algemeen (geen LISA-informatie) | C12: 2009 tot 2015 | D12: 1522 | E12: 0.087 | F12: 2.9936377 | G12: 0.2159536 | H12: 1.839584 | I12: 4.160822 | J12: 3.0277337
A13: Gas | B13: Bedrijfshal algemeen (geen LISA-informatie) | C13: vanaf 2015 | D13: 1118 | E13: 0.064 | F13: 2.4857372 | G13: 0.0041217488 | H13: 1.2696143 | I13: 3.3978632 | J13: 1.9283961
... A55: Gas | B55: Bijeenkomstgebouw (niet nader ingedeeld) | C55: vanaf 2015 | D55: 225 | E55: 0.025 | F55: 9.0173543 | G55: 3.1921837 | H55: 5.5366771 | I55: 12.145946 | J55: 7.2881129
A56: Gas | B56: Campusgebouw | C56: tot 1978 | D56: 30 | E56: 0.316 | F56: 10.165967 | H56: 5.662586 | J56: 10.420502
A57: Gas | B57: Campusgebouw | C57: 1978 tot 1995 | D57: 14 | E57: 0.147 | F57: 17.688732 | J57: 18.97834
A58: Gas | B58: Campusgebouw | C58: 1995 tot 2009 | D58: 26 | E58: 0.274 | F58: 11.036656 | H58: 9.2438867 | J58: 11.324419
A59: Gas | B59: Campusgebouw | C59: 2009 tot 2015 | D59: 12 | E59: 0.126 | F59: 7.6348825 | J59: 5.4280424
A60: Gas | B60: Campusgebouw | C60: vanaf 2015 | D60: 13 | E60: 0.137 | F60: 6.8818667 | J60: 1.1689347
A61: Gas | B61: Cultuurhuis | C61: tot 1946 | D61: 210 | E61: 0.391 | F61: 9.2103671 | G61: 5.0603078 | H61: 8.5219323 | I61: 12.320646 | J61: 5.6087716
A62: Gas | B62: Cultuurhuis | C62: 1946 tot 1978 | D62: 118 | E62: 0.22 | F62: 8.3593182 | G62: 5.0778617 | H62: 7.7883983 | I62: 11.009649 | J62: 6.7716812
A63: Gas | B63: Cultuurhuis | C63: 1978 tot 1995 | D63: 91 | E63: 0.169 | F63: 8.6268265 | G63: 5.4470598 | H63: 8.0232816 | I63: 10.446164 | J63: 7.3846631
A64: Gas | B64: Cultuurhuis | C64: 1995 tot 2009 | D64: 86 | E64: 0.16 | F64: 7.0333973 | G64: 3.8812164 | H64: 6.6874214 | I64: 8.7369487 | J64: 5.4440772
A65: Gas | B65: Cultuurhuis | C65: 2009 tot 2015 | D65: 20 | E65: 0.037 | F65: 5.6017308 | H65: 4.8904562 | J65: 3.2430625
A66: Gas | B66: Cultuurhuis | C66: vanaf 2015 | D66: 12 | E66: 0.022 | F66: 4.7375205 | J66: 5.3043271
A67: Gas | B67: Gebedshuis | C67: tot 1946 | D67: 1776 | E67: 0.421 | F67: 7.5034866 | G67: 3.7469608 | H67: 6.8541667 | I67: 10.36802 | J67: 5.1338932
A68: Gas | B68: Gebedshuis | C68: 1946 tot 1978 | D68: 1451 | E68: 0.344 | F68: 7.0227438 | G68: 4.1517369 | H68: 6.4612403 | I68: 9.441223 | J68: 5.9182412
A69: Gas | B69: Gebedshuis | C69: 1978 tot 1995 | D69: 537 | E69: 0.127 | F69: 7.0572495 | G69: 4.3185654 | H69: 6.7079365 | I69: 8.9846154 | J69: 5.6374738
A70: Gas | B70: Gebedshuis | C70: 1995 tot 2009 | D70: 334 | E70: 0.079 | F70: 6.6219475 | G70: 4.6071233 | H70: 6.2016706 | I70: 8.2638403 | J70: 6.0343993
A71: Gas | B71: Gebedshuis | C71: 2009 tot 2015 | D71: 87 | E71: 0.021 | F71: 5.5256877 | G71: 3.5662083 | H71: 4.9061033 | I71: 7.0106223 | J71: 4.4151526
A72: Gas | B72: Gebedshuis | C72: vanaf 2015 | D72: 32 | E72: 0.008 | F72: 4.7095029 | H72: 4.7647836 | J72: 2.8783017
A73: Gas | B73: Gebouw bij spooremplacement | C73: tot 1946 | D73: 23 | E73: 0.274 | F73: 9.317009 | H73: 5.4714104 | J73: 9.5824545
A74: Gas | B74: Gebouw bij spooremplacement | C74: 1946 tot 1978 | D74: 16 | E74: 0.19 | F74: 9.9708095 | J74: 10.507437
A75: Gas | B75: Gebouw bij spooremplacement | C75: 1978 tot 1995 | D75: 17 | E75: 0.202 | F75: 12.072927 | J75: 10.789858
A76: Gas | B76: Gebouw bij spooremplacement | C76: 1995 tot 2009 | D76: 14 | E76: 0.167 | F76: 7.773825 | J76: 4.9904484
A77: Gas | B77: Gebouw bij spooremplacement | C77: vanaf 2009 | D77: 14 | E77: 0.167 | F77: 5.039894 | J77: 2.2447667
A78: Gas | B78: Gebouw bij vliegveld of luchthaven | C78: tot 1978 | D78: 26 | E78: 0.158 | F78: 6.6875983 | H78: 6.0026429 | J78: 5.4433898
A79: Gas | B79: Gebouw bij vliegveld of luchthaven | C79: 1978 tot 1995 | D79: 68 | E79: 0.412 | F79: 6.7703947 | G79: 1.670547 | H79: 4.9457783 | I79: 9.5409986 | J79: 6.1162133
A80: Gas | B80: Gebouw bij vliegveld of luchthaven | C80: 1995 tot 2009 | D80: 49 | E80: 0.297 | F80: 7.6503487 | G80: 0.82562278 | H80: 4.4527814 | I80: 11.214737 | J80: 6.3977209
A81: Gas | B81: Gebouw bij vliegveld of luchthaven | C81: vanaf 2009 | D81: 22 | E81: 0.133 | F81: 5.648293 | H81: 3.5213561 | J81: 4.8970364
...

Sheet gas_kental_opp_2023
A1: Energiedrager | B1: Gebouwtype | C1: Oppervlakteklasse | D1: Aantal panden | E1: Aandeel panden per gebouwtype | F1: Gemiddelde kental (m3/m2) | G1: Q1 kental (m3/m2) | H1: Mediaan kental (m3/m2) | I1: Q3 kental (m3/m2) | J1: Gewogen gemiddelde kental (m3/m2)
A2: Gas | B2: Basisschool | C2: tot 500 m2 | D2: 118 | E2: 0.027 | F2: 13.276225 | G2: 10.231249 | H2: 12.576877 | I2: 15.231244 | J2: 13.159799
A3: Gas | B3: Basisschool | C3: 500 tot 1000 m2 | D3: 843 | E3: 0.191 | F3: 11.233922 | G3: 8.6123081 | H3: 10.592243 | I3: 13.286003 | J3: 11.158325
A4: Gas | B4: Basisschool | C4: 1000 tot 2500 m2 | D4: 2550 | E4: 0.579 | F4: 8.8671708 | G4: 6.4681268 | H4: 8.5714809 | I4: 10.95341 | J4: 8.5989383
A5: Gas | B5: Basisschool | C5: 2500 tot 5000 m2 | D5: 696 | E5: 0.158 | F5: 6.0301861 | G5: 3.787518 | H5: 5.7767688 | I5: 8.0270782 | J5: 5.9323721
A6: Gas | B6: Basisschool | C6: 5000 tot 10000 m2 | D6: 159 | E6: 0.036 | F6: 4.3298262 | G6: 2.2626718 | H6: 4.1242489 | I6: 6.0238737 | J6: 4.2991939
A7: Gas | B7: Basisschool | C7: vanaf 10000 m2 | D7: 37 | E7: 0.008 | F7: 3.3460034 | H7: 2.6530191 | J7: 2.9039538
A8: Gas | B8: Bedrijfshal algemeen (geen LISA-informatie) | C8: tot 50 m2 | D8: 167 | E8: 0.01 | F8: 6.0365776 | H8: 1.8108108 | I8: 8.9345455 | J8: 5.8290413
A9: Gas | B9: Bedrijfshal algemeen (geen LISA-informatie) | C9: 50 tot 100 m2 | D9: 1152 | E9: 0.066 | F9: 3.9291854 | H9: 1.2074137 | I9: 5.6778756 | J9: 3.9006014
A10: Gas | B10: Bedrijfshal algemeen (geen LISA-informatie) | C10: 100 tot 250 m2 | D10: 4358 | E10: 0.25 | F10: 3.1598431 | G10: 0.030879719 | H10: 1.4965308 | I10: 4.3675 | J10: 3.1682563
A11: Gas | B11: Bedrijfshal algemeen (geen LISA-informatie) | C11: 250 tot 500 m2 | D11: 3534 | E11: 0.203 | F11: 3.5036358 | G11: 0.36692808 | H11: 2.0665275 | I11: 4.7523954 | J11: 3.526993
A12: Gas | B12: Bedrijfshal algemeen (geen LISA-informatie) | C12: 500 tot 1000 m2 | D12: 3442 | E12: 0.197 | F12: 3.6084994 | G12: 0.59042323 | H12: 2.2856849 | I12: 4.850777 | J12: 3.6135968
A13: Gas | B13: Bedrijfshal algemeen (geen LISA-informatie) | C13: 1000 tot 2500 m2 | D13: 3016 | E13: 0.173 | F13: 3.8464921 | G13: 0.80787572 | H13: 2.3926477 | I13: 5.1725056 | J13: 3.8620202
A14: Gas | B14: Bedrijfshal algemeen (geen LISA-informatie) | C14: 2500 tot 5000 m2 | D14: 1054 | E14: 0.06 | F14: 3.3956966 | G14: 0.54009521 | H14: 1.9584868 | I14: 4.9604102 | J14: 3.3604926
A15: Gas | B15: Bedrijfshal algemeen (geen LISA-informatie) | C15: 5000 tot 10000 m2 | D15: 482 | E15: 0.028 | F15: 3.4236754 | G15: 0.48740675 | H15: 1.8438051 | I15: 4.182987 | J15: 3.4422674
A16: Gas | B16: Bedrijfshal algemeen (geen LISA-informatie) | C16: vanaf 10000 m2 | D16: 236 | E16: 0.014 | F16: 2.5506026 | G16: 0.35126082 | H16: 1.1511534 | I16: 2.9146843 | J16: 2.2399348
A17: Gas | B17: Bedrijfshal algemeen (met LISA-informatie) | C17: tot 50 m2 | D17: 39 | E17: 0.004 | F17: 14.805577 | H17: 11.043478 | J17: 14.399042
A18: Gas | B18: Bedrijfshal algemeen (met LISA-informatie) | C18: 50 tot 100 m2 | D18: 339 | E18: 0.031 | F18: 6.7454837 | G18: 1.2708333 | H18: 4.6666667 | I18: 8.7750263 | J18: 6.5152862
A19: Gas | B19: Bedrijfshal algemeen (met LISA-informatie) | C19: 100 tot 250 m2 | D19: 1861 | E19: 0.171 | F19: 5.097167 | G19: 1.4090909 | H19: 3.5067568 | I19: 6.3921569 | J19: 4.9490957
A20: Gas | B20: Bedrijfshal algemeen (met LISA-informatie) | C20: 250 tot 500 m2 | D20: 1847 | E20: 0.17 | F20: 4.8419976 | G20: 1.5073333 | H20: 3.4225722 | I20: 6.1347748 | J20: 4.7656075
A21: Gas | B21: Bedrijfshal algemeen (met LISA-informatie) | C21: 500 tot 1000 m2 | D21: 2479 | E21: 0.228 | F21: 4.4429345 | G21: 1.5341797 | H21: 3.1713287 | I21: 5.7344162 | J21: 4.4228753
A22: Gas | B22: Bedrijfshal algemeen (met LISA-informatie) | C22: 1000 tot 2500 m2 | D22: 2533 | E22: 0.233 | F22: 4.1777466 | G22: 1.3331987 | H22: 2.9410774 | I22: 5.389 | J22: 4.1683243
A23: Gas | B23: Bedrijfshal algemeen (met LISA-informatie) | C23: 2500 tot 5000 m2 | D23: 999 | E23: 0.092 | F23: 3.9714058 | G23: 1.150065 | H23: 2.644465 | I23: 4.8918388 | J23: 3.9378397
A24: Gas | B24: Bedrijfshal algemeen (met LISA-informatie) | C24: 5000 tot 10000 m2 | D24: 478 | E24: 0.044 | F24: 3.7896207 | G24: 0.95265643 | H24: 2.1416086 | I24: 4.7054268 | J24: 3.8217649
A25: Gas | B25: Bedrijfshal algemeen (met LISA-informatie) | C25: vanaf 10000 m2 | D25: 288 | E25: 0.027 | F25: 2.8542227 | G25: 0.5177699 | H25: 1.6462704 | I25: 3.3223142 | J25: 2.6948853
A26: Gas | B26: Bedrijfshal met logistieke activiteiten | C26: tot 100 m2 | D26: 21 | E26: 0.004 | F26: 5.3830007 | H26: 4.1022727 | J26: 4.9502488
A27: Gas | B27: Bedrijfshal met logistieke activiteiten | C27: 100 tot 250 m2 | D27: 175 | E27: 0.036 | F27: 5.2453673 | G27: 1.3432731 | H27: 4.1785714 | I27: 7.2575304 | J27: 5.168605
A28: Gas | B28: Bedrijfshal met logistieke activiteiten | C28: 250 tot 500 m2 | D28: 317 | E28: 0.065 | F28: 4.7152153 | G28: 1.8828452 | H28: 3.7773438 | I28: 6.1994382 | J28: 4.6611013
A29: Gas | B29: Bedrijfshal met logistieke activiteiten | C29: 500 tot 1000 m2 | D29: 755 | E29: 0.156 | F29: 4.0495292 | G29: 1.794242 | H29: 3.2217617 | I29: 5.2210673 | J29: 3.9805968
A30: Gas | B30: Bedrijfshal met logistieke activiteiten | C30: 1000 tot 2500 m2 | D30: 1713 | E30: 0.353 | F30: 3.461729 | G30: 1.4155405 | H30: 2.6482213 | I30: 4.5525478 | J30: 3.4080178
A31: Gas | B31: Bedrijfshal met logistieke activiteiten | C31: 2500 tot 5000 m2 | D31: 1030 | E31: 0.212 | F31: 3.4518529 | G31: 1.4214437 | H31: 2.6654276 | I31: 4.3991491 | J31: 3.4071797
A32: Gas | B32: Bedrijfshal met logistieke activiteiten | C32: 5000 tot 10000 m2 | D32: 517 | E32: 0.107 | F32: 3.2288449 | G32: 1.1533246 | H32: 2.3307751 | I32: 4.1022849 | J32: 3.2134477
A33: Gas | B33: Bedrijfshal met logistieke activiteiten | C33: vanaf 10000 m2 | D33: 324 | E33: 0.067 | F33: 2.8061316 | G33: 0.82180111 | H33: 1.7049813 | I33: 3.3879904 | J33: 2.2076234
A34: Gas | B34: Bedrijfshal met maakindustrie en andere economische activiteiten | C34: tot 100 m2 | D34: 38 | E34: 0.009 | F34: 8.7119533 | H34: 6.0345362 | J34: 8.5094737
A35: Gas | B35: Bedrijfshal met maakindustrie en andere economische activiteiten | C35: 100 tot 250 m2 | D35: 236 | E35: 0.053 | F35: 5.8548358 | G35: 1.7440191 | H35: 4.076981 | I35: 7.3468339 | J35: 5.6148188
A36: Gas | B36: Bedrijfshal met maakindustrie en andere economische activiteiten | C36: 250 tot 500 m2 | D36: 386 | E36: 0.087 | F36: 4.4621624 | G36: 1.6535244 | H36: 3.1639695 | I36: 5.4501982 | J36: 4.4147282
A37: Gas | B37: Bedrijfshal met maakindustrie en andere economische activiteiten | C37: 500 tot 1000 m2 | D37: 1049 | E37: 0.235 | F37: 4.1157863 | G37: 1.4074074 | H37: 2.9824742 | I37: 5.234375 | J37: 4.0990017
A38: Gas | B38: Bedrijfshal met maakindustrie en andere economische activiteiten | C38: 1000 tot 2500 m2 | D38: 1635 | E38: 0.367 | F38: 3.8567559 | G38: 1.443103 | H38: 2.7980392 | I38: 4.8520237 | J38: 3.862101
A39: Gas | B39: Bedrijfshal met maakindustrie en andere economische activiteiten | C39: 2500 tot 5000 m2 | D39: 705 | E39: 0.158 | F39: 4.2792288 | G39: 1.4532448 | H39: 3.0959581 | I39: 5.5483871 | J39: 4.2942145
A40: Gas | B40: Bedrijfshal met maakindustrie en andere economische activiteiten | C40: 5000 tot 10000 m2 | D40: 270 | E40: 0.061 | F40: 4.2684479 | G40: 1.2692042 | H40: 2.9758095 | I40: 5.0534759 | J40: 4.2980143
...

Sheet gas_kental_diensten_2023
A1: Energiedrager | B1: Gebouwtype | C1: Aantal panden | D1: Gemiddelde kental (m3/m2) | E1: Q1 kental (m3/m2) | F1: Mediaan kental (m3/m2) | G1: Q3 kental (m3/m2) | H1: Gewogen gemiddelde kental (m3/m2)
A2: Gas | B2: Asielzoekerscentrum | C2: 47 | D2: 29.138655 | E2: 11.566625 | F2: 20.059856 | G2: 38.169572 | H2: 19.707804
A3: Gas | B3: Basisschool | C3: 3959 | D3: 8.9090744 | E3: 6.2085357 | F3: 8.6383333 | G3: 11.234756 | H3: 7.4703285
A4: Gas | B4: Bedrijfshal algemeen (geen LISA-informatie) | C4: 9557 | D4: 3.440245 | E4: 0.27751196 | F4: 1.8795181 | G4: 4.7555556 | H4: 3.0615445
A5: Gas | B5: Bedrijfshal algemeen (met LISA-informatie) | C5: 7422 | D5: 4.6012671 | E5: 1.3845493 | F5: 3.188971 | G5: 5.9037187 | H5: 3.6696607
A6: Gas | B6: Bedrijfshal met logistieke activiteiten | C6: 1915 | D6: 3.8416227 | E6: 1.3710571 | F6: 2.9954632 | G6: 5.2747925 | H6: 3.0075315
A7: Gas | B7: Bedrijfshal met maakindustrie en andere economische activiteiten | C7: 1426 | D7: 4.516677 | E7: 1.4090146 | F7: 3.1918503 | G7: 5.8101933 | H7: 4.0388141
A8: Gas | B8: Bedrijfshal met maakindustrie en logistieke activiteiten | C8: 5828 | D8: 4.0392575 | E8: 1.2919808 | F8: 2.9753726 | G8: 5.379754 | H8: 3.3411334
A9: Gas | B9: Bedrijfshal uitsluitend maakindustrie | C9: 6229 | D9: 5.2858982 | E9: 1.4356955 | F9: 3.5049929 | G9: 6.7316017 | H9: 5.5959428
A10: Gas | B10: Bedrijfswoning | C10: 8140 | D10: 9.0278589 | E10: 3.7076296 | F10: 7.0221949 | G10: 11.674344 | H10: 6.9876309
A11: Gas | B11: Bijeenkomstgebouw (niet nader ingedeeld) | C11: 8208 | D11: 8.4295365 | E11: 3.7934868 | F11: 6.7812117 | G11: 11.090403 | H11: 7.6987685
A12: Gas | B12: Campusgebouw | C12: 67 | D12: 11.518844 | E12: 3.714946 | F12: 7.4418255 | G12: 12.18861 | H12: 11.33392
A13: Gas | B13: Cultuurhuis | C13: 447 | D13: 8.6099585 | E13: 4.920119 | F13: 8.007732 | G13: 11.326604 | H13: 6.41187
A14: Gas | B14: Datacenter | C14: 38 | D14: 2.6969759 | F14: 1.4684532 | H14: 2.6547137
A15: Gas | B15: Gebedshuis | C15: 3572 | D15: 7.1967973 | E15: 4.0841485 | F15: 6.6109944 | G15: 9.5937542 | H15: 5.5519105
A16: Gas | B16: Gebouw bij militaire inrichting
A17: Gas | B17: Gebouw bij spooremplacement | C17: 43 | D17: 7.5461078 | E17: 2.3079449 | F17: 5.8596087 | G17: 10.833766 | H17: 6.1726254
A18: Gas | B18: Gebouw bij vliegveld of luchthaven | C18: 108 | D18: 6.927002 | E18: 1.4869875 | F18: 5.184287 | G18: 9.0994654 | H18: 5.17607
A19: Gas | B19: Gebouw in landelijk gebied voor industrie (geen landbouwactiviteiten geregistreerd) | C19: 1743 | D19: 5.0705377 | E19: 0.89085455 | F19: 2.938172 | G19: 6.9378788 | H19: 3.3782835
A20: Gas | B20: Gebouw in stedelijk gebied met industriefunctie | C20: 7601 | D20: 6.3649768 | E20: 1.08 | F20: 3.964467 | G20: 8.4052632 | H20: 4.6349395
A21: Gas | B21: Gebouw op snelwegverzorgingsplaats | C21: 49 | D21: 11.294054 | E21: 2.6270492 | F21: 6.609375 | G21: 14.213333 | H21: 17.596302
A22: Gas | B22: Gebouw op vakantiepark | C22: 31995 | D22: 9.2438951 | E22: 5.5235327 | F22: 8.6333333 | G22: 12.098402 | H22: 9.121318
A23: Gas | B23: Gebouw voor landbouwactiviteiten | C23: 199 | D23: 11.351322 | E23: 1.2132673 | F23: 4.9 | G23: 11.82839 | H23: 2.6747808
A24: Gas | B24: Groothandel op bedrijventerrein | C24: 161 | D24: 3.7720492 | E24: 1.5338208 | F24: 3.3968692 | G24: 4.7939642 | H24: 3.2734145
A25: Gas | B25: Hotel (of ander groot logiesgebouw) | C25: 1970 | D25: 12.608105 | E25: 6.5142844 | F25: 11.576583 | G25: 17.364652 | H25: 10.535771
A26: Gas | B26: IJsbaan | C26: 106 | D26: 4.1321437 | E26: 1.8314941 | F26: 3.5717949 | G26: 5.3729637 | H26: 2.4535518
A27: Gas | B27: Kantoorpand algemeen | C27: 15515 | D27: 8.0198915 | E27: 4.3844224 | F27: 7.3126615 | G27: 10.807489 | H27: 6.2677839
A28: Gas | B28: Kinderopvang (gebouw) | C28: 1357 | D28: 10.785687 | E28: 6.972067 | F28: 10.1673 | G28: 13.875556 | H28: 9.4290044
A29: Gas | B29: Koelhuis | C29: 65 | D29: 4.075584 | E29: 0.57435617 | F29: 1.4234731 | G29: 4.5613008 | H29: 3.1064588
A30: Gas | B30: MBO-gebouw
A31: Gas | B31: Meergezinswoning met andere functie of combinatie van functies | C31: 1724 | D31: 8.5610768 | E31: 4.1033097 | F31: 7.6932791 | G31: 11.993687 | H31: 7.1086173
A32: Gas | B32: Meergezinswoning met cafe of restaurant | C32: 1058 | D32: 13.1585 | E32: 5.926692 | F32: 10.911462 | G32: 18.515181 | H32: 11.595788
A33: Gas | B33: Meergezinswoning met winkel | C33: 2856 | D33: 8.1241753 | E33: 3.5320544 | F33: 7.2180402 | G33: 11.574174 | H33: 6.8601779
A34: Gas | B34: Meergezinswoning met winkels en horeca | C34: 288 | D34: 9.5418391 | E34: 4.523374 | F34: 8.0454732 | G34: 13.110106 | H34: 5.0026584
A35: Gas | B35: Meergezinswoning met woonzorgeenheden | C35: 83 | D35: 11.363627 | E35: 7.0263514 | F35: 10.505556 | G35: 15.400975 | H35: 10.371429
A36: Gas | B36: Middelbare school | C36: 971 | D36: 7.2675422 | E36: 4.0654883 | F36: 6.7678025 | G36: 9.4908836 | H36: 5.8471792
A37: Gas | B37: Nutsgebouw (elektriciteit) | F37: 7.3462189
A38: Gas | B38: Nutsgebouw (water) | C38: 167 | D38: 18.11612 | E38: 4.579705 | F38: 11.399103 | G38: 22.126515 | H38: 9.317301
A39: Gas | B39: Overig gebouw met maatschappelijke functie | C39: 1365 | D39: 10.065432 | E39: 3.4518664 | F39: 6.7843866 | G39: 11.990099 | H39: 9.1146734
A40: Gas | B40: Overig gebouw met recreatiefunctie | C40: 59 | D40: 17.587311 | E40: 4.7359686 | F40: 9.8395666 | G40: 19.145037 | H40: 16.465815
...

Sheet elek_kental_2023
A1: Energiedrager | B1: Gebouwtype | C1: Aantal panden | D1: Gemiddelde kental (kWh/m2) | E1: Q1 kental (kWh/m2) | F1: Mediaan kental (kWh/m2) | G1: Q3 kental (kWh/m2) | H1: Gewogen gemiddelde kental (kWh/m2) | I1: Gemiddelde kental inclusief eigenverbruik zonnestroom (kWh/m2) | J1: Q1 kental inclusief eigenverbruik zonnestroom (kWh/m2) | K1: Mediaan kental inclusief eigenverbruik zonnestroom (kWh/m2) | L1: Q3 kental inclusief eigenverbruik zonnestroom (kWh/m2) | M1: Gewogen gemiddelde kental inclusief eigenverbruik zonnestroom (kWh/m2)
A2: Elektriciteit | B2: Asielzoekerscentrum | C2: 72 | D2: 95.286072 | E2: 26.669081 | F2: 55.635441 | G2: 103.35415 | H2: 61.476917 | I2: 97.445762 | J2: 32.40258 | K2: 57.157323 | L2: 104.47928 | M2: 63.093153
A3: Elektriciteit | B3: Basisschool | C3: 4847 | D3: 24.717537 | E3: 15.159547 | F3: 21.032412 | G3: 30.586853 | H3: 25.833002 | I3: 28.404702 | J3: 17.313457 | K3: 23.232011 | L3: 34.562918 | M3: 29.346041
A4: Elektriciteit | B4: Bedrijfshal algemeen (geen LISA-informatie) | C4: 19457 | D4: 34.169249 | E4: 10.245098 | F4: 18.611404 | G4: 37.286913 | H4: 39.883314 | I4: 37.932116 | J4: 10.877419 | K4: 20.256356 | L4: 40.876923 | M4: 45.513556
A5: Elektriciteit | B5: Bedrijfshal algemeen (met LISA-informatie) | C5: 12346 | D5: 44.178162 | E5: 14.069139 | F5: 24.558334 | G5: 46.27125 | H5: 46.540239 | I5: 50.34469 | J5: 15.66552 | K5: 27.253216 | L5: 52.06244 | M5: 53.214576
A6: Elektriciteit | B6: Bedrijfshal met logistieke activiteiten | C6: 5585 | D6: 36.694499 | E6: 15.060811 | F6: 24.100624 | G6: 40.541463 | H6: 38.625123 | I6: 41.899877 | J6: 16.776287 | K6: 26.906956 | L6: 45.741549 | M6: 45.335846
A7: Elektriciteit | B7: Bedrijfshal met maakindustrie en andere economische activiteiten | C7: 4928 | D7: 40.334917 | E7: 14.911993 | F7: 25.043023 | G7: 44.575317 | H7: 48.61218 | I7: 45.495447 | J7: 16.631692 | K7: 28.26815 | L7: 51.402104 | M7: 54.226438
A8: Elektriciteit | B8: Bedrijfshal met maakindustrie en logistieke activiteiten | C8: 10515 | D8: 43.568129 | E8: 13.783978 | F8: 23.442938 | G8: 43.345294 | H8: 50.51565 | I8: 52.366001 | J8: 15.55054 | K8: 26.206821 | L8: 49.062287 | M8: 57.40826
A9: Elektriciteit | B9: Bedrijfshal uitsluitend maakindustrie | C9: 19013 | D9: 53.03074 | E9: 14.903817 | F9: 26.768293 | G9: 52.743363 | H9: 85.666349 | I9: 58.683279 | J9: 16.833492 | K9: 30.441468 | L9: 59.995907 | M9: 92.371111
A10: Elektriciteit | B10: Bedrijfswoning | C10: 65594 | D10: 59.526998 | E10: 14.742355 | F10: 26.393524 | G10: 56.885218 | H10: 46.43927 | I10: 80.158596 | J10: 17.098639 | K10: 31.227088 | L10: 69.602557 | M10: 61.493521
A11: Elektriciteit | B11: Bijeenkomstgebouw (niet nader ingedeeld) | C11: 9153 | D11: 45.446696 | E11: 12.774295 | F11: 24.344507 | G11: 52.216776 | H11: 48.164568 | I11: 49.029085 | J11: 13.980413 | K11: 26.798333 | L11: 56.991173 | M11: 51.293722
A12: Elektriciteit | B12: Campusgebouw | C12: 114 | D12: 100.23563 | E12: 36.182924 | F12: 60.563429 | G12: 131.82543 | H12: 77.101932 | I12: 104.05968 | J12: 41.758489 | K12: 62.594163 | L12: 139.32879 | M12: 80.292844
A13: Elektriciteit | B13: Cultuurhuis | C13: 570 | D13: 55.889216 | E13: 23.936519 | F13: 40.331401 | G13: 76.632431 | H13: 55.508009 | I13: 58.584316 | J13: 25.228303 | K13: 44.425074 | L13: 78.856405 | M13: 57.475114
... A15: Elektriciteit | B15: Gebedshuis | C15: 3468 | D15: 15.062869 | E15: 8.3466705 | F15: 12.078279 | G15: 18.947703 | H15: 16.314085 | I15: 16.546518 | J15: 8.8480432 | K15: 13.071919 | L15: 20.548046 | M15: 18.022641
A16: Elektriciteit | B16: Gebouw bij militaire inrichting | C16: 13 | D16: 817.40416 | H16: 568.50825 | I16: 817.40416 | M16: 568.50825
A17: Elektriciteit | B17: Gebouw bij spooremplacement | C17: 69 | D17: 68.140025 | E17: 17.996599 | F17: 50.398936 | G17: 99.517857 | H17: 53.228625 | I17: 69.190977 | J17: 21.674074 | K17: 50.940991 | L17: 99.517857 | M17: 54.345554
A18: Elektriciteit | B18: Gebouw bij vliegveld of luchthaven | C18: 129 | D18: 34.595676 | E18: 11.995136 | F18: 24.259587 | G18: 48.722124 | H18: 42.09417 | I18: 39.534432 | J18: 14.030303 | K18: 31.333612 | L18: 56.769024 | M18: 44.308339
A19: Elektriciteit | B19: Gebouw in landelijk gebied voor industrie (geen landbouwactiviteiten geregistreerd) | C19: 4785 | D19: 44.527911 | E19: 12.187558 | F19: 23.515306 | G19: 51.16307 | H19: 47.028863 | I19: 60.659779 | J19: 13.877273 | K19: 27.713789 | L19: 61.058315 | M19: 60.377707
A20: Elektriciteit | B20: Gebouw in stedelijk gebied met industriefunctie | C20: 13069 | D20: 51.013922 | E20: 12.543689 | F20: 23.969388 | G20: 50.558306 | H20: 54.414093 | I20: 55.164714 | J20: 13.668142 | K20: 26.684211 | L20: 56.360345 | M20: 58.433246
A21: Elektriciteit | B21: Gebouw op snelwegverzorgingsplaats | C21: 144 | D21: 638.80175 | E21: 278.20242 | F21: 649.14092 | G21: 897.06548 | H21: 390.79155 | I21: 662.58627 | J21: 278.20242 | K21: 655.11255 | L21: 924.99476 | M21: 407.65011
A22: Elektriciteit | B22: Gebouw op vakantiepark | C22: 37975 | D22: 25.436125 | E22: 11.110703 | F22: 16.7625 | G22: 27.857705 | H22: 31.219917 | I22: 28.482441 | J22: 11.64297 | K22: 17.88 | L22: 30.985151 | M22: 35.377603
A23: Elektriciteit | B23: Gebouw voor landbouwactiviteiten | C23: 2388 | D23: 105.92794 | E23: 19.960741 | F23: 44.153931 | G23: 124.68002 | H23: 80.153195 | I23: 126.96955 | J23: 23.49375 | K23: 53.15241 | L23: 148.28221 | M23: 91.683929
A24: Elektriciteit | B24: Groothandel op bedrijventerrein | C24: 581 | D24: 27.691904 | E24: 14.494858 | F24: 21.971637 | G24: 33.888737 | H24: 26.078969 | I24: 30.486702 | J24: 15.661017 | K24: 23.969267 | L24: 37.17172 | M24: 28.262063
A25: Elektriciteit | B25: Hotel (of ander groot logiesgebouw) | C25: 2499 | D25: 67.352328 | E25: 24.455533 | F25: 52.597179 | G25: 97.523872 | H25: 75.701339 | I25: 69.869777 | J25: 27.27376 | K25: 55.18 | L25: 99.870464 | M25: 77.191082
A26: Elektriciteit | B26: IJsbaan | C26: 100 | D26: 22.181064 | E26: 9.63794 | F26: 17.050456 | G26: 27.371191 | H26: 46.854106 | I26: 27.016533 | J26: 10.385543 | K26: 18.713235 | L26: 30.753245 | M26: 48.996344
A27: Elektriciteit | B27: Kantoorpand algemeen | C27: 20471 | D27: 45.250322 | E27: 19.5 | F27: 34.315625 | G27: 59.186458 | H27: 53.018255 | I27: 51.590388 | J27: 21.442642 | K27: 37.541318 | L27: 63.735449 | M27: 56.31796
A28: Elektriciteit | B28: Kinderopvang (gebouw) | C28: 1528 | D28: 31.809556 | E28: 19.266175 | F28: 27.664835 | G28: 38.151641 | H28: 30.855154 | I28: 34.067236 | J28: 20.876721 | K28: 29.590878 | L28: 41.053431 | M28: 33.059422
A29: Elektriciteit | B29: Koelhuis | C29: 93 | D29: 261.471 | E29: 55.293489 | F29: 173.98695 | G29: 349.22834 | H29: 227.54555 | I29: 275.71425 | J29: 83.969144 | K29: 191.19377 | L29: 357.29249 | M29: 243.7014
A30: Elektriciteit | B30: MBO-gebouw | C30: 16 | D30: 67.042569 | H30: 63.725673 | I30: 68.770983 | M30: 64.945011
A31: Elektriciteit | B31: Meergezinswoning met andere functie of combinatie van functies | C31: 17590 | D31: 34.729065 | E31: 16.438282 | F31: 24.429597 | G31: 38.537712 | H31: 36.301575 | I31: 37.263399 | J31: 17.320141 | K31: 25.647066 | L31: 41.07699 | M31: 38.501067
A32: Elektriciteit | B32: Meergezinswoning met cafe of restaurant | C32: 6227 | D32: 86.035197 | E32: 30.257046 | F32: 71.046008 | G32: 123.06191 | H32: 77.980818 | I32: 86.787005 | J32: 31.24965 | K32: 71.627016 | L32: 123.46416 | M32: 78.849129
A33: Elektriciteit | B33: Meergezinswoning met winkel | C33: 22101 | D33: 44.712997 | E33: 20.440339 | F33: 31.954248 | G33: 54.039841 | H33: 46.25489 | I33: 45.499189 | J33: 20.911032 | K33: 32.791262 | L33: 54.962963 | M33: 47.126839
A34: Elektriciteit | B34: Meergezinswoning met winkels en horeca | C34: 2551 | D34: 52.19662 | E34: 24.036514 | F34: 37.620915 | G34: 68.997684 | H34: 52.806319 | I34: 53.275168 | J34: 24.526286 | K34: 39.100365 | L34: 69.911004 | M34: 53.846584
A35: Elektriciteit | B35: Meergezinswoning met woonzorgeenheden | C35: 296 | D35: 30.718172 | E35: 18.520216 | F35: 28.4628 | G35: 39.588263 | H35: 33.587039 | I35: 33.592048 | J35: 20.125458 | K35: 30.430592 | L35: 43.315241 | M35: 37.498785
A36: Elektriciteit | B36: Middelbare school | C36: 1102 | D36: 35.26091 | E36: 21.560234 | F36: 29.472647 | G36: 42.553721 | H36: 32.483176 | I36: 39.440366 | J36: 24.681636 | K36: 33.493064 | L36: 47.396537 | M36: 36.464063
A37: Elektriciteit | B37: Nutsgebouw (elektriciteit) | C37: 122 | D37: 137.1664 | E37: 30.139897 | F37: 67.474193 | G37: 213.89344 | H37: 77.035583 | I37: 313.63662 | J37: 32.263479 | K37: 68.62936 | L37: 214.18317 | M37: 118.70976
A38: Elektriciteit | B38: Nutsgebouw (water) | C38: 62 | D38: 555.72943 | E38: 27.243653 | F38: 93.235572 | G38: 338.70476 | H38: 309.96345 | I38: 1020.2385 | J38: 36.756428 | K38: 144.07596 | L38: 698.04661 | M38: 427.80852
A39: Elektriciteit | B39: Overig gebouw met maatschappelijke functie | C39: 1182 | D39: 37.564657 | E39: 8.6608259 | F39: 15.656363 | G39: 40.813312 | H39: 56.885366 | I39: 39.17881 | J39: 8.8308775 | K39: 16.430977 | L39: 42.612779 | M39: 59.75532
A40: Elektriciteit | B40: Overig gebouw met recreatiefunctie | C40: 76 | D40: 110.39681 | E40: 26.523395 | F40: 72.499713 | G40: 150.35905 | H40: 140.41499 | I40: 120.5954 | J40: 34.281475 | K40: 75.111698 | L40: 158.31364 | M40: 147.85137
A41: Elektriciteit | B41: Overig onderwijsgebouw | C41: 3094 | D41: 29.839633 | E41: 14.776307 | F41: 22.425517 | G41: 36.485436 | H41: 35.052554 | I41: 31.896333 | J41: 15.652689 | K41: 23.659472 | L41: 39.05221 | M41: 36.911131
...

Sheet elek_kental_bouwj_2023
A1: Energiedrager | B1: Gebouwtype | C1: Bouwjaarklasse | D1: Aantal panden | E1: Aandeel panden per gebouwtype | F1: Gemiddelde kental (kWh/m2) | G1: Q1 kental (kWh/m2) | H1: Mediaan kental (kWh/m2) | I1: Q3 kental (kWh/m2) | J1: Gewogen gemiddelde kental (kWh/m2) | K1: Gemiddelde kental inclusief eigenverbruik zonnestroom (kWh/m2) | L1: Q1 kental inclusief eigenverbruik zonnestroom (kWh/m2) | M1: Mediaan kental inclusief eigenverbruik zonnestroom (kWh/m2) | N1: Q3 kental inclusief eigenverbruik zonnestroom (kWh/m2) | O1: Gewogen gemiddelde kental inclusief eigenverbruik zonnestroom (kWh/m2)
A2: Elektriciteit | B2: Basisschool | C2: tot 1946 | D2: 451 | E2: 0.093 | F2: 22.64452 | G2: 13.978985 | H2: 19.434462 | I2: 26.874356 | J2: 20.941838 | K2: 25.067362 | L2: 15.929252 | M2: 21.694444 | N2: 29.284697 | O2: 23.124759
A3: Elektriciteit | B3: Basisschool | C3: 1946 tot 1978 | D3: 1722 | E3: 0.355 | F3: 20.414526 | G3: 13.599019 | H3: 18.313723 | I3: 23.985142 | J3: 19.561649 | K3: 23.058094 | L3: 15.656646 | M3: 20.022044 | N3: 26.605128 | O3: 21.901287
A4: Elektriciteit | B4: Basisschool | C4: 1978 tot 1995 | D4: 1099 | E4: 0.227 | F4: 20.773374 | G4: 14.080823 | H4: 18.638393 | I4: 24.552158 | J4: 20.144006 | K4: 23.731466 | L4: 16.357318 | M4: 20.897098 | N4: 27.009038 | O4: 22.859041
A5: Elektriciteit | B5: Basisschool | C5: 1995 tot 2009 | D5: 707 | E5: 0.146 | F5: 26.030459 | G5: 16.872445 | H5: 22.746608 | I5: 32.022326 | J5: 26.308281 | K5: 29.304683 | L5: 19.126392 | M5: 25.445666 | N5: 36.061739 | O5: 29.127689
A6: Elektriciteit | B6: Basisschool | C6: 2009 tot 2015 | D6: 480 | E6: 0.099 | F6: 38.359996 | G6: 27.2078 | H6: 36.906467 | I6: 48.763463 | J6: 38.805022 | K6: 44.111041 | L6: 31.712768 | M6: 42.258521 | N6: 53.352892 | O6: 43.493945
A7: Elektriciteit | B7: Basisschool | C7: vanaf 2015 | D7: 388 | E7: 0.08 | F7: 38.126642 | G7: 26.345886 | H7: 36.673043 | I7: 48.100648 | J7: 37.151171 | K7: 48.179334 | L7: 33.467947 | M7: 45.834888 | N7: 58.932194 | O7: 46.452404
A8: Elektriciteit | B8: Bedrijfshal algemeen (geen LISA-informatie) | C8: tot 1946 | D8: 216 | E8: 0.011 | F8: 39.025215 | G8: 10.909859 | H8: 19.228542 | I8: 36.398136 | J8: 34.10697 | K8: 40.868523 | L8: 11.236837 | M8: 21.875404 | N8: 39.467382 | O8: 36.132432
A9: Elektriciteit | B9: Bedrijfshal algemeen (geen LISA-informatie) | C9: 1946 tot 1978 | D9: 2135 | E9: 0.11 | F9: 35.210458 | G9: 9.8422611 | H9: 18.332589 | I9: 38.084655 | J9: 41.224753 | K9: 38.220505 | L9: 10.422211 | M9: 20.089776 | N9: 41.186364 | O9: 45.589127
A10: Elektriciteit | B10: Bedrijfshal algemeen (geen LISA-informatie) | C10: 1978 tot 1995 | D10: 3984 | E10: 0.205 | F10: 37.607002 | G10: 10.40522 | H10: 18.764359 | I10: 38.975615 | J10: 43.523961 | K10: 40.915837 | L10: 11.092845 | M10: 20.164956 | N10: 43.21732 | O10: 47.204087
A11: Elektriciteit | B11: Bedrijfshal algemeen (geen LISA-informatie) | C11: 1995 tot 2009 | D11: 7229 | E11: 0.372 | F11: 31.775812 | G11: 9.8865546 | H11: 17.589474 | I11: 34.112676 | J11: 36.852654 | K11: 34.38492 | L11: 10.320917 | M11: 18.78125 | N11: 37.202899 | O11: 41.162471
A12: Elektriciteit | B12: Bedrijfshal algemeen (geen LISA-informatie) | C12: 2009 tot 2015 | D12: 1522 | E12: 0.078 | F12: 34.047951 | G12: 10.101586 | H12: 17.701144 | I12: 36.595849 | J12: 46.941156 | K12: 44.992502 | L12: 10.480156 | M12: 19.237709 | N12: 39.472149 | O12: 54.843468
A13: Elektriciteit | B13: Bedrijfshal algemeen (geen LISA-informatie) | C13: vanaf 2015 | D13: 4371 | E13: 0.225 | F13: 34.287963 | G13: 11.034178 | H13: 21.020833 | I13: 39.814433 | J13: 37.099846 | K13: 38.334689 | L13: 12.074862 | M13: 23.842784 | N13: 43.978261 | O13: 46.732711
... A55: Elektriciteit | B55: Bijeenkomstgebouw (niet nader ingedeeld) | C55: vanaf 2015 | D55: 477 | E55: 0.052 | F55: 71.2502 | G55: 21.193548 | H55: 42.692308 | I55: 97.846667 | J55: 70.247845 | K55: 85.038808 | L55: 25.354494 | M55: 53.094156 | N55: 112.78222 | O55: 82.530922
A56: Elektriciteit | B56: Campusgebouw | C56: tot 1978 | D56: 32 | E56: 0.281 | F56: 80.030619 | H56: 52.220757 | J56: 97.990468 | K56: 82.291529 | M56: 52.624913 | O56: 100.45746
A57: Elektriciteit | B57: Campusgebouw | C57: 1978 tot 1995 | D57: 15 | E57: 0.132 | F57: 65.793043 | J57: 80.266222 | K57: 69.645449 | O57: 88.964801
A58: Elektriciteit | B58: Campusgebouw | C58: 1995 tot 2009 | D58: 36 | E58: 0.316 | F58: 106.998 | H58: 54.659423 | J58: 92.484857 | K58: 109.665 | M58: 59.629855 | O58: 94.918522
A59: Elektriciteit | B59: Campusgebouw | C59: 2009 tot 2015 | D59: 11 | E59: 0.096 | F59: 150.1871 | J59: 102.56264 | K59: 153.00694 | O59: 103.9051
A60: Elektriciteit | B60: Campusgebouw | C60: vanaf 2015 | D60: 20 | E60: 0.175 | F60: 118.75002 | H60: 79.884066 | J60: 46.111857 | K60: 127.68882 | M60: 91.279824 | O60: 49.118962
A61: Elektriciteit | B61: Cultuurhuis | C61: tot 1946 | D61: 222 | E61: 0.389 | F61: 55.951063 | G61: 24.136009 | H61: 44.425074 | I61: 76.486104 | J61: 55.231237 | K61: 56.66312 | L61: 24.887916 | M61: 44.780828 | N61: 77.745487 | O61: 55.726627
A62: Elektriciteit | B62: Cultuurhuis | C62: 1946 tot 1978 | D62: 114 | E62: 0.2 | F62: 39.383744 | G62: 18.93247 | H62: 25.644004 | I62: 42.823452 | J62: 46.027877 | K62: 41.886584 | L62: 20.502616 | M62: 28.536027 | N62: 45.931921 | O62: 48.002755
A63: Elektriciteit | B63: Cultuurhuis | C63: 1978 tot 1995 | D63: 103 | E63: 0.181 | F63: 55.199843 | G63: 27.106831 | H63: 40.518931 | I63: 76.762959 | J63: 53.908215 | K63: 59.435451 | L63: 27.195843 | M63: 46.404301 | N63: 77.884695 | O63: 56.10161
A64: Elektriciteit | B64: Cultuurhuis | C64: 1995 tot 2009 | D64: 85 | E64: 0.149 | F64: 66.435688 | G64: 27.5 | H64: 51.763488 | I64: 101.39394 | J64: 63.752309 | K64: 70.645289 | L64: 28.901168 | M64: 58.674879 | N64: 101.39394 | O64: 66.478761
A65: Elektriciteit | B65: Cultuurhuis | C65: 2009 tot 2015 | D65: 24 | E65: 0.042 | F65: 79.434646 | H65: 69.53056 | J65: 56.272176 | K65: 82.347168 | M65: 69.53056 | O65: 56.615262
A66: Elektriciteit | B66: Cultuurhuis | C66: vanaf 2015 | D66: 22 | E66: 0.039 | F66: 77.587338 | H66: 73.427521 | J66: 62.937441 | K66: 87.988354 | M66: 82.332928 | O66: 71.323792
A67: Elektriciteit | B67: Gebedshuis | C67: tot 1946 | D67: 1377 | E67: 0.397 | F67: 14.053729 | G67: 7.6989796 | H67: 11.005666 | I67: 16.848442 | J67: 13.757497 | K67: 14.953338 | L67: 7.9044665 | M67: 11.727749 | N67: 17.893662 | O67: 14.566075
A68: Elektriciteit | B68: Gebedshuis | C68: 1946 tot 1978 | D68: 1178 | E68: 0.34 | F68: 14.467937 | G68: 8.1533397 | H68: 11.47188 | I68: 18.102903 | J68: 15.705943 | K68: 16.121516 | L68: 8.8218211 | M68: 12.547427 | N68: 20.01427 | O68: 17.775704
A69: Elektriciteit | B69: Gebedshuis | C69: 1978 tot 1995 | D69: 488 | E69: 0.141 | F69: 15.868356 | G69: 9.1117294 | H69: 13.673891 | I69: 20.288609 | J69: 16.848796 | K69: 17.466504 | L69: 10.095693 | M69: 14.599163 | N69: 21.507817 | O69: 18.820133
A70: Elektriciteit | B70: Gebedshuis | C70: 1995 tot 2009 | D70: 310 | E70: 0.089 | F70: 18.314505 | G70: 10.697928 | H70: 15.637093 | I70: 23.605752 | J70: 22.224328 | K70: 20.792858 | L70: 12.367916 | M70: 17.546874 | N70: 25.205294 | O70: 24.610063
A71: Elektriciteit | B71: Gebedshuis | C71: 2009 tot 2015 | D71: 81 | E71: 0.023 | F71: 19.815395 | G71: 12.244141 | H71: 17.243777 | I71: 23.961232 | J71: 20.155969 | K71: 23.269896 | L71: 14.559885 | M71: 20.672278 | N71: 28.572727 | O71: 23.19776
A72: Elektriciteit | B72: Gebedshuis | C72: vanaf 2015 | D72: 34 | E72: 0.01 | F72: 24.015117 | H72: 23.275729 | J72: 28.195538 | K72: 27.856833 | M72: 26.857477 | O72: 31.150341
A73: Elektriciteit | B73: Gebouw bij spooremplacement | C73: tot 1946 | D73: 14 | E73: 0.203 | F73: 31.21509 | J73: 14.099582 | K73: 32.062782 | O73: 15.28157
A74: Elektriciteit | B74: Gebouw bij spooremplacement | C74: 1995 tot 2009 | D74: 22 | E74: 0.319 | F74: 108.05236 | H74: 92.893501 | J74: 103.04433 | K74: 108.05236 | M74: 92.893501 | O74: 103.04433
A75: Elektriciteit | B75: Gebouw bij spooremplacement | C75: vanaf 2009 | D75: 14 | E75: 0.203 | F75: 55.394437 | J75: 41.141655 | K75: 58.872118 | O75: 43.209511
A76: Elektriciteit | B76: Gebouw bij spooremplacement | D76: 19 | E76: 0.275 | F76: 58.52508 | J76: 36.974813 | K76: 59.154577 | O76: 37.654827
A77: Elektriciteit | B77: Gebouw bij vliegveld of luchthaven | C77: tot 1978 | D77: 21 | E77: 0.163 | F77: 39.62926 | H77: 31.820755 | J77: 86.584391 | K77: 43.081732 | M77: 33.584906 | O77: 89.005257
A78: Elektriciteit | B78: Gebouw bij vliegveld of luchthaven | C78: 1978 tot 1995 | D78: 46 | E78: 0.357 | F78: 31.334617 | G78: 9.9698674 | H78: 17.376842 | I78: 44.893308 | J78: 32.612138 | K78: 35.351961 | L78: 12.109007 | M78: 20.363529 | N78: 45.283848 | O78: 37.968922
A79: Elektriciteit | B79: Gebouw bij vliegveld of luchthaven | C79: 1995 tot 2009 | D79: 38 | E79: 0.295 | F79: 37.821422 | H79: 31.841806 | J79: 44.234333 | K79: 39.735057 | M79: 31.841806 | O79: 44.333628
A80: Elektriciteit | B80: Gebouw bij vliegveld of luchthaven | C80: 2009 tot 2015 | D80: 10 | E80: 0.078 | F80: 30.331047 | J80: 43.516408 | K80: 53.619694 | O80: 48.23424
A81: Elektriciteit | B81: Gebouw bij vliegveld of luchthaven | C81: vanaf 2015 | D81: 14 | E81: 0.109 | F81: 32.050777 | J81: 30.161312 | K81: 37.350429 | O81: 30.657277
...

Sheet elek_kental_opp_2023
A1: Energiedrager | B1: Gebouwtype | C1: Oppervlakteklasse | D1: Aantal panden | E1: Aandeel panden per gebouwtype | F1: Gemiddelde kental (kWh/m2) | G1: Q1 kental (kWh/m2) | H1: Mediaan kental (kWh/m2) | I1: Q3 kental (kWh/m2) | J1: Gewogen gemiddelde kental (kWh/m2) | K1: Gemiddelde kental inclusief eigenverbruik zonnestroom (kWh/m2) | L1: Q1 kental inclusief eigenverbruik zonnestroom (kWh/m2) | M1: Mediaan kental inclusief eigenverbruik zonnestroom (kWh/m2) | N1: Q3 kental inclusief eigenverbruik zonnestroom (kWh/m2) | O1: Gewogen gemiddelde kental inclusief eigenverbruik zonnestroom (kWh/m2)
A2: Elektriciteit | B2: Basisschool | C2: tot 250 m2 | D2: 16 | E2: 0.003 | F2: 45.566914 | J2: 44.077098 | K2: 50.614913 | O2: 47.592251
A3: Elektriciteit | B3: Basisschool | C3: 250 tot 500 m2 | D3: 110 | E3: 0.023 | F3: 26.983877 | G3: 17.443735 | H3: 23.255413 | I3: 31.290809 | J3: 26.6895 | K3: 31.547483 | L3: 20.399754 | M3: 25.394066 | N3: 35.186573 | O3: 31.108685
A4: Elektriciteit | B4: Basisschool | C4: 500 tot 1000 m2 | D4: 907 | E4: 0.187 | F4: 23.21583 | G4: 14.879426 | H4: 19.573152 | I4: 26.863122 | J4: 23.126982 | K4: 27.062971 | L4: 17.192224 | M4: 21.794928 | N4: 31.544932 | O4: 26.986275
A5: Elektriciteit | B5: Basisschool | C5: 1000 tot 2500 m2 | D5: 2799 | E5: 0.577 | F5: 23.817058 | G5: 15.213575 | H5: 20.40708 | I5: 28.826864 | J5: 24.079438 | K5: 27.441826 | L5: 17.372745 | M5: 22.54872 | N5: 32.533742 | O5: 27.840897
A6: Elektriciteit | B6: Basisschool | C6: 2500 tot 5000 m2 | D6: 804 | E6: 0.166 | F6: 27.810998 | G6: 15.622842 | H6: 25.001763 | I6: 37.301891 | J6: 27.963761 | K6: 31.768775 | L6: 17.399942 | M6: 28.683491 | N6: 43.967886 | O6: 31.921527
A7: Elektriciteit | B7: Basisschool | C7: 5000 tot 10000 m2 | D7: 177 | E7: 0.037 | F7: 29.807438 | G7: 13.22358 | H7: 26.936032 | I7: 43.487374 | J7: 29.830981 | K7: 32.255594 | L7: 13.358949 | M7: 28.362507 | N7: 46.171228 | O7: 32.226125
A8: Elektriciteit | B8: Basisschool | C8: vanaf 10000 m2 | D8: 34 | E8: 0.007 | F8: 22.115894 | H8: 19.879934 | J8: 24.239703 | K8: 23.247318 | M8: 21.54832 | O8: 25.369047
A9: Elektriciteit | B9: Bedrijfshal algemeen (geen LISA-informatie) | C9: tot 50 m2 | D9: 619 | E9: 0.032 | F9: 56.91532 | G9: 10.95 | H9: 26.938776 | I9: 84.708333 | J9: 54.491041 | K9: 59.014943 | L9: 11.24375 | M9: 28.565217 | N9: 84.875 | O9: 56.63227
A10: Elektriciteit | B10: Bedrijfshal algemeen (geen LISA-informatie) | C10: 50 tot 100 m2 | D10: 2002 | E10: 0.103 | F10: 38.263297 | G10: 9.7976982 | H10: 20.551971 | I10: 45.436806 | J10: 37.641281 | K10: 40.627251 | L10: 10.003125 | M10: 21.603391 | N10: 48.308999 | O10: 39.981257
A11: Elektriciteit | B11: Bedrijfshal algemeen (geen LISA-informatie) | C11: 100 tot 250 m2 | D11: 5171 | E11: 0.266 | F11: 30.547472 | G11: 9.8302469 | H11: 18.16 | I11: 33.094828 | J11: 30.452923 | K11: 33.017468 | L11: 10.185735 | M11: 19.346457 | N11: 36.030172 | O11: 32.943905
A12: Elektriciteit | B12: Bedrijfshal algemeen (geen LISA-informatie) | C12: 250 tot 500 m2 | D12: 3517 | E12: 0.181 | F12: 29.833413 | G12: 9.8822314 | H12: 16.931034 | I12: 32.960212 | J12: 29.957765 | K12: 36.152927 | L12: 10.553125 | M12: 18.358696 | N12: 36.383202 | O12: 35.430089
A13: Elektriciteit | B13: Bedrijfshal algemeen (geen LISA-informatie) | C13: 500 tot 1000 m2 | D13: 3370 | E13: 0.173 | F13: 30.185504 | G13: 9.9460976 | H13: 17.102793 | I13: 31.938153 | J13: 30.679852 | K13: 32.804149 | L13: 10.901501 | M13: 19.413671 | N13: 34.8829 | O13: 33.37874
A14: Elektriciteit | B14: Bedrijfshal algemeen (geen LISA-informatie) | C14: 1000 tot 2500 m2 | D14: 2920 | E14: 0.15 | F14: 35.64611 | G14: 11.188387 | H14: 19.885833 | I14: 38.960792 | J14: 36.473269 | K14: 40.12206 | L14: 12.083811 | M14: 21.603324 | N14: 43.812505 | O14: 41.062787
A15: Elektriciteit | B15: Bedrijfshal algemeen (geen LISA-informatie) | C15: 2500 tot 5000 m2 | D15: 1052 | E15: 0.054 | F15: 45.063963 | G15: 11.509115 | H15: 22.470273 | I15: 47.891766 | J15: 45.696963 | K15: 49.66568 | L15: 12.482787 | M15: 24.721378 | N15: 53.452084 | O15: 50.523105
A16: Elektriciteit | B16: Bedrijfshal algemeen (geen LISA-informatie) | C16: 5000 tot 10000 m2 | D16: 512 | E16: 0.026 | F16: 47.327548 | G16: 11.682781 | H16: 23.373055 | I16: 57.265183 | J16: 47.654818 | K16: 53.099555 | L16: 12.740967 | M16: 27.408709 | N16: 68.988694 | O16: 53.792261
A17: Elektriciteit | B17: Bedrijfshal algemeen (geen LISA-informatie) | C17: vanaf 10000 m2 | D17: 294 | E17: 0.015 | F17: 43.066335 | G17: 13.208063 | H17: 22.657169 | I17: 45.053337 | J17: 41.865284 | K17: 51.545346 | L17: 14.63357 | M17: 28.894005 | N17: 59.019918 | O17: 50.933655
A18: Elektriciteit | B18: Bedrijfshal algemeen (met LISA-informatie) | C18: tot 50 m2 | D18: 81 | E18: 0.007 | F18: 116.44101 | G18: 22.142857 | H18: 61.466667 | I18: 184.15385 | J18: 112.22506 | K18: 118.34687 | L18: 24.487805 | M18: 65.645833 | N18: 184.15385 | O18: 114.19637
A19: Elektriciteit | B19: Bedrijfshal algemeen (met LISA-informatie) | C19: 50 tot 100 m2 | D19: 557 | E19: 0.045 | F19: 69.257951 | G19: 18.175439 | H19: 36.177778 | I19: 74.777778 | J19: 66.332023 | K19: 75.430923 | L19: 19.148148 | M19: 39.136842 | N19: 85.296875 | O19: 72.500868
A20: Elektriciteit | B20: Bedrijfshal algemeen (met LISA-informatie) | C20: 100 tot 250 m2 | D20: 2306 | E20: 0.187 | F20: 47.108865 | G20: 14.696259 | H20: 26.574669 | I20: 48.543866 | J20: 46.738388 | K20: 51.793723 | L20: 15.631611 | M20: 28.549842 | N20: 53.76217 | O20: 51.234975
... A42: Elektriciteit | B42: Bedrijfshal met maakindustrie en andere economische activiteiten | C42: vanaf 10000 m2 | D42: 151 | E42: 0.031 | F42: 69.568748 | G42: 19.21871 | H42: 42.770651 | I42: 81.680545 | J42: 68.405364 | K42: 75.01622 | L42: 22.46705 | M42: 48.43419 | N42: 91.401306 | O42: 73.397749
A43: Elektriciteit | B43: Bedrijfshal met maakindustrie en logistieke activiteiten | C43: tot 50 m2 | D43: 29 | E43: 0.003 | F43: 105.45273 | H43: 67 | J43: 97.976901 | K43: 124.20734 | M43: 70.645161 | O43: 116.95485
A44: Elektriciteit | B44: Bedrijfshal met maakindustrie en logistieke activiteiten | C44: 50 tot 100 m2 | D44: 202 | E44: 0.019 | F44: 63.628131 | G44: 18.012401 | H44: 35.597628 | I44: 74.342719 | J44: 61.471564 | K44: 250.47704 | L44: 19.306606 | M44: 39.055255 | N44: 79.496659 | O44: 255.58618
A45: Elektriciteit | B45: Bedrijfshal met maakindustrie en logistieke activiteiten | C45: 100 tot 250 m2 | D45: 979 | E45: 0.093 | F45: 44.191803 | G45: 13.518939 | H45: 24.855932 | I45: 46.496679 | J45: 43.555328 | K45: 48.976966 | L45: 14.726345 | M45: 26.670732 | N45: 49.900509 | O45: 48.509464
A46: Elektriciteit | B46: Bedrijfshal met maakindustrie en logistieke activiteiten | C46: 250 tot 500 m2 | D46: 1316 | E46: 0.125 | F46: 39.014334 | G46: 14.009807 | H46: 23.617015 | I46: 40.414128 | J46: 38.986671 | K46: 44.122226 | L46: 15.248047 | M46: 25.376582 | N46: 44.58758 | O46: 43.987614
A47: Elektriciteit | B47: Bedrijfshal met maakindustrie en logistieke activiteiten | C47: 500 tot 1000 m2 | D47: 2163 | E47: 0.206 | F47: 38.70247 | G47: 13.143166 | H47: 21.786078 | I47: 37.073786 | J47: 38.635898 | K47: 42.957439 | L47: 14.706424 | M47: 24.181004 | N47: 40.586461 | O47: 42.778086
A48: Elektriciteit | B48: Bedrijfshal met maakindustrie en logistieke activiteiten | C48: 1000 tot 2500 m2 | D48: 3116 | E48: 0.296 | F48: 39.044626 | G48: 13.472632 | H48: 22.023335 | I48: 38.503168 | J48: 39.418287 | K48: 43.837193 | L48: 15.433295 | M48: 24.882557 | N48: 43.937706 | O48: 44.150175
A49: Elektriciteit | B49: Bedrijfshal met maakindustrie en logistieke activiteiten | C49: 2500 tot 5000 m2 | D49: 1541 | E49: 0.147 | F49: 47.848201 | G49: 13.710033 | H49: 24.522588 | I49: 47.904837 | J49: 47.738008 | K49: 53.747778 | L49: 15.676695 | M49: 28.633489 | N49: 55.628906 | O49: 53.700341
A50: Elektriciteit | B50: Bedrijfshal met maakindustrie en logistieke activiteiten | C50: 5000 tot 10000 m2 | D50: 767 | E50: 0.073 | F50: 53.769662 | G50: 14.074917 | H50: 26.409808 | I50: 59.271694 | J50: 54.735396 | K50: 61.362424 | L50: 16.974768 | M50: 30.932401 | N50: 71.725237 | O50: 62.217753
A51: Elektriciteit | B51: Bedrijfshal met maakindustrie en logistieke activiteiten | C51: vanaf 10000 m2 | D51: 402 | E51: 0.038 | F51: 67.784381 | G51: 16.775239 | H51: 34.407428 | I51: 77.058585 | J51: 61.222827 | K51: 77.146483 | L51: 21.338483 | M51: 41.219223 | N51: 101.94987 | O51: 70.340369
A52: Elektriciteit | B52: Bedrijfshal uitsluitend maakindustrie | C52: tot 50 m2 | D52: 89 | E52: 0.005 | F52: 121.31816 | G52: 27.690476 | H52: 56.826087 | I52: 167.38235 | J52: 118.01104 | K52: 128.59907 | L52: 28.463415 | M52: 62.487805 | N52: 181.11744 | O52: 125.17356
A53: Elektriciteit | B53: Bedrijfshal uitsluitend maakindustrie | C53: 50 tot 100 m2 | D53: 480 | E53: 0.025 | F53: 57.017492 | G53: 13.951838 | H53: 28.506044 | I53: 60.174684 | J53: 54.914931 | K53: 61.443132 | L53: 14.11 | M53: 30.075833 | N53: 63.422885 | O53: 59.283089
A54: Elektriciteit | B54: Bedrijfshal uitsluitend maakindustrie | C54: 100 tot 250 m2 | D54: 2348 | E54: 0.123 | F54: 40.053789 | G54: 12.698113 | H54: 22.105999 | I54: 40.333961 | J54: 39.398967 | K54: 44.63917 | L54: 13.398634 | M54: 23.587037 | N54: 43.632493 | O54: 43.881473
A55: Elektriciteit | B55: Bedrijfshal uitsluitend maakindustrie | C55: 250 tot 500 m2 | D55: 3250 | E55: 0.171 | F55: 38.834573 | G55: 13.271027 | H55: 22.335967 | I55: 38.609645 | J55: 38.910978 | K55: 42.72119 | L55: 14.657762 | M55: 24.946053 | N55: 43.483049 | O55: 42.832458
... A67: Elektriciteit | B67: Bedrijfswoning | C67: 2500 tot 5000 m2 | D67: 278 | E67: 0.004 | F67: 34.653507 | G67: 10.663656 | H67: 19.779866 | I67: 40.943838 | J67: 35.390559 | K67: 39.846722 | L67: 12.525138 | M67: 25.449696 | N67: 50.126126 | O67: 40.409138
A68: Elektriciteit | B68: Bedrijfswoning | C68: 5000 tot 10000 m2 | D68: 33 | E68: 0.001 | F68: 31.25893 | H68: 17.599735 | J68: 30.24585 | K68: 34.488434 | M68: 17.954506 | O68: 33.360699
A69: Elektriciteit | B69: Bedrijfswoning | C69: vanaf 10000 m2 | D69: 26 | E69: 0 | F69: 63.162879 | H69: 42.1809 | J69: 73.26379 | K69: 75.51685 | M69: 45.515318 | O69: 82.340814
A70: Elektriciteit | B70: Bijeenkomstgebouw (niet nader ingedeeld) | C70: tot 50 m2 | D70: 214 | E70: 0.023 | F70: 75.32996 | G70: 15.797436 | H70: 39.48 | I70: 113.78106 | J70: 71.287447 | K70: 79.870655 | L70: 16.903493 | M70: 43.652936 | N70: 123.18713 | O70: 75.74362
A71: Elektriciteit | B71: Bijeenkomstgebouw (niet nader ingedeeld) | C71: 50 tot 100 m2 | D71: 885 | E71: 0.097 | F71: 62.024699 | G71: 15.252747 | H71: 34.505495 | I71: 84.609375 | J71: 61.878408 | K71: 67.411808 | L71: 16 | M71: 36.301205 | N71: 90.633333 | O71: 67.103337
A72: Elektriciteit | B72: Bijeenkomstgebouw (niet nader ingedeeld) | C72: 100 tot 250 m2 | D72: 2781 | E72: 0.304 | F72: 44.875149 | G72: 12.128788 | H72: 22.93578 | I72: 49.102128 | J72: 44.295122 | K72: 48.337661 | L72: 12.775758 | M72: 24.682927 | N72: 55.00813 | O72: 47.784647
...

Sheet elek_kental_diensten_2023
A1: Energiedrager | B1: Gebouwtype | C1: Aantal panden | D1: Gemiddelde kental (kWh/m2) | E1: Q1 kental (kWh/m2) | F1: Mediaan kental (kWh/m2) | G1: Q3 kental (kWh/m2) | H1: Gewogen gemiddelde kental (kWh/m2) | I1: Gemiddelde kental inclusief eigenverbruik zonnestroom (kWh/m2) | J1: Q1 kental inclusief eigenverbruik zonnestroom (kWh/m2) | K1: Mediaan kental inclusief eigenverbruik zonnestroom (kWh/m2) | L1: Q3 kental inclusief eigenverbruik zonnestroom (kWh/m2) | M1: Gewogen gemiddelde kental inclusief eigenverbruik zonnestroom (kWh/m2)
A2: Elektriciteit | B2: Asielzoekerscentrum | C2: 50 | D2: 106.28129 | E2: 45.495889 | F2: 70.83653 | G2: 112.19286 | H2: 67.742722 | I2: 106.76542 | J2: 45.687097 | K2: 70.83653 | L2: 112.19286 | M2: 67.876605
A3: Elektriciteit | B3: Basisschool | C3: 4339 | D3: 24.019862 | E3: 14.95505 | F3: 20.540909 | G3: 29.370123 | H3: 24.465217 | I3: 27.714534 | J3: 17.09408 | K3: 22.741646 | L3: 33.544592 | M3: 28.134018
