Workbook

Sheet inhoudsopgave en toelichting
C1: Energiekentallen Utiliteitsbouw
C4: Project details
D6: Project naam | E6: Energiekentallen Utiliteitsgebouwen
D7: Datum | E7: Augustus 2026
D8: Contactpersoon TNO | E8: Robin Niessink, robin.niessink@tno.nl
C10: Deze dataset is ontwikkeld met subsidie van de Rijksdienst voor Ondernemend Nederland (RVO)
C12: Toelichting
C14: In dit onderzoek zijn energie-kentallen voor aardgaslevering (m3/m2) en elektriciteitslevering (kWh/m2) voor de diverse gebouwtypen van de utiliteitsbouw bepaald voor zichtjaren 2020 t/m 2024. De kentallen zijn waar mogelijk uitgesplitst naar bouwjaar-, oppervlakte-, en energielabelklassen. Ook voor de groep van panden die binnen de dienstensector valt zijn kentallen ontwikkeld. Voor zonnestroom is een eigen inschatting gemaakt van de teruglevering en daarmee is het eigenverbruik berekend en vervolgens opgeteld bij de netlevering voor een betere benadering van het totaalverbruik.
C16: De kentallen voor zonnestroomproductie (kWh/m2) alsmede het aandeel panden met zonnestroomproductie (in de populatie) zijn toegevoegd in een apart tab.
C18: NB: Een lege cel betekent dat een kental niet kon worden weergegeven vanwege de daarvoor geldende privacyregels. Het aantal overgebleven waarnemingen in de onderzoekspopulatie was hiervoor te laag.
C20: Voor nadere toelichting zie TNO rapport: Energiekentallen utiliteitsgebouwen 2020 t/m 2024 - Een analyse van het energieverbruik per gebouwtype voor de ontwikkeling van benchmark energiekentallen
C22: Inhoudsopgave
C23: Tab naam | E23: Inhoud
C24: elek_kental_ | E24: kentallen elektriciteit per gebouwtype
C25: elek_kental_bouwj_ | E25: kentallen elektriciteit per gebouwtype met uitsplitsing naar bouwjaarklassen
C26: elek_kental_opp_ | E26: kentallen elektriciteit per gebouwtype met uitsplitsing naar (gebruiks)oppervlakteklassen
C27: elek_kental_diensten_ | E27: kentallen elektriciteit per gebouwtype voor panden die vallen binnen de dienstensector
C28: elek_kental_subsets_ | E28: kentallen elektriciteit per gebouwtype voor panden met onderscheid naar panden met of zonder zonnestroom en waar de teruglevering wel of niet hoger is dan de zonnestroomproductie
C29: zonnestroom_kentallen_ | E29: kentallen zonnestroomproductie per gebouwtype
C30: gas_kental_ | E30: kentallen aardgas per gebouwtype
C31: gas_kental_bouwj_ | E31: kentallen aardgas per gebouwtype met uitsplitsing naar bouwjaarklassen
C32: gas_kental_opp_ | E32: kentallen aardgas per gebouwtype met uitsplitsing naar (gebruiks)oppervlakteklassen
C33: gas_kental_diensten_ | E33: kentallen aardgas per gebouwtype voor panden die vallen binnen de dienstensector
C34: populatie_overzicht_ | E34: een overzicht met het aantal panden in de onderzoekspopulatie in het betreffende tab, waarmee onder andere is na te gaan welke categorieën ontbreken per tab
C37: Toelichting kolommen in de tabs
C39: Energiedrager | D39: Dit geeft aan of het een kental voor aardgas of elektriciteit is
C40: Gebouwtype | D40: Dit geeft aan over welk gebouwtype het gaat
C41: Aantal panden | D41: Dit geeft het aantal panden in het onderzoek aan waarover de kentallen in de categorie berekend zijn
C42: Aandeel panden per gebouwtype | D42: Het percentage van het aantal panden dat in de betreffende categorie valt per gebouwtype
C43: Gemiddelde kental (kWh/m2) | D43: Het gemiddelde kental
C44: Q1 kental (kWh/m2) | D44: Het kental voor het 1ste kwartiel
C45: Mediaan kental (kWh/m2) | D45: Het kental voor de mediaan
C46: Q3 kental (kWh/m2) | D46: Het kental voor het 3e kwartiel
C47: Gewogen gemiddelde kental (kWh/m2) | D47: Het gemiddelde kental waarbij het pandoppervlak als weegfactor is gebruikt
C48: Gemiddelde kental inclusief eigenverbruik zonnestroom (kWh/m2) | D48: Eerst is het eigenverbruik zonnestroom bepaald en vervolgens opnieuw het gemiddelde bepaald
C49: Q1 kental inclusief eigenverbruik zonnestroom (kWh/m2) | D49: Eerst is het eigenverbruik zonnestroom bepaald en vervolgens opnieuw het 1ste kwartiel
C50: Mediaan kental inclusief eigenverbruik zonnestroom (kWh/m2) | D50: Eerst is het eigenverbruik zonnestroom bepaald en vervolgens opnieuw de mediaan
... C56: Gewogen gemiddelde zonnestroomproductie kental (kWh/m2) (inclusief panden zonder zon-pv) | D56: Het gewogen gemiddelde kental voor zonnestroomproductie berekend als gemiddelde voor panden met en zonder zonnestroomproductie

Sheet gas_kental_2022
A1: Energiedrager | B1: Gebouwtype | C1: Aantal panden | D1: Gemiddelde kental (m3/m2) | E1: Q1 kental (m3/m2) | F1: Mediaan kental (m3/m2) | G1: Q3 kental (m3/m2) | H1: Gewogen gemiddelde kental (m3/m2)
A2: Gas | B2: Asielzoekerscentrum | C2: 66 | D2: 22.928182 | E2: 8.4330109 | F2: 15.680251 | G2: 24.810847 | H2: 13.943501
A3: Gas | B3: Basisschool | C3: 4442 | D3: 9.2252513 | E3: 6.3383701 | F3: 8.9536894 | G3: 11.610199 | H3: 7.5226296
A4: Gas | B4: Bedrijfshal algemeen (geen LISA-informatie) | C4: 17891 | D4: 4.1603489 | E4: 0.65625 | F4: 2.5816135 | G4: 5.6549078 | H4: 3.8872038
A5: Gas | B5: Bedrijfshal algemeen (met LISA-informatie) | C5: 11184 | D5: 5.1684365 | E5: 1.7743765 | F5: 3.6781554 | G5: 6.4470497 | H5: 4.199997
A6: Gas | B6: Bedrijfshal met logistieke activiteiten | C6: 4936 | D6: 4.2209556 | E6: 1.7889405 | F6: 3.2981352 | G6: 5.3729589 | H6: 3.3821583
A7: Gas | B7: Bedrijfshal met maakindustrie en andere economische activiteiten | C7: 4558 | D7: 4.9126459 | E7: 1.9476302 | F7: 3.5931465 | G7: 6.0969777 | H7: 4.9340439
A8: Gas | B8: Bedrijfshal met maakindustrie en logistieke activiteiten | C8: 9655 | D8: 4.5823908 | E8: 1.6598175 | F8: 3.4167539 | G8: 5.9195131 | H8: 3.8369342
A9: Gas | B9: Bedrijfshal uitsluitend maakindustrie | C9: 17755 | D9: 6.4525273 | E9: 1.9552539 | F9: 3.9778813 | G9: 7.1986667 | H9: 8.312173
A10: Gas | B10: Bedrijfswoning | C10: 64004 | D10: 9.6708576 | E10: 4.0614693 | F10: 7.5310209 | G10: 12.369383 | H10: 6.6093878
A11: Gas | B11: Bijeenkomstgebouw (niet nader ingedeeld) | C11: 9270 | D11: 9.1786003 | E11: 4.3015832 | F11: 7.507125 | G11: 12.090057 | H11: 8.0401523
A12: Gas | B12: Campusgebouw | C12: 96 | D12: 10.876922 | E12: 2.8708129 | F12: 7.7030892 | G12: 13.213855 | H12: 7.1973721
A13: Gas | B13: Cultuurhuis | C13: 541 | D13: 8.9049263 | E13: 5.0173653 | F13: 8.0711111 | G13: 12.109989 | H13: 6.2596873
... A15: Gas | B15: Gebedshuis | C15: 4268 | D15: 8.4932265 | E15: 5.1093442 | F15: 7.8733252 | G15: 11.226801 | H15: 6.5097704
A16: Gas | B16: Gebouw bij militaire inrichting | C16: 19 | D16: 1630.6599 | H16: 181.01616
A17: Gas | B17: Gebouw bij spooremplacement | C17: 83 | D17: 9.4803044 | E17: 3.2398423 | F17: 6.6365649 | G17: 12.392494 | H17: 6.5730308
A18: Gas | B18: Gebouw bij vliegveld of luchthaven | C18: 167 | D18: 7.6102538 | E18: 2.1993856 | F18: 5.0073638 | G18: 10.023748 | H18: 6.2848142
A19: Gas | B19: Gebouw in landelijk gebied voor industrie (geen landbouwactiviteiten geregistreerd) | C19: 3737 | D19: 5.7885038 | E19: 1.1310976 | F19: 3.3474864 | G19: 7.648353 | H19: 4.7858439
A20: Gas | B20: Gebouw in stedelijk gebied met industriefunctie | C20: 12416 | D20: 7.2133192 | E20: 1.6314428 | F20: 4.6394093 | G20: 9.2902312 | H20: 5.7613357
A21: Gas | B21: Gebouw op snelwegverzorgingsplaats | C21: 61 | D21: 11.221357 | E21: 2.5430328 | F21: 6.1134969 | G21: 13.36 | H21: 15.860469
A22: Gas | B22: Gebouw op vakantiepark | C22: 36605 | D22: 10.233441 | E22: 6.2444444 | F22: 9.5306122 | G22: 13.104478 | H22: 9.8383535
A23: Gas | B23: Gebouw voor landbouwactiviteiten | C23: 2143 | D23: 94.594665 | E23: 3.7775287 | F23: 10.369128 | G23: 30.196429 | H23: 62.928224
A24: Gas | B24: Groothandel op bedrijventerrein | C24: 565 | D24: 3.8216928 | E24: 2.0541586 | F24: 3.312753 | G24: 4.9371069 | H24: 3.1842484
A25: Gas | B25: Hotel (of ander groot logiesgebouw) | C25: 2386 | D25: 12.769351 | E25: 6.5248929 | F25: 11.625431 | G25: 17.731205 | H25: 9.9008647
A26: Gas | B26: IJsbaan | C26: 118 | D26: 5.0730491 | E26: 2.2715781 | F26: 4.2732919 | G26: 6.5709619 | H26: 5.4539443
A27: Gas | B27: Kantoorpand algemeen | C27: 19758 | D27: 8.7592014 | E27: 4.7777582 | F27: 7.9388042 | G27: 11.77446 | H27: 6.5203684
A28: Gas | B28: Kinderopvang (gebouw) | C28: 1499 | D28: 11.431733 | E28: 7.5540936 | F28: 10.597015 | G28: 14.413387 | H28: 9.8378966
A29: Gas | B29: Koelhuis | C29: 85 | D29: 4.4146404 | E29: 0.59125315 | F29: 1.8018194 | G29: 4.3715187 | H29: 3.4295346
A30: Gas | B30: MBO-gebouw | C30: 10 | D30: 3.4363754 | H30: 2.9543185
A31: Gas | B31: Meergezinswoning met andere functie of combinatie van functies | C31: 17537 | D31: 9.1280503 | E31: 5.6005587 | F31: 8.4364407 | G31: 11.777328 | H31: 7.4109365
A32: Gas | B32: Meergezinswoning met cafe of restaurant | C32: 6296 | D32: 13.491571 | E32: 7.3638745 | F32: 11.388194 | G32: 17.253716 | H32: 12.01886
A33: Gas | B33: Meergezinswoning met winkel | C33: 22330 | D33: 9.1931757 | E33: 5.5284658 | F33: 8.3539659 | G33: 11.894028 | H33: 7.6617341
A34: Gas | B34: Meergezinswoning met winkels en horeca | C34: 2506 | D34: 9.5749819 | E34: 5.7503033 | F34: 8.5095221 | G34: 12.20189 | H34: 7.3783359
A35: Gas | B35: Meergezinswoning met woonzorgeenheden | C35: 262 | D35: 10.565271 | E35: 6.4903924 | F35: 9.2943062 | G35: 13.726688 | H35: 9.4101676
A36: Gas | B36: Middelbare school | C36: 1059 | D36: 7.8967775 | E36: 4.5107947 | F36: 7.3787257 | G36: 10.409464 | H36: 6.3821619
A37: Gas | B37: Nutsgebouw (elektriciteit) | C37: 58 | D37: 6.3546145 | E37: 1.9074633 | F37: 4.6830792 | G37: 9.4832586 | H37: 5.2771766
A38: Gas | B38: Nutsgebouw (water) | C38: 238 | D38: 17.316351 | E38: 4.0900936 | F38: 10.859865 | G38: 22.35049 | H38: 9.0371281
A39: Gas | B39: Overig gebouw met maatschappelijke functie | C39: 1573 | D39: 11.292723 | E39: 4.2009646 | F39: 8.0570571 | G39: 13.668896 | H39: 8.909654
A40: Gas | B40: Overig gebouw met recreatiefunctie | C40: 80 | D40: 18.546396 | E40: 4.5900819 | F40: 9.7312554 | G40: 18.380081 | H40: 15.100962
A41: Gas | B41: Overig onderwijsgebouw | C41: 3132 | D41: 10.102341 | E41: 6.1803704 | F41: 9.4355327 | G41: 12.872964 | H41: 7.6962343
...

Sheet gas_kental_bouwj_2022
A1: Energiedrager | B1: Gebouwtype | C1: Bouwjaarklasse | D1: Aantal panden | E1: Aandeel panden per gebouwtype | F1: Gemiddelde kental (m3/m2) | G1: Q1 kental (m3/m2) | H1: Mediaan kental (m3/m2) | I1: Q3 kental (m3/m2) | J1: Gewogen gemiddelde kental (m3/m2)
A2: Gas | B2: Basisschool | C2: tot 1946 | D2: 431 | E2: 0.097 | F2: 10.459422 | G2: 7.6994526 | H2: 10.037258 | I2: 13.252067 | J2: 8.6796557
A3: Gas | B3: Basisschool | C3: 1946 tot 1978 | D3: 1707 | E3: 0.384 | F3: 10.481475 | G3: 8.0020108 | H3: 10.096675 | I3: 12.659518 | J3: 9.2310398
A4: Gas | B4: Basisschool | C4: 1978 tot 1995 | D4: 1040 | E4: 0.234 | F4: 9.5685021 | G4: 7.1548456 | H4: 9.222217 | I4: 11.673329 | J4: 8.391451
A5: Gas | B5: Basisschool | C5: 1995 tot 2009 | D5: 655 | E5: 0.147 | F5: 8.1659528 | G5: 5.9775971 | H5: 7.6933082 | I5: 10.141556 | J5: 6.4634197
A6: Gas | B6: Basisschool | C6: 2009 tot 2015 | D6: 441 | E6: 0.099 | F6: 5.7836866 | G6: 2.9028314 | H6: 5.3133137 | I6: 7.5902416 | J6: 4.8675501
A7: Gas | B7: Basisschool | C7: vanaf 2015 | D7: 168 | E7: 0.038 | F7: 4.3341103 | G7: 1.6189566 | H7: 3.8727793 | I7: 6.0325996 | J7: 3.9055571
A8: Gas | B8: Bedrijfshal algemeen (geen LISA-informatie) | C8: tot 1946 | D8: 235 | E8: 0.013 | F8: 6.0357567 | G8: 0.82806616 | H8: 4.6645022 | I8: 8.4125 | J8: 3.6594647
A9: Gas | B9: Bedrijfshal algemeen (geen LISA-informatie) | C9: 1946 tot 1978 | D9: 2590 | E9: 0.145 | F9: 4.9243185 | G9: 0.73111657 | H9: 2.8055658 | I9: 6.6618915 | J9: 4.2509298
A10: Gas | B10: Bedrijfshal algemeen (geen LISA-informatie) | C10: 1978 tot 1995 | D10: 4544 | E10: 0.254 | F10: 4.7971365 | G10: 0.95771253 | H10: 3.1480721 | I10: 6.6558679 | J10: 4.1624115
A11: Gas | B11: Bedrijfshal algemeen (geen LISA-informatie) | C11: 1995 tot 2009 | D11: 7861 | E11: 0.439 | F11: 3.8120112 | G11: 0.60483871 | H11: 2.4230303 | I11: 5.2184874 | J11: 3.8315994
A12: Gas | B12: Bedrijfshal algemeen (geen LISA-informatie) | C12: 2009 tot 2015 | D12: 1552 | E12: 0.087 | F12: 3.4149909 | G12: 0.36356061 | H12: 2.2701582 | I12: 4.7393353 | J12: 3.4375723
A13: Gas | B13: Bedrijfshal algemeen (geen LISA-informatie) | C13: vanaf 2015 | D13: 1109 | E13: 0.062 | F13: 2.8818221 | G13: 0.0063091483 | H13: 1.6783333 | I13: 4.0503247 | J13: 2.6063293
... A55: Gas | B55: Bijeenkomstgebouw (niet nader ingedeeld) | C55: vanaf 2015 | D55: 215 | E55: 0.023 | F55: 9.4530183 | G55: 3.5973783 | H55: 5.5812183 | I55: 13.216453 | J55: 7.5548854
A56: Gas | B56: Campusgebouw | C56: tot 1978 | D56: 30 | E56: 0.312 | F56: 9.3230699 | H56: 5.7492139 | J56: 9.6238549
A57: Gas | B57: Campusgebouw | C57: 1978 tot 1995 | D57: 13 | E57: 0.135 | F57: 12.272675 | J57: 10.613464
A58: Gas | B58: Campusgebouw | C58: 1995 tot 2009 | D58: 28 | E58: 0.292 | F58: 14.429917 | H58: 9.2630572 | J58: 13.048221
A59: Gas | B59: Campusgebouw | C59: 2009 tot 2015 | D59: 12 | E59: 0.125 | F59: 7.1606647 | J59: 5.5618255
A60: Gas | B60: Campusgebouw | C60: vanaf 2015 | D60: 13 | E60: 0.135 | F60: 8.8447674 | J60: 1.5757701
A61: Gas | B61: Cultuurhuis | C61: tot 1946 | D61: 213 | E61: 0.394 | F61: 10.17054 | G61: 5.4266413 | H61: 9.2809524 | I61: 13.803082 | J61: 6.0517746
A62: Gas | B62: Cultuurhuis | C62: 1946 tot 1978 | D62: 118 | E62: 0.218 | F62: 8.8808579 | G62: 5.6038571 | H62: 8.6054794 | I62: 11.121402 | J62: 7.3098563
A63: Gas | B63: Cultuurhuis | C63: 1978 tot 1995 | D63: 94 | E63: 0.174 | F63: 8.5483753 | G63: 5.9097347 | H63: 8.0200989 | I63: 10.784062 | J63: 7.5146507
A64: Gas | B64: Cultuurhuis | C64: 1995 tot 2009 | D64: 86 | E64: 0.159 | F64: 7.4439591 | G64: 4.1319783 | H64: 6.8997014 | I64: 9.2014153 | J64: 5.6306014
A65: Gas | B65: Cultuurhuis | C65: 2009 tot 2015 | D65: 19 | E65: 0.035 | F65: 5.932301 | J65: 3.7594013
A66: Gas | B66: Cultuurhuis | C66: vanaf 2015 | D66: 11 | E66: 0.02 | F66: 4.2597574 | J66: 4.8615948
A67: Gas | B67: Gebedshuis | C67: tot 1946 | D67: 1774 | E67: 0.416 | F67: 9.0282628 | G67: 5.0269597 | H67: 8.3907246 | I67: 12.459312 | J67: 6.1579585
A68: Gas | B68: Gebedshuis | C68: 1946 tot 1978 | D68: 1492 | E68: 0.35 | F68: 8.3403991 | G68: 5.2111479 | H68: 7.8476996 | I68: 10.932703 | J68: 6.9741856
A69: Gas | B69: Gebedshuis | C69: 1978 tot 1995 | D69: 542 | E69: 0.127 | F69: 8.0933056 | G69: 5.3964394 | H69: 7.7035759 | I69: 10.420195 | J69: 6.5224281
A70: Gas | B70: Gebedshuis | C70: 1995 tot 2009 | D70: 345 | E70: 0.081 | F70: 7.8251933 | G70: 5.2423124 | H70: 7.2303307 | I70: 9.7139623 | J70: 7.040829
A71: Gas | B71: Gebedshuis | C71: 2009 tot 2015 | D71: 85 | E71: 0.02 | F71: 6.1390204 | G71: 3.9368165 | H71: 5.4365256 | I71: 7.6604938 | J71: 5.4034386
A72: Gas | B72: Gebedshuis | C72: vanaf 2015 | D72: 30 | E72: 0.007 | F72: 6.033235 | H72: 6.0635854 | J72: 3.5822387
A73: Gas | B73: Gebouw bij spooremplacement | C73: tot 1946 | D73: 22 | E73: 0.265 | F73: 8.7366579 | H73: 4.857879 | J73: 6.8489163
A74: Gas | B74: Gebouw bij spooremplacement | C74: 1946 tot 1978 | D74: 15 | E74: 0.181 | F74: 9.7119829 | J74: 7.9132911
A75: Gas | B75: Gebouw bij spooremplacement | C75: 1978 tot 1995 | D75: 17 | E75: 0.205 | F75: 12.477237 | J75: 12.125948
A76: Gas | B76: Gebouw bij spooremplacement | C76: 1995 tot 2009 | D76: 15 | E76: 0.181 | F76: 11.374224 | J76: 4.8171296
A77: Gas | B77: Gebouw bij spooremplacement | C77: vanaf 2009 | D77: 14 | E77: 0.169 | F77: 4.7323331 | J77: 2.4358065
A78: Gas | B78: Gebouw bij vliegveld of luchthaven | C78: tot 1978 | D78: 28 | E78: 0.168 | F78: 7.7537038 | H78: 5.7066895 | J78: 4.7868476
A79: Gas | B79: Gebouw bij vliegveld of luchthaven | C79: 1978 tot 1995 | D79: 67 | E79: 0.401 | F79: 6.8584752 | G79: 2.5851561 | H79: 5.0358129 | I79: 9.8554299 | J79: 6.4291722
A80: Gas | B80: Gebouw bij vliegveld of luchthaven | C80: 1995 tot 2009 | D80: 50 | E80: 0.299 | F80: 8.7752743 | G80: 1.9008595 | H80: 5.3272155 | I80: 11.635143 | J80: 7.1958966
A81: Gas | B81: Gebouw bij vliegveld of luchthaven | C81: vanaf 2009 | D81: 22 | E81: 0.132 | F81: 7.069415 | H81: 3.4327117 | J81: 6.171486
...

Sheet gas_kental_opp_2022
A1: Energiedrager | B1: Gebouwtype | C1: Oppervlakteklasse | D1: Aantal panden | E1: Aandeel panden per gebouwtype | F1: Gemiddelde kental (m3/m2) | G1: Q1 kental (m3/m2) | H1: Mediaan kental (m3/m2) | I1: Q3 kental (m3/m2) | J1: Gewogen gemiddelde kental (m3/m2)
A2: Gas | B2: Basisschool | C2: tot 250 m2 | D2: 11 | E2: 0.002 | F2: 13.933713 | J2: 14.906427
A3: Gas | B3: Basisschool | C3: 250 tot 500 m2 | D3: 111 | E3: 0.025 | F3: 13.708115 | G3: 10.423669 | H3: 12.804622 | I3: 16.221008 | J3: 13.610958
A4: Gas | B4: Basisschool | C4: 500 tot 1000 m2 | D4: 851 | E4: 0.192 | F4: 11.919379 | G4: 9.2000668 | H4: 11.340076 | I4: 13.976379 | J4: 11.844798
A5: Gas | B5: Basisschool | C5: 1000 tot 2500 m2 | D5: 2575 | E5: 0.58 | F5: 9.3003069 | G5: 6.8988528 | H5: 8.9944321 | I5: 11.389348 | J5: 9.0249169
A6: Gas | B6: Basisschool | C6: 2500 tot 5000 m2 | D6: 695 | E6: 0.156 | F6: 6.2568188 | G6: 3.9695468 | H6: 5.8691309 | I6: 8.5348225 | J6: 6.1789918
A7: Gas | B7: Basisschool | C7: 5000 tot 10000 m2 | D7: 162 | E7: 0.036 | F7: 4.5401722 | G7: 2.5449899 | H7: 4.1082882 | I7: 6.3029631 | J7: 4.4872751
A8: Gas | B8: Basisschool | C8: vanaf 10000 m2 | D8: 37 | E8: 0.008 | F8: 3.4598973 | H8: 2.7129282 | J8: 2.9709008
A9: Gas | B9: Bedrijfshal algemeen (geen LISA-informatie) | C9: tot 50 m2 | D9: 179 | E9: 0.01 | F9: 6.6472337 | H9: 2.1702128 | I9: 9.1792153 | J9: 6.3961263
A10: Gas | B10: Bedrijfshal algemeen (geen LISA-informatie) | C10: 50 tot 100 m2 | D10: 1211 | E10: 0.068 | F10: 4.6124436 | H10: 1.7804878 | I10: 6.7771753 | J10: 4.5653376
A11: Gas | B11: Bedrijfshal algemeen (geen LISA-informatie) | C11: 100 tot 250 m2 | D11: 4469 | E11: 0.25 | F11: 3.8427371 | G11: 0.22641509 | H11: 2.2708333 | I11: 5.4258065 | J11: 3.8515373
A12: Gas | B12: Bedrijfshal algemeen (geen LISA-informatie) | C12: 250 tot 500 m2 | D12: 3631 | E12: 0.203 | F12: 4.1092001 | G12: 0.80678555 | H12: 2.6930456 | I12: 5.492708 | J12: 4.1250828
A13: Gas | B13: Bedrijfshal algemeen (geen LISA-informatie) | C13: 500 tot 1000 m2 | D13: 3526 | E13: 0.197 | F13: 4.2623317 | G13: 1.0052412 | H13: 2.8723513 | I13: 5.761527 | J13: 4.2608834
A14: Gas | B14: Bedrijfshal algemeen (geen LISA-informatie) | C14: 1000 tot 2500 m2 | D14: 3071 | E14: 0.172 | F14: 4.4128901 | G14: 1.1115831 | H14: 2.8757726 | I14: 5.987939 | J14: 4.4325556
A15: Gas | B15: Bedrijfshal algemeen (geen LISA-informatie) | C15: 2500 tot 5000 m2 | D15: 1072 | E15: 0.06 | F15: 3.9460366 | G15: 0.79340991 | H15: 2.6392256 | I15: 5.4882471 | J15: 3.9118522
A16: Gas | B16: Bedrijfshal algemeen (geen LISA-informatie) | C16: 5000 tot 10000 m2 | D16: 498 | E16: 0.028 | F16: 4.0874578 | G16: 0.70888966 | H16: 2.2464063 | I16: 4.8304594 | J16: 4.0832561
A17: Gas | B17: Bedrijfshal algemeen (geen LISA-informatie) | C17: vanaf 10000 m2 | D17: 234 | E17: 0.013 | F17: 3.0637125 | G17: 0.52401587 | H17: 1.5950411 | I17: 4.0849812 | J17: 2.7458495
A18: Gas | B18: Bedrijfshal algemeen (met LISA-informatie) | C18: tot 50 m2 | D18: 40 | E18: 0.004 | F18: 15.883382 | G18: 4.2083333 | H18: 12.021336 | I18: 23.848214 | J18: 15.679461
A19: Gas | B19: Bedrijfshal algemeen (met LISA-informatie) | C19: 50 tot 100 m2 | D19: 363 | E19: 0.032 | F19: 8.0791401 | G19: 2.0052083 | H19: 5.2291667 | I19: 10.67189 | J19: 7.9119503
A20: Gas | B20: Bedrijfshal algemeen (met LISA-informatie) | C20: 100 tot 250 m2 | D20: 1932 | E20: 0.173 | F20: 5.7075523 | G20: 1.8879505 | H20: 4.1373133 | I20: 7.105684 | J20: 5.5895645
A21: Gas | B21: Bedrijfshal algemeen (met LISA-informatie) | C21: 250 tot 500 m2 | D21: 1928 | E21: 0.172 | F21: 5.5785657 | G21: 2.0793075 | H21: 4.1675352 | I21: 6.9373302 | J21: 5.5133951
A22: Gas | B22: Bedrijfshal algemeen (met LISA-informatie) | C22: 500 tot 1000 m2 | D22: 2569 | E22: 0.23 | F22: 5.0059326 | G22: 1.9919614 | H22: 3.8233333 | I22: 6.3079646 | J22: 4.9957742
... A26: Gas | B26: Bedrijfshal algemeen (met LISA-informatie) | C26: vanaf 10000 m2 | D26: 290 | E26: 0.026 | F26: 3.2061181 | G26: 0.73641677 | H26: 2.0475018 | I26: 3.9052975 | J26: 2.9747473
A27: Gas | B27: Bedrijfshal met logistieke activiteiten | C27: tot 100 m2 | D27: 24 | E27: 0.005 | F27: 8.552964 | H27: 7.654697 | J27: 7.8571429
A28: Gas | B28: Bedrijfshal met logistieke activiteiten | C28: 100 tot 250 m2 | D28: 181 | E28: 0.037 | F28: 6.230414 | G28: 2.2986111 | H28: 4.5594059 | I28: 7.6347826 | J28: 6.1423727
A29: Gas | B29: Bedrijfshal met logistieke activiteiten | C29: 250 tot 500 m2 | D29: 331 | E29: 0.067 | F29: 5.383835 | G29: 2.4637589 | H29: 4.3688889 | I29: 6.8849864 | J29: 5.3820152
A30: Gas | B30: Bedrijfshal met logistieke activiteiten | C30: 500 tot 1000 m2 | D30: 778 | E30: 0.158 | F30: 4.6996118 | G30: 2.2172086 | H30: 3.7594104 | I30: 5.9785573 | J30: 4.6351706
A31: Gas | B31: Bedrijfshal met logistieke activiteiten | C31: 1000 tot 2500 m2 | D31: 1732 | E31: 0.351 | F31: 4.0036571 | G31: 1.8943977 | H31: 3.249341 | I31: 5.0601858 | J31: 3.9433247
A32: Gas | B32: Bedrijfshal met logistieke activiteiten | C32: 2500 tot 5000 m2 | D32: 1048 | E32: 0.212 | F32: 4.0461873 | G32: 1.7667191 | H32: 3.0875617 | I32: 5.122312 | J32: 3.9931138
A33: Gas | B33: Bedrijfshal met logistieke activiteiten | C33: 5000 tot 10000 m2 | D33: 524 | E33: 0.106 | F33: 3.627126 | G33: 1.4016886 | H33: 2.7680745 | I33: 4.7258572 | J33: 3.6241104
A34: Gas | B34: Bedrijfshal met logistieke activiteiten | C34: vanaf 10000 m2 | D34: 318 | E34: 0.064 | F34: 3.1067951 | G34: 0.90143799 | H34: 1.86526 | I34: 4.0105517 | J34: 2.4858911
A35: Gas | B35: Bedrijfshal met maakindustrie en andere economische activiteiten | C35: tot 100 m2 | D35: 41 | E35: 0.009 | F35: 9.5432452 | G35: 2.6060606 | H35: 6.3866667 | I35: 12.011111 | J35: 9.3921182
A36: Gas | B36: Bedrijfshal met maakindustrie en andere economische activiteiten | C36: 100 tot 250 m2 | D36: 240 | E36: 0.053 | F36: 6.8634152 | G36: 2.4902252 | H36: 4.6859979 | I36: 8.2813517 | J36: 6.7236162
A37: Gas | B37: Bedrijfshal met maakindustrie en andere economische activiteiten | C37: 250 tot 500 m2 | D37: 413 | E37: 0.091 | F37: 5.4331246 | G37: 2.2506143 | H37: 4.1129032 | I37: 6.5145119 | J37: 5.4033138
A38: Gas | B38: Bedrijfshal met maakindustrie en andere economische activiteiten | C38: 500 tot 1000 m2 | D38: 1067 | E38: 0.234 | F38: 4.8726944 | G38: 1.9859738 | H38: 3.7464183 | I38: 5.9784413 | J38: 4.8324408
A39: Gas | B39: Bedrijfshal met maakindustrie en andere economische activiteiten | C39: 1000 tot 2500 m2 | D39: 1673 | E39: 0.367 | F39: 4.4310502 | G39: 1.9538462 | H39: 3.3874883 | I39: 5.5612557 | J39: 4.4230069
... A42: Gas | B42: Bedrijfshal met maakindustrie en andere economische activiteiten | C42: vanaf 10000 m2 | D42: 141 | E42: 0.031 | F42: 5.7216461 | G42: 1.3353433 | H42: 3.4411867 | I42: 7.6199722 | J42: 5.790054
A43: Gas | B43: Bedrijfshal met maakindustrie en logistieke activiteiten | C43: tot 50 m2 | D43: 20 | E43: 0.002 | F43: 15.693724 | H43: 15.49881 | J43: 13.974684
A44: Gas | B44: Bedrijfshal met maakindustrie en logistieke activiteiten | C44: 50 tot 100 m2 | D44: 139 | E44: 0.014 | F44: 9.0416283 | G44: 2.2652188 | H44: 6.2033898 | I44: 12.80235 | J44: 8.7326512
A45: Gas | B45: Bedrijfshal met maakindustrie en logistieke activiteiten | C45: 100 tot 250 m2 | D45: 813 | E45: 0.084 | F45: 5.6484405 | G45: 1.7368421 | H45: 4.0048309 | I45: 7.0198675 | J45: 5.5960093
...

Sheet gas_kental_diensten_2022
A1: Energiedrager | B1: Gebouwtype | C1: Aantal panden | D1: Gemiddelde kental (m3/m2) | E1: Q1 kental (m3/m2) | F1: Mediaan kental (m3/m2) | G1: Q3 kental (m3/m2) | H1: Gewogen gemiddelde kental (m3/m2)
A2: Gas | B2: Asielzoekerscentrum | C2: 52 | D2: 25.033215 | E2: 10.047962 | F2: 17.886083 | G2: 23.511487 | H2: 17.214187
A3: Gas | B3: Basisschool | C3: 4026 | D3: 9.3689113 | E3: 6.6054221 | F3: 9.1384138 | G3: 11.752282 | H3: 7.8655337
A4: Gas | B4: Bedrijfshal algemeen (geen LISA-informatie) | C4: 10049 | D4: 4.0223476 | E4: 0.5704737 | F4: 2.4912281 | G4: 5.5123967 | H4: 3.5485508
A5: Gas | B5: Bedrijfshal algemeen (met LISA-informatie) | C5: 7722 | D5: 5.2164629 | E5: 1.831705 | F5: 3.7651023 | G5: 6.6071504 | H5: 4.101404
A6: Gas | B6: Bedrijfshal met logistieke activiteiten | C6: 1970 | D6: 4.4773298 | E6: 1.7205834 | F6: 3.5689188 | G6: 5.9641015 | H6: 3.4179159
A7: Gas | B7: Bedrijfshal met maakindustrie en andere economische activiteiten | C7: 1491 | D7: 5.1936091 | E7: 2.0493041 | F7: 3.9882214 | G7: 6.5832435 | H7: 4.7601653
A8: Gas | B8: Bedrijfshal met maakindustrie en logistieke activiteiten | C8: 6062 | D8: 4.5304296 | E8: 1.6533089 | F8: 3.4426539 | G8: 5.9437213 | H8: 3.6321067
A9: Gas | B9: Bedrijfshal uitsluitend maakindustrie | C9: 6490 | D9: 5.9577515 | E9: 2.0006281 | F9: 4.1558221 | G9: 7.3691332 | H9: 6.0275106
A10: Gas | B10: Bedrijfswoning | C10: 8331 | D10: 10.638352 | E10: 4.6473732 | F10: 8.3322981 | G10: 13.579419 | H10: 8.1018907
A11: Gas | B11: Bijeenkomstgebouw (niet nader ingedeeld) | C11: 8407 | D11: 9.2688182 | E11: 4.3915462 | F11: 7.5800525 | G11: 12.171902 | H11: 8.1729652
A12: Gas | B12: Campusgebouw | C12: 69 | D12: 11.652319 | E12: 3.2493857 | F12: 8.0311082 | G12: 12.196373 | H12: 10.29557
A13: Gas | B13: Cultuurhuis | C13: 450 | D13: 9.1203776 | E13: 5.3197049 | F13: 8.2619188 | G13: 12.289908 | H13: 6.8526252
A14: Gas | B14: Datacenter | C14: 39 | D14: 2.9197603 | F14: 1.8729167 | H14: 2.7841484
A15: Gas | B15: Gebedshuis | C15: 3650 | D15: 8.5566225 | E15: 5.182206 | F15: 7.9417402 | G15: 11.266147 | H15: 6.5497885
A16: Gas | B16: Gebouw bij militaire inrichting
A17: Gas | B17: Gebouw bij spooremplacement | C17: 42 | D17: 8.8270789 | E17: 1.7435036 | F17: 6.4436349 | G17: 12.516373 | H17: 7.2931573
A18: Gas | B18: Gebouw bij vliegveld of luchthaven | C18: 115 | D18: 8.0620064 | E18: 2.2982846 | F18: 5.8807429 | G18: 10.479147 | H18: 5.8983896
A19: Gas | B19: Gebouw in landelijk gebied voor industrie (geen landbouwactiviteiten geregistreerd) | C19: 1812 | D19: 5.8643417 | E19: 1.3161226 | F19: 3.7246122 | G19: 7.8194132 | H19: 3.9642942
A20: Gas | B20: Gebouw in stedelijk gebied met industriefunctie | C20: 7901 | D20: 7.3827997 | E20: 1.7362924 | F20: 4.8524096 | G20: 9.5981595 | H20: 5.2147787
A21: Gas | B21: Gebouw op snelwegverzorgingsplaats | C21: 54 | D21: 11.512108 | E21: 2.6542008 | F21: 6.6014641 | G21: 15.040327 | H21: 17.108837
A22: Gas | B22: Gebouw op vakantiepark | C22: 31946 | D22: 10.223838 | E22: 6.3044327 | F22: 9.5661202 | G22: 13.077129 | H22: 10.092828
A23: Gas | B23: Gebouw voor landbouwactiviteiten | C23: 198 | D23: 11.465396 | E23: 1.7360552 | F23: 6.1231071 | G23: 14.369255 | H23: 3.0279516
A24: Gas | B24: Groothandel op bedrijventerrein | C24: 168 | D24: 4.5776278 | E24: 2.1561083 | F24: 3.9289198 | G24: 6.1240465 | H24: 4.0417299
A25: Gas | B25: Hotel (of ander groot logiesgebouw) | C25: 1993 | D25: 13.242153 | E25: 7.1895522 | F25: 12.229675 | G25: 18.244505 | H25: 10.756205
A26: Gas | B26: IJsbaan | C26: 108 | D26: 5.0180696 | E26: 2.2266626 | F26: 4.2430015 | G26: 6.711786 | H26: 5.3878992
A27: Gas | B27: Kantoorpand algemeen | C27: 15972 | D27: 8.9672749 | E27: 5.0677119 | F27: 8.2283074 | G27: 11.98056 | H27: 6.8308433
A28: Gas | B28: Kinderopvang (gebouw) | C28: 1386 | D28: 11.438569 | E28: 7.5533626 | F28: 10.645378 | G28: 14.473787 | H28: 9.940708
A29: Gas | B29: Koelhuis | C29: 65 | D29: 4.7087859 | E29: 0.5687547 | F29: 1.4813365 | G29: 4.6639344 | H29: 3.6270079
A30: Gas | B30: MBO-gebouw
A31: Gas | B31: Meergezinswoning met andere functie of combinatie van functies | C31: 1779 | D31: 9.6394427 | E31: 4.9915287 | F31: 8.8521561 | G31: 13.431477 | H31: 7.8293545
A32: Gas | B32: Meergezinswoning met cafe of restaurant | C32: 1126 | D32: 14.043974 | E32: 6.4919736 | F32: 11.827778 | G32: 19.465961 | H32: 12.612182
A33: Gas | B33: Meergezinswoning met winkel | C33: 2929 | D33: 9.279309 | E33: 4.528 | F33: 8.2369338 | G33: 12.925373 | H33: 7.858632
A34: Gas | B34: Meergezinswoning met winkels en horeca | C34: 296 | D34: 10.670641 | E34: 5.6390358 | F34: 9.313925 | G34: 14.690259 | H34: 5.178148
A35: Gas | B35: Meergezinswoning met woonzorgeenheden | C35: 89 | D35: 11.831883 | E35: 7.2332054 | F35: 11.150812 | G35: 15.681388 | H35: 10.626244
A36: Gas | B36: Middelbare school | C36: 988 | D36: 7.9344231 | E36: 4.5225628 | F36: 7.4167935 | G36: 10.42938 | H36: 6.4121178
A37: Gas | B37: Nutsgebouw (elektriciteit)
A38: Gas | B38: Nutsgebouw (water) | C38: 171 | D38: 19.253395 | E38: 5.9914564 | F38: 12.304348 | G38: 23.914117 | H38: 10.849365
A39: Gas | B39: Overig gebouw met maatschappelijke functie | C39: 1387 | D39: 11.137858 | E39: 4.1930749 | F39: 8.0521212 | G39: 13.635717 | H39: 9.7790709
A40: Gas | B40: Overig gebouw met recreatiefunctie | C40: 62 | D40: 18.413604 | E40: 5.0656217 | F40: 9.8806966 | G40: 19.846005 | H40: 15.389015
...

Sheet elek_kental_2022
A1: Energiedrager | B1: Gebouwtype | C1: Aantal panden | D1: Gemiddelde kental (kWh/m2) | E1: Q1 kental (kWh/m2) | F1: Mediaan kental (kWh/m2) | G1: Q3 kental (kWh/m2) | H1: Gewogen gemiddelde kental (kWh/m2) | I1: Gemiddelde kental inclusief eigenverbruik zonnestroom (kWh/m2) | J1: Q1 kental inclusief eigenverbruik zonnestroom (kWh/m2) | K1: Mediaan kental inclusief eigenverbruik zonnestroom (kWh/m2) | L1: Q3 kental inclusief eigenverbruik zonnestroom (kWh/m2) | M1: Gewogen gemiddelde kental inclusief eigenverbruik zonnestroom (kWh/m2)
A2: Elektriciteit | B2: Asielzoekerscentrum | C2: 65 | D2: 90.62685 | E2: 30.158167 | F2: 48.753891 | G2: 104.28848 | H2: 57.465017 | I2: 92.006777 | J2: 30.217811 | K2: 48.753891 | L2: 118.50204 | M2: 58.898103
A3: Elektriciteit | B3: Basisschool | C3: 4828 | D3: 24.835272 | E3: 15.334209 | F3: 21.029341 | G3: 30.306305 | H3: 26.100161 | I3: 28.296871 | J3: 17.241602 | K3: 23.309837 | L3: 34.119429 | M3: 29.370597
A4: Elektriciteit | B4: Bedrijfshal algemeen (geen LISA-informatie) | C4: 19086 | D4: 36.520305 | E4: 10.675411 | F4: 19.795567 | G4: 39.127356 | H4: 41.534493 | I4: 38.974993 | J4: 11.25311 | K4: 21.113856 | L4: 42.379203 | M4: 45.403374
A5: Elektriciteit | B5: Bedrijfshal algemeen (met LISA-informatie) | C5: 12613 | D5: 44.792279 | E5: 14.428929 | F5: 25.337638 | G5: 46.904412 | H5: 46.458156 | I5: 48.662109 | J5: 15.570896 | K5: 27.407534 | L5: 51.975 | M5: 51.237618
A6: Elektriciteit | B6: Bedrijfshal met logistieke activiteiten | C6: 5612 | D6: 38.608625 | E6: 15.848166 | F6: 25.367146 | G6: 42.790782 | H6: 40.331147 | I6: 42.480347 | J6: 17.140892 | K6: 27.565688 | L6: 46.702968 | M6: 45.029864
A7: Elektriciteit | B7: Bedrijfshal met maakindustrie en andere economische activiteiten | C7: 4985 | D7: 41.770198 | E7: 15.843409 | F7: 26.270014 | G7: 45.97429 | H7: 50.576688 | I7: 45.989574 | J7: 17.293701 | K7: 29.124744 | L7: 52.088141 | M7: 55.292381
A8: Elektriciteit | B8: Bedrijfshal met maakindustrie en logistieke activiteiten | C8: 10676 | D8: 44.831225 | E8: 14.402564 | F8: 24.628744 | G8: 45.329589 | H8: 52.109587 | I8: 49.688187 | J8: 15.849872 | K8: 26.843326 | L8: 49.125548 | M8: 57.574436
A9: Elektriciteit | B9: Bedrijfshal uitsluitend maakindustrie | C9: 19303 | D9: 55.370697 | E9: 15.651004 | F9: 27.90806 | G9: 54.833927 | H9: 87.841183 | I9: 59.835802 | J9: 17.166605 | K9: 30.865169 | L9: 60.162796 | M9: 93.289096
A10: Elektriciteit | B10: Bedrijfswoning | C10: 67482 | D10: 60.920412 | E10: 15.246526 | F10: 27.447703 | G10: 58.977454 | H10: 47.626091 | I10: 78.381385 | J10: 17.175535 | K10: 31.228782 | L10: 69.067474 | M10: 59.892335
A11: Elektriciteit | B11: Bijeenkomstgebouw (niet nader ingedeeld) | C11: 9205 | D11: 45.809398 | E11: 12.863051 | F11: 24.602679 | G11: 52.144385 | H11: 48.028236 | I11: 48.463996 | J11: 13.773667 | K11: 26.649254 | L11: 56.213573 | M11: 50.381424
A12: Elektriciteit | B12: Campusgebouw | C12: 109 | D12: 94.206923 | E12: 33.214924 | F12: 57.75621 | G12: 111.22324 | H12: 70.478153 | I12: 97.9842 | J12: 36.618934 | K12: 59.294137 | L12: 135.71579 | M12: 73.088686
A13: Elektriciteit | B13: Cultuurhuis | C13: 569 | D13: 56.489875 | E13: 23.764398 | F13: 40.143735 | G13: 78.608177 | H13: 55.867166 | I13: 59.072375 | J13: 25.355263 | K13: 43.078192 | L13: 80.836955 | M13: 57.788347
... A15: Elektriciteit | B15: Gebedshuis | C15: 3564 | D15: 14.924274 | E15: 8.1790726 | F15: 12.042436 | G15: 18.659337 | H15: 16.375603 | I15: 16.092794 | J15: 8.5426423 | K15: 12.781813 | L15: 20.164859 | M15: 17.848055
A16: Elektriciteit | B16: Gebouw bij militaire inrichting | C16: 13 | D16: 727.25922 | H16: 525.09709 | I16: 727.25922 | M16: 525.09709
A17: Elektriciteit | B17: Gebouw bij spooremplacement | C17: 67 | D17: 70.481743 | E17: 18.427493 | F17: 47.056338 | G17: 92.765353 | H17: 57.132201 | I17: 71.47522 | J17: 22.873885 | K17: 47.056338 | L17: 92.765353 | M17: 57.550119
A18: Elektriciteit | B18: Gebouw bij vliegveld of luchthaven | C18: 149 | D18: 56.393654 | E18: 11.544118 | F18: 33.315 | G18: 73.520744 | H18: 66.297136 | I18: 68.049482 | J18: 14.265096 | K18: 36.198577 | L18: 77.577285 | M18: 87.561341
A19: Elektriciteit | B19: Gebouw in landelijk gebied voor industrie (geen landbouwactiviteiten geregistreerd) | C19: 4823 | D19: 45.327051 | E19: 12.309752 | F19: 24.587302 | G19: 50.696214 | H19: 46.744731 | I19: 55.288616 | J19: 13.756374 | K19: 28.150538 | L19: 60.087477 | M19: 56.631463
A20: Elektriciteit | B20: Gebouw in stedelijk gebied met industriefunctie | C20: 13357 | D20: 52.613416 | E20: 12.96449 | F20: 24.935897 | G20: 53.02445 | H20: 54.360898 | I20: 55.840627 | J20: 13.845475 | K20: 26.894737 | L20: 57.171021 | M20: 57.466585
A21: Elektriciteit | B21: Gebouw op snelwegverzorgingsplaats | C21: 132 | D21: 589.55221 | E21: 278.39425 | F21: 610.87423 | G21: 834.45382 | H21: 363.25677 | I21: 597.99074 | J21: 286.46878 | K21: 611.01248 | L21: 887.27332 | M21: 371.74504
A22: Elektriciteit | B22: Gebouw op vakantiepark | C22: 36863 | D22: 26.426117 | E22: 11.483425 | F22: 17.394366 | G22: 28.378529 | H22: 33.192158 | I22: 29.000116 | J22: 11.875456 | K22: 18.245283 | L22: 30.94051 | M22: 36.968454
A23: Elektriciteit | B23: Gebouw voor landbouwactiviteiten | C23: 2459 | D23: 110.81253 | E23: 20.505093 | F23: 45.973333 | G23: 133.64566 | H23: 80.802706 | I23: 127.27397 | J23: 22.949128 | K23: 54.114599 | L23: 153.42196 | M23: 90.72169
A24: Elektriciteit | B24: Groothandel op bedrijventerrein | C24: 596 | D24: 28.674332 | E24: 15.145497 | F24: 23.217855 | G24: 35.186561 | H24: 27.189701 | I24: 31.081705 | J24: 15.873054 | K24: 24.793759 | L24: 37.80024 | M24: 29.18769
A25: Elektriciteit | B25: Hotel (of ander groot logiesgebouw) | C25: 2495 | D25: 67.386987 | E25: 25.498754 | F25: 52.664384 | G25: 96.565043 | H25: 75.471754 | I25: 69.456067 | J25: 27.053281 | K25: 54.788299 | L25: 99.877978 | M25: 76.728111
A26: Elektriciteit | B26: IJsbaan | C26: 100 | D26: 23.490683 | E26: 10.163889 | F26: 16.135355 | G26: 30.567007 | H26: 67.887973 | I26: 26.694112 | J26: 10.332483 | K26: 18.634665 | L26: 31.172312 | M26: 69.700091
A27: Elektriciteit | B27: Kantoorpand algemeen | C27: 20883 | D27: 46.311507 | E27: 20.1777 | F27: 35.178988 | G27: 59.620012 | H27: 53.419828 | I27: 50.67708 | J27: 21.800192 | K27: 37.872881 | L27: 63.465644 | M27: 55.794996
A28: Elektriciteit | B28: Kinderopvang (gebouw) | C28: 1544 | D28: 32.334598 | E28: 19.353998 | F28: 28.210221 | G28: 38.814457 | H28: 30.973627 | I28: 34.098791 | J28: 20.599574 | K28: 29.516156 | L28: 40.85567 | M28: 32.893992
A29: Elektriciteit | B29: Koelhuis | C29: 95 | D29: 268.65986 | E29: 61.032601 | F29: 184.28474 | G29: 333.51564 | H29: 235.38187 | I29: 282.69225 | J29: 83.177155 | K29: 197.44176 | L29: 364.61087 | M29: 248.21965
A30: Elektriciteit | B30: MBO-gebouw | C30: 16 | D30: 67.755964 | H30: 63.533818 | I30: 69.607653 | M30: 64.829246
A31: Elektriciteit | B31: Meergezinswoning met andere functie of combinatie van functies | C31: 17700 | D31: 36.394274 | E31: 17.553709 | F31: 25.797691 | G31: 40.65692 | H31: 37.97685 | I31: 38.504843 | J31: 18.306403 | K31: 26.813366 | L31: 42.8497 | M31: 39.857389
A32: Elektriciteit | B32: Meergezinswoning met cafe of restaurant | C32: 6268 | D32: 86.726174 | E32: 32.204817 | F32: 73.338072 | G32: 122.99866 | H32: 77.771405 | I32: 87.310921 | J32: 33.121389 | K32: 73.829801 | L32: 123.44105 | M32: 78.442736
A33: Elektriciteit | B33: Meergezinswoning met winkel | C33: 22202 | D33: 47.303854 | E33: 21.958783 | F33: 34.154738 | G33: 57.45135 | H33: 48.840342 | I33: 47.935064 | J33: 22.413944 | K33: 34.756806 | L33: 58.457943 | M33: 49.54687
A34: Elektriciteit | B34: Meergezinswoning met winkels en horeca | C34: 2556 | D34: 55.204718 | E34: 25.002697 | F34: 40.175897 | G34: 73.296181 | H34: 55.921033 | I34: 56.06787 | J34: 25.671279 | K34: 41.277748 | L34: 73.540263 | M34: 56.726641
A35: Elektriciteit | B35: Meergezinswoning met woonzorgeenheden | C35: 297 | D35: 31.94473 | E35: 17.742816 | F35: 29.434239 | G35: 39.944882 | H35: 34.499861 | I35: 34.210446 | J35: 20.407197 | K35: 30.694815 | L35: 42.878252 | M35: 37.721019
A36: Elektriciteit | B36: Middelbare school | C36: 1096 | D36: 35.789604 | E36: 21.626749 | F36: 30.15723 | G36: 43.104288 | H36: 33.269535 | I36: 40.048035 | J36: 24.671566 | K36: 34.266664 | L36: 48.712684 | M36: 37.289427
A37: Elektriciteit | B37: Nutsgebouw (elektriciteit) | C37: 143 | D37: 200.8626 | E37: 34.672848 | F37: 86.527672 | G37: 323.52242 | H37: 120.48263 | I37: 210.03984 | J37: 35.578439 | K37: 93.987382 | L37: 323.52242 | M37: 125.49031
A38: Elektriciteit | B38: Nutsgebouw (water) | C38: 61 | D38: 472.06239 | E38: 19.085837 | F38: 78.192029 | G38: 368.82609 | H38: 343.32769 | I38: 827.79654 | J38: 26.798165 | K38: 88.020478 | L38: 381.78659 | M38: 492.63682
A39: Elektriciteit | B39: Overig gebouw met maatschappelijke functie | C39: 1208 | D39: 38.372965 | E39: 8.7272186 | F39: 15.975728 | G39: 43.444352 | H39: 55.357415 | I39: 39.768963 | J39: 8.7837698 | K39: 16.405309 | L39: 45.012843 | M39: 57.363022
A40: Elektriciteit | B40: Overig gebouw met recreatiefunctie | C40: 75 | D40: 122.47577 | E40: 34.833599 | F40: 83.549562 | G40: 174.41675 | H40: 172.56407 | I40: 130.86251 | J40: 39.238665 | K40: 83.643658 | L40: 174.41675 | M40: 177.49693
A41: Elektriciteit | B41: Overig onderwijsgebouw | C41: 3100 | D41: 30.029014 | E41: 15.102374 | F41: 22.523771 | G41: 36.398594 | H41: 35.921643 | I41: 31.968217 | J41: 15.793649 | K41: 23.834355 | L41: 38.403909 | M41: 37.68517
...

Sheet elek_kental_bouwj_2022
A1: Energiedrager | B1: Gebouwtype | C1: Bouwjaarklasse | D1: Aantal panden | E1: Aandeel panden per gebouwtype | F1: Gemiddelde kental (kWh/m2) | G1: Q1 kental (kWh/m2) | H1: Mediaan kental (kWh/m2) | I1: Q3 kental (kWh/m2) | J1: Gewogen gemiddelde kental (kWh/m2) | K1: Gemiddelde kental inclusief eigenverbruik zonnestroom (kWh/m2) | L1: Q1 kental inclusief eigenverbruik zonnestroom (kWh/m2) | M1: Mediaan kental inclusief eigenverbruik zonnestroom (kWh/m2) | N1: Q3 kental inclusief eigenverbruik zonnestroom (kWh/m2) | O1: Gewogen gemiddelde kental inclusief eigenverbruik zonnestroom (kWh/m2)
A2: Elektriciteit | B2: Basisschool | C2: tot 1946 | D2: 449 | E2: 0.093 | F2: 22.620661 | G2: 13.895349 | H2: 19.267651 | I2: 26.902013 | J2: 20.591989 | K2: 24.871274 | L2: 15.743286 | M2: 21.037106 | N2: 28.895522 | O2: 22.521193
A3: Elektriciteit | B3: Basisschool | C3: 1946 tot 1978 | D3: 1719 | E3: 0.356 | F3: 20.529857 | G3: 13.958495 | H3: 18.511012 | I3: 24.069052 | J3: 19.747881 | K3: 23.078217 | L3: 15.760467 | M3: 20.125975 | N3: 26.485112 | O3: 21.890682
A4: Elektriciteit | B4: Basisschool | C4: 1978 tot 1995 | D4: 1108 | E4: 0.229 | F4: 20.9765 | G4: 14.297967 | H4: 18.879981 | I4: 24.702797 | J4: 20.474893 | K4: 23.560706 | L4: 16.502783 | M4: 21.224908 | N4: 26.893011 | O4: 22.856078
A5: Elektriciteit | B5: Basisschool | C5: 1995 tot 2009 | D5: 712 | E5: 0.147 | F5: 26.719492 | G5: 16.831339 | H5: 23.661751 | I5: 32.855297 | J5: 27.088617 | K5: 29.543258 | L5: 19.334397 | M5: 25.691685 | N5: 35.804825 | O5: 29.530342
A6: Elektriciteit | B6: Basisschool | C6: 2009 tot 2015 | D6: 482 | E6: 0.1 | F6: 39.004953 | G6: 27.049367 | H6: 37.425811 | I6: 48.479077 | J6: 39.686866 | K6: 44.918166 | L6: 31.888865 | M6: 42.371602 | N6: 53.683373 | O6: 44.515435
A7: Elektriciteit | B7: Basisschool | C7: vanaf 2015 | D7: 358 | E7: 0.074 | F7: 37.403806 | G7: 25.339442 | H7: 35.340577 | I7: 46.33754 | J7: 36.58442 | K7: 47.452564 | L7: 33.089693 | M7: 44.396186 | N7: 59.40399 | O7: 45.780831
A8: Elektriciteit | B8: Bedrijfshal algemeen (geen LISA-informatie) | C8: tot 1946 | D8: 228 | E8: 0.012 | F8: 41.440304 | G8: 11.09145 | H8: 20.772861 | I8: 38.646816 | J8: 35.912238 | K8: 42.608698 | L8: 12.526201 | M8: 21.540834 | N8: 40.32122 | O8: 37.103991
A9: Elektriciteit | B9: Bedrijfshal algemeen (geen LISA-informatie) | C9: 1946 tot 1978 | D9: 2216 | E9: 0.116 | F9: 36.038124 | G9: 10.277565 | H9: 18.735175 | I9: 38.659533 | J9: 40.909747 | K9: 38.542615 | L9: 10.737104 | M9: 19.92112 | N9: 40.332941 | O9: 44.503141
A10: Elektriciteit | B10: Bedrijfshal algemeen (geen LISA-informatie) | C10: 1978 tot 1995 | D10: 4108 | E10: 0.215 | F10: 39.271444 | G10: 10.721303 | H10: 19.775631 | I10: 40.54226 | J10: 44.364651 | K10: 41.577548 | L10: 11.46428 | M10: 20.808801 | N10: 43.52141 | O10: 47.309034
A11: Elektriciteit | B11: Bedrijfshal algemeen (geen LISA-informatie) | C11: 1995 tot 2009 | D11: 7540 | E11: 0.395 | F11: 33.331431 | G11: 10.121439 | H11: 18.381124 | I11: 35.622466 | J11: 39.726268 | K11: 35.30425 | L11: 10.489935 | M11: 19.417701 | N11: 37.994067 | O11: 42.886539
A12: Elektriciteit | B12: Bedrijfshal algemeen (geen LISA-informatie) | C12: 2009 tot 2015 | D12: 1588 | E12: 0.083 | F12: 36.050516 | G12: 10.435778 | H12: 18.735937 | I12: 37.491032 | J12: 48.092401 | K12: 38.880376 | L12: 11.01236 | M12: 19.661315 | N12: 39.860285 | O12: 53.382641
A13: Elektriciteit | B13: Bedrijfshal algemeen (geen LISA-informatie) | C13: vanaf 2015 | D13: 3406 | E13: 0.178 | F13: 40.464879 | G13: 12.609844 | H13: 24.993902 | I13: 48.261905 | J13: 38.596406 | K13: 44.044292 | L13: 13.741327 | M13: 27.326667 | N13: 52.973684 | O13: 45.130969
... A55: Elektriciteit | B55: Bijeenkomstgebouw (niet nader ingedeeld) | C55: vanaf 2015 | D55: 424 | E55: 0.046 | F55: 73.197832 | G55: 21.267031 | H55: 41.253934 | I55: 103.62133 | J55: 68.004181 | K55: 81.363828 | L55: 24.499963 | M55: 50.652423 | N55: 116.39957 | O55: 75.918166
A56: Elektriciteit | B56: Campusgebouw | C56: tot 1978 | D56: 30 | E56: 0.275 | F56: 75.665772 | H56: 45.201253 | J56: 90.851417 | K56: 78.145824 | M56: 45.201253 | O56: 93.560447
A57: Elektriciteit | B57: Campusgebouw | C57: 1978 tot 1995 | D57: 16 | E57: 0.147 | F57: 67.849381 | J57: 71.277282 | K57: 69.697801 | O57: 73.903818
A58: Elektriciteit | B58: Campusgebouw | C58: 1995 tot 2009 | D58: 35 | E58: 0.321 | F58: 101.46732 | H58: 56.061139 | J58: 89.398319 | K58: 104.44566 | M58: 59.294137 | O58: 92.069691
A59: Elektriciteit | B59: Campusgebouw | C59: 2009 tot 2015 | D59: 11 | E59: 0.101 | F59: 148.30928 | J59: 102.11302 | K59: 151.111 | O59: 103.41401
A60: Elektriciteit | B60: Campusgebouw | C60: vanaf 2015 | D60: 17 | E60: 0.156 | F60: 101.77842 | J60: 36.466835 | K60: 111.93641 | O60: 39.34877
A61: Elektriciteit | B61: Cultuurhuis | C61: tot 1946 | D61: 225 | E61: 0.395 | F61: 56.343256 | G61: 23.121132 | H61: 43.15911 | I61: 77.268233 | J61: 54.412186 | K61: 57.040566 | L61: 23.24 | M61: 44.322352 | N61: 79.386734 | O61: 54.845904
A62: Elektriciteit | B62: Cultuurhuis | C62: 1946 tot 1978 | D62: 112 | E62: 0.197 | F62: 38.903745 | G62: 19.305697 | H62: 26.205754 | I62: 43.307258 | J62: 47.529197 | K62: 41.036288 | L62: 20.093039 | M62: 29.948481 | N62: 46.702469 | O62: 49.759332
A63: Elektriciteit | B63: Cultuurhuis | C63: 1978 tot 1995 | D63: 106 | E63: 0.186 | F63: 56.235878 | G63: 26.7863 | H63: 40.721696 | I63: 78.418287 | J63: 55.707682 | K63: 60.54975 | L63: 27.078618 | M63: 43.517319 | N63: 79.246551 | O63: 58.27412
A64: Elektriciteit | B64: Cultuurhuis | C64: 1995 tot 2009 | D64: 82 | E64: 0.144 | F64: 69.176471 | G64: 28.930084 | H64: 54.61128 | I64: 101.31745 | J64: 64.954729 | K64: 73.270023 | L64: 31.247573 | M64: 56.402308 | N64: 110.82052 | O64: 67.153279
A65: Elektriciteit | B65: Cultuurhuis | C65: 2009 tot 2015 | D65: 23 | E65: 0.04 | F65: 83.723998 | H65: 68.645937 | J65: 55.095414 | K65: 87.085811 | M65: 68.645937 | O65: 55.520858
A66: Elektriciteit | B66: Cultuurhuis | C66: vanaf 2015 | D66: 21 | E66: 0.037 | F66: 73.769573 | H66: 71.113076 | J66: 62.119462 | K66: 83.457184 | M66: 84.786972 | O66: 69.661468
A67: Elektriciteit | B67: Gebedshuis | C67: tot 1946 | D67: 1436 | E67: 0.403 | F67: 13.967018 | G67: 7.6443194 | H67: 10.913759 | I67: 16.845598 | J67: 13.472096 | K67: 14.611042 | L67: 7.7817469 | M67: 11.260803 | N67: 17.415448 | O67: 14.149395
A68: Elektriciteit | B68: Gebedshuis | C68: 1946 tot 1978 | D68: 1208 | E68: 0.339 | F68: 14.451274 | G68: 8.1276263 | H68: 11.726179 | I68: 17.562575 | J68: 16.459688 | K68: 15.795689 | L68: 8.5799663 | M68: 12.439728 | N68: 19.770409 | O68: 18.318266
A69: Elektriciteit | B69: Gebedshuis | C69: 1978 tot 1995 | D69: 493 | E69: 0.138 | F69: 15.705267 | G69: 8.9620536 | H69: 13.204986 | I69: 20.071429 | J69: 17.349611 | K69: 17.042185 | L69: 9.6390244 | M69: 14.169631 | N69: 21.319218 | O69: 19.030381
A70: Elektriciteit | B70: Gebedshuis | C70: 1995 tot 2009 | D70: 321 | E70: 0.09 | F70: 17.845006 | G70: 10.648084 | H70: 15.419231 | I70: 22.877437 | J70: 21.861126 | K70: 19.788959 | L70: 11.544843 | M70: 16.726829 | N70: 24.5 | O70: 23.777582
A71: Elektriciteit | B71: Gebedshuis | C71: 2009 tot 2015 | D71: 77 | E71: 0.022 | F71: 19.918575 | G71: 12.87931 | H71: 17.885955 | I71: 24.455399 | J71: 19.819925 | K71: 23.095866 | L71: 14.86875 | M71: 18.801839 | N71: 28.978686 | O71: 22.659608
A72: Elektriciteit | B72: Gebedshuis | C72: vanaf 2015 | D72: 29 | E72: 0.008 | F72: 23.160741 | H72: 21.688571 | J72: 26.354186 | K72: 26.194303 | M72: 23.750776 | O72: 29.68829
A73: Elektriciteit | B73: Gebouw bij spooremplacement | C73: tot 1946 | D73: 13 | E73: 0.194 | F73: 32.236683 | J73: 25.351964 | K73: 33.271571 | O73: 28.695166
A74: Elektriciteit | B74: Gebouw bij spooremplacement | C74: 1995 tot 2009 | D74: 22 | E74: 0.328 | F74: 111.63799 | H74: 92.765353 | J74: 96.606359 | K74: 111.63799 | M74: 92.765353 | O74: 96.606359
A75: Elektriciteit | B75: Gebouw bij spooremplacement | C75: vanaf 2009 | D75: 13 | E75: 0.194 | F75: 58.193586 | J75: 43.236265 | K75: 59.195289 | O75: 43.569575
A76: Elektriciteit | B76: Gebouw bij spooremplacement | D76: 19 | E76: 0.284 | F76: 57.402501 | J76: 36.358441 | K76: 59.512358 | O76: 36.583866
A77: Elektriciteit | B77: Gebouw bij vliegveld of luchthaven | C77: tot 1978 | D77: 25 | E77: 0.168 | F77: 60.449468 | H77: 38.699828 | J77: 70.296391 | K77: 62.088768 | M77: 41.438221 | O77: 72.036249
A78: Elektriciteit | B78: Gebouw bij vliegveld of luchthaven | C78: 1978 tot 1995 | D78: 55 | E78: 0.369 | F78: 55.921438 | G78: 10.762701 | H78: 20.721581 | I78: 71.856434 | J78: 98.064408 | K78: 82.428943 | L78: 12.093685 | M78: 26.923232 | N78: 86.13952 | O78: 160.86295
A79: Elektriciteit | B79: Gebouw bij vliegveld of luchthaven | C79: 1995 tot 2009 | D79: 43 | E79: 0.289 | F79: 54.605389 | G79: 12.723682 | H79: 33.315 | I79: 71.676891 | J79: 52.030758 | K79: 55.380716 | L79: 14.129312 | M79: 33.315 | N79: 71.676891 | O79: 52.335079
A80: Elektriciteit | B80: Gebouw bij vliegveld of luchthaven | C80: 2009 tot 2015 | D80: 13 | E80: 0.087 | F80: 57.055513 | J80: 61.440355 | K80: 70.582004 | O80: 65.857731
A81: Elektriciteit | B81: Gebouw bij vliegveld of luchthaven | C81: vanaf 2015 | D81: 13 | E81: 0.087 | F81: 55.845019 | J81: 38.378524 | K81: 58.048075 | O81: 39.349204
...

Sheet elek_kental_opp_2022
A1: Energiedrager | B1: Gebouwtype | C1: Oppervlakteklasse | D1: Aantal panden | E1: Aandeel panden per gebouwtype | F1: Gemiddelde kental (kWh/m2) | G1: Q1 kental (kWh/m2) | H1: Mediaan kental (kWh/m2) | I1: Q3 kental (kWh/m2) | J1: Gewogen gemiddelde kental (kWh/m2) | K1: Gemiddelde kental inclusief eigenverbruik zonnestroom (kWh/m2) | L1: Q1 kental inclusief eigenverbruik zonnestroom (kWh/m2) | M1: Mediaan kental inclusief eigenverbruik zonnestroom (kWh/m2) | N1: Q3 kental inclusief eigenverbruik zonnestroom (kWh/m2) | O1: Gewogen gemiddelde kental inclusief eigenverbruik zonnestroom (kWh/m2)
A2: Elektriciteit | B2: Basisschool | C2: tot 250 m2 | D2: 15 | E2: 0.003 | F2: 48.902239 | J2: 47.542797 | K2: 67.541486 | O2: 67.951411
A3: Elektriciteit | B3: Basisschool | C3: 250 tot 500 m2 | D3: 112 | E3: 0.023 | F3: 29.086045 | G3: 17.50187 | H3: 23.998117 | I3: 34.176495 | J3: 28.625256 | K3: 33.501082 | L3: 20.034944 | M3: 26.164727 | N3: 36.521545 | O3: 32.910254
A4: Elektriciteit | B4: Basisschool | C4: 500 tot 1000 m2 | D4: 909 | E4: 0.188 | F4: 23.234651 | G4: 15.178082 | H4: 19.889908 | I4: 26.846555 | J4: 23.137161 | K4: 26.798296 | L4: 17.358974 | M4: 22.207171 | N4: 29.943894 | O4: 26.73354
A5: Elektriciteit | B5: Basisschool | C5: 1000 tot 2500 m2 | D5: 2789 | E5: 0.578 | F5: 23.794033 | G5: 15.339905 | H5: 20.373606 | I5: 28.45283 | J5: 24.072437 | K5: 27.086589 | L5: 17.220726 | M5: 22.550746 | N5: 31.808511 | O5: 27.466126
A6: Elektriciteit | B6: Basisschool | C6: 2500 tot 5000 m2 | D6: 789 | E6: 0.163 | F6: 28.082852 | G6: 15.737327 | H6: 24.916418 | I6: 38.225944 | J6: 28.266093 | K6: 31.999863 | L6: 17.247729 | M6: 28.001711 | N6: 43.708376 | O6: 32.187178
A7: Elektriciteit | B7: Basisschool | C7: 5000 tot 10000 m2 | D7: 180 | E7: 0.037 | F7: 30.280378 | G7: 13.473064 | H7: 28.159347 | I7: 42.708366 | J7: 30.346654 | K7: 32.492141 | L7: 14.038591 | M7: 30.622129 | N7: 44.332673 | O7: 32.509104
A8: Elektriciteit | B8: Basisschool | C8: vanaf 10000 m2 | D8: 34 | E8: 0.007 | F8: 24.230232 | H8: 22.24529 | J8: 26.109808 | K8: 25.041869 | M8: 22.452391 | O8: 27.00443
A9: Elektriciteit | B9: Bedrijfshal algemeen (geen LISA-informatie) | C9: tot 50 m2 | D9: 672 | E9: 0.035 | F9: 60.656325 | G9: 11.630208 | H9: 35.03125 | I9: 90.754545 | J9: 58.617274 | K9: 61.511196 | L9: 11.730409 | M9: 35.789372 | N9: 90.818182 | O9: 59.367799
A10: Elektriciteit | B10: Bedrijfshal algemeen (geen LISA-informatie) | C10: 50 tot 100 m2 | D10: 1951 | E10: 0.102 | F10: 44.029062 | G10: 10.796911 | H10: 22.849462 | I10: 54.302069 | J10: 43.023117 | K10: 46.090889 | L10: 11.091667 | M10: 23.911111 | N10: 57.703571 | O10: 45.061581
A11: Elektriciteit | B11: Bedrijfshal algemeen (geen LISA-informatie) | C11: 100 tot 250 m2 | D11: 5047 | E11: 0.264 | F11: 32.795848 | G11: 10.423981 | H11: 19.431111 | I11: 35.051724 | J11: 32.701217 | K11: 34.764982 | L11: 10.824975 | M11: 20.469799 | N11: 36.274336 | O11: 34.648074
A12: Elektriciteit | B12: Bedrijfshal algemeen (geen LISA-informatie) | C12: 250 tot 500 m2 | D12: 3516 | E12: 0.184 | F12: 31.809844 | G12: 10.03317 | H12: 17.629698 | I12: 34.765291 | J12: 31.774812 | K12: 34.168902 | L12: 10.390521 | M12: 18.487892 | N12: 37.649537 | O12: 34.104036
A13: Elektriciteit | B13: Bedrijfshal algemeen (geen LISA-informatie) | C13: 500 tot 1000 m2 | D13: 3330 | E13: 0.174 | F13: 31.56358 | G13: 10.278589 | H13: 18.380552 | I13: 33.700317 | J13: 32.099053 | K13: 33.614472 | L13: 11.035454 | M13: 19.646523 | N13: 36.08268 | O13: 34.156731
A14: Elektriciteit | B14: Bedrijfshal algemeen (geen LISA-informatie) | C14: 1000 tot 2500 m2 | D14: 2820 | E14: 0.148 | F14: 37.468406 | G14: 11.499749 | H14: 21.200755 | I14: 40.93476 | J14: 38.318549 | K14: 40.924887 | L14: 12.300613 | M14: 22.645642 | N14: 44.289193 | O14: 41.852272
A15: Elektriciteit | B15: Bedrijfshal algemeen (geen LISA-informatie) | C15: 2500 tot 5000 m2 | D15: 999 | E15: 0.052 | F15: 46.554787 | G15: 12.11606 | H15: 23.314489 | I15: 47.994818 | J15: 47.382715 | K15: 50.361228 | L15: 13.050611 | M15: 25.343707 | N15: 55.422575 | O15: 51.270981
A16: Elektriciteit | B16: Bedrijfshal algemeen (geen LISA-informatie) | C16: 5000 tot 10000 m2 | D16: 483 | E16: 0.025 | F16: 49.338656 | G16: 12.373908 | H16: 25.237678 | I16: 60.881548 | J16: 49.581032 | K16: 53.652204 | L16: 13.498902 | M16: 28.845607 | N16: 70.102155 | O16: 53.958413
A17: Elektriciteit | B17: Bedrijfshal algemeen (geen LISA-informatie) | C17: vanaf 10000 m2 | D17: 268 | E17: 0.014 | F17: 44.381755 | G17: 11.992064 | H17: 22.25796 | I17: 49.066435 | J17: 43.44126 | K17: 50.19365 | L17: 13.379621 | M17: 24.709864 | N17: 57.388691 | O17: 49.111249
A18: Elektriciteit | B18: Bedrijfshal algemeen (met LISA-informatie) | C18: tot 50 m2 | D18: 84 | E18: 0.007 | F18: 121.66001 | G18: 36.879791 | H18: 80.38228 | I18: 171.87389 | J18: 118.21235 | K18: 123.28255 | L18: 36.879791 | M18: 81.943504 | N18: 182.44615 | O18: 119.878
A19: Elektriciteit | B19: Bedrijfshal algemeen (met LISA-informatie) | C19: 50 tot 100 m2 | D19: 586 | E19: 0.046 | F19: 72.276481 | G19: 19.655862 | H19: 37.772311 | I19: 82.919872 | J19: 69.528161 | K19: 77.735891 | L19: 20.600931 | M19: 39.744565 | N19: 86.031877 | O19: 74.87226
A20: Elektriciteit | B20: Bedrijfshal algemeen (met LISA-informatie) | C20: 100 tot 250 m2 | D20: 2381 | E20: 0.189 | F20: 48.580871 | G20: 15.036765 | H20: 27.494444 | I20: 50.859375 | J20: 48.079931 | K20: 52.504951 | L20: 15.517857 | M20: 28.672897 | N20: 54.415094 | O20: 51.817261
... A42: Elektriciteit | B42: Bedrijfshal met maakindustrie en andere economische activiteiten | C42: vanaf 10000 m2 | D42: 147 | E42: 0.029 | F42: 74.092579 | G42: 20.240671 | H42: 44.229966 | I42: 84.379004 | J42: 75.446607 | K42: 79.207786 | L42: 23.711392 | M42: 49.49581 | N42: 93.145986 | O42: 80.413803
A43: Elektriciteit | B43: Bedrijfshal met maakindustrie en logistieke activiteiten | C43: tot 50 m2 | D43: 28 | E43: 0.003 | F43: 105.92214 | H43: 56.902778 | J43: 92.773622 | K43: 118.08574 | M43: 67.729647 | O43: 106.39837
A44: Elektriciteit | B44: Bedrijfshal met maakindustrie en logistieke activiteiten | C44: 50 tot 100 m2 | D44: 212 | E44: 0.02 | F44: 74.064951 | G44: 19.50232 | H44: 39.577842 | I44: 97.756145 | J44: 71.434535 | K44: 120.1387 | L44: 19.860919 | M44: 40.161966 | N44: 111.23648 | O44: 120.81998
A45: Elektriciteit | B45: Bedrijfshal met maakindustrie en logistieke activiteiten | C45: 100 tot 250 m2 | D45: 980 | E45: 0.092 | F45: 45.068652 | G45: 14.772549 | H45: 27.566949 | I45: 47.689059 | J45: 44.466101 | K45: 49.538616 | L45: 15.589889 | M45: 28.348975 | N45: 50.044605 | O45: 48.846732
A46: Elektriciteit | B46: Bedrijfshal met maakindustrie en logistieke activiteiten | C46: 250 tot 500 m2 | D46: 1356 | E46: 0.127 | F46: 39.442506 | G46: 14.96958 | H46: 24.083662 | I46: 40.863047 | J46: 39.506573 | K46: 42.156331 | L46: 15.886959 | M46: 25.720068 | N46: 43.836037 | O46: 42.218288
A47: Elektriciteit | B47: Bedrijfshal met maakindustrie en logistieke activiteiten | C47: 500 tot 1000 m2 | D47: 2210 | E47: 0.207 | F47: 39.184635 | G47: 13.585393 | H47: 22.676885 | I47: 39.616814 | J47: 39.254354 | K47: 42.431847 | L47: 14.892174 | M47: 24.468088 | N47: 42.624057 | O47: 42.414534
A48: Elektriciteit | B48: Bedrijfshal met maakindustrie en logistieke activiteiten | C48: 1000 tot 2500 m2 | D48: 3153 | E48: 0.295 | F48: 40.645198 | G48: 13.980349 | H48: 23.087012 | I48: 41.306389 | J48: 41.045692 | K48: 44.137829 | L48: 15.641563 | M48: 25.544545 | N48: 44.941102 | O48: 44.570641
A49: Elektriciteit | B49: Bedrijfshal met maakindustrie en logistieke activiteiten | C49: 2500 tot 5000 m2 | D49: 1548 | E49: 0.145 | F49: 48.58614 | G49: 14.233324 | H49: 25.594019 | I49: 49.207522 | J49: 48.762756 | K49: 53.621014 | L49: 16.192429 | M49: 28.526103 | N49: 56.573479 | O49: 53.911755
A50: Elektriciteit | B50: Bedrijfshal met maakindustrie en logistieke activiteiten | C50: 5000 tot 10000 m2 | D50: 781 | E50: 0.073 | F50: 56.984532 | G50: 14.546486 | H50: 26.987736 | I50: 64.132108 | J50: 58.162379 | K50: 63.087795 | L50: 16.369997 | M50: 31.224188 | N50: 73.600226 | O50: 64.216664
A51: Elektriciteit | B51: Bedrijfshal met maakindustrie en logistieke activiteiten | C51: vanaf 10000 m2 | D51: 408 | E51: 0.038 | F51: 68.212341 | G51: 17.320109 | H51: 32.759378 | I51: 72.289913 | J51: 62.163207 | K51: 75.405885 | L51: 20.195719 | M51: 40.269514 | N51: 88.930168 | O51: 69.496558
A52: Elektriciteit | B52: Bedrijfshal uitsluitend maakindustrie | C52: tot 50 m2 | D52: 94 | E52: 0.005 | F52: 127.75889 | G52: 25.984799 | H52: 77.307326 | I52: 167.22547 | J52: 124.34127 | K52: 144.808 | L52: 25.984799 | M52: 77.307326 | N52: 192.67676 | O52: 142.74428
A53: Elektriciteit | B53: Bedrijfshal uitsluitend maakindustrie | C53: 50 tot 100 m2 | D53: 516 | E53: 0.027 | F53: 62.758142 | G53: 15.484126 | H53: 29.809286 | I53: 61.736206 | J53: 60.158591 | K53: 66.505529 | L53: 15.68497 | M53: 31.405442 | N53: 64.479592 | O53: 63.876889
A54: Elektriciteit | B54: Bedrijfshal uitsluitend maakindustrie | C54: 100 tot 250 m2 | D54: 2366 | E54: 0.123 | F54: 41.916653 | G54: 13.635371 | H54: 23.408919 | I54: 41.664913 | J54: 41.156348 | K54: 45.007075 | L54: 14.08662 | M54: 24.419605 | N54: 44.7863 | O54: 44.356594
A55: Elektriciteit | B55: Bedrijfshal uitsluitend maakindustrie | C55: 250 tot 500 m2 | D55: 3355 | E55: 0.174 | F55: 41.065083 | G55: 13.672574 | H55: 23.132143 | I55: 40.011738 | J55: 41.243058 | K55: 43.963259 | L55: 14.653473 | M55: 25.143498 | N55: 43.497212 | O55: 44.142505
... A67: Elektriciteit | B67: Bedrijfswoning | C67: 2500 tot 5000 m2 | D67: 295 | E67: 0.004 | F67: 35.40839 | G67: 11.170951 | H67: 20.813275 | I67: 42.035139 | J67: 36.300639 | K67: 40.045872 | L67: 12.462382 | M67: 22.803422 | N67: 47.69397 | O67: 40.727025
A68: Elektriciteit | B68: Bedrijfswoning | C68: 5000 tot 10000 m2 | D68: 39 | E68: 0.001 | F68: 45.313679 | H68: 22.748296 | J68: 47.205101 | K68: 49.304896 | M68: 24.563418 | O68: 51.473842
A69: Elektriciteit | B69: Bedrijfswoning | C69: vanaf 10000 m2 | D69: 26 | E69: 0 | F69: 60.935249 | H69: 41.658756 | J69: 73.212788 | K69: 68.923877 | M69: 43.656852 | O69: 79.463191
A70: Elektriciteit | B70: Bijeenkomstgebouw (niet nader ingedeeld) | C70: tot 50 m2 | D70: 199 | E70: 0.022 | F70: 77.840258 | G70: 18.122989 | H70: 44.090909 | I70: 128.79032 | J70: 74.691525 | K70: 81.80096 | L70: 19.202778 | M70: 47.085714 | N70: 132.19231 | O70: 78.59137
A71: Elektriciteit | B71: Bijeenkomstgebouw (niet nader ingedeeld) | C71: 50 tot 100 m2 | D71: 872 | E71: 0.095 | F71: 61.524078 | G71: 15.097024 | H71: 35.265976 | I71: 79.535617 | J71: 61.051067 | K71: 63.717529 | L71: 15.578577 | M71: 35.744505 | N71: 83.609199 | O71: 63.215561
A72: Elektriciteit | B72: Bijeenkomstgebouw (niet nader ingedeeld) | C72: 100 tot 250 m2 | D72: 2827 | E72: 0.307 | F72: 45.418883 | G72: 12.329114 | H72: 23.630435 | I72: 48.495329 | J72: 44.951908 | K72: 48.080833 | L72: 12.740626 | M72: 24.951456 | N72: 53.178753 | O72: 47.566364
...

Sheet elek_kental_diensten_2022
A1: Energiedrager | B1: Gebouwtype | C1: Aantal panden | D1: Gemiddelde kental (kWh/m2) | E1: Q1 kental (kWh/m2) | F1: Mediaan kental (kWh/m2) | G1: Q3 kental (kWh/m2) | H1: Gewogen gemiddelde kental (kWh/m2) | I1: Gemiddelde kental inclusief eigenverbruik zonnestroom (kWh/m2) | J1: Q1 kental inclusief eigenverbruik zonnestroom (kWh/m2) | K1: Mediaan kental inclusief eigenverbruik zonnestroom (kWh/m2) | L1: Q3 kental inclusief eigenverbruik zonnestroom (kWh/m2) | M1: Gewogen gemiddelde kental inclusief eigenverbruik zonnestroom (kWh/m2)
A2: Elektriciteit | B2: Asielzoekerscentrum | C2: 51 | D2: 103.37468 | E2: 37.137204 | F2: 61.507987 | G2: 132.3694 | H2: 68.133508 | I2: 103.538 | J2: 37.137204 | K2: 61.507987 | L2: 132.3694 | M2: 68.199519
A3: Elektriciteit | B3: Basisschool | C3: 4352 | D3: 24.211805 | E3: 15.154627 | F3: 20.480912 | G3: 29.372742 | H3: 24.758724 | I3: 27.735958 | J3: 17.062132 | K3: 22.809042 | L3: 33.160373 | M3: 28.281923
