Workbook

Sheet inhoudsopgave en toelichting
C1: Energiekentallen Utiliteitsbouw
C4: Project details
D6: Project naam | E6: Energiekentallen Utiliteitsgebouwen
D7: Datum | E7: Augustus 2026
D8: Contactpersoon TNO | E8: Robin Niessink, robin.niessink@tno.nl
C10: Deze dataset is ontwikkeld met subsidie van de Rijksdienst voor Ondernemend Nederland (RVO)
C12: Toelichting
C14: In dit onderzoek zijn energie-kentallen voor aardgaslevering (m3/m2) en elektriciteitslevering (kWh/m2) voor de diverse gebouwtypen van de utiliteitsbouw bepaald voor zichtjaren 2020 t/m 2024. De kentallen zijn waar mogelijk uitgesplitst naar bouwjaar-, oppervlakte-, en energielabelklassen. Ook voor de groep van panden die binnen de dienstensector valt zijn kentallen ontwikkeld. Voor zonnestroom is een eigen inschatting gemaakt van de teruglevering en daarmee is het eigenverbruik berekend en vervolgens opgeteld bij de netlevering voor een betere benadering van het totaalverbruik.
C16: De kentallen voor zonnestroomproductie (kWh/m2) alsmede het aandeel panden met zonnestroomproductie (in de populatie) zijn toegevoegd in een apart tab.
C18: NB: Een lege cel betekent dat een kental niet kon worden weergegeven vanwege de daarvoor geldende privacyregels. Het aantal overgebleven waarnemingen in de onderzoekspopulatie was hiervoor te laag.
C20: Voor nadere toelichting zie TNO rapport: Energiekentallen utiliteitsgebouwen 2020 t/m 2024 - Een analyse van het energieverbruik per gebouwtype voor de ontwikkeling van benchmark energiekentallen
C22: Inhoudsopgave
C23: Tab naam | E23: Inhoud
C24: elek_kental_ | E24: kentallen elektriciteit per gebouwtype
C25: elek_kental_bouwj_ | E25: kentallen elektriciteit per gebouwtype met uitsplitsing naar bouwjaarklassen
C26: elek_kental_opp_ | E26: kentallen elektriciteit per gebouwtype met uitsplitsing naar (gebruiks)oppervlakteklassen
C27: elek_kental_diensten_ | E27: kentallen elektriciteit per gebouwtype voor panden die vallen binnen de dienstensector
C28: elek_kental_subsets_ | E28: kentallen elektriciteit per gebouwtype voor panden met onderscheid naar panden met of zonder zonnestroom en waar de teruglevering wel of niet hoger is dan de zonnestroomproductie
C29: zonnestroom_kentallen_ | E29: kentallen zonnestroomproductie per gebouwtype
C30: gas_kental_ | E30: kentallen aardgas per gebouwtype
C31: gas_kental_bouwj_ | E31: kentallen aardgas per gebouwtype met uitsplitsing naar bouwjaarklassen
C32: gas_kental_opp_ | E32: kentallen aardgas per gebouwtype met uitsplitsing naar (gebruiks)oppervlakteklassen
C33: gas_kental_diensten_ | E33: kentallen aardgas per gebouwtype voor panden die vallen binnen de dienstensector
C34: populatie_overzicht_ | E34: een overzicht met het aantal panden in de onderzoekspopulatie in het betreffende tab, waarmee onder andere is na te gaan welke categorieën ontbreken per tab
C37: Toelichting kolommen in de tabs
C39: Energiedrager | D39: Dit geeft aan of het een kental voor aardgas of elektriciteit is
C40: Gebouwtype | D40: Dit geeft aan over welk gebouwtype het gaat
C41: Aantal panden | D41: Dit geeft het aantal panden in het onderzoek aan waarover de kentallen in de categorie berekend zijn
C42: Aandeel panden per gebouwtype | D42: Het percentage van het aantal panden dat in de betreffende categorie valt per gebouwtype
C43: Gemiddelde kental (kWh/m2) | D43: Het gemiddelde kental
C44: Q1 kental (kWh/m2) | D44: Het kental voor het 1ste kwartiel
C45: Mediaan kental (kWh/m2) | D45: Het kental voor de mediaan
C46: Q3 kental (kWh/m2) | D46: Het kental voor het 3e kwartiel
C47: Gewogen gemiddelde kental (kWh/m2) | D47: Het gemiddelde kental waarbij het pandoppervlak als weegfactor is gebruikt
C48: Gemiddelde kental inclusief eigenverbruik zonnestroom (kWh/m2) | D48: Eerst is het eigenverbruik zonnestroom bepaald en vervolgens opnieuw het gemiddelde bepaald
C49: Q1 kental inclusief eigenverbruik zonnestroom (kWh/m2) | D49: Eerst is het eigenverbruik zonnestroom bepaald en vervolgens opnieuw het 1ste kwartiel
C50: Mediaan kental inclusief eigenverbruik zonnestroom (kWh/m2) | D50: Eerst is het eigenverbruik zonnestroom bepaald en vervolgens opnieuw de mediaan
... C56: Gewogen gemiddelde zonnestroomproductie kental (kWh/m2) (inclusief panden zonder zon-pv) | D56: Het gewogen gemiddelde kental voor zonnestroomproductie berekend als gemiddelde voor panden met en zonder zonnestroomproductie

Sheet gas_kental_2022
A1: Energiedrager | B1: Gebouwtype | C1: Aantal panden | D1: Gemiddelde kental (m3/m2) | E1: Q1 kental (m3/m2) | F1: Mediaan kental (m3/m2) | G1: Q3 kental (m3/m2) | H1: Gewogen gemiddelde kental (m3/m2)
A2: Gas | B2: Asielzoekerscentrum | C2: 66 | D2: 22.928182 | E2: 8.4330109 | F2: 15.680251 | G2: 24.810847 | H2: 13.943501
A3: Gas | B3: Basisschool | C3: 4442 | D3: 9.2252513 | E3: 6.3383701 | F3: 8.9536894 | G3: 11.610199 | H3: 7.5226296
A4: Gas | B4: Bedrijfshal algemeen (geen LISA-informatie) | C4: 17891 | D4: 4.1603489 | E4: 0.65625 | F4: 2.5816135 | G4: 5.6549078 | H4: 3.8872038
A5: Gas | B5: Bedrijfshal algemeen (met LISA-informatie) | C5: 11184 | D5: 5.1684365 | E5: 1.7743765 | F5: 3.6781554 | G5: 6.4470497 | H5: 4.199997
A6: Gas | B6: Bedrijfshal met logistieke activiteiten | C6: 4936 | D6: 4.2209556 | E6: 1.7889405 | F6: 3.2981352 | G6: 5.3729589 | H6: 3.3821583
A7: Gas | B7: Bedrijfshal met maakindustrie en andere economische activiteiten | C7: 4558 | D7: 4.9126459 | E7: 1.9476302 | F7: 3.5931465 | G7: 6.0969777 | H7: 4.9340439
A8: Gas | B8: Bedrijfshal met maakindustrie en logistieke activiteiten | C8: 9655 | D8: 4.5823908 | E8: 1.6598175 | F8: 3.4167539 | G8: 5.9195131 | H8: 3.8369342
A9: Gas | B9: Bedrijfshal uitsluitend maakindustrie | C9: 17755 | D9: 6.4525273 | E9: 1.9552539 | F9: 3.9778813 | G9: 7.1986667 | H9: 8.312173
A10: Gas | B10: Bedrijfswoning | C10: 64004 | D10: 9.6708576 | E10: 4.0614693 | F10: 7.5310209 | G10: 12.369383 | H10: 6.6093878
A11: Gas | B11: Bijeenkomstgebouw (niet nader ingedeeld) | C11: 9270 | D11: 9.1786003 | E11: 4.3015832 | F11: 7.507125 | G11: 12.090057 | H11: 8.0401523
A12: Gas | B12: Campusgebouw | C12: 96 | D12: 10.876922 | E12: 2.8708129 | F12: 7.7030892 | G12: 13.213855 | H12: 7.1973721
A13: Gas | B13: Cultuurhuis | C13: 541 | D13: 8.9049263 | E13: 5.0173653 | F13: 8.0711111 | G13: 12.109989 | H13: 6.2596873
... A15: Gas | B15: Gebedshuis | C15: 4268 | D15: 8.4932265 | E15: 5.1093442 | F15: 7.8733252 | G15: 11.226801 | H15: 6.5097704
A16: Gas | B16: Gebouw bij militaire inrichting | C16: 19 | D16: 1630.6599 | H16: 181.01616
A17: Gas | B17: Gebouw bij spooremplacement | C17: 83 | D17: 9.4803044 | E17: 3.2398423 | F17: 6.6365649 | G17: 12.392494 | H17: 6.5730308
A18: Gas | B18: Gebouw bij vliegveld of luchthaven | C18: 167 | D18: 7.6102538 | E18: 2.1993856 | F18: 5.0073638 | G18: 10.023748 | H18: 6.2848142
A19: Gas | B19: Gebouw in landelijk gebied voor industrie (geen landbouwactiviteiten geregistreerd) | C19: 3737 | D19: 5.7885038 | E19: 1.1310976 | F19: 3.3474864 | G19: 7.648353 | H19: 4.7858439
A20: Gas | B20: Gebouw in stedelijk gebied met industriefunctie | C20: 12416 | D20: 7.2133192 | E20: 1.6314428 | F20: 4.6394093 | G20: 9.2902312 | H20: 5.7613357
A21: Gas | B21: Gebouw op snelwegverzorgingsplaats | C21: 61 | D21: 11.221357 | E21: 2.5430328 | F21: 6.1134969 | G21: 13.36 | H21: 15.860469
A22: Gas | B22: Gebouw op vakantiepark | C22: 36605 | D22: 10.233441 | E22: 6.2444444 | F22: 9.5306122 | G22: 13.104478 | H22: 9.8383535
A23: Gas | B23: Gebouw voor landbouwactiviteiten | C23: 2143 | D23: 94.594665 | E23: 3.7775287 | F23: 10.369128 | G23: 30.196429 | H23: 62.928224
A24: Gas | B24: Groothandel op bedrijventerrein | C24: 565 | D24: 3.8216928 | E24: 2.0541586 | F24: 3.312753 | G24: 4.9371069 | H24: 3.1842484
A25: Gas | B25: Hotel (of ander groot logiesgebouw) | C25: 2386 | D25: 12.769351 | E25: 6.5248929 | F25: 11.625431 | G25: 17.731205 | H25: 9.9008647
A26: Gas | B26: IJsbaan | C26: 118 | D26: 5.0730491 | E26: 2.2715781 | F26: 4.2732919 | G26: 6.5709619 | H26: 5.4539443
A27: Gas | B27: Kantoorpand algemeen | C27: 19758 | D27: 8.7592014 | E27: 4.7777582 | F27: 7.9388042 | G27: 11.77446 | H27: 6.5203684
A28: Gas | B28: Kinderopvang (gebouw) | C28: 1499 | D28: 11.431733 | E28: 7.5540936 | F28: 10.597015 | G28: 14.413387 | H28: 9.8378966
A29: Gas | B29: Koelhuis | C29: 85 | D29: 4.4146404 | E29: 0.59125315 | F29: 1.8018194 | G29: 4.3715187 | H29: 3.4295346
A30: Gas | B30: MBO-gebouw | C30: 10 | D30: 3.4363754 | H30: 2.9543185
A31: Gas | B31: Meergezinswoning met andere functie of combinatie van functies | C31: 17537 | D31: 9.1280503 | E31: 5.6005587 | F31: 8.4364407 | G31: 11.777328 | H31: 7.4109365
A32: Gas | B32: Meergezinswoning met cafe of restaurant | C32: 6296 | D32: 13.491571 | E32: 7.3638745 | F32: 11.388194 | G32: 17.253716 | H32: 12.01886
A33: Gas | B33: Meergezinswoning met winkel | C33: 22330 | D33: 9.1931757 | E33: 5.5284658 | F33: 8.3539659 | G33: 11.894028 | H33: 7.6617341
A34: Gas | B34: Meergezinswoning met winkels en horeca | C34: 2506 | D34: 9.5749819 | E34: 5.7503033 | F34: 8.5095221 | G34: 12.20189 | H34: 7.3783359
A35: Gas | B35: Meergezinswoning met woonzorgeenheden | C35: 262 | D35: 10.565271 | E35: 6.4903924 | F35: 9.2943062 | G35: 13.726688 | H35: 9.4101676
A36: Gas | B36: Middelbare school | C36: 1059 | D36: 7.8967775 | E36: 4.5107947 | F36: 7.3787257 | G36: 10.409464 | H36: 6.3821619
A37: Gas | B37: Nutsgebouw (elektriciteit) | C37: 58 | D37: 6.3546145 | E37: 1.9074633 | F37: 4.6830792 | G37: 9.4832586 | H37: 5.2771766
A38: Gas | B38: Nutsgebouw (water) | C38: 238 | D38: 17.316351 | E38: 4.0900936 | F38: 10.859865 | G38: 22.35049 | H38: 9.0371281
A39: Gas | B39: Overig gebouw met maatschappelijke functie | C39: 1573 | D39: 11.292723 | E39: 4.2009646 | F39: 8.0570571 | G39: 13.668896 | H39: 8.909654
A40: Gas | B40: Overig gebouw met recreatiefunctie | C40: 80 | D40: 18.546396 | E40: 4.5900819 | F40: 9.7312554 | G40: 18.380081 | H40: 15.100962
A41: Gas | B41: Overig onderwijsgebouw | C41: 3132 | D41: 10.102341 | E41: 6.1803704 | F41: 9.4355327 | G41: 12.872964 | H41: 7.6962343
A42: Gas | B42: Overig overheidsgebouw | C42: 1065 | D42: 10.226096 | E42: 5.902439 | F42: 9.0327479 | G42: 13.166774 | H42: 6.6861237
... A46: Gas | B46: Pand met winkel en kantoor- en/of bijeenkomstfunctie | C46: 1374 | D46: 8.3842735 | E46: 3.2339333 | F46: 6.3362432 | G46: 10.629563 | H46: 4.3673166
A47: Gas | B47: Penitentiaire inrichting | C47: 23 | D47: 20.871996 | F47: 15.819658 | H47: 20.579936
A48: Gas | B48: Praktijk- of zorgwoning | C48: 4885 | D48: 10.056982 | E48: 6.3034188 | F48: 8.8874172 | G48: 12.566667 | H48: 9.5335276
A49: Gas | B49: Productie-installatie | C49: 101 | D49: 887.11547 | E49: 7.9198347 | F49: 105.3386 | G49: 822.08168 | H49: 704.97272
A50: Gas | B50: Restaurant of cafégebouw | C50: 3741 | D50: 25.637463 | E50: 9.6428571 | F50: 18.646154 | G50: 34.534483 | H50: 17.703756
A51: Gas | B51: School voor speciaal onderwijs | C51: 479 | D51: 9.589906 | E51: 6.179614 | F51: 8.8951686 | G51: 11.973316 | H51: 7.9415957
A52: Gas | B52: Schoolverzamelgebouw | C52: 94 | D52: 7.0029067 | E52: 3.8635799 | F52: 6.5967287 | G52: 8.7528255 | H52: 6.4955384
A53: Gas | B53: Tuincentrum | C53: 446 | D53: 8.7015694 | E53: 3.276823 | F53: 5.8299231 | G53: 9.861824 | H53: 6.201156
A54: Gas | B54: Vakantiewoning buiten vakantiepark | C54: 4701 | D54: 11.49775 | E54: 6.1757576 | F54: 9.8846154 | G54: 14.789855 | H54: 10.60584
A55: Gas | B55: Winkelpand | C55: 19597 | D55: 8.9427359 | E55: 2.9216684 | F55: 6.1911263 | G55: 11.237132 | H55: 5.0344552
A56: Gas | B56: Woning met andere functie of combinatie van functies | C56: 13770 | D56: 10.014166 | E56: 4.9192205 | F56: 8.2028903 | G56: 12.66095 | H56: 7.4719617
A57: Gas | B57: Woning met cafe of restaurant | C57: 11114 | D57: 16.423809 | E57: 7.1517042 | F57: 12.402128 | G57: 21.588848 | H57: 13.515859
A58: Gas | B58: Woning met winkel | C58: 32172 | D58: 9.9513446 | E58: 5.3578668 | F58: 8.4029631 | G58: 12.603196 | H58: 8.2930635
A59: Gas | B59: Wooncomplex met andere functie of combinatie van functies | C59: 8257 | D59: 7.7209229 | E59: 4.8583162 | F59: 7.0428708 | G59: 10.01273 | H59: 6.5411413
... A66: Gas | B66: Zwembad | C66: 491 | D66: 45.575502 | E66: 12.531845 | F66: 32.279334 | G66: 61.009847 | H66: 35.156078

Sheet gas_kental_bouwj_2022
A1: Energiedrager | B1: Gebouwtype | C1: Bouwjaarklasse | D1: Aantal panden | E1: Aandeel panden per gebouwtype | F1: Gemiddelde kental (m3/m2) | G1: Q1 kental (m3/m2) | H1: Mediaan kental (m3/m2) | I1: Q3 kental (m3/m2) | J1: Gewogen gemiddelde kental (m3/m2)
A2: Gas | B2: Basisschool | C2: tot 1946 | D2: 431 | E2: 0.097 | F2: 10.459422 | G2: 7.6994526 | H2: 10.037258 | I2: 13.252067 | J2: 8.6796557
A3: Gas | B3: Basisschool | C3: 1946 tot 1978 | D3: 1707 | E3: 0.384 | F3: 10.481475 | G3: 8.0020108 | H3: 10.096675 | I3: 12.659518 | J3: 9.2310398
A4: Gas | B4: Basisschool | C4: 1978 tot 1995 | D4: 1040 | E4: 0.234 | F4: 9.5685021 | G4: 7.1548456 | H4: 9.222217 | I4: 11.673329 | J4: 8.391451
A5: Gas | B5: Basisschool | C5: 1995 tot 2009 | D5: 655 | E5: 0.147 | F5: 8.1659528 | G5: 5.9775971 | H5: 7.6933082 | I5: 10.141556 | J5: 6.4634197
A6: Gas | B6: Basisschool | C6: 2009 tot 2015 | D6: 441 | E6: 0.099 | F6: 5.7836866 | G6: 2.9028314 | H6: 5.3133137 | I6: 7.5902416 | J6: 4.8675501
A7: Gas | B7: Basisschool | C7: vanaf 2015 | D7: 168 | E7: 0.038 | F7: 4.3341103 | G7: 1.6189566 | H7: 3.8727793 | I7: 6.0325996 | J7: 3.9055571
A8: Gas | B8: Bedrijfshal algemeen (geen LISA-informatie) | C8: tot 1946 | D8: 235 | E8: 0.013 | F8: 6.0357567 | G8: 0.82806616 | H8: 4.6645022 | I8: 8.4125 | J8: 3.6594647
A9: Gas | B9: Bedrijfshal algemeen (geen LISA-informatie) | C9: 1946 tot 1978 | D9: 2590 | E9: 0.145 | F9: 4.9243185 | G9: 0.73111657 | H9: 2.8055658 | I9: 6.6618915 | J9: 4.2509298
A10: Gas | B10: Bedrijfshal algemeen (geen LISA-informatie) | C10: 1978 tot 1995 | D10: 4544 | E10: 0.254 | F10: 4.7971365 | G10: 0.95771253 | H10: 3.1480721 | I10: 6.6558679 | J10: 4.1624115
A11: Gas | B11: Bedrijfshal algemeen (geen LISA-informatie) | C11: 1995 tot 2009 | D11: 7861 | E11: 0.439 | F11: 3.8120112 | G11: 0.60483871 | H11: 2.4230303 | I11: 5.2184874 | J11: 3.8315994
A12: Gas | B12: Bedrijfshal algemeen (geen LISA-informatie) | C12: 2009 tot 2015 | D12: 1552 | E12: 0.087 | F12: 3.4149909 | G12: 0.36356061 | H12: 2.2701582 | I12: 4.7393353 | J12: 3.4375723
A13: Gas | B13: Bedrijfshal algemeen (geen LISA-informatie) | C13: vanaf 2015 | D13: 1109 | E13: 0.062 | F13: 2.8818221 | G13: 0.0063091483 | H13: 1.6783333 | I13: 4.0503247 | J13: 2.6063293
... A55: Gas | B55: Bijeenkomstgebouw (niet nader ingedeeld) | C55: vanaf 2015 | D55: 215 | E55: 0.023 | F55: 9.4530183 | G55: 3.5973783 | H55: 5.5812183 | I55: 13.216453 | J55: 7.5548854
A56: Gas | B56: Campusgebouw | C56: tot 1978 | D56: 30 | E56: 0.312 | F56: 9.3230699 | H56: 5.7492139 | J56: 9.6238549
A57: Gas | B57: Campusgebouw | C57: 1978 tot 1995 | D57: 13 | E57: 0.135 | F57: 12.272675 | J57: 10.613464
A58: Gas | B58: Campusgebouw | C58: 1995 tot 2009 | D58: 28 | E58: 0.292 | F58: 14.429917 | H58: 9.2630572 | J58: 13.048221
A59: Gas | B59: Campusgebouw | C59: 2009 tot 2015 | D59: 12 | E59: 0.125 | F59: 7.1606647 | J59: 5.5618255
A60: Gas | B60: Campusgebouw | C60: vanaf 2015 | D60: 13 | E60: 0.135 | F60: 8.8447674 | J60: 1.5757701
A61: Gas | B61: Cultuurhuis | C61: tot 1946 | D61: 213 | E61: 0.394 | F61: 10.17054 | G61: 5.4266413 | H61: 9.2809524 | I61: 13.803082 | J61: 6.0517746
A62: Gas | B62: Cultuurhuis | C62: 1946 tot 1978 | D62: 118 | E62: 0.218 | F62: 8.8808579 | G62: 5.6038571 | H62: 8.6054794 | I62: 11.121402 | J62: 7.3098563
A63: Gas | B63: Cultuurhuis | C63: 1978 tot 1995 | D63: 94 | E63: 0.174 | F63: 8.5483753 | G63: 5.9097347 | H63: 8.0200989 | I63: 10.784062 | J63: 7.5146507
A64: Gas | B64: Cultuurhuis | C64: 1995 tot 2009 | D64: 86 | E64: 0.159 | F64: 7.4439591 | G64: 4.1319783 | H64: 6.8997014 | I64: 9.2014153 | J64: 5.6306014
A65: Gas | B65: Cultuurhuis | C65: 2009 tot 2015 | D65: 19 | E65: 0.035 | F65: 5.932301 | J65: 3.7594013
A66: Gas | B66: Cultuurhuis | C66: vanaf 2015 | D66: 11 | E66: 0.02 | F66: 4.2597574 | J66: 4.8615948
A67: Gas | B67: Gebedshuis | C67: tot 1946 | D67: 1774 | E67: 0.416 | F67: 9.0282628 | G67: 5.0269597 | H67: 8.3907246 | I67: 12.459312 | J67: 6.1579585
A68: Gas | B68: Gebedshuis | C68: 1946 tot 1978 | D68: 1492 | E68: 0.35 | F68: 8.3403991 | G68: 5.2111479 | H68: 7.8476996 | I68: 10.932703 | J68: 6.9741856
A69: Gas | B69: Gebedshuis | C69: 1978 tot 1995 | D69: 542 | E69: 0.127 | F69: 8.0933056 | G69: 5.3964394 | H69: 7.7035759 | I69: 10.420195 | J69: 6.5224281
A70: Gas | B70: Gebedshuis | C70: 1995 tot 2009 | D70: 345 | E70: 0.081 | F70: 7.8251933 | G70: 5.2423124 | H70: 7.2303307 | I70: 9.7139623 | J70: 7.040829
A71: Gas | B71: Gebedshuis | C71: 2009 tot 2015 | D71: 85 | E71: 0.02 | F71: 6.1390204 | G71: 3.9368165 | H71: 5.4365256 | I71: 7.6604938 | J71: 5.4034386
A72: Gas | B72: Gebedshuis | C72: vanaf 2015 | D72: 30 | E72: 0.007 | F72: 6.033235 | H72: 6.0635854 | J72: 3.5822387
A73: Gas | B73: Gebouw bij spooremplacement | C73: tot 1946 | D73: 22 | E73: 0.265 | F73: 8.7366579 | H73: 4.857879 | J73: 6.8489163
A74: Gas | B74: Gebouw bij spooremplacement | C74: 1946 tot 1978 | D74: 15 | E74: 0.181 | F74: 9.7119829 | J74: 7.9132911
A75: Gas | B75: Gebouw bij spooremplacement | C75: 1978 tot 1995 | D75: 17 | E75: 0.205 | F75: 12.477237 | J75: 12.125948
A76: Gas | B76: Gebouw bij spooremplacement | C76: 1995 tot 2009 | D76: 15 | E76: 0.181 | F76: 11.374224 | J76: 4.8171296
A77: Gas | B77: Gebouw bij spooremplacement | C77: vanaf 2009 | D77: 14 | E77: 0.169 | F77: 4.7323331 | J77: 2.4358065
A78: Gas | B78: Gebouw bij vliegveld of luchthaven | C78: tot 1978 | D78: 28 | E78: 0.168 | F78: 7.7537038 | H78: 5.7066895 | J78: 4.7868476
A79: Gas | B79: Gebouw bij vliegveld of luchthaven | C79: 1978 tot 1995 | D79: 67 | E79: 0.401 | F79: 6.8584752 | G79: 2.5851561 | H79: 5.0358129 | I79: 9.8554299 | J79: 6.4291722
A80: Gas | B80: Gebouw bij vliegveld of luchthaven | C80: 1995 tot 2009 | D80: 50 | E80: 0.299 | F80: 8.7752743 | G80: 1.9008595 | H80: 5.3272155 | I80: 11.635143 | J80: 7.1958966
A81: Gas | B81: Gebouw bij vliegveld of luchthaven | C81: vanaf 2009 | D81: 22 | E81: 0.132 | F81: 7.069415 | H81: 3.4327117 | J81: 6.171486
A82: Gas | B82: Gebouw in landelijk gebied voor industrie (geen landbouwactiviteiten geregistreerd) | C82: tot 1946 | D82: 384 | E82: 0.103 | F82: 7.1806026 | G82: 1.7776029 | H82: 4.5631775 | I82: 10.321824 | J82: 5.2212644
A83: Gas | B83: Gebouw in landelijk gebied voor industrie (geen landbouwactiviteiten geregistreerd) | C83: 1946 tot 1978 | D83: 1049 | E83: 0.281 | F83: 5.472802 | G83: 1.0969828 | H83: 3.2510067 | I83: 7.1414702 | J83: 4.5285013
A84: Gas | B84: Gebouw in landelijk gebied voor industrie (geen landbouwactiviteiten geregistreerd) | C84: 1978 tot 1995 | D84: 1025 | E84: 0.274 | F84: 6.1189795 | G84: 1.0831721 | H84: 3.4375 | I84: 7.9894921 | J84: 4.8634209
A85: Gas | B85: Gebouw in landelijk gebied voor industrie (geen landbouwactiviteiten geregistreerd) | C85: 1995 tot 2009 | D85: 886 | E85: 0.237 | F85: 5.6196237 | G85: 1.112034 | H85: 3.3092613 | I85: 7.7737409 | J85: 4.8843473
A86: Gas | B86: Gebouw in landelijk gebied voor industrie (geen landbouwactiviteiten geregistreerd) | C86: 2009 tot 2015 | D86: 242 | E86: 0.065 | F86: 4.7975277 | G86: 1.0875225 | H86: 2.8229081 | I86: 5.6825725 | J86: 4.7455929
A87: Gas | B87: Gebouw in landelijk gebied voor industrie (geen landbouwactiviteiten geregistreerd) | C87: vanaf 2015 | D87: 151 | E87: 0.04 | F87: 4.7773229 | G87: 1.0918523 | H87: 2.8843931 | I87: 5.6608631 | J87: 4.6568435
A88: Gas | B88: Gebouw in stedelijk gebied met industriefunctie | C88: tot 1946 | D88: 2709 | E88: 0.218 | F88: 8.6656224 | G88: 2.0384615 | H88: 5.8615385 | I88: 11.633803 | J88: 6.1493867
A89: Gas | B89: Gebouw in stedelijk gebied met industriefunctie | C89: 1946 tot 1978 | D89: 4372 | E89: 0.352 | F89: 7.0227517 | G89: 1.3530172 | H89: 4.4764015 | I89: 9.3013359 | J89: 6.3841212
A90: Gas | B90: Gebouw in stedelijk gebied met industriefunctie | C90: 1978 tot 1995 | D90: 2566 | E90: 0.207 | F90: 7.0395712 | G90: 1.8063454 | H90: 4.6394182 | I90: 8.9057525 | J90: 5.4460919
A91: Gas | B91: Gebouw in stedelijk gebied met industriefunctie | C91: 1995 tot 2009 | D91: 2023 | E91: 0.163 | F91: 6.5712923 | G91: 1.8958621 | H91: 4.4543011 | I91: 7.8838723 | J91: 5.6382025
A92: Gas | B92: Gebouw in stedelijk gebied met industriefunctie | C92: 2009 tot 2015 | D92: 431 | E92: 0.035 | F92: 5.6203607 | G92: 1.3415688 | H92: 3.285347 | I92: 6.4193522 | J92: 3.0802594
A93: Gas | B93: Gebouw in stedelijk gebied met industriefunctie | C93: vanaf 2015 | D93: 315 | E93: 0.025 | F93: 5.0866353 | G93: 0.67578716 | H93: 2.4772296 | I93: 5.7432933 | J93: 5.207273
... A105: Gas | B105: Gebouw voor landbouwactiviteiten | C105: vanaf 2015 | D105: 62 | E105: 0.029 | F105: 86.088152 | G105: 1.3284893 | H105: 4.6938773 | I105: 24.162402 | J105: 85.209367
A106: Gas | B106: Groothandel op bedrijventerrein | C106: tot 1946 | D106: 11 | E106: 0.019 | F106: 2.6339732 | J106: 1.307884
A107: Gas | B107: Groothandel op bedrijventerrein | C107: 1946 tot 1978 | D107: 116 | E107: 0.205 | F107: 3.5371436 | G107: 1.5278521 | H107: 2.9913763 | I107: 4.455859 | J107: 2.9527669
A108: Gas | B108: Groothandel op bedrijventerrein | C108: 1978 tot 1995 | D108: 173 | E108: 0.306 | F108: 4.0925159 | G108: 2.4514085 | H108: 3.7449362 | I108: 5.2084746 | J108: 3.5974177
A109: Gas | B109: Groothandel op bedrijventerrein | C109: 1995 tot 2009 | D109: 234 | E109: 0.414 | F109: 3.9009447 | G109: 2.0913677 | H109: 3.2860248 | I109: 4.7643821 | J109: 3.2634636
A110: Gas | B110: Groothandel op bedrijventerrein | C110: vanaf 2009 | D110: 31 | E110: 0.055 | F110: 3.1983157 | H110: 3.055 | J110: 2.9418854
A111: Gas | B111: Hotel (of ander groot logiesgebouw) | C111: tot 1946 | D111: 1182 | E111: 0.495 | F111: 13.425764 | G111: 7.215983 | H111: 12.322882 | I111: 18.761102 | J111: 9.8380711
A112: Gas | B112: Hotel (of ander groot logiesgebouw) | C112: 1946 tot 1978 | D112: 467 | E112: 0.196 | F112: 12.928671 | G112: 6.535797 | H112: 11.808978 | I112: 17.917915 | J112: 12.189823
A113: Gas | B113: Hotel (of ander groot logiesgebouw) | C113: 1978 tot 1995 | D113: 302 | E113: 0.127 | F113: 13.316341 | G113: 7.5268082 | H113: 12.444155 | I113: 18.456485 | J113: 10.390696
A114: Gas | B114: Hotel (of ander groot logiesgebouw) | C114: 1995 tot 2009 | D114: 236 | E114: 0.099 | F114: 12.171844 | G114: 6.2314202 | H114: 10.960123 | I114: 16.293261 | J114: 11.494645
A115: Gas | B115: Hotel (of ander groot logiesgebouw) | C115: 2009 tot 2015 | D115: 89 | E115: 0.037 | F115: 9.487826 | G115: 4.6253266 | H115: 8.3590734 | I115: 12.110551 | J115: 5.9820466
A116: Gas | B116: Hotel (of ander groot logiesgebouw) | C116: vanaf 2015 | D116: 110 | E116: 0.046 | F116: 7.4747507 | G116: 3.70649 | H116: 6.4314856 | I116: 9.0212467 | J116: 4.8427548
A117: Gas | B117: IJsbaan | C117: tot 1978 | D117: 22 | E117: 0.186 | F117: 5.2512852 | H117: 3.8351648 | J117: 13.76349
A118: Gas | B118: IJsbaan | C118: 1978 tot 1995 | D118: 49 | E118: 0.415 | F118: 5.6489946 | G118: 2.7777778 | H118: 4.7941176 | I118: 7.6329114 | J118: 4.8987075
A119: Gas | B119: IJsbaan | C119: 1995 tot 2009 | D119: 34 | E119: 0.288 | F119: 4.7452607 | H119: 4.1133819 | J119: 3.2131379
A120: Gas | B120: IJsbaan | C120: vanaf 2009 | D120: 13 | E120: 0.11 | F120: 3.4578399 | J120: 3.4541784
A121: Gas | B121: Kantoorpand algemeen | C121: tot 1946 | D121: 5115 | E121: 0.259 | F121: 10.877748 | G121: 7.0672497 | H121: 10.333333 | I121: 14.180278 | J121: 8.7198834
A122: Gas | B122: Kantoorpand algemeen | C122: 1946 tot 1978 | D122: 3375 | E122: 0.171 | F122: 9.5563869 | G122: 5.3292001 | H122: 8.8880407 | I122: 12.952657 | J122: 6.8656818
A123: Gas | B123: Kantoorpand algemeen | C123: 1978 tot 1995 | D123: 4389 | E123: 0.222 | F123: 8.4709679 | G123: 4.988121 | H123: 7.756167 | I123: 10.968571 | J123: 6.8456749
A124: Gas | B124: Kantoorpand algemeen | C124: 1995 tot 2009 | D124: 5752 | E124: 0.291 | F124: 7.1759139 | G124: 3.7714633 | H124: 6.4038265 | I124: 9.4381083 | J124: 5.9060453
A125: Gas | B125: Kantoorpand algemeen | C125: 2009 tot 2015 | D125: 896 | E125: 0.045 | F125: 5.7365029 | G125: 2.3242749 | H125: 4.6261073 | I125: 7.616304 | J125: 3.5054214
A126: Gas | B126: Kantoorpand algemeen | C126: vanaf 2015 | D126: 231 | E126: 0.012 | F126: 6.8267216 | G126: 2.2540426 | H126: 4.9347826 | I126: 9.0041811 | J126: 3.9391256
A127: Gas | B127: Kinderopvang (gebouw) | C127: tot 1946 | D127: 271 | E127: 0.181 | F127: 12.92631 | G127: 8.497928 | H127: 11.886207 | I127: 16.222712 | J127: 11.375135
A128: Gas | B128: Kinderopvang (gebouw) | C128: 1946 tot 1978 | D128: 483 | E128: 0.322 | F128: 12.873958 | G128: 8.7164802 | H128: 12.315217 | I128: 15.995178 | J128: 10.4862
A129: Gas | B129: Kinderopvang (gebouw) | C129: 1978 tot 1995 | D129: 318 | E129: 0.212 | F129: 10.614169 | G129: 7.1116832 | H129: 10.076257 | I129: 13.4724 | J129: 9.4108168
A130: Gas | B130: Kinderopvang (gebouw) | C130: 1995 tot 2009 | D130: 342 | E130: 0.228 | F130: 9.6773082 | G130: 6.9439898 | H130: 8.9439075 | I130: 12.045018 | J130: 8.5701185
A131: Gas | B131: Kinderopvang (gebouw) | C131: 2009 tot 2015 | D131: 74 | E131: 0.049 | F131: 8.7514906 | G131: 5.7878591 | H131: 8.0270464 | I131: 11.54986 | J131: 8.5151409
A132: Gas | B132: Kinderopvang (gebouw) | C132: vanaf 2015 | D132: 11 | E132: 0.007 | F132: 7.4964229 | J132: 5.9266019
A133: Gas | B133: Koelhuis | C133: tot 1978 | D133: 12 | E133: 0.141 | F133: 4.7526947 | J133: 1.8319188
A134: Gas | B134: Koelhuis | C134: 1978 tot 1995 | D134: 40 | E134: 0.471 | F134: 5.0335486 | G134: 0.64286733 | H134: 2.1525286 | I134: 5.3035318 | J134: 5.2178111
A135: Gas | B135: Koelhuis | C135: vanaf 1995 | D135: 33 | E135: 0.388 | F135: 3.5415197 | H135: 1.6400554 | J135: 2.2947025
A136: Gas | B136: Meergezinswoning met andere functie of combinatie van functies | C136: tot 1946 | D136: 11365 | E136: 0.648 | F136: 9.5610711 | G136: 6.125 | H136: 8.8777778 | I136: 12.292035 | J136: 8.1556809
A137: Gas | B137: Meergezinswoning met andere functie of combinatie van functies | C137: 1946 tot 1978 | D137: 3335 | E137: 0.19 | F137: 8.9373984 | G137: 5.1389116 | H137: 8.3472222 | I137: 11.813766 | J137: 7.1979366
A138: Gas | B138: Meergezinswoning met andere functie of combinatie van functies | C138: 1978 tot 1995 | D138: 1403 | E138: 0.08 | F138: 8.3816334 | G138: 5.2778579 | H138: 7.733871 | I138: 10.593852 | J138: 7.0108336
A139: Gas | B139: Meergezinswoning met andere functie of combinatie van functies | C139: 1995 tot 2009 | D139: 1106 | E139: 0.063 | F139: 7.0540746 | G139: 4.5126728 | H139: 6.2490021 | I139: 8.6141108 | J139: 5.4815762
A140: Gas | B140: Meergezinswoning met andere functie of combinatie van functies | C140: 2009 tot 2015 | D140: 212 | E140: 0.012 | F140: 6.4256578 | G140: 3.7719548 | H140: 5.3920097 | I140: 7.5922946 | J140: 4.650996
A141: Gas | B141: Meergezinswoning met andere functie of combinatie van functies | C141: vanaf 2015 | D141: 116 | E141: 0.007 | F141: 5.9253811 | G141: 3.6091133 | H141: 5.0251926 | I141: 7.1829054 | J141: 4.9874116
A142: Gas | B142: Meergezinswoning met cafe of restaurant | C142: tot 1946 | D142: 4994 | E142: 0.793 | F142: 13.750901 | G142: 7.6695388 | H142: 11.64202 | I142: 17.696006 | J142: 12.533073
A143: Gas | B143: Meergezinswoning met cafe of restaurant | C143: 1946 tot 1978 | D143: 743 | E143: 0.118 | F143: 13.383186 | G143: 6.9923891 | H143: 11.159046 | I143: 17.245346 | J143: 11.838513
A144: Gas | B144: Meergezinswoning met cafe of restaurant | C144: 1978 tot 1995 | D144: 253 | E144: 0.04 | F144: 12.012091 | G144: 6.6328671 | H144: 10.183036 | I144: 15.019544 | J144: 10.308204
A145: Gas | B145: Meergezinswoning met cafe of restaurant | C145: 1995 tot 2009 | D145: 225 | E145: 0.036 | F145: 11.192292 | G145: 5.5305895 | H145: 8.8762887 | I145: 13.807107 | J145: 8.8792527
A146: Gas | B146: Meergezinswoning met cafe of restaurant | C146: 2009 tot 2015 | D146: 42 | E146: 0.007 | F146: 10.27037 | G146: 6.1142903 | H146: 8.25232 | I146: 11.978425 | J146: 8.9945278
A147: Gas | B147: Meergezinswoning met cafe of restaurant | C147: vanaf 2015 | D147: 39 | E147: 0.006 | F147: 8.6806359 | H147: 6.1538462 | J147: 7.6629775
A148: Gas | B148: Meergezinswoning met winkel | C148: tot 1946 | D148: 15271 | E148: 0.684 | F148: 9.8214837 | G148: 6.1316177 | H148: 9.0672269 | I148: 12.615225 | J148: 8.7159494
A149: Gas | B149: Meergezinswoning met winkel | C149: 1946 tot 1978 | D149: 3958 | E149: 0.177 | F149: 8.4804753 | G149: 4.8138086 | H149: 7.6496247 | I149: 11.012547 | J149: 6.8125726
A150: Gas | B150: Meergezinswoning met winkel | C150: 1978 tot 1995 | D150: 1483 | E150: 0.066 | F150: 7.7066877 | G150: 4.9610029 | H150: 7.0409836 | I150: 9.571496 | J150: 6.4957949
A151: Gas | B151: Meergezinswoning met winkel | C151: 1995 tot 2009 | D151: 1222 | E151: 0.055 | F151: 6.4952746 | G151: 4.2696809 | H151: 5.8502107 | I151: 7.7365159 | J151: 5.4850649
A152: Gas | B152: Meergezinswoning met winkel | C152: 2009 tot 2015 | D152: 260 | E152: 0.012 | F152: 6.0570358 | G152: 3.9065878 | H152: 5.5400356 | I152: 7.4526779 | J152: 5.4721339
...

Sheet gas_kental_opp_2022
A1: Energiedrager | B1: Gebouwtype | C1: Oppervlakteklasse | D1: Aantal panden | E1: Aandeel panden per gebouwtype | F1: Gemiddelde kental (m3/m2) | G1: Q1 kental (m3/m2) | H1: Mediaan kental (m3/m2) | I1: Q3 kental (m3/m2) | J1: Gewogen gemiddelde kental (m3/m2)
A2: Gas | B2: Basisschool | C2: tot 250 m2 | D2: 11 | E2: 0.002 | F2: 13.933713 | J2: 14.906427
A3: Gas | B3: Basisschool | C3: 250 tot 500 m2 | D3: 111 | E3: 0.025 | F3: 13.708115 | G3: 10.423669 | H3: 12.804622 | I3: 16.221008 | J3: 13.610958
A4: Gas | B4: Basisschool | C4: 500 tot 1000 m2 | D4: 851 | E4: 0.192 | F4: 11.919379 | G4: 9.2000668 | H4: 11.340076 | I4: 13.976379 | J4: 11.844798
A5: Gas | B5: Basisschool | C5: 1000 tot 2500 m2 | D5: 2575 | E5: 0.58 | F5: 9.3003069 | G5: 6.8988528 | H5: 8.9944321 | I5: 11.389348 | J5: 9.0249169
A6: Gas | B6: Basisschool | C6: 2500 tot 5000 m2 | D6: 695 | E6: 0.156 | F6: 6.2568188 | G6: 3.9695468 | H6: 5.8691309 | I6: 8.5348225 | J6: 6.1789918
A7: Gas | B7: Basisschool | C7: 5000 tot 10000 m2 | D7: 162 | E7: 0.036 | F7: 4.5401722 | G7: 2.5449899 | H7: 4.1082882 | I7: 6.3029631 | J7: 4.4872751
A8: Gas | B8: Basisschool | C8: vanaf 10000 m2 | D8: 37 | E8: 0.008 | F8: 3.4598973 | H8: 2.7129282 | J8: 2.9709008
A9: Gas | B9: Bedrijfshal algemeen (geen LISA-informatie) | C9: tot 50 m2 | D9: 179 | E9: 0.01 | F9: 6.6472337 | H9: 2.1702128 | I9: 9.1792153 | J9: 6.3961263
A10: Gas | B10: Bedrijfshal algemeen (geen LISA-informatie) | C10: 50 tot 100 m2 | D10: 1211 | E10: 0.068 | F10: 4.6124436 | H10: 1.7804878 | I10: 6.7771753 | J10: 4.5653376
A11: Gas | B11: Bedrijfshal algemeen (geen LISA-informatie) | C11: 100 tot 250 m2 | D11: 4469 | E11: 0.25 | F11: 3.8427371 | G11: 0.22641509 | H11: 2.2708333 | I11: 5.4258065 | J11: 3.8515373
A12: Gas | B12: Bedrijfshal algemeen (geen LISA-informatie) | C12: 250 tot 500 m2 | D12: 3631 | E12: 0.203 | F12: 4.1092001 | G12: 0.80678555 | H12: 2.6930456 | I12: 5.492708 | J12: 4.1250828
A13: Gas | B13: Bedrijfshal algemeen (geen LISA-informatie) | C13: 500 tot 1000 m2 | D13: 3526 | E13: 0.197 | F13: 4.2623317 | G13: 1.0052412 | H13: 2.8723513 | I13: 5.761527 | J13: 4.2608834
A14: Gas | B14: Bedrijfshal algemeen (geen LISA-informatie) | C14: 1000 tot 2500 m2 | D14: 3071 | E14: 0.172 | F14: 4.4128901 | G14: 1.1115831 | H14: 2.8757726 | I14: 5.987939 | J14: 4.4325556
A15: Gas | B15: Bedrijfshal algemeen (geen LISA-informatie) | C15: 2500 tot 5000 m2 | D15: 1072 | E15: 0.06 | F15: 3.9460366 | G15: 0.79340991 | H15: 2.6392256 | I15: 5.4882471 | J15: 3.9118522
A16: Gas | B16: Bedrijfshal algemeen (geen LISA-informatie) | C16: 5000 tot 10000 m2 | D16: 498 | E16: 0.028 | F16: 4.0874578 | G16: 0.70888966 | H16: 2.2464063 | I16: 4.8304594 | J16: 4.0832561
A17: Gas | B17: Bedrijfshal algemeen (geen LISA-informatie) | C17: vanaf 10000 m2 | D17: 234 | E17: 0.013 | F17: 3.0637125 | G17: 0.52401587 | H17: 1.5950411 | I17: 4.0849812 | J17: 2.7458495
A18: Gas | B18: Bedrijfshal algemeen (met LISA-informatie) | C18: tot 50 m2 | D18: 40 | E18: 0.004 | F18: 15.883382 | G18: 4.2083333 | H18: 12.021336 | I18: 23.848214 | J18: 15.679461
A19: Gas | B19: Bedrijfshal algemeen (met LISA-informatie) | C19: 50 tot 100 m2 | D19: 363 | E19: 0.032 | F19: 8.0791401 | G19: 2.0052083 | H19: 5.2291667 | I19: 10.67189 | J19: 7.9119503
A20: Gas | B20: Bedrijfshal algemeen (met LISA-informatie) | C20: 100 tot 250 m2 | D20: 1932 | E20: 0.173 | F20: 5.7075523 | G20: 1.8879505 | H20: 4.1373133 | I20: 7.105684 | J20: 5.5895645
A21: Gas | B21: Bedrijfshal algemeen (met LISA-informatie) | C21: 250 tot 500 m2 | D21: 1928 | E21: 0.172 | F21: 5.5785657 | G21: 2.0793075 | H21: 4.1675352 | I21: 6.9373302 | J21: 5.5133951
A22: Gas | B22: Bedrijfshal algemeen (met LISA-informatie) | C22: 500 tot 1000 m2 | D22: 2569 | E22: 0.23 | F22: 5.0059326 | G22: 1.9919614 | H22: 3.8233333 | I22: 6.3079646 | J22: 4.9957742
... A26: Gas | B26: Bedrijfshal algemeen (met LISA-informatie) | C26: vanaf 10000 m2 | D26: 290 | E26: 0.026 | F26: 3.2061181 | G26: 0.73641677 | H26: 2.0475018 | I26: 3.9052975 | J26: 2.9747473
A27: Gas | B27: Bedrijfshal met logistieke activiteiten | C27: tot 100 m2 | D27: 24 | E27: 0.005 | F27: 8.552964 | H27: 7.654697 | J27: 7.8571429
A28: Gas | B28: Bedrijfshal met logistieke activiteiten | C28: 100 tot 250 m2 | D28: 181 | E28: 0.037 | F28: 6.230414 | G28: 2.2986111 | H28: 4.5594059 | I28: 7.6347826 | J28: 6.1423727
A29: Gas | B29: Bedrijfshal met logistieke activiteiten | C29: 250 tot 500 m2 | D29: 331 | E29: 0.067 | F29: 5.383835 | G29: 2.4637589 | H29: 4.3688889 | I29: 6.8849864 | J29: 5.3820152
A30: Gas | B30: Bedrijfshal met logistieke activiteiten | C30: 500 tot 1000 m2 | D30: 778 | E30: 0.158 | F30: 4.6996118 | G30: 2.2172086 | H30: 3.7594104 | I30: 5.9785573 | J30: 4.6351706
A31: Gas | B31: Bedrijfshal met logistieke activiteiten | C31: 1000 tot 2500 m2 | D31: 1732 | E31: 0.351 | F31: 4.0036571 | G31: 1.8943977 | H31: 3.249341 | I31: 5.0601858 | J31: 3.9433247
A32: Gas | B32: Bedrijfshal met logistieke activiteiten | C32: 2500 tot 5000 m2 | D32: 1048 | E32: 0.212 | F32: 4.0461873 | G32: 1.7667191 | H32: 3.0875617 | I32: 5.122312 | J32: 3.9931138
A33: Gas | B33: Bedrijfshal met logistieke activiteiten | C33: 5000 tot 10000 m2 | D33: 524 | E33: 0.106 | F33: 3.627126 | G33: 1.4016886 | H33: 2.7680745 | I33: 4.7258572 | J33: 3.6241104
A34: Gas | B34: Bedrijfshal met logistieke activiteiten | C34: vanaf 10000 m2 | D34: 318 | E34: 0.064 | F34: 3.1067951 | G34: 0.90143799 | H34: 1.86526 | I34: 4.0105517 | J34: 2.4858911
A35: Gas | B35: Bedrijfshal met maakindustrie en andere economische activiteiten | C35: tot 100 m2 | D35: 41 | E35: 0.009 | F35: 9.5432452 | G35: 2.6060606 | H35: 6.3866667 | I35: 12.011111 | J35: 9.3921182
A36: Gas | B36: Bedrijfshal met maakindustrie en andere economische activiteiten | C36: 100 tot 250 m2 | D36: 240 | E36: 0.053 | F36: 6.8634152 | G36: 2.4902252 | H36: 4.6859979 | I36: 8.2813517 | J36: 6.7236162
A37: Gas | B37: Bedrijfshal met maakindustrie en andere economische activiteiten | C37: 250 tot 500 m2 | D37: 413 | E37: 0.091 | F37: 5.4331246 | G37: 2.2506143 | H37: 4.1129032 | I37: 6.5145119 | J37: 5.4033138
A38: Gas | B38: Bedrijfshal met maakindustrie en andere economische activiteiten | C38: 500 tot 1000 m2 | D38: 1067 | E38: 0.234 | F38: 4.8726944 | G38: 1.9859738 | H38: 3.7464183 | I38: 5.9784413 | J38: 4.8324408
A39: Gas | B39: Bedrijfshal met maakindustrie en andere economische activiteiten | C39: 1000 tot 2500 m2 | D39: 1673 | E39: 0.367 | F39: 4.4310502 | G39: 1.9538462 | H39: 3.3874883 | I39: 5.5612557 | J39: 4.4230069
... A42: Gas | B42: Bedrijfshal met maakindustrie en andere economische activiteiten | C42: vanaf 10000 m2 | D42: 141 | E42: 0.031 | F42: 5.7216461 | G42: 1.3353433 | H42: 3.4411867 | I42: 7.6199722 | J42: 5.790054
A43: Gas | B43: Bedrijfshal met maakindustrie en logistieke activiteiten | C43: tot 50 m2 | D43: 20 | E43: 0.002 | F43: 15.693724 | H43: 15.49881 | J43: 13.974684
A44: Gas | B44: Bedrijfshal met maakindustrie en logistieke activiteiten | C44: 50 tot 100 m2 | D44: 139 | E44: 0.014 | F44: 9.0416283 | G44: 2.2652188 | H44: 6.2033898 | I44: 12.80235 | J44: 8.7326512
A45: Gas | B45: Bedrijfshal met maakindustrie en logistieke activiteiten | C45: 100 tot 250 m2 | D45: 813 | E45: 0.084 | F45: 5.6484405 | G45: 1.7368421 | H45: 4.0048309 | I45: 7.0198675 | J45: 5.5960093
A46: Gas | B46: Bedrijfshal met maakindustrie en logistieke activiteiten | C46: 250 tot 500 m2 | D46: 1242 | E46: 0.129 | F46: 5.0137703 | G46: 1.9754048 | H46: 3.8612947 | I46: 6.5549417 | J46: 4.9856801
A47: Gas | B47: Bedrijfshal met maakindustrie en logistieke activiteiten | C47: 500 tot 1000 m2 | D47: 2022 | E47: 0.209 | F47: 4.6678357 | G47: 1.934243 | H47: 3.6323537 | I47: 6.3964596 | J47: 4.6335504
A48: Gas | B48: Bedrijfshal met maakindustrie en logistieke activiteiten | C48: 1000 tot 2500 m2 | D48: 2936 | E48: 0.304 | F48: 4.3320849 | G48: 1.6841646 | H48: 3.389201 | I48: 5.6658322 | J48: 4.2957315
A49: Gas | B49: Bedrijfshal met maakindustrie en logistieke activiteiten | C49: 2500 tot 5000 m2 | D49: 1425 | E49: 0.148 | F49: 4.2016366 | G49: 1.6436631 | H49: 3.0321579 | I49: 5.2479365 | J49: 4.2161238
A50: Gas | B50: Bedrijfshal met maakindustrie en logistieke activiteiten | C50: 5000 tot 10000 m2 | D50: 701 | E50: 0.073 | F50: 3.5770128 | G50: 0.99711905 | H50: 2.4667687 | I50: 4.7598933 | J50: 3.5794646
A51: Gas | B51: Bedrijfshal met maakindustrie en logistieke activiteiten | C51: vanaf 10000 m2 | D51: 357 | E51: 0.037 | F51: 3.3637386 | G51: 0.74955925 | H51: 2.1763235 | I51: 4.2447313 | J51: 3.0296476
A52: Gas | B52: Bedrijfshal uitsluitend maakindustrie | C52: tot 50 m2 | D52: 42 | E52: 0.002 | F52: 26.832388 | G52: 1.1600304 | H52: 24.151786 | I52: 43.380952 | J52: 26.542254
A53: Gas | B53: Bedrijfshal uitsluitend maakindustrie | C53: 50 tot 100 m2 | D53: 365 | E53: 0.021 | F53: 8.8076009 | G53: 1.3272727 | H53: 5.0454545 | I53: 10.979167 | J53: 8.4619738
A54: Gas | B54: Bedrijfshal uitsluitend maakindustrie | C54: 100 tot 250 m2 | D54: 2002 | E54: 0.113 | F54: 6.1851142 | G54: 1.4379656 | H54: 3.681547 | I54: 7.3517772 | J54: 6.0089314
A55: Gas | B55: Bedrijfshal uitsluitend maakindustrie | C55: 250 tot 500 m2 | D55: 3116 | E55: 0.175 | F55: 5.45142 | G55: 1.8595278 | H55: 3.7669261 | I55: 6.5621319 | J55: 5.4370007
... A68: Gas | B68: Bedrijfswoning | C68: 5000 tot 10000 m2 | D68: 47 | E68: 0.001 | F68: 4.0916566 | G68: 0.65308484 | H68: 2.2552968 | I68: 4.6973348 | J68: 3.9431623
A69: Gas | B69: Bedrijfswoning | C69: vanaf 10000 m2 | D69: 29 | E69: 0 | F69: 7.4586824 | H69: 3.0124651 | J69: 9.071744
A70: Gas | B70: Bijeenkomstgebouw (niet nader ingedeeld) | C70: tot 50 m2 | D70: 117 | E70: 0.013 | F70: 12.541927 | G70: 4.7272727 | H70: 10.571429 | I70: 18.878049 | J70: 12.664867
A71: Gas | B71: Bijeenkomstgebouw (niet nader ingedeeld) | C71: 50 tot 100 m2 | D71: 743 | E71: 0.08 | F71: 11.665333 | G71: 5.0749649 | H71: 9.3225806 | I71: 16.847946 | J71: 11.512304
A72: Gas | B72: Bijeenkomstgebouw (niet nader ingedeeld) | C72: 100 tot 250 m2 | D72: 2879 | E72: 0.311 | F72: 9.5955813 | G72: 4.8555015 | H72: 7.9863014 | I72: 12.462387 | J72: 9.4900851
A73: Gas | B73: Bijeenkomstgebouw (niet nader ingedeeld) | C73: 250 tot 500 m2 | D73: 2643 | E73: 0.285 | F73: 8.9190379 | G73: 4.4770212 | H73: 7.3011364 | I73: 11.641103 | J73: 8.8982784
A74: Gas | B74: Bijeenkomstgebouw (niet nader ingedeeld) | C74: 500 tot 1000 m2 | D74: 1707 | E74: 0.184 | F74: 8.5049313 | G74: 4.1681574 | H74: 7.0600707 | I74: 11.301603 | J74: 8.502097
A75: Gas | B75: Bijeenkomstgebouw (niet nader ingedeeld) | C75: 1000 tot 2500 m2 | D75: 878 | E75: 0.095 | F75: 8.0859571 | G75: 3.4078259 | H75: 6.7843347 | I75: 11.325233 | J75: 7.9781212
A76: Gas | B76: Bijeenkomstgebouw (niet nader ingedeeld) | C76: 2500 tot 5000 m2 | D76: 198 | E76: 0.021 | F76: 7.4507318 | G76: 2.0198546 | H76: 4.8130075 | I76: 10.945453 | J76: 7.5010337
A77: Gas | B77: Bijeenkomstgebouw (niet nader ingedeeld) | C77: 5000 tot 10000 m2 | D77: 77 | E77: 0.008 | F77: 6.1722749 | G77: 1.4049226 | H77: 2.9618868 | I77: 9.6799104 | J77: 6.5202025
A78: Gas | B78: Bijeenkomstgebouw (niet nader ingedeeld) | C78: vanaf 10000 m2 | D78: 28 | E78: 0.003 | F78: 6.5815421 | H78: 2.9537815 | J78: 5.8901594
A79: Gas | B79: Campusgebouw | C79: tot 1000 m2 | D79: 15 | E79: 0.156 | F79: 10.722811 | J79: 10.469234
A80: Gas | B80: Campusgebouw | C80: 1000 tot 2500 m2 | D80: 13 | E80: 0.135 | F80: 19.48512 | J80: 17.121653
A81: Gas | B81: Campusgebouw | C81: 2500 tot 5000 m2 | D81: 15 | E81: 0.156 | F81: 10.24535 | J81: 9.7280084
A82: Gas | B82: Campusgebouw | C82: 5000 tot 10000 m2 | D82: 19 | E82: 0.198 | F82: 9.1482769 | J82: 9.0718706
A83: Gas | B83: Campusgebouw | C83: vanaf 10000 m2 | D83: 34 | E83: 0.354 | F83: 8.8981839 | H83: 4.3839285 | J83: 6.4257159
A84: Gas | B84: Cultuurhuis | C84: tot 250 m2 | D84: 20 | E84: 0.037 | F84: 12.04217 | H84: 11.074963 | J84: 12.178398
A85: Gas | B85: Cultuurhuis | C85: 250 tot 500 m2 | D85: 62 | E85: 0.115 | F85: 11.409293 | G85: 7.9765845 | H85: 10.983939 | I85: 13.642176 | J85: 11.123433
A86: Gas | B86: Cultuurhuis | C86: 500 tot 1000 m2 | D86: 120 | E86: 0.222 | F86: 9.8108557 | G86: 6.4900443 | H86: 9.1068514 | I86: 12.804886 | J86: 9.7184859
A87: Gas | B87: Cultuurhuis | C87: 1000 tot 2500 m2 | D87: 162 | E87: 0.299 | F87: 9.0873063 | G87: 5.6776302 | H87: 8.366589 | I87: 11.827295 | J87: 9.0282852
A88: Gas | B88: Cultuurhuis | C88: 2500 tot 5000 m2 | D88: 89 | E88: 0.165 | F88: 7.1453056 | G88: 3.9864458 | H88: 6.3239044 | I88: 8.7045455 | J88: 7.1686586
A89: Gas | B89: Cultuurhuis | C89: 5000 tot 10000 m2 | D89: 48 | E89: 0.089 | F89: 8.3550468 | G89: 4.7750995 | H89: 7.2900217 | I89: 12.12418 | J89: 8.0984967
A90: Gas | B90: Cultuurhuis | C90: vanaf 10000 m2 | D90: 40 | E90: 0.074 | F90: 4.5731205 | G90: 1.5292764 | H90: 3.6214371 | I90: 6.206005 | J90: 3.8332227
A91: Gas | B91: Gebedshuis | C91: tot 100 m2 | D91: 33 | E91: 0.008 | F91: 11.876874 | H91: 12.461538 | J91: 11.864165
A92: Gas | B92: Gebedshuis | C92: 100 tot 250 m2 | D92: 416 | E92: 0.097 | F92: 11.327041 | G92: 7.1562796 | H92: 10.765174 | I92: 15.410497 | J92: 11.257056
A93: Gas | B93: Gebedshuis | C93: 250 tot 500 m2 | D93: 1061 | E93: 0.249 | F93: 9.7111133 | G93: 6.3156146 | H93: 9.0208333 | I93: 12.403175 | J93: 9.6678864
A94: Gas | B94: Gebedshuis | C94: 500 tot 1000 m2 | D94: 1365 | E94: 0.32 | F94: 8.8375941 | G94: 5.8277372 | H94: 8.2122186 | I94: 11.39 | J94: 8.7699158
A95: Gas | B95: Gebedshuis | C95: 1000 tot 2500 m2 | D95: 1084 | E95: 0.254 | F95: 6.8801213 | G95: 4.0963809 | H95: 6.4347226 | I95: 9.1843963 | J95: 6.7517246
A96: Gas | B96: Gebedshuis | C96: 2500 tot 5000 m2 | D96: 200 | E96: 0.047 | F96: 4.3944074 | G96: 1.7100507 | H96: 3.5894843 | I96: 6.0277876 | J96: 4.3736034
A97: Gas | B97: Gebedshuis | C97: 5000 tot 10000 m2 | D97: 73 | E97: 0.017 | F97: 4.5461672 | G97: 1.0344926 | H97: 2.8015593 | I97: 6.9622783 | J97: 4.5144002
A98: Gas | B98: Gebedshuis | C98: vanaf 10000 m2 | D98: 36 | E98: 0.008 | F98: 3.0415144 | H98: 1.3546423 | J98: 2.9852057
A99: Gas | B99: Gebouw bij spooremplacement | C99: tot 500 m2 | D99: 15 | E99: 0.181 | F99: 10.735 | J99: 9.6156032
A100: Gas | B100: Gebouw bij spooremplacement | C100: 500 tot 1000 m2 | D100: 19 | E100: 0.229 | F100: 11.355437 | J100: 11.357822
A101: Gas | B101: Gebouw bij spooremplacement | C101: 1000 tot 2500 m2 | D101: 11 | E101: 0.133 | F101: 11.928415 | J101: 10.886312
A102: Gas | B102: Gebouw bij spooremplacement | C102: 2500 tot 10000 m2 | D102: 19 | E102: 0.229 | F102: 7.9932782 | J102: 8.1357663
A103: Gas | B103: Gebouw bij spooremplacement | C103: vanaf 10000 m2 | D103: 19 | E103: 0.229 | F103: 6.6843214 | J103: 5.8544579
A104: Gas | B104: Gebouw bij vliegveld of luchthaven | C104: tot 250 m2 | D104: 19 | E104: 0.114 | F104: 14.275678 | J104: 12.079178
A105: Gas | B105: Gebouw bij vliegveld of luchthaven | C105: 250 tot 500 m2 | D105: 25 | E105: 0.15 | F105: 9.9137324 | H105: 9.0320285 | J105: 9.9255032
A106: Gas | B106: Gebouw bij vliegveld of luchthaven | C106: 500 tot 1000 m2 | D106: 41 | E106: 0.246 | F106: 5.2628237 | G106: 1.3817073 | H106: 4.0245796 | I106: 7.7050998 | J106: 5.3296711
A107: Gas | B107: Gebouw bij vliegveld of luchthaven | C107: 1000 tot 2500 m2 | D107: 39 | E107: 0.234 | F107: 5.217202 | H107: 3.4014235 | J107: 5.3188967
A108: Gas | B108: Gebouw bij vliegveld of luchthaven | C108: 2500 tot 5000 m2 | D108: 24 | E108: 0.144 | F108: 7.2023903 | H108: 3.7402392 | J108: 7.2609886
A109: Gas | B109: Gebouw bij vliegveld of luchthaven | C109: vanaf 5000 m2 | D109: 19 | E109: 0.114 | F109: 8.4066934 | J109: 6.1820948
A110: Gas | B110: Gebouw in landelijk gebied voor industrie (geen landbouwactiviteiten geregistreerd) | C110: tot 50 m2 | D110: 24 | E110: 0.006 | F110: 17.829716 | H110: 19.09818 | J110: 17.520607
A111: Gas | B111: Gebouw in landelijk gebied voor industrie (geen landbouwactiviteiten geregistreerd) | C111: 50 tot 100 m2 | D111: 129 | E111: 0.035 | F111: 10.54245 | G111: 2.9302326 | H111: 9.4133333 | I111: 15.916667 | J111: 10.384832
A112: Gas | B112: Gebouw in landelijk gebied voor industrie (geen landbouwactiviteiten geregistreerd) | C112: 100 tot 250 m2 | D112: 582 | E112: 0.156 | F112: 8.9908898 | G112: 2.0870988 | H112: 6.5527151 | I112: 12.622691 | J112: 8.7710701
A113: Gas | B113: Gebouw in landelijk gebied voor industrie (geen landbouwactiviteiten geregistreerd) | C113: 250 tot 500 m2 | D113: 788 | E113: 0.211 | F113: 6.2878765 | G113: 1.7495325 | H113: 4.5537348 | I113: 8.5749859 | J113: 6.142166
A114: Gas | B114: Gebouw in landelijk gebied voor industrie (geen landbouwactiviteiten geregistreerd) | C114: 500 tot 1000 m2 | D114: 814 | E114: 0.218 | F114: 4.9410997 | G114: 1.3016157 | H114: 3.2548422 | I114: 6.3028052 | J114: 4.8855753
A115: Gas | B115: Gebouw in landelijk gebied voor industrie (geen landbouwactiviteiten geregistreerd) | C115: 1000 tot 2500 m2 | D115: 874 | E115: 0.234 | F115: 3.8922208 | G115: 1.0052482 | H115: 2.2374137 | I115: 4.602784 | J115: 3.8968198
A116: Gas | B116: Gebouw in landelijk gebied voor industrie (geen landbouwactiviteiten geregistreerd) | C116: 2500 tot 5000 m2 | D116: 329 | E116: 0.088 | F116: 3.4489085 | G116: 0.65394737 | H116: 1.6415033 | I116: 4.1557128 | J116: 3.4871759
A117: Gas | B117: Gebouw in landelijk gebied voor industrie (geen landbouwactiviteiten geregistreerd) | C117: 5000 tot 10000 m2 | D117: 138 | E117: 0.037 | F117: 5.4200934 | G117: 0.69502589 | H117: 2.020192 | I117: 5.5734822 | J117: 5.5292828
...

Sheet gas_kental_diensten_2022
A1: Energiedrager | B1: Gebouwtype | C1: Aantal panden | D1: Gemiddelde kental (m3/m2) | E1: Q1 kental (m3/m2) | F1: Mediaan kental (m3/m2) | G1: Q3 kental (m3/m2) | H1: Gewogen gemiddelde kental (m3/m2)
A2: Gas | B2: Asielzoekerscentrum | C2: 52 | D2: 25.033215 | E2: 10.047962 | F2: 17.886083 | G2: 23.511487 | H2: 17.214187
A3: Gas | B3: Basisschool | C3: 4026 | D3: 9.3689113 | E3: 6.6054221 | F3: 9.1384138 | G3: 11.752282 | H3: 7.8655337
A4: Gas | B4: Bedrijfshal algemeen (geen LISA-informatie) | C4: 10049 | D4: 4.0223476 | E4: 0.5704737 | F4: 2.4912281 | G4: 5.5123967 | H4: 3.5485508
A5: Gas | B5: Bedrijfshal algemeen (met LISA-informatie) | C5: 7722 | D5: 5.2164629 | E5: 1.831705 | F5: 3.7651023 | G5: 6.6071504 | H5: 4.101404
A6: Gas | B6: Bedrijfshal met logistieke activiteiten | C6: 1970 | D6: 4.4773298 | E6: 1.7205834 | F6: 3.5689188 | G6: 5.9641015 | H6: 3.4179159
A7: Gas | B7: Bedrijfshal met maakindustrie en andere economische activiteiten | C7: 1491 | D7: 5.1936091 | E7: 2.0493041 | F7: 3.9882214 | G7: 6.5832435 | H7: 4.7601653
A8: Gas | B8: Bedrijfshal met maakindustrie en logistieke activiteiten | C8: 6062 | D8: 4.5304296 | E8: 1.6533089 | F8: 3.4426539 | G8: 5.9437213 | H8: 3.6321067
A9: Gas | B9: Bedrijfshal uitsluitend maakindustrie | C9: 6490 | D9: 5.9577515 | E9: 2.0006281 | F9: 4.1558221 | G9: 7.3691332 | H9: 6.0275106
A10: Gas | B10: Bedrijfswoning | C10: 8331 | D10: 10.638352 | E10: 4.6473732 | F10: 8.3322981 | G10: 13.579419 | H10: 8.1018907
A11: Gas | B11: Bijeenkomstgebouw (niet nader ingedeeld) | C11: 8407 | D11: 9.2688182 | E11: 4.3915462 | F11: 7.5800525 | G11: 12.171902 | H11: 8.1729652
A12: Gas | B12: Campusgebouw | C12: 69 | D12: 11.652319 | E12: 3.2493857 | F12: 8.0311082 | G12: 12.196373 | H12: 10.29557
A13: Gas | B13: Cultuurhuis | C13: 450 | D13: 9.1203776 | E13: 5.3197049 | F13: 8.2619188 | G13: 12.289908 | H13: 6.8526252
A14: Gas | B14: Datacenter | C14: 39 | D14: 2.9197603 | F14: 1.8729167 | H14: 2.7841484
A15: Gas | B15: Gebedshuis | C15: 3650 | D15: 8.5566225 | E15: 5.182206 | F15: 7.9417402 | G15: 11.266147 | H15: 6.5497885
A16: Gas | B16: Gebouw bij militaire inrichting
A17: Gas | B17: Gebouw bij spooremplacement | C17: 42 | D17: 8.8270789 | E17: 1.7435036 | F17: 6.4436349 | G17: 12.516373 | H17: 7.2931573
A18: Gas | B18: Gebouw bij vliegveld of luchthaven | C18: 115 | D18: 8.0620064 | E18: 2.2982846 | F18: 5.8807429 | G18: 10.479147 | H18: 5.8983896
A19: Gas | B19: Gebouw in landelijk gebied voor industrie (geen landbouwactiviteiten geregistreerd) | C19: 1812 | D19: 5.8643417 | E19: 1.3161226 | F19: 3.7246122 | G19: 7.8194132 | H19: 3.9642942
A20: Gas | B20: Gebouw in stedelijk gebied met industriefunctie | C20: 7901 | D20: 7.3827997 | E20: 1.7362924 | F20: 4.8524096 | G20: 9.5981595 | H20: 5.2147787
A21: Gas | B21: Gebouw op snelwegverzorgingsplaats | C21: 54 | D21: 11.512108 | E21: 2.6542008 | F21: 6.6014641 | G21: 15.040327 | H21: 17.108837
A22: Gas | B22: Gebouw op vakantiepark | C22: 31946 | D22: 10.223838 | E22: 6.3044327 | F22: 9.5661202 | G22: 13.077129 | H22: 10.092828
A23: Gas | B23: Gebouw voor landbouwactiviteiten | C23: 198 | D23: 11.465396 | E23: 1.7360552 | F23: 6.1231071 | G23: 14.369255 | H23: 3.0279516
A24: Gas | B24: Groothandel op bedrijventerrein | C24: 168 | D24: 4.5776278 | E24: 2.1561083 | F24: 3.9289198 | G24: 6.1240465 | H24: 4.0417299
A25: Gas | B25: Hotel (of ander groot logiesgebouw) | C25: 1993 | D25: 13.242153 | E25: 7.1895522 | F25: 12.229675 | G25: 18.244505 | H25: 10.756205
A26: Gas | B26: IJsbaan | C26: 108 | D26: 5.0180696 | E26: 2.2266626 | F26: 4.2430015 | G26: 6.711786 | H26: 5.3878992
A27: Gas | B27: Kantoorpand algemeen | C27: 15972 | D27: 8.9672749 | E27: 5.0677119 | F27: 8.2283074 | G27: 11.98056 | H27: 6.8308433
A28: Gas | B28: Kinderopvang (gebouw) | C28: 1386 | D28: 11.438569 | E28: 7.5533626 | F28: 10.645378 | G28: 14.473787 | H28: 9.940708
A29: Gas | B29: Koelhuis | C29: 65 | D29: 4.7087859 | E29: 0.5687547 | F29: 1.4813365 | G29: 4.6639344 | H29: 3.6270079
A30: Gas | B30: MBO-gebouw
A31: Gas | B31: Meergezinswoning met andere functie of combinatie van functies | C31: 1779 | D31: 9.6394427 | E31: 4.9915287 | F31: 8.8521561 | G31: 13.431477 | H31: 7.8293545
A32: Gas | B32: Meergezinswoning met cafe of restaurant | C32: 1126 | D32: 14.043974 | E32: 6.4919736 | F32: 11.827778 | G32: 19.465961 | H32: 12.612182
A33: Gas | B33: Meergezinswoning met winkel | C33: 2929 | D33: 9.279309 | E33: 4.528 | F33: 8.2369338 | G33: 12.925373 | H33: 7.858632
A34: Gas | B34: Meergezinswoning met winkels en horeca | C34: 296 | D34: 10.670641 | E34: 5.6390358 | F34: 9.313925 | G34: 14.690259 | H34: 5.178148
A35: Gas | B35: Meergezinswoning met woonzorgeenheden | C35: 89 | D35: 11.831883 | E35: 7.2332054 | F35: 11.150812 | G35: 15.681388 | H35: 10.626244
A36: Gas | B36: Middelbare school | C36: 988 | D36: 7.9344231 | E36: 4.5225628 | F36: 7.4167935 | G36: 10.42938 | H36: 6.4121178
A37: Gas | B37: Nutsgebouw (elektriciteit)
A38: Gas | B38: Nutsgebouw (water) | C38: 171 | D38: 19.253395 | E38: 5.9914564 | F38: 12.304348 | G38: 23.914117 | H38: 10.849365
A39: Gas | B39: Overig gebouw met maatschappelijke functie | C39: 1387 | D39: 11.137858 | E39: 4.1930749 | F39: 8.0521212 | G39: 13.635717 | H39: 9.7790709
A40: Gas | B40: Overig gebouw met recreatiefunctie | C40: 62 | D40: 18.413604 | E40: 5.0656217 | F40: 9.8806966 | G40: 19.846005 | H40: 15.389015
A41: Gas | B41: Overig onderwijsgebouw | C41: 2762 | D41: 10.201592 | E41: 6.3622326 | F41: 9.5850356 | G41: 12.962728 | H41: 7.9065631
A42: Gas | B42: Overig overheidsgebouw | C42: 982 | D42: 10.322569 | E42: 6.0524778 | F42: 9.2397949 | G42: 13.336634 | H42: 6.9741735
A43: Gas | B43: Overig sportgebouw | C43: 6929 | D43: 9.5360555 | E43: 4.4258555 | F43: 7.5894309 | G43: 12.165399 | H43: 7.5164967
A44: Gas | B44: Overig zorggebouw | C44: 2708 | D44: 10.708741 | E44: 5.990686 | F44: 9.0632708 | G44: 13.173417 | H44: 9.8071673
A45: Gas | B45: Overige utiliteitsbouw | C45: 2172 | D45: 14.85101 | E45: 2.7570659 | F45: 7.0942031 | G45: 14.182713 | H45: 9.8666374
A46: Gas | B46: Pand met winkel en kantoor- en/of bijeenkomstfunctie | C46: 580 | D46: 8.17674 | E46: 3.1268146 | F46: 6.1355397 | G46: 11.045825 | H46: 4.7980531
A47: Gas | B47: Penitentiaire inrichting | C47: 20 | D47: 20.403406 | F47: 15.673354 | H47: 20.100786
A48: Gas | B48: Praktijk- of zorgwoning | C48: 1479 | D48: 11.534337 | E48: 6.9393376 | F48: 10.227273 | G48: 14.591074 | H48: 10.856871
A49: Gas | B49: Productie-installatie
A50: Gas | B50: Restaurant of cafégebouw | C50: 3631 | D50: 25.836717 | E50: 9.7101578 | F50: 19.026224 | G50: 34.780469 | H50: 18.246405
A51: Gas | B51: School voor speciaal onderwijs | C51: 432 | D51: 9.6289646 | E51: 6.2325932 | F51: 8.9659879 | G51: 12.011976 | H51: 8.0083807
A52: Gas | B52: Schoolverzamelgebouw | C52: 77 | D52: 6.6081875 | E52: 3.7476765 | F52: 6.2753888 | G52: 8.0544169 | H52: 6.104707
A53: Gas | B53: Tuincentrum | C53: 347 | D53: 8.0373566 | E53: 3.1886031 | F53: 5.6576087 | G53: 8.9768911 | H53: 5.7395045
A54: Gas | B54: Vakantiewoning buiten vakantiepark | C54: 3639 | D54: 11.638564 | E54: 6.3142702 | F54: 10.052632 | G54: 14.925502 | H54: 10.867113
A55: Gas | B55: Winkelpand | C55: 17661 | D55: 8.9264025 | E55: 2.9803922 | F55: 6.2621951 | G55: 11.273381 | H55: 5.1396725
A56: Gas | B56: Woning met andere functie of combinatie van functies | C56: 4165 | D56: 11.37271 | E56: 5.0411687 | F56: 9.0488722 | G56: 15.173267 | H56: 9.3657641
A57: Gas | B57: Woning met cafe of restaurant | C57: 6995 | D57: 18.203434 | E57: 8.0763575 | F57: 14.152 | G57: 24.304676 | H57: 14.642459
A58: Gas | B58: Woning met winkel | C58: 13983 | D58: 10.673244 | E58: 5.4844715 | F58: 8.9468599 | G58: 13.708712 | H58: 8.5113635
A59: Gas | B59: Wooncomplex met andere functie of combinatie van functies | C59: 760 | D59: 10.899349 | E59: 6.5228832 | F59: 10.784784 | G59: 14.72505 | H59: 10.141913
A60: Gas | B60: Wooncomplex met winkels en/of horeca | C60: 173 | D60: 8.278006 | E60: 3.7655446 | F60: 8.0858586 | G60: 12.054054 | H60: 7.48851
A61: Gas | B61: Woonzorgcomplex | C61: 865 | D61: 14.408415 | E61: 8.2928693 | F61: 12.704338 | G61: 17.983092 | H61: 13.461164
... A66: Gas | B66: Zwembad | C66: 417 | D66: 46.389043 | E66: 12.985516 | F66: 33.532609 | G66: 61.047395 | H66: 37.385041

Sheet elek_kental_2022
A1: Energiedrager | B1: Gebouwtype | C1: Aantal panden | D1: Gemiddelde kental (kWh/m2) | E1: Q1 kental (kWh/m2) | F1: Mediaan kental (kWh/m2) | G1: Q3 kental (kWh/m2) | H1: Gewogen gemiddelde kental (kWh/m2) | I1: Gemiddelde kental inclusief eigenverbruik zonnestroom (kWh/m2) | J1: Q1 kental inclusief eigenverbruik zonnestroom (kWh/m2) | K1: Mediaan kental inclusief eigenverbruik zonnestroom (kWh/m2) | L1: Q3 kental inclusief eigenverbruik zonnestroom (kWh/m2) | M1: Gewogen gemiddelde kental inclusief eigenverbruik zonnestroom (kWh/m2)
A2: Elektriciteit | B2: Asielzoekerscentrum | C2: 65 | D2: 90.62685 | E2: 30.158167 | F2: 48.753891 | G2: 104.28848 | H2: 57.465017 | I2: 92.006777 | J2: 30.217811 | K2: 48.753891 | L2: 118.50204 | M2: 58.898103
A3: Elektriciteit | B3: Basisschool | C3: 4828 | D3: 24.835272 | E3: 15.334209 | F3: 21.029341 | G3: 30.306305 | H3: 26.100161 | I3: 28.296871 | J3: 17.241602 | K3: 23.309837 | L3: 34.119429 | M3: 29.370597
A4: Elektriciteit | B4: Bedrijfshal algemeen (geen LISA-informatie) | C4: 19086 | D4: 36.520305 | E4: 10.675411 | F4: 19.795567 | G4: 39.127356 | H4: 41.534493 | I4: 38.974993 | J4: 11.25311 | K4: 21.113856 | L4: 42.379203 | M4: 45.403374
A5: Elektriciteit | B5: Bedrijfshal algemeen (met LISA-informatie) | C5: 12613 | D5: 44.792279 | E5: 14.428929 | F5: 25.337638 | G5: 46.904412 | H5: 46.458156 | I5: 48.662109 | J5: 15.570896 | K5: 27.407534 | L5: 51.975 | M5: 51.237618
A6: Elektriciteit | B6: Bedrijfshal met logistieke activiteiten | C6: 5612 | D6: 38.608625 | E6: 15.848166 | F6: 25.367146 | G6: 42.790782 | H6: 40.331147 | I6: 42.480347 | J6: 17.140892 | K6: 27.565688 | L6: 46.702968 | M6: 45.029864
A7: Elektriciteit | B7: Bedrijfshal met maakindustrie en andere economische activiteiten | C7: 4985 | D7: 41.770198 | E7: 15.843409 | F7: 26.270014 | G7: 45.97429 | H7: 50.576688 | I7: 45.989574 | J7: 17.293701 | K7: 29.124744 | L7: 52.088141 | M7: 55.292381
A8: Elektriciteit | B8: Bedrijfshal met maakindustrie en logistieke activiteiten | C8: 10676 | D8: 44.831225 | E8: 14.402564 | F8: 24.628744 | G8: 45.329589 | H8: 52.109587 | I8: 49.688187 | J8: 15.849872 | K8: 26.843326 | L8: 49.125548 | M8: 57.574436
A9: Elektriciteit | B9: Bedrijfshal uitsluitend maakindustrie | C9: 19303 | D9: 55.370697 | E9: 15.651004 | F9: 27.90806 | G9: 54.833927 | H9: 87.841183 | I9: 59.835802 | J9: 17.166605 | K9: 30.865169 | L9: 60.162796 | M9: 93.289096
A10: Elektriciteit | B10: Bedrijfswoning | C10: 67482 | D10: 60.920412 | E10: 15.246526 | F10: 27.447703 | G10: 58.977454 | H10: 47.626091 | I10: 78.381385 | J10: 17.175535 | K10: 31.228782 | L10: 69.067474 | M10: 59.892335
A11: Elektriciteit | B11: Bijeenkomstgebouw (niet nader ingedeeld) | C11: 9205 | D11: 45.809398 | E11: 12.863051 | F11: 24.602679 | G11: 52.144385 | H11: 48.028236 | I11: 48.463996 | J11: 13.773667 | K11: 26.649254 | L11: 56.213573 | M11: 50.381424
A12: Elektriciteit | B12: Campusgebouw | C12: 109 | D12: 94.206923 | E12: 33.214924 | F12: 57.75621 | G12: 111.22324 | H12: 70.478153 | I12: 97.9842 | J12: 36.618934 | K12: 59.294137 | L12: 135.71579 | M12: 73.088686
A13: Elektriciteit | B13: Cultuurhuis | C13: 569 | D13: 56.489875 | E13: 23.764398 | F13: 40.143735 | G13: 78.608177 | H13: 55.867166 | I13: 59.072375 | J13: 25.355263 | K13: 43.078192 | L13: 80.836955 | M13: 57.788347
... A15: Elektriciteit | B15: Gebedshuis | C15: 3564 | D15: 14.924274 | E15: 8.1790726 | F15: 12.042436 | G15: 18.659337 | H15: 16.375603 | I15: 16.092794 | J15: 8.5426423 | K15: 12.781813 | L15: 20.164859 | M15: 17.848055
A16: Elektriciteit | B16: Gebouw bij militaire inrichting | C16: 13 | D16: 727.25922 | H16: 525.09709 | I16: 727.25922 | M16: 525.09709
A17: Elektriciteit | B17: Gebouw bij spooremplacement | C17: 67 | D17: 70.481743 | E17: 18.427493 | F17: 47.056338 | G17: 92.765353 | H17: 57.132201 | I17: 71.47522 | J17: 22.873885 | K17: 47.056338 | L17: 92.765353 | M17: 57.550119
A18: Elektriciteit | B18: Gebouw bij vliegveld of luchthaven | C18: 149 | D18: 56.393654 | E18: 11.544118 | F18: 33.315 | G18: 73.520744 | H18: 66.297136 | I18: 68.049482 | J18: 14.265096 | K18: 36.198577 | L18: 77.577285 | M18: 87.561341
A19: Elektriciteit | B19: Gebouw in landelijk gebied voor industrie (geen landbouwactiviteiten geregistreerd) | C19: 4823 | D19: 45.327051 | E19: 12.309752 | F19: 24.587302 | G19: 50.696214 | H19: 46.744731 | I19: 55.288616 | J19: 13.756374 | K19: 28.150538 | L19: 60.087477 | M19: 56.631463
A20: Elektriciteit | B20: Gebouw in stedelijk gebied met industriefunctie | C20: 13357 | D20: 52.613416 | E20: 12.96449 | F20: 24.935897 | G20: 53.02445 | H20: 54.360898 | I20: 55.840627 | J20: 13.845475 | K20: 26.894737 | L20: 57.171021 | M20: 57.466585
A21: Elektriciteit | B21: Gebouw op snelwegverzorgingsplaats | C21: 132 | D21: 589.55221 | E21: 278.39425 | F21: 610.87423 | G21: 834.45382 | H21: 363.25677 | I21: 597.99074 | J21: 286.46878 | K21: 611.01248 | L21: 887.27332 | M21: 371.74504
A22: Elektriciteit | B22: Gebouw op vakantiepark | C22: 36863 | D22: 26.426117 | E22: 11.483425 | F22: 17.394366 | G22: 28.378529 | H22: 33.192158 | I22: 29.000116 | J22: 11.875456 | K22: 18.245283 | L22: 30.94051 | M22: 36.968454
A23: Elektriciteit | B23: Gebouw voor landbouwactiviteiten | C23: 2459 | D23: 110.81253 | E23: 20.505093 | F23: 45.973333 | G23: 133.64566 | H23: 80.802706 | I23: 127.27397 | J23: 22.949128 | K23: 54.114599 | L23: 153.42196 | M23: 90.72169
A24: Elektriciteit | B24: Groothandel op bedrijventerrein | C24: 596 | D24: 28.674332 | E24: 15.145497 | F24: 23.217855 | G24: 35.186561 | H24: 27.189701 | I24: 31.081705 | J24: 15.873054 | K24: 24.793759 | L24: 37.80024 | M24: 29.18769
A25: Elektriciteit | B25: Hotel (of ander groot logiesgebouw) | C25: 2495 | D25: 67.386987 | E25: 25.498754 | F25: 52.664384 | G25: 96.565043 | H25: 75.471754 | I25: 69.456067 | J25: 27.053281 | K25: 54.788299 | L25: 99.877978 | M25: 76.728111
A26: Elektriciteit | B26: IJsbaan | C26: 100 | D26: 23.490683 | E26: 10.163889 | F26: 16.135355 | G26: 30.567007 | H26: 67.887973 | I26: 26.694112 | J26: 10.332483 | K26: 18.634665 | L26: 31.172312 | M26: 69.700091
A27: Elektriciteit | B27: Kantoorpand algemeen | C27: 20883 | D27: 46.311507 | E27: 20.1777 | F27: 35.178988 | G27: 59.620012 | H27: 53.419828 | I27: 50.67708 | J27: 21.800192 | K27: 37.872881 | L27: 63.465644 | M27: 55.794996
A28: Elektriciteit | B28: Kinderopvang (gebouw) | C28: 1544 | D28: 32.334598 | E28: 19.353998 | F28: 28.210221 | G28: 38.814457 | H28: 30.973627 | I28: 34.098791 | J28: 20.599574 | K28: 29.516156 | L28: 40.85567 | M28: 32.893992
A29: Elektriciteit | B29: Koelhuis | C29: 95 | D29: 268.65986 | E29: 61.032601 | F29: 184.28474 | G29: 333.51564 | H29: 235.38187 | I29: 282.69225 | J29: 83.177155 | K29: 197.44176 | L29: 364.61087 | M29: 248.21965
A30: Elektriciteit | B30: MBO-gebouw | C30: 16 | D30: 67.755964 | H30: 63.533818 | I30: 69.607653 | M30: 64.829246
A31: Elektriciteit | B31: Meergezinswoning met andere functie of combinatie van functies | C31: 17700 | D31: 36.394274 | E31: 17.553709 | F31: 25.797691 | G31: 40.65692 | H31: 37.97685 | I31: 38.504843 | J31: 18.306403 | K31: 26.813366 | L31: 42.8497 | M31: 39.857389
A32: Elektriciteit | B32: Meergezinswoning met cafe of restaurant | C32: 6268 | D32: 86.726174 | E32: 32.204817 | F32: 73.338072 | G32: 122.99866 | H32: 77.771405 | I32: 87.310921 | J32: 33.121389 | K32: 73.829801 | L32: 123.44105 | M32: 78.442736
A33: Elektriciteit | B33: Meergezinswoning met winkel | C33: 22202 | D33: 47.303854 | E33: 21.958783 | F33: 34.154738 | G33: 57.45135 | H33: 48.840342 | I33: 47.935064 | J33: 22.413944 | K33: 34.756806 | L33: 58.457943 | M33: 49.54687
A34: Elektriciteit | B34: Meergezinswoning met winkels en horeca | C34: 2556 | D34: 55.204718 | E34: 25.002697 | F34: 40.175897 | G34: 73.296181 | H34: 55.921033 | I34: 56.06787 | J34: 25.671279 | K34: 41.277748 | L34: 73.540263 | M34: 56.726641
A35: Elektriciteit | B35: Meergezinswoning met woonzorgeenheden | C35: 297 | D35: 31.94473 | E35: 17.742816 | F35: 29.434239 | G35: 39.944882 | H35: 34.499861 | I35: 34.210446 | J35: 20.407197 | K35: 30.694815 | L35: 42.878252 | M35: 37.721019
A36: Elektriciteit | B36: Middelbare school | C36: 1096 | D36: 35.789604 | E36: 21.626749 | F36: 30.15723 | G36: 43.104288 | H36: 33.269535 | I36: 40.048035 | J36: 24.671566 | K36: 34.266664 | L36: 48.712684 | M36: 37.289427
A37: Elektriciteit | B37: Nutsgebouw (elektriciteit) | C37: 143 | D37: 200.8626 | E37: 34.672848 | F37: 86.527672 | G37: 323.52242 | H37: 120.48263 | I37: 210.03984 | J37: 35.578439 | K37: 93.987382 | L37: 323.52242 | M37: 125.49031
A38: Elektriciteit | B38: Nutsgebouw (water) | C38: 61 | D38: 472.06239 | E38: 19.085837 | F38: 78.192029 | G38: 368.82609 | H38: 343.32769 | I38: 827.79654 | J38: 26.798165 | K38: 88.020478 | L38: 381.78659 | M38: 492.63682
A39: Elektriciteit | B39: Overig gebouw met maatschappelijke functie | C39: 1208 | D39: 38.372965 | E39: 8.7272186 | F39: 15.975728 | G39: 43.444352 | H39: 55.357415 | I39: 39.768963 | J39: 8.7837698 | K39: 16.405309 | L39: 45.012843 | M39: 57.363022
A40: Elektriciteit | B40: Overig gebouw met recreatiefunctie | C40: 75 | D40: 122.47577 | E40: 34.833599 | F40: 83.549562 | G40: 174.41675 | H40: 172.56407 | I40: 130.86251 | J40: 39.238665 | K40: 83.643658 | L40: 174.41675 | M40: 177.49693
A41: Elektriciteit | B41: Overig onderwijsgebouw | C41: 3100 | D41: 30.029014 | E41: 15.102374 | F41: 22.523771 | G41: 36.398594 | H41: 35.921643 | I41: 31.968217 | J41: 15.793649 | K41: 23.834355 | L41: 38.403909 | M41: 37.68517
A42: Elektriciteit | B42: Overig overheidsgebouw | C42: 817 | D42: 73.716843 | E42: 36.98269 | F42: 59.276656 | G42: 89.709942 | H42: 65.553785 | I42: 77.172608 | J42: 39.436452 | K42: 63.149835 | L42: 94.925273 | M42: 67.769163
... A46: Elektriciteit | B46: Pand met winkel en kantoor- en/of bijeenkomstfunctie | C46: 1469 | D46: 75.103903 | E46: 27.370742 | F46: 49.332592 | G46: 94.862319 | H46: 61.60929 | I46: 76.700282 | J46: 28.465638 | K46: 50.805825 | L46: 98.02459 | M46: 63.574899
A47: Elektriciteit | B47: Penitentiaire inrichting | C47: 25 | D47: 144.50966 | F47: 85.235478 | H47: 127.80319 | I47: 149.21873 | K47: 85.235478 | M47: 129.18252
A48: Elektriciteit | B48: Praktijk- of zorgwoning | C48: 5077 | D48: 30.210324 | E48: 15.881818 | F48: 24.201258 | G48: 38.21831 | H48: 31.18332 | I48: 34.115393 | J48: 18.308176 | K48: 27.501466 | L48: 42.720418 | M48: 34.608617
A49: Elektriciteit | B49: Productie-installatie | C49: 102 | D49: 1823.8806 | E49: 102.64534 | F49: 466.16032 | G49: 2709.7744 | H49: 1917.5718 | I49: 1846.8573 | J49: 102.64534 | K49: 488.24616 | L49: 2763.1782 | M49: 1925.012
A50: Elektriciteit | B50: Restaurant of cafégebouw | C50: 3917 | D50: 245.051 | E50: 110.89189 | F50: 194.10832 | G50: 317.60096 | H50: 187.16639 | I50: 246.82695 | J50: 111.27111 | K50: 196.13889 | L50: 318.97854 | M50: 188.56403
A51: Elektriciteit | B51: School voor speciaal onderwijs | C51: 514 | D51: 27.997557 | E51: 17.282223 | F51: 24.293959 | G51: 33.464376 | H51: 26.785589 | I51: 30.762582 | J51: 18.674933 | K51: 25.943585 | L51: 37.540836 | M51: 29.484908
A52: Elektriciteit | B52: Schoolverzamelgebouw | C52: 104 | D52: 35.150414 | E52: 19.131254 | F52: 28.799213 | G52: 44.673563 | H52: 33.499358 | I52: 39.205736 | J52: 20.845895 | K52: 32.306166 | L52: 50.880077 | M52: 36.62414
A53: Elektriciteit | B53: Tuincentrum | C53: 460 | D53: 36.472604 | E53: 16.331711 | F53: 28.258216 | G53: 47.66523 | H53: 29.661892 | I53: 40.2987 | J53: 18.873869 | K53: 31.797574 | L53: 50.830265 | M53: 33.083495
A54: Elektriciteit | B54: Vakantiewoning buiten vakantiepark | C54: 5400 | D54: 32.241643 | E54: 12.608876 | F54: 20.733259 | G54: 38.688364 | H54: 35.764101 | I54: 35.307642 | J54: 13.056866 | K54: 21.980647 | L54: 42.312554 | M54: 38.579749
A55: Elektriciteit | B55: Winkelpand | C55: 21352 | D55: 90.03751 | E55: 24.179999 | F55: 49.652411 | G55: 111.6929 | H55: 74.096681 | I55: 92.426066 | J55: 25.448998 | K55: 51.041693 | L55: 113.85116 | M55: 77.130513
A56: Elektriciteit | B56: Woning met andere functie of combinatie van functies | C56: 14098 | D56: 44.270303 | E56: 15.580185 | F56: 26.205988 | G56: 49.949199 | H56: 45.525379 | I56: 48.714902 | J56: 17.504492 | K56: 29.183258 | L56: 55.681843 | M56: 48.99199
A57: Elektriciteit | B57: Woning met cafe of restaurant | C57: 11021 | D57: 102.7429 | E57: 33.292601 | F57: 82.135318 | G57: 146.57931 | H57: 86.334144 | I57: 104.52785 | J57: 35.484155 | K57: 83.522727 | L57: 147.53266 | M57: 88.213517
A58: Elektriciteit | B58: Woning met winkel | C58: 31708 | D58: 48.554924 | E58: 18.661932 | F58: 31.411399 | G58: 56.654076 | H58: 47.117056 | I58: 50.400967 | J58: 20.057278 | K58: 33.244587 | L58: 59 | M58: 48.83677
A59: Elektriciteit | B59: Wooncomplex met andere functie of combinatie van functies | C59: 9581 | D59: 40.624759 | E59: 24.759077 | F59: 32.740101 | G59: 48.315023 | H59: 42.721312 | I59: 41.798361 | J59: 25.378203 | K59: 33.900582 | L59: 49.799851 | M59: 43.690233
... A66: Elektriciteit | B66: Zwembad | C66: 491 | D66: 218.94866 | E66: 77.486192 | F66: 127.2818 | G66: 225.07317 | H66: 125.5757 | I66: 232.1754 | J66: 82.564942 | K66: 141.9798 | L66: 239.79517 | M66: 133.1773

Sheet elek_kental_bouwj_2022
A1: Energiedrager | B1: Gebouwtype | C1: Bouwjaarklasse | D1: Aantal panden | E1: Aandeel panden per gebouwtype | F1: Gemiddelde kental (kWh/m2) | G1: Q1 kental (kWh/m2) | H1: Mediaan kental (kWh/m2) | I1: Q3 kental (kWh/m2) | J1: Gewogen gemiddelde kental (kWh/m2) | K1: Gemiddelde kental inclusief eigenverbruik zonnestroom (kWh/m2) | L1: Q1 kental inclusief eigenverbruik zonnestroom (kWh/m2) | M1: Mediaan kental inclusief eigenverbruik zonnestroom (kWh/m2) | N1: Q3 kental inclusief eigenverbruik zonnestroom (kWh/m2) | O1: Gewogen gemiddelde kental inclusief eigenverbruik zonnestroom (kWh/m2)
A2: Elektriciteit | B2: Basisschool | C2: tot 1946 | D2: 449 | E2: 0.093 | F2: 22.620661 | G2: 13.895349 | H2: 19.267651 | I2: 26.902013 | J2: 20.591989 | K2: 24.871274 | L2: 15.743286 | M2: 21.037106 | N2: 28.895522 | O2: 22.521193
A3: Elektriciteit | B3: Basisschool | C3: 1946 tot 1978 | D3: 1719 | E3: 0.356 | F3: 20.529857 | G3: 13.958495 | H3: 18.511012 | I3: 24.069052 | J3: 19.747881 | K3: 23.078217 | L3: 15.760467 | M3: 20.125975 | N3: 26.485112 | O3: 21.890682
A4: Elektriciteit | B4: Basisschool | C4: 1978 tot 1995 | D4: 1108 | E4: 0.229 | F4: 20.9765 | G4: 14.297967 | H4: 18.879981 | I4: 24.702797 | J4: 20.474893 | K4: 23.560706 | L4: 16.502783 | M4: 21.224908 | N4: 26.893011 | O4: 22.856078
A5: Elektriciteit | B5: Basisschool | C5: 1995 tot 2009 | D5: 712 | E5: 0.147 | F5: 26.719492 | G5: 16.831339 | H5: 23.661751 | I5: 32.855297 | J5: 27.088617 | K5: 29.543258 | L5: 19.334397 | M5: 25.691685 | N5: 35.804825 | O5: 29.530342
A6: Elektriciteit | B6: Basisschool | C6: 2009 tot 2015 | D6: 482 | E6: 0.1 | F6: 39.004953 | G6: 27.049367 | H6: 37.425811 | I6: 48.479077 | J6: 39.686866 | K6: 44.918166 | L6: 31.888865 | M6: 42.371602 | N6: 53.683373 | O6: 44.515435
A7: Elektriciteit | B7: Basisschool | C7: vanaf 2015 | D7: 358 | E7: 0.074 | F7: 37.403806 | G7: 25.339442 | H7: 35.340577 | I7: 46.33754 | J7: 36.58442 | K7: 47.452564 | L7: 33.089693 | M7: 44.396186 | N7: 59.40399 | O7: 45.780831
A8: Elektriciteit | B8: Bedrijfshal algemeen (geen LISA-informatie) | C8: tot 1946 | D8: 228 | E8: 0.012 | F8: 41.440304 | G8: 11.09145 | H8: 20.772861 | I8: 38.646816 | J8: 35.912238 | K8: 42.608698 | L8: 12.526201 | M8: 21.540834 | N8: 40.32122 | O8: 37.103991
A9: Elektriciteit | B9: Bedrijfshal algemeen (geen LISA-informatie) | C9: 1946 tot 1978 | D9: 2216 | E9: 0.116 | F9: 36.038124 | G9: 10.277565 | H9: 18.735175 | I9: 38.659533 | J9: 40.909747 | K9: 38.542615 | L9: 10.737104 | M9: 19.92112 | N9: 40.332941 | O9: 44.503141
A10: Elektriciteit | B10: Bedrijfshal algemeen (geen LISA-informatie) | C10: 1978 tot 1995 | D10: 4108 | E10: 0.215 | F10: 39.271444 | G10: 10.721303 | H10: 19.775631 | I10: 40.54226 | J10: 44.364651 | K10: 41.577548 | L10: 11.46428 | M10: 20.808801 | N10: 43.52141 | O10: 47.309034
A11: Elektriciteit | B11: Bedrijfshal algemeen (geen LISA-informatie) | C11: 1995 tot 2009 | D11: 7540 | E11: 0.395 | F11: 33.331431 | G11: 10.121439 | H11: 18.381124 | I11: 35.622466 | J11: 39.726268 | K11: 35.30425 | L11: 10.489935 | M11: 19.417701 | N11: 37.994067 | O11: 42.886539
A12: Elektriciteit | B12: Bedrijfshal algemeen (geen LISA-informatie) | C12: 2009 tot 2015 | D12: 1588 | E12: 0.083 | F12: 36.050516 | G12: 10.435778 | H12: 18.735937 | I12: 37.491032 | J12: 48.092401 | K12: 38.880376 | L12: 11.01236 | M12: 19.661315 | N12: 39.860285 | O12: 53.382641
A13: Elektriciteit | B13: Bedrijfshal algemeen (geen LISA-informatie) | C13: vanaf 2015 | D13: 3406 | E13: 0.178 | F13: 40.464879 | G13: 12.609844 | H13: 24.993902 | I13: 48.261905 | J13: 38.596406 | K13: 44.044292 | L13: 13.741327 | M13: 27.326667 | N13: 52.973684 | O13: 45.130969
... A55: Elektriciteit | B55: Bijeenkomstgebouw (niet nader ingedeeld) | C55: vanaf 2015 | D55: 424 | E55: 0.046 | F55: 73.197832 | G55: 21.267031 | H55: 41.253934 | I55: 103.62133 | J55: 68.004181 | K55: 81.363828 | L55: 24.499963 | M55: 50.652423 | N55: 116.39957 | O55: 75.918166
A56: Elektriciteit | B56: Campusgebouw | C56: tot 1978 | D56: 30 | E56: 0.275 | F56: 75.665772 | H56: 45.201253 | J56: 90.851417 | K56: 78.145824 | M56: 45.201253 | O56: 93.560447
A57: Elektriciteit | B57: Campusgebouw | C57: 1978 tot 1995 | D57: 16 | E57: 0.147 | F57: 67.849381 | J57: 71.277282 | K57: 69.697801 | O57: 73.903818
A58: Elektriciteit | B58: Campusgebouw | C58: 1995 tot 2009 | D58: 35 | E58: 0.321 | F58: 101.46732 | H58: 56.061139 | J58: 89.398319 | K58: 104.44566 | M58: 59.294137 | O58: 92.069691
A59: Elektriciteit | B59: Campusgebouw | C59: 2009 tot 2015 | D59: 11 | E59: 0.101 | F59: 148.30928 | J59: 102.11302 | K59: 151.111 | O59: 103.41401
A60: Elektriciteit | B60: Campusgebouw | C60: vanaf 2015 | D60: 17 | E60: 0.156 | F60: 101.77842 | J60: 36.466835 | K60: 111.93641 | O60: 39.34877
A61: Elektriciteit | B61: Cultuurhuis | C61: tot 1946 | D61: 225 | E61: 0.395 | F61: 56.343256 | G61: 23.121132 | H61: 43.15911 | I61: 77.268233 | J61: 54.412186 | K61: 57.040566 | L61: 23.24 | M61: 44.322352 | N61: 79.386734 | O61: 54.845904
A62: Elektriciteit | B62: Cultuurhuis | C62: 1946 tot 1978 | D62: 112 | E62: 0.197 | F62: 38.903745 | G62: 19.305697 | H62: 26.205754 | I62: 43.307258 | J62: 47.529197 | K62: 41.036288 | L62: 20.093039 | M62: 29.948481 | N62: 46.702469 | O62: 49.759332
A63: Elektriciteit | B63: Cultuurhuis | C63: 1978 tot 1995 | D63: 106 | E63: 0.186 | F63: 56.235878 | G63: 26.7863 | H63: 40.721696 | I63: 78.418287 | J63: 55.707682 | K63: 60.54975 | L63: 27.078618 | M63: 43.517319 | N63: 79.246551 | O63: 58.27412
A64: Elektriciteit | B64: Cultuurhuis | C64: 1995 tot 2009 | D64: 82 | E64: 0.144 | F64: 69.176471 | G64: 28.930084 | H64: 54.61128 | I64: 101.31745 | J64: 64.954729 | K64: 73.270023 | L64: 31.247573 | M64: 56.402308 | N64: 110.82052 | O64: 67.153279
A65: Elektriciteit | B65: Cultuurhuis | C65: 2009 tot 2015 | D65: 23 | E65: 0.04 | F65: 83.723998 | H65: 68.645937 | J65: 55.095414 | K65: 87.085811 | M65: 68.645937 | O65: 55.520858
A66: Elektriciteit | B66: Cultuurhuis | C66: vanaf 2015 | D66: 21 | E66: 0.037 | F66: 73.769573 | H66: 71.113076 | J66: 62.119462 | K66: 83.457184 | M66: 84.786972 | O66: 69.661468
A67: Elektriciteit | B67: Gebedshuis | C67: tot 1946 | D67: 1436 | E67: 0.403 | F67: 13.967018 | G67: 7.6443194 | H67: 10.913759 | I67: 16.845598 | J67: 13.472096 | K67: 14.611042 | L67: 7.7817469 | M67: 11.260803 | N67: 17.415448 | O67: 14.149395
A68: Elektriciteit | B68: Gebedshuis | C68: 1946 tot 1978 | D68: 1208 | E68: 0.339 | F68: 14.451274 | G68: 8.1276263 | H68: 11.726179 | I68: 17.562575 | J68: 16.459688 | K68: 15.795689 | L68: 8.5799663 | M68: 12.439728 | N68: 19.770409 | O68: 18.318266
A69: Elektriciteit | B69: Gebedshuis | C69: 1978 tot 1995 | D69: 493 | E69: 0.138 | F69: 15.705267 | G69: 8.9620536 | H69: 13.204986 | I69: 20.071429 | J69: 17.349611 | K69: 17.042185 | L69: 9.6390244 | M69: 14.169631 | N69: 21.319218 | O69: 19.030381
A70: Elektriciteit | B70: Gebedshuis | C70: 1995 tot 2009 | D70: 321 | E70: 0.09 | F70: 17.845006 | G70: 10.648084 | H70: 15.419231 | I70: 22.877437 | J70: 21.861126 | K70: 19.788959 | L70: 11.544843 | M70: 16.726829 | N70: 24.5 | O70: 23.777582
A71: Elektriciteit | B71: Gebedshuis | C71: 2009 tot 2015 | D71: 77 | E71: 0.022 | F71: 19.918575 | G71: 12.87931 | H71: 17.885955 | I71: 24.455399 | J71: 19.819925 | K71: 23.095866 | L71: 14.86875 | M71: 18.801839 | N71: 28.978686 | O71: 22.659608
A72: Elektriciteit | B72: Gebedshuis | C72: vanaf 2015 | D72: 29 | E72: 0.008 | F72: 23.160741 | H72: 21.688571 | J72: 26.354186 | K72: 26.194303 | M72: 23.750776 | O72: 29.68829
A73: Elektriciteit | B73: Gebouw bij spooremplacement | C73: tot 1946 | D73: 13 | E73: 0.194 | F73: 32.236683 | J73: 25.351964 | K73: 33.271571 | O73: 28.695166
A74: Elektriciteit | B74: Gebouw bij spooremplacement | C74: 1995 tot 2009 | D74: 22 | E74: 0.328 | F74: 111.63799 | H74: 92.765353 | J74: 96.606359 | K74: 111.63799 | M74: 92.765353 | O74: 96.606359
A75: Elektriciteit | B75: Gebouw bij spooremplacement | C75: vanaf 2009 | D75: 13 | E75: 0.194 | F75: 58.193586 | J75: 43.236265 | K75: 59.195289 | O75: 43.569575
A76: Elektriciteit | B76: Gebouw bij spooremplacement | D76: 19 | E76: 0.284 | F76: 57.402501 | J76: 36.358441 | K76: 59.512358 | O76: 36.583866
A77: Elektriciteit | B77: Gebouw bij vliegveld of luchthaven | C77: tot 1978 | D77: 25 | E77: 0.168 | F77: 60.449468 | H77: 38.699828 | J77: 70.296391 | K77: 62.088768 | M77: 41.438221 | O77: 72.036249
A78: Elektriciteit | B78: Gebouw bij vliegveld of luchthaven | C78: 1978 tot 1995 | D78: 55 | E78: 0.369 | F78: 55.921438 | G78: 10.762701 | H78: 20.721581 | I78: 71.856434 | J78: 98.064408 | K78: 82.428943 | L78: 12.093685 | M78: 26.923232 | N78: 86.13952 | O78: 160.86295
A79: Elektriciteit | B79: Gebouw bij vliegveld of luchthaven | C79: 1995 tot 2009 | D79: 43 | E79: 0.289 | F79: 54.605389 | G79: 12.723682 | H79: 33.315 | I79: 71.676891 | J79: 52.030758 | K79: 55.380716 | L79: 14.129312 | M79: 33.315 | N79: 71.676891 | O79: 52.335079
A80: Elektriciteit | B80: Gebouw bij vliegveld of luchthaven | C80: 2009 tot 2015 | D80: 13 | E80: 0.087 | F80: 57.055513 | J80: 61.440355 | K80: 70.582004 | O80: 65.857731
A81: Elektriciteit | B81: Gebouw bij vliegveld of luchthaven | C81: vanaf 2015 | D81: 13 | E81: 0.087 | F81: 55.845019 | J81: 38.378524 | K81: 58.048075 | O81: 39.349204
A82: Elektriciteit | B82: Gebouw in landelijk gebied voor industrie (geen landbouwactiviteiten geregistreerd) | C82: tot 1946 | D82: 512 | E82: 0.106 | F82: 44.102684 | G82: 11.64815 | H82: 22.662802 | I82: 48.437294 | J82: 46.189838 | K82: 50.494622 | L82: 12.737719 | M82: 24.256278 | N82: 54.685401 | O82: 50.110781
A83: Elektriciteit | B83: Gebouw in landelijk gebied voor industrie (geen landbouwactiviteiten geregistreerd) | C83: 1946 tot 1978 | D83: 1324 | E83: 0.275 | F83: 42.120086 | G83: 11.194368 | H83: 22.797866 | I83: 49.325151 | J83: 46.376102 | K83: 54.497335 | L83: 12.493915 | M83: 24.89407 | N83: 54.342482 | O83: 54.265535
A84: Elektriciteit | B84: Gebouw in landelijk gebied voor industrie (geen landbouwactiviteiten geregistreerd) | C84: 1978 tot 1995 | D84: 1182 | E84: 0.245 | F84: 48.138761 | G84: 13.086088 | H84: 26.365463 | I84: 55.158925 | J84: 49.654167 | K84: 56.976293 | L84: 14.806186 | M84: 29.244754 | N84: 66.480227 | O84: 59.361542
A85: Elektriciteit | B85: Gebouw in landelijk gebied voor industrie (geen landbouwactiviteiten geregistreerd) | C85: 1995 tot 2009 | D85: 1053 | E85: 0.218 | F85: 47.54298 | G85: 12.123077 | H85: 24.689708 | I85: 53.288703 | J85: 44.007431 | K85: 56.679177 | L85: 14.011557 | M85: 28.541754 | N85: 63.066667 | O85: 52.376755
A86: Elektriciteit | B86: Gebouw in landelijk gebied voor industrie (geen landbouwactiviteiten geregistreerd) | C86: 2009 tot 2015 | D86: 334 | E86: 0.069 | F86: 46.656308 | G86: 13.649044 | H86: 28.049848 | I86: 53.609131 | J86: 48.706658 | K86: 55.271524 | L86: 17.485035 | M86: 33.948424 | N86: 63.665944 | O86: 60.303636
A87: Elektriciteit | B87: Gebouw in landelijk gebied voor industrie (geen landbouwactiviteiten geregistreerd) | C87: vanaf 2015 | D87: 418 | E87: 0.087 | F87: 42.389513 | G87: 13.869926 | H87: 27.144131 | I87: 47.436473 | J87: 45.765712 | K87: 55.405347 | L87: 15.66139 | M87: 32.094837 | N87: 60.702129 | O87: 68.482188
A88: Elektriciteit | B88: Gebouw in stedelijk gebied met industriefunctie | C88: tot 1946 | D88: 2962 | E88: 0.222 | F88: 49.317264 | G88: 12.434413 | H88: 23.719364 | I88: 49.202402 | J88: 48.125924 | K88: 51.267317 | L88: 13.007937 | M88: 24.806403 | N88: 51.952302 | O88: 49.866565
A89: Elektriciteit | B89: Gebouw in stedelijk gebied met industriefunctie | C89: 1946 tot 1978 | D89: 4332 | E89: 0.324 | F89: 49.802729 | G89: 12.017592 | H89: 23.734082 | I89: 49.480631 | J89: 59.566374 | K89: 52.430059 | L89: 12.75012 | M89: 25.328995 | N89: 53.625965 | O89: 62.639204
A90: Elektriciteit | B90: Gebouw in stedelijk gebied met industriefunctie | C90: 1978 tot 1995 | D90: 2648 | E90: 0.198 | F90: 55.508827 | G90: 13.643014 | H90: 25.939622 | I90: 53.777353 | J90: 50.628876 | K90: 59.512847 | L90: 14.454121 | M90: 27.860413 | N90: 57.202666 | O90: 53.030286
A91: Elektriciteit | B91: Gebouw in stedelijk gebied met industriefunctie | C91: 1995 tot 2009 | D91: 2193 | E91: 0.164 | F91: 60.025562 | G91: 14.384314 | H91: 27.27543 | I91: 60.571429 | J91: 56.61772 | K91: 63.707492 | L91: 15.699605 | M91: 29.335294 | N91: 66.83 | O91: 60.21373
A92: Elektriciteit | B92: Gebouw in stedelijk gebied met industriefunctie | C92: 2009 tot 2015 | D92: 500 | E92: 0.037 | F92: 49.777101 | G92: 13.671045 | H92: 24.593554 | I92: 47.64889 | J92: 47.789586 | K92: 54.617873 | L92: 14.741902 | M92: 27.613918 | N92: 56.858681 | O92: 51.177786
A93: Elektriciteit | B93: Gebouw in stedelijk gebied met industriefunctie | C93: vanaf 2015 | D93: 722 | E93: 0.054 | F93: 51.831374 | G93: 14.707649 | H93: 30.515715 | I93: 65.506445 | J93: 55.112417 | K93: 58.54981 | L93: 17.200649 | M93: 36.441452 | N93: 75.818078 | O93: 62.497303
... A105: Elektriciteit | B105: Gebouw voor landbouwactiviteiten | C105: vanaf 2015 | D105: 111 | E105: 0.045 | F105: 97.614262 | G105: 17.900356 | H105: 35.217336 | I105: 112.70085 | J105: 73.417712 | K105: 120.4418 | L105: 20.828051 | M105: 45.016183 | N105: 135.03619 | O105: 87.407802
A106: Elektriciteit | B106: Groothandel op bedrijventerrein | C106: tot 1946 | D106: 11 | E106: 0.018 | F106: 21.786229 | J106: 14.64293 | K106: 23.105431 | O106: 14.98588
A107: Elektriciteit | B107: Groothandel op bedrijventerrein | C107: 1946 tot 1978 | D107: 113 | E107: 0.19 | F107: 25.838443 | G107: 13.20763 | H107: 18.403514 | I107: 30.799003 | J107: 24.393486 | K107: 29.024579 | L107: 13.395003 | M107: 19.37 | N107: 30.815844 | O107: 27.616216
A108: Elektriciteit | B108: Groothandel op bedrijventerrein | C108: 1978 tot 1995 | D108: 178 | E108: 0.299 | F108: 29.027803 | G108: 15.012421 | H108: 23.629681 | I108: 36.452936 | J108: 24.399729 | K108: 30.679464 | L108: 16.138544 | M108: 24.793759 | N108: 41.134297 | O108: 26.290361
A109: Elektriciteit | B109: Groothandel op bedrijventerrein | C109: 1995 tot 2009 | D109: 246 | E109: 0.413 | F109: 29.099202 | G109: 16.385247 | H109: 25.174367 | I109: 37.334 | J109: 31.681179 | K109: 31.014973 | L109: 16.663234 | M109: 26.648304 | N109: 38.159931 | O109: 32.714339
A110: Elektriciteit | B110: Groothandel op bedrijventerrein | C110: 2009 tot 2015 | D110: 22 | E110: 0.037 | F110: 32.467027 | H110: 31.220302 | J110: 33.813558 | K110: 34.0418 | M110: 31.693196 | O110: 35.32352
A111: Elektriciteit | B111: Groothandel op bedrijventerrein | C111: vanaf 2015 | D111: 26 | E111: 0.044 | F111: 34.264697 | H111: 26.680181 | J111: 32.854705 | K111: 44.277372 | M111: 29.658514 | O111: 41.068314
A112: Elektriciteit | B112: Hotel (of ander groot logiesgebouw) | C112: tot 1946 | D112: 1196 | E112: 0.479 | F112: 64.611734 | G112: 25.144385 | H112: 47.939457 | I112: 89.656798 | J112: 65.452968 | K112: 65.964651 | L112: 26.093399 | M112: 49.102628 | N112: 91.011058 | O112: 66.172888
A113: Elektriciteit | B113: Hotel (of ander groot logiesgebouw) | C113: 1946 tot 1978 | D113: 471 | E113: 0.189 | F113: 65.428946 | G113: 23.512157 | H113: 51.538158 | I113: 91.818717 | J113: 74.158803 | K113: 67.717572 | L113: 25.536394 | M113: 53.437759 | N113: 95.239035 | O113: 75.494816
A114: Elektriciteit | B114: Hotel (of ander groot logiesgebouw) | C114: 1978 tot 1995 | D114: 309 | E114: 0.124 | F114: 75.574474 | G114: 31.755396 | H114: 69.309536 | I114: 107.33271 | J114: 84.559932 | K114: 77.647002 | L114: 33.940016 | M114: 71.480574 | N114: 110.15436 | O114: 85.57453
A115: Elektriciteit | B115: Hotel (of ander groot logiesgebouw) | C115: 1995 tot 2009 | D115: 258 | E115: 0.103 | F115: 70.691294 | G115: 26.741568 | H115: 57.328821 | I115: 104.00274 | J115: 77.700249 | K115: 72.774843 | L115: 28.242687 | M115: 60.52158 | N115: 105.0349 | O115: 78.709572
A116: Elektriciteit | B116: Hotel (of ander groot logiesgebouw) | C116: 2009 tot 2015 | D116: 97 | E116: 0.039 | F116: 68.802703 | G116: 19.230284 | H116: 52.46832 | I116: 106.49291 | J116: 72.479511 | K116: 71.5374 | L116: 23.256944 | M116: 54.816425 | N116: 106.84087 | O116: 73.263713
A117: Elektriciteit | B117: Hotel (of ander groot logiesgebouw) | C117: vanaf 2015 | D117: 164 | E117: 0.066 | F117: 71.787418 | G117: 26.971655 | H117: 57.937586 | I117: 103.02657 | J117: 85.586423 | K117: 78.025778 | L117: 28.48519 | M117: 66.993135 | N117: 112.60219 | O117: 89.186176
A118: Elektriciteit | B118: IJsbaan | C118: tot 1978 | D118: 14 | E118: 0.14 | F118: 23.421474 | J118: 53.111172 | K118: 23.535299 | O118: 53.145031
A119: Elektriciteit | B119: IJsbaan | C119: 1978 tot 1995 | D119: 37 | E119: 0.37 | F119: 21.361972 | H119: 14.727273 | J119: 19.041461 | K119: 24.107425 | M119: 17.224242 | O119: 22.75814
A120: Elektriciteit | B120: IJsbaan | C120: 1995 tot 2009 | D120: 28 | E120: 0.28 | F120: 29.517444 | H120: 19.790909 | J120: 81.932648 | K120: 31.021562 | M120: 20.249242 | O120: 83.099206
A121: Elektriciteit | B121: IJsbaan | C121: vanaf 2009 | D121: 21 | E121: 0.21 | F121: 19.251725 | H121: 13.059459 | J121: 18.979053 | K121: 27.587552 | M121: 18.625 | O121: 29.005464
A122: Elektriciteit | B122: Kantoorpand algemeen | C122: tot 1946 | D122: 5171 | E122: 0.248 | F122: 37.551379 | G122: 17.699929 | H122: 28.011905 | I122: 45.475104 | J122: 40.203866 | K122: 38.915506 | L122: 18.399828 | M122: 29.049383 | N122: 47.031603 | O122: 41.252424
A123: Elektriciteit | B123: Kantoorpand algemeen | C123: 1946 tot 1978 | D123: 3409 | E123: 0.163 | F123: 42.56866 | G123: 17.992386 | H123: 31.168599 | I123: 52.929172 | J123: 48.428796 | K123: 47.380995 | L123: 19.246154 | M123: 33.70749 | N123: 56.563158 | O123: 50.384307
A124: Elektriciteit | B124: Kantoorpand algemeen | C124: 1978 tot 1995 | D124: 4408 | E124: 0.211 | F124: 46.877929 | G124: 21.61893 | H124: 36.06297 | I124: 59.776423 | J124: 51.960011 | K124: 50.339709 | L124: 23.810497 | M124: 39.717857 | N124: 64.156988 | O124: 54.20684
A125: Elektriciteit | B125: Kantoorpand algemeen | C125: 1995 tot 2009 | D125: 6173 | E125: 0.296 | F125: 50.901108 | G125: 23.320493 | H125: 41.6 | I125: 67.398933 | J125: 57.160158 | K125: 54.393372 | L125: 25.316667 | M125: 44.165354 | N125: 71.264368 | O125: 59.447524
A126: Elektriciteit | B126: Kantoorpand algemeen | C126: 2009 tot 2015 | D126: 1089 | E126: 0.052 | F126: 60.822222 | G126: 26.371542 | H126: 49.996795 | I126: 83.196315 | J126: 69.525797 | K126: 65.04227 | L126: 28.41544 | M126: 53.65 | N126: 90.208219 | O126: 72.720674
A127: Elektriciteit | B127: Kantoorpand algemeen | C127: vanaf 2015 | D127: 633 | E127: 0.03 | F127: 64.364308 | G127: 31.345896 | H127: 53.264151 | I127: 84.599432 | J127: 63.249866 | K127: 105.90333 | L127: 40.081944 | M127: 65.714595 | N127: 102.61468 | O127: 74.15442
A128: Elektriciteit | B128: Kinderopvang (gebouw) | C128: tot 1946 | D128: 270 | E128: 0.175 | F128: 32.35375 | G128: 19.633694 | H128: 27.192324 | I128: 39.873823 | J128: 29.482005 | K128: 33.356978 | L128: 19.648384 | M128: 28.320894 | N128: 41.490935 | O128: 30.729883
A129: Elektriciteit | B129: Kinderopvang (gebouw) | C129: 1946 tot 1978 | D129: 467 | E129: 0.302 | F129: 27.761275 | G129: 16.827522 | H129: 25.022455 | I129: 33.506298 | J129: 24.941178 | K129: 29.466482 | L129: 17.964767 | M129: 26.231293 | N129: 34.147771 | O129: 26.588598
A130: Elektriciteit | B130: Kinderopvang (gebouw) | C130: 1978 tot 1995 | D130: 336 | E130: 0.218 | F130: 33.330572 | G130: 19.662088 | H130: 29.148242 | I130: 39.710056 | J130: 32.184085 | K130: 34.821986 | L130: 21.491405 | M130: 30.628116 | N130: 42.695122 | O130: 34.083147
A131: Elektriciteit | B131: Kinderopvang (gebouw) | C131: 1995 tot 2009 | D131: 353 | E131: 0.229 | F131: 33.72501 | G131: 21.730909 | H131: 30.655738 | I131: 41.301708 | J131: 33.276759 | K131: 35.48363 | L131: 23.214497 | M131: 31.883582 | N131: 42.966418 | O131: 35.32064
A132: Elektriciteit | B132: Kinderopvang (gebouw) | C132: 2009 tot 2015 | D132: 87 | E132: 0.056 | F132: 43.800691 | G132: 27.653711 | H132: 36.709622 | I132: 55.967563 | J132: 43.543787 | K132: 46.48861 | L132: 28.959562 | M132: 38.396951 | N132: 60.115787 | O132: 45.768464
A133: Elektriciteit | B133: Kinderopvang (gebouw) | C133: vanaf 2015 | D133: 31 | E133: 0.02 | F133: 42.255831 | H133: 33.068966 | J133: 36.442779 | K133: 51.964024 | M133: 38.743872 | O133: 44.474627
A134: Elektriciteit | B134: Koelhuis | C134: tot 1978 | D134: 13 | E134: 0.137 | F134: 307.26992 | J134: 350.20315 | K134: 327.71947 | O134: 373.41553
A135: Elektriciteit | B135: Koelhuis | C135: 1978 tot 1995 | D135: 39 | E135: 0.411 | F135: 295.03638 | H135: 204.42604 | J135: 295.83418 | K135: 308.42729 | M135: 211.23489 | O135: 307.03747
A136: Elektriciteit | B136: Koelhuis | C136: 1995 tot 2009 | D136: 31 | E136: 0.326 | F136: 267.77416 | H136: 153.05706 | J136: 209.98417 | K136: 281.84621 | M136: 162.81268 | O136: 224.99168
A137: Elektriciteit | B137: Koelhuis | C137: vanaf 2009 | D137: 12 | E137: 0.126 | F137: 143.39664 | J137: 109.89986 | K137: 152.45947 | O137: 116.72283
A138: Elektriciteit | B138: Meergezinswoning met andere functie of combinatie van functies | C138: tot 1946 | D138: 11375 | E138: 0.643 | F138: 35.055033 | G138: 17.010495 | H138: 24.883621 | I138: 38.617416 | J138: 34.698471 | K138: 36.602935 | L138: 17.62625 | M138: 25.594828 | N138: 39.993274 | O138: 36.397796
A139: Elektriciteit | B139: Meergezinswoning met andere functie of combinatie van functies | C139: 1946 tot 1978 | D139: 3323 | E139: 0.188 | F139: 37.957703 | G139: 17.74643 | H139: 26.830247 | I139: 43.23541 | J139: 39.106961 | K139: 40.51827 | L139: 18.823571 | M139: 28.239837 | N139: 46.061821 | O139: 40.872512
A140: Elektriciteit | B140: Meergezinswoning met andere functie of combinatie van functies | C140: 1978 tot 1995 | D140: 1416 | E140: 0.08 | F140: 39.730784 | G140: 19.386432 | H140: 27.725198 | I140: 45.185453 | J140: 42.274086 | K140: 42.975194 | L140: 20.187679 | M140: 29.505727 | N140: 48.513365 | O140: 44.461387
A141: Elektriciteit | B141: Meergezinswoning met andere functie of combinatie van functies | C141: 1995 tot 2009 | D141: 1168 | E141: 0.066 | F141: 38.564137 | G141: 19.587709 | H141: 27.806443 | I141: 43.189631 | J141: 42.637133 | K141: 42.990515 | L141: 20.704659 | M141: 29.642307 | N141: 46.482301 | O141: 45.212018
A142: Elektriciteit | B142: Meergezinswoning met andere functie of combinatie van functies | C142: 2009 tot 2015 | D142: 235 | E142: 0.013 | F142: 42.413752 | G142: 21.006513 | H142: 32.613828 | I142: 50.784764 | J142: 48.750472 | K142: 44.516657 | L142: 22.152292 | M142: 34.061404 | N142: 53.632457 | O142: 50.21323
A143: Elektriciteit | B143: Meergezinswoning met andere functie of combinatie van functies | C143: vanaf 2015 | D143: 183 | E143: 0.01 | F143: 43.853871 | G143: 22.836559 | H143: 34.061146 | I143: 51.029853 | J143: 49.427949 | K143: 49.223524 | L143: 24.424093 | M143: 38.19962 | N143: 56.500045 | O143: 53.003155
A144: Elektriciteit | B144: Meergezinswoning met cafe of restaurant | C144: tot 1946 | D144: 4930 | E144: 0.787 | F144: 88.988116 | G144: 34.974637 | H144: 76.218984 | I144: 124.65209 | J144: 80.999078 | K144: 89.35735 | L144: 35.547369 | M144: 76.686524 | N144: 124.9241 | O144: 81.386134
A145: Elektriciteit | B145: Meergezinswoning met cafe of restaurant | C145: 1946 tot 1978 | D145: 740 | E145: 0.118 | F145: 79.232307 | G145: 25.976696 | H145: 64.944002 | I145: 111.38033 | J145: 71.230663 | K145: 80.348194 | L145: 27.654174 | M145: 65.91202 | N145: 111.87634 | O145: 72.084979
A146: Elektriciteit | B146: Meergezinswoning met cafe of restaurant | C146: 1978 tot 1995 | D146: 261 | E146: 0.042 | F146: 80.817951 | G146: 27.56746 | H146: 65.326622 | I146: 119.46839 | J146: 67.923019 | K146: 82.108331 | L146: 27.816024 | M146: 70.538462 | N146: 119.46839 | O146: 69.420958
A147: Elektriciteit | B147: Meergezinswoning met cafe of restaurant | C147: 1995 tot 2009 | D147: 232 | E147: 0.037 | F147: 75.650965 | G147: 25.93294 | H147: 53.397369 | I147: 113.21647 | J147: 65.5846 | K147: 76.366575 | L147: 26.877714 | M147: 54.817729 | N147: 113.52977 | O147: 66.324807
A148: Elektriciteit | B148: Meergezinswoning met cafe of restaurant | C148: 2009 tot 2015 | D148: 48 | E148: 0.008 | F148: 67.216545 | G148: 23.729033 | H148: 42.85226 | I148: 91.155755 | J148: 66.276211 | K148: 67.784176 | L148: 23.729033 | M148: 42.85226 | N148: 91.155755 | O148: 67.11938
A149: Elektriciteit | B149: Meergezinswoning met cafe of restaurant | C149: vanaf 2015 | D149: 57 | E149: 0.009 | F149: 76.937436 | G149: 30.897887 | H149: 57.34657 | I149: 116.23294 | J149: 75.173082 | K149: 85.517456 | L149: 39.655518 | M149: 60.075812 | N149: 118.34454 | O149: 84.222409
... A165: Elektriciteit | B165: Meergezinswoning met woonzorgeenheden | C165: 1995 tot 2009 | D165: 50 | E165: 0.168 | F165: 31.668254 | G165: 21.471063 | H165: 31.003743 | I165: 37.091129 | J165: 33.365185 | K165: 33.251627 | L165: 23.773459 | M165: 31.737878 | N165: 37.127994 | O165: 34.237018
A166: Elektriciteit | B166: Meergezinswoning met woonzorgeenheden | C166: 2009 tot 2015 | D166: 24 | E166: 0.081 | F166: 36.364543 | H166: 38.100478 | J166: 37.271421 | K166: 37.369116 | M166: 38.943478 | O166: 37.869645
A167: Elektriciteit | B167: Meergezinswoning met woonzorgeenheden | C167: vanaf 2015 | D167: 18 | E167: 0.061 | F167: 40.343379 | J167: 45.366715 | K167: 47.847242 | O167: 55.310558
...

Sheet elek_kental_opp_2022
A1: Energiedrager | B1: Gebouwtype | C1: Oppervlakteklasse | D1: Aantal panden | E1: Aandeel panden per gebouwtype | F1: Gemiddelde kental (kWh/m2) | G1: Q1 kental (kWh/m2) | H1: Mediaan kental (kWh/m2) | I1: Q3 kental (kWh/m2) | J1: Gewogen gemiddelde kental (kWh/m2) | K1: Gemiddelde kental inclusief eigenverbruik zonnestroom (kWh/m2) | L1: Q1 kental inclusief eigenverbruik zonnestroom (kWh/m2) | M1: Mediaan kental inclusief eigenverbruik zonnestroom (kWh/m2) | N1: Q3 kental inclusief eigenverbruik zonnestroom (kWh/m2) | O1: Gewogen gemiddelde kental inclusief eigenverbruik zonnestroom (kWh/m2)
A2: Elektriciteit | B2: Basisschool | C2: tot 250 m2 | D2: 15 | E2: 0.003 | F2: 48.902239 | J2: 47.542797 | K2: 67.541486 | O2: 67.951411
A3: Elektriciteit | B3: Basisschool | C3: 250 tot 500 m2 | D3: 112 | E3: 0.023 | F3: 29.086045 | G3: 17.50187 | H3: 23.998117 | I3: 34.176495 | J3: 28.625256 | K3: 33.501082 | L3: 20.034944 | M3: 26.164727 | N3: 36.521545 | O3: 32.910254
A4: Elektriciteit | B4: Basisschool | C4: 500 tot 1000 m2 | D4: 909 | E4: 0.188 | F4: 23.234651 | G4: 15.178082 | H4: 19.889908 | I4: 26.846555 | J4: 23.137161 | K4: 26.798296 | L4: 17.358974 | M4: 22.207171 | N4: 29.943894 | O4: 26.73354
A5: Elektriciteit | B5: Basisschool | C5: 1000 tot 2500 m2 | D5: 2789 | E5: 0.578 | F5: 23.794033 | G5: 15.339905 | H5: 20.373606 | I5: 28.45283 | J5: 24.072437 | K5: 27.086589 | L5: 17.220726 | M5: 22.550746 | N5: 31.808511 | O5: 27.466126
A6: Elektriciteit | B6: Basisschool | C6: 2500 tot 5000 m2 | D6: 789 | E6: 0.163 | F6: 28.082852 | G6: 15.737327 | H6: 24.916418 | I6: 38.225944 | J6: 28.266093 | K6: 31.999863 | L6: 17.247729 | M6: 28.001711 | N6: 43.708376 | O6: 32.187178
A7: Elektriciteit | B7: Basisschool | C7: 5000 tot 10000 m2 | D7: 180 | E7: 0.037 | F7: 30.280378 | G7: 13.473064 | H7: 28.159347 | I7: 42.708366 | J7: 30.346654 | K7: 32.492141 | L7: 14.038591 | M7: 30.622129 | N7: 44.332673 | O7: 32.509104
A8: Elektriciteit | B8: Basisschool | C8: vanaf 10000 m2 | D8: 34 | E8: 0.007 | F8: 24.230232 | H8: 22.24529 | J8: 26.109808 | K8: 25.041869 | M8: 22.452391 | O8: 27.00443
A9: Elektriciteit | B9: Bedrijfshal algemeen (geen LISA-informatie) | C9: tot 50 m2 | D9: 672 | E9: 0.035 | F9: 60.656325 | G9: 11.630208 | H9: 35.03125 | I9: 90.754545 | J9: 58.617274 | K9: 61.511196 | L9: 11.730409 | M9: 35.789372 | N9: 90.818182 | O9: 59.367799
A10: Elektriciteit | B10: Bedrijfshal algemeen (geen LISA-informatie) | C10: 50 tot 100 m2 | D10: 1951 | E10: 0.102 | F10: 44.029062 | G10: 10.796911 | H10: 22.849462 | I10: 54.302069 | J10: 43.023117 | K10: 46.090889 | L10: 11.091667 | M10: 23.911111 | N10: 57.703571 | O10: 45.061581
A11: Elektriciteit | B11: Bedrijfshal algemeen (geen LISA-informatie) | C11: 100 tot 250 m2 | D11: 5047 | E11: 0.264 | F11: 32.795848 | G11: 10.423981 | H11: 19.431111 | I11: 35.051724 | J11: 32.701217 | K11: 34.764982 | L11: 10.824975 | M11: 20.469799 | N11: 36.274336 | O11: 34.648074
A12: Elektriciteit | B12: Bedrijfshal algemeen (geen LISA-informatie) | C12: 250 tot 500 m2 | D12: 3516 | E12: 0.184 | F12: 31.809844 | G12: 10.03317 | H12: 17.629698 | I12: 34.765291 | J12: 31.774812 | K12: 34.168902 | L12: 10.390521 | M12: 18.487892 | N12: 37.649537 | O12: 34.104036
A13: Elektriciteit | B13: Bedrijfshal algemeen (geen LISA-informatie) | C13: 500 tot 1000 m2 | D13: 3330 | E13: 0.174 | F13: 31.56358 | G13: 10.278589 | H13: 18.380552 | I13: 33.700317 | J13: 32.099053 | K13: 33.614472 | L13: 11.035454 | M13: 19.646523 | N13: 36.08268 | O13: 34.156731
A14: Elektriciteit | B14: Bedrijfshal algemeen (geen LISA-informatie) | C14: 1000 tot 2500 m2 | D14: 2820 | E14: 0.148 | F14: 37.468406 | G14: 11.499749 | H14: 21.200755 | I14: 40.93476 | J14: 38.318549 | K14: 40.924887 | L14: 12.300613 | M14: 22.645642 | N14: 44.289193 | O14: 41.852272
A15: Elektriciteit | B15: Bedrijfshal algemeen (geen LISA-informatie) | C15: 2500 tot 5000 m2 | D15: 999 | E15: 0.052 | F15: 46.554787 | G15: 12.11606 | H15: 23.314489 | I15: 47.994818 | J15: 47.382715 | K15: 50.361228 | L15: 13.050611 | M15: 25.343707 | N15: 55.422575 | O15: 51.270981
A16: Elektriciteit | B16: Bedrijfshal algemeen (geen LISA-informatie) | C16: 5000 tot 10000 m2 | D16: 483 | E16: 0.025 | F16: 49.338656 | G16: 12.373908 | H16: 25.237678 | I16: 60.881548 | J16: 49.581032 | K16: 53.652204 | L16: 13.498902 | M16: 28.845607 | N16: 70.102155 | O16: 53.958413
A17: Elektriciteit | B17: Bedrijfshal algemeen (geen LISA-informatie) | C17: vanaf 10000 m2 | D17: 268 | E17: 0.014 | F17: 44.381755 | G17: 11.992064 | H17: 22.25796 | I17: 49.066435 | J17: 43.44126 | K17: 50.19365 | L17: 13.379621 | M17: 24.709864 | N17: 57.388691 | O17: 49.111249
A18: Elektriciteit | B18: Bedrijfshal algemeen (met LISA-informatie) | C18: tot 50 m2 | D18: 84 | E18: 0.007 | F18: 121.66001 | G18: 36.879791 | H18: 80.38228 | I18: 171.87389 | J18: 118.21235 | K18: 123.28255 | L18: 36.879791 | M18: 81.943504 | N18: 182.44615 | O18: 119.878
A19: Elektriciteit | B19: Bedrijfshal algemeen (met LISA-informatie) | C19: 50 tot 100 m2 | D19: 586 | E19: 0.046 | F19: 72.276481 | G19: 19.655862 | H19: 37.772311 | I19: 82.919872 | J19: 69.528161 | K19: 77.735891 | L19: 20.600931 | M19: 39.744565 | N19: 86.031877 | O19: 74.87226
A20: Elektriciteit | B20: Bedrijfshal algemeen (met LISA-informatie) | C20: 100 tot 250 m2 | D20: 2381 | E20: 0.189 | F20: 48.580871 | G20: 15.036765 | H20: 27.494444 | I20: 50.859375 | J20: 48.079931 | K20: 52.504951 | L20: 15.517857 | M20: 28.672897 | N20: 54.415094 | O20: 51.817261
... A42: Elektriciteit | B42: Bedrijfshal met maakindustrie en andere economische activiteiten | C42: vanaf 10000 m2 | D42: 147 | E42: 0.029 | F42: 74.092579 | G42: 20.240671 | H42: 44.229966 | I42: 84.379004 | J42: 75.446607 | K42: 79.207786 | L42: 23.711392 | M42: 49.49581 | N42: 93.145986 | O42: 80.413803
A43: Elektriciteit | B43: Bedrijfshal met maakindustrie en logistieke activiteiten | C43: tot 50 m2 | D43: 28 | E43: 0.003 | F43: 105.92214 | H43: 56.902778 | J43: 92.773622 | K43: 118.08574 | M43: 67.729647 | O43: 106.39837
A44: Elektriciteit | B44: Bedrijfshal met maakindustrie en logistieke activiteiten | C44: 50 tot 100 m2 | D44: 212 | E44: 0.02 | F44: 74.064951 | G44: 19.50232 | H44: 39.577842 | I44: 97.756145 | J44: 71.434535 | K44: 120.1387 | L44: 19.860919 | M44: 40.161966 | N44: 111.23648 | O44: 120.81998
A45: Elektriciteit | B45: Bedrijfshal met maakindustrie en logistieke activiteiten | C45: 100 tot 250 m2 | D45: 980 | E45: 0.092 | F45: 45.068652 | G45: 14.772549 | H45: 27.566949 | I45: 47.689059 | J45: 44.466101 | K45: 49.538616 | L45: 15.589889 | M45: 28.348975 | N45: 50.044605 | O45: 48.846732
A46: Elektriciteit | B46: Bedrijfshal met maakindustrie en logistieke activiteiten | C46: 250 tot 500 m2 | D46: 1356 | E46: 0.127 | F46: 39.442506 | G46: 14.96958 | H46: 24.083662 | I46: 40.863047 | J46: 39.506573 | K46: 42.156331 | L46: 15.886959 | M46: 25.720068 | N46: 43.836037 | O46: 42.218288
A47: Elektriciteit | B47: Bedrijfshal met maakindustrie en logistieke activiteiten | C47: 500 tot 1000 m2 | D47: 2210 | E47: 0.207 | F47: 39.184635 | G47: 13.585393 | H47: 22.676885 | I47: 39.616814 | J47: 39.254354 | K47: 42.431847 | L47: 14.892174 | M47: 24.468088 | N47: 42.624057 | O47: 42.414534
A48: Elektriciteit | B48: Bedrijfshal met maakindustrie en logistieke activiteiten | C48: 1000 tot 2500 m2 | D48: 3153 | E48: 0.295 | F48: 40.645198 | G48: 13.980349 | H48: 23.087012 | I48: 41.306389 | J48: 41.045692 | K48: 44.137829 | L48: 15.641563 | M48: 25.544545 | N48: 44.941102 | O48: 44.570641
A49: Elektriciteit | B49: Bedrijfshal met maakindustrie en logistieke activiteiten | C49: 2500 tot 5000 m2 | D49: 1548 | E49: 0.145 | F49: 48.58614 | G49: 14.233324 | H49: 25.594019 | I49: 49.207522 | J49: 48.762756 | K49: 53.621014 | L49: 16.192429 | M49: 28.526103 | N49: 56.573479 | O49: 53.911755
A50: Elektriciteit | B50: Bedrijfshal met maakindustrie en logistieke activiteiten | C50: 5000 tot 10000 m2 | D50: 781 | E50: 0.073 | F50: 56.984532 | G50: 14.546486 | H50: 26.987736 | I50: 64.132108 | J50: 58.162379 | K50: 63.087795 | L50: 16.369997 | M50: 31.224188 | N50: 73.600226 | O50: 64.216664
A51: Elektriciteit | B51: Bedrijfshal met maakindustrie en logistieke activiteiten | C51: vanaf 10000 m2 | D51: 408 | E51: 0.038 | F51: 68.212341 | G51: 17.320109 | H51: 32.759378 | I51: 72.289913 | J51: 62.163207 | K51: 75.405885 | L51: 20.195719 | M51: 40.269514 | N51: 88.930168 | O51: 69.496558
A52: Elektriciteit | B52: Bedrijfshal uitsluitend maakindustrie | C52: tot 50 m2 | D52: 94 | E52: 0.005 | F52: 127.75889 | G52: 25.984799 | H52: 77.307326 | I52: 167.22547 | J52: 124.34127 | K52: 144.808 | L52: 25.984799 | M52: 77.307326 | N52: 192.67676 | O52: 142.74428
A53: Elektriciteit | B53: Bedrijfshal uitsluitend maakindustrie | C53: 50 tot 100 m2 | D53: 516 | E53: 0.027 | F53: 62.758142 | G53: 15.484126 | H53: 29.809286 | I53: 61.736206 | J53: 60.158591 | K53: 66.505529 | L53: 15.68497 | M53: 31.405442 | N53: 64.479592 | O53: 63.876889
A54: Elektriciteit | B54: Bedrijfshal uitsluitend maakindustrie | C54: 100 tot 250 m2 | D54: 2366 | E54: 0.123 | F54: 41.916653 | G54: 13.635371 | H54: 23.408919 | I54: 41.664913 | J54: 41.156348 | K54: 45.007075 | L54: 14.08662 | M54: 24.419605 | N54: 44.7863 | O54: 44.356594
A55: Elektriciteit | B55: Bedrijfshal uitsluitend maakindustrie | C55: 250 tot 500 m2 | D55: 3355 | E55: 0.174 | F55: 41.065083 | G55: 13.672574 | H55: 23.132143 | I55: 40.011738 | J55: 41.243058 | K55: 43.963259 | L55: 14.653473 | M55: 25.143498 | N55: 43.497212 | O55: 44.142505
... A67: Elektriciteit | B67: Bedrijfswoning | C67: 2500 tot 5000 m2 | D67: 295 | E67: 0.004 | F67: 35.40839 | G67: 11.170951 | H67: 20.813275 | I67: 42.035139 | J67: 36.300639 | K67: 40.045872 | L67: 12.462382 | M67: 22.803422 | N67: 47.69397 | O67: 40.727025
A68: Elektriciteit | B68: Bedrijfswoning | C68: 5000 tot 10000 m2 | D68: 39 | E68: 0.001 | F68: 45.313679 | H68: 22.748296 | J68: 47.205101 | K68: 49.304896 | M68: 24.563418 | O68: 51.473842
A69: Elektriciteit | B69: Bedrijfswoning | C69: vanaf 10000 m2 | D69: 26 | E69: 0 | F69: 60.935249 | H69: 41.658756 | J69: 73.212788 | K69: 68.923877 | M69: 43.656852 | O69: 79.463191
A70: Elektriciteit | B70: Bijeenkomstgebouw (niet nader ingedeeld) | C70: tot 50 m2 | D70: 199 | E70: 0.022 | F70: 77.840258 | G70: 18.122989 | H70: 44.090909 | I70: 128.79032 | J70: 74.691525 | K70: 81.80096 | L70: 19.202778 | M70: 47.085714 | N70: 132.19231 | O70: 78.59137
A71: Elektriciteit | B71: Bijeenkomstgebouw (niet nader ingedeeld) | C71: 50 tot 100 m2 | D71: 872 | E71: 0.095 | F71: 61.524078 | G71: 15.097024 | H71: 35.265976 | I71: 79.535617 | J71: 61.051067 | K71: 63.717529 | L71: 15.578577 | M71: 35.744505 | N71: 83.609199 | O71: 63.215561
A72: Elektriciteit | B72: Bijeenkomstgebouw (niet nader ingedeeld) | C72: 100 tot 250 m2 | D72: 2827 | E72: 0.307 | F72: 45.418883 | G72: 12.329114 | H72: 23.630435 | I72: 48.495329 | J72: 44.951908 | K72: 48.080833 | L72: 12.740626 | M72: 24.951456 | N72: 53.178753 | O72: 47.566364
A73: Elektriciteit | B73: Bijeenkomstgebouw (niet nader ingedeeld) | C73: 250 tot 500 m2 | D73: 2564 | E73: 0.279 | F73: 40.32581 | G73: 12.036879 | H73: 21.254598 | I73: 43.27234 | J73: 40.418967 | K73: 43.463368 | L73: 13.188752 | M73: 23.293126 | N73: 46.512514 | O73: 43.711385
A74: Elektriciteit | B74: Bijeenkomstgebouw (niet nader ingedeeld) | C74: 500 tot 1000 m2 | D74: 1616 | E74: 0.176 | F74: 41.207869 | G74: 12.949995 | H74: 24.004511 | I74: 45.36223 | J74: 41.284922 | K74: 43.459908 | L74: 14.261507 | M74: 26.465715 | N74: 48.58738 | O74: 43.525438
A75: Elektriciteit | B75: Bijeenkomstgebouw (niet nader ingedeeld) | C75: 1000 tot 2500 m2 | D75: 842 | E75: 0.091 | F75: 45.328459 | G75: 15.712202 | H75: 29.491173 | I75: 55.79505 | J75: 46.330634 | K75: 47.597144 | L75: 17.317907 | M75: 31.17046 | N75: 58.133231 | O75: 48.647678
A76: Elektriciteit | B76: Bijeenkomstgebouw (niet nader ingedeeld) | C76: 2500 tot 5000 m2 | D76: 196 | E76: 0.021 | F76: 55.908087 | G76: 14.968876 | H76: 35.253769 | I76: 84.463609 | J76: 55.700299 | K76: 58.326835 | L76: 15.378688 | M76: 40.625468 | N76: 86.422634 | O76: 58.085903
A77: Elektriciteit | B77: Bijeenkomstgebouw (niet nader ingedeeld) | C77: 5000 tot 10000 m2 | D77: 64 | E77: 0.007 | F77: 49.654469 | G77: 15.149967 | H77: 35.677812 | I77: 62.498397 | J77: 52.664245 | K77: 51.696569 | L77: 17.036016 | M77: 36.601465 | N77: 73.226501 | O77: 54.742062
A78: Elektriciteit | B78: Bijeenkomstgebouw (niet nader ingedeeld) | C78: vanaf 10000 m2 | D78: 25 | E78: 0.003 | F78: 73.895692 | H78: 55.166371 | J78: 73.657003 | K78: 74.310803 | M78: 55.166371 | O78: 74.122418
A79: Elektriciteit | B79: Campusgebouw | C79: tot 1000 m2 | D79: 18 | E79: 0.165 | F79: 96.463396 | J79: 93.273057 | K79: 101.12264 | O79: 98.977013
A80: Elektriciteit | B80: Campusgebouw | C80: 1000 tot 2500 m2 | D80: 11 | E80: 0.101 | F80: 71.832204 | J80: 76.449006 | K80: 72.9334 | O80: 77.437001
A81: Elektriciteit | B81: Campusgebouw | C81: 2500 tot 5000 m2 | D81: 19 | E81: 0.174 | F81: 118.68257 | J81: 119.07593 | K81: 123.87257 | O81: 124.02552
A82: Elektriciteit | B82: Campusgebouw | C82: 5000 tot 10000 m2 | D82: 24 | E82: 0.22 | F82: 87.439476 | H82: 58.79558 | J82: 87.047552 | K82: 91.556126 | M82: 61.180191 | O82: 91.156015
A83: Elektriciteit | B83: Campusgebouw | C83: vanaf 10000 m2 | D83: 37 | E83: 0.339 | F83: 91.582244 | H83: 57.75621 | J83: 62.846529 | K83: 94.780461 | M83: 58.36257 | O83: 64.956897
A84: Elektriciteit | B84: Cultuurhuis | C84: tot 250 m2 | D84: 28 | E84: 0.049 | F84: 59.504993 | H84: 30.88797 | J84: 54.468132 | K84: 67.636879 | M84: 30.88797 | O84: 61.636484
A85: Elektriciteit | B85: Cultuurhuis | C85: 250 tot 500 m2 | D85: 67 | E85: 0.118 | F85: 40.071168 | G85: 18.137863 | H85: 28.427536 | I85: 50.40483 | J85: 39.566672 | K85: 41.409665 | L85: 18.62446 | M85: 29.302239 | N85: 54.784434 | O85: 40.89105
A86: Elektriciteit | B86: Cultuurhuis | C86: 500 tot 1000 m2 | D86: 117 | E86: 0.206 | F86: 41.941612 | G86: 19.059282 | H86: 29.939358 | I86: 50.151551 | J86: 41.516672 | K86: 44.02758 | L86: 21.233472 | M86: 30.915273 | N86: 57.603046 | O86: 43.905893
A87: Elektriciteit | B87: Cultuurhuis | C87: 1000 tot 2500 m2 | D87: 159 | E87: 0.279 | F87: 63.0289 | G87: 26.779202 | H87: 46.280038 | I87: 84.421879 | J87: 63.730344 | K87: 65.637552 | L87: 27.96693 | M87: 48.629945 | N87: 92.54344 | O87: 66.37766
A88: Elektriciteit | B88: Cultuurhuis | C88: 2500 tot 5000 m2 | D88: 89 | E88: 0.156 | F88: 59.965164 | G88: 27.490043 | H88: 49.744162 | I88: 82.290778 | J88: 59.263419 | K88: 62.736993 | L88: 31.403032 | M88: 54.906003 | N88: 87.00245 | O88: 62.216297
A89: Elektriciteit | B89: Cultuurhuis | C89: 5000 tot 10000 m2 | D89: 59 | E89: 0.104 | F89: 80.329304 | G89: 38.808096 | H89: 71.972671 | I89: 107.56984 | J89: 79.367326 | K89: 83.186454 | L89: 44.357789 | M89: 76.724416 | N89: 107.56984 | O89: 81.774296
A90: Elektriciteit | B90: Cultuurhuis | C90: vanaf 10000 m2 | D90: 50 | E90: 0.088 | F90: 55.734771 | G90: 25.843722 | H90: 47.652095 | I90: 79.227405 | J90: 45.855925 | K90: 57.29421 | L90: 26.409135 | M90: 48.532887 | N90: 79.227405 | O90: 47.102475
A91: Elektriciteit | B91: Gebedshuis | C91: tot 100 m2 | D91: 42 | E91: 0.012 | F91: 23.918754 | G91: 9.182263 | H91: 22.124541 | I91: 36.076873 | J91: 24.30401 | K91: 24.778952 | L91: 9.182263 | M91: 22.124541 | N91: 36.076873 | O91: 25.245796
A92: Elektriciteit | B92: Gebedshuis | C92: 100 tot 250 m2 | D92: 397 | E92: 0.111 | F92: 15.359886 | G92: 7.9485981 | H92: 11.823529 | I92: 18.752632 | J92: 15.287253 | K92: 15.884807 | L92: 8.05 | M92: 12.41129 | N92: 19.538462 | O92: 15.814111
A93: Elektriciteit | B93: Gebedshuis | C93: 250 tot 500 m2 | D93: 942 | E93: 0.264 | F93: 14.912649 | G93: 8.2275637 | H93: 12.356852 | I93: 18.963037 | J93: 14.822143 | K93: 15.763943 | L93: 8.4082981 | M93: 12.737856 | N93: 19.850594 | O93: 15.612435
A94: Elektriciteit | B94: Gebedshuis | C94: 500 tot 1000 m2 | D94: 1193 | E94: 0.335 | F94: 14.105857 | G94: 8.2682154 | H94: 11.61745 | I94: 17.179513 | J94: 14.05157 | K94: 15.516266 | L94: 8.7522698 | M94: 12.629382 | N94: 18.834524 | O94: 15.477899
A95: Elektriciteit | B95: Gebedshuis | C95: 1000 tot 2500 m2 | D95: 833 | E95: 0.234 | F95: 14.342887 | G95: 7.88949 | H95: 11.446897 | I95: 18.070142 | J95: 14.488835 | K95: 15.725642 | L95: 8.4561905 | M95: 12.407072 | N95: 19.70255 | O95: 15.905184
A96: Elektriciteit | B96: Gebedshuis | C96: 2500 tot 5000 m2 | D96: 103 | E96: 0.029 | F96: 19.830601 | G96: 10.076485 | H96: 17.105438 | I96: 27.976741 | J96: 20.045698 | K96: 21.501801 | L96: 10.376066 | M96: 17.15088 | N96: 30.124885 | O96: 21.708559
A97: Elektriciteit | B97: Gebedshuis | C97: 5000 tot 10000 m2 | D97: 38 | E97: 0.011 | F97: 20.281914 | H97: 20.491646 | J97: 20.393617 | K97: 22.138537 | M97: 21.857239 | O97: 22.229428
A98: Elektriciteit | B98: Gebedshuis | C98: vanaf 10000 m2 | D98: 16 | E98: 0.004 | F98: 28.172297 | J98: 26.668019 | K98: 30.736426 | O98: 29.155793
A99: Elektriciteit | B99: Gebouw bij spooremplacement | C99: tot 500 m2 | D99: 18 | E99: 0.269 | F99: 106.56907 | J99: 59.900322 | K99: 108.20755 | O99: 63.07717
A100: Elektriciteit | B100: Gebouw bij spooremplacement | C100: 500 tot 1000 m2 | D100: 13 | E100: 0.194 | F100: 53.616386 | J100: 50.175674 | K100: 54.431365 | O100: 50.975953
A101: Elektriciteit | B101: Gebouw bij spooremplacement | C101: 1000 tot 5000 m2 | D101: 20 | E101: 0.299 | F101: 66.010031 | H101: 53.10622 | J101: 66.44594 | K101: 66.563404 | M101: 53.10622 | O101: 66.796808
A102: Elektriciteit | B102: Gebouw bij spooremplacement | C102: vanaf 5000 m2 | D102: 16 | E102: 0.239 | F102: 49.17624 | J102: 55.703949 | K102: 50.139255 | O102: 56.095879
A103: Elektriciteit | B103: Gebouw bij vliegveld of luchthaven | C103: tot 250 m2 | D103: 19 | E103: 0.128 | F103: 84.583741 | J103: 77.429333 | K103: 94.476273 | O103: 83.308889
A104: Elektriciteit | B104: Gebouw bij vliegveld of luchthaven | C104: 250 tot 500 m2 | D104: 18 | E104: 0.121 | F104: 47.99992 | J104: 47.508676 | K104: 48.029064 | O104: 47.539281
A105: Elektriciteit | B105: Gebouw bij vliegveld of luchthaven | C105: 500 tot 1000 m2 | D105: 37 | E105: 0.248 | F105: 36.62353 | H105: 14.265096 | J105: 35.719225 | K105: 40.013568 | M105: 18.577596 | O105: 38.629037
A106: Elektriciteit | B106: Gebouw bij vliegveld of luchthaven | C106: 1000 tot 2500 m2 | D106: 34 | E106: 0.228 | F106: 48.305509 | H106: 26.845562 | J106: 54.132837 | K106: 49.41081 | M106: 30.547456 | O106: 55.26765
A107: Elektriciteit | B107: Gebouw bij vliegveld of luchthaven | C107: 2500 tot 5000 m2 | D107: 21 | E107: 0.141 | F107: 63.142186 | H107: 28.006657 | J107: 61.28025 | K107: 68.580673 | M107: 37.386233 | O107: 66.769191
A108: Elektriciteit | B108: Gebouw bij vliegveld of luchthaven | C108: 5000 tot 10000 m2 | D108: 10 | E108: 0.067 | F108: 83.781501 | J108: 80.968239 | K108: 199.64459 | O108: 200.0509
A109: Elektriciteit | B109: Gebouw bij vliegveld of luchthaven | C109: vanaf 10000 m2 | D109: 10 | E109: 0.067 | F109: 77.030598 | J109: 70.499933 | K109: 88.269089 | O109: 79.134322
A110: Elektriciteit | B110: Gebouw in landelijk gebied voor industrie (geen landbouwactiviteiten geregistreerd) | C110: tot 50 m2 | D110: 106 | E110: 0.022 | F110: 85.175917 | G110: 26.110324 | H110: 51.894608 | I110: 119.93452 | J110: 82.684082 | K110: 93.124626 | L110: 26.220395 | M110: 63.990847 | N110: 139.99481 | O110: 89.93154
A111: Elektriciteit | B111: Gebouw in landelijk gebied voor industrie (geen landbouwactiviteiten geregistreerd) | C111: 50 tot 100 m2 | D111: 254 | E111: 0.053 | F111: 63.805705 | G111: 16.630938 | H111: 35.996762 | I111: 80.985777 | J111: 63.589031 | K111: 67.901928 | L111: 16.719728 | M111: 38.323876 | N111: 86.126578 | O111: 68.023209
A112: Elektriciteit | B112: Gebouw in landelijk gebied voor industrie (geen landbouwactiviteiten geregistreerd) | C112: 100 tot 250 m2 | D112: 881 | E112: 0.183 | F112: 51.752083 | G112: 13.772727 | H112: 25.73301 | I112: 58.827027 | J112: 50.846369 | K112: 69.579323 | L112: 14.601227 | M112: 27.973451 | N112: 69.866071 | O112: 65.63801
A113: Elektriciteit | B113: Gebouw in landelijk gebied voor industrie (geen landbouwactiviteiten geregistreerd) | C113: 250 tot 500 m2 | D113: 986 | E113: 0.204 | F113: 44.609097 | G113: 12.109717 | H113: 25.408976 | I113: 49.74497 | J113: 44.680789 | K113: 52.119366 | L113: 13.100928 | M113: 28.439208 | N113: 57.162632 | O113: 52.421865
A114: Elektriciteit | B114: Gebouw in landelijk gebied voor industrie (geen landbouwactiviteiten geregistreerd) | C114: 500 tot 1000 m2 | D114: 1030 | E114: 0.214 | F114: 37.554864 | G114: 10.871925 | H114: 21.475169 | I114: 42.911275 | J114: 37.718831 | K114: 44.035108 | L114: 12.552571 | M114: 25.564145 | N114: 48.138067 | O114: 44.293169
A115: Elektriciteit | B115: Gebouw in landelijk gebied voor industrie (geen landbouwactiviteiten geregistreerd) | C115: 1000 tot 2500 m2 | D115: 1013 | E115: 0.21 | F115: 39.252874 | G115: 11.848165 | H115: 21.57037 | I115: 44.632941 | J115: 39.021729 | K115: 48.583284 | L115: 13.472509 | M115: 25.342402 | N115: 53.958375 | O115: 48.354239
A116: Elektriciteit | B116: Gebouw in landelijk gebied voor industrie (geen landbouwactiviteiten geregistreerd) | C116: 2500 tot 5000 m2 | D116: 339 | E116: 0.07 | F116: 38.298948 | G116: 10.890633 | H116: 22.460045 | I116: 45.020369 | J116: 38.408172 | K116: 52.066824 | L116: 13.939682 | M116: 26.894515 | N116: 58.34187 | O116: 51.182439
A117: Elektriciteit | B117: Gebouw in landelijk gebied voor industrie (geen landbouwactiviteiten geregistreerd) | C117: 5000 tot 10000 m2 | D117: 162 | E117: 0.034 | F117: 53.500009 | G117: 16.056399 | H117: 31.387036 | I117: 65.665178 | J117: 55.485765 | K117: 65.007165 | L117: 20.555012 | M117: 42.054998 | N117: 86.493809 | O117: 67.519589
A118: Elektriciteit | B118: Gebouw in landelijk gebied voor industrie (geen landbouwactiviteiten geregistreerd) | C118: vanaf 10000 m2 | D118: 52 | E118: 0.011 | F118: 71.228811 | G118: 14.991536 | H118: 32.664316 | I118: 120.03194 | J118: 70.933168 | K118: 78.784134 | L118: 17.893918 | M118: 33.697457 | N118: 136.61587 | O118: 77.902048
A119: Elektriciteit | B119: Gebouw in stedelijk gebied met industriefunctie | C119: tot 50 m2 | D119: 578 | E119: 0.043 | F119: 96.050366 | G119: 15.881871 | H119: 50.937218 | I119: 119.39773 | J119: 92.765953 | K119: 101.20708 | L119: 16.74251 | M119: 52.570116 | N119: 124.48205 | O119: 97.329517
A120: Elektriciteit | B120: Gebouw in stedelijk gebied met industriefunctie | C120: 50 tot 100 m2 | D120: 1334 | E120: 0.1 | F120: 67.462024 | G120: 13.714412 | H120: 31.277438 | I120: 70.778744 | J120: 66.680478 | K120: 70.666609 | L120: 14.151261 | M120: 32.231898 | N120: 74.724029 | O120: 69.963746
A121: Elektriciteit | B121: Gebouw in stedelijk gebied met industriefunctie | C121: 100 tot 250 m2 | D121: 3311 | E121: 0.248 | F121: 57.981032 | G121: 12.755833 | H121: 25.191057 | I121: 53.335428 | J121: 57.110851 | K121: 61.659391 | L121: 13.322778 | M121: 27.217687 | N121: 58.194447 | O121: 60.788596
... A133: Elektriciteit | B133: Gebouw op vakantiepark | C133: 1000 tot 2500 m2 | D133: 152 | E133: 0.004 | F133: 55.933484 | G133: 15.919885 | H133: 36.357569 | I133: 74.760481 | J133: 54.888583 | K133: 67.183109 | L133: 19.90532 | M133: 43.271394 | N133: 80.984018 | O133: 66.073441
A134: Elektriciteit | B134: Gebouw op vakantiepark | C134: 2500 tot 5000 m2 | D134: 22 | E134: 0.001 | F134: 69.527066 | H134: 46.737421 | J134: 69.83056 | K134: 72.322276 | M134: 49.251037 | O134: 72.860523
A135: Elektriciteit | B135: Gebouw op vakantiepark | C135: vanaf 5000 m2 | D135: 11 | E135: 0 | F135: 77.372465 | J135: 80.320873 | K135: 81.401427 | O135: 87.167293
A136: Elektriciteit | B136: Gebouw voor landbouwactiviteiten | C136: tot 50 m2 | D136: 23 | E136: 0.009 | F136: 265.43286 | H136: 201.27273 | J136: 256.24512 | K136: 314.73612 | M136: 201.27273 | O136: 298.10178
A137: Elektriciteit | B137: Gebouw voor landbouwactiviteiten | C137: 50 tot 100 m2 | D137: 86 | E137: 0.035 | F137: 148.91381 | G137: 33.535604 | H137: 90.848958 | I137: 184.10986 | J137: 135.62121 | K137: 170.51766 | L137: 36.331477 | M137: 94.879474 | N137: 184.10986 | O137: 157.33428
A138: Elektriciteit | B138: Gebouw voor landbouwactiviteiten | C138: 100 tot 250 m2 | D138: 916 | E138: 0.373 | F138: 115.76378 | G138: 24.975068 | H138: 50.285117 | I138: 134.07431 | J138: 116.08654 | K138: 135.01554 | L138: 27.977817 | M138: 57.965557 | N138: 151.24546 | O138: 134.20301
A139: Elektriciteit | B139: Gebouw voor landbouwactiviteiten | C139: 250 tot 500 m2 | D139: 358 | E139: 0.146 | F139: 104.10881 | G139: 19.552645 | H139: 39.31339 | I139: 109.68646 | J139: 104.22864 | K139: 118.92262 | L139: 21.627661 | M139: 47.67695 | N139: 126.72356 | O139: 118.91019
A140: Elektriciteit | B140: Gebouw voor landbouwactiviteiten | C140: 500 tot 1000 m2 | D140: 321 | E140: 0.131 | F140: 104.51849 | G140: 15.27972 | H140: 41.874179 | I140: 138.20129 | J140: 107.70176 | K140: 121.42596 | L140: 16.85466 | M140: 43.632124 | N140: 177.56663 | O140: 124.77603
A141: Elektriciteit | B141: Gebouw voor landbouwactiviteiten | C141: 1000 tot 2500 m2 | D141: 404 | E141: 0.164 | F141: 115.86328 | G141: 19.644612 | H141: 53.977511 | I141: 158.97287 | J141: 115.06243 | K141: 129.19097 | L141: 22.909936 | M141: 67.358219 | N141: 184.33146 | O141: 129.1779
A142: Elektriciteit | B142: Gebouw voor landbouwactiviteiten | C142: 2500 tot 5000 m2 | D142: 171 | E142: 0.07 | F142: 109.45772 | G142: 19.27674 | H142: 45.531882 | I142: 134.12978 | J142: 104.86863 | K142: 125.1508 | L142: 23.644184 | M142: 59.150343 | N142: 153.15174 | O142: 121.00933
A143: Elektriciteit | B143: Gebouw voor landbouwactiviteiten | C143: 5000 tot 10000 m2 | D143: 95 | E143: 0.039 | F143: 73.98745 | G143: 12.210218 | H143: 30.282332 | I143: 78.45321 | J143: 74.347705 | K143: 82.363559 | L143: 17.051443 | M143: 35.377384 | N143: 84.116942 | O143: 82.15919
...

Sheet elek_kental_diensten_2022
A1: Energiedrager | B1: Gebouwtype | C1: Aantal panden | D1: Gemiddelde kental (kWh/m2) | E1: Q1 kental (kWh/m2) | F1: Mediaan kental (kWh/m2) | G1: Q3 kental (kWh/m2) | H1: Gewogen gemiddelde kental (kWh/m2) | I1: Gemiddelde kental inclusief eigenverbruik zonnestroom (kWh/m2) | J1: Q1 kental inclusief eigenverbruik zonnestroom (kWh/m2) | K1: Mediaan kental inclusief eigenverbruik zonnestroom (kWh/m2) | L1: Q3 kental inclusief eigenverbruik zonnestroom (kWh/m2) | M1: Gewogen gemiddelde kental inclusief eigenverbruik zonnestroom (kWh/m2)
A2: Elektriciteit | B2: Asielzoekerscentrum | C2: 51 | D2: 103.37468 | E2: 37.137204 | F2: 61.507987 | G2: 132.3694 | H2: 68.133508 | I2: 103.538 | J2: 37.137204 | K2: 61.507987 | L2: 132.3694 | M2: 68.199519
A3: Elektriciteit | B3: Basisschool | C3: 4352 | D3: 24.211805 | E3: 15.154627 | F3: 20.480912 | G3: 29.372742 | H3: 24.758724 | I3: 27.735958 | J3: 17.062132 | K3: 22.809042 | L3: 33.160373 | M3: 28.281923
A4: Elektriciteit | B4: Bedrijfshal algemeen (geen LISA-informatie) | C4: 10353 | D4: 34.394842 | E4: 10.265135 | F4: 18.891667 | G4: 36.117117 | H4: 34.783445 | I4: 36.675953 | J4: 10.761194 | K4: 19.943925 | L4: 39.015385 | M4: 38.091722
A5: Elektriciteit | B5: Bedrijfshal algemeen (met LISA-informatie) | C5: 8725 | D5: 42.98278 | E5: 14.436298 | F5: 25.18797 | G5: 45.4375 | H5: 41.90456 | I5: 46.70663 | J5: 15.646486 | K5: 27.175258 | L5: 50.064836 | M5: 45.638547
A6: Elektriciteit | B6: Bedrijfshal met logistieke activiteiten | C6: 2206 | D6: 38.544625 | E6: 14.73952 | F6: 25.000798 | G6: 43.78759 | H6: 39.705839 | I6: 42.814656 | J6: 16.054686 | K6: 27.517446 | L6: 49.640853 | M6: 44.468034
A7: Elektriciteit | B7: Bedrijfshal met maakindustrie en andere economische activiteiten | C7: 1616 | D7: 38.059998 | E7: 15.760057 | F7: 26.252043 | G7: 43.085097 | H7: 45.261648 | I7: 42.030471 | J7: 17.352631 | K7: 28.955397 | L7: 48.115939 | M7: 49.947126
A8: Elektriciteit | B8: Bedrijfshal met maakindustrie en logistieke activiteiten | C8: 6681 | D8: 42.082538 | E8: 13.923077 | F8: 23.87562 | G8: 42.870253 | H8: 47.544594 | I8: 46.966586 | J8: 15.34122 | K8: 26.010101 | L8: 46.066225 | M8: 52.244411
A9: Elektriciteit | B9: Bedrijfshal uitsluitend maakindustrie | C9: 7146 | D9: 40.204752 | E9: 15.345077 | F9: 25.902632 | G9: 44.946048 | H9: 46.963945 | I9: 44.229068 | J9: 16.544003 | K9: 27.820896 | L9: 48.677879 | M9: 51.043937
A10: Elektriciteit | B10: Bedrijfswoning | C10: 8983 | D10: 46.374799 | E10: 15.831892 | F10: 27.147982 | G10: 48.896702 | H10: 37.556685 | I10: 52.587835 | J10: 17.83022 | K10: 30.414894 | L10: 55.457718 | M10: 42.357274
A11: Elektriciteit | B11: Bijeenkomstgebouw (niet nader ingedeeld) | C11: 8321 | D11: 45.761643 | E11: 12.875 | F11: 24.513208 | G11: 51.836697 | H11: 48.19524 | I11: 48.279525 | J11: 13.794613 | K11: 26.54 | L11: 55.7 | M11: 50.511959
A12: Elektriciteit | B12: Campusgebouw | C12: 77 | D12: 90.43692 | E12: 33.209698 | F12: 57.651789 | G12: 103.83469 | H12: 87.292188 | I12: 93.754385 | J12: 36.618934 | K12: 58.36257 | L12: 106.60064 | M12: 90.514866
A13: Elektriciteit | B13: Cultuurhuis | C13: 471 | D13: 55.197331 | E13: 23.269333 | F13: 38.176837 | G13: 76.240041 | H13: 58.410568 | I13: 57.724765 | J13: 24.489783 | K13: 41.47619 | L13: 79.158671 | M13: 60.328304
... A15: Elektriciteit | B15: Gebedshuis | C15: 3046 | D15: 14.500923 | E15: 8.0534091 | F15: 11.664603 | G15: 17.805216 | H15: 15.17283 | I15: 15.673385 | J15: 8.4042086 | K15: 12.45683 | L15: 19.366627 | M15: 16.75417
A16: Elektriciteit | B16: Gebouw bij militaire inrichting
A17: Elektriciteit | B17: Gebouw bij spooremplacement | C17: 33 | D17: 98.092191 | F17: 70.501859 | H17: 61.53729 | I17: 99.143202 | K17: 70.501859 | M17: 61.692036
A18: Elektriciteit | B18: Gebouw bij vliegveld of luchthaven | C18: 99 | D18: 59.027167 | E18: 12.723682 | F18: 34.383704 | G18: 74.690879 | H18: 51.8524 | I18: 62.326617 | J18: 14.209139 | K18: 36.198577 | L18: 76.65629 | M18: 53.725905
A19: Elektriciteit | B19: Gebouw in landelijk gebied voor industrie (geen landbouwactiviteiten geregistreerd) | C19: 2153 | D19: 42.08437 | E19: 11.878183 | F19: 23.092369 | G19: 47.477099 | H19: 38.8843 | I19: 47.835001 | J19: 13.125 | K19: 26.32 | L19: 53.44 | M19: 46.416378
A20: Elektriciteit | B20: Gebouw in stedelijk gebied met industriefunctie | C20: 8423 | D20: 54.024911 | E20: 13.067183 | F20: 25.465909 | G20: 53.61757 | H20: 47.565607 | I20: 56.973089 | J20: 13.878727 | K20: 27.249052 | L20: 57.343483 | M20: 50.189368
A21: Elektriciteit | B21: Gebouw op snelwegverzorgingsplaats | C21: 115 | D21: 578.0247 | E21: 272.93248 | F21: 599.46296 | G21: 823.4282 | H21: 338.76023 | I21: 585.29902 | J21: 285.59786 | K21: 601.47451 | L21: 830.44152 | M21: 346.81553
A22: Elektriciteit | B22: Gebouw op vakantiepark | C22: 31511 | D22: 24.372591 | E22: 11.279056 | F22: 16.851064 | G22: 26.260572 | H22: 30.370797 | I22: 26.502258 | J22: 11.6755 | K22: 17.666667 | L22: 28.25 | M22: 33.311897
A23: Elektriciteit | B23: Gebouw voor landbouwactiviteiten | C23: 243 | D23: 73.462082 | E23: 14.756894 | F23: 30.282332 | G23: 72.242045 | H23: 41.06561 | I23: 92.546388 | J23: 16.218351 | K23: 33.655714 | L23: 82.562266 | M23: 49.802039
A24: Elektriciteit | B24: Groothandel op bedrijventerrein | C24: 175 | D24: 31.547362 | E24: 14.904844 | F24: 24.303426 | G24: 40.077149 | H24: 27.745654 | I24: 34.819008 | J24: 15.499308 | K24: 27.986047 | L24: 43.545643 | M24: 30.350393
A25: Elektriciteit | B25: Hotel (of ander groot logiesgebouw) | C25: 2075 | D25: 68.67127 | E25: 26.800616 | F25: 53.711 | G25: 99.877978 | H25: 75.743798 | I25: 70.62765 | J25: 28.486454 | K25: 55.967153 | L25: 102.12329 | M25: 77.011842
A26: Elektriciteit | B26: IJsbaan | C26: 90 | D26: 23.167575 | E26: 9.5358252 | F26: 15.490097 | G26: 29.177976 | H26: 71.361212 | I26: 26.398302 | J26: 9.7943237 | K26: 18.304507 | L26: 30.458759 | M26: 73.100413
A27: Elektriciteit | B27: Kantoorpand algemeen | C27: 16960 | D27: 45.338829 | E27: 20.105925 | F27: 34.78474 | G27: 58.475901 | H27: 52.023503 | I27: 49.397836 | J27: 21.689857 | K27: 37.414237 | L27: 62.113614 | M27: 54.251612
A28: Elektriciteit | B28: Kinderopvang (gebouw) | C28: 1430 | D28: 31.902852 | E28: 19.374967 | F28: 28.124833 | G28: 38.328907 | H28: 30.845218 | I28: 33.544385 | J28: 20.572632 | K28: 29.401907 | L28: 39.980737 | M28: 32.514417
A29: Elektriciteit | B29: Koelhuis | C29: 73 | D29: 292.90687 | E29: 90.599115 | F29: 197.44176 | G29: 366.52723 | H29: 265.6562 | I29: 307.87381 | J29: 117.33982 | K29: 220.27972 | L29: 376.18369 | M29: 277.83532
A30: Elektriciteit | B30: MBO-gebouw
A31: Elektriciteit | B31: Meergezinswoning met andere functie of combinatie van functies | C31: 1806 | D31: 40.575878 | E31: 17.399695 | F31: 28.659238 | G31: 49.748075 | H31: 38.907729 | I31: 42.626409 | J31: 18.332825 | K31: 30.179136 | L31: 53.464655 | M31: 40.488494
A32: Elektriciteit | B32: Meergezinswoning met cafe of restaurant | C32: 1101 | D32: 95.222497 | E32: 35.604651 | F32: 80.424242 | G32: 136.65687 | H32: 81.81319 | I32: 96.498539 | J32: 36.970706 | K32: 81.403743 | L32: 138.50143 | M32: 83.274677
A33: Elektriciteit | B33: Meergezinswoning met winkel | C33: 2896 | D33: 47.907427 | E33: 20.777087 | F33: 35.104001 | G33: 60.441108 | H33: 43.920362 | I33: 49.104564 | J33: 21.502609 | K33: 36.590948 | L33: 62.042599 | M33: 45.101151
A34: Elektriciteit | B34: Meergezinswoning met winkels en horeca | C34: 300 | D34: 49.766921 | E34: 21.445347 | F34: 36.504855 | G34: 61.378035 | H34: 47.216108 | I34: 51.590621 | J34: 21.811813 | K34: 38.249067 | L34: 62.88068 | M34: 48.618073
A35: Elektriciteit | B35: Meergezinswoning met woonzorgeenheden | C35: 97 | D35: 33.928171 | E35: 20.791367 | F35: 32.327869 | G35: 42.792553 | H35: 38.028711 | I35: 37.064876 | J35: 22.1562 | K35: 33.931646 | L35: 45.568238 | M35: 43.528169
A36: Elektriciteit | B36: Middelbare school | C36: 1021 | D36: 35.673439 | E36: 21.614002 | F36: 30.138473 | G36: 42.884391 | H36: 33.269584 | I36: 40.025211 | J36: 24.802436 | K36: 34.214104 | L36: 48.139881 | M36: 37.457035
A37: Elektriciteit | B37: Nutsgebouw (elektriciteit)
A38: Elektriciteit | B38: Nutsgebouw (water) | C38: 30 | D38: 349.41277 | F38: 30.947697 | H38: 154.50569 | I38: 632.29356 | K38: 42.236135 | M38: 598.79671
A39: Elektriciteit | B39: Overig gebouw met maatschappelijke functie | C39: 1034 | D39: 36.665048 | E39: 8.2813574 | F39: 14.604783 | G39: 38.630805 | H39: 51.55256 | I39: 38.170508 | J39: 8.3718456 | K39: 15.04107 | L39: 41.004956 | M39: 54.538067
A40: Elektriciteit | B40: Overig gebouw met recreatiefunctie | C40: 60 | D40: 127.4163 | E40: 38.118734 | F40: 91.2474 | G40: 193.52107 | H40: 184.48515 | I40: 131.18682 | J40: 40.384499 | K40: 91.2474 | L40: 193.52107 | M40: 189.50859
A41: Elektriciteit | B41: Overig onderwijsgebouw | C41: 2745 | D41: 29.400913 | E41: 15.093533 | F41: 22.390262 | G41: 35.580488 | H41: 34.900069 | I41: 31.214664 | J41: 15.820679 | K41: 23.543288 | L41: 37.674834 | M41: 36.671177
A42: Elektriciteit | B42: Overig overheidsgebouw | C42: 732 | D42: 74.241943 | E42: 37.03158 | F42: 60.070011 | G42: 90.066487 | H42: 65.622762 | I42: 77.566865 | J42: 39.423949 | K42: 63.995194 | L42: 95.060041 | M42: 67.906878
A43: Elektriciteit | B43: Overig sportgebouw | C43: 6216 | D43: 50.981042 | E43: 18.156021 | F43: 34.829887 | G43: 64.802815 | H43: 49.811538 | I43: 56.833689 | J43: 19.935958 | K43: 39.425065 | L43: 72.94462 | M43: 54.617318
A44: Elektriciteit | B44: Overig zorggebouw | C44: 2879 | D44: 54.755379 | E44: 24.988911 | F44: 42.288991 | G44: 70.963626 | H44: 61.861199 | I44: 58.752575 | J44: 27.036067 | K44: 47.314777 | L44: 76.538032 | M44: 65.218047
A45: Elektriciteit | B45: Overige utiliteitsbouw | C45: 2954 | D45: 81.682809 | E45: 14.272712 | F45: 29.564664 | G45: 73.18038 | H45: 52.255079 | I45: 85.99571 | J45: 15.051552 | K45: 31.461829 | L45: 77.044251 | M45: 54.413476
A46: Elektriciteit | B46: Pand met winkel en kantoor- en/of bijeenkomstfunctie | C46: 621 | D46: 65.745955 | E46: 22.901537 | F46: 41.127869 | G46: 78.844828 | H46: 56.522509 | I46: 67.773692 | J46: 24.304451 | K46: 43.422515 | L46: 81.711313 | M46: 58.607387
A47: Elektriciteit | B47: Penitentiaire inrichting | C47: 22 | D47: 144.48054 | F47: 83.882755 | H47: 124.34373 | I47: 149.83176 | K47: 83.882755 | M47: 125.8542
A48: Elektriciteit | B48: Praktijk- of zorgwoning | C48: 1558 | D48: 37.450221 | E48: 19.3689 | F48: 31.156068 | G48: 48.16701 | H48: 37.898239 | I48: 41.026968 | J48: 21.918485 | K48: 34.271966 | L48: 52.601223 | M48: 40.755725
A49: Elektriciteit | B49: Productie-installatie
A50: Elektriciteit | B50: Restaurant of cafégebouw | C50: 3805 | D50: 245.94603 | E50: 111.43046 | F50: 195.24752 | G50: 318.08571 | H50: 190.95295 | I50: 247.72719 | J50: 112.78039 | K50: 197.43151 | L50: 319.47432 | M50: 192.27715
A51: Elektriciteit | B51: School voor speciaal onderwijs | C51: 461 | D51: 27.551103 | E51: 16.941791 | F51: 23.761538 | G51: 32.129403 | H51: 26.004304 | I51: 30.223426 | J51: 18.514113 | K51: 25.526119 | L51: 36.59146 | M51: 28.758455
A52: Elektriciteit | B52: Schoolverzamelgebouw | C52: 85 | D52: 35.86465 | E52: 20.928974 | F52: 29.010367 | G52: 46.200599 | H52: 34.466351 | I52: 40.331591 | J52: 22.719557 | K52: 36.665369 | L52: 53.054534 | M52: 38.100206
A53: Elektriciteit | B53: Tuincentrum | C53: 356 | D53: 36.28207 | E53: 17.065539 | F53: 28.128016 | G53: 48.100099 | H53: 31.000175 | I53: 39.670042 | J53: 19.458662 | K53: 31.63165 | L53: 49.460228 | M53: 34.389821
A54: Elektriciteit | B54: Vakantiewoning buiten vakantiepark | C54: 4111 | D54: 31.462184 | E54: 12.465891 | F54: 20.435644 | G54: 38.147186 | H54: 34.821657 | I54: 34.297571 | J54: 12.823636 | K54: 21.537415 | L54: 41.042683 | M54: 37.410347
A55: Elektriciteit | B55: Winkelpand | C55: 19309 | D55: 88.72366 | E55: 24.17759 | F55: 49.09458 | G55: 107.71871 | H55: 71.837042 | I55: 90.873162 | J55: 25.37193 | K55: 50.441176 | L55: 109.84 | M55: 74.911098
A56: Elektriciteit | B56: Woning met andere functie of combinatie van functies | C56: 4337 | D56: 56.293682 | E56: 19.437192 | F56: 35.305 | G56: 69.915746 | H56: 51.186488 | I56: 59.37045 | J56: 21.18251 | K56: 37.814103 | L56: 74.394068 | M56: 53.968742
A57: Elektriciteit | B57: Woning met cafe of restaurant | C57: 6959 | D57: 116.48863 | E57: 50.094554 | F57: 96.623729 | G57: 159.09443 | H57: 94.253025 | I57: 117.92515 | J57: 51.051709 | K57: 98.163588 | L57: 161.08206 | M57: 95.596593
A58: Elektriciteit | B58: Woning met winkel | C58: 13816 | D58: 52.473338 | E58: 19.737756 | F58: 34.204053 | G58: 62.1093 | H58: 47.755185 | I58: 54.524697 | J58: 21.328995 | K58: 36.070992 | L58: 64.907067 | M58: 49.75608
A59: Elektriciteit | B59: Wooncomplex met andere functie of combinatie van functies | C59: 857 | D59: 47.760566 | E59: 28.422503 | F59: 42.503325 | G59: 61.939241 | H59: 47.509792 | I59: 50.410346 | J59: 30.809313 | K59: 45.302733 | L59: 64.524702 | M59: 49.704277
A60: Elektriciteit | B60: Wooncomplex met winkels en/of horeca | C60: 196 | D60: 49.896461 | E60: 26.914117 | F60: 41.58784 | G60: 65.138205 | H60: 48.299612 | I60: 52.042321 | J60: 28.231589 | K60: 45.416531 | L60: 66.833456 | M60: 50.353567
A61: Elektriciteit | B61: Woonzorgcomplex | C61: 961 | D61: 58.785319 | E61: 32.998879 | F61: 48.349212 | G61: 71.783019 | H61: 61.638583 | I61: 61.810369 | J61: 35.419608 | K61: 51.444174 | L61: 75.640872 | M61: 65.077595
... A66: Elektriciteit | B66: Zwembad | C66: 418 | D66: 220.18598 | E66: 81.764548 | F66: 134.80618 | G66: 236.64059 | H66: 129.6002 | I66: 232.33637 | J66: 86.951689 | K66: 150.2511 | L66: 248.37561 | M66: 137.49698

Sheet elek_kental_subsets_2022
A1: Energiedrager | B1: Gebouwtype | C1: Categorie zonnestroom en teruglevering | D1: Aantal panden | E1: Aandeel panden per gebouwtype | F1: Gemiddelde kental (kWh/m2) | G1: Q1 kental (kWh/m2) | H1: Mediaan kental (kWh/m2) | I1: Q3 kental (kWh/m2) | J1: Gewogen gemiddelde kental (kWh/m2) | K1: Gemiddelde kental inclusief eigenverbruik zonnestroom (kWh/m2) | L1: Q1 kental inclusief eigenverbruik zonnestroom (kWh/m2) | M1: Mediaan kental inclusief eigenverbruik zonnestroom (kWh/m2) | N1: Q3 kental inclusief eigenverbruik zonnestroom (kWh/m2) | O1: Gewogen gemiddelde kental inclusief eigenverbruik zonnestroom (kWh/m2)
A2: Elektriciteit | B2: Basisschool | C2: pand met zonPV en andere eigen opwek en teruglevering | D2: 123 | E2: 0.025 | F2: 21.571892 | G2: 10.035432 | H2: 16.66087 | I2: 26.550137 | J2: 22.743168 | K2: 25.697837 | L2: 12.265564 | M2: 19.42427 | N2: 32.400126 | O2: 26.074858
A3: Elektriciteit | B3: Basisschool | C3: pand met zonPV en teruglevering | D3: 1490 | E3: 0.309 | F3: 23.609112 | G3: 12.625022 | H3: 18.802251 | I3: 31.060234 | J3: 25.904759 | K3: 34.485025 | L3: 19.828515 | M3: 28.033384 | N3: 44.455782 | O3: 35.512518
A4: Elektriciteit | B4: Basisschool | C4: pand zonder zonPV met andere eigen opwek | D4: 204 | E4: 0.042 | F4: 26.723563 | G4: 14.567515 | H4: 22.855728 | I4: 34.522841 | J4: 29.610381
A5: Elektriciteit | B5: Basisschool | C5: pand zonder zonPV zonder andere eigen opwek | D5: 3011 | E5: 0.624 | F5: 25.447414 | G5: 16.647197 | H5: 21.756125 | I5: 30.002957 | J5: 26.006457
A6: Elektriciteit | B6: Bedrijfshal algemeen (geen LISA-informatie) | C6: pand met zonPV en andere eigen opwek en teruglevering | D6: 337 | E6: 0.018 | F6: 32.751236 | G6: 9.4935673 | H6: 18.763274 | I6: 35.264706 | J6: 34.044466 | K6: 50.207158 | L6: 18.646273 | M6: 32.479611 | N6: 53.956892 | O6: 60.506654
A7: Elektriciteit | B7: Bedrijfshal algemeen (geen LISA-informatie) | C7: pand met zonPV en teruglevering | D7: 2158 | E7: 0.113 | F7: 40.316625 | G7: 12.075789 | H7: 21.715674 | I7: 43.133004 | J7: 47.989467 | K7: 59.300652 | L7: 18.63804 | M7: 33.983381 | N7: 66.389053 | O7: 66.350558
A8: Elektriciteit | B8: Bedrijfshal algemeen (geen LISA-informatie) | C8: pand zonder zonPV met andere eigen opwek | D8: 387 | E8: 0.02 | F8: 43.430697 | G8: 11.045122 | H8: 21.313876 | I8: 43.91755 | J8: 44.001508
A9: Elektriciteit | B9: Bedrijfshal algemeen (geen LISA-informatie) | C9: pand zonder zonPV zonder andere eigen opwek | D9: 16204 | E9: 0.849 | F9: 35.928069 | G9: 10.477298 | H9: 19.595844 | I9: 38.709216 | J9: 40.24611
A10: Elektriciteit | B10: Bedrijfshal algemeen (met LISA-informatie) | C10: pand met zonPV en andere eigen opwek en teruglevering | D10: 249 | E10: 0.02 | F10: 37.50225 | G10: 15.056447 | H10: 24.469694 | I10: 44.651051 | J10: 41.078367 | K10: 54.966383 | L10: 21.12461 | M10: 35.839568 | N10: 66.338869 | O10: 70.263989
A11: Elektriciteit | B11: Bedrijfshal algemeen (met LISA-informatie) | C11: pand met zonPV en teruglevering | D11: 2272 | E11: 0.18 | F11: 42.864109 | G11: 14.257312 | H11: 24.721092 | I11: 46.333363 | J11: 47.43185 | K11: 62.433477 | L11: 21.786124 | M11: 37.230908 | N11: 69.677309 | O11: 63.975457
A12: Elektriciteit | B12: Bedrijfshal algemeen (met LISA-informatie) | C12: pand zonder zonPV met andere eigen opwek | D12: 283 | E12: 0.022 | F12: 43.853581 | G12: 12.187852 | H12: 22.527473 | I12: 46.392593 | J12: 43.445807
A13: Elektriciteit | B13: Bedrijfshal algemeen (met LISA-informatie) | C13: pand zonder zonPV zonder andere eigen opwek | D13: 9809 | E13: 0.778 | F13: 45.451028 | G13: 14.52 | H13: 25.570009 | I13: 47.11 | J13: 46.565294
A14: Elektriciteit | B14: Bedrijfshal met logistieke activiteiten | C14: pand met zonPV en andere eigen opwek en teruglevering | D14: 163 | E14: 0.029 | F14: 30.194454 | G14: 15.416353 | H14: 21.813687 | I14: 35.003184 | J14: 37.697741 | K14: 40.873755 | L14: 19.153361 | M14: 27.727476 | N14: 46.82533 | O14: 60.848975
A15: Elektriciteit | B15: Bedrijfshal met logistieke activiteiten | C15: pand met zonPV en teruglevering | D15: 1447 | E15: 0.258 | F15: 37.801285 | G15: 15.792106 | H15: 24.678679 | I15: 41.07713 | J15: 42.272662 | K15: 51.614262 | L15: 21.761508 | M15: 32.849887 | N15: 54.89704 | O15: 54.928878
A16: Elektriciteit | B16: Bedrijfshal met logistieke activiteiten | C16: pand zonder zonPV met andere eigen opwek | D16: 180 | E16: 0.032 | F16: 35.897899 | G16: 16.673363 | H16: 24.976776 | I16: 37.116664 | J16: 39.393189
A17: Elektriciteit | B17: Bedrijfshal met logistieke activiteiten | C17: pand zonder zonPV zonder andere eigen opwek | D17: 3822 | E17: 0.681 | F17: 39.400791 | G17: 15.856842 | H17: 25.960918 | I17: 43.760644 | J17: 39.622908
A18: Elektriciteit | B18: Bedrijfshal met maakindustrie en andere economische activiteiten | C18: pand met zonPV en andere eigen opwek en teruglevering | D18: 125 | E18: 0.025 | F18: 28.915384 | G18: 13.646588 | H18: 20.996774 | I18: 33.412879 | J18: 29.216078 | K18: 40.716778 | L18: 18.883361 | M18: 27.884788 | N18: 45.51409 | O18: 43.923553
A19: Elektriciteit | B19: Bedrijfshal met maakindustrie en andere economische activiteiten | C19: pand met zonPV en teruglevering | D19: 1233 | E19: 0.247 | F19: 38.573396 | G19: 15.294938 | H19: 25.11241 | I19: 42.669 | J19: 48.128501 | K19: 54.435857 | L19: 22.061685 | M19: 36.036036 | N19: 61.899267 | O19: 63.348505
A20: Elektriciteit | B20: Bedrijfshal met maakindustrie en andere economische activiteiten | C20: pand zonder zonPV met andere eigen opwek | D20: 132 | E20: 0.026 | F20: 35.658239 | G20: 13.320803 | H20: 23.808974 | I20: 45.295593 | J20: 51.896785
A21: Elektriciteit | B21: Bedrijfshal met maakindustrie en andere economische activiteiten | C21: pand zonder zonPV zonder andere eigen opwek | D21: 3495 | E21: 0.701 | F21: 43.588592 | G21: 16.226499 | H21: 26.952966 | I21: 48.493289 | J21: 52.447021
A22: Elektriciteit | B22: Bedrijfshal met maakindustrie en logistieke activiteiten | C22: pand met zonPV en andere eigen opwek en teruglevering | D22: 218 | E22: 0.02 | F22: 35.223324 | G22: 12.12433 | H22: 19.488001 | I22: 38.554762 | J22: 42.651784 | K22: 51.047079 | L22: 18.865338 | M22: 30.373146 | N22: 58.229354 | O22: 70.698273
A23: Elektriciteit | B23: Bedrijfshal met maakindustrie en logistieke activiteiten | C23: pand met zonPV en teruglevering | D23: 2019 | E23: 0.189 | F23: 45.193796 | G23: 13.23835 | H23: 22.488462 | I23: 46.205613 | J23: 57.334238 | K23: 69.167721 | L23: 21.429791 | M23: 35.086429 | N23: 69.071888 | O23: 75.774394
A24: Elektriciteit | B24: Bedrijfshal met maakindustrie en logistieke activiteiten | C24: pand zonder zonPV met andere eigen opwek | D24: 211 | E24: 0.02 | F24: 42.931809 | G24: 13.427758 | H24: 25.173455 | I24: 45.973404 | J24: 53.753705
A25: Elektriciteit | B25: Bedrijfshal met maakindustrie en logistieke activiteiten | C25: pand zonder zonPV zonder andere eigen opwek | D25: 8228 | E25: 0.771 | F25: 45.045526 | G25: 14.803574 | H25: 25.22924 | I25: 45.176817 | J25: 50.818337
A26: Elektriciteit | B26: Bedrijfswoning | C26: pand met zonPV en andere eigen opwek en teruglevering | D26: 3715 | E26: 0.055 | F26: 81.653812 | G26: 18.205143 | H26: 36.263158 | I26: 97.778125 | J26: 54.134749 | K26: 200.11561 | L26: 25.365785 | M26: 51.210375 | N26: 143.39387 | O26: 119.85795
A27: Elektriciteit | B27: Bedrijfswoning | C27: pand met zonPV en teruglevering | D27: 20518 | E27: 0.304 | F27: 66.58287 | G27: 15.606308 | H27: 28.788054 | I27: 66.256684 | J27: 50.423075 | K27: 102.5618 | L27: 22.797156 | M27: 42.151966 | N27: 97.308514 | O27: 76.266894
A28: Elektriciteit | B28: Bedrijfswoning | C28: pand zonder zonPV met andere eigen opwek | D28: 1402 | E28: 0.021 | F28: 87.080712 | G28: 17.854783 | H28: 38.841695 | I28: 102.82266 | J28: 62.440143
A29: Elektriciteit | B29: Bedrijfswoning | C29: pand zonder zonPV zonder andere eigen opwek | D29: 41847 | E29: 0.62 | F29: 55.426981 | G29: 14.796897 | H29: 26.038647 | I29: 52.882926 | J29: 44.914153
A30: Elektriciteit | B30: Bijeenkomstgebouw (niet nader ingedeeld) | C30: pand met zonPV en andere eigen opwek en teruglevering | D30: 133 | E30: 0.014 | F30: 35.23632 | G30: 11.030211 | H30: 20.385638 | I30: 36.141414 | J30: 26.860802 | K30: 52.383637 | L30: 18.078058 | M30: 31.792059 | N30: 48.631485 | O30: 41.789692
A31: Elektriciteit | B31: Bijeenkomstgebouw (niet nader ingedeeld) | C31: pand met zonPV en teruglevering | D31: 1356 | E31: 0.147 | F31: 38.915864 | G31: 12.993066 | H31: 22.40186 | I31: 43.491702 | J31: 39.531386 | K31: 55.254347 | L31: 19.32962 | M31: 34.13451 | N31: 64.26092 | O31: 52.738891
A32: Elektriciteit | B32: Bijeenkomstgebouw (niet nader ingedeeld) | C32: pand zonder zonPV met andere eigen opwek | D32: 145 | E32: 0.016 | F32: 57.746136 | G32: 15.848185 | H32: 30.800915 | I32: 70.04118 | J32: 51.860287
A33: Elektriciteit | B33: Bijeenkomstgebouw (niet nader ingedeeld) | C33: pand zonder zonPV zonder andere eigen opwek | D33: 7571 | E33: 0.822 | F33: 47.001185 | G33: 12.849359 | H33: 24.916335 | I33: 53.96667 | J33: 49.975205
A34: Elektriciteit | B34: Gebouw in landelijk gebied voor industrie (geen landbouwactiviteiten geregistreerd) | C34: pand met zonPV en andere eigen opwek en teruglevering | D34: 195 | E34: 0.04 | F34: 40.44642 | G34: 11.903544 | H34: 20.377826 | I34: 44.547141 | J34: 36.591461 | K34: 88.822884 | L34: 17.781252 | M34: 34.795384 | N34: 79.039308 | O34: 77.333641
A35: Elektriciteit | B35: Gebouw in landelijk gebied voor industrie (geen landbouwactiviteiten geregistreerd) | C35: pand met zonPV en teruglevering | D35: 1164 | E35: 0.241 | F35: 50.114631 | G35: 14.500022 | H35: 28.374506 | I35: 59.004656 | J35: 51.41122 | K35: 83.285782 | L35: 22.90434 | M35: 45.950954 | N35: 93.653281 | O35: 77.469631
A36: Elektriciteit | B36: Gebouw in landelijk gebied voor industrie (geen landbouwactiviteiten geregistreerd) | C36: pand zonder zonPV met andere eigen opwek | D36: 125 | E36: 0.026 | F36: 55.130214 | G36: 13.524482 | H36: 26.916758 | I36: 56.193324 | J36: 52.749532
A37: Elektriciteit | B37: Gebouw in landelijk gebied voor industrie (geen landbouwactiviteiten geregistreerd) | C37: pand zonder zonPV zonder andere eigen opwek | D37: 3339 | E37: 0.692 | F37: 43.576102 | G37: 11.623385 | H37: 23.444444 | I37: 48.210487 | J37: 44.67824
A38: Elektriciteit | B38: Gebouw in stedelijk gebied met industriefunctie | C38: pand met zonPV en andere eigen opwek en teruglevering | D38: 224 | E38: 0.017 | F38: 37.70551 | G38: 11.779081 | H38: 20.635697 | I38: 36.934152 | J38: 49.908316 | K38: 47.684273 | L38: 16.874624 | M38: 26.918249 | N38: 50.167672 | O38: 57.022775
A39: Elektriciteit | B39: Gebouw in stedelijk gebied met industriefunctie | C39: pand met zonPV en teruglevering | D39: 1990 | E39: 0.149 | F39: 49.124433 | G39: 13.956518 | H39: 24.832066 | I39: 49.384403 | J39: 53.123503 | K39: 69.662435 | L39: 21.496295 | M39: 37.627086 | N39: 72.698611 | O39: 67.557267
A40: Elektriciteit | B40: Gebouw in stedelijk gebied met industriefunctie | C40: pand zonder zonPV met andere eigen opwek | D40: 274 | E40: 0.021 | F40: 63.752591 | G40: 16.577312 | H40: 31.566077 | I40: 65.674256 | J40: 77.294567
A41: Elektriciteit | B41: Gebouw in stedelijk gebied met industriefunctie | C41: pand zonder zonPV zonder andere eigen opwek | D41: 10869 | E41: 0.814 | F41: 53.278639 | G41: 12.754647 | H41: 24.933333 | I41: 53.763872 | J41: 53.784255
A42: Elektriciteit | B42: Gebouw op vakantiepark | C42: pand met zonPV en andere eigen opwek en teruglevering | D42: 660 | E42: 0.018 | F42: 35.004337 | G42: 11.672481 | H42: 19.369624 | I42: 36.114604 | J42: 42.364443 | K42: 46.639161 | L42: 20.578956 | M42: 30.097643 | N42: 50.265115 | O42: 52.921862
A43: Elektriciteit | B43: Gebouw op vakantiepark | C43: pand met zonPV en teruglevering | D43: 4304 | E43: 0.117 | F43: 36.598523 | G43: 13.698295 | H43: 23.067424 | I43: 44.533766 | J43: 46.615113 | K43: 56.860225 | L43: 21.435652 | M43: 37.047646 | N43: 70.091486 | O43: 68.023124
A44: Elektriciteit | B44: Gebouw op vakantiepark | C44: pand zonder zonPV met andere eigen opwek | D44: 673 | E44: 0.018 | F44: 30.975839 | G44: 12.855263 | H44: 20.454545 | I44: 34.855769 | J44: 39.55066
A45: Elektriciteit | B45: Gebouw op vakantiepark | C45: pand zonder zonPV zonder andere eigen opwek | D45: 31226 | E45: 0.847 | F45: 24.744645 | G45: 11.220693 | H45: 16.763665 | I45: 26.5 | J45: 29.893346
A46: Elektriciteit | B46: Gebouw voor landbouwactiviteiten | C46: pand met zonPV en andere eigen opwek en teruglevering | D46: 155 | E46: 0.063 | F46: 134.86436 | G46: 25.143274 | H46: 58.825 | I46: 194.34627 | J46: 90.88489 | K46: 190.87032 | L46: 33.101789 | M46: 86.340641 | N46: 255.19355 | O46: 115.98591
A47: Elektriciteit | B47: Gebouw voor landbouwactiviteiten | C47: pand met zonPV en teruglevering | D47: 720 | E47: 0.293 | F47: 95.007839 | G47: 21.411024 | H47: 42.70285 | I47: 102.80842 | J47: 72.073375 | K47: 139.17139 | L47: 30.913177 | M47: 65.090297 | N47: 153.84668 | O47: 99.41746
A48: Elektriciteit | B48: Gebouw voor landbouwactiviteiten | C48: pand zonder zonPV met andere eigen opwek | D48: 215 | E48: 0.087 | F48: 225.64101 | G48: 46.864165 | H48: 177.56663 | I48: 362.98626 | J48: 147.48977
A49: Elektriciteit | B49: Gebouw voor landbouwactiviteiten | C49: pand zonder zonPV zonder andere eigen opwek | D49: 1369 | E49: 0.557 | F49: 98.367839 | G49: 18.948113 | H49: 41.384615 | I49: 113.90603 | J49: 63.132905
A50: Elektriciteit | B50: Hotel (of ander groot logiesgebouw) | C50: pand met zonPV en andere eigen opwek en teruglevering | D50: 30 | E50: 0.012 | F50: 61.827448 | H50: 44.00796 | J50: 88.365039 | K50: 70.651888 | M50: 48.853515 | O50: 94.335345
A51: Elektriciteit | B51: Hotel (of ander groot logiesgebouw) | C51: pand met zonPV en teruglevering | D51: 314 | E51: 0.126 | F51: 58.971442 | G51: 20.064863 | H51: 42.613425 | I51: 81.846839 | J51: 82.568546 | K51: 74.568967 | L51: 31.239468 | M51: 58.203275 | N51: 98.610018 | O51: 90.607757
A52: Elektriciteit | B52: Hotel (of ander groot logiesgebouw) | C52: pand zonder zonPV met andere eigen opwek | D52: 66 | E52: 0.026 | F52: 65.705004 | G52: 27.065066 | H52: 46.984638 | I52: 92.976882 | J52: 64.478877
A53: Elektriciteit | B53: Hotel (of ander groot logiesgebouw) | C53: pand zonder zonPV zonder andere eigen opwek | D53: 2085 | E53: 0.836 | F53: 68.7876 | G53: 26.705645 | H53: 54.03125 | I53: 100.63038 | J53: 74.281081
A54: Elektriciteit | B54: Kinderopvang (gebouw) | C54: pand met zonPV en andere eigen opwek en teruglevering | D54: 14 | E54: 0.009 | F54: 36.290566 | J54: 34.51895 | K54: 44.714072 | O54: 44.253216
A55: Elektriciteit | B55: Kinderopvang (gebouw) | C55: pand met zonPV en teruglevering | D55: 180 | E55: 0.117 | F55: 28.668772 | G55: 15.288061 | H55: 22.385839 | I55: 35.12819 | J55: 29.361691 | K55: 43.146465 | L55: 23.546617 | M55: 34.771032 | N55: 51.865221 | O55: 42.18741
A56: Elektriciteit | B56: Kinderopvang (gebouw) | C56: pand zonder zonPV met andere eigen opwek | D56: 32 | E56: 0.021 | F56: 26.654877 | H56: 22.353092 | J56: 24.740777
A57: Elektriciteit | B57: Kinderopvang (gebouw) | C57: pand zonder zonPV zonder andere eigen opwek | D57: 1318 | E57: 0.854 | F57: 32.93112 | G57: 20.438784 | H57: 28.931245 | I57: 38.938929 | J57: 31.448585
A58: Elektriciteit | B58: Meergezinswoning met andere functie of combinatie van functies | C58: pand met zonPV en andere eigen opwek en teruglevering | D58: 284 | E58: 0.016 | F58: 43.841681 | G58: 17.576297 | H58: 28.245433 | I58: 52.46344 | J58: 36.511943 | K58: 56.753863 | L58: 21.320848 | M58: 33.671799 | N58: 64.362722 | O58: 46.175699
A59: Elektriciteit | B59: Meergezinswoning met andere functie of combinatie van functies | C59: pand met zonPV en teruglevering | D59: 2532 | E59: 0.143 | F59: 37.04767 | G59: 16.04282 | H59: 25.242917 | I59: 42.546209 | J59: 38.444375 | K59: 50.353361 | L59: 21.583939 | M59: 33.086719 | N59: 57.091582 | O59: 48.727895
A60: Elektriciteit | B60: Meergezinswoning met andere functie of combinatie van functies | C60: pand zonder zonPV met andere eigen opwek | D60: 394 | E60: 0.022 | F60: 40.594176 | G60: 19.821023 | H60: 28.689627 | I60: 48.673713 | J60: 46.465281
A61: Elektriciteit | B61: Meergezinswoning met andere functie of combinatie van functies | C61: pand zonder zonPV zonder andere eigen opwek | D61: 14490 | E61: 0.819 | F61: 36.019931 | G61: 17.767153 | H61: 25.787435 | I61: 39.896934 | J61: 37.606552
A62: Elektriciteit | B62: Meergezinswoning met winkels en horeca | C62: pand met zonPV en andere eigen opwek en teruglevering | D62: 25 | E62: 0.01 | F62: 45.609964 | H62: 31.508582 | J62: 69.623254 | K62: 50.166055 | M62: 37.728937 | O62: 72.094789
A63: Elektriciteit | B63: Meergezinswoning met winkels en horeca | C63: pand met zonPV en teruglevering | D63: 295 | E63: 0.115 | F63: 50.862455 | G63: 24.134387 | H63: 37.09073 | I63: 68.414324 | J63: 55.266996 | K63: 57.95505 | L63: 29.006727 | M63: 45.945406 | N63: 74.139001 | O63: 60.603299
A64: Elektriciteit | B64: Meergezinswoning met winkels en horeca | C64: pand zonder zonPV met andere eigen opwek | D64: 85 | E64: 0.033 | F64: 58.216943 | G64: 28.926667 | H64: 45.566667 | I64: 73.966229 | J64: 55.808199
A65: Elektriciteit | B65: Meergezinswoning met winkels en horeca | C65: pand zonder zonPV zonder andere eigen opwek | D65: 2151 | E65: 0.842 | F65: 55.792722 | G65: 25.026426 | H65: 40.497758 | I65: 73.532409 | J65: 55.883065
A66: Elektriciteit | B66: Middelbare school | C66: pand met zonPV en andere eigen opwek en teruglevering | D66: 19 | E66: 0.017 | F66: 41.271961 | J66: 35.245701 | K66: 47.086038 | O66: 39.936673
A67: Elektriciteit | B67: Middelbare school | C67: pand met zonPV en teruglevering | D67: 436 | E67: 0.398 | F67: 34.431997 | G67: 19.593672 | H67: 28.348343 | I67: 41.849584 | J67: 31.514566 | K67: 44.883313 | L67: 26.849034 | M67: 38.2492 | N67: 54.232314 | O67: 40.124839
A68: Elektriciteit | B68: Middelbare school | C68: pand zonder zonPV met andere eigen opwek | D68: 41 | E68: 0.037 | F68: 39.077596 | G68: 20.274296 | H68: 34.719092 | I68: 49.269809 | J68: 42.919924
A69: Elektriciteit | B69: Middelbare school | C69: pand zonder zonPV zonder andere eigen opwek | D69: 600 | E69: 0.547 | F69: 36.377844 | G69: 23.6392 | H69: 30.927417 | I69: 43.085102 | J69: 34.050208
A70: Elektriciteit | B70: Overig onderwijsgebouw | C70: pand met zonPV en andere eigen opwek en teruglevering | D70: 33 | E70: 0.011 | F70: 25.900225 | H70: 19.650602 | J70: 35.759976 | K70: 41.452371 | M70: 23.683566 | O70: 49.104341
A71: Elektriciteit | B71: Overig onderwijsgebouw | C71: pand met zonPV en teruglevering | D71: 450 | E71: 0.145 | F71: 31.376439 | G71: 14.08828 | H71: 22.169491 | I71: 40.114032 | J71: 36.926331 | K71: 43.594907 | L71: 19.932311 | M71: 33.512568 | N71: 56.374422 | O71: 45.393076
A72: Elektriciteit | B72: Overig onderwijsgebouw | C72: pand zonder zonPV met andere eigen opwek | D72: 64 | E72: 0.021 | F72: 27.42581 | G72: 14.041196 | H72: 20.209689 | I72: 32.813189 | J72: 34.714772
A73: Elektriciteit | B73: Overig onderwijsgebouw | C73: pand zonder zonPV zonder andere eigen opwek | D73: 2553 | E73: 0.824 | F73: 29.910139 | G73: 15.368966 | H73: 22.662313 | I73: 36.185966 | J73: 35.70881
A74: Elektriciteit | B74: Overig zorggebouw | C74: pand met zonPV en andere eigen opwek en teruglevering | D74: 30 | E74: 0.009 | F74: 54.560594 | H74: 36.621182 | J74: 80.733786 | K74: 61.836297 | M74: 47.841138 | O74: 84.869434
A75: Elektriciteit | B75: Overig zorggebouw | C75: pand met zonPV en teruglevering | D75: 670 | E75: 0.194 | F75: 51.218249 | G75: 25.225098 | H75: 40.677987 | I75: 63.666382 | J75: 63.425642 | K75: 70.818001 | L75: 38.787682 | M75: 60.085062 | N75: 85.634801 | O75: 76.894982
A76: Elektriciteit | B76: Overig zorggebouw | C76: pand zonder zonPV met andere eigen opwek | D76: 67 | E76: 0.019 | F76: 53.632559 | G76: 26.604514 | H76: 41.842251 | I76: 64.484757 | J76: 64.671981
A77: Elektriciteit | B77: Overig zorggebouw | C77: pand zonder zonPV zonder andere eigen opwek | D77: 2692 | E77: 0.778 | F77: 56.372422 | G77: 25.299037 | H77: 43.423917 | I77: 73.671244 | J77: 60.288738
A78: Elektriciteit | B78: Overige utiliteitsbouw | C78: pand met zonPV en andere eigen opwek en teruglevering | D78: 74 | E78: 0.018 | F78: 97.498689 | G78: 16.894397 | H78: 37.415598 | I78: 77.534615 | J78: 67.313686 | K78: 148.7286 | L78: 25.155511 | M78: 52.371746 | N78: 91.431316 | O78: 87.488197
A79: Elektriciteit | B79: Overige utiliteitsbouw | C79: pand met zonPV en teruglevering | D79: 475 | E79: 0.118 | F79: 79.318678 | G79: 16.000267 | H79: 33.969388 | I79: 74.530976 | J79: 48.16041 | K79: 121.051 | L79: 26.513667 | M79: 53.546512 | N79: 106.92629 | O79: 63.926167
A80: Elektriciteit | B80: Overige utiliteitsbouw | C80: pand zonder zonPV met andere eigen opwek | D80: 95 | E80: 0.024 | F80: 106.32403 | G80: 19.691232 | H80: 37.422222 | I80: 78.445 | J80: 45.138188
A81: Elektriciteit | B81: Overige utiliteitsbouw | C81: pand zonder zonPV zonder andere eigen opwek | D81: 3366 | E81: 0.839 | F81: 86.763759 | G81: 13.986553 | H81: 29.137586 | I81: 76.622842 | J81: 61.301979
A82: Elektriciteit | B82: Pand met winkel en kantoor- en/of bijeenkomstfunctie | C82: pand met zonPV en andere eigen opwek en teruglevering | D82: 20 | E82: 0.014 | F82: 65.621209 | H82: 48.191279 | J82: 71.422114 | K82: 72.996871 | M82: 53.411421 | O82: 78.982596
A83: Elektriciteit | B83: Pand met winkel en kantoor- en/of bijeenkomstfunctie | C83: pand met zonPV en teruglevering | D83: 144 | E83: 0.098 | F83: 61.301704 | G83: 21.862763 | H83: 36.993274 | I83: 70.471265 | J83: 67.521822 | K83: 76.562591 | L83: 32.283598 | M83: 54.779283 | N83: 89.742363 | O83: 79.246213
A84: Elektriciteit | B84: Pand met winkel en kantoor- en/of bijeenkomstfunctie | C84: pand zonder zonPV met andere eigen opwek | D84: 49 | E84: 0.033 | F84: 72.98811 | G84: 35.607099 | H84: 60.890884 | I84: 81.975369 | J84: 66.517451
A85: Elektriciteit | B85: Pand met winkel en kantoor- en/of bijeenkomstfunctie | C85: pand zonder zonPV zonder andere eigen opwek | D85: 1256 | E85: 0.855 | F85: 76.919862 | G85: 27.71753 | H85: 50.021553 | I85: 99.444513 | J85: 59.854684
A86: Elektriciteit | B86: Praktijk- of zorgwoning | C86: pand met zonPV en andere eigen opwek en teruglevering | D86: 159 | E86: 0.031 | F86: 25.884163 | G86: 14.380812 | H86: 22.587879 | I86: 34.141075 | J86: 26.503478 | K86: 34.084247 | L86: 19.663503 | M86: 29.284718 | N86: 44.621778 | O86: 34.249701
A87: Elektriciteit | B87: Praktijk- of zorgwoning | C87: pand met zonPV en teruglevering | D87: 1634 | E87: 0.322 | F87: 25.956213 | G87: 14.143899 | H87: 20.473084 | I87: 32.063146 | J87: 26.237062 | K87: 37.291722 | L87: 20.533009 | M87: 29.357556 | N87: 45.515196 | O87: 36.942274
A88: Elektriciteit | B88: Praktijk- of zorgwoning | C88: pand zonder zonPV met andere eigen opwek | D88: 86 | E88: 0.017 | F88: 32.108276 | G88: 17.206054 | H88: 29.253677 | I88: 37.781621 | J88: 31.075131
A89: Elektriciteit | B89: Praktijk- of zorgwoning | C89: pand zonder zonPV zonder andere eigen opwek | D89: 3198 | E89: 0.63 | F89: 32.547989 | G89: 17.221552 | H89: 26.255081 | I89: 41.424313 | J89: 33.646445
A90: Elektriciteit | B90: Vakantiewoning buiten vakantiepark | C90: pand met zonPV en andere eigen opwek en teruglevering | D90: 106 | E90: 0.02 | F90: 43.354734 | G90: 16.076058 | H90: 25.717758 | I90: 68.041667 | J90: 49.410302 | K90: 54.373823 | L90: 23.433688 | M90: 39.363238 | N90: 78.462697 | O90: 57.255974
A91: Elektriciteit | B91: Vakantiewoning buiten vakantiepark | C91: pand met zonPV en teruglevering | D91: 696 | E91: 0.129 | F91: 42.18375 | G91: 15.775636 | H91: 27.827233 | I91: 54.032969 | J91: 52.357118 | K91: 64.293477 | L91: 25.371366 | M91: 46.001348 | N91: 84.114865 | O91: 67.767022
A92: Elektriciteit | B92: Vakantiewoning buiten vakantiepark | C92: pand zonder zonPV met andere eigen opwek | D92: 81 | E92: 0.015 | F92: 28.158919 | G92: 12 | H92: 17.924242 | I92: 33.717949 | J92: 40.139186
A93: Elektriciteit | B93: Vakantiewoning buiten vakantiepark | C93: pand zonder zonPV zonder andere eigen opwek | D93: 4517 | E93: 0.836 | F93: 30.52214 | G93: 12.244898 | H93: 19.983871 | I93: 36.245614 | J93: 31.556882
A94: Elektriciteit | B94: Winkelpand | C94: pand met zonPV en andere eigen opwek en teruglevering | D94: 126 | E94: 0.006 | F94: 45.669734 | G94: 13.386822 | H94: 24.172758 | I94: 51.166582 | J94: 43.618392 | K94: 70.99805 | L94: 20.381556 | M94: 33.725668 | N94: 64.379099 | O94: 63.639869
A95: Elektriciteit | B95: Winkelpand | C95: pand met zonPV en teruglevering | D95: 1890 | E95: 0.089 | F95: 72.829076 | G95: 17.305094 | H95: 33.962846 | I95: 91.337206 | J95: 68.120505 | K95: 98.124882 | L95: 28.34952 | M95: 51.290159 | N95: 126.98643 | O95: 88.728977
A96: Elektriciteit | B96: Winkelpand | C96: pand zonder zonPV met andere eigen opwek | D96: 310 | E96: 0.015 | F96: 87.823806 | G96: 23.162548 | H96: 49.310216 | I96: 112.34752 | J96: 74.640428
A97: Elektriciteit | B97: Winkelpand | C97: pand zonder zonPV zonder andere eigen opwek | D97: 19026 | E97: 0.891 | F97: 92.076853 | G97: 25.332225 | H97: 51.205121 | I97: 113.41883 | J97: 75.490193
A98: Elektriciteit | B98: Woning met andere functie of combinatie van functies | C98: pand met zonPV en andere eigen opwek en teruglevering | D98: 529 | E98: 0.038 | F98: 38.09869 | G98: 14.050725 | H98: 23.691667 | I98: 39.615148 | J98: 33.241694 | K98: 57.570412 | L98: 19.882676 | M98: 30.445453 | N98: 50.609068 | O98: 48.919141
A99: Elektriciteit | B99: Woning met andere functie of combinatie van functies | C99: pand met zonPV en teruglevering | D99: 3670 | E99: 0.26 | F99: 35.444075 | G99: 14.191035 | H99: 22.178036 | I99: 38.679043 | J99: 39.63565 | K99: 49.710945 | L99: 20.101339 | M99: 31.579859 | N99: 54.997596 | O99: 51.464724
A100: Elektriciteit | B100: Woning met andere functie of combinatie van functies | C100: pand zonder zonPV met andere eigen opwek | D100: 267 | E100: 0.019 | F100: 47.490113 | G100: 16.52162 | H100: 30.467005 | I100: 60.402396 | J100: 61.195503
...

Sheet zonnestroom_kentallen_2022
A1: Energiedrager | B1: Gebouwtype | C1: Aantal panden | D1: Aantal panden met zonnestroomproductie | E1: Aandeel panden met zonnestroomproductie | F1: Gemiddelde zonnestroomproductie kental (kWh/m2) | G1: Gewogen gemiddelde zonnestroomproductie kental (kWh/m2)
A2: Elektriciteit | B2: Asielzoekerscentrum | C2: 65
A3: Elektriciteit | B3: Basisschool | C3: 4828 | D3: 1613 | E3: 0.334 | F3: 6.1717084 | G3: 5.6755803
A4: Elektriciteit | B4: Bedrijfshal algemeen (geen LISA-informatie) | C4: 19086 | D4: 2495 | E4: 0.131 | F4: 7.6705955 | G4: 11.094811
A5: Elektriciteit | B5: Bedrijfshal algemeen (met LISA-informatie) | C5: 12613 | D5: 2521 | E5: 0.2 | F5: 11.796682 | G5: 13.318211
A6: Elektriciteit | B6: Bedrijfshal met logistieke activiteiten | C6: 5612 | D6: 1610 | E6: 0.287 | F6: 9.457349 | G6: 11.162986
A7: Elektriciteit | B7: Bedrijfshal met maakindustrie en andere economische activiteiten | C7: 4985 | D7: 1358 | E7: 0.272 | F7: 9.3693887 | G7: 9.7811467
A8: Elektriciteit | B8: Bedrijfshal met maakindustrie en logistieke activiteiten | C8: 10676 | D8: 2237 | E8: 0.21 | F8: 18.310526 | G8: 13.691437
A9: Elektriciteit | B9: Bedrijfshal uitsluitend maakindustrie | C9: 19303 | D9: 4134 | E9: 0.214 | F9: 10.170967 | G9: 10.843461
A10: Elektriciteit | B10: Bedrijfswoning | C10: 67482 | D10: 24233 | E10: 0.359 | F10: 54.957838 | G10: 39.205825
A11: Elektriciteit | B11: Bijeenkomstgebouw (niet nader ingedeeld) | C11: 9205 | D11: 1489 | E11: 0.162 | F11: 5.278399 | G11: 4.3851285
A12: Elektriciteit | B12: Campusgebouw | C12: 109 | D12: 30 | E12: 0.275 | F12: 4.8358795 | G12: 2.9879598
A13: Elektriciteit | B13: Cultuurhuis | C13: 569 | D13: 106 | E13: 0.186 | F13: 4.0170912 | G13: 2.693078
A14: Elektriciteit | B14: Datacenter | C14: 82 | D14: 18 | E14: 0.22 | F14: 10.041113 | G14: 5.3148126
A15: Elektriciteit | B15: Gebedshuis | C15: 3564 | D15: 598 | E15: 0.168 | F15: 2.7122846 | G15: 3.0362
A16: Elektriciteit | B16: Gebouw bij militaire inrichting | C16: 13
A17: Elektriciteit | B17: Gebouw bij spooremplacement | C17: 67
A18: Elektriciteit | B18: Gebouw bij vliegveld of luchthaven | C18: 149 | D18: 30 | E18: 0.201
A19: Elektriciteit | B19: Gebouw in landelijk gebied voor industrie (geen landbouwactiviteiten geregistreerd) | C19: 4823 | D19: 1359 | E19: 0.282 | F19: 67.278748 | G19: 32.096336
A20: Elektriciteit | B20: Gebouw in stedelijk gebied met industriefunctie | C20: 13357 | D20: 2214 | E20: 0.166 | F20: 6.9478163 | G20: 8.7489797
A21: Elektriciteit | B21: Gebouw op snelwegverzorgingsplaats | C21: 132 | D21: 19 | E21: 0.144
A22: Elektriciteit | B22: Gebouw op vakantiepark | C22: 36863 | D22: 4964 | E22: 0.135 | F22: 10.941223 | G22: 11.147675
A23: Elektriciteit | B23: Gebouw voor landbouwactiviteiten | C23: 2459 | D23: 875 | E23: 0.356 | F23: 46.281905 | G23: 23.379403
A24: Elektriciteit | B24: Groothandel op bedrijventerrein | C24: 596 | D24: 163 | E24: 0.273 | F24: 7.2566658 | G24: 5.8890735
A25: Elektriciteit | B25: Hotel (of ander groot logiesgebouw) | C25: 2495 | D25: 344 | E25: 0.138 | F25: 3.4265696 | G25: 2.5970966
A26: Elektriciteit | B26: IJsbaan | C26: 100 | D26: 21 | E26: 0.21 | F26: 6.5261686 | G26: 2.9697993
A27: Elektriciteit | B27: Kantoorpand algemeen | C27: 20883 | D27: 3640 | E27: 0.174 | F27: 9.9816006 | G27: 5.1149332
A28: Elektriciteit | B28: Kinderopvang (gebouw) | C28: 1544 | D28: 194 | E28: 0.126 | F28: 4.0106078 | G28: 3.9501305
A29: Elektriciteit | B29: Koelhuis | C29: 95 | D29: 33 | E29: 0.347 | F29: 20.004595 | G29: 24.003808
A30: Elektriciteit | B30: MBO-gebouw | C30: 16
A31: Elektriciteit | B31: Meergezinswoning met andere functie of combinatie van functies | C31: 17700 | D31: 2816 | E31: 0.159 | F31: 5.8611102 | G31: 4.8106116
A32: Elektriciteit | B32: Meergezinswoning met cafe of restaurant | C32: 6268
A33: Elektriciteit | B33: Meergezinswoning met winkel | C33: 22202
A34: Elektriciteit | B34: Meergezinswoning met winkels en horeca | C34: 2556 | D34: 320 | E34: 0.125 | F34: 1.5513902 | G34: 1.5431734
A35: Elektriciteit | B35: Meergezinswoning met woonzorgeenheden | C35: 297 | D35: 76 | E35: 0.256 | F35: 4.9876076 | G35: 5.5811555
A36: Elektriciteit | B36: Middelbare school | C36: 1096 | D36: 455 | E36: 0.415 | F36: 6.8174266 | G36: 6.2908872
A37: Elektriciteit | B37: Nutsgebouw (elektriciteit) | C37: 143 | D37: 23 | E37: 0.161
A38: Elektriciteit | B38: Nutsgebouw (water) | C38: 61 | D38: 12 | E38: 0.197
A39: Elektriciteit | B39: Overig gebouw met maatschappelijke functie | C39: 1208
A40: Elektriciteit | B40: Overig gebouw met recreatiefunctie | C40: 75 | D40: 14 | E40: 0.187 | F40: 14.141213 | G40: 7.6485659
A41: Elektriciteit | B41: Overig onderwijsgebouw | C41: 3100 | D41: 483 | E41: 0.156 | F41: 3.6095401 | G41: 3.3665905
A42: Elektriciteit | B42: Overig overheidsgebouw | C42: 817 | D42: 220 | E42: 0.269 | F42: 4.9163052 | G42: 2.8222223
A43: Elektriciteit | B43: Overig sportgebouw | C43: 7335 | D43: 2186 | E43: 0.298 | F43: 20.813327 | G43: 11.740345
A44: Elektriciteit | B44: Overig zorggebouw | C44: 3459 | D44: 700 | E44: 0.202 | F44: 6.7667569 | G44: 4.6740474
A45: Elektriciteit | B45: Overige utiliteitsbouw | C45: 4010 | D45: 549 | E45: 0.137
A46: Elektriciteit | B46: Pand met winkel en kantoor- en/of bijeenkomstfunctie | C46: 1469 | D46: 164 | E46: 0.112 | F46: 2.8123667 | G46: 3.5399501
A47: Elektriciteit | B47: Penitentiaire inrichting | C47: 25
A48: Elektriciteit | B48: Praktijk- of zorgwoning | C48: 5077 | D48: 1793 | E48: 0.353 | F48: 8.2941294 | G48: 7.0305583
A49: Elektriciteit | B49: Productie-installatie | C49: 102 | D49: 11 | E49: 0.108
A50: Elektriciteit | B50: Restaurant of cafégebouw | C50: 3917
A51: Elektriciteit | B51: School voor speciaal onderwijs | C51: 514 | D51: 131 | E51: 0.255 | F51: 4.6372855 | G51: 4.5003465
A52: Elektriciteit | B52: Schoolverzamelgebouw | C52: 104 | D52: 35 | E52: 0.337 | F52: 7.0201522 | G52: 5.0953519
A53: Elektriciteit | B53: Tuincentrum | C53: 460 | D53: 117 | E53: 0.254 | F53: 11.034592 | G53: 7.0438412
A54: Elektriciteit | B54: Vakantiewoning buiten vakantiepark | C54: 5400 | D54: 802 | E54: 0.149 | F54: 6.6538525 | G54: 6.6321343
A55: Elektriciteit | B55: Winkelpand | C55: 21352
A56: Elektriciteit | B56: Woning met andere functie of combinatie van functies | C56: 14098 | D56: 4199 | E56: 0.298 | F56: 10.209402 | G56: 7.3160161
A57: Elektriciteit | B57: Woning met cafe of restaurant | C57: 11021 | D57: 1131 | E57: 0.103 | F57: 3.307097 | G57: 3.4680091
A58: Elektriciteit | B58: Woning met winkel | C58: 31708 | D58: 4990 | E58: 0.157 | F58: 3.6680168 | G58: 3.3302704
A59: Elektriciteit | B59: Wooncomplex met andere functie of combinatie van functies | C59: 9581 | D59: 2153 | E59: 0.225 | F59: 2.0242043 | G59: 1.5623926
A60: Elektriciteit | B60: Wooncomplex met winkels en/of horeca | C60: 4463 | D60: 846 | E60: 0.19 | F60: 1.792784 | G60: 1.6427906
A61: Elektriciteit | B61: Woonzorgcomplex | C61: 1607 | D61: 375 | E61: 0.233 | F61: 5.782782 | G61: 4.0125031
A62: Elektriciteit | B62: Ziekenhuis | C62: 113 | D62: 23 | E62: 0.204
A63: Elektriciteit | B63: Zorg met bed | C63: 419 | D63: 82 | E63: 0.196 | F63: 7.0082795 | G63: 5.4761583
A64: Elektriciteit | B64: Zorginstelling | C64: 172 | D64: 39 | E64: 0.227 | F64: 10.470628 | G64: 16.983658
A65: Elektriciteit | B65: Zorgpraktijk | C65: 2477 | D65: 537 | E65: 0.217 | F65: 7.8598377 | G65: 6.6026145
A66: Elektriciteit | B66: Zwembad | C66: 491 | D66: 141 | E66: 0.287 | F66: 17.255788 | G66: 9.5892206

Sheet populatie_overzicht_2022
A1: Welk tabblad? | B1: elek_kental_totaal_ | C1: elek_kental_bouwj_ | D1: elek_kental_opp_ | E1: elek_kental_subsets_ | F1: elek_kental_diensten_ | G1: zonnestroom_kentallen_totaal_ | H1: gas_kental_totaal_ | I1: gas_kental_bouwj_ | J1: gas_kental_opp_ | K1: gas_kental_diensten_
A3: Aantal unieke gebouwtype categorieën in het betreffende tab | B3: =COUNTIF(B14:B98,">0") -> 65 | C3: =COUNTIF(C14:C98,">0") -> 59 | D3: =COUNTIF(D14:D98,">0") -> 59 | E3: =COUNTIF(E14:E98,">0") -> 31 | F3: =COUNTIF(F14:F98,">0") -> 61 | G3: =COUNTIF(G14:G98,">0") -> 65 | H3: =COUNTIF(H14:H98,">0") -> 65 | I3: =COUNTIF(I14:I98,">0") -> 59 | ... K3: =COUNTIF(K14:K98,">0") -> 61
A4: Totaal aantal panden in populatie in het betreffende tab | B4: =SUM(B16:B80) -> 426668 | C4: =SUM(C16:C80) -> 426335 | D4: =SUM(D16:D80) -> 426335 | E4: =SUM(E16:E80) -> 336202 | F4: =SUM(F16:F80) -> 210244 | G4: =SUM(G16:G80) -> 426668 | H4: =SUM(H16:H80) -> 408332 | I4: =SUM(I16:I80) -> 408100 | ... K4: =SUM(K16:K80) -> 202991
A6: Missende categorieën t.o.v. tab ‘totaal’ | B6: Totaal aantal cat | C6: 6 categorieën verwijderd | D6: 6 categorieën verwijderd | E6: 34 categorieën verwijderd | F6: 4 categorieën verw | G6: Zelfde aantallen als elek totaal | H6: Totaal aantal cat | I6: 6 categorieën verwijderd | J6: 6 categorieën verwijderd | K6: 4 categorieën verw
C7: Asielzoekerscentrum | D7: Asielzoekerscentrum | F7: Gebouw bij militaire inrichting | I7: Asielzoekerscentrum | J7: Asielzoekerscentrum | K7: Gebouw bij militaire inrichting
C8: Datacenter | D8: Datacenter | F8: MBO-gebouw | I8: Datacenter | J8: Datacenter | K8: MBO-gebouw
C9: Gebouw bij militaire inrichting | D9: Gebouw bij militaire inrichting | F9: Nutsgebouw (elektriciteit) | I9: Gebouw bij militaire inrichting | J9: Gebouw bij militaire inrichting | K9: Nutsgebouw (elektriciteit)
C10: Gebouw op snelwegverzorgingsplaats | D10: Gebouw op snelwegverzorgingsplaats | F10: Productie-installatie | I10: Gebouw op snelwegverzorgingsplaats | J10: Gebouw op snelwegverzorgingsplaats | K10: Productie-installatie
C11: MBO-gebouw | D11: MBO-gebouw | I11: MBO-gebouw | J11: MBO-gebouw
C12: Penitentiaire inrichting | D12: Penitentiaire inrichting | I12: Penitentiaire inrichting | J12: Penitentiaire inrichting
A15: gebouwtype_keuze | B15: Aantal panden in tab elek_kental_totaal_ | C15: Aantal panden in tab elek_kental_bouwj_ | D15: Aantal panden in tab elek_kental_opp_ | E15: Aantal panden in tab elek_kental_subsets_ | F15: Aantal panden in tab elek_kental_diensten_ | G15: Aantal panden in tab zonnestroom_kentallen_totaal_ | H15: Aantal panden in tab gas_kental_totaal_ | I15: Aantal panden in tab gas_kental_bouwj_ | J15: Aantal panden in tab gas_kental_opp_ | K15: Aantal panden in tab gas_kental_diensten_
A16: Asielzoekerscentrum | B16: =IF(SUMIF(elek_kental_2022!$B$2:$B$10000,A16,elek_kental_2022!$C$2:$C$10000)>0,SUMIF(elek_kental_2022!$B$2:$B$10000,A16,elek_kental_2022!$C$2:$C$10000),"") -> 65 | C16: =IF(SUMIF(elek_kental_bouwj_2022!$B$2:$B$10005,A16,elek_kental_bouwj_2022!$D$2:$D$10005)>0,SUMIF(elek_kental_bouwj_2022!$B$2:$B$10005,A16,elek_kental_bouwj_2022!$D$2:$D$10005),"") | D16: =IF(SUMIF(elek_kental_opp_2022!$B$2:$B$10006,A16,elek_kental_opp_2022!$D$2:$D$10006)>0,SUMIF(elek_kental_opp_2022!$B$2:$B$10006,A16,elek_kental_opp_2022!$D$2:$D$10006),"") | E16: =IF(SUMIF(elek_kental_subsets_2022!$B$2:$B$10001,A16,elek_kental_subsets_2022!$D$2:$D$10001)>0,SUMIF(elek_kental_subsets_2022!$B$2:$B$10001,A16,elek_kental_subsets_2022!$D$2:$D$10001),"") | F16: =IF(SUMIF(elek_kental_diensten_2022!$B$2:$B$10000,A16,elek_kental_diensten_2022!$C$2:$C$10000)>0,SUMIF(elek_kental_diensten_2022!$B$2:$B$10000,A16,elek_kental_diensten_2022!$C$2:$C$10000),"") -> 51 | G16: =IF(SUMIF(zonnestroom_kentallen_2022!$B$2:$B$10000,A16,zonnestroom_kentallen_2022!$C$2:$C$10000)>0,SUMIF(zonnestroom_kentallen_2022!$B$2:$B$10000,A16,zonnestroom_kentallen_2022!$C$2:$C$10000),"") -> 65 | H16: =IF(SUMIF(gas_kental_2022!$B$2:$B$10000,A16,gas_kental_2022!$C$2:$C$10000)>0,SUMIF(gas_kental_2022!$B$2:$B$10000,A16,gas_kental_2022!$C$2:$C$10000),"") -> 66 | I16: =IF(SUMIF(gas_kental_bouwj_2022!$B$2:$B$10003,A16,gas_kental_bouwj_2022!$D$2:$D$10003)>0,SUMIF(gas_kental_bouwj_2022!$B$2:$B$10003,A16,gas_kental_bouwj_2022!$D$2:$D$10003),"") | J16: =IF(SUMIF(gas_kental_opp_2022!$B$2:$B$10007,A16,gas_kental_opp_2022!$D$2:$D$10007)>0,SUMIF(gas_kental_opp_2022!$B$2:$B$10007,A16,gas_kental_opp_2022!$D$2:$D$10007),"") | K16: =IF(SUMIF(gas_kental_diensten_2022!$B$2:$B$10000,A16,gas_kental_diensten_2022!$C$2:$C$10000)>0,SUMIF(gas_kental_diensten_2022!$B$2:$B$10000,A16,gas_kental_diensten_2022!$C$2:$C$10000),"") -> 52
A17: Basisschool | B17: =IF(SUMIF(elek_kental_2022!$B$2:$B$10000,A17,elek_kental_2022!$C$2:$C$10000)>0,SUMIF(elek_kental_2022!$B$2:$B$10000,A17,elek_kental_2022!$C$2:$C$10000),"") -> 4828 | C17: =IF(SUMIF(elek_kental_bouwj_2022!$B$2:$B$10005,A17,elek_kental_bouwj_2022!$D$2:$D$10005)>0,SUMIF(elek_kental_bouwj_2022!$B$2:$B$10005,A17,elek_kental_bouwj_2022!$D$2:$D$10005),"") -> 4828 | D17: =IF(SUMIF(elek_kental_opp_2022!$B$2:$B$10006,A17,elek_kental_opp_2022!$D$2:$D$10006)>0,SUMIF(elek_kental_opp_2022!$B$2:$B$10006,A17,elek_kental_opp_2022!$D$2:$D$10006),"") -> 4828 | E17: =IF(SUMIF(elek_kental_subsets_2022!$B$2:$B$10001,A17,elek_kental_subsets_2022!$D$2:$D$10001)>0,SUMIF(elek_kental_subsets_2022!$B$2:$B$10001,A17,elek_kental_subsets_2022!$D$2:$D$10001),"") -> 4828 | F17: =IF(SUMIF(elek_kental_diensten_2022!$B$2:$B$10000,A17,elek_kental_diensten_2022!$C$2:$C$10000)>0,SUMIF(elek_kental_diensten_2022!$B$2:$B$10000,A17,elek_kental_diensten_2022!$C$2:$C$10000),"") -> 4352 | G17: =IF(SUMIF(zonnestroom_kentallen_2022!$B$2:$B$10000,A17,zonnestroom_kentallen_2022!$C$2:$C$10000)>0,SUMIF(zonnestroom_kentallen_2022!$B$2:$B$10000,A17,zonnestroom_kentallen_2022!$C$2:$C$10000),"") -> 4828 | H17: =IF(SUMIF(gas_kental_2022!$B$2:$B$10000,A17,gas_kental_2022!$C$2:$C$10000)>0,SUMIF(gas_kental_2022!$B$2:$B$10000,A17,gas_kental_2022!$C$2:$C$10000),"") -> 4442 | I17: =IF(SUMIF(gas_kental_bouwj_2022!$B$2:$B$10003,A17,gas_kental_bouwj_2022!$D$2:$D$10003)>0,SUMIF(gas_kental_bouwj_2022!$B$2:$B$10003,A17,gas_kental_bouwj_2022!$D$2:$D$10003),"") -> 4442 | J17: =IF(SUMIF(gas_kental_opp_2022!$B$2:$B$10007,A17,gas_kental_opp_2022!$D$2:$D$10007)>0,SUMIF(gas_kental_opp_2022!$B$2:$B$10007,A17,gas_kental_opp_2022!$D$2:$D$10007),"") -> 4442 | K17: =IF(SUMIF(gas_kental_diensten_2022!$B$2:$B$10000,A17,gas_kental_diensten_2022!$C$2:$C$10000)>0,SUMIF(gas_kental_diensten_2022!$B$2:$B$10000,A17,gas_kental_diensten_2022!$C$2:$C$10000),"") -> 4026
A18: Bedrijfshal algemeen (geen LISA-informatie) | B18: =IF(SUMIF(elek_kental_2022!$B$2:$B$10000,A18,elek_kental_2022!$C$2:$C$10000)>0,SUMIF(elek_kental_2022!$B$2:$B$10000,A18,elek_kental_2022!$C$2:$C$10000),"") -> 19086 | C18: =IF(SUMIF(elek_kental_bouwj_2022!$B$2:$B$10005,A18,elek_kental_bouwj_2022!$D$2:$D$10005)>0,SUMIF(elek_kental_bouwj_2022!$B$2:$B$10005,A18,elek_kental_bouwj_2022!$D$2:$D$10005),"") -> 19086 | D18: =IF(SUMIF(elek_kental_opp_2022!$B$2:$B$10006,A18,elek_kental_opp_2022!$D$2:$D$10006)>0,SUMIF(elek_kental_opp_2022!$B$2:$B$10006,A18,elek_kental_opp_2022!$D$2:$D$10006),"") -> 19086 | E18: =IF(SUMIF(elek_kental_subsets_2022!$B$2:$B$10001,A18,elek_kental_subsets_2022!$D$2:$D$10001)>0,SUMIF(elek_kental_subsets_2022!$B$2:$B$10001,A18,elek_kental_subsets_2022!$D$2:$D$10001),"") -> 19086 | F18: =IF(SUMIF(elek_kental_diensten_2022!$B$2:$B$10000,A18,elek_kental_diensten_2022!$C$2:$C$10000)>0,SUMIF(elek_kental_diensten_2022!$B$2:$B$10000,A18,elek_kental_diensten_2022!$C$2:$C$10000),"") -> 10353 | G18: =IF(SUMIF(zonnestroom_kentallen_2022!$B$2:$B$10000,A18,zonnestroom_kentallen_2022!$C$2:$C$10000)>0,SUMIF(zonnestroom_kentallen_2022!$B$2:$B$10000,A18,zonnestroom_kentallen_2022!$C$2:$C$10000),"") -> 19086 | H18: =IF(SUMIF(gas_kental_2022!$B$2:$B$10000,A18,gas_kental_2022!$C$2:$C$10000)>0,SUMIF(gas_kental_2022!$B$2:$B$10000,A18,gas_kental_2022!$C$2:$C$10000),"") -> 17891 | I18: =IF(SUMIF(gas_kental_bouwj_2022!$B$2:$B$10003,A18,gas_kental_bouwj_2022!$D$2:$D$10003)>0,SUMIF(gas_kental_bouwj_2022!$B$2:$B$10003,A18,gas_kental_bouwj_2022!$D$2:$D$10003),"") -> 17891 | J18: =IF(SUMIF(gas_kental_opp_2022!$B$2:$B$10007,A18,gas_kental_opp_2022!$D$2:$D$10007)>0,SUMIF(gas_kental_opp_2022!$B$2:$B$10007,A18,gas_kental_opp_2022!$D$2:$D$10007),"") -> 17891 | K18: =IF(SUMIF(gas_kental_diensten_2022!$B$2:$B$10000,A18,gas_kental_diensten_2022!$C$2:$C$10000)>0,SUMIF(gas_kental_diensten_2022!$B$2:$B$10000,A18,gas_kental_diensten_2022!$C$2:$C$10000),"") -> 10049
A19: Bedrijfshal algemeen (met LISA-informatie) | B19: =IF(SUMIF(elek_kental_2022!$B$2:$B$10000,A19,elek_kental_2022!$C$2:$C$10000)>0,SUMIF(elek_kental_2022!$B$2:$B$10000,A19,elek_kental_2022!$C$2:$C$10000),"") -> 12613 | C19: =IF(SUMIF(elek_kental_bouwj_2022!$B$2:$B$10005,A19,elek_kental_bouwj_2022!$D$2:$D$10005)>0,SUMIF(elek_kental_bouwj_2022!$B$2:$B$10005,A19,elek_kental_bouwj_2022!$D$2:$D$10005),"") -> 12613 | D19: =IF(SUMIF(elek_kental_opp_2022!$B$2:$B$10006,A19,elek_kental_opp_2022!$D$2:$D$10006)>0,SUMIF(elek_kental_opp_2022!$B$2:$B$10006,A19,elek_kental_opp_2022!$D$2:$D$10006),"") -> 12613 | E19: =IF(SUMIF(elek_kental_subsets_2022!$B$2:$B$10001,A19,elek_kental_subsets_2022!$D$2:$D$10001)>0,SUMIF(elek_kental_subsets_2022!$B$2:$B$10001,A19,elek_kental_subsets_2022!$D$2:$D$10001),"") -> 12613 | F19: =IF(SUMIF(elek_kental_diensten_2022!$B$2:$B$10000,A19,elek_kental_diensten_2022!$C$2:$C$10000)>0,SUMIF(elek_kental_diensten_2022!$B$2:$B$10000,A19,elek_kental_diensten_2022!$C$2:$C$10000),"") -> 8725 | G19: =IF(SUMIF(zonnestroom_kentallen_2022!$B$2:$B$10000,A19,zonnestroom_kentallen_2022!$C$2:$C$10000)>0,SUMIF(zonnestroom_kentallen_2022!$B$2:$B$10000,A19,zonnestroom_kentallen_2022!$C$2:$C$10000),"") -> 12613 | H19: =IF(SUMIF(gas_kental_2022!$B$2:$B$10000,A19,gas_kental_2022!$C$2:$C$10000)>0,SUMIF(gas_kental_2022!$B$2:$B$10000,A19,gas_kental_2022!$C$2:$C$10000),"") -> 11184 | I19: =IF(SUMIF(gas_kental_bouwj_2022!$B$2:$B$10003,A19,gas_kental_bouwj_2022!$D$2:$D$10003)>0,SUMIF(gas_kental_bouwj_2022!$B$2:$B$10003,A19,gas_kental_bouwj_2022!$D$2:$D$10003),"") -> 11184 | J19: =IF(SUMIF(gas_kental_opp_2022!$B$2:$B$10007,A19,gas_kental_opp_2022!$D$2:$D$10007)>0,SUMIF(gas_kental_opp_2022!$B$2:$B$10007,A19,gas_kental_opp_2022!$D$2:$D$10007),"") -> 11184 | K19: =IF(SUMIF(gas_kental_diensten_2022!$B$2:$B$10000,A19,gas_kental_diensten_2022!$C$2:$C$10000)>0,SUMIF(gas_kental_diensten_2022!$B$2:$B$10000,A19,gas_kental_diensten_2022!$C$2:$C$10000),"") -> 7722
A20: Bedrijfshal met logistieke activiteiten | B20: =IF(SUMIF(elek_kental_2022!$B$2:$B$10000,A20,elek_kental_2022!$C$2:$C$10000)>0,SUMIF(elek_kental_2022!$B$2:$B$10000,A20,elek_kental_2022!$C$2:$C$10000),"") -> 5612 | C20: =IF(SUMIF(elek_kental_bouwj_2022!$B$2:$B$10005,A20,elek_kental_bouwj_2022!$D$2:$D$10005)>0,SUMIF(elek_kental_bouwj_2022!$B$2:$B$10005,A20,elek_kental_bouwj_2022!$D$2:$D$10005),"") -> 5612 | D20: =IF(SUMIF(elek_kental_opp_2022!$B$2:$B$10006,A20,elek_kental_opp_2022!$D$2:$D$10006)>0,SUMIF(elek_kental_opp_2022!$B$2:$B$10006,A20,elek_kental_opp_2022!$D$2:$D$10006),"") -> 5612 | E20: =IF(SUMIF(elek_kental_subsets_2022!$B$2:$B$10001,A20,elek_kental_subsets_2022!$D$2:$D$10001)>0,SUMIF(elek_kental_subsets_2022!$B$2:$B$10001,A20,elek_kental_subsets_2022!$D$2:$D$10001),"") -> 5612 | F20: =IF(SUMIF(elek_kental_diensten_2022!$B$2:$B$10000,A20,elek_kental_diensten_2022!$C$2:$C$10000)>0,SUMIF(elek_kental_diensten_2022!$B$2:$B$10000,A20,elek_kental_diensten_2022!$C$2:$C$10000),"") -> 2206 | G20: =IF(SUMIF(zonnestroom_kentallen_2022!$B$2:$B$10000,A20,zonnestroom_kentallen_2022!$C$2:$C$10000)>0,SUMIF(zonnestroom_kentallen_2022!$B$2:$B$10000,A20,zonnestroom_kentallen_2022!$C$2:$C$10000),"") -> 5612 | H20: =IF(SUMIF(gas_kental_2022!$B$2:$B$10000,A20,gas_kental_2022!$C$2:$C$10000)>0,SUMIF(gas_kental_2022!$B$2:$B$10000,A20,gas_kental_2022!$C$2:$C$10000),"") -> 4936 | I20: =IF(SUMIF(gas_kental_bouwj_2022!$B$2:$B$10003,A20,gas_kental_bouwj_2022!$D$2:$D$10003)>0,SUMIF(gas_kental_bouwj_2022!$B$2:$B$10003,A20,gas_kental_bouwj_2022!$D$2:$D$10003),"") -> 4936 | J20: =IF(SUMIF(gas_kental_opp_2022!$B$2:$B$10007,A20,gas_kental_opp_2022!$D$2:$D$10007)>0,SUMIF(gas_kental_opp_2022!$B$2:$B$10007,A20,gas_kental_opp_2022!$D$2:$D$10007),"") -> 4936 | K20: =IF(SUMIF(gas_kental_diensten_2022!$B$2:$B$10000,A20,gas_kental_diensten_2022!$C$2:$C$10000)>0,SUMIF(gas_kental_diensten_2022!$B$2:$B$10000,A20,gas_kental_diensten_2022!$C$2:$C$10000),"") -> 1970
A21: Bedrijfshal met maakindustrie en andere economische activiteiten | B21: =IF(SUMIF(elek_kental_2022!$B$2:$B$10000,A21,elek_kental_2022!$C$2:$C$10000)>0,SUMIF(elek_kental_2022!$B$2:$B$10000,A21,elek_kental_2022!$C$2:$C$10000),"") -> 4985 | C21: =IF(SUMIF(elek_kental_bouwj_2022!$B$2:$B$10005,A21,elek_kental_bouwj_2022!$D$2:$D$10005)>0,SUMIF(elek_kental_bouwj_2022!$B$2:$B$10005,A21,elek_kental_bouwj_2022!$D$2:$D$10005),"") -> 4985 | D21: =IF(SUMIF(elek_kental_opp_2022!$B$2:$B$10006,A21,elek_kental_opp_2022!$D$2:$D$10006)>0,SUMIF(elek_kental_opp_2022!$B$2:$B$10006,A21,elek_kental_opp_2022!$D$2:$D$10006),"") -> 4985 | E21: =IF(SUMIF(elek_kental_subsets_2022!$B$2:$B$10001,A21,elek_kental_subsets_2022!$D$2:$D$10001)>0,SUMIF(elek_kental_subsets_2022!$B$2:$B$10001,A21,elek_kental_subsets_2022!$D$2:$D$10001),"") -> 4985 | F21: =IF(SUMIF(elek_kental_diensten_2022!$B$2:$B$10000,A21,elek_kental_diensten_2022!$C$2:$C$10000)>0,SUMIF(elek_kental_diensten_2022!$B$2:$B$10000,A21,elek_kental_diensten_2022!$C$2:$C$10000),"") -> 1616 | G21: =IF(SUMIF(zonnestroom_kentallen_2022!$B$2:$B$10000,A21,zonnestroom_kentallen_2022!$C$2:$C$10000)>0,SUMIF(zonnestroom_kentallen_2022!$B$2:$B$10000,A21,zonnestroom_kentallen_2022!$C$2:$C$10000),"") -> 4985 | H21: =IF(SUMIF(gas_kental_2022!$B$2:$B$10000,A21,gas_kental_2022!$C$2:$C$10000)>0,SUMIF(gas_kental_2022!$B$2:$B$10000,A21,gas_kental_2022!$C$2:$C$10000),"") -> 4558 | I21: =IF(SUMIF(gas_kental_bouwj_2022!$B$2:$B$10003,A21,gas_kental_bouwj_2022!$D$2:$D$10003)>0,SUMIF(gas_kental_bouwj_2022!$B$2:$B$10003,A21,gas_kental_bouwj_2022!$D$2:$D$10003),"") -> 4558 | J21: =IF(SUMIF(gas_kental_opp_2022!$B$2:$B$10007,A21,gas_kental_opp_2022!$D$2:$D$10007)>0,SUMIF(gas_kental_opp_2022!$B$2:$B$10007,A21,gas_kental_opp_2022!$D$2:$D$10007),"") -> 4558 | K21: =IF(SUMIF(gas_kental_diensten_2022!$B$2:$B$10000,A21,gas_kental_diensten_2022!$C$2:$C$10000)>0,SUMIF(gas_kental_diensten_2022!$B$2:$B$10000,A21,gas_kental_diensten_2022!$C$2:$C$10000),"") -> 1491
A22: Bedrijfshal met maakindustrie en logistieke activiteiten | B22: =IF(SUMIF(elek_kental_2022!$B$2:$B$10000,A22,elek_kental_2022!$C$2:$C$10000)>0,SUMIF(elek_kental_2022!$B$2:$B$10000,A22,elek_kental_2022!$C$2:$C$10000),"") -> 10676 | C22: =IF(SUMIF(elek_kental_bouwj_2022!$B$2:$B$10005,A22,elek_kental_bouwj_2022!$D$2:$D$10005)>0,SUMIF(elek_kental_bouwj_2022!$B$2:$B$10005,A22,elek_kental_bouwj_2022!$D$2:$D$10005),"") -> 10676 | D22: =IF(SUMIF(elek_kental_opp_2022!$B$2:$B$10006,A22,elek_kental_opp_2022!$D$2:$D$10006)>0,SUMIF(elek_kental_opp_2022!$B$2:$B$10006,A22,elek_kental_opp_2022!$D$2:$D$10006),"") -> 10676 | E22: =IF(SUMIF(elek_kental_subsets_2022!$B$2:$B$10001,A22,elek_kental_subsets_2022!$D$2:$D$10001)>0,SUMIF(elek_kental_subsets_2022!$B$2:$B$10001,A22,elek_kental_subsets_2022!$D$2:$D$10001),"") -> 10676 | F22: =IF(SUMIF(elek_kental_diensten_2022!$B$2:$B$10000,A22,elek_kental_diensten_2022!$C$2:$C$10000)>0,SUMIF(elek_kental_diensten_2022!$B$2:$B$10000,A22,elek_kental_diensten_2022!$C$2:$C$10000),"") -> 6681 | G22: =IF(SUMIF(zonnestroom_kentallen_2022!$B$2:$B$10000,A22,zonnestroom_kentallen_2022!$C$2:$C$10000)>0,SUMIF(zonnestroom_kentallen_2022!$B$2:$B$10000,A22,zonnestroom_kentallen_2022!$C$2:$C$10000),"") -> 10676 | H22: =IF(SUMIF(gas_kental_2022!$B$2:$B$10000,A22,gas_kental_2022!$C$2:$C$10000)>0,SUMIF(gas_kental_2022!$B$2:$B$10000,A22,gas_kental_2022!$C$2:$C$10000),"") -> 9655 | I22: =IF(SUMIF(gas_kental_bouwj_2022!$B$2:$B$10003,A22,gas_kental_bouwj_2022!$D$2:$D$10003)>0,SUMIF(gas_kental_bouwj_2022!$B$2:$B$10003,A22,gas_kental_bouwj_2022!$D$2:$D$10003),"") -> 9655 | J22: =IF(SUMIF(gas_kental_opp_2022!$B$2:$B$10007,A22,gas_kental_opp_2022!$D$2:$D$10007)>0,SUMIF(gas_kental_opp_2022!$B$2:$B$10007,A22,gas_kental_opp_2022!$D$2:$D$10007),"") -> 9655 | K22: =IF(SUMIF(gas_kental_diensten_2022!$B$2:$B$10000,A22,gas_kental_diensten_2022!$C$2:$C$10000)>0,SUMIF(gas_kental_diensten_2022!$B$2:$B$10000,A22,gas_kental_diensten_2022!$C$2:$C$10000),"") -> 6062
A23: Bedrijfshal uitsluitend maakindustrie | B23: =IF(SUMIF(elek_kental_2022!$B$2:$B$10000,A23,elek_kental_2022!$C$2:$C$10000)>0,SUMIF(elek_kental_2022!$B$2:$B$10000,A23,elek_kental_2022!$C$2:$C$10000),"") -> 19303 | C23: =IF(SUMIF(elek_kental_bouwj_2022!$B$2:$B$10005,A23,elek_kental_bouwj_2022!$D$2:$D$10005)>0,SUMIF(elek_kental_bouwj_2022!$B$2:$B$10005,A23,elek_kental_bouwj_2022!$D$2:$D$10005),"") -> 19303 | D23: =IF(SUMIF(elek_kental_opp_2022!$B$2:$B$10006,A23,elek_kental_opp_2022!$D$2:$D$10006)>0,SUMIF(elek_kental_opp_2022!$B$2:$B$10006,A23,elek_kental_opp_2022!$D$2:$D$10006),"") -> 19303 | E23: =IF(SUMIF(elek_kental_subsets_2022!$B$2:$B$10001,A23,elek_kental_subsets_2022!$D$2:$D$10001)>0,SUMIF(elek_kental_subsets_2022!$B$2:$B$10001,A23,elek_kental_subsets_2022!$D$2:$D$10001),"") | F23: =IF(SUMIF(elek_kental_diensten_2022!$B$2:$B$10000,A23,elek_kental_diensten_2022!$C$2:$C$10000)>0,SUMIF(elek_kental_diensten_2022!$B$2:$B$10000,A23,elek_kental_diensten_2022!$C$2:$C$10000),"") -> 7146 | G23: =IF(SUMIF(zonnestroom_kentallen_2022!$B$2:$B$10000,A23,zonnestroom_kentallen_2022!$C$2:$C$10000)>0,SUMIF(zonnestroom_kentallen_2022!$B$2:$B$10000,A23,zonnestroom_kentallen_2022!$C$2:$C$10000),"") -> 19303 | H23: =IF(SUMIF(gas_kental_2022!$B$2:$B$10000,A23,gas_kental_2022!$C$2:$C$10000)>0,SUMIF(gas_kental_2022!$B$2:$B$10000,A23,gas_kental_2022!$C$2:$C$10000),"") -> 17755 | I23: =IF(SUMIF(gas_kental_bouwj_2022!$B$2:$B$10003,A23,gas_kental_bouwj_2022!$D$2:$D$10003)>0,SUMIF(gas_kental_bouwj_2022!$B$2:$B$10003,A23,gas_kental_bouwj_2022!$D$2:$D$10003),"") -> 17755 | J23: =IF(SUMIF(gas_kental_opp_2022!$B$2:$B$10007,A23,gas_kental_opp_2022!$D$2:$D$10007)>0,SUMIF(gas_kental_opp_2022!$B$2:$B$10007,A23,gas_kental_opp_2022!$D$2:$D$10007),"") -> 17755 | K23: =IF(SUMIF(gas_kental_diensten_2022!$B$2:$B$10000,A23,gas_kental_diensten_2022!$C$2:$C$10000)>0,SUMIF(gas_kental_diensten_2022!$B$2:$B$10000,A23,gas_kental_diensten_2022!$C$2:$C$10000),"") -> 6490
A24: Bedrijfswoning | B24: =IF(SUMIF(elek_kental_2022!$B$2:$B$10000,A24,elek_kental_2022!$C$2:$C$10000)>0,SUMIF(elek_kental_2022!$B$2:$B$10000,A24,elek_kental_2022!$C$2:$C$10000),"") -> 67482 | C24: =IF(SUMIF(elek_kental_bouwj_2022!$B$2:$B$10005,A24,elek_kental_bouwj_2022!$D$2:$D$10005)>0,SUMIF(elek_kental_bouwj_2022!$B$2:$B$10005,A24,elek_kental_bouwj_2022!$D$2:$D$10005),"") -> 67482 | D24: =IF(SUMIF(elek_kental_opp_2022!$B$2:$B$10006,A24,elek_kental_opp_2022!$D$2:$D$10006)>0,SUMIF(elek_kental_opp_2022!$B$2:$B$10006,A24,elek_kental_opp_2022!$D$2:$D$10006),"") -> 67482 | E24: =IF(SUMIF(elek_kental_subsets_2022!$B$2:$B$10001,A24,elek_kental_subsets_2022!$D$2:$D$10001)>0,SUMIF(elek_kental_subsets_2022!$B$2:$B$10001,A24,elek_kental_subsets_2022!$D$2:$D$10001),"") -> 67482 | F24: =IF(SUMIF(elek_kental_diensten_2022!$B$2:$B$10000,A24,elek_kental_diensten_2022!$C$2:$C$10000)>0,SUMIF(elek_kental_diensten_2022!$B$2:$B$10000,A24,elek_kental_diensten_2022!$C$2:$C$10000),"") -> 8983 | G24: =IF(SUMIF(zonnestroom_kentallen_2022!$B$2:$B$10000,A24,zonnestroom_kentallen_2022!$C$2:$C$10000)>0,SUMIF(zonnestroom_kentallen_2022!$B$2:$B$10000,A24,zonnestroom_kentallen_2022!$C$2:$C$10000),"") -> 67482 | H24: =IF(SUMIF(gas_kental_2022!$B$2:$B$10000,A24,gas_kental_2022!$C$2:$C$10000)>0,SUMIF(gas_kental_2022!$B$2:$B$10000,A24,gas_kental_2022!$C$2:$C$10000),"") -> 64004 | I24: =IF(SUMIF(gas_kental_bouwj_2022!$B$2:$B$10003,A24,gas_kental_bouwj_2022!$D$2:$D$10003)>0,SUMIF(gas_kental_bouwj_2022!$B$2:$B$10003,A24,gas_kental_bouwj_2022!$D$2:$D$10003),"") -> 64004 | J24: =IF(SUMIF(gas_kental_opp_2022!$B$2:$B$10007,A24,gas_kental_opp_2022!$D$2:$D$10007)>0,SUMIF(gas_kental_opp_2022!$B$2:$B$10007,A24,gas_kental_opp_2022!$D$2:$D$10007),"") -> 64004 | K24: =IF(SUMIF(gas_kental_diensten_2022!$B$2:$B$10000,A24,gas_kental_diensten_2022!$C$2:$C$10000)>0,SUMIF(gas_kental_diensten_2022!$B$2:$B$10000,A24,gas_kental_diensten_2022!$C$2:$C$10000),"") -> 8331
A25: Bijeenkomstgebouw (niet nader ingedeeld) | B25: =IF(SUMIF(elek_kental_2022!$B$2:$B$10000,A25,elek_kental_2022!$C$2:$C$10000)>0,SUMIF(elek_kental_2022!$B$2:$B$10000,A25,elek_kental_2022!$C$2:$C$10000),"") -> 9205 | C25: =IF(SUMIF(elek_kental_bouwj_2022!$B$2:$B$10005,A25,elek_kental_bouwj_2022!$D$2:$D$10005)>0,SUMIF(elek_kental_bouwj_2022!$B$2:$B$10005,A25,elek_kental_bouwj_2022!$D$2:$D$10005),"") -> 9205 | D25: =IF(SUMIF(elek_kental_opp_2022!$B$2:$B$10006,A25,elek_kental_opp_2022!$D$2:$D$10006)>0,SUMIF(elek_kental_opp_2022!$B$2:$B$10006,A25,elek_kental_opp_2022!$D$2:$D$10006),"") -> 9205 | E25: =IF(SUMIF(elek_kental_subsets_2022!$B$2:$B$10001,A25,elek_kental_subsets_2022!$D$2:$D$10001)>0,SUMIF(elek_kental_subsets_2022!$B$2:$B$10001,A25,elek_kental_subsets_2022!$D$2:$D$10001),"") -> 9205 | F25: =IF(SUMIF(elek_kental_diensten_2022!$B$2:$B$10000,A25,elek_kental_diensten_2022!$C$2:$C$10000)>0,SUMIF(elek_kental_diensten_2022!$B$2:$B$10000,A25,elek_kental_diensten_2022!$C$2:$C$10000),"") -> 8321 | G25: =IF(SUMIF(zonnestroom_kentallen_2022!$B$2:$B$10000,A25,zonnestroom_kentallen_2022!$C$2:$C$10000)>0,SUMIF(zonnestroom_kentallen_2022!$B$2:$B$10000,A25,zonnestroom_kentallen_2022!$C$2:$C$10000),"") -> 9205 | H25: =IF(SUMIF(gas_kental_2022!$B$2:$B$10000,A25,gas_kental_2022!$C$2:$C$10000)>0,SUMIF(gas_kental_2022!$B$2:$B$10000,A25,gas_kental_2022!$C$2:$C$10000),"") -> 9270 | I25: =IF(SUMIF(gas_kental_bouwj_2022!$B$2:$B$10003,A25,gas_kental_bouwj_2022!$D$2:$D$10003)>0,SUMIF(gas_kental_bouwj_2022!$B$2:$B$10003,A25,gas_kental_bouwj_2022!$D$2:$D$10003),"") -> 9270 | J25: =IF(SUMIF(gas_kental_opp_2022!$B$2:$B$10007,A25,gas_kental_opp_2022!$D$2:$D$10007)>0,SUMIF(gas_kental_opp_2022!$B$2:$B$10007,A25,gas_kental_opp_2022!$D$2:$D$10007),"") -> 9270 | K25: =IF(SUMIF(gas_kental_diensten_2022!$B$2:$B$10000,A25,gas_kental_diensten_2022!$C$2:$C$10000)>0,SUMIF(gas_kental_diensten_2022!$B$2:$B$10000,A25,gas_kental_diensten_2022!$C$2:$C$10000),"") -> 8407
A26: Campusgebouw | B26: =IF(SUMIF(elek_kental_2022!$B$2:$B$10000,A26,elek_kental_2022!$C$2:$C$10000)>0,SUMIF(elek_kental_2022!$B$2:$B$10000,A26,elek_kental_2022!$C$2:$C$10000),"") -> 109 | C26: =IF(SUMIF(elek_kental_bouwj_2022!$B$2:$B$10005,A26,elek_kental_bouwj_2022!$D$2:$D$10005)>0,SUMIF(elek_kental_bouwj_2022!$B$2:$B$10005,A26,elek_kental_bouwj_2022!$D$2:$D$10005),"") -> 109 | D26: =IF(SUMIF(elek_kental_opp_2022!$B$2:$B$10006,A26,elek_kental_opp_2022!$D$2:$D$10006)>0,SUMIF(elek_kental_opp_2022!$B$2:$B$10006,A26,elek_kental_opp_2022!$D$2:$D$10006),"") -> 109 | E26: =IF(SUMIF(elek_kental_subsets_2022!$B$2:$B$10001,A26,elek_kental_subsets_2022!$D$2:$D$10001)>0,SUMIF(elek_kental_subsets_2022!$B$2:$B$10001,A26,elek_kental_subsets_2022!$D$2:$D$10001),"") | F26: =IF(SUMIF(elek_kental_diensten_2022!$B$2:$B$10000,A26,elek_kental_diensten_2022!$C$2:$C$10000)>0,SUMIF(elek_kental_diensten_2022!$B$2:$B$10000,A26,elek_kental_diensten_2022!$C$2:$C$10000),"") -> 77 | G26: =IF(SUMIF(zonnestroom_kentallen_2022!$B$2:$B$10000,A26,zonnestroom_kentallen_2022!$C$2:$C$10000)>0,SUMIF(zonnestroom_kentallen_2022!$B$2:$B$10000,A26,zonnestroom_kentallen_2022!$C$2:$C$10000),"") -> 109 | H26: =IF(SUMIF(gas_kental_2022!$B$2:$B$10000,A26,gas_kental_2022!$C$2:$C$10000)>0,SUMIF(gas_kental_2022!$B$2:$B$10000,A26,gas_kental_2022!$C$2:$C$10000),"") -> 96 | I26: =IF(SUMIF(gas_kental_bouwj_2022!$B$2:$B$10003,A26,gas_kental_bouwj_2022!$D$2:$D$10003)>0,SUMIF(gas_kental_bouwj_2022!$B$2:$B$10003,A26,gas_kental_bouwj_2022!$D$2:$D$10003),"") -> 96 | J26: =IF(SUMIF(gas_kental_opp_2022!$B$2:$B$10007,A26,gas_kental_opp_2022!$D$2:$D$10007)>0,SUMIF(gas_kental_opp_2022!$B$2:$B$10007,A26,gas_kental_opp_2022!$D$2:$D$10007),"") -> 96 | K26: =IF(SUMIF(gas_kental_diensten_2022!$B$2:$B$10000,A26,gas_kental_diensten_2022!$C$2:$C$10000)>0,SUMIF(gas_kental_diensten_2022!$B$2:$B$10000,A26,gas_kental_diensten_2022!$C$2:$C$10000),"") -> 69
A27: Cultuurhuis | B27: =IF(SUMIF(elek_kental_2022!$B$2:$B$10000,A27,elek_kental_2022!$C$2:$C$10000)>0,SUMIF(elek_kental_2022!$B$2:$B$10000,A27,elek_kental_2022!$C$2:$C$10000),"") -> 569 | C27: =IF(SUMIF(elek_kental_bouwj_2022!$B$2:$B$10005,A27,elek_kental_bouwj_2022!$D$2:$D$10005)>0,SUMIF(elek_kental_bouwj_2022!$B$2:$B$10005,A27,elek_kental_bouwj_2022!$D$2:$D$10005),"") -> 569 | D27: =IF(SUMIF(elek_kental_opp_2022!$B$2:$B$10006,A27,elek_kental_opp_2022!$D$2:$D$10006)>0,SUMIF(elek_kental_opp_2022!$B$2:$B$10006,A27,elek_kental_opp_2022!$D$2:$D$10006),"") -> 569 | E27: =IF(SUMIF(elek_kental_subsets_2022!$B$2:$B$10001,A27,elek_kental_subsets_2022!$D$2:$D$10001)>0,SUMIF(elek_kental_subsets_2022!$B$2:$B$10001,A27,elek_kental_subsets_2022!$D$2:$D$10001),"") | F27: =IF(SUMIF(elek_kental_diensten_2022!$B$2:$B$10000,A27,elek_kental_diensten_2022!$C$2:$C$10000)>0,SUMIF(elek_kental_diensten_2022!$B$2:$B$10000,A27,elek_kental_diensten_2022!$C$2:$C$10000),"") -> 471 | G27: =IF(SUMIF(zonnestroom_kentallen_2022!$B$2:$B$10000,A27,zonnestroom_kentallen_2022!$C$2:$C$10000)>0,SUMIF(zonnestroom_kentallen_2022!$B$2:$B$10000,A27,zonnestroom_kentallen_2022!$C$2:$C$10000),"") -> 569 | H27: =IF(SUMIF(gas_kental_2022!$B$2:$B$10000,A27,gas_kental_2022!$C$2:$C$10000)>0,SUMIF(gas_kental_2022!$B$2:$B$10000,A27,gas_kental_2022!$C$2:$C$10000),"") -> 541 | I27: =IF(SUMIF(gas_kental_bouwj_2022!$B$2:$B$10003,A27,gas_kental_bouwj_2022!$D$2:$D$10003)>0,SUMIF(gas_kental_bouwj_2022!$B$2:$B$10003,A27,gas_kental_bouwj_2022!$D$2:$D$10003),"") -> 541 | J27: =IF(SUMIF(gas_kental_opp_2022!$B$2:$B$10007,A27,gas_kental_opp_2022!$D$2:$D$10007)>0,SUMIF(gas_kental_opp_2022!$B$2:$B$10007,A27,gas_kental_opp_2022!$D$2:$D$10007),"") -> 541 | K27: =IF(SUMIF(gas_kental_diensten_2022!$B$2:$B$10000,A27,gas_kental_diensten_2022!$C$2:$C$10000)>0,SUMIF(gas_kental_diensten_2022!$B$2:$B$10000,A27,gas_kental_diensten_2022!$C$2:$C$10000),"") -> 450
... A80: Zwembad | B80: =IF(SUMIF(elek_kental_2022!$B$2:$B$10000,A80,elek_kental_2022!$C$2:$C$10000)>0,SUMIF(elek_kental_2022!$B$2:$B$10000,A80,elek_kental_2022!$C$2:$C$10000),"") -> 491 | C80: =IF(SUMIF(elek_kental_bouwj_2022!$B$2:$B$10005,A80,elek_kental_bouwj_2022!$D$2:$D$10005)>0,SUMIF(elek_kental_bouwj_2022!$B$2:$B$10005,A80,elek_kental_bouwj_2022!$D$2:$D$10005),"") -> 491 | D80: =IF(SUMIF(elek_kental_opp_2022!$B$2:$B$10006,A80,elek_kental_opp_2022!$D$2:$D$10006)>0,SUMIF(elek_kental_opp_2022!$B$2:$B$10006,A80,elek_kental_opp_2022!$D$2:$D$10006),"") -> 491 | E80: =IF(SUMIF(elek_kental_subsets_2022!$B$2:$B$10001,A80,elek_kental_subsets_2022!$D$2:$D$10001)>0,SUMIF(elek_kental_subsets_2022!$B$2:$B$10001,A80,elek_kental_subsets_2022!$D$2:$D$10001),"") | F80: =IF(SUMIF(elek_kental_diensten_2022!$B$2:$B$10000,A80,elek_kental_diensten_2022!$C$2:$C$10000)>0,SUMIF(elek_kental_diensten_2022!$B$2:$B$10000,A80,elek_kental_diensten_2022!$C$2:$C$10000),"") -> 418 | G80: =IF(SUMIF(zonnestroom_kentallen_2022!$B$2:$B$10000,A80,zonnestroom_kentallen_2022!$C$2:$C$10000)>0,SUMIF(zonnestroom_kentallen_2022!$B$2:$B$10000,A80,zonnestroom_kentallen_2022!$C$2:$C$10000),"") -> 491 | H80: =IF(SUMIF(gas_kental_2022!$B$2:$B$10000,A80,gas_kental_2022!$C$2:$C$10000)>0,SUMIF(gas_kental_2022!$B$2:$B$10000,A80,gas_kental_2022!$C$2:$C$10000),"") -> 491 | I80: =IF(SUMIF(gas_kental_bouwj_2022!$B$2:$B$10003,A80,gas_kental_bouwj_2022!$D$2:$D$10003)>0,SUMIF(gas_kental_bouwj_2022!$B$2:$B$10003,A80,gas_kental_bouwj_2022!$D$2:$D$10003),"") -> 491 | J80: =IF(SUMIF(gas_kental_opp_2022!$B$2:$B$10007,A80,gas_kental_opp_2022!$D$2:$D$10007)>0,SUMIF(gas_kental_opp_2022!$B$2:$B$10007,A80,gas_kental_opp_2022!$D$2:$D$10007),"") -> 491 | K80: =IF(SUMIF(gas_kental_diensten_2022!$B$2:$B$10000,A80,gas_kental_diensten_2022!$C$2:$C$10000)>0,SUMIF(gas_kental_diensten_2022!$B$2:$B$10000,A80,gas_kental_diensten_2022!$C$2:$C$10000),"") -> 417
