Workbook

Sheet inhoudsopgave en toelichting
C1: Energiekentallen Utiliteitsbouw
C4: Project details
D6: Project naam | E6: Energiekentallen Utiliteitsgebouwen
D7: Datum | E7: Augustus 2026
D8: Contactpersoon TNO | E8: Robin Niessink, robin.niessink@tno.nl
C10: Deze dataset is ontwikkeld met subsidie van de Rijksdienst voor Ondernemend Nederland (RVO)
C12: Toelichting
C14: In dit onderzoek zijn energie-kentallen voor aardgaslevering (m3/m2) en elektriciteitslevering (kWh/m2) voor de diverse gebouwtypen van de utiliteitsbouw bepaald voor zichtjaren 2020 t/m 2024. De kentallen zijn waar mogelijk uitgesplitst naar bouwjaar- en oppervlakteklassen. Voor zichtjaar 2024 is ook een opsplitsing naar energielabel gemaakt. Ook voor de groep van panden die binnen de dienstensector valt zijn kentallen ontwikkeld. Voor zonnestroom is een eigen inschatting gemaakt van de teruglevering en daarmee is het eigenverbruik berekend en vervolgens opgeteld bij de netlevering voor een betere benadering van het totaalverbruik.
C16: De kentallen voor zonnestroomproductie (kWh/m2) alsmede het aandeel panden met zonnestroomproductie (in de populatie) zijn toegevoegd in een apart tab.
C18: NB: Een lege cel betekent dat een kental niet kon worden weergegeven vanwege de daarvoor geldende privacyregels. Het aantal overgebleven waarnemingen in de onderzoekspopulatie was hiervoor te laag.
C20: Voor nadere toelichting zie TNO rapport: Energiekentallen utiliteitsgebouwen 2020 t/m 2024 - Een analyse van het energieverbruik per gebouwtype voor de ontwikkeling van benchmark energiekentallen
C22: Inhoudsopgave
C23: Tab naam | E23: Inhoud
C24: elek_kental_ | E24: kentallen elektriciteit per gebouwtype
C25: elek_kental_bouwj_ | E25: kentallen elektriciteit per gebouwtype met uitsplitsing naar bouwjaarklassen
C26: elek_kental_opp_ | E26: kentallen elektriciteit per gebouwtype met uitsplitsing naar (gebruiks)oppervlakteklassen
C27: elek_kental_diensten_ | E27: kentallen elektriciteit per gebouwtype voor panden die vallen binnen de dienstensector
C28: elek_kental_subsets_ | E28: kentallen elektriciteit per gebouwtype voor panden met onderscheid naar panden met of zonder zonnestroom en waar de teruglevering wel of niet hoger is dan de zonnestroomproductie
C29: zonnestroom_kentallen_ | E29: kentallen zonnestroomproductie per gebouwtype
C30: gas_kental_ | E30: kentallen aardgas per gebouwtype
C31: gas_kental_bouwj_ | E31: kentallen aardgas per gebouwtype met uitsplitsing naar bouwjaarklassen
C32: gas_kental_opp_ | E32: kentallen aardgas per gebouwtype met uitsplitsing naar (gebruiks)oppervlakteklassen
C33: gas_kental_diensten_ | E33: kentallen aardgas per gebouwtype voor panden die vallen binnen de dienstensector
C34: populatie_overzicht_ | E34: een overzicht met het aantal panden in de onderzoekspopulatie in het betreffende tab, waarmee onder andere is na te gaan welke categorieën ontbreken per tab
C37: Toelichting kolommen in de tabs
C39: Energiedrager | D39: Dit geeft aan of het een kental voor aardgas of elektriciteit is
C40: Gebouwtype | D40: Dit geeft aan over welk gebouwtype het gaat
C41: Aantal panden | D41: Dit geeft het aantal panden in het onderzoek aan waarover de kentallen in de categorie berekend zijn
C42: Aandeel panden per gebouwtype | D42: Het percentage van het aantal panden dat in de betreffende categorie valt per gebouwtype
C43: Gemiddelde kental (kWh/m2) | D43: Het gemiddelde kental
C44: Q1 kental (kWh/m2) | D44: Het kental voor het 1ste kwartiel
C45: Mediaan kental (kWh/m2) | D45: Het kental voor de mediaan
C46: Q3 kental (kWh/m2) | D46: Het kental voor het 3e kwartiel
C47: Gewogen gemiddelde kental (kWh/m2) | D47: Het gemiddelde kental waarbij het pandoppervlak als weegfactor is gebruikt
C48: Gemiddelde kental inclusief eigenverbruik zonnestroom (kWh/m2) | D48: Eerst is het eigenverbruik zonnestroom bepaald en vervolgens opnieuw het gemiddelde bepaald
C49: Q1 kental inclusief eigenverbruik zonnestroom (kWh/m2) | D49: Eerst is het eigenverbruik zonnestroom bepaald en vervolgens opnieuw het 1ste kwartiel
C50: Mediaan kental inclusief eigenverbruik zonnestroom (kWh/m2) | D50: Eerst is het eigenverbruik zonnestroom bepaald en vervolgens opnieuw de mediaan
... C56: Gewogen gemiddelde zonnestroomproductie kental (kWh/m2) (inclusief panden zonder zon-pv) | D56: Het gewogen gemiddelde kental voor zonnestroomproductie berekend als gemiddelde voor panden met en zonder zonnestroomproductie

Sheet gas_kental_2021
A1: Energiedrager | B1: Gebouwtype | C1: Aantal panden | D1: Gemiddelde kental (m3/m2) | E1: Q1 kental (m3/m2) | F1: Mediaan kental (m3/m2) | G1: Q3 kental (m3/m2) | H1: Gewogen gemiddelde kental (m3/m2)
A2: Gas | B2: Asielzoekerscentrum | C2: 66 | D2: 23.398531 | E2: 9.2865394 | F2: 14.569378 | G2: 24.767541 | H2: 15.157084
A3: Gas | B3: Basisschool | C3: 4449 | D3: 10.37833 | E3: 7.2039336 | F3: 10.110263 | G3: 13.183752 | H3: 8.535343
A4: Gas | B4: Bedrijfshal algemeen (geen LISA-informatie) | C4: 18048 | D4: 5.4708971 | E4: 1.0739494 | F4: 3.6957428 | G4: 7.4579902 | H4: 5.0955713
A5: Gas | B5: Bedrijfshal algemeen (met LISA-informatie) | C5: 11230 | D5: 6.5308875 | E5: 2.3913885 | F5: 4.8044911 | G5: 8.2676267 | H5: 5.19575
A6: Gas | B6: Bedrijfshal met logistieke activiteiten | C6: 4940 | D6: 5.4278224 | E6: 2.4366628 | F6: 4.2883673 | G6: 6.8051674 | H6: 4.341446
A7: Gas | B7: Bedrijfshal met maakindustrie en andere economische activiteiten | C7: 4569 | D7: 6.2333399 | E7: 2.6295314 | F7: 4.7167329 | G7: 7.7523452 | H7: 6.1317391
A8: Gas | B8: Bedrijfshal met maakindustrie en logistieke activiteiten | C8: 9692 | D8: 5.7966598 | E8: 2.2178807 | F8: 4.4105477 | G8: 7.5791501 | H8: 4.8626274
A9: Gas | B9: Bedrijfshal uitsluitend maakindustrie | C9: 17857 | D9: 8.072774 | E9: 2.7417722 | F9: 5.2815884 | G9: 9.1688453 | H9: 10.052046
A10: Gas | B10: Bedrijfswoning | C10: 64226 | D10: 12.969807 | E10: 5.6689664 | F10: 10.31266 | G10: 16.491652 | H10: 8.6927477
A11: Gas | B11: Bijeenkomstgebouw (niet nader ingedeeld) | C11: 9255 | D11: 10.826927 | E11: 5.0378318 | F11: 8.9680465 | G11: 14.446409 | H11: 9.2341482
A12: Gas | B12: Campusgebouw | C12: 99 | D12: 12.220906 | E12: 1.3483086 | F12: 9.0653369 | G12: 15.266738 | H12: 8.5256023
A13: Gas | B13: Cultuurhuis | C13: 540 | D13: 10.598433 | E13: 6.1976804 | F13: 9.4854108 | G13: 14.033377 | H13: 7.2732845
... A15: Gas | B15: Gebedshuis | C15: 4269 | D15: 10.316332 | E15: 6.2180012 | F15: 9.5351515 | G15: 13.600694 | H15: 7.9233324
A16: Gas | B16: Gebouw bij militaire inrichting | C16: 18 | D16: 1487.3967 | H16: 195.82718
A17: Gas | B17: Gebouw bij spooremplacement | C17: 84 | D17: 10.724145 | E17: 3.7986269 | F17: 8.5735431 | G17: 14.239062 | H17: 8.2751979
A18: Gas | B18: Gebouw bij vliegveld of luchthaven | C18: 167 | D18: 9.3692377 | E18: 2.5528799 | F18: 6.1131222 | G18: 12.874074 | H18: 8.1198256
A19: Gas | B19: Gebouw in landelijk gebied voor industrie (geen landbouwactiviteiten geregistreerd) | C19: 3736 | D19: 7.4110998 | E19: 1.5869654 | F19: 4.4794063 | G19: 9.6311751 | H19: 6.2992594
A20: Gas | B20: Gebouw in stedelijk gebied met industriefunctie | C20: 12503 | D20: 9.2290996 | E20: 2.3974249 | F20: 6.1895777 | G20: 12.009508 | H20: 7.077394
A21: Gas | B21: Gebouw op snelwegverzorgingsplaats | C21: 62 | D21: 12.962869 | E21: 4.3256649 | F21: 9.6701837 | G21: 14.875622 | H21: 17.688335
A22: Gas | B22: Gebouw op vakantiepark | C22: 35673 | D22: 12.843651 | E22: 8.0131579 | F22: 11.875 | G22: 16.328571 | H22: 12.266615
A23: Gas | B23: Gebouw voor landbouwactiviteiten | C23: 2101 | D23: 134.62758 | E23: 5.5775128 | F23: 14.58714 | G23: 46.764228 | H23: 85.894571
A24: Gas | B24: Groothandel op bedrijventerrein | C24: 568 | D24: 4.8486125 | E24: 2.6521185 | F24: 4.2069052 | G24: 6.0271227 | H24: 3.9431325
A25: Gas | B25: Hotel (of ander groot logiesgebouw) | C25: 2374 | D25: 14.407874 | E25: 7.5668945 | F25: 13.13095 | G25: 19.752953 | H25: 10.823191
A26: Gas | B26: IJsbaan | C26: 120 | D26: 6.305615 | E26: 3.3678023 | F26: 5.3812389 | G26: 7.9482919 | H26: 6.8252706
A27: Gas | B27: Kantoorpand algemeen | C27: 19929 | D27: 10.889975 | E27: 6.118541 | F27: 9.9358396 | G27: 14.6044 | H27: 7.9390155
A28: Gas | B28: Kinderopvang (gebouw) | C28: 1498 | D28: 13.349324 | E28: 8.7794089 | F28: 12.443275 | G28: 17.008113 | H28: 11.603132
A29: Gas | B29: Koelhuis | C29: 86 | D29: 5.3101342 | E29: 0.6534295 | F29: 1.7028074 | G29: 5.9503157 | H29: 3.8210339
A30: Gas | B30: MBO-gebouw | C30: 10 | D30: 4.7747101 | H30: 4.5152362
A31: Gas | B31: Meergezinswoning met andere functie of combinatie van functies | C31: 17489 | D31: 11.813208 | E31: 7.4216028 | F31: 11.08377 | G31: 15.223577 | H31: 9.4585884
A32: Gas | B32: Meergezinswoning met cafe of restaurant | C32: 6293 | D32: 16.239529 | E32: 9.561194 | F32: 14.173697 | G32: 20.705882 | H32: 14.361005
A33: Gas | B33: Meergezinswoning met winkel | C33: 22274 | D33: 11.943081 | E33: 7.4810493 | F33: 11.060313 | G33: 15.318963 | H33: 9.9615213
A34: Gas | B34: Meergezinswoning met winkels en horeca | C34: 2507 | D34: 12.091687 | E34: 7.4922995 | F34: 11.092534 | G34: 15.409695 | H34: 9.1083191
A35: Gas | B35: Meergezinswoning met woonzorgeenheden | C35: 252 | D35: 13.177265 | E35: 8.3288408 | F35: 12.278856 | G35: 17.449389 | H35: 11.742458
A36: Gas | B36: Middelbare school | C36: 1063 | D36: 10.188835 | E36: 5.9927841 | F36: 9.5541098 | G36: 13.299981 | H36: 8.3878212
A37: Gas | B37: Nutsgebouw (elektriciteit) | C37: 58 | D37: 6.8828815 | E37: 2.0899792 | F37: 6.2325189 | G37: 10.022381 | H37: 5.2393694
A38: Gas | B38: Nutsgebouw (water) | C38: 247 | D38: 21.413687 | E38: 4.8890279 | F38: 12.421053 | G38: 26.028952 | H38: 10.344757
A39: Gas | B39: Overig gebouw met maatschappelijke functie | C39: 1573 | D39: 13.849656 | E39: 5.325784 | F39: 10.152778 | G39: 16.827059 | H39: 10.35744
A40: Gas | B40: Overig gebouw met recreatiefunctie | C40: 78 | D40: 18.267089 | E40: 5.3561902 | F40: 10.287358 | G40: 18.716138 | H40: 17.648689
A41: Gas | B41: Overig onderwijsgebouw | C41: 3149 | D41: 12.067148 | E41: 7.5368171 | F41: 11.116284 | G41: 15.34626 | H41: 9.2888729
...

Sheet gas_kental_bouwj_2021
A1: Energiedrager | B1: Gebouwtype | C1: Bouwjaarklasse | D1: Aantal panden | E1: Aandeel panden per gebouwtype | F1: Gemiddelde kental (m3/m2) | G1: Q1 kental (m3/m2) | H1: Mediaan kental (m3/m2) | I1: Q3 kental (m3/m2) | J1: Gewogen gemiddelde kental (m3/m2)
A2: Gas | B2: Basisschool | C2: tot 1946 | D2: 434 | E2: 0.098 | F2: 11.936062 | G2: 8.6866306 | H2: 11.317168 | I2: 15.090854 | J2: 9.9836758
A3: Gas | B3: Basisschool | C3: 1946 tot 1978 | D3: 1712 | E3: 0.385 | F3: 11.794599 | G3: 8.9805283 | H3: 11.513128 | I3: 14.155391 | J3: 10.49336
A4: Gas | B4: Basisschool | C4: 1978 tot 1995 | D4: 1039 | E4: 0.234 | F4: 10.836058 | G4: 7.9704219 | H4: 10.487931 | I4: 13.209458 | J4: 9.51816
A5: Gas | B5: Basisschool | C5: 1995 tot 2009 | D5: 658 | E5: 0.148 | F5: 9.079544 | G5: 6.5324783 | H5: 8.6683265 | I5: 11.339142 | J5: 7.279811
A6: Gas | B6: Basisschool | C6: 2009 tot 2015 | D6: 442 | E6: 0.099 | F6: 6.3706821 | G6: 3.2688934 | H6: 5.925116 | I6: 8.1958247 | J6: 5.5466554
A7: Gas | B7: Basisschool | C7: vanaf 2015 | D7: 164 | E7: 0.037 | F7: 4.5837882 | G7: 1.5194223 | H7: 4.2312773 | I7: 6.5141917 | J7: 4.0943907
A8: Gas | B8: Bedrijfshal algemeen (geen LISA-informatie) | C8: tot 1946 | D8: 237 | E8: 0.013 | F8: 7.7943139 | G8: 1.72 | H8: 6.1148198 | I8: 10.920392 | J8: 4.8328755
A9: Gas | B9: Bedrijfshal algemeen (geen LISA-informatie) | C9: 1946 tot 1978 | D9: 2641 | E9: 0.146 | F9: 6.4136936 | G9: 1.1333333 | H9: 3.9802372 | I9: 8.8165323 | J9: 5.6191174
A10: Gas | B10: Bedrijfshal algemeen (geen LISA-informatie) | C10: 1978 tot 1995 | D10: 4612 | E10: 0.256 | F10: 6.3368895 | G10: 1.5575546 | H10: 4.4984312 | I10: 8.7055549 | J10: 5.4380773
A11: Gas | B11: Bedrijfshal algemeen (geen LISA-informatie) | C11: 1995 tot 2009 | D11: 7921 | E11: 0.439 | F11: 4.9860586 | G11: 1.0078125 | H11: 3.5366972 | I11: 6.8921821 | J11: 4.9459808
A12: Gas | B12: Bedrijfshal algemeen (geen LISA-informatie) | C12: 2009 tot 2015 | D12: 1571 | E12: 0.087 | F12: 4.3565463 | G12: 0.61317656 | H12: 2.9336207 | I12: 5.8902442 | J12: 4.8021086
A13: Gas | B13: Bedrijfshal algemeen (geen LISA-informatie) | C13: vanaf 2015 | D13: 1066 | E13: 0.059 | F13: 4.1167865 | G13: 0.009077381 | H13: 2.3785441 | I13: 5.3416483 | J13: 3.1026225
... A55: Gas | B55: Bijeenkomstgebouw (niet nader ingedeeld) | C55: vanaf 2015 | D55: 201 | E55: 0.022 | F55: 10.546407 | G55: 4.1813997 | H55: 6.8708183 | I55: 14.17 | J55: 9.0444606
A56: Gas | B56: Campusgebouw | C56: tot 1978 | D56: 32 | E56: 0.323 | F56: 10.916603 | H56: 8.1783952 | J56: 11.233947
A57: Gas | B57: Campusgebouw | C57: 1978 tot 1995 | D57: 13 | E57: 0.131 | F57: 16.171213 | J57: 13.78622
A58: Gas | B58: Campusgebouw | C58: 1995 tot 2009 | D58: 30 | E58: 0.303 | F58: 14.690007 | H58: 9.875335 | J58: 14.69638
A59: Gas | B59: Campusgebouw | C59: 2009 tot 2015 | D59: 11 | E59: 0.111 | F59: 9.2165568 | J59: 6.6312044
A60: Gas | B60: Campusgebouw | C60: vanaf 2015 | D60: 13 | E60: 0.131 | F60: 8.3254043 | J60: 1.2385544
A61: Gas | B61: Cultuurhuis | C61: tot 1946 | D61: 212 | E61: 0.393 | F61: 11.974826 | G61: 6.8897947 | H61: 11.195899 | I61: 15.634593 | J61: 7.0968164
A62: Gas | B62: Cultuurhuis | C62: 1946 tot 1978 | D62: 118 | E62: 0.219 | F62: 10.679865 | G62: 6.9748503 | H62: 10.007254 | I62: 13.589344 | J62: 8.6380914
A63: Gas | B63: Cultuurhuis | C63: 1978 tot 1995 | D63: 94 | E63: 0.174 | F63: 10.249565 | G63: 7.0312998 | H63: 9.1832747 | I63: 13.441292 | J63: 8.7339941
A64: Gas | B64: Cultuurhuis | C64: 1995 tot 2009 | D64: 87 | E64: 0.161 | F64: 8.7165525 | G64: 5.2168502 | H64: 7.8287093 | I64: 10.404927 | J64: 6.3617113
A65: Gas | B65: Cultuurhuis | C65: 2009 tot 2015 | D65: 18 | E65: 0.033 | F65: 8.4100911 | J65: 4.886649
A66: Gas | B66: Cultuurhuis | C66: vanaf 2015 | D66: 11 | E66: 0.02 | F66: 4.6442037 | J66: 4.3008591
A67: Gas | B67: Gebedshuis | C67: tot 1946 | D67: 1768 | E67: 0.414 | F67: 10.996563 | G67: 6.3201197 | H67: 10.392729 | I67: 15.128413 | J67: 7.5532384
A68: Gas | B68: Gebedshuis | C68: 1946 tot 1978 | D68: 1500 | E68: 0.351 | F68: 10.219648 | G68: 6.3367593 | H68: 9.6212317 | I68: 13.235054 | J68: 8.5402312
A69: Gas | B69: Gebedshuis | C69: 1978 tot 1995 | D69: 542 | E69: 0.127 | F69: 9.7258887 | G69: 6.2438302 | H69: 9.1288239 | I69: 12.327879 | J69: 7.8824857
A70: Gas | B70: Gebedshuis | C70: 1995 tot 2009 | D70: 346 | E70: 0.081 | F70: 9.2907096 | G70: 6.2475116 | H70: 8.6835807 | I70: 11.668003 | J70: 8.3983024
A71: Gas | B71: Gebedshuis | C71: 2009 tot 2015 | D71: 84 | E71: 0.02 | F71: 6.9319515 | G71: 4.6797485 | H71: 6.2575916 | I71: 8.846237 | J71: 5.9090143
A72: Gas | B72: Gebedshuis | C72: vanaf 2015 | D72: 29 | E72: 0.007 | F72: 6.9215046 | H72: 7 | J72: 4.163388
A73: Gas | B73: Gebouw bij spooremplacement | C73: tot 1946 | D73: 22 | E73: 0.262 | F73: 11.42395 | H73: 5.22466 | J73: 8.6709364
A74: Gas | B74: Gebouw bij spooremplacement | C74: 1946 tot 1978 | D74: 16 | E74: 0.19 | F74: 11.173123 | J74: 8.9689104
A75: Gas | B75: Gebouw bij spooremplacement | C75: 1978 tot 1995 | D75: 17 | E75: 0.202 | F75: 13.117002 | J75: 14.149791
A76: Gas | B76: Gebouw bij spooremplacement | C76: 1995 tot 2009 | D76: 14 | E76: 0.167 | F76: 11.27615 | J76: 7.4436094
A77: Gas | B77: Gebouw bij spooremplacement | C77: vanaf 2009 | D77: 15 | E77: 0.179 | F77: 5.9917417 | J77: 3.2030153
A78: Gas | B78: Gebouw bij vliegveld of luchthaven | C78: tot 1978 | D78: 25 | E78: 0.15 | F78: 9.4909647 | H78: 7.6595092 | J78: 7.9542873
A79: Gas | B79: Gebouw bij vliegveld of luchthaven | C79: 1978 tot 1995 | D79: 69 | E79: 0.413 | F79: 7.7846379 | G79: 2.5759188 | H79: 5.6266667 | I79: 12.100741 | J79: 8.0416655
A80: Gas | B80: Gebouw bij vliegveld of luchthaven | C80: 1995 tot 2009 | D80: 51 | E80: 0.305 | F80: 11.843902 | G80: 3.0299524 | H80: 6.2645161 | I80: 14.12006 | J80: 10.298289
A81: Gas | B81: Gebouw bij vliegveld of luchthaven | C81: vanaf 2009 | D81: 22 | E81: 0.132 | F81: 8.4640712 | H81: 4.6057367 | J81: 6.1472379
...

Sheet gas_kental_opp_2021
A1: Energiedrager | B1: Gebouwtype | C1: Oppervlakteklasse | D1: Aantal panden | E1: Aandeel panden per gebouwtype | F1: Gemiddelde kental (m3/m2) | G1: Q1 kental (m3/m2) | H1: Mediaan kental (m3/m2) | I1: Q3 kental (m3/m2) | J1: Gewogen gemiddelde kental (m3/m2)
A2: Gas | B2: Basisschool | C2: tot 250 m2 | D2: 14 | E2: 0.003 | F2: 17.21638 | J2: 18.321834
A3: Gas | B3: Basisschool | C3: 250 tot 500 m2 | D3: 107 | E3: 0.024 | F3: 15.678627 | G3: 11.966675 | H3: 14.130667 | I3: 18.654292 | J3: 15.525038
A4: Gas | B4: Basisschool | C4: 500 tot 1000 m2 | D4: 859 | E4: 0.193 | F4: 13.084093 | G4: 10.005914 | H4: 12.507653 | I4: 15.566634 | J4: 12.973088
A5: Gas | B5: Basisschool | C5: 1000 tot 2500 m2 | D5: 2576 | E5: 0.579 | F5: 10.500074 | G5: 7.7663535 | H5: 10.198245 | I5: 12.986055 | J5: 10.200857
A6: Gas | B6: Basisschool | C6: 2500 tot 5000 m2 | D6: 692 | E6: 0.156 | F6: 7.1528516 | G6: 4.4856798 | H6: 6.7876004 | I6: 9.4635024 | J6: 7.0870891
A7: Gas | B7: Basisschool | C7: 5000 tot 10000 m2 | D7: 164 | E7: 0.037 | F7: 5.2298746 | G7: 2.6762511 | H7: 4.8024943 | I7: 7.4445803 | J7: 5.1653781
A8: Gas | B8: Basisschool | C8: vanaf 10000 m2 | D8: 37 | E8: 0.008 | F8: 4.3148929 | H8: 3.3216001 | J8: 3.7030396
A9: Gas | B9: Bedrijfshal algemeen (geen LISA-informatie) | C9: tot 50 m2 | D9: 171 | E9: 0.009 | F9: 8.0053767 | H9: 2.173913 | I9: 13.190476 | J9: 7.8382941
A10: Gas | B10: Bedrijfshal algemeen (geen LISA-informatie) | C10: 50 tot 100 m2 | D10: 1227 | E10: 0.068 | F10: 6.4029119 | G10: 0.011494253 | H10: 3.1363636 | I10: 9.4072809 | J10: 6.3268653
A11: Gas | B11: Bedrijfshal algemeen (geen LISA-informatie) | C11: 100 tot 250 m2 | D11: 4506 | E11: 0.25 | F11: 5.2090646 | G11: 0.46481962 | H11: 3.475732 | I11: 7.2957342 | J11: 5.2362413
A12: Gas | B12: Bedrijfshal algemeen (geen LISA-informatie) | C12: 250 tot 500 m2 | D12: 3667 | E12: 0.203 | F12: 5.4268808 | G12: 1.3495495 | H12: 3.8937008 | I12: 7.3680554 | J12: 5.439004
A13: Gas | B13: Bedrijfshal algemeen (geen LISA-informatie) | C13: 500 tot 1000 m2 | D13: 3564 | E13: 0.197 | F13: 5.5974625 | G13: 1.6486253 | H13: 4.0716817 | I13: 7.5572903 | J13: 5.5911531
A14: Gas | B14: Bedrijfshal algemeen (geen LISA-informatie) | C14: 1000 tot 2500 m2 | D14: 3096 | E14: 0.172 | F14: 5.4801009 | G14: 1.4866319 | H14: 3.7797796 | I14: 7.3604308 | J14: 5.480144
A15: Gas | B15: Bedrijfshal algemeen (geen LISA-informatie) | C15: 2500 tot 5000 m2 | D15: 1097 | E15: 0.061 | F15: 5.18005 | G15: 1.0560144 | H15: 3.3289957 | I15: 6.9348323 | J15: 5.176063
A16: Gas | B16: Bedrijfshal algemeen (geen LISA-informatie) | C16: 5000 tot 10000 m2 | D16: 487 | E16: 0.027 | F16: 5.1278559 | G16: 0.91114648 | H16: 3.0391846 | I16: 6.2885417 | J16: 5.0885386
A17: Gas | B17: Bedrijfshal algemeen (geen LISA-informatie) | C17: vanaf 10000 m2 | D17: 233 | E17: 0.013 | F17: 4.4871732 | G17: 0.84500755 | H17: 2.1620555 | I17: 5.374151 | J17: 4.079572
A18: Gas | B18: Bedrijfshal algemeen (met LISA-informatie) | C18: tot 50 m2 | D18: 35 | E18: 0.003 | F18: 19.907391 | H18: 14.782609 | J18: 18.464493
A19: Gas | B19: Bedrijfshal algemeen (met LISA-informatie) | C19: 50 tot 100 m2 | D19: 363 | E19: 0.032 | F19: 10.274951 | G19: 3.2668112 | H19: 7.8181818 | I19: 13.663728 | J19: 9.8170586
A20: Gas | B20: Bedrijfshal algemeen (met LISA-informatie) | C20: 100 tot 250 m2 | D20: 1936 | E20: 0.172 | F20: 7.4291979 | G20: 2.75 | H20: 5.5790295 | I20: 9.5592262 | J20: 7.2993219
A21: Gas | B21: Bedrijfshal algemeen (met LISA-informatie) | C21: 250 tot 500 m2 | D21: 1939 | E21: 0.173 | F21: 7.0678687 | G21: 2.8838971 | H21: 5.3916667 | I21: 8.8098571 | J21: 6.9715249
A22: Gas | B22: Bedrijfshal algemeen (met LISA-informatie) | C22: 500 tot 1000 m2 | D22: 2606 | E22: 0.232 | F22: 6.3695343 | G22: 2.744007 | H22: 5.0123309 | I22: 8.1904343 | J22: 6.3460277
A23: Gas | B23: Bedrijfshal algemeen (met LISA-informatie) | C23: 1000 tot 2500 m2 | D23: 2583 | E23: 0.23 | F23: 5.8626778 | G23: 2.2980973 | H23: 4.4476285 | I23: 7.4776646 | J23: 5.8053482
A24: Gas | B24: Bedrijfshal algemeen (met LISA-informatie) | C24: 2500 tot 5000 m2 | D24: 1000 | E24: 0.089 | F24: 5.5045816 | G24: 1.7585446 | H24: 3.7111917 | I24: 6.6569485 | J24: 5.4540537
A25: Gas | B25: Bedrijfshal algemeen (met LISA-informatie) | C25: 5000 tot 10000 m2 | D25: 479 | E25: 0.043 | F25: 5.1247561 | G25: 1.2998616 | H25: 3.2062 | I25: 6.4328031 | J25: 5.1640467
A26: Gas | B26: Bedrijfshal algemeen (met LISA-informatie) | C26: vanaf 10000 m2 | D26: 289 | E26: 0.026 | F26: 3.8966559 | G26: 1.126931 | H26: 2.4264148 | I26: 4.8265667 | J26: 3.6278245
A27: Gas | B27: Bedrijfshal met logistieke activiteiten | C27: tot 100 m2 | D27: 25 | E27: 0.005 | F27: 10.601932 | H27: 8.6933333 | J27: 9.7490775
A28: Gas | B28: Bedrijfshal met logistieke activiteiten | C28: 100 tot 250 m2 | D28: 184 | E28: 0.037 | F28: 8.4205861 | G28: 3.3797101 | H28: 6.1570856 | I28: 9.9077429 | J28: 8.3424772
A29: Gas | B29: Bedrijfshal met logistieke activiteiten | C29: 250 tot 500 m2 | D29: 339 | E29: 0.069 | F29: 7.2435105 | G29: 3.6903495 | H29: 5.6648045 | I29: 9.0891966 | J29: 7.2471863
A30: Gas | B30: Bedrijfshal met logistieke activiteiten | C30: 500 tot 1000 m2 | D30: 771 | E30: 0.156 | F30: 6.0724758 | G30: 3.137963 | H30: 5.0865672 | I30: 7.7817071 | J30: 5.9852344
A31: Gas | B31: Bedrijfshal met logistieke activiteiten | C31: 1000 tot 2500 m2 | D31: 1740 | E31: 0.352 | F31: 5.200007 | G31: 2.6187516 | H31: 4.2858267 | I31: 6.4130324 | J31: 5.1008055
A32: Gas | B32: Bedrijfshal met logistieke activiteiten | C32: 2500 tot 5000 m2 | D32: 1041 | E32: 0.211 | F32: 4.9915334 | G32: 2.2990937 | H32: 3.8308605 | I32: 6.1422453 | J32: 4.935779
A33: Gas | B33: Bedrijfshal met logistieke activiteiten | C33: 5000 tot 10000 m2 | D33: 523 | E33: 0.106 | F33: 4.6765876 | G33: 1.7792935 | H33: 3.4790013 | I33: 6.0954628 | J33: 4.6608523
A34: Gas | B34: Bedrijfshal met logistieke activiteiten | C34: vanaf 10000 m2 | D34: 317 | E34: 0.064 | F34: 3.6956581 | G34: 1.095949 | H34: 2.558947 | I34: 4.8143845 | J34: 3.1574132
A35: Gas | B35: Bedrijfshal met maakindustrie en andere economische activiteiten | C35: tot 100 m2 | D35: 40 | E35: 0.009 | F35: 10.580037 | G35: 2.5599206 | H35: 8.025 | I35: 14.963128 | J35: 10.460504
A36: Gas | B36: Bedrijfshal met maakindustrie en andere economische activiteiten | C36: 100 tot 250 m2 | D36: 246 | E36: 0.054 | F36: 8.9421803 | G36: 3.8221569 | H36: 6.1877193 | I36: 11.102823 | J36: 8.7644861
A37: Gas | B37: Bedrijfshal met maakindustrie en andere economische activiteiten | C37: 250 tot 500 m2 | D37: 410 | E37: 0.09 | F37: 7.0927098 | G37: 3.2108488 | H37: 5.4155872 | I37: 9.0833521 | J37: 7.0440111
A38: Gas | B38: Bedrijfshal met maakindustrie en andere economische activiteiten | C38: 500 tot 1000 m2 | D38: 1085 | E38: 0.237 | F38: 6.3224513 | G38: 2.8878676 | H38: 5.0838323 | I38: 7.7602627 | J38: 6.277337
A39: Gas | B39: Bedrijfshal met maakindustrie en andere economische activiteiten | C39: 1000 tot 2500 m2 | D39: 1680 | E39: 0.368 | F39: 5.492398 | G39: 2.5473307 | H39: 4.3066806 | I39: 6.8792888 | J39: 5.4555217
... A42: Gas | B42: Bedrijfshal met maakindustrie en andere economische activiteiten | C42: vanaf 10000 m2 | D42: 139 | E42: 0.03 | F42: 6.7637122 | G42: 1.5822155 | H42: 4.5150156 | I42: 9.0489545 | J42: 6.7596467
...

Sheet gas_kental_diensten_2021
A1: Energiedrager | B1: Gebouwtype | C1: Aantal panden | D1: Gemiddelde kental (m3/m2) | E1: Q1 kental (m3/m2) | F1: Mediaan kental (m3/m2) | G1: Q3 kental (m3/m2) | H1: Gewogen gemiddelde kental (m3/m2)
A2: Gas | B2: Asielzoekerscentrum | C2: 54 | D2: 25.741677 | E2: 10.217212 | F2: 16.959928 | G2: 25.036492 | H2: 18.197803
A3: Gas | B3: Basisschool | C3: 4041 | D3: 10.541393 | E3: 7.4671246 | F3: 10.267653 | G3: 13.307692 | H3: 8.8631155
A4: Gas | B4: Bedrijfshal algemeen (geen LISA-informatie) | C4: 10407 | D4: 5.2992133 | E4: 0.98501223 | F4: 3.5770171 | G4: 7.2909769 | H4: 4.5703664
A5: Gas | B5: Bedrijfshal algemeen (met LISA-informatie) | C5: 7824 | D5: 6.5839441 | E5: 2.4561311 | F5: 4.9368124 | G5: 8.4597576 | H5: 5.0686917
A6: Gas | B6: Bedrijfshal met logistieke activiteiten | C6: 2015 | D6: 5.6021109 | E6: 2.2815809 | F6: 4.5138593 | G6: 7.4913056 | H6: 4.2148964
A7: Gas | B7: Bedrijfshal met maakindustrie en andere economische activiteiten | C7: 1560 | D7: 6.6013638 | E7: 2.6754712 | F7: 5.0741773 | G7: 8.4483384 | H7: 5.9022788
A8: Gas | B8: Bedrijfshal met maakindustrie en logistieke activiteiten | C8: 6146 | D8: 5.7369954 | E8: 2.2156606 | F8: 4.4496696 | G8: 7.5742823 | H8: 4.6210394
A9: Gas | B9: Bedrijfshal uitsluitend maakindustrie | C9: 6680 | D9: 7.6460139 | E9: 2.9303729 | F9: 5.6459541 | G9: 9.4892366 | H9: 7.4695726
A10: Gas | B10: Bedrijfswoning | C10: 8443 | D10: 14.152103 | E10: 6.5058897 | F10: 11.206226 | G10: 17.894772 | H10: 10.394566
A11: Gas | B11: Bijeenkomstgebouw (niet nader ingedeeld) | C11: 8424 | D11: 10.886336 | E11: 5.1243191 | F11: 9.0279057 | G11: 14.459105 | H11: 9.396347
A12: Gas | B12: Campusgebouw | C12: 71 | D12: 11.965888 | E12: 3.2746371 | F12: 9.6059259 | G12: 15.20292 | H12: 12.214048
A13: Gas | B13: Cultuurhuis | C13: 453 | D13: 10.748118 | E13: 6.4577165 | F13: 9.5457106 | G13: 14.077138 | H13: 7.8993797
... A15: Gas | B15: Gebedshuis | C15: 3668 | D15: 10.390863 | E15: 6.2554639 | F15: 9.5844683 | G15: 13.698252 | H15: 8.0364344
A16: Gas | B16: Gebouw bij militaire inrichting
A17: Gas | B17: Gebouw bij spooremplacement | C17: 44 | D17: 9.480269 | E17: 2.8152727 | F17: 9.8583747 | G17: 14.096773 | H17: 8.4168636
A18: Gas | B18: Gebouw bij vliegveld of luchthaven | C18: 117 | D18: 9.4816846 | E18: 2.5157068 | F18: 6.9034091 | G18: 12.948148 | H18: 6.8322494
A19: Gas | B19: Gebouw in landelijk gebied voor industrie (geen landbouwactiviteiten geregistreerd) | C19: 1841 | D19: 7.4630823 | E19: 1.7582418 | F19: 4.9471698 | G19: 9.8878676 | H19: 5.0946845
A20: Gas | B20: Gebouw in stedelijk gebied met industriefunctie | C20: 8105 | D20: 9.3990242 | E20: 2.4496124 | F20: 6.3958991 | G20: 12.333333 | H20: 6.3676205
A21: Gas | B21: Gebouw op snelwegverzorgingsplaats | C21: 55 | D21: 13.577346 | E21: 4.3263298 | F21: 9.6827586 | G21: 15.457341 | H21: 19.27632
A22: Gas | B22: Gebouw op vakantiepark | C22: 31961 | D22: 12.768365 | E22: 8.0137931 | F22: 11.857143 | G22: 16.225806 | H22: 12.520548
A23: Gas | B23: Gebouw voor landbouwactiviteiten | C23: 212 | D23: 17.54463 | E23: 2.681532 | F23: 7.3755657 | G23: 18.519986 | H23: 4.8928053
A24: Gas | B24: Groothandel op bedrijventerrein | C24: 174 | D24: 5.7048458 | E24: 2.9655902 | F24: 4.8623929 | G24: 7.2118043 | H24: 4.8799413
A25: Gas | B25: Hotel (of ander groot logiesgebouw) | C25: 2000 | D25: 14.786858 | E25: 8.0424147 | F25: 13.661946 | G25: 20.063159 | H25: 11.742668
A26: Gas | B26: IJsbaan | C26: 110 | D26: 6.2783161 | E26: 3.2867301 | F26: 5.2958333 | G26: 8.0764874 | H26: 6.7756649
A27: Gas | B27: Kantoorpand algemeen | C27: 16148 | D27: 11.169891 | E27: 6.481767 | F27: 10.271109 | G27: 14.887939 | H27: 8.3136016
A28: Gas | B28: Kinderopvang (gebouw) | C28: 1392 | D28: 13.336791 | E28: 8.7951589 | F28: 12.487859 | G28: 17.170265 | H28: 11.643297
A29: Gas | B29: Koelhuis | C29: 68 | D29: 5.6667928 | E29: 0.65670298 | F29: 1.5224928 | G29: 6.5011151 | H29: 3.9916819
A30: Gas | B30: MBO-gebouw
A31: Gas | B31: Meergezinswoning met andere functie of combinatie van functies | C31: 1874 | D31: 12.041004 | E31: 6.5511682 | F31: 11.238485 | G31: 16.518597 | H31: 9.6728273
A32: Gas | B32: Meergezinswoning met cafe of restaurant | C32: 1170 | D32: 16.570122 | E32: 8.0992814 | F32: 14.433795 | G32: 22.220126 | H32: 14.633827
A33: Gas | B33: Meergezinswoning met winkel | C33: 3069 | D33: 11.833296 | E33: 6.1377483 | F33: 10.761421 | G33: 16.267081 | H33: 9.9911215
A34: Gas | B34: Meergezinswoning met winkels en horeca | C34: 315 | D34: 13.348233 | E34: 7.1974451 | F34: 11.824619 | G34: 18.665272 | H34: 6.2638169
A35: Gas | B35: Meergezinswoning met woonzorgeenheden | C35: 88 | D35: 13.868474 | E35: 8.5225506 | F35: 12.606433 | G35: 18.050765 | H35: 13.396922
A36: Gas | B36: Middelbare school | C36: 995 | D36: 10.28748 | E36: 6.1337303 | F36: 9.6912371 | G36: 13.502485 | H36: 8.4855026
A37: Gas | B37: Nutsgebouw (elektriciteit)
A38: Gas | B38: Nutsgebouw (water) | C38: 186 | D38: 24.044713 | E38: 7.1948188 | F38: 14.424673 | G38: 27.020834 | H38: 12.026957
A39: Gas | B39: Overig gebouw met maatschappelijke functie | C39: 1394 | D39: 13.482216 | E39: 5.3136322 | F39: 10.03481 | G39: 16.642219 | H39: 12.127336
A40: Gas | B40: Overig gebouw met recreatiefunctie | C40: 60 | D40: 16.554436 | E40: 5.2782747 | F40: 10.105833 | G40: 18.925383 | H40: 17.625266
A41: Gas | B41: Overig onderwijsgebouw | C41: 2795 | D41: 12.226138 | E41: 7.7772196 | F41: 11.293907 | G41: 15.511745 | H41: 9.555306
...

Sheet elek_kental_2021
A1: Energiedrager | B1: Gebouwtype | C1: Aantal panden | D1: Gemiddelde kental (kWh/m2) | E1: Q1 kental (kWh/m2) | F1: Mediaan kental (kWh/m2) | G1: Q3 kental (kWh/m2) | H1: Gewogen gemiddelde kental (kWh/m2) | I1: Gemiddelde kental inclusief eigenverbruik zonnestroom (kWh/m2) | J1: Q1 kental inclusief eigenverbruik zonnestroom (kWh/m2) | K1: Mediaan kental inclusief eigenverbruik zonnestroom (kWh/m2) | L1: Q3 kental inclusief eigenverbruik zonnestroom (kWh/m2) | M1: Gewogen gemiddelde kental inclusief eigenverbruik zonnestroom (kWh/m2)
A2: Elektriciteit | B2: Asielzoekerscentrum | C2: 63 | D2: 78.072885 | E2: 22.161554 | F2: 45.263024 | G2: 90.416085 | H2: 51.76276 | I2: 78.415567 | J2: 24.113826 | K2: 45.263024 | L2: 90.416085 | M2: 52.390233
A3: Elektriciteit | B3: Basisschool | C3: 4773 | D3: 24.686947 | E3: 15.393078 | F3: 20.899852 | G3: 29.82 | H3: 26.149116 | I3: 27.165797 | J3: 16.958996 | K3: 22.562633 | L3: 32.838554 | M3: 28.53326
A4: Elektriciteit | B4: Bedrijfshal algemeen (geen LISA-informatie) | C4: 18438 | D4: 37.503224 | E4: 11.092436 | F4: 20.711061 | G4: 40.944322 | H4: 44.663059 | I4: 39.255999 | J4: 11.528675 | K4: 21.683807 | L4: 42.879404 | M4: 47.341825
A5: Elektriciteit | B5: Bedrijfshal algemeen (met LISA-informatie) | C5: 12238 | D5: 45.762659 | E5: 14.743747 | F5: 26.195366 | G5: 48.546202 | H5: 47.399384 | I5: 48.528616 | J5: 15.877459 | K5: 27.829286 | L5: 52.003138 | M5: 50.820338
A6: Elektriciteit | B6: Bedrijfshal met logistieke activiteiten | C6: 5497 | D6: 39.727358 | E6: 16.476755 | F6: 26.171592 | G6: 43.052632 | H6: 41.469776 | I6: 42.524606 | J6: 17.484796 | K6: 27.733473 | L6: 46.032374 | M6: 44.943003
A7: Elektriciteit | B7: Bedrijfshal met maakindustrie en andere economische activiteiten | C7: 4886 | D7: 43.096335 | E7: 16.745093 | F7: 27.58714 | G7: 47.670604 | H7: 50.913392 | I7: 45.986868 | J7: 17.876113 | K7: 29.520756 | L7: 51.264143 | M7: 54.247349
A8: Elektriciteit | B8: Bedrijfshal met maakindustrie en logistieke activiteiten | C8: 10463 | D8: 46.391031 | E8: 14.851706 | F8: 25.723687 | G8: 46.737236 | H8: 53.770092 | I8: 50.397454 | J8: 16.030013 | K8: 27.4964 | L8: 50.020115 | M8: 57.557627
A9: Elektriciteit | B9: Bedrijfshal uitsluitend maakindustrie | C9: 19004 | D9: 57.975572 | E9: 16.77633 | F9: 29.916496 | G9: 57.860612 | H9: 92.133695 | I9: 61.229922 | J9: 18.071585 | K9: 32.256681 | L9: 61.968224 | M9: 96.021702
A10: Elektriciteit | B10: Bedrijfswoning | C10: 67855 | D10: 64.848059 | E10: 16.523336 | F10: 29.765 | G10: 63.765602 | H10: 49.80336 | I10: 75.846361 | J10: 18.255862 | K10: 32.991837 | L10: 72.179821 | M10: 57.833919
A11: Elektriciteit | B11: Bijeenkomstgebouw (niet nader ingedeeld) | C11: 8946 | D11: 42.031083 | E11: 12.140252 | F11: 22.749329 | G11: 47.891067 | H11: 43.480275 | I11: 43.876417 | J11: 12.871911 | K11: 24.471557 | L11: 51.128238 | M11: 45.124152
A12: Elektriciteit | B12: Campusgebouw | C12: 105 | D12: 88.465208 | E12: 32.679286 | F12: 54.569199 | G12: 110.61474 | H12: 66.80105 | I12: 91.553926 | J12: 32.679286 | K12: 55.886152 | L12: 110.61474 | M12: 69.120344
A13: Elektriciteit | B13: Cultuurhuis | C13: 568 | D13: 49.428003 | E13: 20.926962 | F13: 35.487186 | G13: 67.438703 | H13: 47.7502 | I13: 51.372455 | J13: 22.661464 | K13: 37.791762 | L13: 69.060598 | M13: 49.255695
... A15: Elektriciteit | B15: Gebedshuis | C15: 3527 | D15: 14.26786 | E15: 7.8129478 | F15: 11.4329 | G15: 17.612297 | H15: 15.721261 | I15: 15.041396 | J15: 8.0874323 | K15: 11.982063 | L15: 18.621865 | M15: 16.640706
A16: Elektriciteit | B16: Gebouw bij militaire inrichting | C16: 13 | D16: 709.70788 | H16: 518.48546 | I16: 709.70788 | M16: 518.48546
A17: Elektriciteit | B17: Gebouw bij spooremplacement | C17: 67 | D17: 65.001765 | E17: 18.333421 | F17: 50.311979 | G17: 92.101884 | H17: 54.510063 | I17: 65.475403 | J17: 21.343639 | K17: 50.311979 | L17: 92.101884 | M17: 55.011722
A18: Elektriciteit | B18: Gebouw bij vliegveld of luchthaven | C18: 143 | D18: 53.719593 | E18: 10.974105 | F18: 31.601887 | G18: 65.034777 | H18: 63.305664 | I18: 57.822713 | J18: 11.764017 | K18: 34.625 | L18: 67.918818 | M18: 68.321386
A19: Elektriciteit | B19: Gebouw in landelijk gebied voor industrie (geen landbouwactiviteiten geregistreerd) | C19: 4808 | D19: 47.127628 | E19: 12.893555 | F19: 25.615515 | G19: 52.717338 | H19: 50.083763 | I19: 54.205023 | J19: 13.98999 | K19: 28.190034 | L19: 58.760516 | M19: 58.383443
A20: Elektriciteit | B20: Gebouw in stedelijk gebied met industriefunctie | C20: 13354 | D20: 53.235812 | E20: 13.70989 | F20: 26.251779 | G20: 53.936934 | H20: 54.441225 | I20: 55.487607 | J20: 14.365344 | K20: 27.730994 | L20: 56.654499 | M20: 56.542932
A21: Elektriciteit | B21: Gebouw op snelwegverzorgingsplaats | C21: 128 | D21: 578.76495 | E21: 266.97885 | F21: 634.88178 | G21: 838.71129 | H21: 346.74392 | I21: 604.30687 | J21: 266.97885 | K21: 634.88178 | L21: 864.49503 | M21: 363.05361
A22: Elektriciteit | B22: Gebouw op vakantiepark | C22: 35406 | D22: 28.420296 | E22: 12.10947 | F22: 18.664729 | G22: 30.801293 | H22: 35.402702 | I22: 31.121667 | J22: 12.456522 | K22: 19.307692 | L22: 32.387767 | M22: 38.898168
A23: Elektriciteit | B23: Gebouw voor landbouwactiviteiten | C23: 2403 | D23: 117.16943 | E23: 21.954749 | F23: 48.634592 | G23: 141.14092 | H23: 81.917058 | I23: 129.1719 | J23: 24.857042 | K23: 55.622951 | L23: 158.32804 | M23: 89.522013
A24: Elektriciteit | B24: Groothandel op bedrijventerrein | C24: 589 | D24: 29.008087 | E24: 15.679454 | F24: 24.391736 | G24: 35.529628 | H24: 27.307366 | I24: 30.995203 | J24: 16.767925 | K24: 25.627119 | L24: 37.42596 | M24: 29.017183
A25: Elektriciteit | B25: Hotel (of ander groot logiesgebouw) | C25: 2439 | D25: 62.379271 | E25: 24.298719 | F25: 48.471056 | G25: 89.817601 | H25: 68.645744 | I25: 63.767809 | J25: 25.607879 | K25: 49.809735 | L25: 91.8777 | M25: 69.8447
A26: Elektriciteit | B26: IJsbaan | C26: 105 | D26: 24.327512 | E26: 9.9814815 | F26: 15.282609 | G26: 29.619048 | H26: 69.032767 | I26: 25.778274 | J26: 10.090909 | K26: 15.851562 | L26: 32.462687 | M26: 69.426023
A27: Elektriciteit | B27: Kantoorpand algemeen | C27: 20814 | D27: 46.686836 | E27: 20.884248 | F27: 36.10458 | G27: 59.995327 | H27: 52.857872 | I27: 49.290036 | J27: 22.156717 | K27: 38.161949 | L27: 62.782575 | M27: 54.526205
A28: Elektriciteit | B28: Kinderopvang (gebouw) | C28: 1530 | D28: 31.686732 | E28: 18.829043 | F28: 27.495607 | G28: 38.565513 | H28: 30.149472 | I28: 32.99423 | J28: 19.920023 | K28: 28.263198 | L28: 40.123124 | M28: 31.469446
A29: Elektriciteit | B29: Koelhuis | C29: 95 | D29: 274.57933 | E29: 84.294667 | F29: 190.49726 | G29: 354.70616 | H29: 238.56185 | I29: 286.78252 | J29: 100.56281 | K29: 211.44167 | L29: 375.35549 | M29: 251.012
A30: Elektriciteit | B30: MBO-gebouw | C30: 16 | D30: 69.798239 | H30: 65.076792 | I30: 71.489829 | M30: 66.274819
A31: Elektriciteit | B31: Meergezinswoning met andere functie of combinatie van functies | C31: 17654 | D31: 37.492179 | E31: 18.778458 | F31: 27.575239 | G31: 42.405944 | H31: 38.344908 | I31: 38.984045 | J31: 19.377786 | K31: 28.382564 | L31: 43.968825 | M31: 39.583423
A32: Elektriciteit | B32: Meergezinswoning met cafe of restaurant | C32: 6274 | D32: 80.997033 | E32: 33.260927 | F32: 68.258674 | G32: 114.11817 | H32: 71.951972 | I32: 81.425716 | J32: 34.105831 | K32: 68.667288 | L32: 114.31324 | M32: 72.430166
A33: Elektriciteit | B33: Meergezinswoning met winkel | C33: 22180 | D33: 48.657472 | E33: 23.255434 | F33: 35.689072 | G33: 59.492476 | H33: 49.795983 | I33: 49.089354 | J33: 23.603611 | K33: 36.147292 | L33: 59.984296 | M33: 50.283857
A34: Elektriciteit | B34: Meergezinswoning met winkels en horeca | C34: 2548 | D34: 54.768809 | E34: 26.441313 | F34: 41.739307 | G34: 70.028852 | H34: 55.658292 | I34: 55.404763 | J34: 26.973014 | K34: 42.703041 | L34: 71.440822 | M34: 56.223448
A35: Elektriciteit | B35: Meergezinswoning met woonzorgeenheden | C35: 282 | D35: 32.949485 | E35: 18.174681 | F35: 29.426387 | G35: 41.661114 | H35: 36.163866 | I35: 34.984986 | J35: 19.849229 | K35: 30.954314 | L35: 42.564927 | M35: 38.519145
A36: Elektriciteit | B36: Middelbare school | C36: 1088 | D36: 36.802024 | E36: 21.711319 | F36: 30.371866 | G36: 44.393274 | H36: 33.968766 | I36: 40.325984 | J36: 24.141413 | K36: 33.865201 | L36: 48.973784 | M36: 37.297152
A37: Elektriciteit | B37: Nutsgebouw (elektriciteit) | C37: 144 | D37: 241.6731 | E37: 40.37725 | F37: 99.881991 | G37: 354.33469 | H37: 125.77376 | I37: 250.76849 | J37: 44.248398 | K37: 100.38579 | L37: 386.56319 | M37: 130.4218
A38: Elektriciteit | B38: Nutsgebouw (water) | C38: 60 | D38: 501.73609 | E38: 25.825552 | F38: 94.366204 | G38: 495.24079 | H38: 421.44548 | I38: 638.46922 | J38: 30.309178 | K38: 103.17407 | L38: 669.44681 | M38: 543.66486
A39: Elektriciteit | B39: Overig gebouw met maatschappelijke functie | C39: 1207 | D39: 38.138822 | E39: 8.7519779 | F39: 16.409804 | G39: 41.9553 | H39: 49.768784 | I39: 39.077597 | J39: 8.9455585 | K39: 16.586207 | L39: 43.689245 | M39: 51.693251
A40: Elektriciteit | B40: Overig gebouw met recreatiefunctie | C40: 75 | D40: 122.91557 | E40: 37.537945 | F40: 83.304833 | G40: 170.64505 | H40: 167.58234 | I40: 129.78444 | J40: 40.828556 | K40: 83.304833 | L40: 170.64505 | M40: 171.10296
A41: Elektriciteit | B41: Overig onderwijsgebouw | C41: 3087 | D41: 29.619285 | E41: 14.941506 | F41: 22.202869 | G41: 35.020524 | H41: 36.065141 | I41: 31.033471 | J41: 15.510726 | K41: 23.015685 | L41: 37.059653 | M41: 37.41376
...

Sheet elek_kental_bouwj_2021
A1: Energiedrager | B1: Gebouwtype | C1: Bouwjaarklasse | D1: Aantal panden | E1: Aandeel panden per gebouwtype | F1: Gemiddelde kental (kWh/m2) | G1: Q1 kental (kWh/m2) | H1: Mediaan kental (kWh/m2) | I1: Q3 kental (kWh/m2) | J1: Gewogen gemiddelde kental (kWh/m2) | K1: Gemiddelde kental inclusief eigenverbruik zonnestroom (kWh/m2) | L1: Q1 kental inclusief eigenverbruik zonnestroom (kWh/m2) | M1: Mediaan kental inclusief eigenverbruik zonnestroom (kWh/m2) | N1: Q3 kental inclusief eigenverbruik zonnestroom (kWh/m2) | O1: Gewogen gemiddelde kental inclusief eigenverbruik zonnestroom (kWh/m2)
A2: Elektriciteit | B2: Basisschool | C2: tot 1946 | D2: 445 | E2: 0.093 | F2: 22.437464 | G2: 14.183121 | H2: 19.184829 | I2: 26.404337 | J2: 20.54563 | K2: 24.358072 | L2: 15.543188 | M2: 20.739203 | N2: 27.531105 | O2: 22.166081
A3: Elektriciteit | B3: Basisschool | C3: 1946 tot 1978 | D3: 1725 | E3: 0.361 | F3: 20.276687 | G3: 13.863527 | H3: 18.204501 | I3: 23.695115 | J3: 19.443342 | K3: 22.105808 | L3: 15.640145 | M3: 19.767006 | N3: 25.270687 | O3: 21.09097
A4: Elektriciteit | B4: Basisschool | C4: 1978 tot 1995 | D4: 1097 | E4: 0.23 | F4: 21.054701 | G4: 14.854651 | H4: 19.140613 | I4: 24.684679 | J4: 20.655646 | K4: 22.847734 | L4: 16.010139 | M4: 20.524492 | N4: 26.170316 | O4: 22.304447
A5: Elektriciteit | B5: Basisschool | C5: 1995 tot 2009 | D5: 710 | E5: 0.149 | F5: 26.616196 | G5: 17.144597 | H5: 23.61587 | I5: 33.001903 | J5: 27.337165 | K5: 28.882836 | L5: 19.042646 | M5: 25.499034 | N5: 35.814339 | O5: 29.378516
A6: Elektriciteit | B6: Basisschool | C6: 2009 tot 2015 | D6: 481 | E6: 0.101 | F6: 39.508802 | G6: 28.050569 | H6: 38.102536 | I6: 50.309934 | J6: 40.192781 | K6: 43.972763 | L6: 31.067594 | M6: 42.26934 | N6: 53.222072 | O6: 43.701702
A7: Elektriciteit | B7: Basisschool | C7: vanaf 2015 | D7: 315 | E7: 0.066 | F7: 37.684454 | G7: 25.671711 | H7: 35.247867 | I7: 47.529401 | J7: 37.136798 | K7: 44.345427 | L7: 30.878417 | M7: 40.909692 | N7: 55.148467 | O7: 43.29134
A8: Elektriciteit | B8: Bedrijfshal algemeen (geen LISA-informatie) | C8: tot 1946 | D8: 243 | E8: 0.013 | F8: 44.133392 | G8: 12.157627 | H8: 21.333333 | I8: 41.21732 | J8: 37.932415 | K8: 45.335168 | L8: 12.3 | M8: 21.729483 | N8: 41.21732 | O8: 38.71131
A9: Elektriciteit | B9: Bedrijfshal algemeen (geen LISA-informatie) | C9: 1946 tot 1978 | D9: 2290 | E9: 0.124 | F9: 36.535224 | G9: 10.479706 | H9: 19.559853 | I9: 40.555915 | J9: 43.854544 | K9: 38.253078 | L9: 10.907 | M9: 20.212624 | N9: 41.783616 | O9: 46.34599
A10: Elektriciteit | B10: Bedrijfshal algemeen (geen LISA-informatie) | C10: 1978 tot 1995 | D10: 4180 | E10: 0.227 | F10: 40.683852 | G10: 11.596462 | H10: 21.26135 | I10: 42.425658 | J10: 46.87681 | K10: 42.106265 | L10: 11.93233 | M10: 22.268426 | N10: 43.962123 | O10: 48.507354
A11: Elektriciteit | B11: Bedrijfshal algemeen (geen LISA-informatie) | C11: 1995 tot 2009 | D11: 7710 | E11: 0.418 | F11: 34.572382 | G11: 10.568613 | H11: 19.622672 | I11: 37.517672 | J11: 42.868772 | K11: 36.204667 | L11: 10.944316 | M11: 20.566591 | N11: 39.661371 | O11: 45.363456
A12: Elektriciteit | B12: Bedrijfshal algemeen (geen LISA-informatie) | C12: 2009 tot 2015 | D12: 1606 | E12: 0.087 | F12: 37.028645 | G12: 11.080065 | H12: 19.407592 | I12: 39.824026 | J12: 51.843534 | K12: 39.04437 | L12: 11.369048 | M12: 20.254065 | N12: 41.791188 | O12: 56.270764
A13: Elektriciteit | B13: Bedrijfshal algemeen (geen LISA-informatie) | C13: vanaf 2015 | D13: 2409 | E13: 0.131 | F13: 41.932255 | G13: 12.784906 | H13: 25.051252 | I13: 49.321429 | J13: 42.084127 | K13: 44.557367 | L13: 13.604027 | M13: 26.97493 | N13: 53.105263 | O13: 47.164896
... A55: Elektriciteit | B55: Bijeenkomstgebouw (niet nader ingedeeld) | C55: vanaf 2015 | D55: 344 | E55: 0.038 | F55: 62.894614 | G55: 18.966978 | H55: 35.301808 | I55: 89.146875 | J55: 67.21533 | K55: 68.159446 | L55: 21.05435 | M55: 43.17848 | N55: 93.948366 | O55: 72.367505
A56: Elektriciteit | B56: Campusgebouw | C56: tot 1978 | D56: 30 | E56: 0.286 | F56: 73.580153 | H56: 43.926001 | J56: 90.390871 | K56: 75.365231 | M56: 43.926001 | O56: 92.54006
A57: Elektriciteit | B57: Campusgebouw | C57: 1978 tot 1995 | D57: 16 | E57: 0.152 | F57: 64.270526 | J57: 66.745275 | K57: 66.073783 | O57: 69.475722
A58: Elektriciteit | B58: Campusgebouw | C58: 1995 tot 2009 | D58: 36 | E58: 0.343 | F58: 91.469357 | H58: 54.244276 | J58: 76.315444 | K58: 94.381618 | M58: 55.462691 | O58: 79.317591
A59: Elektriciteit | B59: Campusgebouw | C59: 2009 tot 2015 | D59: 10 | E59: 0.095 | F59: 161.3445 | J59: 110.54264 | K59: 163.78101 | O59: 111.5564
A60: Elektriciteit | B60: Campusgebouw | C60: vanaf 2015 | D60: 13 | E60: 0.124 | F60: 88.213224 | J60: 30.681005 | K60: 96.882798 | O60: 32.902065
A61: Elektriciteit | B61: Cultuurhuis | C61: tot 1946 | D61: 223 | E61: 0.393 | F61: 50.644066 | G61: 20.23836 | H61: 38.157295 | I61: 69.773777 | J61: 47.691695 | K61: 51.258808 | L61: 20.417554 | M61: 38.588235 | N61: 70.237693 | O61: 48.023597
A62: Elektriciteit | B62: Cultuurhuis | C62: 1946 tot 1978 | D62: 112 | E62: 0.197 | F62: 35.249954 | G62: 18.203373 | H62: 24.796848 | I62: 39.405838 | J62: 41.539305 | K62: 37.046656 | L62: 19.2632 | M62: 26.234166 | N62: 41.073262 | O62: 43.391237
A63: Elektriciteit | B63: Cultuurhuis | C63: 1978 tot 1995 | D63: 106 | E63: 0.187 | F63: 47.140239 | G63: 23.878951 | H63: 34.500831 | I63: 62.415007 | J63: 46.833388 | K63: 48.549453 | L63: 26.65269 | M63: 39.215922 | N63: 64.076441 | O63: 48.564424
A64: Elektriciteit | B64: Cultuurhuis | C64: 1995 tot 2009 | D64: 86 | E64: 0.151 | F64: 59.10267 | G64: 24.981107 | H64: 45.565756 | I64: 86.898836 | J64: 53.42632 | K64: 63.74818 | L64: 26.381624 | M64: 48.138981 | N64: 89.535868 | O64: 55.389469
A65: Elektriciteit | B65: Cultuurhuis | C65: 2009 tot 2015 | D65: 22 | E65: 0.039 | F65: 72.230831 | H65: 48.548634 | J65: 48.041685 | K65: 75.415865 | M65: 48.548634 | O65: 48.435139
A66: Elektriciteit | B66: Cultuurhuis | C66: vanaf 2015 | D66: 19 | E66: 0.033 | F66: 61.300586 | J66: 51.231327 | K66: 69.046318 | O66: 57.258534
A67: Elektriciteit | B67: Gebedshuis | C67: tot 1946 | D67: 1425 | E67: 0.404 | F67: 13.377272 | G67: 7.4893813 | H67: 10.612121 | I67: 16.152174 | J67: 12.913995 | K67: 13.799945 | L67: 7.5828044 | M67: 10.953901 | N67: 16.632911 | O67: 13.411387
A68: Elektriciteit | B68: Gebedshuis | C68: 1946 tot 1978 | D68: 1205 | E68: 0.342 | F68: 13.574554 | G68: 7.5107632 | H68: 10.9075 | I68: 16.443617 | J68: 15.125228 | K68: 14.464767 | L68: 7.8503788 | M68: 11.355895 | N68: 17.571046 | O68: 16.06532
A69: Elektriciteit | B69: Gebedshuis | C69: 1978 tot 1995 | D69: 479 | E69: 0.136 | F69: 15.435873 | G69: 8.6869794 | H69: 12.511765 | I69: 20.568849 | J69: 17.435708 | K69: 16.241928 | L69: 9.2006113 | M69: 13.209459 | N69: 21.184496 | O69: 18.723532
A70: Elektriciteit | B70: Gebedshuis | C70: 1995 tot 2009 | D70: 310 | E70: 0.088 | F70: 17.117564 | G70: 9.9636684 | H70: 14.425332 | I70: 21.687101 | J70: 21.841353 | K70: 18.525498 | L70: 10.822717 | M70: 15.553286 | N70: 23.991003 | O70: 23.115066
A71: Elektriciteit | B71: Gebedshuis | C71: 2009 tot 2015 | D71: 77 | E71: 0.022 | F71: 19.401664 | G71: 12 | H71: 16.783639 | I71: 23.52931 | J71: 20.391905 | K71: 21.505408 | L71: 13.679688 | M71: 17.740927 | N71: 26.150204 | O71: 22.232113
A72: Elektriciteit | B72: Gebedshuis | C72: vanaf 2015 | D72: 31 | E72: 0.009 | F72: 22.85926 | H72: 19.57346 | J72: 25.762061 | K72: 25.075261 | M72: 21.123206 | O72: 28.429021
A73: Elektriciteit | B73: Gebouw bij spooremplacement | C73: tot 1946 | D73: 12 | E73: 0.179 | F73: 37.6253 | J73: 36.756017 | K73: 38.618558 | O73: 40.225438
A74: Elektriciteit | B74: Gebouw bij spooremplacement | C74: 1995 tot 2009 | D74: 24 | E74: 0.358 | F74: 88.987593 | H74: 80.561068 | J74: 89.503278 | K74: 88.987593 | M74: 80.561068 | O74: 89.503278
A75: Elektriciteit | B75: Gebouw bij spooremplacement | C75: vanaf 2009 | D75: 12 | E75: 0.179 | F75: 56.330265 | J75: 42.599113 | K75: 57.443032 | O75: 43.145416
A76: Elektriciteit | B76: Gebouw bij spooremplacement | D76: 19 | E76: 0.284 | F76: 57.471012 | J76: 31.019587 | K76: 57.811089 | O76: 31.345385
A77: Elektriciteit | B77: Gebouw bij vliegveld of luchthaven | C77: tot 1978 | D77: 21 | E77: 0.147 | F77: 44.214627 | H77: 31.601887 | J77: 25.616707 | K77: 44.761404 | M77: 31.601887 | O77: 25.897589
A78: Elektriciteit | B78: Gebouw bij vliegveld of luchthaven | C78: 1978 tot 1995 | D78: 56 | E78: 0.392 | F78: 55.676909 | G78: 10.399329 | H78: 21.295238 | I78: 69.8628 | J78: 97.699213 | K78: 60.218685 | L78: 10.399329 | M78: 24.462247 | N78: 69.8628 | O78: 109.85495
A79: Elektriciteit | B79: Gebouw bij vliegveld of luchthaven | C79: 1995 tot 2009 | D79: 40 | E79: 0.28 | F79: 56.006612 | G79: 18.068764 | H79: 34.519531 | I79: 63.327413 | J79: 55.052975 | K79: 59.966123 | L79: 18.068764 | M79: 34.519531 | N79: 63.327413 | O79: 55.922213
A80: Elektriciteit | B80: Gebouw bij vliegveld of luchthaven | C80: 2009 tot 2015 | D80: 13 | E80: 0.091 | F80: 54.163728 | J80: 57.902809 | K80: 65.091886 | O80: 62.562127
A81: Elektriciteit | B81: Gebouw bij vliegveld of luchthaven | C81: vanaf 2015 | D81: 13 | E81: 0.091 | F81: 53.161135 | J81: 38.291026 | K81: 54.736355 | O81: 38.798545
...

Sheet elek_kental_opp_2021
A1: Energiedrager | B1: Gebouwtype | C1: Oppervlakteklasse | D1: Aantal panden | E1: Aandeel panden per gebouwtype | F1: Gemiddelde kental (kWh/m2) | G1: Q1 kental (kWh/m2) | H1: Mediaan kental (kWh/m2) | I1: Q3 kental (kWh/m2) | J1: Gewogen gemiddelde kental (kWh/m2) | K1: Gemiddelde kental inclusief eigenverbruik zonnestroom (kWh/m2) | L1: Q1 kental inclusief eigenverbruik zonnestroom (kWh/m2) | M1: Mediaan kental inclusief eigenverbruik zonnestroom (kWh/m2) | N1: Q3 kental inclusief eigenverbruik zonnestroom (kWh/m2) | O1: Gewogen gemiddelde kental inclusief eigenverbruik zonnestroom (kWh/m2)
A2: Elektriciteit | B2: Basisschool | C2: tot 250 m2 | D2: 17 | E2: 0.004 | F2: 47.710455 | J2: 45.989703 | K2: 52.001511 | O2: 49.194521
A3: Elektriciteit | B3: Basisschool | C3: 250 tot 500 m2 | D3: 111 | E3: 0.023 | F3: 28.702784 | G3: 17.555644 | H3: 25.136456 | I3: 32.529919 | J3: 27.99576 | K3: 30.801568 | L3: 19.777645 | M3: 25.902041 | N3: 34.538684 | O3: 30.06161
A4: Elektriciteit | B4: Basisschool | C4: 500 tot 1000 m2 | D4: 901 | E4: 0.189 | F4: 22.956835 | G4: 15.431373 | H4: 19.621951 | I4: 26.087613 | J4: 22.890026 | K4: 25.698367 | L4: 17.001701 | M4: 21.666667 | N4: 28.583591 | O4: 25.643644
A5: Elektriciteit | B5: Basisschool | C5: 1000 tot 2500 m2 | D5: 2756 | E5: 0.577 | F5: 23.535709 | G5: 15.303084 | H5: 20.192644 | I5: 27.756232 | J5: 23.880493 | K5: 25.924625 | L5: 16.915423 | M5: 21.667219 | N5: 30.357323 | O5: 26.321373
A6: Elektriciteit | B6: Basisschool | C6: 2500 tot 5000 m2 | D6: 778 | E6: 0.163 | F6: 28.222872 | G6: 15.44566 | H6: 24.476642 | I6: 37.646733 | J6: 28.408434 | K6: 30.942282 | L6: 16.598944 | M6: 26.89923 | N6: 42.349077 | O6: 31.136137
A7: Elektriciteit | B7: Basisschool | C7: 5000 tot 10000 m2 | D7: 176 | E7: 0.037 | F7: 31.122503 | G7: 13.818556 | H7: 29.63084 | I7: 43.256742 | J7: 31.003724 | K7: 33.0198 | L7: 15.202448 | M7: 30.617381 | N7: 47.161427 | O7: 32.92835
A8: Elektriciteit | B8: Basisschool | C8: vanaf 10000 m2 | D8: 34 | E8: 0.007 | F8: 25.00694 | H8: 22.812626 | J8: 26.950946 | K8: 25.655036 | M8: 22.812626 | O8: 27.732995
A9: Elektriciteit | B9: Bedrijfshal algemeen (geen LISA-informatie) | C9: tot 50 m2 | D9: 578 | E9: 0.031 | F9: 66.172664 | G9: 12.6375 | H9: 41.380952 | I9: 99.390244 | J9: 63.449725 | K9: 67.355915 | L9: 12.791502 | M9: 42.593822 | N9: 99.390244 | O9: 64.468342
A10: Elektriciteit | B10: Bedrijfshal algemeen (geen LISA-informatie) | C10: 50 tot 100 m2 | D10: 1789 | E10: 0.097 | F10: 43.094258 | G10: 11.111111 | H10: 23.898876 | I10: 53.5 | J10: 42.568951 | K10: 44.657992 | L10: 11.26087 | M10: 24.45098 | N10: 54.540541 | O10: 44.068844
A11: Elektriciteit | B11: Bedrijfshal algemeen (geen LISA-informatie) | C11: 100 tot 250 m2 | D11: 4827 | E11: 0.262 | F11: 33.483441 | G11: 10.431774 | H11: 19.495413 | I11: 36.163895 | J11: 33.447633 | K11: 34.959762 | L11: 10.635282 | M11: 20.304545 | N11: 37.803738 | O11: 34.913541
A12: Elektriciteit | B12: Bedrijfshal algemeen (geen LISA-informatie) | C12: 250 tot 500 m2 | D12: 3489 | E12: 0.189 | F12: 32.827392 | G12: 10.446429 | H12: 18.731207 | I12: 36.010283 | J12: 32.826861 | K12: 34.380684 | L12: 10.881764 | M12: 19.528814 | N12: 37.598485 | O12: 34.366202
A13: Elektriciteit | B13: Bedrijfshal algemeen (geen LISA-informatie) | C13: 500 tot 1000 m2 | D13: 3279 | E13: 0.178 | F13: 32.289855 | G13: 10.726499 | H13: 19.023857 | I13: 35.030198 | J13: 32.893511 | K13: 33.69276 | L13: 11.15735 | M13: 20.118421 | N13: 36.531089 | O13: 34.282772
A14: Elektriciteit | B14: Bedrijfshal algemeen (geen LISA-informatie) | C14: 1000 tot 2500 m2 | D14: 2780 | E14: 0.151 | F14: 39.178037 | G14: 12.183016 | H14: 22.255091 | I14: 42.757693 | J14: 40.125542 | K14: 41.50388 | L14: 13.017728 | M14: 23.260981 | N14: 45.515548 | O14: 42.557086
A15: Elektriciteit | B15: Bedrijfshal algemeen (geen LISA-informatie) | C15: 2500 tot 5000 m2 | D15: 994 | E15: 0.054 | F15: 48.255538 | G15: 13.132467 | H15: 23.797366 | I15: 53.219786 | J15: 49.312944 | K15: 51.065309 | L15: 13.700663 | M15: 25.711206 | N15: 56.174102 | O15: 52.249178
A16: Elektriciteit | B16: Bedrijfshal algemeen (geen LISA-informatie) | C16: 5000 tot 10000 m2 | D16: 454 | E16: 0.025 | F16: 53.733687 | G16: 13.226553 | H16: 27.249478 | I16: 63.443436 | J16: 54.358643 | K16: 57.085833 | L16: 13.96947 | M16: 30.007158 | N16: 69.51816 | O16: 57.920962
A17: Elektriciteit | B17: Bedrijfshal algemeen (geen LISA-informatie) | C17: vanaf 10000 m2 | D17: 248 | E17: 0.013 | F17: 51.722583 | G17: 14.0167 | H17: 25.296541 | I17: 57.8 | J17: 50.757726 | K17: 55.391286 | L17: 15.907487 | M17: 27.624261 | N17: 58.932537 | O17: 54.190388
A18: Elektriciteit | B18: Bedrijfshal algemeen (met LISA-informatie) | C18: tot 50 m2 | D18: 79 | E18: 0.006 | F18: 126.26531 | G18: 41.354589 | H18: 90.066667 | I18: 143.46167 | J18: 114.01969 | K18: 127.68041 | L18: 42.402174 | M18: 90.066667 | N18: 145.43985 | O18: 115.4042
A19: Elektriciteit | B19: Bedrijfshal algemeen (met LISA-informatie) | C19: 50 tot 100 m2 | D19: 551 | E19: 0.045 | F19: 73.433777 | G19: 20.959468 | H19: 42.25 | I19: 84.051961 | J19: 70.419671 | K19: 77.287887 | L19: 21.190597 | M19: 44.370787 | N19: 87.961616 | O19: 74.205783
A20: Elektriciteit | B20: Bedrijfshal algemeen (met LISA-informatie) | C20: 100 tot 250 m2 | D20: 2284 | E20: 0.187 | F20: 49.512513 | G20: 15.332677 | H20: 28.1518 | I20: 52.147522 | J20: 48.721163 | K20: 52.498369 | L20: 15.896287 | M20: 29.396896 | N20: 54.484395 | O20: 51.592016
... A42: Elektriciteit | B42: Bedrijfshal met maakindustrie en andere economische activiteiten | C42: vanaf 10000 m2 | D42: 143 | E42: 0.029 | F42: 72.561586 | G42: 22.742032 | H42: 43.684533 | I42: 79.933349 | J42: 73.150289 | K42: 77.024939 | L42: 24.264125 | M42: 48.11767 | N42: 91.736208 | O42: 77.284482
A43: Elektriciteit | B43: Bedrijfshal met maakindustrie en logistieke activiteiten | C43: tot 50 m2 | D43: 27 | E43: 0.003 | F43: 141.71662 | H43: 90.875 | J43: 126.21279 | K43: 160.52047 | M43: 96.52381 | O43: 149.69479
A44: Elektriciteit | B44: Bedrijfshal met maakindustrie en logistieke activiteiten | C44: 50 tot 100 m2 | D44: 200 | E44: 0.019 | F44: 77.828326 | G44: 19.856211 | H44: 45.039914 | I44: 99.481742 | J44: 75.205391 | K44: 145.02325 | L44: 20.531585 | M44: 47.35929 | N44: 107.36418 | O44: 145.9697
A45: Elektriciteit | B45: Bedrijfshal met maakindustrie en logistieke activiteiten | C45: 100 tot 250 m2 | D45: 955 | E45: 0.091 | F45: 45.867637 | G45: 14.864541 | H45: 28.027778 | I45: 49.672704 | J45: 45.367768 | K45: 47.976152 | L45: 15.304456 | M45: 28.751634 | N45: 51.78869 | O45: 47.641816
A46: Elektriciteit | B46: Bedrijfshal met maakindustrie en logistieke activiteiten | C46: 250 tot 500 m2 | D46: 1347 | E46: 0.129 | F46: 40.659932 | G46: 15.607418 | H46: 25.583524 | I46: 41.689483 | J46: 40.555231 | K46: 42.733972 | L46: 16.436229 | M46: 26.944737 | N46: 44.6333 | O46: 42.640124
A47: Elektriciteit | B47: Bedrijfshal met maakindustrie en logistieke activiteiten | C47: 500 tot 1000 m2 | D47: 2173 | E47: 0.208 | F47: 40.434233 | G47: 14.276821 | H47: 23.835398 | I47: 40.700108 | J47: 40.324061 | K47: 42.296789 | L47: 15.240887 | M47: 25.086363 | N47: 42.855172 | O47: 42.146727
A48: Elektriciteit | B48: Bedrijfshal met maakindustrie en logistieke activiteiten | C48: 1000 tot 2500 m2 | D48: 3092 | E48: 0.296 | F48: 42.417259 | G48: 14.70128 | H48: 24.390701 | I48: 42.65727 | J48: 42.835182 | K48: 44.950132 | L48: 15.78955 | M48: 25.978368 | N48: 45.405575 | O48: 45.377042
A49: Elektriciteit | B49: Bedrijfshal met maakindustrie en logistieke activiteiten | C49: 2500 tot 5000 m2 | D49: 1514 | E49: 0.145 | F49: 50.597589 | G49: 14.644701 | H49: 26.51676 | I49: 52.556983 | J49: 50.953847 | K49: 54.506037 | L49: 16.497122 | M49: 29.603516 | N49: 56.884896 | O49: 54.958946
A50: Elektriciteit | B50: Bedrijfshal met maakindustrie en logistieke activiteiten | C50: 5000 tot 10000 m2 | D50: 763 | E50: 0.073 | F50: 57.536674 | G50: 14.700259 | H50: 28.268064 | I50: 65.043429 | J50: 58.439351 | K50: 62.328326 | L50: 16.501371 | M50: 30.690937 | N50: 70.885288 | O50: 63.297792
A51: Elektriciteit | B51: Bedrijfshal met maakindustrie en logistieke activiteiten | C51: vanaf 10000 m2 | D51: 392 | E51: 0.037 | F51: 71.178148 | G51: 18.148213 | H51: 35.266869 | I51: 75.944467 | J51: 65.020013 | K51: 75.547425 | L51: 21.035494 | M51: 40.447073 | N51: 83.99632 | O51: 69.182005
A52: Elektriciteit | B52: Bedrijfshal uitsluitend maakindustrie | C52: tot 50 m2 | D52: 75 | E52: 0.004 | F52: 137.14745 | G52: 27.525451 | H52: 100.19512 | I52: 193.4528 | J52: 129.27097 | K52: 141.32172 | L52: 27.525451 | M52: 100.21951 | N52: 197.81311 | O52: 133.40576
A53: Elektriciteit | B53: Bedrijfshal uitsluitend maakindustrie | C53: 50 tot 100 m2 | D53: 505 | E53: 0.027 | F53: 69.139437 | G53: 15.890244 | H53: 33.517241 | I53: 65.173469 | J53: 66.134239 | K53: 72.852085 | L53: 17.426829 | M53: 34.769231 | N53: 66.28 | O53: 70.037397
A54: Elektriciteit | B54: Bedrijfshal uitsluitend maakindustrie | C54: 100 tot 250 m2 | D54: 2316 | E54: 0.122 | F54: 44.780586 | G54: 14.836896 | H54: 25.606144 | I54: 45.754071 | J54: 44.081938 | K54: 47.045112 | L54: 15.303758 | M54: 26.476567 | N54: 48.011962 | O54: 46.3237
A55: Elektriciteit | B55: Bedrijfshal uitsluitend maakindustrie | C55: 250 tot 500 m2 | D55: 3325 | E55: 0.175 | F55: 43.205957 | G55: 14.868132 | H55: 24.738938 | I55: 43.438406 | J55: 43.481027 | K55: 45.360316 | L55: 15.886214 | M55: 26.465385 | N55: 46.351145 | O55: 45.619451
... A68: Elektriciteit | B68: Bedrijfswoning | C68: 5000 tot 10000 m2 | D68: 40 | E68: 0.001 | F68: 42.765218 | G68: 10.803782 | H68: 20.074519 | I68: 67.31638 | J68: 44.986592 | K68: 45.661923 | L68: 10.803782 | M68: 23.924593 | N68: 68.717709 | O68: 47.761219
A69: Elektriciteit | B69: Bedrijfswoning | C69: vanaf 10000 m2 | D69: 25 | E69: 0 | F69: 62.128028 | H69: 46.497665 | J69: 73.339398 | K69: 67.794458 | M69: 46.497665 | O69: 77.801822
A70: Elektriciteit | B70: Bijeenkomstgebouw (niet nader ingedeeld) | C70: tot 50 m2 | D70: 192 | E70: 0.021 | F70: 69.707186 | G70: 15.439946 | H70: 45.806061 | I70: 117.93831 | J70: 66.263136 | K70: 72.352929 | L70: 15.713964 | M70: 46.41875 | N70: 118.19318 | O70: 68.948432
A71: Elektriciteit | B71: Bijeenkomstgebouw (niet nader ingedeeld) | C71: 50 tot 100 m2 | D71: 826 | E71: 0.092 | F71: 54.336739 | G71: 14.061392 | H71: 31.254706 | I71: 70.005395 | J71: 54.06631 | K71: 55.87976 | L71: 14.392598 | M71: 32.183653 | N71: 72.378676 | O71: 55.53587
A72: Elektriciteit | B72: Bijeenkomstgebouw (niet nader ingedeeld) | C72: 100 tot 250 m2 | D72: 2738 | E72: 0.306 | F72: 42.331886 | G72: 11.624524 | H72: 21.900094 | I72: 47.558322 | J72: 41.743256 | K72: 44.258755 | L72: 12.110949 | M72: 23.125724 | N72: 51.417083 | O72: 43.631649
A73: Elektriciteit | B73: Bijeenkomstgebouw (niet nader ingedeeld) | C73: 250 tot 500 m2 | D73: 2506 | E73: 0.28 | F73: 37.306782 | G73: 11.150456 | H73: 19.23611 | I73: 40.473366 | J73: 37.275808 | K73: 39.39873 | L73: 12.127887 | M73: 20.837684 | N73: 42.990588 | O73: 39.470844
...

Sheet elek_kental_diensten_2021
A1: Energiedrager | B1: Gebouwtype | C1: Aantal panden | D1: Gemiddelde kental (kWh/m2) | E1: Q1 kental (kWh/m2) | F1: Mediaan kental (kWh/m2) | G1: Q3 kental (kWh/m2) | H1: Gewogen gemiddelde kental (kWh/m2) | I1: Gemiddelde kental inclusief eigenverbruik zonnestroom (kWh/m2) | J1: Q1 kental inclusief eigenverbruik zonnestroom (kWh/m2) | K1: Mediaan kental inclusief eigenverbruik zonnestroom (kWh/m2) | L1: Q3 kental inclusief eigenverbruik zonnestroom (kWh/m2) | M1: Gewogen gemiddelde kental inclusief eigenverbruik zonnestroom (kWh/m2)
A2: Elektriciteit | B2: Asielzoekerscentrum | C2: 51 | D2: 84.056678 | E2: 26.209085 | F2: 50.748054 | G2: 96.141843 | H2: 59.733194 | I2: 84.058907 | J2: 26.265945 | K2: 50.748054 | L2: 96.141843 | M2: 59.733937
A3: Elektriciteit | B3: Basisschool | C3: 4312 | D3: 24.007323 | E3: 15.207243 | F3: 20.353199 | G3: 28.504299 | H3: 24.670589 | I3: 26.524295 | J3: 16.73301 | K3: 22.045075 | L3: 31.431479 | M3: 27.2388
