Workbook

Sheet inhoudsopgave en toelichting
C1: Energiekentallen Utiliteitsbouw
C4: Project details
D6: Project naam | E6: Energiekentallen Utiliteitsgebouwen
D7: Datum | E7: Augustus 2026
D8: Contactpersoon TNO | E8: Robin Niessink, robin.niessink@tno.nl
C10: Deze dataset is ontwikkeld met subsidie van de Rijksdienst voor Ondernemend Nederland (RVO)
C12: Toelichting
C14: In dit onderzoek zijn energie-kentallen voor aardgaslevering (m3/m2) en elektriciteitslevering (kWh/m2) voor de diverse gebouwtypen van de utiliteitsbouw bepaald voor zichtjaren 2020 t/m 2024. De kentallen zijn waar mogelijk uitgesplitst naar bouwjaar- en oppervlakteklassen. Voor zichtjaar 2024 is ook een opsplitsing naar energielabel gemaakt. Ook voor de groep van panden die binnen de dienstensector valt zijn kentallen ontwikkeld. Voor zonnestroom is een eigen inschatting gemaakt van de teruglevering en daarmee is het eigenverbruik berekend en vervolgens opgeteld bij de netlevering voor een betere benadering van het totaalverbruik.
C16: De kentallen voor zonnestroomproductie (kWh/m2) alsmede het aandeel panden met zonnestroomproductie (in de populatie) zijn toegevoegd in een apart tab.
C18: NB: Een lege cel betekent dat een kental niet kon worden weergegeven vanwege de daarvoor geldende privacyregels. Het aantal overgebleven waarnemingen in de onderzoekspopulatie was hiervoor te laag.
C20: Voor nadere toelichting zie TNO rapport: Energiekentallen utiliteitsgebouwen 2020 t/m 2024 - Een analyse van het energieverbruik per gebouwtype voor de ontwikkeling van benchmark energiekentallen
C22: Inhoudsopgave
C23: Tab naam | E23: Inhoud
C24: elek_kental_ | E24: kentallen elektriciteit per gebouwtype
C25: elek_kental_bouwj_ | E25: kentallen elektriciteit per gebouwtype met uitsplitsing naar bouwjaarklassen
C26: elek_kental_opp_ | E26: kentallen elektriciteit per gebouwtype met uitsplitsing naar (gebruiks)oppervlakteklassen
C27: elek_kental_diensten_ | E27: kentallen elektriciteit per gebouwtype voor panden die vallen binnen de dienstensector
C28: elek_kental_subsets_ | E28: kentallen elektriciteit per gebouwtype voor panden met onderscheid naar panden met of zonder zonnestroom en waar de teruglevering wel of niet hoger is dan de zonnestroomproductie
C29: zonnestroom_kentallen_ | E29: kentallen zonnestroomproductie per gebouwtype
C30: gas_kental_ | E30: kentallen aardgas per gebouwtype
C31: gas_kental_bouwj_ | E31: kentallen aardgas per gebouwtype met uitsplitsing naar bouwjaarklassen
C32: gas_kental_opp_ | E32: kentallen aardgas per gebouwtype met uitsplitsing naar (gebruiks)oppervlakteklassen
C33: gas_kental_diensten_ | E33: kentallen aardgas per gebouwtype voor panden die vallen binnen de dienstensector
C34: populatie_overzicht_ | E34: een overzicht met het aantal panden in de onderzoekspopulatie in het betreffende tab, waarmee onder andere is na te gaan welke categorieën ontbreken per tab
C37: Toelichting kolommen in de tabs
C39: Energiedrager | D39: Dit geeft aan of het een kental voor aardgas of elektriciteit is
C40: Gebouwtype | D40: Dit geeft aan over welk gebouwtype het gaat
C41: Aantal panden | D41: Dit geeft het aantal panden in het onderzoek aan waarover de kentallen in de categorie berekend zijn
C42: Aandeel panden per gebouwtype | D42: Het percentage van het aantal panden dat in de betreffende categorie valt per gebouwtype
C43: Gemiddelde kental (kWh/m2) | D43: Het gemiddelde kental
C44: Q1 kental (kWh/m2) | D44: Het kental voor het 1ste kwartiel
C45: Mediaan kental (kWh/m2) | D45: Het kental voor de mediaan
C46: Q3 kental (kWh/m2) | D46: Het kental voor het 3e kwartiel
C47: Gewogen gemiddelde kental (kWh/m2) | D47: Het gemiddelde kental waarbij het pandoppervlak als weegfactor is gebruikt
C48: Gemiddelde kental inclusief eigenverbruik zonnestroom (kWh/m2) | D48: Eerst is het eigenverbruik zonnestroom bepaald en vervolgens opnieuw het gemiddelde bepaald
C49: Q1 kental inclusief eigenverbruik zonnestroom (kWh/m2) | D49: Eerst is het eigenverbruik zonnestroom bepaald en vervolgens opnieuw het 1ste kwartiel
C50: Mediaan kental inclusief eigenverbruik zonnestroom (kWh/m2) | D50: Eerst is het eigenverbruik zonnestroom bepaald en vervolgens opnieuw de mediaan
... C56: Gewogen gemiddelde zonnestroomproductie kental (kWh/m2) (inclusief panden zonder zon-pv) | D56: Het gewogen gemiddelde kental voor zonnestroomproductie berekend als gemiddelde voor panden met en zonder zonnestroomproductie

Sheet gas_kental_2021
A1: Energiedrager | B1: Gebouwtype | C1: Aantal panden | D1: Gemiddelde kental (m3/m2) | E1: Q1 kental (m3/m2) | F1: Mediaan kental (m3/m2) | G1: Q3 kental (m3/m2) | H1: Gewogen gemiddelde kental (m3/m2)
A2: Gas | B2: Asielzoekerscentrum | C2: 66 | D2: 23.398531 | E2: 9.2865394 | F2: 14.569378 | G2: 24.767541 | H2: 15.157084
A3: Gas | B3: Basisschool | C3: 4449 | D3: 10.37833 | E3: 7.2039336 | F3: 10.110263 | G3: 13.183752 | H3: 8.535343
A4: Gas | B4: Bedrijfshal algemeen (geen LISA-informatie) | C4: 18048 | D4: 5.4708971 | E4: 1.0739494 | F4: 3.6957428 | G4: 7.4579902 | H4: 5.0955713
A5: Gas | B5: Bedrijfshal algemeen (met LISA-informatie) | C5: 11230 | D5: 6.5308875 | E5: 2.3913885 | F5: 4.8044911 | G5: 8.2676267 | H5: 5.19575
A6: Gas | B6: Bedrijfshal met logistieke activiteiten | C6: 4940 | D6: 5.4278224 | E6: 2.4366628 | F6: 4.2883673 | G6: 6.8051674 | H6: 4.341446
A7: Gas | B7: Bedrijfshal met maakindustrie en andere economische activiteiten | C7: 4569 | D7: 6.2333399 | E7: 2.6295314 | F7: 4.7167329 | G7: 7.7523452 | H7: 6.1317391
A8: Gas | B8: Bedrijfshal met maakindustrie en logistieke activiteiten | C8: 9692 | D8: 5.7966598 | E8: 2.2178807 | F8: 4.4105477 | G8: 7.5791501 | H8: 4.8626274
A9: Gas | B9: Bedrijfshal uitsluitend maakindustrie | C9: 17857 | D9: 8.072774 | E9: 2.7417722 | F9: 5.2815884 | G9: 9.1688453 | H9: 10.052046
A10: Gas | B10: Bedrijfswoning | C10: 64226 | D10: 12.969807 | E10: 5.6689664 | F10: 10.31266 | G10: 16.491652 | H10: 8.6927477
A11: Gas | B11: Bijeenkomstgebouw (niet nader ingedeeld) | C11: 9255 | D11: 10.826927 | E11: 5.0378318 | F11: 8.9680465 | G11: 14.446409 | H11: 9.2341482
A12: Gas | B12: Campusgebouw | C12: 99 | D12: 12.220906 | E12: 1.3483086 | F12: 9.0653369 | G12: 15.266738 | H12: 8.5256023
A13: Gas | B13: Cultuurhuis | C13: 540 | D13: 10.598433 | E13: 6.1976804 | F13: 9.4854108 | G13: 14.033377 | H13: 7.2732845
... A15: Gas | B15: Gebedshuis | C15: 4269 | D15: 10.316332 | E15: 6.2180012 | F15: 9.5351515 | G15: 13.600694 | H15: 7.9233324
A16: Gas | B16: Gebouw bij militaire inrichting | C16: 18 | D16: 1487.3967 | H16: 195.82718
A17: Gas | B17: Gebouw bij spooremplacement | C17: 84 | D17: 10.724145 | E17: 3.7986269 | F17: 8.5735431 | G17: 14.239062 | H17: 8.2751979
A18: Gas | B18: Gebouw bij vliegveld of luchthaven | C18: 167 | D18: 9.3692377 | E18: 2.5528799 | F18: 6.1131222 | G18: 12.874074 | H18: 8.1198256
A19: Gas | B19: Gebouw in landelijk gebied voor industrie (geen landbouwactiviteiten geregistreerd) | C19: 3736 | D19: 7.4110998 | E19: 1.5869654 | F19: 4.4794063 | G19: 9.6311751 | H19: 6.2992594
A20: Gas | B20: Gebouw in stedelijk gebied met industriefunctie | C20: 12503 | D20: 9.2290996 | E20: 2.3974249 | F20: 6.1895777 | G20: 12.009508 | H20: 7.077394
A21: Gas | B21: Gebouw op snelwegverzorgingsplaats | C21: 62 | D21: 12.962869 | E21: 4.3256649 | F21: 9.6701837 | G21: 14.875622 | H21: 17.688335
A22: Gas | B22: Gebouw op vakantiepark | C22: 35673 | D22: 12.843651 | E22: 8.0131579 | F22: 11.875 | G22: 16.328571 | H22: 12.266615
A23: Gas | B23: Gebouw voor landbouwactiviteiten | C23: 2101 | D23: 134.62758 | E23: 5.5775128 | F23: 14.58714 | G23: 46.764228 | H23: 85.894571
A24: Gas | B24: Groothandel op bedrijventerrein | C24: 568 | D24: 4.8486125 | E24: 2.6521185 | F24: 4.2069052 | G24: 6.0271227 | H24: 3.9431325
A25: Gas | B25: Hotel (of ander groot logiesgebouw) | C25: 2374 | D25: 14.407874 | E25: 7.5668945 | F25: 13.13095 | G25: 19.752953 | H25: 10.823191
A26: Gas | B26: IJsbaan | C26: 120 | D26: 6.305615 | E26: 3.3678023 | F26: 5.3812389 | G26: 7.9482919 | H26: 6.8252706
A27: Gas | B27: Kantoorpand algemeen | C27: 19929 | D27: 10.889975 | E27: 6.118541 | F27: 9.9358396 | G27: 14.6044 | H27: 7.9390155
A28: Gas | B28: Kinderopvang (gebouw) | C28: 1498 | D28: 13.349324 | E28: 8.7794089 | F28: 12.443275 | G28: 17.008113 | H28: 11.603132
A29: Gas | B29: Koelhuis | C29: 86 | D29: 5.3101342 | E29: 0.6534295 | F29: 1.7028074 | G29: 5.9503157 | H29: 3.8210339
A30: Gas | B30: MBO-gebouw | C30: 10 | D30: 4.7747101 | H30: 4.5152362
A31: Gas | B31: Meergezinswoning met andere functie of combinatie van functies | C31: 17489 | D31: 11.813208 | E31: 7.4216028 | F31: 11.08377 | G31: 15.223577 | H31: 9.4585884
A32: Gas | B32: Meergezinswoning met cafe of restaurant | C32: 6293 | D32: 16.239529 | E32: 9.561194 | F32: 14.173697 | G32: 20.705882 | H32: 14.361005
A33: Gas | B33: Meergezinswoning met winkel | C33: 22274 | D33: 11.943081 | E33: 7.4810493 | F33: 11.060313 | G33: 15.318963 | H33: 9.9615213
A34: Gas | B34: Meergezinswoning met winkels en horeca | C34: 2507 | D34: 12.091687 | E34: 7.4922995 | F34: 11.092534 | G34: 15.409695 | H34: 9.1083191
A35: Gas | B35: Meergezinswoning met woonzorgeenheden | C35: 252 | D35: 13.177265 | E35: 8.3288408 | F35: 12.278856 | G35: 17.449389 | H35: 11.742458
A36: Gas | B36: Middelbare school | C36: 1063 | D36: 10.188835 | E36: 5.9927841 | F36: 9.5541098 | G36: 13.299981 | H36: 8.3878212
A37: Gas | B37: Nutsgebouw (elektriciteit) | C37: 58 | D37: 6.8828815 | E37: 2.0899792 | F37: 6.2325189 | G37: 10.022381 | H37: 5.2393694
A38: Gas | B38: Nutsgebouw (water) | C38: 247 | D38: 21.413687 | E38: 4.8890279 | F38: 12.421053 | G38: 26.028952 | H38: 10.344757
A39: Gas | B39: Overig gebouw met maatschappelijke functie | C39: 1573 | D39: 13.849656 | E39: 5.325784 | F39: 10.152778 | G39: 16.827059 | H39: 10.35744
A40: Gas | B40: Overig gebouw met recreatiefunctie | C40: 78 | D40: 18.267089 | E40: 5.3561902 | F40: 10.287358 | G40: 18.716138 | H40: 17.648689
A41: Gas | B41: Overig onderwijsgebouw | C41: 3149 | D41: 12.067148 | E41: 7.5368171 | F41: 11.116284 | G41: 15.34626 | H41: 9.2888729
A42: Gas | B42: Overig overheidsgebouw | C42: 1072 | D42: 12.583197 | E42: 7.4447077 | F42: 11.010724 | G42: 16.017249 | H42: 8.442092
... A46: Gas | B46: Pand met winkel en kantoor- en/of bijeenkomstfunctie | C46: 1375 | D46: 10.130566 | E46: 4.1277053 | F46: 7.7636868 | G46: 12.925945 | H46: 5.2155171
A47: Gas | B47: Penitentiaire inrichting | C47: 22 | D47: 23.58527 | F47: 22.487893 | H47: 23.914479
A48: Gas | B48: Praktijk- of zorgwoning | C48: 4835 | D48: 13.449601 | E48: 8.7348966 | F48: 12.1052 | G48: 16.530965 | H48: 12.339039
A49: Gas | B49: Productie-installatie | C49: 97 | D49: 907.22387 | E49: 9.7660196 | F49: 124.79591 | G49: 752.05829 | H49: 919.90446
A50: Gas | B50: Restaurant of cafégebouw | C50: 3737 | D50: 27.965864 | E50: 10.446154 | F50: 20.360825 | G50: 38.265152 | H50: 19.137846
A51: Gas | B51: School voor speciaal onderwijs | C51: 477 | D51: 11.026616 | E51: 7.1847057 | F51: 10.510423 | G51: 14.177279 | H51: 9.2893197
A52: Gas | B52: Schoolverzamelgebouw | C52: 96 | D52: 8.6569409 | E52: 4.2655071 | F52: 8.1002741 | G52: 11.097619 | H52: 8.0674152
A53: Gas | B53: Tuincentrum | C53: 440 | D53: 11.536714 | E53: 4.4633162 | F53: 7.9354095 | G53: 13.225475 | H53: 8.3887795
A54: Gas | B54: Vakantiewoning buiten vakantiepark | C54: 4652 | D54: 14.780784 | E54: 8.2382993 | F54: 12.901726 | G54: 18.953235 | H54: 13.094256
A55: Gas | B55: Winkelpand | C55: 19796 | D55: 11.258616 | E55: 3.9450152 | F55: 7.9781435 | G55: 14.287802 | H55: 6.2472636
A56: Gas | B56: Woning met andere functie of combinatie van functies | C56: 13588 | D56: 12.855352 | E56: 6.7019474 | F56: 10.838915 | G56: 16.28939 | H56: 9.376959
A57: Gas | B57: Woning met cafe of restaurant | C57: 11140 | D57: 19.642567 | E57: 9.225694 | F57: 15.53685 | G57: 25.606075 | H57: 15.940694
A58: Gas | B58: Woning met winkel | C58: 32091 | D58: 13.190154 | E58: 7.5412892 | F58: 11.382749 | G58: 16.581166 | H58: 10.950846
A59: Gas | B59: Wooncomplex met andere functie of combinatie van functies | C59: 8250 | D59: 9.655824 | E59: 6.2692487 | F59: 9.0831155 | G59: 12.617585 | H59: 8.133703
... A66: Gas | B66: Zwembad | C66: 491 | D66: 57.932681 | E66: 15.556611 | F66: 34.73896 | G66: 72.475474 | H66: 36.646852

Sheet gas_kental_bouwj_2021
A1: Energiedrager | B1: Gebouwtype | C1: Bouwjaarklasse | D1: Aantal panden | E1: Aandeel panden per gebouwtype | F1: Gemiddelde kental (m3/m2) | G1: Q1 kental (m3/m2) | H1: Mediaan kental (m3/m2) | I1: Q3 kental (m3/m2) | J1: Gewogen gemiddelde kental (m3/m2)
A2: Gas | B2: Basisschool | C2: tot 1946 | D2: 434 | E2: 0.098 | F2: 11.936062 | G2: 8.6866306 | H2: 11.317168 | I2: 15.090854 | J2: 9.9836758
A3: Gas | B3: Basisschool | C3: 1946 tot 1978 | D3: 1712 | E3: 0.385 | F3: 11.794599 | G3: 8.9805283 | H3: 11.513128 | I3: 14.155391 | J3: 10.49336
A4: Gas | B4: Basisschool | C4: 1978 tot 1995 | D4: 1039 | E4: 0.234 | F4: 10.836058 | G4: 7.9704219 | H4: 10.487931 | I4: 13.209458 | J4: 9.51816
A5: Gas | B5: Basisschool | C5: 1995 tot 2009 | D5: 658 | E5: 0.148 | F5: 9.079544 | G5: 6.5324783 | H5: 8.6683265 | I5: 11.339142 | J5: 7.279811
A6: Gas | B6: Basisschool | C6: 2009 tot 2015 | D6: 442 | E6: 0.099 | F6: 6.3706821 | G6: 3.2688934 | H6: 5.925116 | I6: 8.1958247 | J6: 5.5466554
A7: Gas | B7: Basisschool | C7: vanaf 2015 | D7: 164 | E7: 0.037 | F7: 4.5837882 | G7: 1.5194223 | H7: 4.2312773 | I7: 6.5141917 | J7: 4.0943907
A8: Gas | B8: Bedrijfshal algemeen (geen LISA-informatie) | C8: tot 1946 | D8: 237 | E8: 0.013 | F8: 7.7943139 | G8: 1.72 | H8: 6.1148198 | I8: 10.920392 | J8: 4.8328755
A9: Gas | B9: Bedrijfshal algemeen (geen LISA-informatie) | C9: 1946 tot 1978 | D9: 2641 | E9: 0.146 | F9: 6.4136936 | G9: 1.1333333 | H9: 3.9802372 | I9: 8.8165323 | J9: 5.6191174
A10: Gas | B10: Bedrijfshal algemeen (geen LISA-informatie) | C10: 1978 tot 1995 | D10: 4612 | E10: 0.256 | F10: 6.3368895 | G10: 1.5575546 | H10: 4.4984312 | I10: 8.7055549 | J10: 5.4380773
A11: Gas | B11: Bedrijfshal algemeen (geen LISA-informatie) | C11: 1995 tot 2009 | D11: 7921 | E11: 0.439 | F11: 4.9860586 | G11: 1.0078125 | H11: 3.5366972 | I11: 6.8921821 | J11: 4.9459808
A12: Gas | B12: Bedrijfshal algemeen (geen LISA-informatie) | C12: 2009 tot 2015 | D12: 1571 | E12: 0.087 | F12: 4.3565463 | G12: 0.61317656 | H12: 2.9336207 | I12: 5.8902442 | J12: 4.8021086
A13: Gas | B13: Bedrijfshal algemeen (geen LISA-informatie) | C13: vanaf 2015 | D13: 1066 | E13: 0.059 | F13: 4.1167865 | G13: 0.009077381 | H13: 2.3785441 | I13: 5.3416483 | J13: 3.1026225
... A55: Gas | B55: Bijeenkomstgebouw (niet nader ingedeeld) | C55: vanaf 2015 | D55: 201 | E55: 0.022 | F55: 10.546407 | G55: 4.1813997 | H55: 6.8708183 | I55: 14.17 | J55: 9.0444606
A56: Gas | B56: Campusgebouw | C56: tot 1978 | D56: 32 | E56: 0.323 | F56: 10.916603 | H56: 8.1783952 | J56: 11.233947
A57: Gas | B57: Campusgebouw | C57: 1978 tot 1995 | D57: 13 | E57: 0.131 | F57: 16.171213 | J57: 13.78622
A58: Gas | B58: Campusgebouw | C58: 1995 tot 2009 | D58: 30 | E58: 0.303 | F58: 14.690007 | H58: 9.875335 | J58: 14.69638
A59: Gas | B59: Campusgebouw | C59: 2009 tot 2015 | D59: 11 | E59: 0.111 | F59: 9.2165568 | J59: 6.6312044
A60: Gas | B60: Campusgebouw | C60: vanaf 2015 | D60: 13 | E60: 0.131 | F60: 8.3254043 | J60: 1.2385544
A61: Gas | B61: Cultuurhuis | C61: tot 1946 | D61: 212 | E61: 0.393 | F61: 11.974826 | G61: 6.8897947 | H61: 11.195899 | I61: 15.634593 | J61: 7.0968164
A62: Gas | B62: Cultuurhuis | C62: 1946 tot 1978 | D62: 118 | E62: 0.219 | F62: 10.679865 | G62: 6.9748503 | H62: 10.007254 | I62: 13.589344 | J62: 8.6380914
A63: Gas | B63: Cultuurhuis | C63: 1978 tot 1995 | D63: 94 | E63: 0.174 | F63: 10.249565 | G63: 7.0312998 | H63: 9.1832747 | I63: 13.441292 | J63: 8.7339941
A64: Gas | B64: Cultuurhuis | C64: 1995 tot 2009 | D64: 87 | E64: 0.161 | F64: 8.7165525 | G64: 5.2168502 | H64: 7.8287093 | I64: 10.404927 | J64: 6.3617113
A65: Gas | B65: Cultuurhuis | C65: 2009 tot 2015 | D65: 18 | E65: 0.033 | F65: 8.4100911 | J65: 4.886649
A66: Gas | B66: Cultuurhuis | C66: vanaf 2015 | D66: 11 | E66: 0.02 | F66: 4.6442037 | J66: 4.3008591
A67: Gas | B67: Gebedshuis | C67: tot 1946 | D67: 1768 | E67: 0.414 | F67: 10.996563 | G67: 6.3201197 | H67: 10.392729 | I67: 15.128413 | J67: 7.5532384
A68: Gas | B68: Gebedshuis | C68: 1946 tot 1978 | D68: 1500 | E68: 0.351 | F68: 10.219648 | G68: 6.3367593 | H68: 9.6212317 | I68: 13.235054 | J68: 8.5402312
A69: Gas | B69: Gebedshuis | C69: 1978 tot 1995 | D69: 542 | E69: 0.127 | F69: 9.7258887 | G69: 6.2438302 | H69: 9.1288239 | I69: 12.327879 | J69: 7.8824857
A70: Gas | B70: Gebedshuis | C70: 1995 tot 2009 | D70: 346 | E70: 0.081 | F70: 9.2907096 | G70: 6.2475116 | H70: 8.6835807 | I70: 11.668003 | J70: 8.3983024
A71: Gas | B71: Gebedshuis | C71: 2009 tot 2015 | D71: 84 | E71: 0.02 | F71: 6.9319515 | G71: 4.6797485 | H71: 6.2575916 | I71: 8.846237 | J71: 5.9090143
A72: Gas | B72: Gebedshuis | C72: vanaf 2015 | D72: 29 | E72: 0.007 | F72: 6.9215046 | H72: 7 | J72: 4.163388
A73: Gas | B73: Gebouw bij spooremplacement | C73: tot 1946 | D73: 22 | E73: 0.262 | F73: 11.42395 | H73: 5.22466 | J73: 8.6709364
A74: Gas | B74: Gebouw bij spooremplacement | C74: 1946 tot 1978 | D74: 16 | E74: 0.19 | F74: 11.173123 | J74: 8.9689104
A75: Gas | B75: Gebouw bij spooremplacement | C75: 1978 tot 1995 | D75: 17 | E75: 0.202 | F75: 13.117002 | J75: 14.149791
A76: Gas | B76: Gebouw bij spooremplacement | C76: 1995 tot 2009 | D76: 14 | E76: 0.167 | F76: 11.27615 | J76: 7.4436094
A77: Gas | B77: Gebouw bij spooremplacement | C77: vanaf 2009 | D77: 15 | E77: 0.179 | F77: 5.9917417 | J77: 3.2030153
A78: Gas | B78: Gebouw bij vliegveld of luchthaven | C78: tot 1978 | D78: 25 | E78: 0.15 | F78: 9.4909647 | H78: 7.6595092 | J78: 7.9542873
A79: Gas | B79: Gebouw bij vliegveld of luchthaven | C79: 1978 tot 1995 | D79: 69 | E79: 0.413 | F79: 7.7846379 | G79: 2.5759188 | H79: 5.6266667 | I79: 12.100741 | J79: 8.0416655
A80: Gas | B80: Gebouw bij vliegveld of luchthaven | C80: 1995 tot 2009 | D80: 51 | E80: 0.305 | F80: 11.843902 | G80: 3.0299524 | H80: 6.2645161 | I80: 14.12006 | J80: 10.298289
A81: Gas | B81: Gebouw bij vliegveld of luchthaven | C81: vanaf 2009 | D81: 22 | E81: 0.132 | F81: 8.4640712 | H81: 4.6057367 | J81: 6.1472379
A82: Gas | B82: Gebouw in landelijk gebied voor industrie (geen landbouwactiviteiten geregistreerd) | C82: tot 1946 | D82: 391 | E82: 0.105 | F82: 8.9349082 | G82: 2.4527041 | H82: 5.9898477 | I82: 13.122437 | J82: 6.2751994
A83: Gas | B83: Gebouw in landelijk gebied voor industrie (geen landbouwactiviteiten geregistreerd) | C83: 1946 tot 1978 | D83: 1059 | E83: 0.283 | F83: 7.1378762 | G83: 1.4263899 | H83: 4.295334 | I83: 9.1806527 | J83: 5.7686648
A84: Gas | B84: Gebouw in landelijk gebied voor industrie (geen landbouwactiviteiten geregistreerd) | C84: 1978 tot 1995 | D84: 1023 | E84: 0.274 | F84: 7.6897887 | G84: 1.6205782 | H84: 4.6406068 | I84: 9.9907056 | J84: 6.1356227
A85: Gas | B85: Gebouw in landelijk gebied voor industrie (geen landbouwactiviteiten geregistreerd) | C85: 1995 tot 2009 | D85: 887 | E85: 0.237 | F85: 7.2458705 | G85: 1.5585871 | H85: 4.3381295 | I85: 10.027614 | J85: 6.8470283
A86: Gas | B86: Gebouw in landelijk gebied voor industrie (geen landbouwactiviteiten geregistreerd) | C86: 2009 tot 2015 | D86: 239 | E86: 0.064 | F86: 6.056328 | G86: 1.2568017 | H86: 3.6019417 | I86: 6.8146667 | J86: 6.3614472
A87: Gas | B87: Gebouw in landelijk gebied voor industrie (geen landbouwactiviteiten geregistreerd) | C87: vanaf 2015 | D87: 137 | E87: 0.037 | F87: 6.526316 | G87: 1.5978552 | H87: 3.584507 | I87: 7.3046358 | J87: 7.0370587
A88: Gas | B88: Gebouw in stedelijk gebied met industriefunctie | C88: tot 1946 | D88: 2725 | E88: 0.218 | F88: 10.900813 | G88: 2.9786553 | H88: 7.8403614 | I88: 14.783439 | J88: 7.457031
A89: Gas | B89: Gebouw in stedelijk gebied met industriefunctie | C89: 1946 tot 1978 | D89: 4413 | E89: 0.353 | F89: 9.0274244 | G89: 2.05 | H89: 6.0534442 | I89: 12.164084 | J89: 7.7237582
A90: Gas | B90: Gebouw in stedelijk gebied met industriefunctie | C90: 1978 tot 1995 | D90: 2601 | E90: 0.208 | F90: 9.0701068 | G90: 2.518591 | H90: 6.2124183 | I90: 11.481013 | J90: 6.5612947
A91: Gas | B91: Gebouw in stedelijk gebied met industriefunctie | C91: 1995 tot 2009 | D91: 2040 | E91: 0.163 | F91: 8.454518 | G91: 2.6598551 | H91: 5.7794529 | I91: 10.113273 | J91: 7.2971598
A92: Gas | B92: Gebouw in stedelijk gebied met industriefunctie | C92: 2009 tot 2015 | D92: 434 | E92: 0.035 | F92: 6.8247444 | G92: 1.8209711 | H92: 4.5647549 | I92: 8.0704966 | J92: 3.7047079
A93: Gas | B93: Gebouw in stedelijk gebied met industriefunctie | C93: vanaf 2015 | D93: 290 | E93: 0.023 | F93: 7.0627194 | G93: 1.0941201 | H93: 3.4154225 | I93: 7.773952 | J93: 6.8979101
... A105: Gas | B105: Gebouw voor landbouwactiviteiten | C105: vanaf 2015 | D105: 57 | E105: 0.027 | F105: 106.28551 | G105: 1.6571298 | H105: 5.3884444 | I105: 17.763636 | J105: 106.30666
A106: Gas | B106: Groothandel op bedrijventerrein | C106: tot 1946 | D106: 11 | E106: 0.019 | F106: 3.217317 | J106: 1.8922709
A107: Gas | B107: Groothandel op bedrijventerrein | C107: 1946 tot 1978 | D107: 117 | E107: 0.206 | F107: 4.5513566 | G107: 2.2215478 | H107: 3.8465063 | I107: 5.9106754 | J107: 3.6956848
A108: Gas | B108: Groothandel op bedrijventerrein | C108: 1978 tot 1995 | D108: 172 | E108: 0.303 | F108: 5.1345446 | G108: 3.0343741 | H108: 4.7077302 | I108: 6.2321176 | J108: 4.2318536
A109: Gas | B109: Groothandel op bedrijventerrein | C109: 1995 tot 2009 | D109: 237 | E109: 0.417 | F109: 4.9934314 | G109: 2.7294461 | H109: 4.2369178 | I109: 6.1161429 | J109: 4.1753142
A110: Gas | B110: Groothandel op bedrijventerrein | C110: vanaf 2009 | D110: 31 | E110: 0.055 | F110: 3.855734 | H110: 3.4841418 | J110: 3.3838926
A111: Gas | B111: Hotel (of ander groot logiesgebouw) | C111: tot 1946 | D111: 1181 | E111: 0.497 | F111: 15.001365 | G111: 8.3333333 | H111: 13.831731 | I111: 20.838235 | J111: 10.614542
A112: Gas | B112: Hotel (of ander groot logiesgebouw) | C112: 1946 tot 1978 | D112: 466 | E112: 0.196 | F112: 15.092873 | G112: 7.9672832 | H112: 13.624612 | I112: 19.752953 | J112: 14.173838
A113: Gas | B113: Hotel (of ander groot logiesgebouw) | C113: 1978 tot 1995 | D113: 306 | E113: 0.129 | F113: 15.158194 | G113: 8.2211162 | H113: 14.174116 | I113: 20.562525 | J113: 11.395678
A114: Gas | B114: Hotel (of ander groot logiesgebouw) | C114: 1995 tot 2009 | D114: 239 | E114: 0.101 | F114: 12.920433 | G114: 6.2174046 | H114: 12.06846 | I114: 18.596922 | J114: 11.944235
A115: Gas | B115: Hotel (of ander groot logiesgebouw) | C115: 2009 tot 2015 | D115: 84 | E115: 0.035 | F115: 10.357662 | G115: 4.4939223 | H115: 8.4613263 | I115: 14.01695 | J115: 5.9578344
A116: Gas | B116: Hotel (of ander groot logiesgebouw) | C116: vanaf 2015 | D116: 98 | E116: 0.041 | F116: 8.7547827 | G116: 4.0361501 | H116: 7.3336837 | I116: 11.167916 | J116: 4.6681239
A117: Gas | B117: IJsbaan | C117: tot 1978 | D117: 23 | E117: 0.192 | F117: 6.5953377 | H117: 5.8042553 | J117: 16.016944
A118: Gas | B118: IJsbaan | C118: 1978 tot 1995 | D118: 49 | E118: 0.408 | F118: 6.8715264 | G118: 3.9603175 | H118: 6.0046083 | I118: 9.1329114 | J118: 11.771412
A119: Gas | B119: IJsbaan | C119: 1995 tot 2009 | D119: 35 | E119: 0.292 | F119: 6.0522387 | H119: 4.9450549 | J119: 2.8026445
A120: Gas | B120: IJsbaan | C120: vanaf 2009 | D120: 13 | E120: 0.108 | F120: 4.3421452 | J120: 4.3891805
A121: Gas | B121: Kantoorpand algemeen | C121: tot 1946 | D121: 5187 | E121: 0.26 | F121: 13.674117 | G121: 9.0128645 | H121: 13.057971 | I121: 17.714505 | J121: 10.713625
A122: Gas | B122: Kantoorpand algemeen | C122: 1946 tot 1978 | D122: 3391 | E122: 0.17 | F122: 12.015554 | G122: 6.9990129 | H122: 11.293182 | I122: 16.167519 | J122: 8.4779407
A123: Gas | B123: Kantoorpand algemeen | C123: 1978 tot 1995 | D123: 4432 | E123: 0.222 | F123: 10.44143 | G123: 6.4258277 | H123: 9.6323643 | I123: 13.405055 | J123: 8.4908039
A124: Gas | B124: Kantoorpand algemeen | C124: 1995 tot 2009 | D124: 5795 | E124: 0.291 | F124: 8.8080309 | G124: 4.8085756 | H124: 7.9349112 | I124: 11.405812 | J124: 7.0264499
A125: Gas | B125: Kantoorpand algemeen | C125: 2009 tot 2015 | D125: 901 | E125: 0.045 | F125: 6.9752657 | G125: 2.8946878 | H125: 5.6774648 | I125: 9.2148148 | J125: 4.2216697
A126: Gas | B126: Kantoorpand algemeen | C126: vanaf 2015 | D126: 223 | E126: 0.011 | F126: 7.8487003 | G126: 2.7921502 | H126: 6.2876712 | I126: 10.423118 | J126: 4.5244217
A127: Gas | B127: Kinderopvang (gebouw) | C127: tot 1946 | D127: 272 | E127: 0.182 | F127: 15.121947 | G127: 10.270312 | H127: 13.769696 | I127: 18.958473 | J127: 13.518803
A128: Gas | B128: Kinderopvang (gebouw) | C128: 1946 tot 1978 | D128: 480 | E128: 0.32 | F128: 14.992675 | G128: 10.054687 | H128: 14.537307 | I128: 18.716393 | J128: 12.443451
A129: Gas | B129: Kinderopvang (gebouw) | C129: 1978 tot 1995 | D129: 321 | E129: 0.214 | F129: 12.682463 | G129: 8.5081967 | H129: 12.036723 | I129: 15.838596 | J129: 11.267279
A130: Gas | B130: Kinderopvang (gebouw) | C130: 1995 tot 2009 | D130: 341 | E130: 0.228 | F130: 11.243837 | G130: 7.9402985 | H130: 10.534884 | I130: 14.047904 | J130: 9.8184101
A131: Gas | B131: Kinderopvang (gebouw) | C131: 2009 tot 2015 | D131: 74 | E131: 0.049 | F131: 9.2756569 | G131: 6.3094142 | H131: 8.5869631 | I131: 12.322844 | J131: 9.667779
A132: Gas | B132: Kinderopvang (gebouw) | C132: vanaf 2015 | D132: 10 | E132: 0.007 | F132: 9.6015864 | J132: 8.7201763
A133: Gas | B133: Koelhuis | C133: tot 1978 | D133: 12 | E133: 0.14 | F133: 6.0552156 | J133: 1.8637497
A134: Gas | B134: Koelhuis | C134: 1978 tot 1995 | D134: 40 | E134: 0.465 | F134: 5.8092439 | G134: 0.67059525 | H134: 1.8243445 | I134: 7.1787073 | J134: 5.7978704
A135: Gas | B135: Koelhuis | C135: vanaf 1995 | D135: 34 | E135: 0.395 | F135: 4.4599765 | H135: 1.7631618 | J135: 2.6833382
A136: Gas | B136: Meergezinswoning met andere functie of combinatie van functies | C136: tot 1946 | D136: 11342 | E136: 0.649 | F136: 12.382116 | G136: 8.1247835 | H136: 11.712118 | I136: 15.754322 | J136: 10.444512
A137: Gas | B137: Meergezinswoning met andere functie of combinatie van functies | C137: 1946 tot 1978 | D137: 3334 | E137: 0.191 | F137: 11.604236 | G137: 6.861136 | H137: 10.945636 | I137: 15.38494 | J137: 9.1622584
A138: Gas | B138: Meergezinswoning met andere functie of combinatie van functies | C138: 1978 tot 1995 | D138: 1389 | E138: 0.079 | F138: 10.695762 | G138: 6.9078341 | H138: 9.8672945 | I138: 13.537473 | J138: 8.8236912
A139: Gas | B139: Meergezinswoning met andere functie of combinatie van functies | C139: 1995 tot 2009 | D139: 1110 | E139: 0.063 | F139: 9.0744117 | G139: 5.8801633 | H139: 8.0966554 | I139: 11.252962 | J139: 6.9072421
A140: Gas | B140: Meergezinswoning met andere functie of combinatie van functies | C140: 2009 tot 2015 | D140: 205 | E140: 0.012 | F140: 8.3560245 | G140: 5.305452 | H140: 7.0722496 | I140: 10.352174 | J140: 5.9781807
A141: Gas | B141: Meergezinswoning met andere functie of combinatie van functies | C141: vanaf 2015 | D141: 109 | E141: 0.006 | F141: 7.6395767 | G141: 4.75 | H141: 6.4020888 | I141: 8.6955017 | J141: 6.5180386
A142: Gas | B142: Meergezinswoning met cafe of restaurant | C142: tot 1946 | D142: 4991 | E142: 0.793 | F142: 16.548622 | G142: 9.86155 | H142: 14.490385 | I142: 21.166876 | J142: 14.974867
A143: Gas | B143: Meergezinswoning met cafe of restaurant | C143: 1946 tot 1978 | D143: 742 | E143: 0.118 | F143: 16.125874 | G143: 9.0397388 | H143: 13.63034 | I143: 20.478612 | J143: 13.791998
A144: Gas | B144: Meergezinswoning met cafe of restaurant | C144: 1978 tot 1995 | D144: 257 | E144: 0.041 | F144: 14.394064 | G144: 8.8827586 | H144: 12.950413 | I144: 17.735577 | J144: 12.594681
A145: Gas | B145: Meergezinswoning met cafe of restaurant | C145: 1995 tot 2009 | D145: 225 | E145: 0.036 | F145: 13.716819 | G145: 7.539823 | H145: 11.506718 | I145: 17.194872 | J145: 11.015423
A146: Gas | B146: Meergezinswoning met cafe of restaurant | C146: 2009 tot 2015 | D146: 41 | E146: 0.007 | F146: 11.185815 | G146: 6.7283951 | H146: 9.4569106 | I146: 13.893443 | J146: 10.304596
A147: Gas | B147: Meergezinswoning met cafe of restaurant | C147: vanaf 2015 | D147: 37 | E147: 0.006 | F147: 10.584109 | H147: 8.9146568 | J147: 10.16516
A148: Gas | B148: Meergezinswoning met winkel | C148: tot 1946 | D148: 15200 | E148: 0.682 | F148: 12.7491 | G148: 8.3264477 | H148: 12.002225 | I148: 16.21594 | J148: 11.338952
A149: Gas | B149: Meergezinswoning met winkel | C149: 1946 tot 1978 | D149: 3969 | E149: 0.178 | F149: 11.056625 | G149: 6.5845214 | H149: 10.176871 | I149: 14.322251 | J149: 8.8149051
A150: Gas | B150: Meergezinswoning met winkel | C150: 1978 tot 1995 | D150: 1493 | E150: 0.067 | F150: 10.019159 | G150: 6.7222222 | H150: 9.33001 | I150: 12.233577 | J150: 8.5499182
A151: Gas | B151: Meergezinswoning met winkel | C151: 1995 tot 2009 | D151: 1226 | E151: 0.055 | F151: 8.471966 | G151: 5.7205257 | H151: 7.6291103 | I151: 10.225188 | J151: 7.1500719
A152: Gas | B152: Meergezinswoning met winkel | C152: 2009 tot 2015 | D152: 261 | E152: 0.012 | F152: 7.7010022 | G152: 5.1474654 | H152: 6.8691406 | I152: 9.2663043 | J152: 6.8587966
...

Sheet gas_kental_opp_2021
A1: Energiedrager | B1: Gebouwtype | C1: Oppervlakteklasse | D1: Aantal panden | E1: Aandeel panden per gebouwtype | F1: Gemiddelde kental (m3/m2) | G1: Q1 kental (m3/m2) | H1: Mediaan kental (m3/m2) | I1: Q3 kental (m3/m2) | J1: Gewogen gemiddelde kental (m3/m2)
A2: Gas | B2: Basisschool | C2: tot 250 m2 | D2: 14 | E2: 0.003 | F2: 17.21638 | J2: 18.321834
A3: Gas | B3: Basisschool | C3: 250 tot 500 m2 | D3: 107 | E3: 0.024 | F3: 15.678627 | G3: 11.966675 | H3: 14.130667 | I3: 18.654292 | J3: 15.525038
A4: Gas | B4: Basisschool | C4: 500 tot 1000 m2 | D4: 859 | E4: 0.193 | F4: 13.084093 | G4: 10.005914 | H4: 12.507653 | I4: 15.566634 | J4: 12.973088
A5: Gas | B5: Basisschool | C5: 1000 tot 2500 m2 | D5: 2576 | E5: 0.579 | F5: 10.500074 | G5: 7.7663535 | H5: 10.198245 | I5: 12.986055 | J5: 10.200857
A6: Gas | B6: Basisschool | C6: 2500 tot 5000 m2 | D6: 692 | E6: 0.156 | F6: 7.1528516 | G6: 4.4856798 | H6: 6.7876004 | I6: 9.4635024 | J6: 7.0870891
A7: Gas | B7: Basisschool | C7: 5000 tot 10000 m2 | D7: 164 | E7: 0.037 | F7: 5.2298746 | G7: 2.6762511 | H7: 4.8024943 | I7: 7.4445803 | J7: 5.1653781
A8: Gas | B8: Basisschool | C8: vanaf 10000 m2 | D8: 37 | E8: 0.008 | F8: 4.3148929 | H8: 3.3216001 | J8: 3.7030396
A9: Gas | B9: Bedrijfshal algemeen (geen LISA-informatie) | C9: tot 50 m2 | D9: 171 | E9: 0.009 | F9: 8.0053767 | H9: 2.173913 | I9: 13.190476 | J9: 7.8382941
A10: Gas | B10: Bedrijfshal algemeen (geen LISA-informatie) | C10: 50 tot 100 m2 | D10: 1227 | E10: 0.068 | F10: 6.4029119 | G10: 0.011494253 | H10: 3.1363636 | I10: 9.4072809 | J10: 6.3268653
A11: Gas | B11: Bedrijfshal algemeen (geen LISA-informatie) | C11: 100 tot 250 m2 | D11: 4506 | E11: 0.25 | F11: 5.2090646 | G11: 0.46481962 | H11: 3.475732 | I11: 7.2957342 | J11: 5.2362413
A12: Gas | B12: Bedrijfshal algemeen (geen LISA-informatie) | C12: 250 tot 500 m2 | D12: 3667 | E12: 0.203 | F12: 5.4268808 | G12: 1.3495495 | H12: 3.8937008 | I12: 7.3680554 | J12: 5.439004
A13: Gas | B13: Bedrijfshal algemeen (geen LISA-informatie) | C13: 500 tot 1000 m2 | D13: 3564 | E13: 0.197 | F13: 5.5974625 | G13: 1.6486253 | H13: 4.0716817 | I13: 7.5572903 | J13: 5.5911531
A14: Gas | B14: Bedrijfshal algemeen (geen LISA-informatie) | C14: 1000 tot 2500 m2 | D14: 3096 | E14: 0.172 | F14: 5.4801009 | G14: 1.4866319 | H14: 3.7797796 | I14: 7.3604308 | J14: 5.480144
A15: Gas | B15: Bedrijfshal algemeen (geen LISA-informatie) | C15: 2500 tot 5000 m2 | D15: 1097 | E15: 0.061 | F15: 5.18005 | G15: 1.0560144 | H15: 3.3289957 | I15: 6.9348323 | J15: 5.176063
A16: Gas | B16: Bedrijfshal algemeen (geen LISA-informatie) | C16: 5000 tot 10000 m2 | D16: 487 | E16: 0.027 | F16: 5.1278559 | G16: 0.91114648 | H16: 3.0391846 | I16: 6.2885417 | J16: 5.0885386
A17: Gas | B17: Bedrijfshal algemeen (geen LISA-informatie) | C17: vanaf 10000 m2 | D17: 233 | E17: 0.013 | F17: 4.4871732 | G17: 0.84500755 | H17: 2.1620555 | I17: 5.374151 | J17: 4.079572
A18: Gas | B18: Bedrijfshal algemeen (met LISA-informatie) | C18: tot 50 m2 | D18: 35 | E18: 0.003 | F18: 19.907391 | H18: 14.782609 | J18: 18.464493
A19: Gas | B19: Bedrijfshal algemeen (met LISA-informatie) | C19: 50 tot 100 m2 | D19: 363 | E19: 0.032 | F19: 10.274951 | G19: 3.2668112 | H19: 7.8181818 | I19: 13.663728 | J19: 9.8170586
A20: Gas | B20: Bedrijfshal algemeen (met LISA-informatie) | C20: 100 tot 250 m2 | D20: 1936 | E20: 0.172 | F20: 7.4291979 | G20: 2.75 | H20: 5.5790295 | I20: 9.5592262 | J20: 7.2993219
A21: Gas | B21: Bedrijfshal algemeen (met LISA-informatie) | C21: 250 tot 500 m2 | D21: 1939 | E21: 0.173 | F21: 7.0678687 | G21: 2.8838971 | H21: 5.3916667 | I21: 8.8098571 | J21: 6.9715249
A22: Gas | B22: Bedrijfshal algemeen (met LISA-informatie) | C22: 500 tot 1000 m2 | D22: 2606 | E22: 0.232 | F22: 6.3695343 | G22: 2.744007 | H22: 5.0123309 | I22: 8.1904343 | J22: 6.3460277
A23: Gas | B23: Bedrijfshal algemeen (met LISA-informatie) | C23: 1000 tot 2500 m2 | D23: 2583 | E23: 0.23 | F23: 5.8626778 | G23: 2.2980973 | H23: 4.4476285 | I23: 7.4776646 | J23: 5.8053482
A24: Gas | B24: Bedrijfshal algemeen (met LISA-informatie) | C24: 2500 tot 5000 m2 | D24: 1000 | E24: 0.089 | F24: 5.5045816 | G24: 1.7585446 | H24: 3.7111917 | I24: 6.6569485 | J24: 5.4540537
A25: Gas | B25: Bedrijfshal algemeen (met LISA-informatie) | C25: 5000 tot 10000 m2 | D25: 479 | E25: 0.043 | F25: 5.1247561 | G25: 1.2998616 | H25: 3.2062 | I25: 6.4328031 | J25: 5.1640467
A26: Gas | B26: Bedrijfshal algemeen (met LISA-informatie) | C26: vanaf 10000 m2 | D26: 289 | E26: 0.026 | F26: 3.8966559 | G26: 1.126931 | H26: 2.4264148 | I26: 4.8265667 | J26: 3.6278245
A27: Gas | B27: Bedrijfshal met logistieke activiteiten | C27: tot 100 m2 | D27: 25 | E27: 0.005 | F27: 10.601932 | H27: 8.6933333 | J27: 9.7490775
A28: Gas | B28: Bedrijfshal met logistieke activiteiten | C28: 100 tot 250 m2 | D28: 184 | E28: 0.037 | F28: 8.4205861 | G28: 3.3797101 | H28: 6.1570856 | I28: 9.9077429 | J28: 8.3424772
A29: Gas | B29: Bedrijfshal met logistieke activiteiten | C29: 250 tot 500 m2 | D29: 339 | E29: 0.069 | F29: 7.2435105 | G29: 3.6903495 | H29: 5.6648045 | I29: 9.0891966 | J29: 7.2471863
A30: Gas | B30: Bedrijfshal met logistieke activiteiten | C30: 500 tot 1000 m2 | D30: 771 | E30: 0.156 | F30: 6.0724758 | G30: 3.137963 | H30: 5.0865672 | I30: 7.7817071 | J30: 5.9852344
A31: Gas | B31: Bedrijfshal met logistieke activiteiten | C31: 1000 tot 2500 m2 | D31: 1740 | E31: 0.352 | F31: 5.200007 | G31: 2.6187516 | H31: 4.2858267 | I31: 6.4130324 | J31: 5.1008055
A32: Gas | B32: Bedrijfshal met logistieke activiteiten | C32: 2500 tot 5000 m2 | D32: 1041 | E32: 0.211 | F32: 4.9915334 | G32: 2.2990937 | H32: 3.8308605 | I32: 6.1422453 | J32: 4.935779
A33: Gas | B33: Bedrijfshal met logistieke activiteiten | C33: 5000 tot 10000 m2 | D33: 523 | E33: 0.106 | F33: 4.6765876 | G33: 1.7792935 | H33: 3.4790013 | I33: 6.0954628 | J33: 4.6608523
A34: Gas | B34: Bedrijfshal met logistieke activiteiten | C34: vanaf 10000 m2 | D34: 317 | E34: 0.064 | F34: 3.6956581 | G34: 1.095949 | H34: 2.558947 | I34: 4.8143845 | J34: 3.1574132
A35: Gas | B35: Bedrijfshal met maakindustrie en andere economische activiteiten | C35: tot 100 m2 | D35: 40 | E35: 0.009 | F35: 10.580037 | G35: 2.5599206 | H35: 8.025 | I35: 14.963128 | J35: 10.460504
A36: Gas | B36: Bedrijfshal met maakindustrie en andere economische activiteiten | C36: 100 tot 250 m2 | D36: 246 | E36: 0.054 | F36: 8.9421803 | G36: 3.8221569 | H36: 6.1877193 | I36: 11.102823 | J36: 8.7644861
A37: Gas | B37: Bedrijfshal met maakindustrie en andere economische activiteiten | C37: 250 tot 500 m2 | D37: 410 | E37: 0.09 | F37: 7.0927098 | G37: 3.2108488 | H37: 5.4155872 | I37: 9.0833521 | J37: 7.0440111
A38: Gas | B38: Bedrijfshal met maakindustrie en andere economische activiteiten | C38: 500 tot 1000 m2 | D38: 1085 | E38: 0.237 | F38: 6.3224513 | G38: 2.8878676 | H38: 5.0838323 | I38: 7.7602627 | J38: 6.277337
A39: Gas | B39: Bedrijfshal met maakindustrie en andere economische activiteiten | C39: 1000 tot 2500 m2 | D39: 1680 | E39: 0.368 | F39: 5.492398 | G39: 2.5473307 | H39: 4.3066806 | I39: 6.8792888 | J39: 5.4555217
... A42: Gas | B42: Bedrijfshal met maakindustrie en andere economische activiteiten | C42: vanaf 10000 m2 | D42: 139 | E42: 0.03 | F42: 6.7637122 | G42: 1.5822155 | H42: 4.5150156 | I42: 9.0489545 | J42: 6.7596467
A43: Gas | B43: Bedrijfshal met maakindustrie en logistieke activiteiten | C43: tot 50 m2 | D43: 16 | E43: 0.002 | F43: 18.422612 | J43: 16.981667
A44: Gas | B44: Bedrijfshal met maakindustrie en logistieke activiteiten | C44: 50 tot 100 m2 | D44: 142 | E44: 0.015 | F44: 11.800716 | G44: 3.5850079 | H44: 8.2739759 | I44: 16.985949 | J44: 11.340513
A45: Gas | B45: Bedrijfshal met maakindustrie en logistieke activiteiten | C45: 100 tot 250 m2 | D45: 814 | E45: 0.084 | F45: 6.9962386 | G45: 2.3541578 | H45: 5.0201463 | I45: 9.0274553 | J45: 6.9260746
A46: Gas | B46: Bedrijfshal met maakindustrie en logistieke activiteiten | C46: 250 tot 500 m2 | D46: 1254 | E46: 0.129 | F46: 6.5050207 | G46: 2.8324593 | H46: 5.1944296 | I46: 8.6944799 | J46: 6.4546745
A47: Gas | B47: Bedrijfshal met maakindustrie en logistieke activiteiten | C47: 500 tot 1000 m2 | D47: 2044 | E47: 0.211 | F47: 6.0974452 | G47: 2.7396435 | H47: 4.9483497 | I47: 8.0813211 | J47: 6.0352536
A48: Gas | B48: Bedrijfshal met maakindustrie en logistieke activiteiten | C48: 1000 tot 2500 m2 | D48: 2945 | E48: 0.304 | F48: 5.3673023 | G48: 2.2293839 | H48: 4.2679445 | I48: 7.1096145 | J48: 5.3134553
A49: Gas | B49: Bedrijfshal met maakindustrie en logistieke activiteiten | C49: 2500 tot 5000 m2 | D49: 1431 | E49: 0.148 | F49: 5.2141328 | G49: 1.9709497 | H49: 3.7812057 | I49: 6.4168414 | J49: 5.2363371
A50: Gas | B50: Bedrijfshal met maakindustrie en logistieke activiteiten | C50: 5000 tot 10000 m2 | D50: 701 | E50: 0.072 | F50: 4.4445036 | G50: 1.2319241 | H50: 3.097712 | I50: 5.7310449 | J50: 4.4975765
A51: Gas | B51: Bedrijfshal met maakindustrie en logistieke activiteiten | C51: vanaf 10000 m2 | D51: 345 | E51: 0.036 | F51: 4.3815209 | G51: 1.0729921 | H51: 3.0464981 | I51: 5.4962675 | J51: 3.9697286
A52: Gas | B52: Bedrijfshal uitsluitend maakindustrie | C52: tot 50 m2 | D52: 35 | E52: 0.002 | F52: 29.888303 | H52: 23.761905 | J52: 30.155918
A53: Gas | B53: Bedrijfshal uitsluitend maakindustrie | C53: 50 tot 100 m2 | D53: 373 | E53: 0.021 | F53: 11.399577 | G53: 2.3285714 | H53: 7.469697 | I53: 14.1875 | J53: 10.992415
A54: Gas | B54: Bedrijfshal uitsluitend maakindustrie | C54: 100 tot 250 m2 | D54: 2020 | E54: 0.113 | F54: 8.2868692 | G54: 2.2755647 | H54: 5.2605718 | I54: 9.8990549 | J54: 8.1208518
A55: Gas | B55: Bedrijfshal uitsluitend maakindustrie | C55: 250 tot 500 m2 | D55: 3159 | E55: 0.177 | F55: 7.0990858 | G55: 2.7815904 | H55: 5.3680387 | I55: 8.8483333 | J55: 7.0674738
A56: Gas | B56: Bedrijfshal uitsluitend maakindustrie | C56: 500 tot 1000 m2 | D56: 4312 | E56: 0.241 | F56: 6.9219587 | G56: 2.8477528 | H56: 5.0299026 | I56: 8.2461186 | J56: 6.9220626
A57: Gas | B57: Bedrijfshal uitsluitend maakindustrie | C57: 1000 tot 2500 m2 | D57: 4926 | E57: 0.276 | F57: 7.6323973 | G57: 2.7283385 | H57: 5.1040728 | I57: 8.7172941 | J57: 7.7218256
A58: Gas | B58: Bedrijfshal uitsluitend maakindustrie | C58: 2500 tot 5000 m2 | D58: 1805 | E58: 0.101 | F58: 9.1529987 | G58: 2.8031088 | H58: 5.6124209 | I58: 9.3615987 | J58: 9.2685545
A59: Gas | B59: Bedrijfshal uitsluitend maakindustrie | C59: 5000 tot 10000 m2 | D59: 808 | E59: 0.045 | F59: 12.006461 | G59: 2.9463462 | H59: 6.621268 | I59: 12.17728 | J59: 12.056457
A60: Gas | B60: Bedrijfshal uitsluitend maakindustrie | C60: vanaf 10000 m2 | D60: 419 | E60: 0.023 | F60: 14.379111 | G60: 3.0021754 | H60: 6.7952291 | I60: 17.892412 | J60: 14.124887
A61: Gas | B61: Bedrijfswoning | C61: tot 50 m2 | D61: 168 | E61: 0.003 | F61: 39.315787 | G61: 23.165527 | H61: 40.269444 | I61: 54.540698 | J61: 39.413457
A62: Gas | B62: Bedrijfswoning | C62: 50 tot 100 m2 | D62: 2193 | E62: 0.034 | F62: 26.570083 | G62: 15.204301 | H62: 23.083333 | I62: 34.166667 | J62: 26.167831
A63: Gas | B63: Bedrijfswoning | C63: 100 tot 250 m2 | D63: 28459 | E63: 0.443 | F63: 17.067813 | G63: 10.037947 | H63: 14.405622 | I63: 20.751619 | J63: 16.516902
A64: Gas | B64: Bedrijfswoning | C64: 250 tot 500 m2 | D64: 18791 | E64: 0.293 | F64: 10.64623 | G64: 6.1006078 | H64: 8.9978632 | I64: 12.98165 | J64: 10.339728
... A68: Gas | B68: Bedrijfswoning | C68: 5000 tot 10000 m2 | D68: 49 | E68: 0.001 | F68: 6.9656288 | G68: 0.74758926 | H68: 2.8277858 | I68: 6.6083263 | J68: 6.8483092
A69: Gas | B69: Bedrijfswoning | C69: vanaf 10000 m2 | D69: 28 | E69: 0 | F69: 9.1120394 | H69: 3.8569026 | J69: 10.424964
A70: Gas | B70: Bijeenkomstgebouw (niet nader ingedeeld) | C70: tot 50 m2 | D70: 115 | E70: 0.012 | F70: 14.742728 | G70: 5.241911 | H70: 11.192308 | I70: 22.3125 | J70: 14.857398
A71: Gas | B71: Bijeenkomstgebouw (niet nader ingedeeld) | C71: 50 tot 100 m2 | D71: 732 | E71: 0.079 | F71: 13.588748 | G71: 6.3499036 | H71: 11.571895 | I71: 18.831656 | J71: 13.425707
A72: Gas | B72: Bijeenkomstgebouw (niet nader ingedeeld) | C72: 100 tot 250 m2 | D72: 2869 | E72: 0.31 | F72: 11.607424 | G72: 5.7179487 | H72: 9.6706827 | I72: 15.152542 | J72: 11.458214
A73: Gas | B73: Bijeenkomstgebouw (niet nader ingedeeld) | C73: 250 tot 500 m2 | D73: 2657 | E73: 0.287 | F73: 10.473996 | G73: 5.054321 | H73: 8.7264151 | I73: 13.819588 | J73: 10.440484
A74: Gas | B74: Bijeenkomstgebouw (niet nader ingedeeld) | C74: 500 tot 1000 m2 | D74: 1689 | E74: 0.182 | F74: 9.8296953 | G74: 4.9044715 | H74: 8.2067364 | I74: 13.175601 | J74: 9.8476912
A75: Gas | B75: Bijeenkomstgebouw (niet nader ingedeeld) | C75: 1000 tot 2500 m2 | D75: 889 | E75: 0.096 | F75: 9.4887684 | G75: 3.9855683 | H75: 7.9950526 | I75: 13.183486 | J75: 9.4021593
A76: Gas | B76: Bijeenkomstgebouw (niet nader ingedeeld) | C76: 2500 tot 5000 m2 | D76: 199 | E76: 0.022 | F76: 8.617413 | G76: 2.3476007 | H76: 5.3608804 | I76: 12.446291 | J76: 8.6117786
A77: Gas | B77: Bijeenkomstgebouw (niet nader ingedeeld) | C77: 5000 tot 10000 m2 | D77: 76 | E77: 0.008 | F77: 6.3376681 | G77: 1.6082418 | H77: 3.41601 | I77: 9.5009148 | J77: 6.6043463
A78: Gas | B78: Bijeenkomstgebouw (niet nader ingedeeld) | C78: vanaf 10000 m2 | D78: 29 | E78: 0.003 | F78: 6.735269 | H78: 3.4552759 | J78: 5.9277172
A79: Gas | B79: Campusgebouw | C79: tot 1000 m2 | D79: 17 | E79: 0.172 | F79: 11.034264 | J79: 12.03633
A80: Gas | B80: Campusgebouw | C80: 1000 tot 2500 m2 | D80: 12 | E80: 0.121 | F80: 23.37617 | J80: 25.840612
A81: Gas | B81: Campusgebouw | C81: 2500 tot 5000 m2 | D81: 16 | E81: 0.162 | F81: 12.378385 | J81: 11.699488
A82: Gas | B82: Campusgebouw | C82: 5000 tot 10000 m2 | D82: 20 | E82: 0.202 | F82: 9.5749019 | H82: 8.2497301 | J82: 9.4619684
A83: Gas | B83: Campusgebouw | C83: vanaf 10000 m2 | D83: 34 | E83: 0.343 | F83: 10.359439 | H83: 4.1404991 | J83: 7.6568348
A84: Gas | B84: Cultuurhuis | C84: tot 250 m2 | D84: 22 | E84: 0.041 | F84: 16.639339 | H84: 16.835586 | J84: 16.615689
A85: Gas | B85: Cultuurhuis | C85: 250 tot 500 m2 | D85: 61 | E85: 0.113 | F85: 13.593592 | G85: 10.086667 | H85: 12.631783 | I85: 16.093248 | J85: 13.353829
A86: Gas | B86: Cultuurhuis | C86: 500 tot 1000 m2 | D86: 119 | E86: 0.22 | F86: 11.922115 | G86: 7.7953927 | H86: 10.950187 | I86: 15.201332 | J86: 11.78807
A87: Gas | B87: Cultuurhuis | C87: 1000 tot 2500 m2 | D87: 161 | E87: 0.298 | F87: 10.81296 | G87: 7.1093525 | H87: 9.7233607 | I87: 13.901428 | J87: 10.580559
A88: Gas | B88: Cultuurhuis | C88: 2500 tot 5000 m2 | D88: 87 | E88: 0.161 | F88: 7.87991 | G88: 4.4760204 | H88: 6.8620762 | I88: 9.4882766 | J88: 7.9732848
A89: Gas | B89: Cultuurhuis | C89: 5000 tot 10000 m2 | D89: 49 | E89: 0.091 | F89: 9.497279 | G89: 6.0064968 | H89: 7.9880248 | I89: 13.905888 | J89: 9.2736326
A90: Gas | B90: Cultuurhuis | C90: vanaf 10000 m2 | D90: 41 | E90: 0.076 | F90: 5.3010364 | G90: 1.9510884 | H90: 4.3108777 | I90: 7.0714583 | J90: 4.5175377
A91: Gas | B91: Gebedshuis | C91: tot 100 m2 | D91: 35 | E91: 0.008 | F91: 14.201627 | H91: 13.616162 | J91: 14.230606
A92: Gas | B92: Gebedshuis | C92: 100 tot 250 m2 | D92: 417 | E92: 0.098 | F92: 13.903063 | G92: 8.7669903 | H92: 13.159091 | I92: 19.215686 | J92: 13.761813
A93: Gas | B93: Gebedshuis | C93: 250 tot 500 m2 | D93: 1068 | E93: 0.25 | F93: 11.715244 | G93: 7.5273583 | H93: 10.882228 | I93: 14.988465 | J93: 11.651762
A94: Gas | B94: Gebedshuis | C94: 500 tot 1000 m2 | D94: 1350 | E94: 0.316 | F94: 10.614991 | G94: 7.0229696 | H94: 9.8394428 | I94: 13.691877 | J94: 10.501714
A95: Gas | B95: Gebedshuis | C95: 1000 tot 2500 m2 | D95: 1090 | E95: 0.255 | F95: 8.5276285 | G95: 5.2333306 | H95: 7.9861588 | I95: 11.235404 | J95: 8.3325232
A96: Gas | B96: Gebedshuis | C96: 2500 tot 5000 m2 | D96: 200 | E96: 0.047 | F96: 5.32273 | G96: 2.0319172 | H96: 4.3188121 | I96: 7.5916924 | J96: 5.2847154
A97: Gas | B97: Gebedshuis | C97: 5000 tot 10000 m2 | D97: 74 | E97: 0.017 | F97: 5.5790769 | G97: 1.2867913 | H97: 2.4610085 | I97: 8.0576187 | J97: 5.5592085
A98: Gas | B98: Gebedshuis | C98: vanaf 10000 m2 | D98: 35 | E98: 0.008 | F98: 3.7473435 | H98: 1.5013263 | J98: 3.7064031
A99: Gas | B99: Gebouw bij spooremplacement | C99: tot 500 m2 | D99: 14 | E99: 0.167 | F99: 10.367261 | J99: 10.263465
A100: Gas | B100: Gebouw bij spooremplacement | C100: 500 tot 1000 m2 | D100: 20 | E100: 0.238 | F100: 12.370755 | H100: 11.796493 | J100: 11.922923
A101: Gas | B101: Gebouw bij spooremplacement | C101: 1000 tot 2500 m2 | D101: 12 | E101: 0.143 | F101: 11.096516 | J101: 9.8033639
A102: Gas | B102: Gebouw bij spooremplacement | C102: 2500 tot 10000 m2 | D102: 20 | E102: 0.238 | F102: 11.31491 | H102: 8.5347116 | J102: 10.924197
A103: Gas | B103: Gebouw bij spooremplacement | C103: vanaf 10000 m2 | D103: 18 | E103: 0.214 | F103: 8.2674998 | J103: 7.3962481
A104: Gas | B104: Gebouw bij vliegveld of luchthaven | C104: tot 250 m2 | D104: 19 | E104: 0.114 | F104: 18.663504 | J104: 15.83936
A105: Gas | B105: Gebouw bij vliegveld of luchthaven | C105: 250 tot 500 m2 | D105: 27 | E105: 0.162 | F105: 12.194459 | H105: 7.6595092 | J105: 12.526508
...

Sheet gas_kental_diensten_2021
A1: Energiedrager | B1: Gebouwtype | C1: Aantal panden | D1: Gemiddelde kental (m3/m2) | E1: Q1 kental (m3/m2) | F1: Mediaan kental (m3/m2) | G1: Q3 kental (m3/m2) | H1: Gewogen gemiddelde kental (m3/m2)
A2: Gas | B2: Asielzoekerscentrum | C2: 54 | D2: 25.741677 | E2: 10.217212 | F2: 16.959928 | G2: 25.036492 | H2: 18.197803
A3: Gas | B3: Basisschool | C3: 4041 | D3: 10.541393 | E3: 7.4671246 | F3: 10.267653 | G3: 13.307692 | H3: 8.8631155
A4: Gas | B4: Bedrijfshal algemeen (geen LISA-informatie) | C4: 10407 | D4: 5.2992133 | E4: 0.98501223 | F4: 3.5770171 | G4: 7.2909769 | H4: 4.5703664
A5: Gas | B5: Bedrijfshal algemeen (met LISA-informatie) | C5: 7824 | D5: 6.5839441 | E5: 2.4561311 | F5: 4.9368124 | G5: 8.4597576 | H5: 5.0686917
A6: Gas | B6: Bedrijfshal met logistieke activiteiten | C6: 2015 | D6: 5.6021109 | E6: 2.2815809 | F6: 4.5138593 | G6: 7.4913056 | H6: 4.2148964
A7: Gas | B7: Bedrijfshal met maakindustrie en andere economische activiteiten | C7: 1560 | D7: 6.6013638 | E7: 2.6754712 | F7: 5.0741773 | G7: 8.4483384 | H7: 5.9022788
A8: Gas | B8: Bedrijfshal met maakindustrie en logistieke activiteiten | C8: 6146 | D8: 5.7369954 | E8: 2.2156606 | F8: 4.4496696 | G8: 7.5742823 | H8: 4.6210394
A9: Gas | B9: Bedrijfshal uitsluitend maakindustrie | C9: 6680 | D9: 7.6460139 | E9: 2.9303729 | F9: 5.6459541 | G9: 9.4892366 | H9: 7.4695726
A10: Gas | B10: Bedrijfswoning | C10: 8443 | D10: 14.152103 | E10: 6.5058897 | F10: 11.206226 | G10: 17.894772 | H10: 10.394566
A11: Gas | B11: Bijeenkomstgebouw (niet nader ingedeeld) | C11: 8424 | D11: 10.886336 | E11: 5.1243191 | F11: 9.0279057 | G11: 14.459105 | H11: 9.396347
A12: Gas | B12: Campusgebouw | C12: 71 | D12: 11.965888 | E12: 3.2746371 | F12: 9.6059259 | G12: 15.20292 | H12: 12.214048
A13: Gas | B13: Cultuurhuis | C13: 453 | D13: 10.748118 | E13: 6.4577165 | F13: 9.5457106 | G13: 14.077138 | H13: 7.8993797
... A15: Gas | B15: Gebedshuis | C15: 3668 | D15: 10.390863 | E15: 6.2554639 | F15: 9.5844683 | G15: 13.698252 | H15: 8.0364344
A16: Gas | B16: Gebouw bij militaire inrichting
A17: Gas | B17: Gebouw bij spooremplacement | C17: 44 | D17: 9.480269 | E17: 2.8152727 | F17: 9.8583747 | G17: 14.096773 | H17: 8.4168636
A18: Gas | B18: Gebouw bij vliegveld of luchthaven | C18: 117 | D18: 9.4816846 | E18: 2.5157068 | F18: 6.9034091 | G18: 12.948148 | H18: 6.8322494
A19: Gas | B19: Gebouw in landelijk gebied voor industrie (geen landbouwactiviteiten geregistreerd) | C19: 1841 | D19: 7.4630823 | E19: 1.7582418 | F19: 4.9471698 | G19: 9.8878676 | H19: 5.0946845
A20: Gas | B20: Gebouw in stedelijk gebied met industriefunctie | C20: 8105 | D20: 9.3990242 | E20: 2.4496124 | F20: 6.3958991 | G20: 12.333333 | H20: 6.3676205
A21: Gas | B21: Gebouw op snelwegverzorgingsplaats | C21: 55 | D21: 13.577346 | E21: 4.3263298 | F21: 9.6827586 | G21: 15.457341 | H21: 19.27632
A22: Gas | B22: Gebouw op vakantiepark | C22: 31961 | D22: 12.768365 | E22: 8.0137931 | F22: 11.857143 | G22: 16.225806 | H22: 12.520548
A23: Gas | B23: Gebouw voor landbouwactiviteiten | C23: 212 | D23: 17.54463 | E23: 2.681532 | F23: 7.3755657 | G23: 18.519986 | H23: 4.8928053
A24: Gas | B24: Groothandel op bedrijventerrein | C24: 174 | D24: 5.7048458 | E24: 2.9655902 | F24: 4.8623929 | G24: 7.2118043 | H24: 4.8799413
A25: Gas | B25: Hotel (of ander groot logiesgebouw) | C25: 2000 | D25: 14.786858 | E25: 8.0424147 | F25: 13.661946 | G25: 20.063159 | H25: 11.742668
A26: Gas | B26: IJsbaan | C26: 110 | D26: 6.2783161 | E26: 3.2867301 | F26: 5.2958333 | G26: 8.0764874 | H26: 6.7756649
A27: Gas | B27: Kantoorpand algemeen | C27: 16148 | D27: 11.169891 | E27: 6.481767 | F27: 10.271109 | G27: 14.887939 | H27: 8.3136016
A28: Gas | B28: Kinderopvang (gebouw) | C28: 1392 | D28: 13.336791 | E28: 8.7951589 | F28: 12.487859 | G28: 17.170265 | H28: 11.643297
A29: Gas | B29: Koelhuis | C29: 68 | D29: 5.6667928 | E29: 0.65670298 | F29: 1.5224928 | G29: 6.5011151 | H29: 3.9916819
A30: Gas | B30: MBO-gebouw
A31: Gas | B31: Meergezinswoning met andere functie of combinatie van functies | C31: 1874 | D31: 12.041004 | E31: 6.5511682 | F31: 11.238485 | G31: 16.518597 | H31: 9.6728273
A32: Gas | B32: Meergezinswoning met cafe of restaurant | C32: 1170 | D32: 16.570122 | E32: 8.0992814 | F32: 14.433795 | G32: 22.220126 | H32: 14.633827
A33: Gas | B33: Meergezinswoning met winkel | C33: 3069 | D33: 11.833296 | E33: 6.1377483 | F33: 10.761421 | G33: 16.267081 | H33: 9.9911215
A34: Gas | B34: Meergezinswoning met winkels en horeca | C34: 315 | D34: 13.348233 | E34: 7.1974451 | F34: 11.824619 | G34: 18.665272 | H34: 6.2638169
A35: Gas | B35: Meergezinswoning met woonzorgeenheden | C35: 88 | D35: 13.868474 | E35: 8.5225506 | F35: 12.606433 | G35: 18.050765 | H35: 13.396922
A36: Gas | B36: Middelbare school | C36: 995 | D36: 10.28748 | E36: 6.1337303 | F36: 9.6912371 | G36: 13.502485 | H36: 8.4855026
A37: Gas | B37: Nutsgebouw (elektriciteit)
A38: Gas | B38: Nutsgebouw (water) | C38: 186 | D38: 24.044713 | E38: 7.1948188 | F38: 14.424673 | G38: 27.020834 | H38: 12.026957
A39: Gas | B39: Overig gebouw met maatschappelijke functie | C39: 1394 | D39: 13.482216 | E39: 5.3136322 | F39: 10.03481 | G39: 16.642219 | H39: 12.127336
A40: Gas | B40: Overig gebouw met recreatiefunctie | C40: 60 | D40: 16.554436 | E40: 5.2782747 | F40: 10.105833 | G40: 18.925383 | H40: 17.625266
A41: Gas | B41: Overig onderwijsgebouw | C41: 2795 | D41: 12.226138 | E41: 7.7772196 | F41: 11.293907 | G41: 15.511745 | H41: 9.555306
A42: Gas | B42: Overig overheidsgebouw | C42: 993 | D42: 12.677174 | E42: 7.5555556 | F42: 11.11 | G42: 16.018857 | H42: 8.8015807
A43: Gas | B43: Overig sportgebouw | C43: 6989 | D43: 10.643229 | E43: 4.9447674 | F43: 8.5179153 | G43: 13.651594 | H43: 8.4011987
A44: Gas | B44: Overig zorggebouw | C44: 2743 | D44: 13.273188 | E44: 7.3809425 | F44: 11.296736 | G44: 16.317995 | H44: 10.88845
A45: Gas | B45: Overige utiliteitsbouw | C45: 2256 | D45: 18.237604 | E45: 3.5267463 | F45: 9.1162776 | G45: 17.738944 | H45: 10.933838
A46: Gas | B46: Pand met winkel en kantoor- en/of bijeenkomstfunctie | C46: 592 | D46: 9.5608444 | E46: 3.7926656 | F46: 7.6114062 | G46: 12.36228 | H46: 5.8172073
A47: Gas | B47: Penitentiaire inrichting | C47: 19 | D47: 22.919017 | H47: 23.4355
A48: Gas | B48: Praktijk- of zorgwoning | C48: 1486 | D48: 14.818368 | E48: 9.1887435 | F48: 13.177627 | G48: 18.727658 | H48: 13.373383
A49: Gas | B49: Productie-installatie
A50: Gas | B50: Restaurant of cafégebouw | C50: 3632 | D50: 28.194213 | E50: 10.551481 | F50: 20.591302 | G50: 38.721012 | H50: 19.783921
A51: Gas | B51: School voor speciaal onderwijs | C51: 431 | D51: 11.129146 | E51: 7.3635208 | F51: 10.732782 | G51: 14.36321 | H51: 9.5118629
A52: Gas | B52: Schoolverzamelgebouw | C52: 82 | D52: 8.3794277 | E52: 4.1308915 | F52: 7.6046993 | G52: 10.370981 | H52: 7.7179161
A53: Gas | B53: Tuincentrum | C53: 348 | D53: 10.497675 | E53: 4.4305544 | F53: 7.5624061 | G53: 12.00033 | H53: 7.8210445
A54: Gas | B54: Vakantiewoning buiten vakantiepark | C54: 3669 | D54: 14.890156 | E54: 8.2575758 | F54: 13.057971 | G54: 19.22 | H54: 13.337101
A55: Gas | B55: Winkelpand | C55: 17864 | D55: 11.275528 | E55: 4.051224 | F55: 8.091027 | G55: 14.358519 | H55: 6.4460255
A56: Gas | B56: Woning met andere functie of combinatie van functies | C56: 4206 | D56: 14.077383 | E56: 6.7721302 | F56: 11.598804 | G56: 18.696253 | H56: 11.329341
A57: Gas | B57: Woning met cafe of restaurant | C57: 7064 | D57: 21.45553 | E57: 10.100182 | F57: 17.293335 | G57: 28.350596 | H57: 17.070523
A58: Gas | B58: Woning met winkel | C58: 14133 | D58: 14.10509 | E58: 7.7652174 | F58: 12.005128 | G58: 18.070866 | H58: 11.26406
A59: Gas | B59: Wooncomplex met andere functie of combinatie van functies | C59: 795 | D59: 12.641636 | E59: 7.6659541 | F59: 12.38163 | G59: 16.756029 | H59: 11.812501
A60: Gas | B60: Wooncomplex met winkels en/of horeca | C60: 189 | D60: 9.7936489 | E60: 3.9600897 | F60: 9.4973592 | G60: 14.017158 | H60: 8.717059
A61: Gas | B61: Woonzorgcomplex | C61: 880 | D61: 16.59976 | E61: 9.1987344 | F61: 14.420832 | G61: 20.111408 | H61: 15.413847
... A66: Gas | B66: Zwembad | C66: 420 | D66: 57.891529 | E66: 15.990839 | F66: 35.834382 | G66: 70.63281 | H66: 38.237331

Sheet elek_kental_2021
A1: Energiedrager | B1: Gebouwtype | C1: Aantal panden | D1: Gemiddelde kental (kWh/m2) | E1: Q1 kental (kWh/m2) | F1: Mediaan kental (kWh/m2) | G1: Q3 kental (kWh/m2) | H1: Gewogen gemiddelde kental (kWh/m2) | I1: Gemiddelde kental inclusief eigenverbruik zonnestroom (kWh/m2) | J1: Q1 kental inclusief eigenverbruik zonnestroom (kWh/m2) | K1: Mediaan kental inclusief eigenverbruik zonnestroom (kWh/m2) | L1: Q3 kental inclusief eigenverbruik zonnestroom (kWh/m2) | M1: Gewogen gemiddelde kental inclusief eigenverbruik zonnestroom (kWh/m2)
A2: Elektriciteit | B2: Asielzoekerscentrum | C2: 63 | D2: 78.072885 | E2: 22.161554 | F2: 45.263024 | G2: 90.416085 | H2: 51.76276 | I2: 78.415567 | J2: 24.113826 | K2: 45.263024 | L2: 90.416085 | M2: 52.390233
A3: Elektriciteit | B3: Basisschool | C3: 4773 | D3: 24.686947 | E3: 15.393078 | F3: 20.899852 | G3: 29.82 | H3: 26.149116 | I3: 27.165797 | J3: 16.958996 | K3: 22.562633 | L3: 32.838554 | M3: 28.53326
A4: Elektriciteit | B4: Bedrijfshal algemeen (geen LISA-informatie) | C4: 18438 | D4: 37.503224 | E4: 11.092436 | F4: 20.711061 | G4: 40.944322 | H4: 44.663059 | I4: 39.255999 | J4: 11.528675 | K4: 21.683807 | L4: 42.879404 | M4: 47.341825
A5: Elektriciteit | B5: Bedrijfshal algemeen (met LISA-informatie) | C5: 12238 | D5: 45.762659 | E5: 14.743747 | F5: 26.195366 | G5: 48.546202 | H5: 47.399384 | I5: 48.528616 | J5: 15.877459 | K5: 27.829286 | L5: 52.003138 | M5: 50.820338
A6: Elektriciteit | B6: Bedrijfshal met logistieke activiteiten | C6: 5497 | D6: 39.727358 | E6: 16.476755 | F6: 26.171592 | G6: 43.052632 | H6: 41.469776 | I6: 42.524606 | J6: 17.484796 | K6: 27.733473 | L6: 46.032374 | M6: 44.943003
A7: Elektriciteit | B7: Bedrijfshal met maakindustrie en andere economische activiteiten | C7: 4886 | D7: 43.096335 | E7: 16.745093 | F7: 27.58714 | G7: 47.670604 | H7: 50.913392 | I7: 45.986868 | J7: 17.876113 | K7: 29.520756 | L7: 51.264143 | M7: 54.247349
A8: Elektriciteit | B8: Bedrijfshal met maakindustrie en logistieke activiteiten | C8: 10463 | D8: 46.391031 | E8: 14.851706 | F8: 25.723687 | G8: 46.737236 | H8: 53.770092 | I8: 50.397454 | J8: 16.030013 | K8: 27.4964 | L8: 50.020115 | M8: 57.557627
A9: Elektriciteit | B9: Bedrijfshal uitsluitend maakindustrie | C9: 19004 | D9: 57.975572 | E9: 16.77633 | F9: 29.916496 | G9: 57.860612 | H9: 92.133695 | I9: 61.229922 | J9: 18.071585 | K9: 32.256681 | L9: 61.968224 | M9: 96.021702
A10: Elektriciteit | B10: Bedrijfswoning | C10: 67855 | D10: 64.848059 | E10: 16.523336 | F10: 29.765 | G10: 63.765602 | H10: 49.80336 | I10: 75.846361 | J10: 18.255862 | K10: 32.991837 | L10: 72.179821 | M10: 57.833919
A11: Elektriciteit | B11: Bijeenkomstgebouw (niet nader ingedeeld) | C11: 8946 | D11: 42.031083 | E11: 12.140252 | F11: 22.749329 | G11: 47.891067 | H11: 43.480275 | I11: 43.876417 | J11: 12.871911 | K11: 24.471557 | L11: 51.128238 | M11: 45.124152
A12: Elektriciteit | B12: Campusgebouw | C12: 105 | D12: 88.465208 | E12: 32.679286 | F12: 54.569199 | G12: 110.61474 | H12: 66.80105 | I12: 91.553926 | J12: 32.679286 | K12: 55.886152 | L12: 110.61474 | M12: 69.120344
A13: Elektriciteit | B13: Cultuurhuis | C13: 568 | D13: 49.428003 | E13: 20.926962 | F13: 35.487186 | G13: 67.438703 | H13: 47.7502 | I13: 51.372455 | J13: 22.661464 | K13: 37.791762 | L13: 69.060598 | M13: 49.255695
... A15: Elektriciteit | B15: Gebedshuis | C15: 3527 | D15: 14.26786 | E15: 7.8129478 | F15: 11.4329 | G15: 17.612297 | H15: 15.721261 | I15: 15.041396 | J15: 8.0874323 | K15: 11.982063 | L15: 18.621865 | M15: 16.640706
A16: Elektriciteit | B16: Gebouw bij militaire inrichting | C16: 13 | D16: 709.70788 | H16: 518.48546 | I16: 709.70788 | M16: 518.48546
A17: Elektriciteit | B17: Gebouw bij spooremplacement | C17: 67 | D17: 65.001765 | E17: 18.333421 | F17: 50.311979 | G17: 92.101884 | H17: 54.510063 | I17: 65.475403 | J17: 21.343639 | K17: 50.311979 | L17: 92.101884 | M17: 55.011722
A18: Elektriciteit | B18: Gebouw bij vliegveld of luchthaven | C18: 143 | D18: 53.719593 | E18: 10.974105 | F18: 31.601887 | G18: 65.034777 | H18: 63.305664 | I18: 57.822713 | J18: 11.764017 | K18: 34.625 | L18: 67.918818 | M18: 68.321386
A19: Elektriciteit | B19: Gebouw in landelijk gebied voor industrie (geen landbouwactiviteiten geregistreerd) | C19: 4808 | D19: 47.127628 | E19: 12.893555 | F19: 25.615515 | G19: 52.717338 | H19: 50.083763 | I19: 54.205023 | J19: 13.98999 | K19: 28.190034 | L19: 58.760516 | M19: 58.383443
A20: Elektriciteit | B20: Gebouw in stedelijk gebied met industriefunctie | C20: 13354 | D20: 53.235812 | E20: 13.70989 | F20: 26.251779 | G20: 53.936934 | H20: 54.441225 | I20: 55.487607 | J20: 14.365344 | K20: 27.730994 | L20: 56.654499 | M20: 56.542932
A21: Elektriciteit | B21: Gebouw op snelwegverzorgingsplaats | C21: 128 | D21: 578.76495 | E21: 266.97885 | F21: 634.88178 | G21: 838.71129 | H21: 346.74392 | I21: 604.30687 | J21: 266.97885 | K21: 634.88178 | L21: 864.49503 | M21: 363.05361
A22: Elektriciteit | B22: Gebouw op vakantiepark | C22: 35406 | D22: 28.420296 | E22: 12.10947 | F22: 18.664729 | G22: 30.801293 | H22: 35.402702 | I22: 31.121667 | J22: 12.456522 | K22: 19.307692 | L22: 32.387767 | M22: 38.898168
A23: Elektriciteit | B23: Gebouw voor landbouwactiviteiten | C23: 2403 | D23: 117.16943 | E23: 21.954749 | F23: 48.634592 | G23: 141.14092 | H23: 81.917058 | I23: 129.1719 | J23: 24.857042 | K23: 55.622951 | L23: 158.32804 | M23: 89.522013
A24: Elektriciteit | B24: Groothandel op bedrijventerrein | C24: 589 | D24: 29.008087 | E24: 15.679454 | F24: 24.391736 | G24: 35.529628 | H24: 27.307366 | I24: 30.995203 | J24: 16.767925 | K24: 25.627119 | L24: 37.42596 | M24: 29.017183
A25: Elektriciteit | B25: Hotel (of ander groot logiesgebouw) | C25: 2439 | D25: 62.379271 | E25: 24.298719 | F25: 48.471056 | G25: 89.817601 | H25: 68.645744 | I25: 63.767809 | J25: 25.607879 | K25: 49.809735 | L25: 91.8777 | M25: 69.8447
A26: Elektriciteit | B26: IJsbaan | C26: 105 | D26: 24.327512 | E26: 9.9814815 | F26: 15.282609 | G26: 29.619048 | H26: 69.032767 | I26: 25.778274 | J26: 10.090909 | K26: 15.851562 | L26: 32.462687 | M26: 69.426023
A27: Elektriciteit | B27: Kantoorpand algemeen | C27: 20814 | D27: 46.686836 | E27: 20.884248 | F27: 36.10458 | G27: 59.995327 | H27: 52.857872 | I27: 49.290036 | J27: 22.156717 | K27: 38.161949 | L27: 62.782575 | M27: 54.526205
A28: Elektriciteit | B28: Kinderopvang (gebouw) | C28: 1530 | D28: 31.686732 | E28: 18.829043 | F28: 27.495607 | G28: 38.565513 | H28: 30.149472 | I28: 32.99423 | J28: 19.920023 | K28: 28.263198 | L28: 40.123124 | M28: 31.469446
A29: Elektriciteit | B29: Koelhuis | C29: 95 | D29: 274.57933 | E29: 84.294667 | F29: 190.49726 | G29: 354.70616 | H29: 238.56185 | I29: 286.78252 | J29: 100.56281 | K29: 211.44167 | L29: 375.35549 | M29: 251.012
A30: Elektriciteit | B30: MBO-gebouw | C30: 16 | D30: 69.798239 | H30: 65.076792 | I30: 71.489829 | M30: 66.274819
A31: Elektriciteit | B31: Meergezinswoning met andere functie of combinatie van functies | C31: 17654 | D31: 37.492179 | E31: 18.778458 | F31: 27.575239 | G31: 42.405944 | H31: 38.344908 | I31: 38.984045 | J31: 19.377786 | K31: 28.382564 | L31: 43.968825 | M31: 39.583423
A32: Elektriciteit | B32: Meergezinswoning met cafe of restaurant | C32: 6274 | D32: 80.997033 | E32: 33.260927 | F32: 68.258674 | G32: 114.11817 | H32: 71.951972 | I32: 81.425716 | J32: 34.105831 | K32: 68.667288 | L32: 114.31324 | M32: 72.430166
A33: Elektriciteit | B33: Meergezinswoning met winkel | C33: 22180 | D33: 48.657472 | E33: 23.255434 | F33: 35.689072 | G33: 59.492476 | H33: 49.795983 | I33: 49.089354 | J33: 23.603611 | K33: 36.147292 | L33: 59.984296 | M33: 50.283857
A34: Elektriciteit | B34: Meergezinswoning met winkels en horeca | C34: 2548 | D34: 54.768809 | E34: 26.441313 | F34: 41.739307 | G34: 70.028852 | H34: 55.658292 | I34: 55.404763 | J34: 26.973014 | K34: 42.703041 | L34: 71.440822 | M34: 56.223448
A35: Elektriciteit | B35: Meergezinswoning met woonzorgeenheden | C35: 282 | D35: 32.949485 | E35: 18.174681 | F35: 29.426387 | G35: 41.661114 | H35: 36.163866 | I35: 34.984986 | J35: 19.849229 | K35: 30.954314 | L35: 42.564927 | M35: 38.519145
A36: Elektriciteit | B36: Middelbare school | C36: 1088 | D36: 36.802024 | E36: 21.711319 | F36: 30.371866 | G36: 44.393274 | H36: 33.968766 | I36: 40.325984 | J36: 24.141413 | K36: 33.865201 | L36: 48.973784 | M36: 37.297152
A37: Elektriciteit | B37: Nutsgebouw (elektriciteit) | C37: 144 | D37: 241.6731 | E37: 40.37725 | F37: 99.881991 | G37: 354.33469 | H37: 125.77376 | I37: 250.76849 | J37: 44.248398 | K37: 100.38579 | L37: 386.56319 | M37: 130.4218
A38: Elektriciteit | B38: Nutsgebouw (water) | C38: 60 | D38: 501.73609 | E38: 25.825552 | F38: 94.366204 | G38: 495.24079 | H38: 421.44548 | I38: 638.46922 | J38: 30.309178 | K38: 103.17407 | L38: 669.44681 | M38: 543.66486
A39: Elektriciteit | B39: Overig gebouw met maatschappelijke functie | C39: 1207 | D39: 38.138822 | E39: 8.7519779 | F39: 16.409804 | G39: 41.9553 | H39: 49.768784 | I39: 39.077597 | J39: 8.9455585 | K39: 16.586207 | L39: 43.689245 | M39: 51.693251
A40: Elektriciteit | B40: Overig gebouw met recreatiefunctie | C40: 75 | D40: 122.91557 | E40: 37.537945 | F40: 83.304833 | G40: 170.64505 | H40: 167.58234 | I40: 129.78444 | J40: 40.828556 | K40: 83.304833 | L40: 170.64505 | M40: 171.10296
A41: Elektriciteit | B41: Overig onderwijsgebouw | C41: 3087 | D41: 29.619285 | E41: 14.941506 | F41: 22.202869 | G41: 35.020524 | H41: 36.065141 | I41: 31.033471 | J41: 15.510726 | K41: 23.015685 | L41: 37.059653 | M41: 37.41376
A42: Elektriciteit | B42: Overig overheidsgebouw | C42: 810 | D42: 74.149203 | E42: 37.141389 | F42: 60.625752 | G42: 91.031536 | H42: 67.087453 | I42: 76.88777 | J42: 38.764451 | K42: 63.843449 | L42: 96.238802 | M42: 69.037482
... A46: Elektriciteit | B46: Pand met winkel en kantoor- en/of bijeenkomstfunctie | C46: 1461 | D46: 74.068352 | E46: 26.860241 | F46: 50.049383 | G46: 93.560345 | H46: 59.128008 | I46: 75.358399 | J46: 27.888489 | K46: 51.488095 | L46: 95.893667 | M46: 60.873707
A47: Elektriciteit | B47: Penitentiaire inrichting | C47: 24 | D47: 154.07124 | F47: 94.712293 | H47: 131.07568 | I47: 154.64004 | K47: 94.712293 | M47: 131.26454
A48: Elektriciteit | B48: Praktijk- of zorgwoning | C48: 4984 | D48: 32.502795 | E48: 17.303217 | F48: 26.368522 | G48: 41.249539 | H48: 33.080304 | I48: 35.688903 | J48: 19.629288 | K48: 29.225652 | L48: 44.173193 | M48: 35.874939
A49: Elektriciteit | B49: Productie-installatie | C49: 101 | D49: 1657.5346 | E49: 104.02686 | F49: 500.79281 | G49: 2118.8207 | H49: 1811.3587 | I49: 1678.9987 | J49: 104.02686 | K49: 516.03521 | L49: 2118.8207 | M49: 1817.2551
A50: Elektriciteit | B50: Restaurant of cafégebouw | C50: 3882 | D50: 222.68274 | E50: 95.671913 | F50: 169.49938 | G50: 284.96462 | H50: 164.39915 | I50: 223.70828 | J50: 96.307799 | K50: 169.82596 | L50: 286.00282 | M50: 165.34747
A51: Elektriciteit | B51: School voor speciaal onderwijs | C51: 506 | D51: 27.81387 | E51: 16.892034 | F51: 23.557257 | G51: 32.825358 | H51: 26.808833 | I51: 29.448455 | J51: 17.761707 | K51: 24.741252 | L51: 35.166203 | M51: 28.452439
A52: Elektriciteit | B52: Schoolverzamelgebouw | C52: 104 | D52: 34.632525 | E52: 18.481242 | F52: 28.543591 | G52: 44.051612 | H52: 33.124324 | I52: 37.531969 | J52: 19.237172 | K52: 31.930714 | L52: 50.437599 | M52: 35.561473
A53: Elektriciteit | B53: Tuincentrum | C53: 455 | D53: 39.072349 | E53: 17.709735 | F53: 30.774834 | G53: 49.570956 | H53: 31.506758 | I53: 44.112426 | J53: 19.133645 | K53: 31.841463 | L53: 51.346512 | M53: 33.946177
A54: Elektriciteit | B54: Vakantiewoning buiten vakantiepark | C54: 5241 | D54: 33.915882 | E54: 13.333333 | F54: 22.671642 | G54: 40.16129 | H54: 36.934935 | I54: 35.884916 | J54: 13.82 | K54: 23.617978 | L54: 42.48 | M54: 38.830536
A55: Elektriciteit | B55: Winkelpand | C55: 21328 | D55: 90.677182 | E55: 25.058136 | F55: 50.678406 | G55: 112.235 | H55: 74.18454 | I55: 92.304421 | J55: 26.11706 | K55: 52.065824 | L55: 113.99135 | M55: 76.150814
A56: Elektriciteit | B56: Woning met andere functie of combinatie van functies | C56: 13820 | D56: 45.268361 | E56: 16.604995 | F56: 27.80331 | G56: 51.715169 | H56: 45.524141 | I56: 48.415371 | J56: 18.373192 | K56: 30.264396 | L56: 55.688503 | M56: 47.971576
A57: Elektriciteit | B57: Woning met cafe of restaurant | C57: 11035 | D57: 97.37067 | E57: 33.36862 | F57: 76.625 | G57: 137.17695 | H57: 79.814298 | I57: 98.735404 | J57: 34.907083 | K57: 77.744382 | L57: 137.79665 | M57: 81.278211
A58: Elektriciteit | B58: Woning met winkel | C58: 31641 | D58: 50.797602 | E58: 20.064516 | F58: 33.530864 | G58: 59.789474 | H58: 49.040054 | I58: 52.193623 | J58: 21.227459 | K58: 34.963415 | L58: 61.425926 | M58: 50.342503
A59: Elektriciteit | B59: Wooncomplex met andere functie of combinatie van functies | C59: 9420 | D59: 41.996484 | E59: 26.598478 | F59: 34.636498 | G59: 49.472172 | H59: 43.867831 | I59: 42.747145 | J59: 27.006957 | K59: 35.324 | L59: 50.377885 | M59: 44.497341
... A66: Elektriciteit | B66: Zwembad | C66: 482 | D66: 209.57368 | E66: 64.924886 | F66: 115.86074 | G66: 203.22919 | H66: 115.13757 | I66: 218.80877 | J66: 68.587009 | K66: 124.70967 | L66: 216.798 | M66: 120.82812

Sheet elek_kental_bouwj_2021
A1: Energiedrager | B1: Gebouwtype | C1: Bouwjaarklasse | D1: Aantal panden | E1: Aandeel panden per gebouwtype | F1: Gemiddelde kental (kWh/m2) | G1: Q1 kental (kWh/m2) | H1: Mediaan kental (kWh/m2) | I1: Q3 kental (kWh/m2) | J1: Gewogen gemiddelde kental (kWh/m2) | K1: Gemiddelde kental inclusief eigenverbruik zonnestroom (kWh/m2) | L1: Q1 kental inclusief eigenverbruik zonnestroom (kWh/m2) | M1: Mediaan kental inclusief eigenverbruik zonnestroom (kWh/m2) | N1: Q3 kental inclusief eigenverbruik zonnestroom (kWh/m2) | O1: Gewogen gemiddelde kental inclusief eigenverbruik zonnestroom (kWh/m2)
A2: Elektriciteit | B2: Basisschool | C2: tot 1946 | D2: 445 | E2: 0.093 | F2: 22.437464 | G2: 14.183121 | H2: 19.184829 | I2: 26.404337 | J2: 20.54563 | K2: 24.358072 | L2: 15.543188 | M2: 20.739203 | N2: 27.531105 | O2: 22.166081
A3: Elektriciteit | B3: Basisschool | C3: 1946 tot 1978 | D3: 1725 | E3: 0.361 | F3: 20.276687 | G3: 13.863527 | H3: 18.204501 | I3: 23.695115 | J3: 19.443342 | K3: 22.105808 | L3: 15.640145 | M3: 19.767006 | N3: 25.270687 | O3: 21.09097
A4: Elektriciteit | B4: Basisschool | C4: 1978 tot 1995 | D4: 1097 | E4: 0.23 | F4: 21.054701 | G4: 14.854651 | H4: 19.140613 | I4: 24.684679 | J4: 20.655646 | K4: 22.847734 | L4: 16.010139 | M4: 20.524492 | N4: 26.170316 | O4: 22.304447
A5: Elektriciteit | B5: Basisschool | C5: 1995 tot 2009 | D5: 710 | E5: 0.149 | F5: 26.616196 | G5: 17.144597 | H5: 23.61587 | I5: 33.001903 | J5: 27.337165 | K5: 28.882836 | L5: 19.042646 | M5: 25.499034 | N5: 35.814339 | O5: 29.378516
A6: Elektriciteit | B6: Basisschool | C6: 2009 tot 2015 | D6: 481 | E6: 0.101 | F6: 39.508802 | G6: 28.050569 | H6: 38.102536 | I6: 50.309934 | J6: 40.192781 | K6: 43.972763 | L6: 31.067594 | M6: 42.26934 | N6: 53.222072 | O6: 43.701702
A7: Elektriciteit | B7: Basisschool | C7: vanaf 2015 | D7: 315 | E7: 0.066 | F7: 37.684454 | G7: 25.671711 | H7: 35.247867 | I7: 47.529401 | J7: 37.136798 | K7: 44.345427 | L7: 30.878417 | M7: 40.909692 | N7: 55.148467 | O7: 43.29134
A8: Elektriciteit | B8: Bedrijfshal algemeen (geen LISA-informatie) | C8: tot 1946 | D8: 243 | E8: 0.013 | F8: 44.133392 | G8: 12.157627 | H8: 21.333333 | I8: 41.21732 | J8: 37.932415 | K8: 45.335168 | L8: 12.3 | M8: 21.729483 | N8: 41.21732 | O8: 38.71131
A9: Elektriciteit | B9: Bedrijfshal algemeen (geen LISA-informatie) | C9: 1946 tot 1978 | D9: 2290 | E9: 0.124 | F9: 36.535224 | G9: 10.479706 | H9: 19.559853 | I9: 40.555915 | J9: 43.854544 | K9: 38.253078 | L9: 10.907 | M9: 20.212624 | N9: 41.783616 | O9: 46.34599
A10: Elektriciteit | B10: Bedrijfshal algemeen (geen LISA-informatie) | C10: 1978 tot 1995 | D10: 4180 | E10: 0.227 | F10: 40.683852 | G10: 11.596462 | H10: 21.26135 | I10: 42.425658 | J10: 46.87681 | K10: 42.106265 | L10: 11.93233 | M10: 22.268426 | N10: 43.962123 | O10: 48.507354
A11: Elektriciteit | B11: Bedrijfshal algemeen (geen LISA-informatie) | C11: 1995 tot 2009 | D11: 7710 | E11: 0.418 | F11: 34.572382 | G11: 10.568613 | H11: 19.622672 | I11: 37.517672 | J11: 42.868772 | K11: 36.204667 | L11: 10.944316 | M11: 20.566591 | N11: 39.661371 | O11: 45.363456
A12: Elektriciteit | B12: Bedrijfshal algemeen (geen LISA-informatie) | C12: 2009 tot 2015 | D12: 1606 | E12: 0.087 | F12: 37.028645 | G12: 11.080065 | H12: 19.407592 | I12: 39.824026 | J12: 51.843534 | K12: 39.04437 | L12: 11.369048 | M12: 20.254065 | N12: 41.791188 | O12: 56.270764
A13: Elektriciteit | B13: Bedrijfshal algemeen (geen LISA-informatie) | C13: vanaf 2015 | D13: 2409 | E13: 0.131 | F13: 41.932255 | G13: 12.784906 | H13: 25.051252 | I13: 49.321429 | J13: 42.084127 | K13: 44.557367 | L13: 13.604027 | M13: 26.97493 | N13: 53.105263 | O13: 47.164896
... A55: Elektriciteit | B55: Bijeenkomstgebouw (niet nader ingedeeld) | C55: vanaf 2015 | D55: 344 | E55: 0.038 | F55: 62.894614 | G55: 18.966978 | H55: 35.301808 | I55: 89.146875 | J55: 67.21533 | K55: 68.159446 | L55: 21.05435 | M55: 43.17848 | N55: 93.948366 | O55: 72.367505
A56: Elektriciteit | B56: Campusgebouw | C56: tot 1978 | D56: 30 | E56: 0.286 | F56: 73.580153 | H56: 43.926001 | J56: 90.390871 | K56: 75.365231 | M56: 43.926001 | O56: 92.54006
A57: Elektriciteit | B57: Campusgebouw | C57: 1978 tot 1995 | D57: 16 | E57: 0.152 | F57: 64.270526 | J57: 66.745275 | K57: 66.073783 | O57: 69.475722
A58: Elektriciteit | B58: Campusgebouw | C58: 1995 tot 2009 | D58: 36 | E58: 0.343 | F58: 91.469357 | H58: 54.244276 | J58: 76.315444 | K58: 94.381618 | M58: 55.462691 | O58: 79.317591
A59: Elektriciteit | B59: Campusgebouw | C59: 2009 tot 2015 | D59: 10 | E59: 0.095 | F59: 161.3445 | J59: 110.54264 | K59: 163.78101 | O59: 111.5564
A60: Elektriciteit | B60: Campusgebouw | C60: vanaf 2015 | D60: 13 | E60: 0.124 | F60: 88.213224 | J60: 30.681005 | K60: 96.882798 | O60: 32.902065
A61: Elektriciteit | B61: Cultuurhuis | C61: tot 1946 | D61: 223 | E61: 0.393 | F61: 50.644066 | G61: 20.23836 | H61: 38.157295 | I61: 69.773777 | J61: 47.691695 | K61: 51.258808 | L61: 20.417554 | M61: 38.588235 | N61: 70.237693 | O61: 48.023597
A62: Elektriciteit | B62: Cultuurhuis | C62: 1946 tot 1978 | D62: 112 | E62: 0.197 | F62: 35.249954 | G62: 18.203373 | H62: 24.796848 | I62: 39.405838 | J62: 41.539305 | K62: 37.046656 | L62: 19.2632 | M62: 26.234166 | N62: 41.073262 | O62: 43.391237
A63: Elektriciteit | B63: Cultuurhuis | C63: 1978 tot 1995 | D63: 106 | E63: 0.187 | F63: 47.140239 | G63: 23.878951 | H63: 34.500831 | I63: 62.415007 | J63: 46.833388 | K63: 48.549453 | L63: 26.65269 | M63: 39.215922 | N63: 64.076441 | O63: 48.564424
A64: Elektriciteit | B64: Cultuurhuis | C64: 1995 tot 2009 | D64: 86 | E64: 0.151 | F64: 59.10267 | G64: 24.981107 | H64: 45.565756 | I64: 86.898836 | J64: 53.42632 | K64: 63.74818 | L64: 26.381624 | M64: 48.138981 | N64: 89.535868 | O64: 55.389469
A65: Elektriciteit | B65: Cultuurhuis | C65: 2009 tot 2015 | D65: 22 | E65: 0.039 | F65: 72.230831 | H65: 48.548634 | J65: 48.041685 | K65: 75.415865 | M65: 48.548634 | O65: 48.435139
A66: Elektriciteit | B66: Cultuurhuis | C66: vanaf 2015 | D66: 19 | E66: 0.033 | F66: 61.300586 | J66: 51.231327 | K66: 69.046318 | O66: 57.258534
A67: Elektriciteit | B67: Gebedshuis | C67: tot 1946 | D67: 1425 | E67: 0.404 | F67: 13.377272 | G67: 7.4893813 | H67: 10.612121 | I67: 16.152174 | J67: 12.913995 | K67: 13.799945 | L67: 7.5828044 | M67: 10.953901 | N67: 16.632911 | O67: 13.411387
A68: Elektriciteit | B68: Gebedshuis | C68: 1946 tot 1978 | D68: 1205 | E68: 0.342 | F68: 13.574554 | G68: 7.5107632 | H68: 10.9075 | I68: 16.443617 | J68: 15.125228 | K68: 14.464767 | L68: 7.8503788 | M68: 11.355895 | N68: 17.571046 | O68: 16.06532
A69: Elektriciteit | B69: Gebedshuis | C69: 1978 tot 1995 | D69: 479 | E69: 0.136 | F69: 15.435873 | G69: 8.6869794 | H69: 12.511765 | I69: 20.568849 | J69: 17.435708 | K69: 16.241928 | L69: 9.2006113 | M69: 13.209459 | N69: 21.184496 | O69: 18.723532
A70: Elektriciteit | B70: Gebedshuis | C70: 1995 tot 2009 | D70: 310 | E70: 0.088 | F70: 17.117564 | G70: 9.9636684 | H70: 14.425332 | I70: 21.687101 | J70: 21.841353 | K70: 18.525498 | L70: 10.822717 | M70: 15.553286 | N70: 23.991003 | O70: 23.115066
A71: Elektriciteit | B71: Gebedshuis | C71: 2009 tot 2015 | D71: 77 | E71: 0.022 | F71: 19.401664 | G71: 12 | H71: 16.783639 | I71: 23.52931 | J71: 20.391905 | K71: 21.505408 | L71: 13.679688 | M71: 17.740927 | N71: 26.150204 | O71: 22.232113
A72: Elektriciteit | B72: Gebedshuis | C72: vanaf 2015 | D72: 31 | E72: 0.009 | F72: 22.85926 | H72: 19.57346 | J72: 25.762061 | K72: 25.075261 | M72: 21.123206 | O72: 28.429021
A73: Elektriciteit | B73: Gebouw bij spooremplacement | C73: tot 1946 | D73: 12 | E73: 0.179 | F73: 37.6253 | J73: 36.756017 | K73: 38.618558 | O73: 40.225438
A74: Elektriciteit | B74: Gebouw bij spooremplacement | C74: 1995 tot 2009 | D74: 24 | E74: 0.358 | F74: 88.987593 | H74: 80.561068 | J74: 89.503278 | K74: 88.987593 | M74: 80.561068 | O74: 89.503278
A75: Elektriciteit | B75: Gebouw bij spooremplacement | C75: vanaf 2009 | D75: 12 | E75: 0.179 | F75: 56.330265 | J75: 42.599113 | K75: 57.443032 | O75: 43.145416
A76: Elektriciteit | B76: Gebouw bij spooremplacement | D76: 19 | E76: 0.284 | F76: 57.471012 | J76: 31.019587 | K76: 57.811089 | O76: 31.345385
A77: Elektriciteit | B77: Gebouw bij vliegveld of luchthaven | C77: tot 1978 | D77: 21 | E77: 0.147 | F77: 44.214627 | H77: 31.601887 | J77: 25.616707 | K77: 44.761404 | M77: 31.601887 | O77: 25.897589
A78: Elektriciteit | B78: Gebouw bij vliegveld of luchthaven | C78: 1978 tot 1995 | D78: 56 | E78: 0.392 | F78: 55.676909 | G78: 10.399329 | H78: 21.295238 | I78: 69.8628 | J78: 97.699213 | K78: 60.218685 | L78: 10.399329 | M78: 24.462247 | N78: 69.8628 | O78: 109.85495
A79: Elektriciteit | B79: Gebouw bij vliegveld of luchthaven | C79: 1995 tot 2009 | D79: 40 | E79: 0.28 | F79: 56.006612 | G79: 18.068764 | H79: 34.519531 | I79: 63.327413 | J79: 55.052975 | K79: 59.966123 | L79: 18.068764 | M79: 34.519531 | N79: 63.327413 | O79: 55.922213
A80: Elektriciteit | B80: Gebouw bij vliegveld of luchthaven | C80: 2009 tot 2015 | D80: 13 | E80: 0.091 | F80: 54.163728 | J80: 57.902809 | K80: 65.091886 | O80: 62.562127
A81: Elektriciteit | B81: Gebouw bij vliegveld of luchthaven | C81: vanaf 2015 | D81: 13 | E81: 0.091 | F81: 53.161135 | J81: 38.291026 | K81: 54.736355 | O81: 38.798545
A82: Elektriciteit | B82: Gebouw in landelijk gebied voor industrie (geen landbouwactiviteiten geregistreerd) | C82: tot 1946 | D82: 517 | E82: 0.108 | F82: 43.722938 | G82: 12.544335 | H82: 22.810526 | I82: 48.711039 | J82: 45.278867 | K82: 47.815674 | L82: 13.058749 | M82: 25.491525 | N82: 54.560694 | O82: 48.741894
A83: Elektriciteit | B83: Gebouw in landelijk gebied voor industrie (geen landbouwactiviteiten geregistreerd) | C83: 1946 tot 1978 | D83: 1317 | E83: 0.274 | F83: 44.276675 | G83: 12.36764 | H83: 23.413333 | I83: 49.542299 | J83: 49.558546 | K83: 49.70308 | L83: 13.497531 | M83: 25.496547 | N83: 54.675687 | O83: 57.106998
A84: Elektriciteit | B84: Gebouw in landelijk gebied voor industrie (geen landbouwactiviteiten geregistreerd) | C84: 1978 tot 1995 | D84: 1189 | E84: 0.247 | F84: 50.449306 | G84: 12.925753 | H84: 26.621951 | I84: 56.774684 | J84: 53.738336 | K84: 60.561494 | L84: 13.988806 | M84: 29.421053 | N84: 64.449782 | O84: 64.740605
A85: Elektriciteit | B85: Gebouw in landelijk gebied voor industrie (geen landbouwactiviteiten geregistreerd) | C85: 1995 tot 2009 | D85: 1063 | E85: 0.221 | F85: 49.932409 | G85: 12.488434 | H85: 26.50081 | I85: 54.853043 | J85: 47.981378 | K85: 57.614004 | L85: 13.988526 | M85: 28.759876 | N85: 65.173468 | O85: 54.708262
A86: Elektriciteit | B86: Gebouw in landelijk gebied voor industrie (geen landbouwactiviteiten geregistreerd) | C86: 2009 tot 2015 | D86: 331 | E86: 0.069 | F86: 48.374952 | G86: 13.598659 | H86: 28.659021 | I86: 55.191192 | J86: 48.850113 | K86: 55.330937 | L86: 15.483848 | M86: 33.857931 | N86: 61.959854 | O86: 58.428023
A87: Elektriciteit | B87: Gebouw in landelijk gebied voor industrie (geen landbouwactiviteiten geregistreerd) | C87: vanaf 2015 | D87: 391 | E87: 0.081 | F87: 42.450152 | G87: 15.453435 | H87: 28.78972 | I87: 42.814951 | J87: 52.307347 | K87: 48.266616 | L87: 16.735256 | M87: 32.393419 | N87: 50.296733 | O87: 62.157361
A88: Elektriciteit | B88: Gebouw in stedelijk gebied met industriefunctie | C88: tot 1946 | D88: 2997 | E88: 0.224 | F88: 49.390271 | G88: 13.083721 | H88: 25.078261 | I88: 50.232143 | J88: 47.132564 | K88: 50.539161 | L88: 13.713568 | M88: 25.916667 | N88: 51.823529 | O88: 48.506474
A89: Elektriciteit | B89: Gebouw in stedelijk gebied met industriefunctie | C89: 1946 tot 1978 | D89: 4392 | E89: 0.329 | F89: 50.338596 | G89: 12.805038 | H89: 24.671277 | I89: 51.654316 | J89: 59.436053 | K89: 52.095761 | L89: 13.369456 | M89: 26.150595 | N89: 54.193854 | O89: 61.263225
A90: Elektriciteit | B90: Gebouw in stedelijk gebied met industriefunctie | C90: 1978 tot 1995 | D90: 2694 | E90: 0.202 | F90: 57.219641 | G90: 14.287277 | H90: 27.496111 | I90: 56.429064 | J90: 51.496238 | K90: 60.048383 | L90: 15.04724 | M90: 29.082327 | N90: 58.837197 | O90: 53.157782
A91: Elektriciteit | B91: Gebouw in stedelijk gebied met industriefunctie | C91: 1995 tot 2009 | D91: 2191 | E91: 0.164 | F91: 60.556083 | G91: 15.233915 | H91: 28.744038 | I91: 61.292556 | J91: 56.350567 | K91: 63.741953 | L91: 16.355316 | M91: 30.253807 | N91: 65.516631 | O91: 59.24118
A92: Elektriciteit | B92: Gebouw in stedelijk gebied met industriefunctie | C92: 2009 tot 2015 | D92: 509 | E92: 0.038 | F92: 53.726555 | G92: 14.212871 | H92: 26.167742 | I92: 52.902511 | J92: 48.641148 | K92: 57.496776 | L92: 15.302326 | M92: 28.145717 | N92: 57.153201 | O92: 51.020124
A93: Elektriciteit | B93: Gebouw in stedelijk gebied met industriefunctie | C93: vanaf 2015 | D93: 571 | E93: 0.043 | F93: 48.382444 | G93: 14.923093 | H93: 27.032787 | I93: 54.537265 | J93: 55.977907 | K93: 52.567838 | L93: 17.06714 | M93: 31.369969 | N93: 60.356153 | O93: 60.266094
... A105: Elektriciteit | B105: Gebouw voor landbouwactiviteiten | C105: vanaf 2015 | D105: 98 | E105: 0.041 | F105: 87.878327 | G105: 19.880283 | H105: 37.092412 | I105: 104.25303 | J105: 74.024258 | K105: 104.00743 | L105: 22.036701 | M105: 43.892062 | N105: 120.57581 | O105: 85.989982
A106: Elektriciteit | B106: Groothandel op bedrijventerrein | C106: tot 1946 | D106: 11 | E106: 0.019 | F106: 22.63491 | J106: 16.5628 | K106: 29.644323 | O106: 25.974379
A107: Elektriciteit | B107: Groothandel op bedrijventerrein | C107: 1946 tot 1978 | D107: 112 | E107: 0.19 | F107: 25.675675 | G107: 12.918684 | H107: 19.07644 | I107: 29.643205 | J107: 25.933979 | K107: 28.49933 | L107: 13.780929 | M107: 20.593727 | N107: 30.348643 | O107: 27.819206
A108: Elektriciteit | B108: Groothandel op bedrijventerrein | C108: 1978 tot 1995 | D108: 177 | E108: 0.301 | F108: 27.850339 | G108: 14.709287 | H108: 23.600115 | I108: 34.505566 | J108: 22.266381 | K108: 29.277451 | L108: 15.808033 | M108: 25.37317 | N108: 38.553182 | O108: 23.656068
A109: Elektriciteit | B109: Groothandel op bedrijventerrein | C109: 1995 tot 2009 | D109: 242 | E109: 0.411 | F109: 30.695658 | G109: 18.104384 | H109: 27.142165 | I109: 38.021393 | J109: 32.867684 | K109: 31.807874 | L109: 18.588809 | M109: 28.555988 | N109: 38.933102 | O109: 33.597526
A110: Elektriciteit | B110: Groothandel op bedrijventerrein | C110: 2009 tot 2015 | D110: 23 | E110: 0.039 | F110: 31.655238 | H110: 27.395702 | J110: 31.815884 | K110: 32.753102 | M110: 29.61165 | O110: 32.759835
A111: Elektriciteit | B111: Groothandel op bedrijventerrein | C111: vanaf 2015 | D111: 24 | E111: 0.041 | F111: 36.46557 | H111: 28.529229 | J111: 33.157071 | K111: 46.051098 | M111: 32.885299 | O111: 39.141036
A112: Elektriciteit | B112: Hotel (of ander groot logiesgebouw) | C112: tot 1946 | D112: 1188 | E112: 0.487 | F112: 58.802718 | G112: 23.501669 | H112: 43.779831 | I112: 82.310396 | J112: 57.043644 | K112: 59.67954 | L112: 24.155863 | M112: 44.632211 | N112: 83.468405 | O112: 57.48605
A113: Elektriciteit | B113: Hotel (of ander groot logiesgebouw) | C113: 1946 tot 1978 | D113: 464 | E113: 0.19 | F113: 58.54518 | G113: 22.532916 | H113: 47.250394 | I113: 80.692782 | J113: 66.671691 | K113: 60.11952 | L113: 23.934473 | M113: 49.056805 | N113: 83.984339 | O113: 67.513704
A114: Elektriciteit | B114: Hotel (of ander groot logiesgebouw) | C114: 1978 tot 1995 | D114: 310 | E114: 0.127 | F114: 72.916648 | G114: 32.385441 | H114: 68.270521 | I114: 101.69459 | J114: 79.629287 | K114: 74.032177 | L114: 32.583701 | M114: 69.816566 | N114: 102.32614 | O114: 80.232293
A115: Elektriciteit | B115: Hotel (of ander groot logiesgebouw) | C115: 1995 tot 2009 | D115: 252 | E115: 0.103 | F115: 66.454082 | G115: 26.589305 | H115: 56.034035 | I115: 96.760159 | J115: 71.922836 | K115: 68.185246 | L115: 27.896523 | M115: 56.333364 | N115: 99.375959 | O115: 72.698695
A116: Elektriciteit | B116: Hotel (of ander groot logiesgebouw) | C116: 2009 tot 2015 | D116: 94 | E116: 0.039 | F116: 70.131037 | G116: 20.373814 | H116: 56.56089 | I116: 107.19201 | J116: 69.042112 | K116: 73.360626 | L116: 23.772294 | M116: 56.56089 | N116: 111.7403 | O116: 74.852465
A117: Elektriciteit | B117: Hotel (of ander groot logiesgebouw) | C117: vanaf 2015 | D117: 131 | E117: 0.054 | F117: 70.057576 | G117: 27.279638 | H117: 49.092 | I117: 104.98472 | J117: 77.226259 | K117: 74.094496 | L117: 28.421026 | M117: 56.98 | N117: 104.98472 | O117: 79.416715
A118: Elektriciteit | B118: IJsbaan | C118: tot 1978 | D118: 14 | E118: 0.133 | F118: 20.495795 | J118: 46.669468 | K118: 20.776901 | O118: 46.753513
A119: Elektriciteit | B119: IJsbaan | C119: 1978 tot 1995 | D119: 35 | E119: 0.333 | F119: 20.582305 | H119: 12.791667 | J119: 18.475714 | K119: 22.337747 | M119: 14.923077 | O119: 19.926105
A120: Elektriciteit | B120: IJsbaan | C120: 1995 tot 2009 | D120: 33 | E120: 0.314 | F120: 33.08926 | H120: 18.117444 | J120: 80.310317 | K120: 34.057371 | M120: 18.2625 | O120: 80.473065
A121: Elektriciteit | B121: IJsbaan | C121: vanaf 2009 | D121: 23 | E121: 0.219 | F121: 19.787885 | H121: 13.08284 | J121: 18.80418 | K121: 22.179471 | M121: 14.592593 | O121: 21.784412
A122: Elektriciteit | B122: Kantoorpand algemeen | C122: tot 1946 | D122: 5221 | E122: 0.251 | F122: 38.24152 | G122: 18.244776 | H122: 29.014981 | I122: 46.808738 | J122: 40.163525 | K122: 39.319846 | L122: 18.698131 | M122: 29.99384 | N122: 47.771277 | O122: 40.947822
A123: Elektriciteit | B123: Kantoorpand algemeen | C123: 1946 tot 1978 | D123: 3385 | E123: 0.163 | F123: 43.474392 | G123: 18.874618 | H123: 32.548246 | I123: 54.614657 | J123: 48.028178 | K123: 47.572559 | L123: 20.081731 | M123: 34.317977 | N123: 56.703822 | O123: 49.549654
A124: Elektriciteit | B124: Kantoorpand algemeen | C124: 1978 tot 1995 | D124: 4408 | E124: 0.212 | F124: 46.977364 | G124: 22.273323 | H124: 37.252109 | I124: 60.566481 | J124: 50.958209 | K124: 49.784447 | L124: 23.86103 | M124: 39.758424 | N124: 63.448138 | O124: 52.874416
A125: Elektriciteit | B125: Kantoorpand algemeen | C125: 1995 tot 2009 | D125: 6163 | E125: 0.296 | F125: 51.477928 | G125: 23.982294 | H125: 42.116178 | I125: 67.509758 | J125: 56.496844 | K125: 53.839469 | L125: 25.5847 | M125: 44.18371 | N125: 69.922971 | O125: 57.971741
A126: Elektriciteit | B126: Kantoorpand algemeen | C126: 2009 tot 2015 | D126: 1086 | E126: 0.052 | F126: 60.936879 | G126: 26.693138 | H126: 49.555248 | I126: 82.301927 | J126: 69.912325 | K126: 64.369276 | L126: 28.160188 | M126: 52.653685 | N126: 88.801617 | O126: 72.265242
A127: Elektriciteit | B127: Kantoorpand algemeen | C127: vanaf 2015 | D127: 551 | E127: 0.026 | F127: 62.446211 | G127: 29.37616 | H127: 50.369863 | I127: 83.501371 | J127: 63.150264 | K127: 69.751828 | L127: 35.981007 | M127: 56.971061 | N127: 94.648366 | O127: 68.989368
A128: Elektriciteit | B128: Kinderopvang (gebouw) | C128: tot 1946 | D128: 262 | E128: 0.171 | F128: 31.813788 | G128: 19.496799 | H128: 26.977473 | I128: 39.467772 | J128: 29.338164 | K128: 32.529307 | L128: 19.905554 | M128: 27.526405 | N128: 40.169375 | O128: 30.058329
A129: Elektriciteit | B129: Kinderopvang (gebouw) | C129: 1946 tot 1978 | D129: 466 | E129: 0.305 | F129: 26.916746 | G129: 15.651103 | H129: 24.205579 | I129: 33.432863 | J129: 23.580696 | K129: 28.135339 | L129: 16.440015 | M129: 24.621238 | N129: 33.885294 | O129: 24.610133
A130: Elektriciteit | B130: Kinderopvang (gebouw) | C130: 1978 tot 1995 | D130: 336 | E130: 0.22 | F130: 32.205556 | G130: 19.89764 | H130: 28.465886 | I130: 37.705069 | J130: 30.527855 | K130: 33.433007 | L130: 21.086404 | M130: 29.036303 | N130: 39.701693 | O130: 32.103106
A131: Elektriciteit | B131: Kinderopvang (gebouw) | C131: 1995 tot 2009 | D131: 354 | E131: 0.231 | F131: 33.917352 | G131: 20.936436 | H131: 29.866818 | I131: 41.470776 | J131: 32.878125 | K131: 35.299535 | L131: 22.629568 | M131: 30.987635 | N131: 42.82947 | O131: 34.159452
A132: Elektriciteit | B132: Kinderopvang (gebouw) | C132: 2009 tot 2015 | D132: 88 | E132: 0.058 | F132: 43.996782 | G132: 26.313722 | H132: 36.02591 | I132: 56.959329 | J132: 45.915113 | K132: 46.253496 | L132: 28.256693 | M132: 41.072472 | N132: 57.522055 | O132: 48.015936
A133: Elektriciteit | B133: Kinderopvang (gebouw) | C133: vanaf 2015 | D133: 24 | E133: 0.016 | F133: 37.614889 | H133: 29.879356 | J133: 30.649129 | K133: 43.649692 | M133: 31.217594 | O133: 36.369818
A134: Elektriciteit | B134: Koelhuis | C134: tot 1978 | D134: 13 | E134: 0.137 | F134: 392.90156 | J134: 390.40738 | K134: 408.26351 | O134: 410.7164
A135: Elektriciteit | B135: Koelhuis | C135: 1978 tot 1995 | D135: 39 | E135: 0.411 | F135: 276.23513 | H135: 213.39889 | J135: 284.36309 | K135: 289.14519 | M135: 215.45586 | O135: 298.35746
A136: Elektriciteit | B136: Koelhuis | C136: 1995 tot 2009 | D136: 31 | E136: 0.326 | F136: 264.51487 | H136: 149.9395 | J136: 211.01968 | K136: 276.08732 | M136: 198.26929 | O136: 222.56578
A137: Elektriciteit | B137: Koelhuis | C137: vanaf 2009 | D137: 12 | E137: 0.126 | F137: 167.01542 | J137: 121.28395 | K137: 175.12869 | O137: 128.2518
A138: Elektriciteit | B138: Meergezinswoning met andere functie of combinatie van functies | C138: tot 1946 | D138: 11375 | E138: 0.644 | F138: 36.360298 | G138: 18.225759 | H138: 26.6787 | I138: 40.881495 | J138: 35.827785 | K138: 37.549792 | L138: 18.690648 | M138: 27.241935 | N138: 41.989919 | O138: 36.97823
A139: Elektriciteit | B139: Meergezinswoning met andere functie of combinatie van functies | C139: 1946 tot 1978 | D139: 3312 | E139: 0.188 | F139: 38.675196 | G139: 18.924418 | H139: 28.103576 | I139: 44.231456 | J139: 38.980478 | K139: 40.498921 | L139: 19.699006 | M139: 29.267098 | N139: 46.425968 | O139: 40.195666
A140: Elektriciteit | B140: Meergezinswoning met andere functie of combinatie van functies | C140: 1978 tot 1995 | D140: 1408 | E140: 0.08 | F140: 40.05012 | G140: 20.529195 | H140: 29.570154 | I140: 46.169407 | J140: 41.122206 | K140: 42.064737 | L140: 21.44067 | M140: 30.710197 | N140: 48.521083 | O140: 42.461138
A141: Elektriciteit | B141: Meergezinswoning met andere functie of combinatie van functies | C141: 1995 tot 2009 | D141: 1174 | E141: 0.067 | F141: 39.937841 | G141: 21.083787 | H141: 29.751564 | I141: 45.282086 | J141: 42.859759 | K141: 42.446839 | L141: 21.93712 | M141: 31.030369 | N141: 47.274526 | O141: 44.427644
A142: Elektriciteit | B142: Meergezinswoning met andere functie of combinatie van functies | C142: 2009 tot 2015 | D142: 225 | E142: 0.013 | F142: 44.483666 | G142: 22.834775 | H142: 33.913775 | I142: 58.119629 | J142: 48.289 | K142: 45.982004 | L142: 23.425044 | M142: 34.640845 | N142: 58.488722 | O142: 49.208256
A143: Elektriciteit | B143: Meergezinswoning met andere functie of combinatie van functies | C143: vanaf 2015 | D143: 160 | E143: 0.009 | F143: 43.186722 | G143: 21.973128 | H143: 34.924672 | I143: 49.829534 | J143: 45.766914 | K143: 47.233318 | L143: 24.066956 | M143: 38.318862 | N143: 58.151873 | O143: 48.011016
A144: Elektriciteit | B144: Meergezinswoning met cafe of restaurant | C144: tot 1946 | D144: 4953 | E144: 0.789 | F144: 82.675181 | G144: 35.495468 | H144: 70.384 | I144: 115.03475 | J144: 74.665793 | K144: 82.938345 | L144: 36.12381 | M144: 70.708709 | N144: 115.07339 | O144: 74.975943
A145: Elektriciteit | B145: Meergezinswoning met cafe of restaurant | C145: 1946 tot 1978 | D145: 731 | E145: 0.117 | F145: 75.975193 | G145: 27.258733 | H145: 61.761835 | I145: 108.94999 | J145: 65.853344 | K145: 76.89205 | L145: 27.684013 | M145: 62.915094 | N145: 109.70911 | O145: 66.502655
A146: Elektriciteit | B146: Meergezinswoning met cafe of restaurant | C146: 1978 tot 1995 | D146: 259 | E146: 0.041 | F146: 77.316031 | G146: 29.079818 | H146: 64.715812 | I146: 109.42641 | J146: 66.535448 | K146: 78.207378 | L146: 29.842691 | M146: 64.945368 | N146: 110.53885 | O146: 67.521325
A147: Elektriciteit | B147: Meergezinswoning met cafe of restaurant | C147: 1995 tot 2009 | D147: 231 | E147: 0.037 | F147: 72.031925 | G147: 29.094837 | H147: 50.679577 | I147: 110.09896 | J147: 60.752986 | K147: 72.3611 | L147: 29.343812 | M147: 51.339394 | N147: 110.09896 | O147: 61.014763
A148: Elektriciteit | B148: Meergezinswoning met cafe of restaurant | C148: 2009 tot 2015 | D148: 47 | E148: 0.007 | F148: 63.907537 | G148: 25.020515 | H148: 44.690722 | I148: 88.75553 | J148: 61.682129 | K148: 64.211042 | L148: 25.020515 | M148: 44.690722 | N148: 88.75553 | O148: 61.878365
A149: Elektriciteit | B149: Meergezinswoning met cafe of restaurant | C149: vanaf 2015 | D149: 53 | E149: 0.008 | F149: 65.650343 | G149: 29.117073 | H149: 47.579832 | I149: 95.118289 | J149: 65.935352 | K149: 73.097798 | L149: 34.985663 | M149: 55.882353 | N149: 99.682478 | O149: 72.305383
... A160: Elektriciteit | B160: Meergezinswoning met winkels en horeca | C160: 2009 tot 2015 | D160: 85 | E160: 0.033 | F160: 52.574039 | G160: 29.130435 | H160: 48.562401 | I160: 70.033854 | J160: 49.409619 | K160: 53.661618 | L160: 30.611544 | M160: 49.051198 | N160: 72.359627 | O160: 50.32542
A161: Elektriciteit | B161: Meergezinswoning met winkels en horeca | C161: vanaf 2015 | D161: 38 | E161: 0.015 | F161: 61.501352 | H161: 55.92965 | J161: 64.615956 | K161: 65.160112 | M161: 60.488951 | O161: 67.836186
A162: Elektriciteit | B162: Meergezinswoning met woonzorgeenheden | C162: tot 1946 | D162: 68 | E162: 0.241 | F162: 32.253797 | G162: 15.18345 | H162: 23.506044 | I162: 42.117157 | J162: 36.440306 | K162: 34.525802 | L162: 16.47917 | M162: 25.093246 | N162: 45.462404 | O162: 37.660447
...

Sheet elek_kental_opp_2021
A1: Energiedrager | B1: Gebouwtype | C1: Oppervlakteklasse | D1: Aantal panden | E1: Aandeel panden per gebouwtype | F1: Gemiddelde kental (kWh/m2) | G1: Q1 kental (kWh/m2) | H1: Mediaan kental (kWh/m2) | I1: Q3 kental (kWh/m2) | J1: Gewogen gemiddelde kental (kWh/m2) | K1: Gemiddelde kental inclusief eigenverbruik zonnestroom (kWh/m2) | L1: Q1 kental inclusief eigenverbruik zonnestroom (kWh/m2) | M1: Mediaan kental inclusief eigenverbruik zonnestroom (kWh/m2) | N1: Q3 kental inclusief eigenverbruik zonnestroom (kWh/m2) | O1: Gewogen gemiddelde kental inclusief eigenverbruik zonnestroom (kWh/m2)
A2: Elektriciteit | B2: Basisschool | C2: tot 250 m2 | D2: 17 | E2: 0.004 | F2: 47.710455 | J2: 45.989703 | K2: 52.001511 | O2: 49.194521
A3: Elektriciteit | B3: Basisschool | C3: 250 tot 500 m2 | D3: 111 | E3: 0.023 | F3: 28.702784 | G3: 17.555644 | H3: 25.136456 | I3: 32.529919 | J3: 27.99576 | K3: 30.801568 | L3: 19.777645 | M3: 25.902041 | N3: 34.538684 | O3: 30.06161
A4: Elektriciteit | B4: Basisschool | C4: 500 tot 1000 m2 | D4: 901 | E4: 0.189 | F4: 22.956835 | G4: 15.431373 | H4: 19.621951 | I4: 26.087613 | J4: 22.890026 | K4: 25.698367 | L4: 17.001701 | M4: 21.666667 | N4: 28.583591 | O4: 25.643644
A5: Elektriciteit | B5: Basisschool | C5: 1000 tot 2500 m2 | D5: 2756 | E5: 0.577 | F5: 23.535709 | G5: 15.303084 | H5: 20.192644 | I5: 27.756232 | J5: 23.880493 | K5: 25.924625 | L5: 16.915423 | M5: 21.667219 | N5: 30.357323 | O5: 26.321373
A6: Elektriciteit | B6: Basisschool | C6: 2500 tot 5000 m2 | D6: 778 | E6: 0.163 | F6: 28.222872 | G6: 15.44566 | H6: 24.476642 | I6: 37.646733 | J6: 28.408434 | K6: 30.942282 | L6: 16.598944 | M6: 26.89923 | N6: 42.349077 | O6: 31.136137
A7: Elektriciteit | B7: Basisschool | C7: 5000 tot 10000 m2 | D7: 176 | E7: 0.037 | F7: 31.122503 | G7: 13.818556 | H7: 29.63084 | I7: 43.256742 | J7: 31.003724 | K7: 33.0198 | L7: 15.202448 | M7: 30.617381 | N7: 47.161427 | O7: 32.92835
A8: Elektriciteit | B8: Basisschool | C8: vanaf 10000 m2 | D8: 34 | E8: 0.007 | F8: 25.00694 | H8: 22.812626 | J8: 26.950946 | K8: 25.655036 | M8: 22.812626 | O8: 27.732995
A9: Elektriciteit | B9: Bedrijfshal algemeen (geen LISA-informatie) | C9: tot 50 m2 | D9: 578 | E9: 0.031 | F9: 66.172664 | G9: 12.6375 | H9: 41.380952 | I9: 99.390244 | J9: 63.449725 | K9: 67.355915 | L9: 12.791502 | M9: 42.593822 | N9: 99.390244 | O9: 64.468342
A10: Elektriciteit | B10: Bedrijfshal algemeen (geen LISA-informatie) | C10: 50 tot 100 m2 | D10: 1789 | E10: 0.097 | F10: 43.094258 | G10: 11.111111 | H10: 23.898876 | I10: 53.5 | J10: 42.568951 | K10: 44.657992 | L10: 11.26087 | M10: 24.45098 | N10: 54.540541 | O10: 44.068844
A11: Elektriciteit | B11: Bedrijfshal algemeen (geen LISA-informatie) | C11: 100 tot 250 m2 | D11: 4827 | E11: 0.262 | F11: 33.483441 | G11: 10.431774 | H11: 19.495413 | I11: 36.163895 | J11: 33.447633 | K11: 34.959762 | L11: 10.635282 | M11: 20.304545 | N11: 37.803738 | O11: 34.913541
A12: Elektriciteit | B12: Bedrijfshal algemeen (geen LISA-informatie) | C12: 250 tot 500 m2 | D12: 3489 | E12: 0.189 | F12: 32.827392 | G12: 10.446429 | H12: 18.731207 | I12: 36.010283 | J12: 32.826861 | K12: 34.380684 | L12: 10.881764 | M12: 19.528814 | N12: 37.598485 | O12: 34.366202
A13: Elektriciteit | B13: Bedrijfshal algemeen (geen LISA-informatie) | C13: 500 tot 1000 m2 | D13: 3279 | E13: 0.178 | F13: 32.289855 | G13: 10.726499 | H13: 19.023857 | I13: 35.030198 | J13: 32.893511 | K13: 33.69276 | L13: 11.15735 | M13: 20.118421 | N13: 36.531089 | O13: 34.282772
A14: Elektriciteit | B14: Bedrijfshal algemeen (geen LISA-informatie) | C14: 1000 tot 2500 m2 | D14: 2780 | E14: 0.151 | F14: 39.178037 | G14: 12.183016 | H14: 22.255091 | I14: 42.757693 | J14: 40.125542 | K14: 41.50388 | L14: 13.017728 | M14: 23.260981 | N14: 45.515548 | O14: 42.557086
A15: Elektriciteit | B15: Bedrijfshal algemeen (geen LISA-informatie) | C15: 2500 tot 5000 m2 | D15: 994 | E15: 0.054 | F15: 48.255538 | G15: 13.132467 | H15: 23.797366 | I15: 53.219786 | J15: 49.312944 | K15: 51.065309 | L15: 13.700663 | M15: 25.711206 | N15: 56.174102 | O15: 52.249178
A16: Elektriciteit | B16: Bedrijfshal algemeen (geen LISA-informatie) | C16: 5000 tot 10000 m2 | D16: 454 | E16: 0.025 | F16: 53.733687 | G16: 13.226553 | H16: 27.249478 | I16: 63.443436 | J16: 54.358643 | K16: 57.085833 | L16: 13.96947 | M16: 30.007158 | N16: 69.51816 | O16: 57.920962
A17: Elektriciteit | B17: Bedrijfshal algemeen (geen LISA-informatie) | C17: vanaf 10000 m2 | D17: 248 | E17: 0.013 | F17: 51.722583 | G17: 14.0167 | H17: 25.296541 | I17: 57.8 | J17: 50.757726 | K17: 55.391286 | L17: 15.907487 | M17: 27.624261 | N17: 58.932537 | O17: 54.190388
A18: Elektriciteit | B18: Bedrijfshal algemeen (met LISA-informatie) | C18: tot 50 m2 | D18: 79 | E18: 0.006 | F18: 126.26531 | G18: 41.354589 | H18: 90.066667 | I18: 143.46167 | J18: 114.01969 | K18: 127.68041 | L18: 42.402174 | M18: 90.066667 | N18: 145.43985 | O18: 115.4042
A19: Elektriciteit | B19: Bedrijfshal algemeen (met LISA-informatie) | C19: 50 tot 100 m2 | D19: 551 | E19: 0.045 | F19: 73.433777 | G19: 20.959468 | H19: 42.25 | I19: 84.051961 | J19: 70.419671 | K19: 77.287887 | L19: 21.190597 | M19: 44.370787 | N19: 87.961616 | O19: 74.205783
A20: Elektriciteit | B20: Bedrijfshal algemeen (met LISA-informatie) | C20: 100 tot 250 m2 | D20: 2284 | E20: 0.187 | F20: 49.512513 | G20: 15.332677 | H20: 28.1518 | I20: 52.147522 | J20: 48.721163 | K20: 52.498369 | L20: 15.896287 | M20: 29.396896 | N20: 54.484395 | O20: 51.592016
... A42: Elektriciteit | B42: Bedrijfshal met maakindustrie en andere economische activiteiten | C42: vanaf 10000 m2 | D42: 143 | E42: 0.029 | F42: 72.561586 | G42: 22.742032 | H42: 43.684533 | I42: 79.933349 | J42: 73.150289 | K42: 77.024939 | L42: 24.264125 | M42: 48.11767 | N42: 91.736208 | O42: 77.284482
A43: Elektriciteit | B43: Bedrijfshal met maakindustrie en logistieke activiteiten | C43: tot 50 m2 | D43: 27 | E43: 0.003 | F43: 141.71662 | H43: 90.875 | J43: 126.21279 | K43: 160.52047 | M43: 96.52381 | O43: 149.69479
A44: Elektriciteit | B44: Bedrijfshal met maakindustrie en logistieke activiteiten | C44: 50 tot 100 m2 | D44: 200 | E44: 0.019 | F44: 77.828326 | G44: 19.856211 | H44: 45.039914 | I44: 99.481742 | J44: 75.205391 | K44: 145.02325 | L44: 20.531585 | M44: 47.35929 | N44: 107.36418 | O44: 145.9697
A45: Elektriciteit | B45: Bedrijfshal met maakindustrie en logistieke activiteiten | C45: 100 tot 250 m2 | D45: 955 | E45: 0.091 | F45: 45.867637 | G45: 14.864541 | H45: 28.027778 | I45: 49.672704 | J45: 45.367768 | K45: 47.976152 | L45: 15.304456 | M45: 28.751634 | N45: 51.78869 | O45: 47.641816
A46: Elektriciteit | B46: Bedrijfshal met maakindustrie en logistieke activiteiten | C46: 250 tot 500 m2 | D46: 1347 | E46: 0.129 | F46: 40.659932 | G46: 15.607418 | H46: 25.583524 | I46: 41.689483 | J46: 40.555231 | K46: 42.733972 | L46: 16.436229 | M46: 26.944737 | N46: 44.6333 | O46: 42.640124
A47: Elektriciteit | B47: Bedrijfshal met maakindustrie en logistieke activiteiten | C47: 500 tot 1000 m2 | D47: 2173 | E47: 0.208 | F47: 40.434233 | G47: 14.276821 | H47: 23.835398 | I47: 40.700108 | J47: 40.324061 | K47: 42.296789 | L47: 15.240887 | M47: 25.086363 | N47: 42.855172 | O47: 42.146727
A48: Elektriciteit | B48: Bedrijfshal met maakindustrie en logistieke activiteiten | C48: 1000 tot 2500 m2 | D48: 3092 | E48: 0.296 | F48: 42.417259 | G48: 14.70128 | H48: 24.390701 | I48: 42.65727 | J48: 42.835182 | K48: 44.950132 | L48: 15.78955 | M48: 25.978368 | N48: 45.405575 | O48: 45.377042
A49: Elektriciteit | B49: Bedrijfshal met maakindustrie en logistieke activiteiten | C49: 2500 tot 5000 m2 | D49: 1514 | E49: 0.145 | F49: 50.597589 | G49: 14.644701 | H49: 26.51676 | I49: 52.556983 | J49: 50.953847 | K49: 54.506037 | L49: 16.497122 | M49: 29.603516 | N49: 56.884896 | O49: 54.958946
A50: Elektriciteit | B50: Bedrijfshal met maakindustrie en logistieke activiteiten | C50: 5000 tot 10000 m2 | D50: 763 | E50: 0.073 | F50: 57.536674 | G50: 14.700259 | H50: 28.268064 | I50: 65.043429 | J50: 58.439351 | K50: 62.328326 | L50: 16.501371 | M50: 30.690937 | N50: 70.885288 | O50: 63.297792
A51: Elektriciteit | B51: Bedrijfshal met maakindustrie en logistieke activiteiten | C51: vanaf 10000 m2 | D51: 392 | E51: 0.037 | F51: 71.178148 | G51: 18.148213 | H51: 35.266869 | I51: 75.944467 | J51: 65.020013 | K51: 75.547425 | L51: 21.035494 | M51: 40.447073 | N51: 83.99632 | O51: 69.182005
A52: Elektriciteit | B52: Bedrijfshal uitsluitend maakindustrie | C52: tot 50 m2 | D52: 75 | E52: 0.004 | F52: 137.14745 | G52: 27.525451 | H52: 100.19512 | I52: 193.4528 | J52: 129.27097 | K52: 141.32172 | L52: 27.525451 | M52: 100.21951 | N52: 197.81311 | O52: 133.40576
A53: Elektriciteit | B53: Bedrijfshal uitsluitend maakindustrie | C53: 50 tot 100 m2 | D53: 505 | E53: 0.027 | F53: 69.139437 | G53: 15.890244 | H53: 33.517241 | I53: 65.173469 | J53: 66.134239 | K53: 72.852085 | L53: 17.426829 | M53: 34.769231 | N53: 66.28 | O53: 70.037397
A54: Elektriciteit | B54: Bedrijfshal uitsluitend maakindustrie | C54: 100 tot 250 m2 | D54: 2316 | E54: 0.122 | F54: 44.780586 | G54: 14.836896 | H54: 25.606144 | I54: 45.754071 | J54: 44.081938 | K54: 47.045112 | L54: 15.303758 | M54: 26.476567 | N54: 48.011962 | O54: 46.3237
A55: Elektriciteit | B55: Bedrijfshal uitsluitend maakindustrie | C55: 250 tot 500 m2 | D55: 3325 | E55: 0.175 | F55: 43.205957 | G55: 14.868132 | H55: 24.738938 | I55: 43.438406 | J55: 43.481027 | K55: 45.360316 | L55: 15.886214 | M55: 26.465385 | N55: 46.351145 | O55: 45.619451
... A68: Elektriciteit | B68: Bedrijfswoning | C68: 5000 tot 10000 m2 | D68: 40 | E68: 0.001 | F68: 42.765218 | G68: 10.803782 | H68: 20.074519 | I68: 67.31638 | J68: 44.986592 | K68: 45.661923 | L68: 10.803782 | M68: 23.924593 | N68: 68.717709 | O68: 47.761219
A69: Elektriciteit | B69: Bedrijfswoning | C69: vanaf 10000 m2 | D69: 25 | E69: 0 | F69: 62.128028 | H69: 46.497665 | J69: 73.339398 | K69: 67.794458 | M69: 46.497665 | O69: 77.801822
A70: Elektriciteit | B70: Bijeenkomstgebouw (niet nader ingedeeld) | C70: tot 50 m2 | D70: 192 | E70: 0.021 | F70: 69.707186 | G70: 15.439946 | H70: 45.806061 | I70: 117.93831 | J70: 66.263136 | K70: 72.352929 | L70: 15.713964 | M70: 46.41875 | N70: 118.19318 | O70: 68.948432
A71: Elektriciteit | B71: Bijeenkomstgebouw (niet nader ingedeeld) | C71: 50 tot 100 m2 | D71: 826 | E71: 0.092 | F71: 54.336739 | G71: 14.061392 | H71: 31.254706 | I71: 70.005395 | J71: 54.06631 | K71: 55.87976 | L71: 14.392598 | M71: 32.183653 | N71: 72.378676 | O71: 55.53587
A72: Elektriciteit | B72: Bijeenkomstgebouw (niet nader ingedeeld) | C72: 100 tot 250 m2 | D72: 2738 | E72: 0.306 | F72: 42.331886 | G72: 11.624524 | H72: 21.900094 | I72: 47.558322 | J72: 41.743256 | K72: 44.258755 | L72: 12.110949 | M72: 23.125724 | N72: 51.417083 | O72: 43.631649
A73: Elektriciteit | B73: Bijeenkomstgebouw (niet nader ingedeeld) | C73: 250 tot 500 m2 | D73: 2506 | E73: 0.28 | F73: 37.306782 | G73: 11.150456 | H73: 19.23611 | I73: 40.473366 | J73: 37.275808 | K73: 39.39873 | L73: 12.127887 | M73: 20.837684 | N73: 42.990588 | O73: 39.470844
A74: Elektriciteit | B74: Bijeenkomstgebouw (niet nader ingedeeld) | C74: 500 tot 1000 m2 | D74: 1572 | E74: 0.176 | F74: 37.307867 | G74: 12.094302 | H74: 22.140606 | I74: 42.061647 | J74: 37.490393 | K74: 38.944891 | L74: 13.274818 | M74: 24.515437 | N74: 44.623037 | O74: 39.068612
A75: Elektriciteit | B75: Bijeenkomstgebouw (niet nader ingedeeld) | C75: 1000 tot 2500 m2 | D75: 835 | E75: 0.093 | F75: 42.741624 | G75: 15.096107 | H75: 27.578486 | I75: 51.267852 | J75: 43.339757 | K75: 44.215477 | L75: 16.16894 | M75: 29.756173 | N75: 53.222515 | O75: 44.916592
A76: Elektriciteit | B76: Bijeenkomstgebouw (niet nader ingedeeld) | C76: 2500 tot 5000 m2 | D76: 189 | E76: 0.021 | F76: 51.013192 | G76: 15.429441 | H76: 31.31246 | I76: 78.563614 | J76: 50.383284 | K76: 52.557744 | L76: 15.870956 | M76: 34.987687 | N76: 79.852297 | O76: 52.011825
A77: Elektriciteit | B77: Bijeenkomstgebouw (niet nader ingedeeld) | C77: 5000 tot 10000 m2 | D77: 63 | E77: 0.007 | F77: 46.045595 | G77: 13.012286 | H77: 28.297116 | I77: 66.403503 | J77: 48.385911 | K77: 47.599469 | L77: 13.546139 | M77: 28.297116 | N77: 79.932355 | O77: 49.965648
A78: Elektriciteit | B78: Bijeenkomstgebouw (niet nader ingedeeld) | C78: vanaf 10000 m2 | D78: 25 | E78: 0.003 | F78: 58.762201 | H78: 40.158473 | J78: 57.733405 | K78: 59.312772 | M78: 42.731341 | O78: 58.296222
A79: Elektriciteit | B79: Campusgebouw | C79: tot 1000 m2 | D79: 18 | E79: 0.171 | F79: 102.96151 | J79: 103.48041 | K79: 107.31662 | O79: 108.83862
A80: Elektriciteit | B80: Campusgebouw | C80: 1000 tot 2500 m2 | D80: 10 | E80: 0.095 | F80: 74.992435 | J80: 79.148518 | K80: 75.319971 | O80: 79.528533
A81: Elektriciteit | B81: Campusgebouw | C81: 2500 tot 5000 m2 | D81: 17 | E81: 0.162 | F81: 90.84092 | J81: 85.084469 | K81: 96.202468 | O81: 90.299756
A82: Elektriciteit | B82: Campusgebouw | C82: 5000 tot 10000 m2 | D82: 24 | E82: 0.229 | F82: 75.479928 | H82: 52.698905 | J82: 76.391849 | K82: 76.88883 | M82: 53.913407 | O82: 78.052489
A83: Elektriciteit | B83: Campusgebouw | C83: vanaf 10000 m2 | D83: 36 | E83: 0.343 | F83: 92.494483 | H83: 55.137769 | J83: 62.722157 | K83: 95.763594 | M83: 57.329049 | O83: 64.988224
A84: Elektriciteit | B84: Cultuurhuis | C84: tot 250 m2 | D84: 30 | E84: 0.053 | F84: 55.866049 | H84: 28.643696 | J84: 52.233543 | K84: 56.068973 | M84: 28.643696 | O84: 52.514685
A85: Elektriciteit | B85: Cultuurhuis | C85: 250 tot 500 m2 | D85: 64 | E85: 0.113 | F85: 36.281204 | G85: 17.633943 | H85: 25.597231 | I85: 44.012601 | J85: 35.800343 | K85: 37.074881 | L85: 17.730494 | M85: 25.916543 | N85: 46.147149 | O85: 36.556668
A86: Elektriciteit | B86: Cultuurhuis | C86: 500 tot 1000 m2 | D86: 120 | E86: 0.211 | F86: 38.585959 | G86: 16.724423 | H86: 28.282131 | I86: 45.059426 | J86: 38.318126 | K86: 41.413712 | L86: 19.186823 | M86: 28.282131 | N86: 46.081726 | O86: 41.559561
A87: Elektriciteit | B87: Cultuurhuis | C87: 1000 tot 2500 m2 | D87: 156 | E87: 0.275 | F87: 54.706489 | G87: 23.720535 | H87: 39.95763 | I87: 70.869319 | J87: 55.176517 | K87: 56.992425 | L87: 26.043271 | M87: 43.485296 | N87: 73.390676 | O87: 57.377507
A88: Elektriciteit | B88: Cultuurhuis | C88: 2500 tot 5000 m2 | D88: 89 | E88: 0.157 | F88: 53.013687 | G88: 23.920021 | H88: 39.284343 | I88: 69.850643 | J88: 52.847877 | K88: 54.93321 | L88: 25.967961 | M88: 42.083665 | N88: 74.938293 | O88: 54.901588
A89: Elektriciteit | B89: Cultuurhuis | C89: 5000 tot 10000 m2 | D89: 59 | E89: 0.104 | F89: 65.032002 | G89: 35.368264 | H89: 61.149325 | I89: 90.088882 | J89: 64.588254 | K89: 67.083007 | L89: 37.700746 | M89: 62.920637 | N89: 91.288229 | O89: 66.428344
A90: Elektriciteit | B90: Cultuurhuis | C90: vanaf 10000 m2 | D90: 50 | E90: 0.088 | F90: 47.149874 | G90: 22.862731 | H90: 35.946337 | I90: 61.577788 | J90: 39.444148 | K90: 48.345514 | L90: 23.02839 | M90: 37.236255 | N90: 62.527736 | O90: 40.407008
A91: Elektriciteit | B91: Gebedshuis | C91: tot 100 m2 | D91: 39 | E91: 0.011 | F91: 23.35116 | H91: 20.402439 | J91: 22.742198 | K91: 24.318116 | M91: 20.402439 | O91: 23.773745
A92: Elektriciteit | B92: Gebedshuis | C92: 100 tot 250 m2 | D92: 386 | E92: 0.109 | F92: 15.365365 | G92: 7.7970833 | H92: 11.460986 | I92: 20.086332 | J92: 15.234859 | K92: 15.787666 | L92: 7.9501466 | M92: 11.615523 | N92: 20.455072 | O92: 15.674084
A93: Elektriciteit | B93: Gebedshuis | C93: 250 tot 500 m2 | D93: 924 | E93: 0.262 | F93: 13.937964 | G93: 7.7238087 | H93: 11.362056 | I93: 17.210463 | J93: 13.841957 | K93: 14.487501 | L93: 7.8026063 | M93: 11.597462 | N93: 17.685633 | O93: 14.368501
A94: Elektriciteit | B94: Gebedshuis | C94: 500 tot 1000 m2 | D94: 1168 | E94: 0.331 | F94: 13.457932 | G94: 7.92725 | H94: 11.213089 | I94: 16.216246 | J94: 13.434634 | K94: 14.389066 | L94: 8.2294372 | M94: 11.770103 | N94: 17.130877 | O94: 14.357914
A95: Elektriciteit | B95: Gebedshuis | C95: 1000 tot 2500 m2 | D95: 858 | E95: 0.243 | F95: 13.842955 | G95: 7.5443096 | H95: 11.247497 | I95: 17.416429 | J95: 14.014049 | K95: 14.688275 | L95: 8.0339445 | M95: 11.863467 | N95: 18.139502 | O95: 14.852684
A96: Elektriciteit | B96: Gebedshuis | C96: 2500 tot 5000 m2 | D96: 103 | E96: 0.029 | F96: 18.738834 | G96: 8.6262648 | H96: 16.060455 | I96: 28.256236 | J96: 19.132263 | K96: 20.201892 | L96: 9.6705437 | M96: 17.106872 | N96: 28.974035 | O96: 20.562153
A97: Elektriciteit | B97: Gebedshuis | C97: 5000 tot 10000 m2 | D97: 35 | E97: 0.01 | F97: 19.386147 | H97: 18.28168 | J97: 19.652188 | K97: 20.591034 | M97: 18.381102 | O97: 20.830988
A98: Elektriciteit | B98: Gebedshuis | C98: vanaf 10000 m2 | D98: 14 | E98: 0.004 | F98: 28.400249 | J98: 27.833745 | K98: 29.404069 | O98: 28.904327
A99: Elektriciteit | B99: Gebouw bij spooremplacement | C99: tot 500 m2 | D99: 19 | E99: 0.284 | F99: 92.660191 | J99: 61.283479 | K99: 92.660191 | O99: 61.283479
A100: Elektriciteit | B100: Gebouw bij spooremplacement | C100: 500 tot 1000 m2 | D100: 12 | E100: 0.179 | F100: 53.028822 | J100: 50.262897 | K100: 53.453689 | O100: 50.764812
A101: Elektriciteit | B101: Gebouw bij spooremplacement | C101: 1000 tot 2500 m2 | D101: 10 | E101: 0.149 | F101: 62.264721 | J101: 62.695974 | K101: 63.328384 | O101: 63.703113
A102: Elektriciteit | B102: Gebouw bij spooremplacement | C102: 2500 tot 10000 m2 | D102: 14 | E102: 0.209 | F102: 58.564079 | J102: 57.354314 | K102: 59.415444 | O102: 58.609729
A103: Elektriciteit | B103: Gebouw bij spooremplacement | C103: vanaf 10000 m2 | D103: 12 | E103: 0.179 | F103: 42.973703 | J103: 53.431547 | K103: 43.313675 | O103: 53.744033
A104: Elektriciteit | B104: Gebouw bij vliegveld of luchthaven | C104: tot 250 m2 | D104: 17 | E104: 0.119 | F104: 86.030245 | J104: 78.29484 | K104: 94.073402 | O104: 82.952334
A105: Elektriciteit | B105: Gebouw bij vliegveld of luchthaven | C105: 250 tot 500 m2 | D105: 16 | E105: 0.112 | F105: 40.761633 | J105: 39.871435 | K105: 50.66041 | O105: 51.629485
A106: Elektriciteit | B106: Gebouw bij vliegveld of luchthaven | C106: 500 tot 1000 m2 | D106: 37 | E106: 0.259 | F106: 30.674873 | H106: 16.2007 | J106: 29.756666 | K106: 32.238641 | M106: 17.231183 | O106: 31.032271
A107: Elektriciteit | B107: Gebouw bij vliegveld of luchthaven | C107: 1000 tot 2500 m2 | D107: 35 | E107: 0.245 | F107: 48.455662 | H107: 28.781495 | J107: 53.596397 | K107: 49.559995 | M107: 31.036818 | O107: 54.672028
A108: Elektriciteit | B108: Gebouw bij vliegveld of luchthaven | C108: 2500 tot 5000 m2 | D108: 19 | E108: 0.133 | F108: 67.653509 | J108: 65.072597 | K108: 72.438405 | O108: 70.016818
A109: Elektriciteit | B109: Gebouw bij vliegveld of luchthaven | C109: vanaf 5000 m2 | D109: 19 | E109: 0.133 | F109: 76.361389 | J109: 68.591456 | K109: 81.846016 | O109: 74.649836
A110: Elektriciteit | B110: Gebouw in landelijk gebied voor industrie (geen landbouwactiviteiten geregistreerd) | C110: tot 50 m2 | D110: 102 | E110: 0.021 | F110: 87.647448 | G110: 18.755714 | H110: 59.039474 | I110: 152.06376 | J110: 87.480622 | K110: 93.503285 | L110: 19.741395 | M110: 59.039474 | N110: 153.02547 | O110: 92.86082
A111: Elektriciteit | B111: Gebouw in landelijk gebied voor industrie (geen landbouwactiviteiten geregistreerd) | C111: 50 tot 100 m2 | D111: 253 | E111: 0.053 | F111: 66.203868 | G111: 17.533333 | H111: 38.428571 | I111: 82.895349 | J111: 66.069844 | K111: 68.89688 | L111: 17.533333 | M111: 40.447059 | N111: 92 | O111: 69.008444
A112: Elektriciteit | B112: Gebouw in landelijk gebied voor industrie (geen landbouwactiviteiten geregistreerd) | C112: 100 tot 250 m2 | D112: 889 | E112: 0.185 | F112: 51.253658 | G112: 14.265403 | H112: 26.87156 | I112: 58.259259 | J112: 50.559553 | K112: 57.996429 | L112: 14.959184 | M112: 28.571429 | N112: 66.508021 | O112: 57.829695
A113: Elektriciteit | B113: Gebouw in landelijk gebied voor industrie (geen landbouwactiviteiten geregistreerd) | C113: 250 tot 500 m2 | D113: 982 | E113: 0.204 | F113: 48.261417 | G113: 12.355683 | H113: 26.442182 | I113: 51.580966 | J113: 48.516883 | K113: 53.675947 | L113: 13.135751 | M113: 29.09758 | N113: 57.451842 | O113: 54.145501
A114: Elektriciteit | B114: Gebouw in landelijk gebied voor industrie (geen landbouwactiviteiten geregistreerd) | C114: 500 tot 1000 m2 | D114: 1024 | E114: 0.213 | F114: 39.476285 | G114: 11.702997 | H114: 23.532402 | I114: 44.082634 | J114: 39.648243 | K114: 49.029876 | L114: 12.944431 | M114: 26.115693 | N114: 49.586797 | O114: 51.180616
A115: Elektriciteit | B115: Gebouw in landelijk gebied voor industrie (geen landbouwactiviteiten geregistreerd) | C115: 1000 tot 2500 m2 | D115: 1013 | E115: 0.211 | F115: 39.901722 | G115: 12.164751 | H115: 21.734053 | I115: 43.717476 | J115: 39.908488 | K115: 47.045153 | L115: 13.179625 | M115: 24.992233 | N115: 49.99212 | O115: 46.945824
A116: Elektriciteit | B116: Gebouw in landelijk gebied voor industrie (geen landbouwactiviteiten geregistreerd) | C116: 2500 tot 5000 m2 | D116: 337 | E116: 0.07 | F116: 40.552507 | G116: 12.559426 | H116: 24.168942 | I116: 48.495666 | J116: 41.076744 | K116: 48.180573 | L116: 14.9488 | M116: 27.36371 | N116: 61.068484 | O116: 49.129019
A117: Elektriciteit | B117: Gebouw in landelijk gebied voor industrie (geen landbouwactiviteiten geregistreerd) | C117: 5000 tot 10000 m2 | D117: 157 | E117: 0.033 | F117: 61.053795 | G117: 15.393879 | H117: 31.446881 | I117: 79.185628 | J117: 63.26031 | K117: 69.460819 | L117: 16.707046 | M117: 39.522577 | N117: 87.448947 | O117: 71.971387
A118: Elektriciteit | B118: Gebouw in landelijk gebied voor industrie (geen landbouwactiviteiten geregistreerd) | C118: vanaf 10000 m2 | D118: 51 | E118: 0.011 | F118: 75.431397 | G118: 17.086361 | H118: 36.913992 | I118: 124.86697 | J118: 76.778203 | K118: 85.791447 | L118: 19.886151 | M118: 37.251868 | N118: 136.48893 | O118: 86.031725
A119: Elektriciteit | B119: Gebouw in stedelijk gebied met industriefunctie | C119: tot 50 m2 | D119: 521 | E119: 0.039 | F119: 95.732879 | G119: 15.8 | H119: 43.913043 | I119: 124.42857 | J119: 91.842456 | K119: 99.652199 | L119: 16 | M119: 43.913043 | N119: 124.42857 | O119: 95.650122
A120: Elektriciteit | B120: Gebouw in stedelijk gebied met industriefunctie | C120: 50 tot 100 m2 | D120: 1347 | E120: 0.101 | F120: 69.384967 | G120: 14.630556 | H120: 33.836957 | I120: 75.420124 | J120: 68.86006 | K120: 71.635731 | L120: 14.833213 | M120: 34.735294 | N120: 77.361857 | O120: 71.172951
A121: Elektriciteit | B121: Gebouw in stedelijk gebied met industriefunctie | C121: 100 tot 250 m2 | D121: 3341 | E121: 0.25 | F121: 59.080753 | G121: 13.839286 | H121: 26.695652 | I121: 55.873626 | J121: 58.3593 | K121: 61.674356 | L121: 14.351724 | M121: 27.816794 | N121: 59.623762 | O121: 60.95711
... A133: Elektriciteit | B133: Gebouw op vakantiepark | C133: 1000 tot 2500 m2 | D133: 161 | E133: 0.005 | F133: 57.268303 | G133: 16.98805 | H133: 38.92536 | I133: 72.598636 | J133: 58.107582 | K133: 65.121942 | L133: 20.146317 | M133: 43.97109 | N133: 80.125911 | O133: 65.679628
A134: Elektriciteit | B134: Gebouw op vakantiepark | C134: 2500 tot 5000 m2 | D134: 20 | E134: 0.001 | F134: 68.905537 | H134: 48.44336 | J134: 67.234448 | K134: 74.114217 | M134: 48.44336 | O134: 73.338595
A135: Elektriciteit | B135: Gebouw op vakantiepark | C135: vanaf 5000 m2 | D135: 10 | E135: 0 | F135: 72.256246 | J135: 70.488679 | K135: 72.273561 | O135: 70.517297
A136: Elektriciteit | B136: Gebouw voor landbouwactiviteiten | C136: tot 50 m2 | D136: 23 | E136: 0.01 | F136: 238.23722 | H136: 221.5 | J136: 235.08651 | K136: 274.3089 | M136: 221.5 | O136: 266.60323
A137: Elektriciteit | B137: Gebouw voor landbouwactiviteiten | C137: 50 tot 100 m2 | D137: 86 | E137: 0.036 | F137: 164.80978 | G137: 32.031347 | H137: 112.14761 | I137: 229.12027 | J137: 156.89025 | K137: 190.05857 | L137: 34.117527 | M137: 115.14857 | N137: 246.45202 | O137: 182.73072
A138: Elektriciteit | B138: Gebouw voor landbouwactiviteiten | C138: 100 tot 250 m2 | D138: 885 | E138: 0.368 | F138: 130.41778 | G138: 27.787402 | H138: 53.908654 | I138: 151.21538 | J138: 132.35883 | K138: 143.44744 | L138: 31.570588 | M138: 60.29 | N138: 172.44628 | O138: 145.0039
A139: Elektriciteit | B139: Gebouw voor landbouwactiviteiten | C139: 250 tot 500 m2 | D139: 351 | E139: 0.146 | F139: 107.215 | G139: 19.787487 | H139: 40.888889 | I139: 120.53943 | J139: 106.40238 | K139: 119.06743 | L139: 23.146402 | M139: 45.476562 | N139: 130.58664 | O139: 118.06413
A140: Elektriciteit | B140: Gebouw voor landbouwactiviteiten | C140: 500 tot 1000 m2 | D140: 322 | E140: 0.134 | F140: 113.93972 | G140: 17.985027 | H140: 45.891284 | I140: 160.543 | J140: 116.21558 | K140: 123.15406 | L140: 18.636744 | M140: 50.139455 | N140: 168.96178 | O140: 125.70644
A141: Elektriciteit | B141: Gebouw voor landbouwactiviteiten | C141: 1000 tot 2500 m2 | D141: 401 | E141: 0.167 | F141: 110.48253 | G141: 19.366443 | H141: 55.935498 | I141: 151.14054 | J141: 108.00695 | K141: 121.33772 | L141: 23.293541 | M141: 61.226681 | N141: 163.004 | O141: 119.35949
A142: Elektriciteit | B142: Gebouw voor landbouwactiviteiten | C142: 2500 tot 5000 m2 | D142: 164 | E142: 0.068 | F142: 101.42206 | G142: 18.903874 | H142: 38.617707 | I142: 100.10037 | J142: 97.341462 | K142: 113.12736 | L142: 21.013259 | M142: 47.488167 | N142: 124.32442 | O142: 109.01603
A143: Elektriciteit | B143: Gebouw voor landbouwactiviteiten | C143: 5000 tot 10000 m2 | D143: 91 | E143: 0.038 | F143: 73.089452 | G143: 12.50198 | H143: 33.085442 | I143: 84.620435 | J143: 70.459528 | K143: 81.172896 | L143: 18.144181 | M143: 37.689689 | N143: 91.642824 | O143: 78.051202
A144: Elektriciteit | B144: Gebouw voor landbouwactiviteiten | C144: vanaf 10000 m2 | D144: 80 | E144: 0.033 | F144: 57.204886 | G144: 11.214691 | H144: 20.445817 | I144: 59.476873 | J144: 51.273601 | K144: 59.382951 | L144: 12.910644 | M144: 26.256523 | N144: 59.476873 | O144: 53.457148
...

Sheet elek_kental_diensten_2021
A1: Energiedrager | B1: Gebouwtype | C1: Aantal panden | D1: Gemiddelde kental (kWh/m2) | E1: Q1 kental (kWh/m2) | F1: Mediaan kental (kWh/m2) | G1: Q3 kental (kWh/m2) | H1: Gewogen gemiddelde kental (kWh/m2) | I1: Gemiddelde kental inclusief eigenverbruik zonnestroom (kWh/m2) | J1: Q1 kental inclusief eigenverbruik zonnestroom (kWh/m2) | K1: Mediaan kental inclusief eigenverbruik zonnestroom (kWh/m2) | L1: Q3 kental inclusief eigenverbruik zonnestroom (kWh/m2) | M1: Gewogen gemiddelde kental inclusief eigenverbruik zonnestroom (kWh/m2)
A2: Elektriciteit | B2: Asielzoekerscentrum | C2: 51 | D2: 84.056678 | E2: 26.209085 | F2: 50.748054 | G2: 96.141843 | H2: 59.733194 | I2: 84.058907 | J2: 26.265945 | K2: 50.748054 | L2: 96.141843 | M2: 59.733937
A3: Elektriciteit | B3: Basisschool | C3: 4312 | D3: 24.007323 | E3: 15.207243 | F3: 20.353199 | G3: 28.504299 | H3: 24.670589 | I3: 26.524295 | J3: 16.73301 | K3: 22.045075 | L3: 31.431479 | M3: 27.2388
A4: Elektriciteit | B4: Bedrijfshal algemeen (geen LISA-informatie) | C4: 10521 | D4: 35.008736 | E4: 10.704762 | F4: 19.873077 | G4: 38.209626 | H4: 36.584891 | I4: 36.601709 | J4: 11.100592 | K4: 20.711083 | L4: 40.272025 | M4: 39.074477
A5: Elektriciteit | B5: Bedrijfshal algemeen (met LISA-informatie) | C5: 8598 | D5: 43.943961 | E5: 14.723341 | F5: 26.017121 | G5: 47.345934 | H5: 42.77162 | I5: 46.690141 | J5: 15.879696 | K5: 27.509946 | L5: 50.862791 | M5: 45.51211
A6: Elektriciteit | B6: Bedrijfshal met logistieke activiteiten | C6: 2243 | D6: 40.14833 | E6: 15.232903 | F6: 25.85367 | G6: 43.679586 | H6: 41.125722 | I6: 43.360305 | J6: 16.391154 | K6: 27.526455 | L6: 47.161474 | M6: 44.357991
A7: Elektriciteit | B7: Bedrijfshal met maakindustrie en andere economische activiteiten | C7: 1665 | D7: 39.132403 | E7: 16.519672 | F7: 27.471826 | G7: 44.826495 | H7: 45.10597 | I7: 41.987665 | J7: 17.626577 | K7: 29.36 | L7: 47.934241 | M7: 48.179607
A8: Elektriciteit | B8: Bedrijfshal met maakindustrie en logistieke activiteiten | C8: 6664 | D8: 43.861839 | E8: 14.371895 | F8: 24.857795 | G8: 44.360064 | H8: 49.002961 | I8: 47.086156 | J8: 15.453976 | K8: 26.421753 | L8: 47.295996 | M8: 52.231732
A9: Elektriciteit | B9: Bedrijfshal uitsluitend maakindustrie | C9: 7235 | D9: 42.611865 | E9: 16.507099 | F9: 27.540946 | G9: 47.62291 | H9: 48.42147 | I9: 45.504963 | J9: 17.344431 | K9: 29.16221 | L9: 50.284504 | M9: 51.421692
A10: Elektriciteit | B10: Bedrijfswoning | C10: 9054 | D10: 50.208505 | E10: 17.11449 | F10: 29.859664 | G10: 54.426494 | H10: 39.687869 | I10: 55.180261 | J10: 18.763656 | K10: 32.364135 | L10: 59.307285 | M10: 43.267791
A11: Elektriciteit | B11: Bijeenkomstgebouw (niet nader ingedeeld) | C11: 8129 | D11: 42.105375 | E11: 12.138528 | F11: 22.705882 | G11: 47.931204 | H11: 43.944885 | I11: 43.773595 | J11: 12.844828 | K11: 24.38143 | L11: 50.828406 | M11: 45.463641
A12: Elektriciteit | B12: Campusgebouw | C12: 75 | D12: 88.388695 | E12: 33.605683 | F12: 52.369469 | G12: 109.72762 | H12: 85.442165 | I12: 91.270773 | J12: 33.994815 | K12: 53.220026 | L12: 109.72762 | M12: 88.296171
A13: Elektriciteit | B13: Cultuurhuis | C13: 474 | D13: 48.456279 | E13: 20.399746 | F13: 34.704611 | G13: 67.292973 | H13: 49.211585 | I13: 50.359158 | J13: 22.553886 | K13: 36.829223 | L13: 67.600897 | M13: 50.86132
... A15: Elektriciteit | B15: Gebedshuis | C15: 3008 | D15: 13.810871 | E15: 7.6640789 | F15: 11.109428 | G15: 16.90424 | H15: 14.405169 | I15: 14.577061 | J15: 7.9734076 | K15: 11.580482 | L15: 17.728797 | M15: 15.392271
A16: Elektriciteit | B16: Gebouw bij militaire inrichting
A17: Elektriciteit | B17: Gebouw bij spooremplacement | C17: 33 | D17: 89.058353 | F17: 76.644864 | H17: 62.135474 | I17: 89.058353 | K17: 76.644864 | M17: 62.135474
A18: Elektriciteit | B18: Gebouw bij vliegveld of luchthaven | C18: 102 | D18: 54.80442 | E18: 11.375529 | F18: 31.185881 | G18: 68.059956 | H18: 48.813715 | I18: 57.393032 | J18: 12.896051 | K18: 34.519531 | L18: 69.812994 | M18: 50.421224
A19: Elektriciteit | B19: Gebouw in landelijk gebied voor industrie (geen landbouwactiviteiten geregistreerd) | C19: 2155 | D19: 43.904649 | E19: 12.445788 | F19: 23.66551 | G19: 48.144197 | H19: 40.095455 | I19: 48.426521 | J19: 13.627008 | K19: 25.576923 | L19: 52.730831 | M19: 45.801208
A20: Elektriciteit | B20: Gebouw in stedelijk gebied met industriefunctie | C20: 8612 | D20: 54.690693 | E20: 13.75486 | F20: 26.893126 | G20: 54.757203 | H20: 47.222984 | I20: 56.759303 | J20: 14.375627 | K20: 28.098429 | L20: 57.454173 | M20: 49.083459
A21: Elektriciteit | B21: Gebouw op snelwegverzorgingsplaats | C21: 112 | D21: 565.7451 | E21: 247.52559 | F21: 610.81048 | G21: 822.45785 | H21: 324.54772 | I21: 593.6226 | J21: 247.52559 | K21: 610.81048 | L21: 829.61099 | M21: 342.87638
A22: Elektriciteit | B22: Gebouw op vakantiepark | C22: 31236 | D22: 26.276322 | E22: 11.897828 | F22: 18.06137 | G22: 28.772358 | H22: 32.057702 | I22: 27.599717 | J22: 12.188051 | K22: 18.635375 | L22: 30.242105 | M22: 34.030519
A23: Elektriciteit | B23: Gebouw voor landbouwactiviteiten | C23: 247 | D23: 78.845461 | E23: 17.002236 | F23: 31.651945 | G23: 80.274263 | H23: 46.433358 | I23: 89.174325 | J23: 17.873185 | K23: 37.598515 | L23: 91.682886 | M23: 51.925619
A24: Elektriciteit | B24: Groothandel op bedrijventerrein | C24: 177 | D24: 31.147498 | E24: 14.605192 | F24: 26.519243 | G24: 42.167222 | H24: 26.846621 | I24: 33.300358 | J24: 15.630307 | K24: 27.432273 | L24: 43.30084 | M24: 28.977047
A25: Elektriciteit | B25: Hotel (of ander groot logiesgebouw) | C25: 2049 | D25: 63.107168 | E25: 25.512195 | F25: 48.999042 | G25: 90.498695 | H25: 68.481735 | I25: 64.383442 | J25: 26.509269 | K25: 50.501326 | L25: 92.704276 | M25: 69.321127
A26: Elektriciteit | B26: IJsbaan | C26: 96 | D26: 24.526671 | E26: 9.7825649 | F26: 14.894091 | G26: 29.693452 | H26: 71.845915 | I26: 26.113443 | J26: 10.0592 | K26: 15.715774 | L26: 32.490632 | M26: 72.262104
A27: Elektriciteit | B27: Kantoorpand algemeen | C27: 16948 | D27: 45.901574 | E27: 20.819168 | F27: 35.741667 | G27: 59.131797 | H27: 51.453648 | I27: 48.016423 | J27: 22.050054 | K27: 37.737108 | L27: 61.704769 | M27: 52.936932
A28: Elektriciteit | B28: Kinderopvang (gebouw) | C28: 1424 | D28: 31.19731 | E28: 19.102266 | F28: 27.455176 | G28: 38.407245 | H28: 29.581343 | I28: 32.478257 | J28: 19.935578 | K28: 28.268498 | L28: 39.620155 | M28: 30.844757
A29: Elektriciteit | B29: Koelhuis | C29: 75 | D29: 301.75358 | E29: 127.43569 | F29: 209.20079 | G29: 387.31033 | H29: 269.68723 | I29: 314.86001 | J29: 134.65686 | K29: 215.66449 | L29: 388.11158 | M29: 282.64375
A30: Elektriciteit | B30: MBO-gebouw
A31: Elektriciteit | B31: Meergezinswoning met andere functie of combinatie van functies | C31: 1874 | D31: 40.800589 | E31: 18.126474 | F31: 29.839184 | G31: 50.116207 | H31: 38.150074 | I31: 42.032525 | J31: 18.804975 | K31: 31.023011 | L31: 51.56417 | M31: 39.169652
A32: Elektriciteit | B32: Meergezinswoning met cafe of restaurant | C32: 1147 | D32: 88.347272 | E32: 37.057135 | F32: 74.913208 | G32: 125.91625 | H32: 74.987671 | I32: 89.284471 | J32: 38.569682 | K32: 76.571429 | L32: 126.52668 | M32: 76.087298
A33: Elektriciteit | B33: Meergezinswoning met winkel | C33: 3051 | D33: 49.42969 | E33: 22.088639 | F33: 36.753425 | G33: 62.086827 | H33: 44.524638 | I33: 50.265265 | J33: 22.572767 | K33: 37.52356 | L33: 63.144053 | M33: 45.329342
A34: Elektriciteit | B34: Meergezinswoning met winkels en horeca | C34: 319 | D34: 48.145543 | E34: 21.12008 | F34: 37.669339 | G34: 59.282984 | H34: 48.011489 | I34: 49.397428 | J34: 21.502922 | K34: 38.54717 | L34: 60.767966 | M34: 48.675278
A35: Elektriciteit | B35: Meergezinswoning met woonzorgeenheden | C35: 94 | D35: 34.809574 | E35: 23.8087 | F35: 33.060262 | G35: 43.835647 | H35: 41.296574 | I35: 36.776797 | J35: 23.8087 | K35: 35.816755 | L35: 49.15825 | M35: 44.404014
A36: Elektriciteit | B36: Middelbare school | C36: 1016 | D36: 36.947524 | E36: 21.779359 | F36: 30.511366 | G36: 44.810881 | H36: 34.276308 | I36: 40.56877 | J36: 24.486143 | K36: 33.968905 | L36: 49.731637 | M36: 37.781631
A37: Elektriciteit | B37: Nutsgebouw (elektriciteit)
A38: Elektriciteit | B38: Nutsgebouw (water) | C38: 30 | D38: 378.04847 | F38: 53.405769 | H38: 228.9942 | I38: 648.74462 | K38: 67.357955 | M38: 661.85026
A39: Elektriciteit | B39: Overig gebouw met maatschappelijke functie | C39: 1038 | D39: 35.92714 | E39: 8.4699344 | F39: 14.877463 | G39: 38.887214 | H39: 49.704453 | I39: 36.942329 | J39: 8.5807499 | K39: 15.009068 | L39: 39.909208 | M39: 52.933464
A40: Elektriciteit | B40: Overig gebouw met recreatiefunctie | C40: 60 | D40: 123.07456 | E40: 35.356136 | F40: 90.953327 | G40: 170.37081 | H40: 177.51379 | I40: 125.94029 | J40: 41.763872 | K40: 90.953327 | L40: 170.37081 | M40: 180.97957
A41: Elektriciteit | B41: Overig onderwijsgebouw | C41: 2751 | D41: 29.173801 | E41: 15.019542 | F41: 22.130391 | G41: 34.288236 | H41: 34.99983 | I41: 30.480381 | J41: 15.634333 | K41: 22.944444 | L41: 36.061024 | M41: 36.305203
A42: Elektriciteit | B42: Overig overheidsgebouw | C42: 728 | D42: 74.562953 | E42: 38.089085 | F42: 62.114885 | G42: 90.567823 | H42: 66.990968 | I42: 77.297985 | J42: 38.903721 | K42: 64.520666 | L42: 96.124362 | M42: 68.939548
A43: Elektriciteit | B43: Overig sportgebouw | C43: 6158 | D43: 46.02332 | E43: 16.114507 | F43: 30.553532 | G43: 58.292279 | H43: 44.309496 | I43: 49.939786 | J43: 17.574882 | K43: 33.91604 | L43: 63.456663 | M43: 47.68274
A44: Elektriciteit | B44: Overig zorggebouw | C44: 2909 | D44: 56.22856 | E44: 25.278049 | F44: 43.829114 | G44: 72.654494 | H44: 61.637932 | I44: 59.193291 | J44: 26.948689 | K44: 46.825397 | L44: 77.170732 | M44: 64.003289
A45: Elektriciteit | B45: Overige utiliteitsbouw | C45: 3031 | D45: 83.541704 | E45: 15.048918 | F45: 29.592101 | G45: 71.308509 | H45: 52.286831 | I45: 86.324753 | J45: 15.47008 | K45: 31.4125 | L45: 75.490385 | M45: 53.668389
A46: Elektriciteit | B46: Pand met winkel en kantoor- en/of bijeenkomstfunctie | C46: 626 | D46: 65.792005 | E46: 22.651296 | F46: 44.014564 | G46: 77.83421 | H46: 56.70878 | I46: 67.530773 | J46: 23.612623 | K46: 45.197071 | L46: 81.364526 | M46: 58.707038
A47: Elektriciteit | B47: Penitentiaire inrichting | C47: 21 | D47: 154.82954 | F47: 84.326398 | H47: 127.21156 | I47: 155.4796 | K47: 84.326398 | M47: 127.41848
A48: Elektriciteit | B48: Praktijk- of zorgwoning | C48: 1544 | D48: 40.069378 | E48: 21.477901 | F48: 34.053212 | G48: 52.09684 | H48: 39.614211 | I48: 42.648869 | J48: 23.596878 | K48: 37.110673 | L48: 54.594871 | M48: 41.849508
A49: Elektriciteit | B49: Productie-installatie
A50: Elektriciteit | B50: Restaurant of cafégebouw | C50: 3781 | D50: 224.00101 | E50: 96.305921 | F50: 170.55705 | G50: 286.04819 | H50: 168.0553 | I50: 225.02011 | J50: 97.317308 | K50: 171.02482 | L50: 286.65734 | M50: 168.93543
A51: Elektriciteit | B51: School voor speciaal onderwijs | C51: 455 | D51: 27.840663 | E51: 16.847605 | F51: 23.485079 | G51: 32.660353 | H51: 26.506014 | I51: 29.392805 | J51: 17.721434 | K51: 24.609735 | L51: 34.670271 | M51: 28.159586
A52: Elektriciteit | B52: Schoolverzamelgebouw | C52: 89 | D52: 36.332415 | E52: 19.888476 | F52: 31.059605 | G52: 45.668747 | H52: 34.747335 | I52: 39.536798 | J52: 20.046538 | K52: 34.158702 | L52: 51.917122 | M52: 37.512212
A53: Elektriciteit | B53: Tuincentrum | C53: 360 | D53: 38.616296 | E53: 17.601633 | F53: 30.486444 | G53: 48.423103 | H53: 32.482925 | I53: 43.928593 | J53: 19.647915 | K53: 31.41301 | L53: 50.40431 | M53: 35.299191
A54: Elektriciteit | B54: Vakantiewoning buiten vakantiepark | C54: 4102 | D54: 33.529271 | E54: 13.178149 | F54: 22.529169 | G54: 39.9758 | H54: 38.313356 | I54: 35.391925 | J54: 13.583341 | K54: 23.22731 | L54: 42.050639 | M54: 40.010495
A55: Elektriciteit | B55: Winkelpand | C55: 19311 | D55: 89.346961 | E55: 25.087576 | F55: 50.213333 | G55: 108.84774 | H55: 71.697437 | I55: 90.861856 | J55: 26.085251 | K55: 51.5625 | L55: 110.16273 | M55: 73.713131
A56: Elektriciteit | B56: Woning met andere functie of combinatie van functies | C56: 4341 | D56: 55.711859 | E56: 20.418033 | F56: 36.124251 | G56: 69.690141 | H56: 48.688663 | I56: 57.991336 | J56: 21.728324 | K56: 37.964143 | L56: 72.750973 | M56: 50.593244
A57: Elektriciteit | B57: Woning met cafe of restaurant | C57: 7013 | D57: 109.46393 | E57: 47.053125 | F57: 89.8867 | G57: 148.6 | H57: 86.278866 | I57: 110.5276 | J57: 48.329073 | K57: 91.048276 | L57: 149.61702 | M57: 87.252989
A58: Elektriciteit | B58: Woning met winkel | C58: 13952 | D58: 55.353208 | E58: 21.641234 | F58: 36.760978 | G58: 66.458097 | H58: 50.17045 | I58: 56.851627 | J58: 22.979927 | K58: 38.270822 | L58: 68.002404 | M58: 51.631723
A59: Elektriciteit | B59: Wooncomplex met andere functie of combinatie van functies | C59: 876 | D59: 48.309812 | E59: 29.409168 | F59: 43.842441 | G59: 61.538303 | H59: 47.356674 | I59: 49.729512 | J59: 30.721933 | K59: 45.184993 | L59: 63.087927 | M59: 48.570288
A60: Elektriciteit | B60: Wooncomplex met winkels en/of horeca | C60: 199 | D60: 45.086235 | E60: 24.750352 | F60: 38.982668 | G60: 58.701922 | H60: 45.499791 | I60: 46.343407 | J60: 25.628762 | K60: 40.185606 | L60: 59.474783 | M60: 46.490156
A61: Elektriciteit | B61: Woonzorgcomplex | C61: 967 | D61: 59.836386 | E61: 34.331295 | F61: 49.675399 | G61: 72.726543 | H61: 62.087282 | I61: 62.069894 | J61: 35.358639 | K61: 51.566964 | L61: 75.349044 | M61: 64.522028
... A66: Elektriciteit | B66: Zwembad | C66: 412 | D66: 208.9601 | E66: 67.679755 | F66: 120.0366 | G66: 205.04798 | H66: 119.05823 | I66: 216.81229 | J66: 76.270546 | K66: 130.56133 | L66: 217.82573 | M66: 124.90746

Sheet elek_kental_subsets_2021
A1: Energiedrager | B1: Gebouwtype | C1: Categorie zonnestroom en teruglevering | D1: Aantal panden | E1: Aandeel panden per gebouwtype | F1: Gemiddelde kental (kWh/m2) | G1: Q1 kental (kWh/m2) | H1: Mediaan kental (kWh/m2) | I1: Q3 kental (kWh/m2) | J1: Gewogen gemiddelde kental (kWh/m2) | K1: Gemiddelde kental inclusief eigenverbruik zonnestroom (kWh/m2) | L1: Q1 kental inclusief eigenverbruik zonnestroom (kWh/m2) | M1: Mediaan kental inclusief eigenverbruik zonnestroom (kWh/m2) | N1: Q3 kental inclusief eigenverbruik zonnestroom (kWh/m2) | O1: Gewogen gemiddelde kental inclusief eigenverbruik zonnestroom (kWh/m2)
A2: Elektriciteit | B2: Basisschool | C2: pand met zonPV en andere eigen opwek en teruglevering | D2: 114 | E2: 0.024 | F2: 24.809377 | G2: 12.961215 | H2: 20.384003 | I2: 32.728657 | J2: 27.488342 | K2: 28.094907 | L2: 15.435413 | M2: 23.490947 | N2: 35.863296 | O2: 30.467881
A3: Elektriciteit | B3: Basisschool | C3: pand met zonPV en teruglevering | D3: 1318 | E3: 0.276 | F3: 22.963512 | G3: 12.671335 | H3: 18.447815 | I3: 28.851252 | J3: 25.218371 | K3: 31.656227 | L3: 18.664726 | M3: 26.00687 | N3: 41.209898 | O3: 33.035626
A4: Elektriciteit | B4: Basisschool | C4: pand zonder zonPV met andere eigen opwek | D4: 226 | E4: 0.047 | F4: 29.546845 | G4: 16.118125 | H4: 26.040461 | I4: 38.27926 | J4: 32.017212
A5: Elektriciteit | B5: Basisschool | C5: pand zonder zonPV zonder andere eigen opwek | D5: 3115 | E5: 0.653 | F5: 25.05908 | G5: 16.460656 | H5: 21.502083 | I5: 29.17332 | J5: 25.937664
A6: Elektriciteit | B6: Bedrijfshal algemeen (geen LISA-informatie) | C6: pand met zonPV en andere eigen opwek en teruglevering | D6: 203 | E6: 0.011 | F6: 37.631198 | G6: 11.032258 | H6: 20.777953 | I6: 39 | J6: 39.731954 | K6: 55.111826 | L6: 17.756726 | M6: 33.760611 | N6: 56.298697 | O6: 59.906681
A7: Elektriciteit | B7: Bedrijfshal algemeen (geen LISA-informatie) | C7: pand met zonPV en teruglevering | D7: 1586 | E7: 0.086 | F7: 42.014209 | G7: 12.565427 | H7: 22.646377 | I7: 45.715622 | J7: 51.303637 | K7: 60.153618 | L7: 20.10773 | M7: 36.149494 | N7: 69.931102 | O7: 67.792496
A8: Elektriciteit | B8: Bedrijfshal algemeen (geen LISA-informatie) | C8: pand zonder zonPV met andere eigen opwek | D8: 285 | E8: 0.015 | F8: 43.633646 | G8: 12.439519 | H8: 23.134052 | I8: 47.6 | J8: 61.210962
A9: Elektriciteit | B9: Bedrijfshal algemeen (geen LISA-informatie) | C9: pand zonder zonPV zonder andere eigen opwek | D9: 16364 | E9: 0.888 | F9: 36.957663 | G9: 10.957241 | H9: 20.483236 | I9: 40.269977 | J9: 43.200413
A10: Elektriciteit | B10: Bedrijfshal algemeen (met LISA-informatie) | C10: pand met zonPV en andere eigen opwek en teruglevering | D10: 205 | E10: 0.017 | F10: 42.245199 | G10: 15.341317 | H10: 26.835714 | I10: 44.244972 | J10: 38.229386 | K10: 61.442373 | L10: 22.174559 | M10: 34.585413 | N10: 65.320291 | O10: 66.049747
A11: Elektriciteit | B11: Bedrijfshal algemeen (met LISA-informatie) | C11: pand met zonPV en teruglevering | D11: 1672 | E11: 0.137 | F11: 44.165872 | G11: 14.03613 | H11: 25.337955 | I11: 48.939547 | J11: 50.172103 | K11: 62.05724 | L11: 22.112188 | M11: 37.803731 | N11: 70.432148 | O11: 64.248915
A12: Elektriciteit | B12: Bedrijfshal algemeen (met LISA-informatie) | C12: pand zonder zonPV met andere eigen opwek | D12: 212 | E12: 0.017 | F12: 49.895896 | G12: 13.783461 | H12: 24.219176 | I12: 50.52131 | J12: 51.952647
A13: Elektriciteit | B13: Bedrijfshal algemeen (met LISA-informatie) | C13: pand zonder zonPV zonder andere eigen opwek | D13: 10149 | E13: 0.829 | F13: 46.010433 | G13: 14.95347 | H13: 26.397351 | I13: 48.546099 | J13: 46.983134
A14: Elektriciteit | B14: Bedrijfshal met logistieke activiteiten | C14: pand met zonPV en andere eigen opwek en teruglevering | D14: 136 | E14: 0.025 | F14: 33.948852 | G14: 15.191816 | H14: 24.931815 | I14: 41.099966 | J14: 39.445742 | K14: 45.019578 | L14: 21.716648 | M14: 32.567671 | N14: 50.936 | O14: 58.548744
A15: Elektriciteit | B15: Bedrijfshal met logistieke activiteiten | C15: pand met zonPV en teruglevering | D15: 1112 | E15: 0.202 | F15: 38.88486 | G15: 16.407767 | H15: 25.376346 | I15: 42.173595 | J15: 43.983612 | K15: 51.358649 | L15: 21.482526 | M15: 33.205966 | N15: 56.708328 | O15: 55.477507
A16: Elektriciteit | B16: Bedrijfshal met logistieke activiteiten | C16: pand zonder zonPV met andere eigen opwek | D16: 126 | E16: 0.023 | F16: 36.035377 | G16: 18.242209 | H16: 26.185889 | I16: 40.668266 | J16: 38.711941
A17: Elektriciteit | B17: Bedrijfshal met logistieke activiteiten | C17: pand zonder zonPV zonder andere eigen opwek | D17: 4123 | E17: 0.75 | F17: 40.258021 | G17: 16.502748 | H17: 26.341986 | I17: 43.433476 | J17: 40.795386
A18: Elektriciteit | B18: Bedrijfshal met maakindustrie en andere economische activiteiten | C18: pand met zonPV en andere eigen opwek en teruglevering | D18: 110 | E18: 0.023 | F18: 32.662216 | G18: 16.476458 | H18: 25.238364 | I18: 39.26232 | J18: 32.084189 | K18: 42.241732 | L18: 19.347205 | M18: 28.622124 | N18: 52.637747 | O18: 43.397704
A19: Elektriciteit | B19: Bedrijfshal met maakindustrie en andere economische activiteiten | C19: pand met zonPV en teruglevering | D19: 891 | E19: 0.182 | F19: 40.459395 | G19: 15.883656 | H19: 25.060021 | I19: 42.712268 | J19: 52.445748 | K19: 55.12763 | L19: 22.465446 | M19: 36.616131 | N19: 61.649533 | O19: 66.073756
A20: Elektriciteit | B20: Bedrijfshal met maakindustrie en andere economische activiteiten | C20: pand zonder zonPV met andere eigen opwek | D20: 104 | E20: 0.021 | F20: 40.588453 | G20: 16.393696 | H20: 26.264312 | I20: 43.482076 | J20: 54.231372
A21: Elektriciteit | B21: Bedrijfshal met maakindustrie en andere economische activiteiten | C21: pand zonder zonPV zonder andere eigen opwek | D21: 3781 | E21: 0.774 | F21: 44.090274 | G21: 16.989809 | H21: 28.161589 | I21: 49.280635 | J21: 50.9305
A22: Elektriciteit | B22: Bedrijfshal met maakindustrie en logistieke activiteiten | C22: pand met zonPV en andere eigen opwek en teruglevering | D22: 175 | E22: 0.017 | F22: 37.533176 | G22: 12.265408 | H22: 22.735032 | I22: 39.046503 | J22: 43.981863 | K22: 84.377198 | L22: 17.20904 | M22: 32.484371 | N22: 59.199838 | O22: 64.491987
A23: Elektriciteit | B23: Bedrijfshal met maakindustrie en logistieke activiteiten | C23: pand met zonPV en teruglevering | D23: 1493 | E23: 0.143 | F23: 47.563892 | G23: 13.438776 | H23: 23.582051 | I23: 49.021922 | J23: 61.91335 | K23: 70.150297 | L23: 21.642023 | M23: 36.295146 | N23: 68.133929 | O23: 78.613755
A24: Elektriciteit | B24: Bedrijfshal met maakindustrie en logistieke activiteiten | C24: pand zonder zonPV met andere eigen opwek | D24: 159 | E24: 0.015 | F24: 48.799172 | G24: 15.267429 | H24: 26.421965 | I24: 47.743383 | J24: 47.448609
A25: Elektriciteit | B25: Bedrijfshal met maakindustrie en logistieke activiteiten | C25: pand zonder zonPV zonder andere eigen opwek | D25: 8636 | E25: 0.825 | F25: 46.323424 | G25: 15.227512 | H25: 26.165171 | I25: 46.605786 | J25: 52.338357
A26: Elektriciteit | B26: Bedrijfshal uitsluitend maakindustrie | C26: pand met zonPV en andere eigen opwek en teruglevering | D26: 298 | E26: 0.016 | F26: 48.702589 | G26: 13.3808 | H26: 23.164548 | I26: 46.14329 | J26: 52.906048 | K26: 80.381953 | L26: 18.013625 | M26: 30.218366 | N26: 59.229199 | O26: 76.080612
A27: Elektriciteit | B27: Bedrijfshal uitsluitend maakindustrie | C27: pand met zonPV en teruglevering | D27: 2845 | E27: 0.15 | F27: 51.732341 | G27: 15.511231 | H27: 26.609912 | I27: 53.394276 | J27: 75.818718 | K27: 70.152448 | L27: 24.205336 | M27: 41.0528 | N27: 75.726994 | O27: 93.30392
A28: Elektriciteit | B28: Bedrijfshal uitsluitend maakindustrie | C28: pand zonder zonPV met andere eigen opwek | D28: 330 | E28: 0.017 | F28: 59.328131 | G28: 19.005981 | H28: 32.904703 | I28: 59.845597 | J28: 70.228768
A29: Elektriciteit | B29: Bedrijfshal uitsluitend maakindustrie | C29: pand zonder zonPV zonder andere eigen opwek | D29: 15531 | E29: 0.817 | F29: 59.268406 | G29: 17.105529 | H29: 30.574713 | I29: 59.066433 | J29: 97.649526
A30: Elektriciteit | B30: Bijeenkomstgebouw (niet nader ingedeeld) | C30: pand met zonPV en andere eigen opwek en teruglevering | D30: 101 | E30: 0.011 | F30: 28.030883 | G30: 10.573585 | H30: 18.669935 | I30: 31.752351 | J30: 23.21906 | K30: 44.584175 | L30: 16.260009 | M30: 22.040456 | N30: 42.61049 | O30: 39.233046
A31: Elektriciteit | B31: Bijeenkomstgebouw (niet nader ingedeeld) | C31: pand met zonPV en teruglevering | D31: 1057 | E31: 0.118 | F31: 33.151881 | G31: 10.924699 | H31: 19.323679 | I31: 38.080065 | J31: 35.888417 | K31: 47.188279 | L31: 17.803191 | M31: 31.325 | N31: 55.413043 | O31: 46.658605
A32: Elektriciteit | B32: Bijeenkomstgebouw (niet nader ingedeeld) | C32: pand zonder zonPV met andere eigen opwek | D32: 121 | E32: 0.014 | F32: 54.871038 | G32: 15.681004 | H32: 29.626344 | I32: 76.46 | J32: 53.016748
A33: Elektriciteit | B33: Bijeenkomstgebouw (niet nader ingedeeld) | C33: pand zonder zonPV zonder andere eigen opwek | D33: 7667 | E33: 0.857 | F33: 43.236992 | G33: 12.328817 | H33: 23.325203 | I33: 50.068616 | J33: 44.789811
A34: Elektriciteit | B34: Gebedshuis | C34: pand met zonPV en andere eigen opwek en teruglevering | D34: 35 | E34: 0.01 | F34: 18.542493 | H34: 14.194676 | J34: 18.356723 | K34: 22.455509 | M34: 16.616253 | O34: 22.596756
A35: Elektriciteit | B35: Gebedshuis | C35: pand met zonPV en teruglevering | D35: 421 | E35: 0.119 | F35: 15.095187 | G35: 7.938307 | H35: 11.832512 | I35: 18.856563 | J35: 18.119996 | K35: 21.250305 | L35: 11.942594 | M35: 17.018033 | N35: 26.974654 | O35: 23.213831
A36: Elektriciteit | B36: Gebedshuis | C36: pand zonder zonPV met andere eigen opwek | D36: 52 | E36: 0.015 | F36: 15.618062 | G36: 7.6137813 | H36: 10.755479 | I36: 20.727601 | J36: 19.919161
A37: Elektriciteit | B37: Gebedshuis | C37: pand zonder zonPV zonder andere eigen opwek | D37: 3019 | E37: 0.856 | F37: 14.079677 | G37: 7.7600544 | H37: 11.373658 | I37: 17.347802 | J37: 15.056965
A38: Elektriciteit | B38: Gebouw in landelijk gebied voor industrie (geen landbouwactiviteiten geregistreerd) | C38: pand met zonPV en andere eigen opwek en teruglevering | D38: 139 | E38: 0.029 | F38: 49.161959 | G38: 12.322096 | H38: 23.496377 | I38: 59.216374 | J38: 64.279532 | K38: 118.64843 | L38: 16.323983 | M38: 36.036482 | N38: 95.908675 | O38: 122.41106
A39: Elektriciteit | B39: Gebouw in landelijk gebied voor industrie (geen landbouwactiviteiten geregistreerd) | C39: pand met zonPV en teruglevering | D39: 927 | E39: 0.193 | F39: 51.366131 | G39: 14.577492 | H39: 28.950139 | I39: 59.352753 | J39: 54.946345 | K39: 77.654692 | L39: 24.152 | M39: 44.353535 | N39: 89.328957 | O39: 78.742932
A40: Elektriciteit | B40: Gebouw in landelijk gebied voor industrie (geen landbouwactiviteiten geregistreerd) | C40: pand zonder zonPV met andere eigen opwek | D40: 104 | E40: 0.022 | F40: 60.827514 | G40: 15.800321 | H40: 33.241066 | I40: 70.280425 | J40: 42.540577
A41: Elektriciteit | B41: Gebouw in landelijk gebied voor industrie (geen landbouwactiviteiten geregistreerd) | C41: pand zonder zonPV zonder andere eigen opwek | D41: 3638 | E41: 0.757 | F41: 45.578246 | G41: 12.358907 | H41: 24.743411 | I41: 50.468841 | J41: 47.702739
A42: Elektriciteit | B42: Gebouw in stedelijk gebied met industriefunctie | C42: pand met zonPV en andere eigen opwek en teruglevering | D42: 162 | E42: 0.012 | F42: 36.929158 | G42: 14.469279 | H42: 24.44895 | I42: 41.078888 | J42: 29.507676 | K42: 44.662886 | L42: 18.523093 | M42: 30.777922 | N42: 53.116542 | O42: 38.123638
A43: Elektriciteit | B43: Gebouw in stedelijk gebied met industriefunctie | C43: pand met zonPV en teruglevering | D43: 1489 | E43: 0.112 | F43: 49.849219 | G43: 13.994382 | H43: 25.245223 | I43: 51.434043 | J43: 49.482392 | K43: 69.20288 | L43: 22.246507 | M43: 38.101636 | N43: 72.175862 | O43: 61.07379
A44: Elektriciteit | B44: Gebouw in stedelijk gebied met industriefunctie | C44: pand zonder zonPV met andere eigen opwek | D44: 204 | E44: 0.015 | F44: 61.987333 | G44: 17.738666 | H44: 30.229339 | I44: 58.58596 | J44: 82.973941
A45: Elektriciteit | B45: Gebouw in stedelijk gebied met industriefunctie | C45: pand zonder zonPV zonder andere eigen opwek | D45: 11499 | E45: 0.861 | F45: 53.748814 | G45: 13.567063 | H45: 26.270675 | I45: 54.244365 | J45: 55.170738
A46: Elektriciteit | B46: Gebouw op vakantiepark | C46: pand met zonPV en andere eigen opwek en teruglevering | D46: 411 | E46: 0.012 | F46: 39.095755 | G46: 13.058197 | H46: 22.428571 | I46: 43.935521 | J46: 43.352776 | K46: 124.35368 | L46: 19.524113 | M46: 30.441293 | N46: 51.426475 | O46: 94.877416
A47: Elektriciteit | B47: Gebouw op vakantiepark | C47: pand met zonPV en teruglevering | D47: 3014 | E47: 0.085 | F47: 40.790873 | G47: 14.522184 | H47: 25.075607 | I47: 49.497939 | J47: 51.961526 | K47: 60.898285 | L47: 23.352785 | M47: 40.95095 | N47: 71.827381 | O47: 72.633809
A48: Elektriciteit | B48: Gebouw op vakantiepark | C48: pand zonder zonPV met andere eigen opwek | D48: 455 | E48: 0.013 | F48: 38.153667 | G48: 14.547615 | H48: 25.583333 | I48: 46.335714 | J48: 57.383405
A49: Elektriciteit | B49: Gebouw op vakantiepark | C49: pand zonder zonPV zonder andere eigen opwek | D49: 31526 | E49: 0.89 | F49: 26.957972 | G49: 11.924647 | H49: 18.151531 | I49: 29.158358 | J49: 32.249507
A50: Elektriciteit | B50: Gebouw voor landbouwactiviteiten | C50: pand met zonPV en andere eigen opwek en teruglevering | D50: 99 | E50: 0.041 | F50: 131.43132 | G50: 22.27286 | H50: 52.122517 | I50: 137.5807 | J50: 80.218959 | K50: 189.61775 | L50: 34.330656 | M50: 93.808366 | N50: 189.8437 | O50: 97.294995
A51: Elektriciteit | B51: Gebouw voor landbouwactiviteiten | C51: pand met zonPV en teruglevering | D51: 582 | E51: 0.242 | F51: 102.29725 | G51: 22.392305 | H51: 43.195631 | I51: 108.79618 | J51: 84.541531 | K51: 141.95618 | L51: 34.589189 | M51: 67.112315 | N51: 158.31322 | O51: 109.82834
A52: Elektriciteit | B52: Gebouw voor landbouwactiviteiten | C52: pand zonder zonPV met andere eigen opwek | D52: 203 | E52: 0.084 | F52: 236.04429 | G52: 51.892456 | H52: 167.44317 | I52: 342.29872 | J52: 118.3012
A53: Elektriciteit | B53: Gebouw voor landbouwactiviteiten | C53: pand zonder zonPV zonder andere eigen opwek | D53: 1519 | E53: 0.632 | F53: 106.05164 | G53: 20.622158 | H53: 45.311111 | I53: 127.30612 | J53: 71.982157
A54: Elektriciteit | B54: Groothandel op bedrijventerrein | C54: pand met zonPV en andere eigen opwek en teruglevering | D54: 14 | E54: 0.024 | F54: 25.240384 | J54: 23.641898 | K54: 31.763091 | O54: 42.721782
A55: Elektriciteit | B55: Groothandel op bedrijventerrein | C55: pand met zonPV en teruglevering | D55: 101 | E55: 0.171 | F55: 30.130312 | G55: 16.131009 | H55: 24.890909 | I55: 34.479251 | J55: 26.915657 | K55: 40.814406 | L55: 22.861727 | M55: 29.675148 | N55: 48.134259 | O55: 35.369178
A56: Elektriciteit | B56: Groothandel op bedrijventerrein | C56: pand zonder zonPV met andere eigen opwek | D56: 17 | E56: 0.029 | F56: 29.142998 | J56: 26.024858
A57: Elektriciteit | B57: Groothandel op bedrijventerrein | C57: pand zonder zonPV zonder andere eigen opwek | D57: 457 | E57: 0.776 | F57: 28.870471 | G57: 15.360958 | H57: 23.657475 | I57: 35.728144 | J57: 27.547163
A58: Elektriciteit | B58: Hotel (of ander groot logiesgebouw) | C58: pand met zonPV en andere eigen opwek en teruglevering | D58: 29 | E58: 0.012 | F58: 35.957454 | H58: 26.774312 | J58: 88.906087 | K58: 43.987104 | M58: 30.065222 | O58: 138.58337
A59: Elektriciteit | B59: Hotel (of ander groot logiesgebouw) | C59: pand met zonPV en teruglevering | D59: 218 | E59: 0.089 | F59: 56.779989 | G59: 19.178005 | H59: 38.714825 | I59: 85.074451 | J59: 74.161075 | K59: 71.246885 | L59: 29.275952 | M59: 52.699652 | N59: 96.910854 | O59: 80.404249
A60: Elektriciteit | B60: Hotel (of ander groot logiesgebouw) | C60: pand zonder zonPV met andere eigen opwek | D60: 59 | E60: 0.024 | F60: 50.284017 | G60: 21.074659 | H60: 40.027572 | I60: 61.12239 | J60: 62.785603
A61: Elektriciteit | B61: Hotel (of ander groot logiesgebouw) | C61: pand zonder zonPV zonder andere eigen opwek | D61: 2133 | E61: 0.875 | F61: 63.645327 | G61: 25.432355 | H61: 50.529197 | I61: 91.896943 | J61: 67.848287
A62: Elektriciteit | B62: Kantoorpand algemeen | C62: pand met zonPV en andere eigen opwek en teruglevering | D62: 180 | E62: 0.009 | F62: 40.278152 | G62: 16.68155 | H62: 30.713933 | I62: 49.739525 | J62: 53.867273 | K62: 93.161479 | L62: 21.060094 | M62: 38.141127 | N62: 63.976548 | O62: 68.777167
A63: Elektriciteit | B63: Kantoorpand algemeen | C63: pand met zonPV en teruglevering | D63: 2564 | E63: 0.123 | F63: 44.964192 | G63: 20.180639 | H63: 34.438873 | I63: 56.752086 | J63: 49.614221 | K63: 62.383856 | L63: 31.513803 | M63: 50.22931 | N63: 76.365925 | O63: 61.524898
A64: Elektriciteit | B64: Kantoorpand algemeen | C64: pand zonder zonPV met andere eigen opwek | D64: 317 | E64: 0.015 | F64: 56.567516 | G64: 25.878187 | H64: 46.84459 | I64: 72.149088 | J64: 58.511263
A65: Elektriciteit | B65: Kantoorpand algemeen | C65: pand zonder zonPV zonder andere eigen opwek | D65: 17753 | E65: 0.853 | F65: 46.824178 | G65: 20.979021 | H65: 36.207731 | I65: 60.322454 | J65: 53.199466
A66: Elektriciteit | B66: Kinderopvang (gebouw) | C66: pand met zonPV en andere eigen opwek en teruglevering | D66: 12 | E66: 0.008 | F66: 38.218673 | J66: 44.847128 | K66: 41.920801 | O66: 48.133344
A67: Elektriciteit | B67: Kinderopvang (gebouw) | C67: pand met zonPV en teruglevering | D67: 149 | E67: 0.097 | F67: 28.328299 | G67: 14.655877 | H67: 22.361582 | I67: 35.104762 | J67: 30.259847 | K67: 41.456131 | L67: 23.398017 | M67: 33.190769 | N67: 50.375758 | O67: 41.206431
A68: Elektriciteit | B68: Kinderopvang (gebouw) | C68: pand zonder zonPV met andere eigen opwek | D68: 21 | E68: 0.014 | F68: 28.557949 | H68: 20.487973 | J68: 26.207044
A69: Elektriciteit | B69: Kinderopvang (gebouw) | C69: pand zonder zonPV zonder andere eigen opwek | D69: 1348 | E69: 0.881 | F69: 32.048548 | G69: 19.767871 | H69: 27.931083 | I69: 38.819781 | J69: 30.051678
A70: Elektriciteit | B70: Meergezinswoning met andere functie of combinatie van functies | C70: pand met zonPV en andere eigen opwek en teruglevering | D70: 224 | E70: 0.013 | F70: 46.99456 | G70: 18.49774 | H70: 29.513872 | I70: 56.649854 | J70: 40.120269 | K70: 56.767985 | L70: 21.453877 | M70: 33.650917 | N70: 61.374252 | O70: 48.774445
A71: Elektriciteit | B71: Meergezinswoning met andere functie of combinatie van functies | C71: pand met zonPV en teruglevering | D71: 1915 | E71: 0.108 | F71: 37.355031 | G71: 17.086585 | H71: 26.199134 | I71: 43.687364 | J71: 38.617108 | K71: 49.965032 | L71: 23.054407 | M71: 35.513542 | N71: 57.379528 | O71: 47.470414
A72: Elektriciteit | B72: Meergezinswoning met andere functie of combinatie van functies | C72: pand zonder zonPV met andere eigen opwek | D72: 292 | E72: 0.017 | F72: 41.98528 | G72: 19.074003 | H72: 28.768339 | I72: 46.949354 | J72: 44.10787
A73: Elektriciteit | B73: Meergezinswoning met andere functie of combinatie van functies | C73: pand zonder zonPV zonder andere eigen opwek | D73: 15223 | E73: 0.862 | F73: 37.283424 | G73: 18.978305 | H73: 27.645533 | I73: 42.194103 | J73: 38.142659
A74: Elektriciteit | B74: Meergezinswoning met winkels en horeca | C74: pand met zonPV en andere eigen opwek en teruglevering | D74: 19 | E74: 0.007 | F74: 57.270184 | J74: 73.003678 | K74: 59.711307 | O74: 74.475018
A75: Elektriciteit | B75: Meergezinswoning met winkels en horeca | C75: pand met zonPV en teruglevering | D75: 230 | E75: 0.09 | F75: 51.785713 | G75: 24.91129 | H75: 36.654778 | I75: 64.693787 | J75: 57.725231 | K75: 58.629321 | L75: 30.407378 | M75: 44.491581 | N75: 74.35245 | O75: 62.923526
A76: Elektriciteit | B76: Meergezinswoning met winkels en horeca | C76: pand zonder zonPV met andere eigen opwek | D76: 57 | E76: 0.022 | F76: 55.64864 | G76: 26.972543 | H76: 44.7866 | I76: 64.850149 | J76: 59.020637
A77: Elektriciteit | B77: Meergezinswoning met winkels en horeca | C77: pand zonder zonPV zonder andere eigen opwek | D77: 2242 | E77: 0.88 | F77: 55.031269 | G77: 26.540781 | H77: 42.434391 | I77: 70.47674 | J77: 55.113502
A78: Elektriciteit | B78: Middelbare school | C78: pand met zonPV en andere eigen opwek en teruglevering | D78: 13 | E78: 0.012 | F78: 33.895256 | J78: 25.901121 | K78: 36.777124 | O78: 27.530471
A79: Elektriciteit | B79: Middelbare school | C79: pand met zonPV en teruglevering | D79: 409 | E79: 0.376 | F79: 36.693764 | G79: 19.506066 | H79: 29.129319 | I79: 44.168443 | J79: 33.579401 | K79: 45.976414 | L79: 27.267828 | M79: 37.286392 | N79: 54.418157 | O79: 41.452843
A80: Elektriciteit | B80: Middelbare school | C80: pand zonder zonPV met andere eigen opwek | D80: 38 | E80: 0.035 | F80: 39.762337 | H80: 34.039893 | J80: 38.293894
A81: Elektriciteit | B81: Middelbare school | C81: pand zonder zonPV zonder andere eigen opwek | D81: 628 | E81: 0.577 | F81: 36.753576 | G81: 22.708356 | H81: 30.904089 | I81: 44.322461 | J81: 34.284596
A82: Elektriciteit | B82: Overig onderwijsgebouw | C82: pand met zonPV en andere eigen opwek en teruglevering | D82: 26 | E82: 0.008 | F82: 24.8929 | H82: 15.832553 | J82: 30.53408 | K82: 37.98278 | M82: 19.238466 | O82: 41.878473
A83: Elektriciteit | B83: Overig onderwijsgebouw | C83: pand met zonPV en teruglevering | D83: 393 | E83: 0.127 | F83: 31.606466 | G83: 13.865474 | H83: 22.773109 | I83: 39.42739 | J83: 38.910161 | K83: 41.848844 | L83: 20.263628 | M83: 32.988058 | N83: 52.990848 | O83: 46.023023
A84: Elektriciteit | B84: Overig onderwijsgebouw | C84: pand zonder zonPV met andere eigen opwek | D84: 42 | E84: 0.014 | F84: 29.790872 | G84: 15.883832 | H84: 24.647182 | I84: 31.68986 | J84: 65.338162
A85: Elektriciteit | B85: Overig onderwijsgebouw | C85: pand zonder zonPV zonder andere eigen opwek | D85: 2626 | E85: 0.851 | F85: 29.365941 | G85: 15.106911 | H85: 22.081771 | I85: 34.391941 | J85: 34.429415
A86: Elektriciteit | B86: Overig overheidsgebouw | C86: pand met zonPV en andere eigen opwek en teruglevering | D86: 13 | E86: 0.016 | F86: 38.587323 | J86: 39.732939 | K86: 42.496162 | O86: 41.98523
A87: Elektriciteit | B87: Overig overheidsgebouw | C87: pand met zonPV en teruglevering | D87: 193 | E87: 0.238 | F87: 70.874912 | G87: 41.736541 | H87: 58.688711 | I87: 78.187879 | J87: 64.424732 | K87: 82.105089 | L87: 48.955326 | M87: 68.215046 | N87: 96.671757 | O87: 72.585443
A88: Elektriciteit | B88: Overig overheidsgebouw | C88: pand zonder zonPV met andere eigen opwek | D88: 32 | E88: 0.04 | F88: 74.985177 | H88: 50.180136 | J88: 95.067861
A89: Elektriciteit | B89: Overig overheidsgebouw | C89: pand zonder zonPV zonder andere eigen opwek | D89: 572 | E89: 0.706 | F89: 76.015447 | G89: 37.153417 | H89: 63.261967 | I89: 96.457517 | J89: 67.206682
A90: Elektriciteit | B90: Overig sportgebouw | C90: pand met zonPV en andere eigen opwek en teruglevering | D90: 178 | E90: 0.025 | F90: 39.833567 | G90: 14.289403 | H90: 25.405627 | I90: 51.315302 | J90: 24.318148 | K90: 66.060051 | L90: 20.750017 | M90: 37.23253 | N90: 60.486755 | O90: 31.319834
A91: Elektriciteit | B91: Overig sportgebouw | C91: pand met zonPV en teruglevering | D91: 1665 | E91: 0.232 | F91: 44.582288 | G91: 16.856322 | H91: 31.224101 | I91: 57.092 | J91: 45.466125 | K91: 60.717699 | L91: 24.965672 | M91: 43.268519 | N91: 76.898039 | O91: 58.296228
A92: Elektriciteit | B92: Overig sportgebouw | C92: pand zonder zonPV met andere eigen opwek | D92: 227 | E92: 0.032 | F92: 53.432561 | G92: 19.422428 | H92: 34.385532 | I92: 68.93143 | J92: 54.776628
A93: Elektriciteit | B93: Overig sportgebouw | C93: pand zonder zonPV zonder andere eigen opwek | D93: 5111 | E93: 0.712 | F93: 48.07122 | G93: 16.173806 | H93: 31.297735 | I93: 60.839328 | J93: 48.297794
A94: Elektriciteit | B94: Overig zorggebouw | C94: pand met zonPV en andere eigen opwek en teruglevering | D94: 27 | E94: 0.008 | F94: 45.278512 | H94: 35.094444 | J94: 95.76958 | K94: 51.073428 | M94: 35.623323 | O94: 101.95672
A95: Elektriciteit | B95: Overig zorggebouw | C95: pand met zonPV en teruglevering | D95: 520 | E95: 0.15 | F95: 53.042764 | G95: 26.159975 | H95: 43.759359 | I95: 65.368101 | J95: 59.358874 | K95: 71.967798 | L95: 40.092115 | M95: 60.8913 | N95: 87.756301 | O95: 71.039964
A96: Elektriciteit | B96: Overig zorggebouw | C96: pand zonder zonPV met andere eigen opwek | D96: 62 | E96: 0.018 | F96: 49.897495 | G96: 28.58265 | H96: 46.135195 | I96: 62.21926 | J96: 54.95621
A97: Elektriciteit | B97: Overig zorggebouw | C97: pand zonder zonPV zonder andere eigen opwek | D97: 2854 | E97: 0.824 | F97: 57.988529 | G97: 25.324652 | H97: 44.541058 | I97: 75.49951 | J97: 61.680123
A98: Elektriciteit | B98: Overige utiliteitsbouw | C98: pand met zonPV en andere eigen opwek en teruglevering | D98: 54 | E98: 0.013 | F98: 96.763316 | G98: 18.533482 | H98: 39.864195 | I98: 91.915128 | J98: 48.406255 | K98: 114.95966 | L98: 24.909724 | M98: 50.96997 | N98: 123.34039 | O98: 59.062768
A99: Elektriciteit | B99: Overige utiliteitsbouw | C99: pand met zonPV en teruglevering | D99: 368 | E99: 0.09 | F99: 81.224531 | G99: 16.825768 | H99: 30.531163 | I99: 65.011628 | J99: 49.84562 | K99: 117.95702 | L99: 25.485643 | M99: 48.564268 | N99: 95.891725 | O99: 61.794923
A100: Elektriciteit | B100: Overige utiliteitsbouw | C100: pand zonder zonPV met andere eigen opwek | D100: 81 | E100: 0.02 | F100: 152.72664 | G100: 15.104964 | H100: 38.399449 | I100: 124.97546 | J100: 60.189286
...

Sheet zonnestroom_kentallen_2021
A1: Energiedrager | B1: Gebouwtype | C1: Aantal panden | D1: Aantal panden met zonnestroomproductie | E1: Aandeel panden met zonnestroomproductie | F1: Gemiddelde zonnestroomproductie kental (kWh/m2) | G1: Gewogen gemiddelde zonnestroomproductie kental (kWh/m2)
A2: Elektriciteit | B2: Asielzoekerscentrum | C2: 63
A3: Elektriciteit | B3: Basisschool | C3: 4773 | D3: 1432 | E3: 0.3 | F3: 4.4463712 | G3: 4.0985367
A4: Elektriciteit | B4: Bedrijfshal algemeen (geen LISA-informatie) | C4: 18438
A5: Elektriciteit | B5: Bedrijfshal algemeen (met LISA-informatie) | C5: 12238 | D5: 1877 | E5: 0.153 | F5: 5.9652584 | G5: 8.3572724
A6: Elektriciteit | B6: Bedrijfshal met logistieke activiteiten | C6: 5497 | D6: 1248 | E6: 0.227 | F6: 6.6019267 | G6: 7.7006231
A7: Elektriciteit | B7: Bedrijfshal met maakindustrie en andere economische activiteiten | C7: 4886 | D7: 1001 | E7: 0.205 | F7: 6.3573053 | G7: 6.6578886
A8: Elektriciteit | B8: Bedrijfshal met maakindustrie en logistieke activiteiten | C8: 10463 | D8: 1668 | E8: 0.159 | F8: 13.547851 | G8: 9.3096816
A9: Elektriciteit | B9: Bedrijfshal uitsluitend maakindustrie | C9: 19004 | D9: 3143 | E9: 0.165 | F9: 7.3291667 | G9: 7.6425948
A10: Elektriciteit | B10: Bedrijfswoning | C10: 67855 | D10: 19097 | E10: 0.281 | F10: 34.793793 | G10: 25.255814
A11: Elektriciteit | B11: Bijeenkomstgebouw (niet nader ingedeeld) | C11: 8946 | D11: 1158 | E11: 0.129 | F11: 3.6288483 | G11: 3.1449568
A12: Elektriciteit | B12: Campusgebouw | C12: 105 | D12: 26 | E12: 0.248 | F12: 3.7229353 | G12: 2.5408823
A13: Elektriciteit | B13: Cultuurhuis | C13: 568 | D13: 90 | E13: 0.158 | F13: 3.7130204 | G13: 2.285166
A14: Elektriciteit | B14: Datacenter | C14: 80 | D14: 12 | E14: 0.15 | F14: 8.2035616 | G14: 4.2286744
A15: Elektriciteit | B15: Gebedshuis | C15: 3527 | D15: 456 | E15: 0.129 | F15: 1.806934 | G15: 1.8457187
A16: Elektriciteit | B16: Gebouw bij militaire inrichting | C16: 13
A17: Elektriciteit | B17: Gebouw bij spooremplacement | C17: 67
A18: Elektriciteit | B18: Gebouw bij vliegveld of luchthaven | C18: 143 | D18: 23 | E18: 0.161
A19: Elektriciteit | B19: Gebouw in landelijk gebied voor industrie (geen landbouwactiviteiten geregistreerd) | C19: 4808 | D19: 1066 | E19: 0.222 | F19: 30.895067 | G19: 21.821571
A20: Elektriciteit | B20: Gebouw in stedelijk gebied met industriefunctie | C20: 13354 | D20: 1651 | E20: 0.124 | F20: 4.5393704 | G20: 4.2497058
A21: Elektriciteit | B21: Gebouw op snelwegverzorgingsplaats | C21: 128
A22: Elektriciteit | B22: Gebouw op vakantiepark | C22: 35406
A23: Elektriciteit | B23: Gebouw voor landbouwactiviteiten | C23: 2403 | D23: 681 | E23: 0.283 | F23: 30.0726 | G23: 16.580443
A24: Elektriciteit | B24: Groothandel op bedrijventerrein | C24: 589 | D24: 115 | E24: 0.195 | F24: 3.7204247 | G24: 3.7422846
A25: Elektriciteit | B25: Hotel (of ander groot logiesgebouw) | C25: 2439 | D25: 247 | E25: 0.101 | F25: 2.2401505 | G25: 1.8061199
A26: Elektriciteit | B26: IJsbaan | C26: 105 | D26: 16 | E26: 0.152 | F26: 3.3169222 | G26: 0.99563503
A27: Elektriciteit | B27: Kantoorpand algemeen | C27: 20814 | D27: 2744 | E27: 0.132 | F27: 6.5920106 | G27: 3.6295301
A28: Elektriciteit | B28: Kinderopvang (gebouw) | C28: 1530 | D28: 161 | E28: 0.105 | F28: 2.9138579 | G28: 2.665823
A29: Elektriciteit | B29: Koelhuis | C29: 95 | D29: 32 | E29: 0.337 | F29: 17.01552 | G29: 21.716068
A30: Elektriciteit | B30: MBO-gebouw | C30: 16
A31: Elektriciteit | B31: Meergezinswoning met andere functie of combinatie van functies | C31: 17654 | D31: 2139 | E31: 0.121 | F31: 3.6307152 | G31: 2.8854474
A32: Elektriciteit | B32: Meergezinswoning met cafe of restaurant | C32: 6274
A33: Elektriciteit | B33: Meergezinswoning met winkel | C33: 22180
A34: Elektriciteit | B34: Meergezinswoning met winkels en horeca | C34: 2548
A35: Elektriciteit | B35: Meergezinswoning met woonzorgeenheden | C35: 282 | D35: 53 | E35: 0.188 | F35: 3.6165393 | G35: 3.7013808
A36: Elektriciteit | B36: Middelbare school | C36: 1088 | D36: 422 | E36: 0.388 | F36: 5.7089019 | G36: 5.1398144
A37: Elektriciteit | B37: Nutsgebouw (elektriciteit) | C37: 144 | D37: 24 | E37: 0.167
A38: Elektriciteit | B38: Nutsgebouw (water) | C38: 60
A39: Elektriciteit | B39: Overig gebouw met maatschappelijke functie | C39: 1207
A40: Elektriciteit | B40: Overig gebouw met recreatiefunctie | C40: 75 | D40: 13 | E40: 0.173
A41: Elektriciteit | B41: Overig onderwijsgebouw | C41: 3087 | D41: 419 | E41: 0.136 | F41: 2.5735573 | G41: 2.5476382
A42: Elektriciteit | B42: Overig overheidsgebouw | C42: 810 | D42: 206 | E42: 0.254 | F42: 3.7869116 | G42: 2.4066067
A43: Elektriciteit | B43: Overig sportgebouw | C43: 7181 | D43: 1843 | E43: 0.257 | F43: 16.343872 | G43: 9.1541956
A44: Elektriciteit | B44: Overig zorggebouw | C44: 3463 | D44: 547 | E44: 0.158 | F44: 4.6978918 | G44: 3.1912828
A45: Elektriciteit | B45: Overige utiliteitsbouw | C45: 4107 | D45: 422 | E45: 0.103
A46: Elektriciteit | B46: Pand met winkel en kantoor- en/of bijeenkomstfunctie | C46: 1461
A47: Elektriciteit | B47: Penitentiaire inrichting | C47: 24
A48: Elektriciteit | B48: Praktijk- of zorgwoning | C48: 4984 | D48: 1434 | E48: 0.288 | F48: 5.9344827 | G48: 5.1052356
A49: Elektriciteit | B49: Productie-installatie | C49: 101
A50: Elektriciteit | B50: Restaurant of cafégebouw | C50: 3882
A51: Elektriciteit | B51: School voor speciaal onderwijs | C51: 506 | D51: 110 | E51: 0.217 | F51: 2.8290747 | G51: 2.8440459
A52: Elektriciteit | B52: Schoolverzamelgebouw | C52: 104 | D52: 30 | E52: 0.288 | F52: 4.5555541 | G52: 3.786804
A53: Elektriciteit | B53: Tuincentrum | C53: 455 | D53: 87 | E53: 0.191 | F53: 8.7389311 | G53: 4.6512337
A54: Elektriciteit | B54: Vakantiewoning buiten vakantiepark | C54: 5241 | D54: 584 | E54: 0.111 | F54: 4.1910399 | G54: 4.4392368
A55: Elektriciteit | B55: Winkelpand | C55: 21328
A56: Elektriciteit | B56: Woning met andere functie of combinatie van functies | C56: 13820 | D56: 3201 | E56: 0.232 | F56: 7.2361691 | G56: 5.1275596
A57: Elektriciteit | B57: Woning met cafe of restaurant | C57: 11035
A58: Elektriciteit | B58: Woning met winkel | C58: 31641 | D58: 3597 | E58: 0.114 | F58: 2.4200501 | G58: 2.2092213
A59: Elektriciteit | B59: Wooncomplex met andere functie of combinatie van functies | C59: 9420 | D59: 1675 | E59: 0.178 | F59: 1.2548605 | G59: 0.98183012
A60: Elektriciteit | B60: Wooncomplex met winkels en/of horeca | C60: 4376 | D60: 651 | E60: 0.149 | F60: 1.0741928 | G60: 0.96192714
A61: Elektriciteit | B61: Woonzorgcomplex | C61: 1551 | D61: 281 | E61: 0.181 | F61: 3.9908526 | G61: 2.7032312
A62: Elektriciteit | B62: Ziekenhuis | C62: 111 | D62: 19 | E62: 0.171
A63: Elektriciteit | B63: Zorg met bed | C63: 408 | D63: 64 | E63: 0.157 | F63: 4.0935154 | G63: 3.8083518
A64: Elektriciteit | B64: Zorginstelling | C64: 173 | D64: 34 | E64: 0.197 | F64: 8.7411571 | G64: 13.935906
A65: Elektriciteit | B65: Zorgpraktijk | C65: 2461 | D65: 408 | E65: 0.166 | F65: 5.7076146 | G65: 4.7707516
A66: Elektriciteit | B66: Zwembad | C66: 482 | D66: 120 | E66: 0.249 | F66: 12.884349 | G66: 7.1532256

Sheet populatie_overzicht_2021
A1: Welk tabblad? | B1: elek_kental_totaal_ | C1: elek_kental_bouwj_ | D1: elek_kental_opp_ | E1: elek_kental_subsets_ | F1: elek_kental_diensten_ | G1: zonnestroom_kentallen_totaal_ | H1: gas_kental_totaal_ | I1: gas_kental_bouwj_ | J1: gas_kental_opp_ | K1: gas_kental_diensten_
A3: Aantal unieke gebouwtype categorieën in het betreffende tab | B3: =COUNTIF(B14:B98,">0") -> 65 | C3: =COUNTIF(C14:C98,">0") -> 59 | D3: =COUNTIF(D14:D98,">0") -> 59 | E3: =COUNTIF(E14:E98,">0") -> 35 | F3: =COUNTIF(F14:F98,">0") -> 61 | G3: =COUNTIF(G14:G98,">0") -> 65 | H3: =COUNTIF(H14:H98,">0") -> 65 | I3: =COUNTIF(I14:I98,">0") -> 59 | ... K3: =COUNTIF(K14:K98,">0") -> 61
A4: Totaal aantal panden in populatie in het betreffende tab | B4: =SUM(B16:B80) -> 422077 | C4: =SUM(C16:C80) -> 421753 | D4: =SUM(D16:D80) -> 421753 | E4: =SUM(E16:E80) -> 284490 | F4: =SUM(F16:F80) -> 210608 | G4: =SUM(G16:G80) -> 422077 | H4: =SUM(H16:H80) -> 408032 | I4: =SUM(I16:I80) -> 407797 | ... K4: =SUM(K16:K80) -> 205621
A6: Missende categorieën t.o.v. tab ‘totaal’ | B6: Totaal aantal cat | C6: 6 categorieën verwijderd | D6: 6 categorieën verwijderd | E6: 30 categorieën verwijderd | F6: 4 categorieën verw | G6: Zelfde aantallen als elek totaal | H6: Totaal aantal cat | I6: 6 categorieën verwijderd | J6: 6 categorieën verwijderd | K6: 4 categorieën verw
C7: Asielzoekerscentrum | D7: Asielzoekerscentrum | F7: Gebouw bij militaire inrichting | I7: Asielzoekerscentrum | J7: Asielzoekerscentrum | K7: Gebouw bij militaire inrichting
C8: Datacenter | D8: Datacenter | F8: MBO-gebouw | I8: Datacenter | J8: Datacenter | K8: MBO-gebouw
C9: Gebouw bij militaire inrichting | D9: Gebouw bij militaire inrichting | F9: Nutsgebouw (elektriciteit) | I9: Gebouw bij militaire inrichting | J9: Gebouw bij militaire inrichting | K9: Nutsgebouw (elektriciteit)
C10: Gebouw op snelwegverzorgingsplaats | D10: Gebouw op snelwegverzorgingsplaats | F10: Productie-installatie | I10: Gebouw op snelwegverzorgingsplaats | J10: Gebouw op snelwegverzorgingsplaats | K10: Productie-installatie
C11: MBO-gebouw | D11: MBO-gebouw | I11: MBO-gebouw | J11: MBO-gebouw
C12: Penitentiaire inrichting | D12: Penitentiaire inrichting | I12: Penitentiaire inrichting | J12: Penitentiaire inrichting
A15: gebouwtype_keuze | B15: Aantal panden in tab elek_kental_totaal_ | C15: Aantal panden in tab elek_kental_bouwj_ | D15: Aantal panden in tab elek_kental_opp_ | E15: Aantal panden in tab elek_kental_subsets_ | F15: Aantal panden in tab elek_kental_diensten_ | G15: Aantal panden in tab zonnestroom_kentallen_totaal_ | H15: Aantal panden in tab gas_kental_totaal_ | I15: Aantal panden in tab gas_kental_bouwj_ | J15: Aantal panden in tab gas_kental_opp_ | K15: Aantal panden in tab gas_kental_diensten_
A16: Asielzoekerscentrum | B16: =IF(SUMIF(elek_kental_2021!$B$2:$B$10000,A16,elek_kental_2021!$C$2:$C$10000)>0,SUMIF(elek_kental_2021!$B$2:$B$10000,A16,elek_kental_2021!$C$2:$C$10000),"") -> 63 | C16: =IF(SUMIF(elek_kental_bouwj_2021!$B$2:$B$10005,A16,elek_kental_bouwj_2021!$D$2:$D$10005)>0,SUMIF(elek_kental_bouwj_2021!$B$2:$B$10005,A16,elek_kental_bouwj_2021!$D$2:$D$10005),"") | D16: =IF(SUMIF(elek_kental_opp_2021!$B$2:$B$10006,A16,elek_kental_opp_2021!$D$2:$D$10006)>0,SUMIF(elek_kental_opp_2021!$B$2:$B$10006,A16,elek_kental_opp_2021!$D$2:$D$10006),"") | E16: =IF(SUMIF(elek_kental_subsets_2021!$B$2:$B$10017,A16,elek_kental_subsets_2021!$D$2:$D$10017)>0,SUMIF(elek_kental_subsets_2021!$B$2:$B$10017,A16,elek_kental_subsets_2021!$D$2:$D$10017),"") | F16: =IF(SUMIF(elek_kental_diensten_2021!$B$2:$B$10000,A16,elek_kental_diensten_2021!$C$2:$C$10000)>0,SUMIF(elek_kental_diensten_2021!$B$2:$B$10000,A16,elek_kental_diensten_2021!$C$2:$C$10000),"") -> 51 | G16: =IF(SUMIF(zonnestroom_kentallen_2021!$B$2:$B$10000,A16,zonnestroom_kentallen_2021!$C$2:$C$10000)>0,SUMIF(zonnestroom_kentallen_2021!$B$2:$B$10000,A16,zonnestroom_kentallen_2021!$C$2:$C$10000),"") -> 63 | H16: =IF(SUMIF(gas_kental_2021!$B$2:$B$10000,A16,gas_kental_2021!$C$2:$C$10000)>0,SUMIF(gas_kental_2021!$B$2:$B$10000,A16,gas_kental_2021!$C$2:$C$10000),"") -> 66 | I16: =IF(SUMIF(gas_kental_bouwj_2021!$B$2:$B$10003,A16,gas_kental_bouwj_2021!$D$2:$D$10003)>0,SUMIF(gas_kental_bouwj_2021!$B$2:$B$10003,A16,gas_kental_bouwj_2021!$D$2:$D$10003),"") | J16: =IF(SUMIF(gas_kental_opp_2021!$B$2:$B$10008,A16,gas_kental_opp_2021!$D$2:$D$10008)>0,SUMIF(gas_kental_opp_2021!$B$2:$B$10008,A16,gas_kental_opp_2021!$D$2:$D$10008),"") | K16: =IF(SUMIF(gas_kental_diensten_2021!$B$2:$B$10000,A16,gas_kental_diensten_2021!$C$2:$C$10000)>0,SUMIF(gas_kental_diensten_2021!$B$2:$B$10000,A16,gas_kental_diensten_2021!$C$2:$C$10000),"") -> 54
A17: Basisschool | B17: =IF(SUMIF(elek_kental_2021!$B$2:$B$10000,A17,elek_kental_2021!$C$2:$C$10000)>0,SUMIF(elek_kental_2021!$B$2:$B$10000,A17,elek_kental_2021!$C$2:$C$10000),"") -> 4773 | C17: =IF(SUMIF(elek_kental_bouwj_2021!$B$2:$B$10005,A17,elek_kental_bouwj_2021!$D$2:$D$10005)>0,SUMIF(elek_kental_bouwj_2021!$B$2:$B$10005,A17,elek_kental_bouwj_2021!$D$2:$D$10005),"") -> 4773 | D17: =IF(SUMIF(elek_kental_opp_2021!$B$2:$B$10006,A17,elek_kental_opp_2021!$D$2:$D$10006)>0,SUMIF(elek_kental_opp_2021!$B$2:$B$10006,A17,elek_kental_opp_2021!$D$2:$D$10006),"") -> 4773 | E17: =IF(SUMIF(elek_kental_subsets_2021!$B$2:$B$10017,A17,elek_kental_subsets_2021!$D$2:$D$10017)>0,SUMIF(elek_kental_subsets_2021!$B$2:$B$10017,A17,elek_kental_subsets_2021!$D$2:$D$10017),"") -> 4773 | F17: =IF(SUMIF(elek_kental_diensten_2021!$B$2:$B$10000,A17,elek_kental_diensten_2021!$C$2:$C$10000)>0,SUMIF(elek_kental_diensten_2021!$B$2:$B$10000,A17,elek_kental_diensten_2021!$C$2:$C$10000),"") -> 4312 | G17: =IF(SUMIF(zonnestroom_kentallen_2021!$B$2:$B$10000,A17,zonnestroom_kentallen_2021!$C$2:$C$10000)>0,SUMIF(zonnestroom_kentallen_2021!$B$2:$B$10000,A17,zonnestroom_kentallen_2021!$C$2:$C$10000),"") -> 4773 | H17: =IF(SUMIF(gas_kental_2021!$B$2:$B$10000,A17,gas_kental_2021!$C$2:$C$10000)>0,SUMIF(gas_kental_2021!$B$2:$B$10000,A17,gas_kental_2021!$C$2:$C$10000),"") -> 4449 | I17: =IF(SUMIF(gas_kental_bouwj_2021!$B$2:$B$10003,A17,gas_kental_bouwj_2021!$D$2:$D$10003)>0,SUMIF(gas_kental_bouwj_2021!$B$2:$B$10003,A17,gas_kental_bouwj_2021!$D$2:$D$10003),"") -> 4449 | J17: =IF(SUMIF(gas_kental_opp_2021!$B$2:$B$10008,A17,gas_kental_opp_2021!$D$2:$D$10008)>0,SUMIF(gas_kental_opp_2021!$B$2:$B$10008,A17,gas_kental_opp_2021!$D$2:$D$10008),"") -> 4449 | K17: =IF(SUMIF(gas_kental_diensten_2021!$B$2:$B$10000,A17,gas_kental_diensten_2021!$C$2:$C$10000)>0,SUMIF(gas_kental_diensten_2021!$B$2:$B$10000,A17,gas_kental_diensten_2021!$C$2:$C$10000),"") -> 4041
A18: Bedrijfshal algemeen (geen LISA-informatie) | B18: =IF(SUMIF(elek_kental_2021!$B$2:$B$10000,A18,elek_kental_2021!$C$2:$C$10000)>0,SUMIF(elek_kental_2021!$B$2:$B$10000,A18,elek_kental_2021!$C$2:$C$10000),"") -> 18438 | C18: =IF(SUMIF(elek_kental_bouwj_2021!$B$2:$B$10005,A18,elek_kental_bouwj_2021!$D$2:$D$10005)>0,SUMIF(elek_kental_bouwj_2021!$B$2:$B$10005,A18,elek_kental_bouwj_2021!$D$2:$D$10005),"") -> 18438 | D18: =IF(SUMIF(elek_kental_opp_2021!$B$2:$B$10006,A18,elek_kental_opp_2021!$D$2:$D$10006)>0,SUMIF(elek_kental_opp_2021!$B$2:$B$10006,A18,elek_kental_opp_2021!$D$2:$D$10006),"") -> 18438 | E18: =IF(SUMIF(elek_kental_subsets_2021!$B$2:$B$10017,A18,elek_kental_subsets_2021!$D$2:$D$10017)>0,SUMIF(elek_kental_subsets_2021!$B$2:$B$10017,A18,elek_kental_subsets_2021!$D$2:$D$10017),"") -> 18438 | F18: =IF(SUMIF(elek_kental_diensten_2021!$B$2:$B$10000,A18,elek_kental_diensten_2021!$C$2:$C$10000)>0,SUMIF(elek_kental_diensten_2021!$B$2:$B$10000,A18,elek_kental_diensten_2021!$C$2:$C$10000),"") -> 10521 | G18: =IF(SUMIF(zonnestroom_kentallen_2021!$B$2:$B$10000,A18,zonnestroom_kentallen_2021!$C$2:$C$10000)>0,SUMIF(zonnestroom_kentallen_2021!$B$2:$B$10000,A18,zonnestroom_kentallen_2021!$C$2:$C$10000),"") -> 18438 | H18: =IF(SUMIF(gas_kental_2021!$B$2:$B$10000,A18,gas_kental_2021!$C$2:$C$10000)>0,SUMIF(gas_kental_2021!$B$2:$B$10000,A18,gas_kental_2021!$C$2:$C$10000),"") -> 18048 | I18: =IF(SUMIF(gas_kental_bouwj_2021!$B$2:$B$10003,A18,gas_kental_bouwj_2021!$D$2:$D$10003)>0,SUMIF(gas_kental_bouwj_2021!$B$2:$B$10003,A18,gas_kental_bouwj_2021!$D$2:$D$10003),"") -> 18048 | J18: =IF(SUMIF(gas_kental_opp_2021!$B$2:$B$10008,A18,gas_kental_opp_2021!$D$2:$D$10008)>0,SUMIF(gas_kental_opp_2021!$B$2:$B$10008,A18,gas_kental_opp_2021!$D$2:$D$10008),"") -> 18048 | K18: =IF(SUMIF(gas_kental_diensten_2021!$B$2:$B$10000,A18,gas_kental_diensten_2021!$C$2:$C$10000)>0,SUMIF(gas_kental_diensten_2021!$B$2:$B$10000,A18,gas_kental_diensten_2021!$C$2:$C$10000),"") -> 10407
A19: Bedrijfshal algemeen (met LISA-informatie) | B19: =IF(SUMIF(elek_kental_2021!$B$2:$B$10000,A19,elek_kental_2021!$C$2:$C$10000)>0,SUMIF(elek_kental_2021!$B$2:$B$10000,A19,elek_kental_2021!$C$2:$C$10000),"") -> 12238 | C19: =IF(SUMIF(elek_kental_bouwj_2021!$B$2:$B$10005,A19,elek_kental_bouwj_2021!$D$2:$D$10005)>0,SUMIF(elek_kental_bouwj_2021!$B$2:$B$10005,A19,elek_kental_bouwj_2021!$D$2:$D$10005),"") -> 12238 | D19: =IF(SUMIF(elek_kental_opp_2021!$B$2:$B$10006,A19,elek_kental_opp_2021!$D$2:$D$10006)>0,SUMIF(elek_kental_opp_2021!$B$2:$B$10006,A19,elek_kental_opp_2021!$D$2:$D$10006),"") -> 12238 | E19: =IF(SUMIF(elek_kental_subsets_2021!$B$2:$B$10017,A19,elek_kental_subsets_2021!$D$2:$D$10017)>0,SUMIF(elek_kental_subsets_2021!$B$2:$B$10017,A19,elek_kental_subsets_2021!$D$2:$D$10017),"") -> 12238 | F19: =IF(SUMIF(elek_kental_diensten_2021!$B$2:$B$10000,A19,elek_kental_diensten_2021!$C$2:$C$10000)>0,SUMIF(elek_kental_diensten_2021!$B$2:$B$10000,A19,elek_kental_diensten_2021!$C$2:$C$10000),"") -> 8598 | G19: =IF(SUMIF(zonnestroom_kentallen_2021!$B$2:$B$10000,A19,zonnestroom_kentallen_2021!$C$2:$C$10000)>0,SUMIF(zonnestroom_kentallen_2021!$B$2:$B$10000,A19,zonnestroom_kentallen_2021!$C$2:$C$10000),"") -> 12238 | H19: =IF(SUMIF(gas_kental_2021!$B$2:$B$10000,A19,gas_kental_2021!$C$2:$C$10000)>0,SUMIF(gas_kental_2021!$B$2:$B$10000,A19,gas_kental_2021!$C$2:$C$10000),"") -> 11230 | I19: =IF(SUMIF(gas_kental_bouwj_2021!$B$2:$B$10003,A19,gas_kental_bouwj_2021!$D$2:$D$10003)>0,SUMIF(gas_kental_bouwj_2021!$B$2:$B$10003,A19,gas_kental_bouwj_2021!$D$2:$D$10003),"") -> 11230 | J19: =IF(SUMIF(gas_kental_opp_2021!$B$2:$B$10008,A19,gas_kental_opp_2021!$D$2:$D$10008)>0,SUMIF(gas_kental_opp_2021!$B$2:$B$10008,A19,gas_kental_opp_2021!$D$2:$D$10008),"") -> 11230 | K19: =IF(SUMIF(gas_kental_diensten_2021!$B$2:$B$10000,A19,gas_kental_diensten_2021!$C$2:$C$10000)>0,SUMIF(gas_kental_diensten_2021!$B$2:$B$10000,A19,gas_kental_diensten_2021!$C$2:$C$10000),"") -> 7824
A20: Bedrijfshal met logistieke activiteiten | B20: =IF(SUMIF(elek_kental_2021!$B$2:$B$10000,A20,elek_kental_2021!$C$2:$C$10000)>0,SUMIF(elek_kental_2021!$B$2:$B$10000,A20,elek_kental_2021!$C$2:$C$10000),"") -> 5497 | C20: =IF(SUMIF(elek_kental_bouwj_2021!$B$2:$B$10005,A20,elek_kental_bouwj_2021!$D$2:$D$10005)>0,SUMIF(elek_kental_bouwj_2021!$B$2:$B$10005,A20,elek_kental_bouwj_2021!$D$2:$D$10005),"") -> 5497 | D20: =IF(SUMIF(elek_kental_opp_2021!$B$2:$B$10006,A20,elek_kental_opp_2021!$D$2:$D$10006)>0,SUMIF(elek_kental_opp_2021!$B$2:$B$10006,A20,elek_kental_opp_2021!$D$2:$D$10006),"") -> 5497 | E20: =IF(SUMIF(elek_kental_subsets_2021!$B$2:$B$10017,A20,elek_kental_subsets_2021!$D$2:$D$10017)>0,SUMIF(elek_kental_subsets_2021!$B$2:$B$10017,A20,elek_kental_subsets_2021!$D$2:$D$10017),"") -> 5497 | F20: =IF(SUMIF(elek_kental_diensten_2021!$B$2:$B$10000,A20,elek_kental_diensten_2021!$C$2:$C$10000)>0,SUMIF(elek_kental_diensten_2021!$B$2:$B$10000,A20,elek_kental_diensten_2021!$C$2:$C$10000),"") -> 2243 | G20: =IF(SUMIF(zonnestroom_kentallen_2021!$B$2:$B$10000,A20,zonnestroom_kentallen_2021!$C$2:$C$10000)>0,SUMIF(zonnestroom_kentallen_2021!$B$2:$B$10000,A20,zonnestroom_kentallen_2021!$C$2:$C$10000),"") -> 5497 | H20: =IF(SUMIF(gas_kental_2021!$B$2:$B$10000,A20,gas_kental_2021!$C$2:$C$10000)>0,SUMIF(gas_kental_2021!$B$2:$B$10000,A20,gas_kental_2021!$C$2:$C$10000),"") -> 4940 | I20: =IF(SUMIF(gas_kental_bouwj_2021!$B$2:$B$10003,A20,gas_kental_bouwj_2021!$D$2:$D$10003)>0,SUMIF(gas_kental_bouwj_2021!$B$2:$B$10003,A20,gas_kental_bouwj_2021!$D$2:$D$10003),"") -> 4940 | J20: =IF(SUMIF(gas_kental_opp_2021!$B$2:$B$10008,A20,gas_kental_opp_2021!$D$2:$D$10008)>0,SUMIF(gas_kental_opp_2021!$B$2:$B$10008,A20,gas_kental_opp_2021!$D$2:$D$10008),"") -> 4940 | K20: =IF(SUMIF(gas_kental_diensten_2021!$B$2:$B$10000,A20,gas_kental_diensten_2021!$C$2:$C$10000)>0,SUMIF(gas_kental_diensten_2021!$B$2:$B$10000,A20,gas_kental_diensten_2021!$C$2:$C$10000),"") -> 2015
A21: Bedrijfshal met maakindustrie en andere economische activiteiten | B21: =IF(SUMIF(elek_kental_2021!$B$2:$B$10000,A21,elek_kental_2021!$C$2:$C$10000)>0,SUMIF(elek_kental_2021!$B$2:$B$10000,A21,elek_kental_2021!$C$2:$C$10000),"") -> 4886 | C21: =IF(SUMIF(elek_kental_bouwj_2021!$B$2:$B$10005,A21,elek_kental_bouwj_2021!$D$2:$D$10005)>0,SUMIF(elek_kental_bouwj_2021!$B$2:$B$10005,A21,elek_kental_bouwj_2021!$D$2:$D$10005),"") -> 4886 | D21: =IF(SUMIF(elek_kental_opp_2021!$B$2:$B$10006,A21,elek_kental_opp_2021!$D$2:$D$10006)>0,SUMIF(elek_kental_opp_2021!$B$2:$B$10006,A21,elek_kental_opp_2021!$D$2:$D$10006),"") -> 4886 | E21: =IF(SUMIF(elek_kental_subsets_2021!$B$2:$B$10017,A21,elek_kental_subsets_2021!$D$2:$D$10017)>0,SUMIF(elek_kental_subsets_2021!$B$2:$B$10017,A21,elek_kental_subsets_2021!$D$2:$D$10017),"") -> 4886 | F21: =IF(SUMIF(elek_kental_diensten_2021!$B$2:$B$10000,A21,elek_kental_diensten_2021!$C$2:$C$10000)>0,SUMIF(elek_kental_diensten_2021!$B$2:$B$10000,A21,elek_kental_diensten_2021!$C$2:$C$10000),"") -> 1665 | G21: =IF(SUMIF(zonnestroom_kentallen_2021!$B$2:$B$10000,A21,zonnestroom_kentallen_2021!$C$2:$C$10000)>0,SUMIF(zonnestroom_kentallen_2021!$B$2:$B$10000,A21,zonnestroom_kentallen_2021!$C$2:$C$10000),"") -> 4886 | H21: =IF(SUMIF(gas_kental_2021!$B$2:$B$10000,A21,gas_kental_2021!$C$2:$C$10000)>0,SUMIF(gas_kental_2021!$B$2:$B$10000,A21,gas_kental_2021!$C$2:$C$10000),"") -> 4569 | I21: =IF(SUMIF(gas_kental_bouwj_2021!$B$2:$B$10003,A21,gas_kental_bouwj_2021!$D$2:$D$10003)>0,SUMIF(gas_kental_bouwj_2021!$B$2:$B$10003,A21,gas_kental_bouwj_2021!$D$2:$D$10003),"") -> 4569 | J21: =IF(SUMIF(gas_kental_opp_2021!$B$2:$B$10008,A21,gas_kental_opp_2021!$D$2:$D$10008)>0,SUMIF(gas_kental_opp_2021!$B$2:$B$10008,A21,gas_kental_opp_2021!$D$2:$D$10008),"") -> 4569 | K21: =IF(SUMIF(gas_kental_diensten_2021!$B$2:$B$10000,A21,gas_kental_diensten_2021!$C$2:$C$10000)>0,SUMIF(gas_kental_diensten_2021!$B$2:$B$10000,A21,gas_kental_diensten_2021!$C$2:$C$10000),"") -> 1560
A22: Bedrijfshal met maakindustrie en logistieke activiteiten | B22: =IF(SUMIF(elek_kental_2021!$B$2:$B$10000,A22,elek_kental_2021!$C$2:$C$10000)>0,SUMIF(elek_kental_2021!$B$2:$B$10000,A22,elek_kental_2021!$C$2:$C$10000),"") -> 10463 | C22: =IF(SUMIF(elek_kental_bouwj_2021!$B$2:$B$10005,A22,elek_kental_bouwj_2021!$D$2:$D$10005)>0,SUMIF(elek_kental_bouwj_2021!$B$2:$B$10005,A22,elek_kental_bouwj_2021!$D$2:$D$10005),"") -> 10463 | D22: =IF(SUMIF(elek_kental_opp_2021!$B$2:$B$10006,A22,elek_kental_opp_2021!$D$2:$D$10006)>0,SUMIF(elek_kental_opp_2021!$B$2:$B$10006,A22,elek_kental_opp_2021!$D$2:$D$10006),"") -> 10463 | E22: =IF(SUMIF(elek_kental_subsets_2021!$B$2:$B$10017,A22,elek_kental_subsets_2021!$D$2:$D$10017)>0,SUMIF(elek_kental_subsets_2021!$B$2:$B$10017,A22,elek_kental_subsets_2021!$D$2:$D$10017),"") -> 10463 | F22: =IF(SUMIF(elek_kental_diensten_2021!$B$2:$B$10000,A22,elek_kental_diensten_2021!$C$2:$C$10000)>0,SUMIF(elek_kental_diensten_2021!$B$2:$B$10000,A22,elek_kental_diensten_2021!$C$2:$C$10000),"") -> 6664 | G22: =IF(SUMIF(zonnestroom_kentallen_2021!$B$2:$B$10000,A22,zonnestroom_kentallen_2021!$C$2:$C$10000)>0,SUMIF(zonnestroom_kentallen_2021!$B$2:$B$10000,A22,zonnestroom_kentallen_2021!$C$2:$C$10000),"") -> 10463 | H22: =IF(SUMIF(gas_kental_2021!$B$2:$B$10000,A22,gas_kental_2021!$C$2:$C$10000)>0,SUMIF(gas_kental_2021!$B$2:$B$10000,A22,gas_kental_2021!$C$2:$C$10000),"") -> 9692 | I22: =IF(SUMIF(gas_kental_bouwj_2021!$B$2:$B$10003,A22,gas_kental_bouwj_2021!$D$2:$D$10003)>0,SUMIF(gas_kental_bouwj_2021!$B$2:$B$10003,A22,gas_kental_bouwj_2021!$D$2:$D$10003),"") -> 9692 | J22: =IF(SUMIF(gas_kental_opp_2021!$B$2:$B$10008,A22,gas_kental_opp_2021!$D$2:$D$10008)>0,SUMIF(gas_kental_opp_2021!$B$2:$B$10008,A22,gas_kental_opp_2021!$D$2:$D$10008),"") -> 9692 | K22: =IF(SUMIF(gas_kental_diensten_2021!$B$2:$B$10000,A22,gas_kental_diensten_2021!$C$2:$C$10000)>0,SUMIF(gas_kental_diensten_2021!$B$2:$B$10000,A22,gas_kental_diensten_2021!$C$2:$C$10000),"") -> 6146
A23: Bedrijfshal uitsluitend maakindustrie | B23: =IF(SUMIF(elek_kental_2021!$B$2:$B$10000,A23,elek_kental_2021!$C$2:$C$10000)>0,SUMIF(elek_kental_2021!$B$2:$B$10000,A23,elek_kental_2021!$C$2:$C$10000),"") -> 19004 | C23: =IF(SUMIF(elek_kental_bouwj_2021!$B$2:$B$10005,A23,elek_kental_bouwj_2021!$D$2:$D$10005)>0,SUMIF(elek_kental_bouwj_2021!$B$2:$B$10005,A23,elek_kental_bouwj_2021!$D$2:$D$10005),"") -> 19004 | D23: =IF(SUMIF(elek_kental_opp_2021!$B$2:$B$10006,A23,elek_kental_opp_2021!$D$2:$D$10006)>0,SUMIF(elek_kental_opp_2021!$B$2:$B$10006,A23,elek_kental_opp_2021!$D$2:$D$10006),"") -> 19004 | E23: =IF(SUMIF(elek_kental_subsets_2021!$B$2:$B$10017,A23,elek_kental_subsets_2021!$D$2:$D$10017)>0,SUMIF(elek_kental_subsets_2021!$B$2:$B$10017,A23,elek_kental_subsets_2021!$D$2:$D$10017),"") -> 19004 | F23: =IF(SUMIF(elek_kental_diensten_2021!$B$2:$B$10000,A23,elek_kental_diensten_2021!$C$2:$C$10000)>0,SUMIF(elek_kental_diensten_2021!$B$2:$B$10000,A23,elek_kental_diensten_2021!$C$2:$C$10000),"") -> 7235 | G23: =IF(SUMIF(zonnestroom_kentallen_2021!$B$2:$B$10000,A23,zonnestroom_kentallen_2021!$C$2:$C$10000)>0,SUMIF(zonnestroom_kentallen_2021!$B$2:$B$10000,A23,zonnestroom_kentallen_2021!$C$2:$C$10000),"") -> 19004 | H23: =IF(SUMIF(gas_kental_2021!$B$2:$B$10000,A23,gas_kental_2021!$C$2:$C$10000)>0,SUMIF(gas_kental_2021!$B$2:$B$10000,A23,gas_kental_2021!$C$2:$C$10000),"") -> 17857 | I23: =IF(SUMIF(gas_kental_bouwj_2021!$B$2:$B$10003,A23,gas_kental_bouwj_2021!$D$2:$D$10003)>0,SUMIF(gas_kental_bouwj_2021!$B$2:$B$10003,A23,gas_kental_bouwj_2021!$D$2:$D$10003),"") -> 17857 | J23: =IF(SUMIF(gas_kental_opp_2021!$B$2:$B$10008,A23,gas_kental_opp_2021!$D$2:$D$10008)>0,SUMIF(gas_kental_opp_2021!$B$2:$B$10008,A23,gas_kental_opp_2021!$D$2:$D$10008),"") -> 17857 | K23: =IF(SUMIF(gas_kental_diensten_2021!$B$2:$B$10000,A23,gas_kental_diensten_2021!$C$2:$C$10000)>0,SUMIF(gas_kental_diensten_2021!$B$2:$B$10000,A23,gas_kental_diensten_2021!$C$2:$C$10000),"") -> 6680
A24: Bedrijfswoning | B24: =IF(SUMIF(elek_kental_2021!$B$2:$B$10000,A24,elek_kental_2021!$C$2:$C$10000)>0,SUMIF(elek_kental_2021!$B$2:$B$10000,A24,elek_kental_2021!$C$2:$C$10000),"") -> 67855 | C24: =IF(SUMIF(elek_kental_bouwj_2021!$B$2:$B$10005,A24,elek_kental_bouwj_2021!$D$2:$D$10005)>0,SUMIF(elek_kental_bouwj_2021!$B$2:$B$10005,A24,elek_kental_bouwj_2021!$D$2:$D$10005),"") -> 67855 | D24: =IF(SUMIF(elek_kental_opp_2021!$B$2:$B$10006,A24,elek_kental_opp_2021!$D$2:$D$10006)>0,SUMIF(elek_kental_opp_2021!$B$2:$B$10006,A24,elek_kental_opp_2021!$D$2:$D$10006),"") -> 67855 | E24: =IF(SUMIF(elek_kental_subsets_2021!$B$2:$B$10017,A24,elek_kental_subsets_2021!$D$2:$D$10017)>0,SUMIF(elek_kental_subsets_2021!$B$2:$B$10017,A24,elek_kental_subsets_2021!$D$2:$D$10017),"") | F24: =IF(SUMIF(elek_kental_diensten_2021!$B$2:$B$10000,A24,elek_kental_diensten_2021!$C$2:$C$10000)>0,SUMIF(elek_kental_diensten_2021!$B$2:$B$10000,A24,elek_kental_diensten_2021!$C$2:$C$10000),"") -> 9054 | G24: =IF(SUMIF(zonnestroom_kentallen_2021!$B$2:$B$10000,A24,zonnestroom_kentallen_2021!$C$2:$C$10000)>0,SUMIF(zonnestroom_kentallen_2021!$B$2:$B$10000,A24,zonnestroom_kentallen_2021!$C$2:$C$10000),"") -> 67855 | H24: =IF(SUMIF(gas_kental_2021!$B$2:$B$10000,A24,gas_kental_2021!$C$2:$C$10000)>0,SUMIF(gas_kental_2021!$B$2:$B$10000,A24,gas_kental_2021!$C$2:$C$10000),"") -> 64226 | I24: =IF(SUMIF(gas_kental_bouwj_2021!$B$2:$B$10003,A24,gas_kental_bouwj_2021!$D$2:$D$10003)>0,SUMIF(gas_kental_bouwj_2021!$B$2:$B$10003,A24,gas_kental_bouwj_2021!$D$2:$D$10003),"") -> 64226 | J24: =IF(SUMIF(gas_kental_opp_2021!$B$2:$B$10008,A24,gas_kental_opp_2021!$D$2:$D$10008)>0,SUMIF(gas_kental_opp_2021!$B$2:$B$10008,A24,gas_kental_opp_2021!$D$2:$D$10008),"") -> 64226 | K24: =IF(SUMIF(gas_kental_diensten_2021!$B$2:$B$10000,A24,gas_kental_diensten_2021!$C$2:$C$10000)>0,SUMIF(gas_kental_diensten_2021!$B$2:$B$10000,A24,gas_kental_diensten_2021!$C$2:$C$10000),"") -> 8443
A25: Bijeenkomstgebouw (niet nader ingedeeld) | B25: =IF(SUMIF(elek_kental_2021!$B$2:$B$10000,A25,elek_kental_2021!$C$2:$C$10000)>0,SUMIF(elek_kental_2021!$B$2:$B$10000,A25,elek_kental_2021!$C$2:$C$10000),"") -> 8946 | C25: =IF(SUMIF(elek_kental_bouwj_2021!$B$2:$B$10005,A25,elek_kental_bouwj_2021!$D$2:$D$10005)>0,SUMIF(elek_kental_bouwj_2021!$B$2:$B$10005,A25,elek_kental_bouwj_2021!$D$2:$D$10005),"") -> 8946 | D25: =IF(SUMIF(elek_kental_opp_2021!$B$2:$B$10006,A25,elek_kental_opp_2021!$D$2:$D$10006)>0,SUMIF(elek_kental_opp_2021!$B$2:$B$10006,A25,elek_kental_opp_2021!$D$2:$D$10006),"") -> 8946 | E25: =IF(SUMIF(elek_kental_subsets_2021!$B$2:$B$10017,A25,elek_kental_subsets_2021!$D$2:$D$10017)>0,SUMIF(elek_kental_subsets_2021!$B$2:$B$10017,A25,elek_kental_subsets_2021!$D$2:$D$10017),"") -> 8946 | F25: =IF(SUMIF(elek_kental_diensten_2021!$B$2:$B$10000,A25,elek_kental_diensten_2021!$C$2:$C$10000)>0,SUMIF(elek_kental_diensten_2021!$B$2:$B$10000,A25,elek_kental_diensten_2021!$C$2:$C$10000),"") -> 8129 | G25: =IF(SUMIF(zonnestroom_kentallen_2021!$B$2:$B$10000,A25,zonnestroom_kentallen_2021!$C$2:$C$10000)>0,SUMIF(zonnestroom_kentallen_2021!$B$2:$B$10000,A25,zonnestroom_kentallen_2021!$C$2:$C$10000),"") -> 8946 | H25: =IF(SUMIF(gas_kental_2021!$B$2:$B$10000,A25,gas_kental_2021!$C$2:$C$10000)>0,SUMIF(gas_kental_2021!$B$2:$B$10000,A25,gas_kental_2021!$C$2:$C$10000),"") -> 9255 | I25: =IF(SUMIF(gas_kental_bouwj_2021!$B$2:$B$10003,A25,gas_kental_bouwj_2021!$D$2:$D$10003)>0,SUMIF(gas_kental_bouwj_2021!$B$2:$B$10003,A25,gas_kental_bouwj_2021!$D$2:$D$10003),"") -> 9255 | J25: =IF(SUMIF(gas_kental_opp_2021!$B$2:$B$10008,A25,gas_kental_opp_2021!$D$2:$D$10008)>0,SUMIF(gas_kental_opp_2021!$B$2:$B$10008,A25,gas_kental_opp_2021!$D$2:$D$10008),"") -> 9255 | K25: =IF(SUMIF(gas_kental_diensten_2021!$B$2:$B$10000,A25,gas_kental_diensten_2021!$C$2:$C$10000)>0,SUMIF(gas_kental_diensten_2021!$B$2:$B$10000,A25,gas_kental_diensten_2021!$C$2:$C$10000),"") -> 8424
A26: Campusgebouw | B26: =IF(SUMIF(elek_kental_2021!$B$2:$B$10000,A26,elek_kental_2021!$C$2:$C$10000)>0,SUMIF(elek_kental_2021!$B$2:$B$10000,A26,elek_kental_2021!$C$2:$C$10000),"") -> 105 | C26: =IF(SUMIF(elek_kental_bouwj_2021!$B$2:$B$10005,A26,elek_kental_bouwj_2021!$D$2:$D$10005)>0,SUMIF(elek_kental_bouwj_2021!$B$2:$B$10005,A26,elek_kental_bouwj_2021!$D$2:$D$10005),"") -> 105 | D26: =IF(SUMIF(elek_kental_opp_2021!$B$2:$B$10006,A26,elek_kental_opp_2021!$D$2:$D$10006)>0,SUMIF(elek_kental_opp_2021!$B$2:$B$10006,A26,elek_kental_opp_2021!$D$2:$D$10006),"") -> 105 | E26: =IF(SUMIF(elek_kental_subsets_2021!$B$2:$B$10017,A26,elek_kental_subsets_2021!$D$2:$D$10017)>0,SUMIF(elek_kental_subsets_2021!$B$2:$B$10017,A26,elek_kental_subsets_2021!$D$2:$D$10017),"") | F26: =IF(SUMIF(elek_kental_diensten_2021!$B$2:$B$10000,A26,elek_kental_diensten_2021!$C$2:$C$10000)>0,SUMIF(elek_kental_diensten_2021!$B$2:$B$10000,A26,elek_kental_diensten_2021!$C$2:$C$10000),"") -> 75 | G26: =IF(SUMIF(zonnestroom_kentallen_2021!$B$2:$B$10000,A26,zonnestroom_kentallen_2021!$C$2:$C$10000)>0,SUMIF(zonnestroom_kentallen_2021!$B$2:$B$10000,A26,zonnestroom_kentallen_2021!$C$2:$C$10000),"") -> 105 | H26: =IF(SUMIF(gas_kental_2021!$B$2:$B$10000,A26,gas_kental_2021!$C$2:$C$10000)>0,SUMIF(gas_kental_2021!$B$2:$B$10000,A26,gas_kental_2021!$C$2:$C$10000),"") -> 99 | I26: =IF(SUMIF(gas_kental_bouwj_2021!$B$2:$B$10003,A26,gas_kental_bouwj_2021!$D$2:$D$10003)>0,SUMIF(gas_kental_bouwj_2021!$B$2:$B$10003,A26,gas_kental_bouwj_2021!$D$2:$D$10003),"") -> 99 | J26: =IF(SUMIF(gas_kental_opp_2021!$B$2:$B$10008,A26,gas_kental_opp_2021!$D$2:$D$10008)>0,SUMIF(gas_kental_opp_2021!$B$2:$B$10008,A26,gas_kental_opp_2021!$D$2:$D$10008),"") -> 99 | K26: =IF(SUMIF(gas_kental_diensten_2021!$B$2:$B$10000,A26,gas_kental_diensten_2021!$C$2:$C$10000)>0,SUMIF(gas_kental_diensten_2021!$B$2:$B$10000,A26,gas_kental_diensten_2021!$C$2:$C$10000),"") -> 71
A27: Cultuurhuis | B27: =IF(SUMIF(elek_kental_2021!$B$2:$B$10000,A27,elek_kental_2021!$C$2:$C$10000)>0,SUMIF(elek_kental_2021!$B$2:$B$10000,A27,elek_kental_2021!$C$2:$C$10000),"") -> 568 | C27: =IF(SUMIF(elek_kental_bouwj_2021!$B$2:$B$10005,A27,elek_kental_bouwj_2021!$D$2:$D$10005)>0,SUMIF(elek_kental_bouwj_2021!$B$2:$B$10005,A27,elek_kental_bouwj_2021!$D$2:$D$10005),"") -> 568 | D27: =IF(SUMIF(elek_kental_opp_2021!$B$2:$B$10006,A27,elek_kental_opp_2021!$D$2:$D$10006)>0,SUMIF(elek_kental_opp_2021!$B$2:$B$10006,A27,elek_kental_opp_2021!$D$2:$D$10006),"") -> 568 | E27: =IF(SUMIF(elek_kental_subsets_2021!$B$2:$B$10017,A27,elek_kental_subsets_2021!$D$2:$D$10017)>0,SUMIF(elek_kental_subsets_2021!$B$2:$B$10017,A27,elek_kental_subsets_2021!$D$2:$D$10017),"") | F27: =IF(SUMIF(elek_kental_diensten_2021!$B$2:$B$10000,A27,elek_kental_diensten_2021!$C$2:$C$10000)>0,SUMIF(elek_kental_diensten_2021!$B$2:$B$10000,A27,elek_kental_diensten_2021!$C$2:$C$10000),"") -> 474 | G27: =IF(SUMIF(zonnestroom_kentallen_2021!$B$2:$B$10000,A27,zonnestroom_kentallen_2021!$C$2:$C$10000)>0,SUMIF(zonnestroom_kentallen_2021!$B$2:$B$10000,A27,zonnestroom_kentallen_2021!$C$2:$C$10000),"") -> 568 | H27: =IF(SUMIF(gas_kental_2021!$B$2:$B$10000,A27,gas_kental_2021!$C$2:$C$10000)>0,SUMIF(gas_kental_2021!$B$2:$B$10000,A27,gas_kental_2021!$C$2:$C$10000),"") -> 540 | I27: =IF(SUMIF(gas_kental_bouwj_2021!$B$2:$B$10003,A27,gas_kental_bouwj_2021!$D$2:$D$10003)>0,SUMIF(gas_kental_bouwj_2021!$B$2:$B$10003,A27,gas_kental_bouwj_2021!$D$2:$D$10003),"") -> 540 | J27: =IF(SUMIF(gas_kental_opp_2021!$B$2:$B$10008,A27,gas_kental_opp_2021!$D$2:$D$10008)>0,SUMIF(gas_kental_opp_2021!$B$2:$B$10008,A27,gas_kental_opp_2021!$D$2:$D$10008),"") -> 540 | K27: =IF(SUMIF(gas_kental_diensten_2021!$B$2:$B$10000,A27,gas_kental_diensten_2021!$C$2:$C$10000)>0,SUMIF(gas_kental_diensten_2021!$B$2:$B$10000,A27,gas_kental_diensten_2021!$C$2:$C$10000),"") -> 453
... A80: Zwembad | B80: =IF(SUMIF(elek_kental_2021!$B$2:$B$10000,A80,elek_kental_2021!$C$2:$C$10000)>0,SUMIF(elek_kental_2021!$B$2:$B$10000,A80,elek_kental_2021!$C$2:$C$10000),"") -> 482 | C80: =IF(SUMIF(elek_kental_bouwj_2021!$B$2:$B$10005,A80,elek_kental_bouwj_2021!$D$2:$D$10005)>0,SUMIF(elek_kental_bouwj_2021!$B$2:$B$10005,A80,elek_kental_bouwj_2021!$D$2:$D$10005),"") -> 482 | D80: =IF(SUMIF(elek_kental_opp_2021!$B$2:$B$10006,A80,elek_kental_opp_2021!$D$2:$D$10006)>0,SUMIF(elek_kental_opp_2021!$B$2:$B$10006,A80,elek_kental_opp_2021!$D$2:$D$10006),"") -> 482 | E80: =IF(SUMIF(elek_kental_subsets_2021!$B$2:$B$10017,A80,elek_kental_subsets_2021!$D$2:$D$10017)>0,SUMIF(elek_kental_subsets_2021!$B$2:$B$10017,A80,elek_kental_subsets_2021!$D$2:$D$10017),"") -> 482 | F80: =IF(SUMIF(elek_kental_diensten_2021!$B$2:$B$10000,A80,elek_kental_diensten_2021!$C$2:$C$10000)>0,SUMIF(elek_kental_diensten_2021!$B$2:$B$10000,A80,elek_kental_diensten_2021!$C$2:$C$10000),"") -> 412 | G80: =IF(SUMIF(zonnestroom_kentallen_2021!$B$2:$B$10000,A80,zonnestroom_kentallen_2021!$C$2:$C$10000)>0,SUMIF(zonnestroom_kentallen_2021!$B$2:$B$10000,A80,zonnestroom_kentallen_2021!$C$2:$C$10000),"") -> 482 | H80: =IF(SUMIF(gas_kental_2021!$B$2:$B$10000,A80,gas_kental_2021!$C$2:$C$10000)>0,SUMIF(gas_kental_2021!$B$2:$B$10000,A80,gas_kental_2021!$C$2:$C$10000),"") -> 491 | I80: =IF(SUMIF(gas_kental_bouwj_2021!$B$2:$B$10003,A80,gas_kental_bouwj_2021!$D$2:$D$10003)>0,SUMIF(gas_kental_bouwj_2021!$B$2:$B$10003,A80,gas_kental_bouwj_2021!$D$2:$D$10003),"") -> 491 | J80: =IF(SUMIF(gas_kental_opp_2021!$B$2:$B$10008,A80,gas_kental_opp_2021!$D$2:$D$10008)>0,SUMIF(gas_kental_opp_2021!$B$2:$B$10008,A80,gas_kental_opp_2021!$D$2:$D$10008),"") -> 491 | K80: =IF(SUMIF(gas_kental_diensten_2021!$B$2:$B$10000,A80,gas_kental_diensten_2021!$C$2:$C$10000)>0,SUMIF(gas_kental_diensten_2021!$B$2:$B$10000,A80,gas_kental_diensten_2021!$C$2:$C$10000),"") -> 420
