Workbook

Sheet inhoudsopgave en toelichting
C1: Energiekentallen Utiliteitsbouw
C4: Project details
D6: Project naam | E6: Energiekentallen Utiliteitsgebouwen
D7: Datum | E7: Augustus 2026
D8: Contactpersoon TNO | E8: Robin Niessink, robin.niessink@tno.nl
C10: Deze dataset is ontwikkeld met subsidie van de Rijksdienst voor Ondernemend Nederland (RVO)
C12: Toelichting
C14: In dit onderzoek zijn energie-kentallen voor aardgaslevering (m3/m2) en elektriciteitslevering (kWh/m2) voor de diverse gebouwtypen van de utiliteitsbouw bepaald voor zichtjaren 2020 t/m 2024. De kentallen zijn waar mogelijk uitgesplitst naar bouwjaar- en oppervlakteklassen. Voor zichtjaar 2024 is ook een opsplitsing naar energielabel gemaakt. Ook voor de groep van panden die binnen de dienstensector valt zijn kentallen ontwikkeld. Voor zonnestroom is een eigen inschatting gemaakt van de teruglevering en daarmee is het eigenverbruik berekend en vervolgens opgeteld bij de netlevering voor een betere benadering van het totaalverbruik.
C16: De kentallen voor zonnestroomproductie (kWh/m2) alsmede het aandeel panden met zonnestroomproductie (in de populatie) zijn toegevoegd in een apart tab.
C18: NB: Een lege cel betekent dat een kental niet kon worden weergegeven vanwege de daarvoor geldende privacyregels. Het aantal overgebleven waarnemingen in de onderzoekspopulatie was hiervoor te laag.
C20: Voor nadere toelichting zie TNO rapport: Energiekentallen utiliteitsgebouwen 2020 t/m 2024 - Een analyse van het energieverbruik per gebouwtype voor de ontwikkeling van benchmark energiekentallen
C22: Inhoudsopgave
C23: Tab naam | E23: Inhoud
C24: elek_kental_ | E24: kentallen elektriciteit per gebouwtype
C25: elek_kental_bouwj_ | E25: kentallen elektriciteit per gebouwtype met uitsplitsing naar bouwjaarklassen
C26: elek_kental_opp_ | E26: kentallen elektriciteit per gebouwtype met uitsplitsing naar (gebruiks)oppervlakteklassen
C27: elek_kental_diensten_ | E27: kentallen elektriciteit per gebouwtype voor panden die vallen binnen de dienstensector
C28: elek_kental_subsets_ | E28: kentallen elektriciteit per gebouwtype voor panden met onderscheid naar panden met of zonder zonnestroom en waar de teruglevering wel of niet hoger is dan de zonnestroomproductie
C29: zonnestroom_kentallen_ | E29: kentallen zonnestroomproductie per gebouwtype
C30: gas_kental_ | E30: kentallen aardgas per gebouwtype
C31: gas_kental_bouwj_ | E31: kentallen aardgas per gebouwtype met uitsplitsing naar bouwjaarklassen
C32: gas_kental_opp_ | E32: kentallen aardgas per gebouwtype met uitsplitsing naar (gebruiks)oppervlakteklassen
C33: gas_kental_diensten_ | E33: kentallen aardgas per gebouwtype voor panden die vallen binnen de dienstensector
C34: populatie_overzicht_ | E34: een overzicht met het aantal panden in de onderzoekspopulatie in het betreffende tab, waarmee onder andere is na te gaan welke categorieën ontbreken per tab
C37: Toelichting kolommen in de tabs
C39: Energiedrager | D39: Dit geeft aan of het een kental voor aardgas of elektriciteit is
C40: Gebouwtype | D40: Dit geeft aan over welk gebouwtype het gaat
C41: Aantal panden | D41: Dit geeft het aantal panden in het onderzoek aan waarover de kentallen in de categorie berekend zijn
C42: Aandeel panden per gebouwtype | D42: Het percentage van het aantal panden dat in de betreffende categorie valt per gebouwtype
C43: Gemiddelde kental (kWh/m2) | D43: Het gemiddelde kental
C44: Q1 kental (kWh/m2) | D44: Het kental voor het 1ste kwartiel
C45: Mediaan kental (kWh/m2) | D45: Het kental voor de mediaan
C46: Q3 kental (kWh/m2) | D46: Het kental voor het 3e kwartiel
C47: Gewogen gemiddelde kental (kWh/m2) | D47: Het gemiddelde kental waarbij het pandoppervlak als weegfactor is gebruikt
C48: Gemiddelde kental inclusief eigenverbruik zonnestroom (kWh/m2) | D48: Eerst is het eigenverbruik zonnestroom bepaald en vervolgens opnieuw het gemiddelde bepaald
C49: Q1 kental inclusief eigenverbruik zonnestroom (kWh/m2) | D49: Eerst is het eigenverbruik zonnestroom bepaald en vervolgens opnieuw het 1ste kwartiel
C50: Mediaan kental inclusief eigenverbruik zonnestroom (kWh/m2) | D50: Eerst is het eigenverbruik zonnestroom bepaald en vervolgens opnieuw de mediaan
... C56: Gewogen gemiddelde zonnestroomproductie kental (kWh/m2) (inclusief panden zonder zon-pv) | D56: Het gewogen gemiddelde kental voor zonnestroomproductie berekend als gemiddelde voor panden met en zonder zonnestroomproductie

Sheet gas_kental_2020
A1: Energiedrager | B1: Gebouwtype | C1: Aantal panden | D1: Gemiddelde kental (m3/m2) | E1: Q1 kental (m3/m2) | F1: Mediaan kental (m3/m2) | G1: Q3 kental (m3/m2) | H1: Gewogen gemiddelde kental (m3/m2)
A2: Gas | B2: Asielzoekerscentrum | C2: 66 | D2: 22.449333 | E2: 9.519514 | F2: 15.230675 | G2: 22.302779 | H2: 16.783758
A3: Gas | B3: Basisschool | C3: 4433 | D3: 9.1050805 | E3: 6.3166828 | F3: 8.8109394 | G3: 11.454418 | H3: 7.5174216
A4: Gas | B4: Bedrijfshal algemeen (geen LISA-informatie) | C4: 18052 | D4: 4.9624968 | E4: 1.0093407 | F4: 3.2690741 | G4: 6.6501014 | H4: 4.5928398
A5: Gas | B5: Bedrijfshal algemeen (met LISA-informatie) | C5: 11182 | D5: 5.8699071 | E5: 2.1056191 | F5: 4.2479479 | G5: 7.3378956 | H5: 4.5842718
A6: Gas | B6: Bedrijfshal met logistieke activiteiten | C6: 4911 | D6: 4.7357126 | E6: 2.1073976 | F6: 3.7342744 | G6: 5.9583745 | H6: 3.9931808
A7: Gas | B7: Bedrijfshal met maakindustrie en andere economische activiteiten | C7: 4548 | D7: 5.5286738 | E7: 2.2894115 | F7: 4.1269696 | G7: 6.8347635 | H7: 5.4798755
A8: Gas | B8: Bedrijfshal met maakindustrie en logistieke activiteiten | C8: 9644 | D8: 5.1514375 | E8: 1.9527397 | F8: 3.8834256 | G8: 6.6360732 | H8: 4.3304619
A9: Gas | B9: Bedrijfshal uitsluitend maakindustrie | C9: 17803 | D9: 7.162096 | E9: 2.3394383 | F9: 4.5743421 | G9: 8.0321835 | H9: 9.1255967
A10: Gas | B10: Bedrijfswoning | C10: 64092 | D10: 11.684486 | E10: 4.9708175 | F10: 9.137931 | G10: 14.769302 | H10: 7.7020917
A11: Gas | B11: Bijeenkomstgebouw (niet nader ingedeeld) | C11: 9178 | D11: 10.400915 | E11: 5.0911491 | F11: 8.4742445 | G11: 13.445033 | H11: 9.2011459
A12: Gas | B12: Campusgebouw | C12: 103 | D12: 10.270049 | E12: 1.673299 | F12: 8.4175189 | G12: 12.019317 | H12: 10.09119
A13: Gas | B13: Cultuurhuis | C13: 536 | D13: 9.9228769 | E13: 6.0230214 | F13: 8.9865688 | G13: 13.441217 | H13: 7.8592051
... A15: Gas | B15: Gebedshuis | C15: 4243 | D15: 9.3087916 | E15: 5.67275 | F15: 8.6907895 | G15: 12.209462 | H15: 7.2186257
A16: Gas | B16: Gebouw bij militaire inrichting | C16: 18 | D16: 1627.7558 | H16: 162.76997
A17: Gas | B17: Gebouw bij spooremplacement | C17: 84 | D17: 10.72207 | E17: 4.293267 | F17: 8.7082263 | G17: 15.479501 | H17: 6.9182158
A18: Gas | B18: Gebouw bij vliegveld of luchthaven | C18: 163 | D18: 8.0430746 | E18: 2.2845385 | F18: 5.879105 | G18: 10.263134 | H18: 8.053177
A19: Gas | B19: Gebouw in landelijk gebied voor industrie (geen landbouwactiviteiten geregistreerd) | C19: 3703 | D19: 6.4291878 | E19: 1.3430671 | F19: 3.8780488 | G19: 8.4068416 | H19: 5.814286
A20: Gas | B20: Gebouw in stedelijk gebied met industriefunctie | C20: 12358 | D20: 8.3028831 | E20: 2.1286579 | F20: 5.4693258 | G20: 10.629345 | H20: 6.6720274
A21: Gas | B21: Gebouw op snelwegverzorgingsplaats | C21: 62 | D21: 13.009072 | E21: 3.840446 | F21: 8.6185748 | G21: 16.423715 | H21: 18.592594
A22: Gas | B22: Gebouw op vakantiepark | C22: 34901 | D22: 11.262015 | E22: 6.907563 | F22: 10.335938 | G22: 14.317647 | H22: 10.702158
A23: Gas | B23: Gebouw voor landbouwactiviteiten | C23: 2101 | D23: 114.74767 | E23: 4.5045249 | F23: 12.536 | G23: 41.686732 | H23: 67.315254
A24: Gas | B24: Groothandel op bedrijventerrein | C24: 552 | D24: 4.2086058 | E24: 2.1749707 | F24: 3.6297517 | G24: 5.4132835 | H24: 3.5200415
A25: Gas | B25: Hotel (of ander groot logiesgebouw) | C25: 2380 | D25: 13.814502 | E25: 7.1886428 | F25: 12.63419 | G25: 19.097979 | H25: 11.104869
A26: Gas | B26: IJsbaan | C26: 121 | D26: 5.5863468 | E26: 2.64 | F26: 4.984375 | G26: 7.248227 | H26: 6.9486781
A27: Gas | B27: Kantoorpand algemeen | C27: 19858 | D27: 9.5756362 | E27: 5.3432432 | F27: 8.6397537 | G27: 12.786958 | H27: 7.3169265
A28: Gas | B28: Kinderopvang (gebouw) | C28: 1481 | D28: 11.670577 | E28: 7.5996593 | F28: 10.616622 | G28: 14.745968 | H28: 10.235519
A29: Gas | B29: Koelhuis | C29: 87 | D29: 4.6316807 | E29: 0.58237287 | F29: 1.730622 | G29: 5.1961928 | H29: 3.1877923
A30: Gas | B30: MBO-gebouw | C30: 11 | D30: 3.4241891 | H30: 3.1473445
A31: Gas | B31: Meergezinswoning met andere functie of combinatie van functies | C31: 17323 | D31: 10.372497 | E31: 6.4212243 | F31: 9.6280788 | G31: 13.385201 | H31: 8.4316387
A32: Gas | B32: Meergezinswoning met cafe of restaurant | C32: 6315 | D32: 15.243772 | E32: 8.6654854 | F32: 12.96945 | G32: 19.44417 | H32: 13.137442
A33: Gas | B33: Meergezinswoning met winkel | C33: 22272 | D33: 10.529353 | E33: 6.4567663 | F33: 9.671287 | G33: 13.503347 | H33: 8.8343263
A34: Gas | B34: Meergezinswoning met winkels en horeca | C34: 2494 | D34: 10.752717 | E34: 6.4479547 | F34: 9.6923993 | G34: 13.729866 | H34: 8.6638033
A35: Gas | B35: Meergezinswoning met woonzorgeenheden | C35: 248 | D35: 11.077499 | E35: 6.9633752 | F35: 10.423019 | G35: 14.563772 | H35: 10.004328
A36: Gas | B36: Middelbare school | C36: 1057 | D36: 8.2466028 | E36: 4.7246106 | F36: 7.4802863 | G36: 10.66964 | H36: 6.8485118
A37: Gas | B37: Nutsgebouw (elektriciteit) | C37: 57 | D37: 5.9590608 | E37: 1.4264825 | F37: 5.5644159 | G37: 10.233766 | H37: 3.6891004
A38: Gas | B38: Nutsgebouw (water) | C38: 246 | D38: 18.394728 | E38: 4.0616776 | F38: 10.719719 | G38: 21.704886 | H38: 9.2185562
A39: Gas | B39: Overig gebouw met maatschappelijke functie | C39: 1570 | D39: 12.582744 | E39: 5.1744678 | F39: 9.1634682 | G39: 15.015189 | H39: 11.173909
A40: Gas | B40: Overig gebouw met recreatiefunctie | C40: 75 | D40: 14.161776 | E40: 5.1547857 | F40: 9.7659079 | G40: 14.72559 | H40: 13.103219
A41: Gas | B41: Overig onderwijsgebouw | C41: 3096 | D41: 10.837349 | E41: 6.7247857 | F41: 9.8954249 | G41: 13.616501 | H41: 8.2535555
A42: Gas | B42: Overig overheidsgebouw | C42: 1072 | D42: 11.20115 | E42: 6.6605318 | F42: 9.677772 | G42: 13.654811 | H42: 8.2752808
... A46: Gas | B46: Pand met winkel en kantoor- en/of bijeenkomstfunctie | C46: 1357 | D46: 9.4685403 | E46: 3.7226667 | F46: 7.012887 | G46: 12.186885 | H46: 5.3327938
A47: Gas | B47: Penitentiaire inrichting | C47: 24 | D47: 20.809841 | F47: 16.639579 | H47: 16.753391
A48: Gas | B48: Praktijk- of zorgwoning | C48: 4813 | D48: 12.086863 | E48: 7.7030568 | F48: 10.78098 | G48: 14.978448 | H48: 11.261586
A49: Gas | B49: Productie-installatie | C49: 97 | D49: 909.34858 | E49: 9.5 | F49: 94.549123 | G49: 799.83463 | H49: 785.59029
A50: Gas | B50: Restaurant of cafégebouw | C50: 3708 | D50: 28.232284 | E50: 11.041209 | F50: 21.051732 | G50: 37.992892 | H50: 20.068705
A51: Gas | B51: School voor speciaal onderwijs | C51: 475 | D51: 9.7459245 | E51: 6.3699263 | F51: 9.104033 | G51: 12.822224 | H51: 8.6750873
A52: Gas | B52: Schoolverzamelgebouw | C52: 99 | D52: 6.7649155 | E52: 3.3956829 | F52: 6.1581818 | G52: 8.5629773 | H52: 5.9622858
A53: Gas | B53: Tuincentrum | C53: 440 | D53: 10.526432 | E53: 3.8101635 | F53: 7.0987393 | G53: 11.413237 | H53: 7.2498959
A54: Gas | B54: Vakantiewoning buiten vakantiepark | C54: 4579 | D54: 12.492194 | E54: 6.7373626 | F54: 10.704545 | G54: 16.030353 | H54: 11.104237
A55: Gas | B55: Winkelpand | C55: 19751 | D55: 10.421325 | E55: 3.7142857 | F55: 7.3733333 | G55: 13.087924 | H55: 5.7828614
A56: Gas | B56: Woning met andere functie of combinatie van functies | C56: 13308 | D56: 11.545047 | E56: 5.8396758 | F56: 9.6085267 | G56: 14.6 | H56: 8.5825758
A57: Gas | B57: Woning met cafe of restaurant | C57: 11033 | D57: 18.921551 | E57: 8.8029609 | F57: 14.769231 | G57: 24.721649 | H57: 15.428901
A58: Gas | B58: Woning met winkel | C58: 31866 | D58: 11.871769 | E58: 6.5877523 | F58: 10.058394 | G58: 14.909091 | H58: 9.4947705
A59: Gas | B59: Wooncomplex met andere functie of combinatie van functies | C59: 8052 | D59: 8.4789007 | E59: 5.4154652 | F59: 7.8688997 | G59: 11.043574 | H59: 7.1630862
... A66: Gas | B66: Zwembad | C66: 487 | D66: 47.275063 | E66: 12.730588 | F66: 31.022358 | G66: 58.944338 | H66: 32.886905

Sheet gas_kental_bouwj_2020
A1: Energiedrager | B1: Gebouwtype | C1: Bouwjaarklasse | D1: Aantal panden | E1: Aandeel panden per gebouwtype | F1: Gemiddelde kental (m3/m2) | G1: Q1 kental (m3/m2) | H1: Mediaan kental (m3/m2) | I1: Q3 kental (m3/m2) | J1: Gewogen gemiddelde kental (m3/m2)
A2: Gas | B2: Basisschool | C2: tot 1946 | D2: 430 | E2: 0.097 | F2: 10.802127 | G2: 8.1266756 | H2: 10.22228 | I2: 13.35986 | J2: 9.5632529
A3: Gas | B3: Basisschool | C3: 1946 tot 1978 | D3: 1697 | E3: 0.383 | F3: 10.323415 | G3: 7.87068 | H3: 10.021657 | I3: 12.425775 | J3: 9.1937133
A4: Gas | B4: Basisschool | C4: 1978 tot 1995 | D4: 1040 | E4: 0.235 | F4: 9.4933873 | G4: 7.1317378 | H4: 9.1079372 | I4: 11.49436 | J4: 8.3281658
A5: Gas | B5: Basisschool | C5: 1995 tot 2009 | D5: 650 | E5: 0.147 | F5: 7.8603399 | G5: 5.669198 | H5: 7.4366957 | I5: 9.5638722 | J5: 6.3339337
A6: Gas | B6: Basisschool | C6: 2009 tot 2015 | D6: 442 | E6: 0.1 | F6: 5.4793115 | G6: 2.7136116 | H6: 5.0762024 | I6: 6.8772706 | J6: 4.6886893
A7: Gas | B7: Basisschool | C7: vanaf 2015 | D7: 174 | E7: 0.039 | F7: 4.5682352 | G7: 2.0160653 | H7: 3.8519417 | I7: 5.9854527 | J7: 4.5371436
A8: Gas | B8: Bedrijfshal algemeen (geen LISA-informatie) | C8: tot 1946 | D8: 237 | E8: 0.013 | F8: 6.9090104 | G8: 1.7560976 | H8: 5.2616822 | I8: 9.4014706 | J8: 3.6087043
A9: Gas | B9: Bedrijfshal algemeen (geen LISA-informatie) | C9: 1946 tot 1978 | D9: 2629 | E9: 0.146 | F9: 5.8189588 | G9: 1.0943026 | H9: 3.6295111 | I9: 8.0251142 | J9: 5.4632918
A10: Gas | B10: Bedrijfshal algemeen (geen LISA-informatie) | C10: 1978 tot 1995 | D10: 4612 | E10: 0.255 | F10: 5.6356822 | G10: 1.4271841 | H10: 4.0232458 | I10: 7.6679954 | J10: 4.9934016
A11: Gas | B11: Bedrijfshal algemeen (geen LISA-informatie) | C11: 1995 tot 2009 | D11: 7945 | E11: 0.44 | F11: 4.420293 | G11: 0.87412096 | H11: 3.0571429 | I11: 6.0736842 | J11: 4.2930384
A12: Gas | B12: Bedrijfshal algemeen (geen LISA-informatie) | C12: 2009 tot 2015 | D12: 1543 | E12: 0.085 | F12: 3.8864173 | G12: 0.55753468 | H12: 2.6303318 | I12: 5.2324165 | J12: 4.2801659
A13: Gas | B13: Bedrijfshal algemeen (geen LISA-informatie) | C13: vanaf 2015 | D13: 1086 | E13: 0.06 | F13: 5.1010858 | G13: 0.66171719 | H13: 2.6347573 | I13: 6.0000828 | J13: 2.60454
... A55: Gas | B55: Bijeenkomstgebouw (niet nader ingedeeld) | C55: vanaf 2015 | D55: 198 | E55: 0.022 | F55: 10.290008 | G55: 3.781746 | H55: 6.2041258 | I55: 12.451671 | J55: 11.611048
A56: Gas | B56: Campusgebouw | C56: tot 1978 | D56: 30 | E56: 0.291 | F56: 11.191382 | H56: 8.9297326 | J56: 15.991876
A57: Gas | B57: Campusgebouw | C57: 1978 tot 1995 | D57: 15 | E57: 0.146 | F57: 9.782498 | J57: 5.9471479
A58: Gas | B58: Campusgebouw | C58: 1995 tot 2009 | D58: 33 | E58: 0.32 | F58: 10.991189 | H58: 8.4175189 | J58: 8.8804071
A59: Gas | B59: Campusgebouw | C59: 2009 tot 2015 | D59: 11 | E59: 0.107 | F59: 10.417181 | J59: 8.7881996
A60: Gas | B60: Campusgebouw | C60: vanaf 2015 | D60: 14 | E60: 0.136 | F60: 7.0027095 | J60: 3.8838766
A61: Gas | B61: Cultuurhuis | C61: tot 1946 | D61: 207 | E61: 0.386 | F61: 11.467382 | G61: 7.1914835 | H61: 10.971374 | I61: 15.568983 | J61: 8.4212094
A62: Gas | B62: Cultuurhuis | C62: 1946 tot 1978 | D62: 117 | E62: 0.218 | F62: 9.6985654 | G62: 6.0075686 | H62: 8.9283217 | I62: 12.297912 | J62: 8.8748457
A63: Gas | B63: Cultuurhuis | C63: 1978 tot 1995 | D63: 94 | E63: 0.175 | F63: 9.3083277 | G63: 6.3017071 | H63: 8.4810881 | I63: 11.444197 | J63: 8.2852253
A64: Gas | B64: Cultuurhuis | C64: 1995 tot 2009 | D64: 88 | E64: 0.164 | F64: 8.2465994 | G64: 5.3003408 | H64: 7.241682 | I64: 11.333313 | J64: 7.227607
A65: Gas | B65: Cultuurhuis | C65: 2009 tot 2015 | D65: 18 | E65: 0.034 | F65: 8.907162 | J65: 5.5878096
A66: Gas | B66: Cultuurhuis | C66: vanaf 2015 | D66: 12 | E66: 0.022 | F66: 4.0974477 | J66: 4.0733707
A67: Gas | B67: Gebedshuis | C67: tot 1946 | D67: 1757 | E67: 0.414 | F67: 10.015272 | G67: 5.7258182 | H67: 9.3936782 | I67: 13.646154 | J67: 6.9869912
A68: Gas | B68: Gebedshuis | C68: 1946 tot 1978 | D68: 1486 | E68: 0.35 | F68: 9.2294253 | G68: 5.9227862 | H68: 8.7825719 | I68: 11.885476 | J68: 7.7346063
A69: Gas | B69: Gebedshuis | C69: 1978 tot 1995 | D69: 534 | E69: 0.126 | F69: 8.6318183 | G69: 5.7013874 | H69: 8.1306114 | I69: 11.152451 | J69: 7.0727226
A70: Gas | B70: Gebedshuis | C70: 1995 tot 2009 | D70: 346 | E70: 0.082 | F70: 8.200866 | G70: 5.5714061 | H70: 7.7046123 | I70: 9.940902 | J70: 7.358795
A71: Gas | B71: Gebedshuis | C71: 2009 tot 2015 | D71: 88 | E71: 0.021 | F71: 6.2362843 | G71: 3.7821975 | H71: 5.3288589 | I71: 7.9893457 | J71: 6.3528078
A72: Gas | B72: Gebedshuis | C72: vanaf 2015 | D72: 32 | E72: 0.008 | F72: 5.9299977 | H72: 5.3055819 | J72: 3.5050536
A73: Gas | B73: Gebouw bij spooremplacement | C73: tot 1946 | D73: 22 | E73: 0.262 | F73: 8.2909734 | H73: 4.3170544 | J73: 6.4865549
A74: Gas | B74: Gebouw bij spooremplacement | C74: 1946 tot 1978 | D74: 16 | E74: 0.19 | F74: 17.310279 | J74: 10.389569
A75: Gas | B75: Gebouw bij spooremplacement | C75: 1978 tot 1995 | D75: 17 | E75: 0.202 | F75: 12.53982 | J75: 12.666472
A76: Gas | B76: Gebouw bij spooremplacement | C76: 1995 tot 2009 | D76: 14 | E76: 0.167 | F76: 10.148687 | J76: 6.5083761
A77: Gas | B77: Gebouw bij spooremplacement | C77: vanaf 2009 | D77: 15 | E77: 0.179 | F77: 5.735298 | J77: 2.3490324
A78: Gas | B78: Gebouw bij vliegveld of luchthaven | C78: tot 1978 | D78: 23 | E78: 0.141 | F78: 6.7642498 | H78: 4.8928323 | J78: 7.4646964
A79: Gas | B79: Gebouw bij vliegveld of luchthaven | C79: 1978 tot 1995 | D79: 68 | E79: 0.417 | F79: 7.7528084 | G79: 2.3349732 | H79: 6.3364757 | I79: 10.469694 | J79: 8.5017051
A80: Gas | B80: Gebouw bij vliegveld of luchthaven | C80: 1995 tot 2009 | D80: 51 | E80: 0.313 | F80: 9.6900826 | G80: 2.5100659 | H80: 5.8991546 | I80: 11.776233 | J80: 7.9251853
A81: Gas | B81: Gebouw bij vliegveld of luchthaven | C81: vanaf 2009 | D81: 21 | E81: 0.129 | F81: 6.3837253 | H81: 4.9388805 | J81: 7.7386284
A82: Gas | B82: Gebouw in landelijk gebied voor industrie (geen landbouwactiviteiten geregistreerd) | C82: tot 1946 | D82: 391 | E82: 0.106 | F82: 7.5662019 | G82: 1.8934558 | H82: 5.240294 | I82: 11.329396 | J82: 5.6319777
A83: Gas | B83: Gebouw in landelijk gebied voor industrie (geen landbouwactiviteiten geregistreerd) | C83: 1946 tot 1978 | D83: 1047 | E83: 0.283 | F83: 6.1481732 | G83: 1.2779628 | H83: 3.7581227 | I83: 7.9044947 | J83: 4.8255393
A84: Gas | B84: Gebouw in landelijk gebied voor industrie (geen landbouwactiviteiten geregistreerd) | C84: 1978 tot 1995 | D84: 1009 | E84: 0.272 | F84: 6.678369 | G84: 1.3376623 | H84: 3.9118852 | I84: 8.9529915 | J84: 5.7195712
A85: Gas | B85: Gebouw in landelijk gebied voor industrie (geen landbouwactiviteiten geregistreerd) | C85: 1995 tot 2009 | D85: 877 | E85: 0.237 | F85: 6.4096435 | G85: 1.3421751 | H85: 3.7909454 | I85: 8.7006579 | J85: 6.7773649
A86: Gas | B86: Gebouw in landelijk gebied voor industrie (geen landbouwactiviteiten geregistreerd) | C86: 2009 tot 2015 | D86: 238 | E86: 0.064 | F86: 5.2239322 | G86: 1.1449026 | H86: 3.0983904 | I86: 6.1923557 | J86: 5.3864587
A87: Gas | B87: Gebouw in landelijk gebied voor industrie (geen landbouwactiviteiten geregistreerd) | C87: vanaf 2015 | D87: 141 | E87: 0.038 | F87: 5.7356929 | G87: 1.3788546 | H87: 2.7555556 | I87: 6.797619 | J87: 6.9872282
A88: Gas | B88: Gebouw in stedelijk gebied met industriefunctie | C88: tot 1946 | D88: 2701 | E88: 0.219 | F88: 9.9773386 | G88: 2.5304878 | H88: 6.8294118 | I88: 13 | J88: 7.032675
A89: Gas | B89: Gebouw in stedelijk gebied met industriefunctie | C89: 1946 tot 1978 | D89: 4383 | E89: 0.355 | F89: 8.1713709 | G89: 1.9174969 | H89: 5.4049881 | I89: 10.702781 | J89: 7.6236741
A90: Gas | B90: Gebouw in stedelijk gebied met industriefunctie | C90: 1978 tot 1995 | D90: 2552 | E90: 0.207 | F90: 7.9593992 | G90: 2.2145137 | H90: 5.4166667 | I90: 10.147362 | J90: 6.3156771
A91: Gas | B91: Gebouw in stedelijk gebied met industriefunctie | C91: 1995 tot 2009 | D91: 2002 | E91: 0.162 | F91: 7.4972101 | G91: 2.319574 | H91: 5.0378797 | I91: 8.8008183 | J91: 5.7958802
A92: Gas | B92: Gebouw in stedelijk gebied met industriefunctie | C92: 2009 tot 2015 | D92: 429 | E92: 0.035 | F92: 6.0643369 | G92: 1.5625 | H92: 3.815 | I92: 6.9777778 | J92: 4.0191868
A93: Gas | B93: Gebouw in stedelijk gebied met industriefunctie | C93: vanaf 2015 | D93: 291 | E93: 0.024 | F93: 6.596968 | G93: 1.2987047 | H93: 3.6251705 | I93: 8.3606087 | J93: 6.0311281
... A105: Gas | B105: Gebouw voor landbouwactiviteiten | C105: vanaf 2015 | D105: 57 | E105: 0.027 | F105: 79.9249 | G105: 1.639485 | H105: 6.3538462 | I105: 24.528372 | J105: 41.795086
A106: Gas | B106: Groothandel op bedrijventerrein | C106: tot 1946 | D106: 11 | E106: 0.02 | F106: 2.8975706 | J106: 1.6826261
A107: Gas | B107: Groothandel op bedrijventerrein | C107: 1946 tot 1978 | D107: 116 | E107: 0.21 | F107: 4.1606453 | G107: 1.9689592 | H107: 3.5810034 | I107: 5.6702677 | J107: 3.5094034
A108: Gas | B108: Groothandel op bedrijventerrein | C108: 1978 tot 1995 | D108: 167 | E108: 0.303 | F108: 4.491116 | G108: 2.5207607 | H108: 4.0719424 | I108: 5.8141911 | J108: 3.8068587
A109: Gas | B109: Groothandel op bedrijventerrein | C109: 1995 tot 2009 | D109: 228 | E109: 0.413 | F109: 4.2498212 | G109: 2.2130887 | H109: 3.6375796 | I109: 5.3022986 | J109: 3.6141951
A110: Gas | B110: Groothandel op bedrijventerrein | C110: vanaf 2009 | D110: 30 | E110: 0.054 | F110: 2.9888878 | H110: 2.960161 | J110: 2.7060168
A111: Gas | B111: Hotel (of ander groot logiesgebouw) | C111: tot 1946 | D111: 1184 | E111: 0.497 | F111: 14.835315 | G111: 8.2230196 | H111: 14.011571 | I111: 20.270664 | J111: 12.632382
A112: Gas | B112: Hotel (of ander groot logiesgebouw) | C112: 1946 tot 1978 | D112: 471 | E112: 0.198 | F112: 14.028206 | G112: 7.5538599 | H112: 12.468571 | I112: 19.096264 | J112: 13.705064
A113: Gas | B113: Hotel (of ander groot logiesgebouw) | C113: 1978 tot 1995 | D113: 301 | E113: 0.126 | F113: 13.562477 | G113: 7.5247824 | H113: 12.126541 | I113: 17.9 | J113: 9.6028541
A114: Gas | B114: Hotel (of ander groot logiesgebouw) | C114: 1995 tot 2009 | D114: 243 | E114: 0.102 | F114: 12.196369 | G114: 6.3251201 | H114: 11.091592 | I114: 17.106017 | J114: 10.551412
A115: Gas | B115: Hotel (of ander groot logiesgebouw) | C115: 2009 tot 2015 | D115: 88 | E115: 0.037 | F115: 10.829626 | G115: 6.056567 | H115: 8.9233577 | I115: 13.546007 | J115: 8.3682316
A116: Gas | B116: Hotel (of ander groot logiesgebouw) | C116: vanaf 2015 | D116: 93 | E116: 0.039 | F116: 7.6041543 | G116: 3.7271242 | H116: 5.5792079 | I116: 8.7790834 | J116: 6.1726435
A117: Gas | B117: IJsbaan | C117: tot 1978 | D117: 23 | E117: 0.19 | F117: 5.7872367 | H117: 4.0564516 | J117: 13.89224
A118: Gas | B118: IJsbaan | C118: 1978 tot 1995 | D118: 49 | E118: 0.405 | F118: 6.0606964 | G118: 2.8928571 | H118: 5.8292683 | I118: 8.1222222 | J118: 10.401181
A119: Gas | B119: IJsbaan | C119: 1995 tot 2009 | D119: 35 | E119: 0.289 | F119: 5.4950081 | H119: 4.925 | J119: 4.0861428
A120: Gas | B120: IJsbaan | C120: vanaf 2009 | D120: 14 | E120: 0.116 | F120: 3.8244367 | J120: 3.772617
A121: Gas | B121: Kantoorpand algemeen | C121: tot 1946 | D121: 5187 | E121: 0.261 | F121: 12.127334 | G121: 8.0081312 | H121: 11.519139 | I121: 15.575362 | J121: 10.269677
A122: Gas | B122: Kantoorpand algemeen | C122: 1946 tot 1978 | D122: 3396 | E122: 0.171 | F122: 10.616964 | G122: 6.1515055 | H122: 9.8739505 | I122: 14.084664 | J122: 7.9575987
A123: Gas | B123: Kantoorpand algemeen | C123: 1978 tot 1995 | D123: 4424 | E123: 0.223 | F123: 9.1281333 | G123: 5.5261141 | H123: 8.3432514 | I123: 11.681256 | J123: 7.6913275
A124: Gas | B124: Kantoorpand algemeen | C124: 1995 tot 2009 | D124: 5738 | E124: 0.289 | F124: 7.6362602 | G124: 4.2265255 | H124: 6.8055322 | I124: 9.8787184 | J124: 6.2171032
A125: Gas | B125: Kantoorpand algemeen | C125: 2009 tot 2015 | D125: 897 | E125: 0.045 | F125: 6.1037218 | G125: 2.4880202 | H125: 4.9560341 | I125: 7.9876543 | J125: 4.770333
A126: Gas | B126: Kantoorpand algemeen | C126: vanaf 2015 | D126: 216 | E126: 0.011 | F126: 7.030243 | G126: 2.5629694 | H126: 5.3363294 | I126: 9.6010526 | J126: 4.6150644
A127: Gas | B127: Kinderopvang (gebouw) | C127: tot 1946 | D127: 264 | E127: 0.178 | F127: 13.295433 | G127: 8.757264 | H127: 12.435591 | I127: 17.127357 | J127: 12.316714
A128: Gas | B128: Kinderopvang (gebouw) | C128: 1946 tot 1978 | D128: 475 | E128: 0.321 | F128: 13.229555 | G128: 9.1141695 | H128: 12.644643 | I128: 16.232786 | J128: 10.809504
A129: Gas | B129: Kinderopvang (gebouw) | C129: 1978 tot 1995 | D129: 320 | E129: 0.216 | F129: 11.003632 | G129: 7.448561 | H129: 10.356136 | I129: 13.452004 | J129: 10.225844
A130: Gas | B130: Kinderopvang (gebouw) | C130: 1995 tot 2009 | D130: 340 | E130: 0.23 | F130: 9.7474924 | G130: 6.8324007 | H130: 9.0917485 | I130: 11.848269 | J130: 8.4357111
A131: Gas | B131: Kinderopvang (gebouw) | C131: vanaf 2009 | D131: 82 | E131: 0.055 | F131: 7.9851488 | G131: 5.4709612 | H131: 7.1969099 | I131: 10.630549 | J131: 8.3351595
A132: Gas | B132: Koelhuis | C132: tot 1978 | D132: 13 | E132: 0.149 | F132: 5.0128827 | J132: 1.5381252
A133: Gas | B133: Koelhuis | C133: 1978 tot 1995 | D133: 40 | E133: 0.46 | F133: 4.9320351 | G133: 0.61169806 | H133: 1.7999685 | I133: 5.9907781 | J133: 4.9877692
A134: Gas | B134: Koelhuis | C134: vanaf 1995 | D134: 34 | E134: 0.391 | F134: 4.1325688 | H134: 1.9060357 | J134: 2.2177301
A135: Gas | B135: Meergezinswoning met andere functie of combinatie van functies | C135: tot 1946 | D135: 11240 | E135: 0.649 | F135: 10.824775 | G135: 6.9364681 | H135: 10.127049 | I135: 13.798728 | J135: 9.2616329
A136: Gas | B136: Meergezinswoning met andere functie of combinatie van functies | C136: 1946 tot 1978 | D136: 3307 | E136: 0.191 | F136: 10.362799 | G136: 6.0746561 | H136: 9.7815884 | I136: 13.719722 | J136: 8.2952103
A137: Gas | B137: Meergezinswoning met andere functie of combinatie van functies | C137: 1978 tot 1995 | D137: 1370 | E137: 0.079 | F137: 9.3378985 | G137: 5.9383224 | H137: 8.5708509 | I137: 11.654803 | J137: 7.7104793
A138: Gas | B138: Meergezinswoning met andere functie of combinatie van functies | C138: 1995 tot 2009 | D138: 1099 | E138: 0.063 | F138: 7.9223843 | G138: 5.0906292 | H138: 7.0424772 | I138: 9.6240161 | J138: 6.241258
A139: Gas | B139: Meergezinswoning met andere functie of combinatie van functies | C139: 2009 tot 2015 | D139: 197 | E139: 0.011 | F139: 7.3816554 | G139: 4.143617 | H139: 6.2568493 | I139: 8.9063545 | J139: 5.1572021
A140: Gas | B140: Meergezinswoning met andere functie of combinatie van functies | C140: vanaf 2015 | D140: 110 | E140: 0.006 | F140: 7.1701421 | G140: 4.1577988 | H140: 6.3401389 | I140: 8.4495065 | J140: 6.251814
A141: Gas | B141: Meergezinswoning met cafe of restaurant | C141: tot 1946 | D141: 5017 | E141: 0.794 | F141: 15.434911 | G141: 8.8663102 | H141: 13.192869 | I141: 19.661538 | J141: 13.545145
A142: Gas | B142: Meergezinswoning met cafe of restaurant | C142: 1946 tot 1978 | D142: 739 | E142: 0.117 | F142: 15.631235 | G142: 8.6541404 | H142: 13.021544 | I142: 20.949319 | J142: 13.389648
A143: Gas | B143: Meergezinswoning met cafe of restaurant | C143: 1978 tot 1995 | D143: 259 | E143: 0.041 | F143: 13.817486 | G143: 7.930497 | H143: 11.587814 | I143: 16.832547 | J143: 12.168859
A144: Gas | B144: Meergezinswoning met cafe of restaurant | C144: 1995 tot 2009 | D144: 219 | E144: 0.035 | F144: 13.096 | G144: 6.9327392 | H144: 11.030675 | I144: 16.731155 | J144: 9.9573407
A145: Gas | B145: Meergezinswoning met cafe of restaurant | C145: 2009 tot 2015 | D145: 44 | E145: 0.007 | F145: 11.27538 | G145: 6.1373442 | H145: 8.9238536 | I145: 12.340168 | J145: 8.8978249
A146: Gas | B146: Meergezinswoning met cafe of restaurant | C146: vanaf 2015 | D146: 37 | E146: 0.006 | F146: 9.0031947 | H146: 8.3562152 | J146: 7.120909
A147: Gas | B147: Meergezinswoning met winkel | C147: tot 1946 | D147: 15225 | E147: 0.684 | F147: 11.169111 | G147: 7.1137931 | H147: 10.394894 | I147: 14.267507 | J147: 9.9299196
A148: Gas | B148: Meergezinswoning met winkel | C148: 1946 tot 1978 | D148: 3946 | E148: 0.177 | F148: 10.04703 | G148: 5.9813352 | H148: 9.1843255 | I148: 12.946284 | J148: 8.5530765
A149: Gas | B149: Meergezinswoning met winkel | C149: 1978 tot 1995 | D149: 1492 | E149: 0.067 | F149: 8.8762845 | G149: 5.7160983 | H149: 8.1280004 | I149: 10.980077 | J149: 6.967568
A150: Gas | B150: Meergezinswoning met winkel | C150: 1995 tot 2009 | D150: 1228 | E150: 0.055 | F150: 7.3900071 | G150: 4.8709663 | H150: 6.8148509 | I150: 8.9887977 | J150: 6.1245157
A151: Gas | B151: Meergezinswoning met winkel | C151: 2009 tot 2015 | D151: 258 | E151: 0.012 | F151: 6.4617678 | G151: 4.0966969 | H151: 5.7752403 | I151: 8.0145245 | J151: 5.6659326
A152: Gas | B152: Meergezinswoning met winkel | C152: vanaf 2015 | D152: 123 | E152: 0.006 | F152: 6.7396394 | G152: 3.9962935 | H152: 5.8013514 | I152: 8.3315987 | J152: 5.2929216
...

Sheet gas_kental_opp_2020
A1: Energiedrager | B1: Gebouwtype | C1: Oppervlakteklasse | D1: Aantal panden | E1: Aandeel panden per gebouwtype | F1: Gemiddelde kental (m3/m2) | G1: Q1 kental (m3/m2) | H1: Mediaan kental (m3/m2) | I1: Q3 kental (m3/m2) | J1: Gewogen gemiddelde kental (m3/m2)
A2: Gas | B2: Basisschool | C2: tot 250 m2 | D2: 13 | E2: 0.003 | F2: 14.914897 | J2: 15.96123
A3: Gas | B3: Basisschool | C3: 250 tot 500 m2 | D3: 107 | E3: 0.024 | F3: 14.075036 | G3: 10.75611 | H3: 13.071672 | I3: 17.383115 | J3: 13.988356
A4: Gas | B4: Basisschool | C4: 500 tot 1000 m2 | D4: 864 | E4: 0.195 | F4: 11.619082 | G4: 8.8834861 | H4: 10.972894 | I4: 13.705425 | J4: 11.518699
A5: Gas | B5: Basisschool | C5: 1000 tot 2500 m2 | D5: 2598 | E5: 0.586 | F5: 9.1133298 | G5: 6.7132364 | H5: 8.8293095 | I5: 11.18451 | J5: 8.8474233
A6: Gas | B6: Basisschool | C6: 2500 tot 5000 m2 | D6: 667 | E6: 0.15 | F6: 6.2042933 | G6: 3.8513953 | H6: 5.9505185 | I6: 8.1851324 | J6: 6.132578
A7: Gas | B7: Basisschool | C7: 5000 tot 10000 m2 | D7: 152 | E7: 0.034 | F7: 4.6256669 | G7: 2.2594106 | H7: 4.0959818 | I7: 6.6871189 | J7: 4.5775075
A8: Gas | B8: Basisschool | C8: vanaf 10000 m2 | D8: 32 | E8: 0.007 | F8: 3.3192589 | H8: 2.2342756 | J8: 3.0520732
A9: Gas | B9: Bedrijfshal algemeen (geen LISA-informatie) | C9: tot 50 m2 | D9: 175 | E9: 0.01 | F9: 12.666878 | H9: 6.5384615 | I9: 26.683415 | J9: 12.607517
A10: Gas | B10: Bedrijfshal algemeen (geen LISA-informatie) | C10: 50 tot 100 m2 | D10: 1239 | E10: 0.069 | F10: 6.0309204 | G10: 0.020408163 | H10: 2.8681319 | I10: 8.6253411 | J10: 5.9693564
A11: Gas | B11: Bedrijfshal algemeen (geen LISA-informatie) | C11: 100 tot 250 m2 | D11: 4494 | E11: 0.249 | F11: 4.6657853 | G11: 0.45365757 | H11: 3.0612932 | I11: 6.4956781 | J11: 4.6749826
A12: Gas | B12: Bedrijfshal algemeen (geen LISA-informatie) | C12: 250 tot 500 m2 | D12: 3662 | E12: 0.203 | F12: 4.8647145 | G12: 1.3155451 | H12: 3.4693846 | I12: 6.516097 | J12: 4.8706156
A13: Gas | B13: Bedrijfshal algemeen (geen LISA-informatie) | C13: 500 tot 1000 m2 | D13: 3551 | E13: 0.197 | F13: 4.9664736 | G13: 1.5404239 | H13: 3.5044643 | I13: 6.6753378 | J13: 4.9644005
A14: Gas | B14: Bedrijfshal algemeen (geen LISA-informatie) | C14: 1000 tot 2500 m2 | D14: 3102 | E14: 0.172 | F14: 4.8743487 | G14: 1.312855 | H14: 3.3689244 | I14: 6.5181508 | J14: 4.8911422
A15: Gas | B15: Bedrijfshal algemeen (geen LISA-informatie) | C15: 2500 tot 5000 m2 | D15: 1112 | E15: 0.062 | F15: 4.6968302 | G15: 0.94252585 | H15: 3.0069977 | I15: 6.6073197 | J15: 4.661416
A16: Gas | B16: Bedrijfshal algemeen (geen LISA-informatie) | C16: 5000 tot 10000 m2 | D16: 479 | E16: 0.027 | F16: 4.5672137 | G16: 0.80364606 | H16: 2.5953974 | I16: 5.5697493 | J16: 4.5478438
A17: Gas | B17: Bedrijfshal algemeen (geen LISA-informatie) | C17: vanaf 10000 m2 | D17: 238 | E17: 0.013 | F17: 3.9689385 | G17: 0.61337563 | H17: 2.0863314 | I17: 4.8785201 | J17: 3.7859631
A18: Gas | B18: Bedrijfshal algemeen (met LISA-informatie) | C18: tot 50 m2 | D18: 38 | E18: 0.003 | F18: 21.545355 | H18: 22.17674 | J18: 20.330189
A19: Gas | B19: Bedrijfshal algemeen (met LISA-informatie) | C19: 50 tot 100 m2 | D19: 370 | E19: 0.033 | F19: 9.4364351 | G19: 2.8483333 | H19: 6.9266993 | I19: 12.273214 | J19: 9.0558496
A20: Gas | B20: Bedrijfshal algemeen (met LISA-informatie) | C20: 100 tot 250 m2 | D20: 1911 | E20: 0.171 | F20: 6.4662238 | G20: 2.3895161 | H20: 4.8 | I20: 8.2715966 | J20: 6.3573892
A21: Gas | B21: Bedrijfshal algemeen (met LISA-informatie) | C21: 250 tot 500 m2 | D21: 1924 | E21: 0.172 | F21: 6.3087293 | G21: 2.5139778 | H21: 4.7018494 | I21: 7.8119215 | J21: 6.2533864
A22: Gas | B22: Bedrijfshal algemeen (met LISA-informatie) | C22: 500 tot 1000 m2 | D22: 2597 | E22: 0.232 | F22: 5.7865479 | G22: 2.3754579 | H22: 4.4235624 | I22: 7.3001049 | J22: 5.7480234
A23: Gas | B23: Bedrijfshal algemeen (met LISA-informatie) | C23: 1000 tot 2500 m2 | D23: 2579 | E23: 0.231 | F23: 5.2893992 | G23: 2.0101661 | H23: 3.928494 | I23: 6.6109951 | J23: 5.2363469
A24: Gas | B24: Bedrijfshal algemeen (met LISA-informatie) | C24: 2500 tot 5000 m2 | D24: 1008 | E24: 0.09 | F24: 4.945947 | G24: 1.6345462 | H24: 3.395532 | I24: 6.0760909 | J24: 4.9066324
A25: Gas | B25: Bedrijfshal algemeen (met LISA-informatie) | C25: 5000 tot 10000 m2 | D25: 472 | E25: 0.042 | F25: 4.6748555 | G25: 1.2464459 | H25: 2.8946565 | I25: 5.6404461 | J25: 4.6929213
A26: Gas | B26: Bedrijfshal algemeen (met LISA-informatie) | C26: vanaf 10000 m2 | D26: 283 | E26: 0.025 | F26: 3.4313654 | G26: 0.82606355 | H26: 2.0801338 | I26: 3.7753714 | J26: 2.9847416
A27: Gas | B27: Bedrijfshal met logistieke activiteiten | C27: tot 100 m2 | D27: 25 | E27: 0.005 | F27: 9.4766432 | H27: 7.5227273 | J27: 8.7821053
A28: Gas | B28: Bedrijfshal met logistieke activiteiten | C28: 100 tot 250 m2 | D28: 181 | E28: 0.037 | F28: 7.2203213 | G28: 3 | H28: 5.705 | I28: 9.0689655 | J28: 7.22444
A29: Gas | B29: Bedrijfshal met logistieke activiteiten | C29: 250 tot 500 m2 | D29: 333 | E29: 0.068 | F29: 6.1981578 | G29: 3.1168385 | H29: 4.8535211 | I29: 7.8895582 | J29: 6.2339845
A30: Gas | B30: Bedrijfshal met logistieke activiteiten | C30: 500 tot 1000 m2 | D30: 766 | E30: 0.156 | F30: 5.2270413 | G30: 2.5929982 | H30: 4.4254615 | I30: 6.7293768 | J30: 5.1540229
A31: Gas | B31: Bedrijfshal met logistieke activiteiten | C31: 1000 tot 2500 m2 | D31: 1710 | E31: 0.348 | F31: 4.6254521 | G31: 2.2920365 | H31: 3.7628585 | I31: 5.7801799 | J31: 4.5539795
A32: Gas | B32: Bedrijfshal met logistieke activiteiten | C32: 2500 tot 5000 m2 | D32: 1057 | E32: 0.215 | F32: 4.2643035 | G32: 1.9908319 | H32: 3.3295455 | I32: 5.3586445 | J32: 4.2218772
A33: Gas | B33: Bedrijfshal met logistieke activiteiten | C33: 5000 tot 10000 m2 | D33: 529 | E33: 0.108 | F33: 4.0613331 | G33: 1.4517011 | H33: 2.983363 | I33: 5.3075656 | J33: 4.0749463
A34: Gas | B34: Bedrijfshal met logistieke activiteiten | C34: vanaf 10000 m2 | D34: 310 | E34: 0.063 | F34: 3.4840426 | G34: 1.032198 | H34: 2.3268421 | I34: 4.6214765 | J34: 3.310942
A35: Gas | B35: Bedrijfshal met maakindustrie en andere economische activiteiten | C35: tot 100 m2 | D35: 43 | E35: 0.009 | F35: 10.016669 | G35: 2.9898374 | H35: 7.1492537 | I35: 13.738571 | J35: 9.2280589
A36: Gas | B36: Bedrijfshal met maakindustrie en andere economische activiteiten | C36: 100 tot 250 m2 | D36: 251 | E36: 0.055 | F36: 7.6019243 | G36: 3.0992465 | H36: 5.3560606 | I36: 9.1103078 | J36: 7.4086996
A37: Gas | B37: Bedrijfshal met maakindustrie en andere economische activiteiten | C37: 250 tot 500 m2 | D37: 415 | E37: 0.091 | F37: 6.4916269 | G37: 2.9538799 | H37: 4.9305019 | I37: 8.1564058 | J37: 6.4733395
A38: Gas | B38: Bedrijfshal met maakindustrie en andere economische activiteiten | C38: 500 tot 1000 m2 | D38: 1059 | E38: 0.233 | F38: 5.6013478 | G38: 2.4319406 | H38: 4.4494253 | I38: 6.7870734 | J38: 5.5747164
A39: Gas | B39: Bedrijfshal met maakindustrie en andere economische activiteiten | C39: 1000 tot 2500 m2 | D39: 1672 | E39: 0.368 | F39: 4.8739774 | G39: 2.1952008 | H39: 3.783482 | I39: 6.2276413 | J39: 4.8490585
... A42: Gas | B42: Bedrijfshal met maakindustrie en andere economische activiteiten | C42: vanaf 10000 m2 | D42: 128 | E42: 0.028 | F42: 6.4899199 | G42: 1.6088728 | H42: 4.7557255 | I42: 8.5214186 | J42: 6.4926031
A43: Gas | B43: Bedrijfshal met maakindustrie en logistieke activiteiten | C43: tot 50 m2 | D43: 18 | E43: 0.002 | F43: 18.303306 | J43: 17.429907
A44: Gas | B44: Bedrijfshal met maakindustrie en logistieke activiteiten | C44: 50 tot 100 m2 | D44: 141 | E44: 0.015 | F44: 10.334281 | G44: 3.122807 | H44: 8.7213115 | I44: 15.959459 | J44: 9.9273986
A45: Gas | B45: Bedrijfshal met maakindustrie en logistieke activiteiten | C45: 100 tot 250 m2 | D45: 796 | E45: 0.083 | F45: 6.4166681 | G45: 2.2992424 | H45: 4.7918572 | I45: 8.4260107 | J45: 6.3838674
A46: Gas | B46: Bedrijfshal met maakindustrie en logistieke activiteiten | C46: 250 tot 500 m2 | D46: 1257 | E46: 0.13 | F46: 5.6685157 | G46: 2.3992537 | H46: 4.5781585 | I46: 7.5329087 | J46: 5.6486067
A47: Gas | B47: Bedrijfshal met maakindustrie en logistieke activiteiten | C47: 500 tot 1000 m2 | D47: 2030 | E47: 0.21 | F47: 5.3594245 | G47: 2.3978237 | H47: 4.2935783 | I47: 6.9820523 | J47: 5.29501
A48: Gas | B48: Bedrijfshal met maakindustrie en logistieke activiteiten | C48: 1000 tot 2500 m2 | D48: 2954 | E48: 0.306 | F48: 4.7740884 | G48: 1.9618622 | H48: 3.7199582 | I48: 6.2661366 | J48: 4.7253057
A49: Gas | B49: Bedrijfshal met maakindustrie en logistieke activiteiten | C49: 2500 tot 5000 m2 | D49: 1414 | E49: 0.147 | F49: 4.6852598 | G49: 1.7033017 | H49: 3.3098509 | I49: 5.7407499 | J49: 4.6895834
A50: Gas | B50: Bedrijfshal met maakindustrie en logistieke activiteiten | C50: 5000 tot 10000 m2 | D50: 690 | E50: 0.072 | F50: 4.0978869 | G50: 1.1110239 | H50: 2.8566258 | I50: 5.2677464 | J50: 4.1790674
A51: Gas | B51: Bedrijfshal met maakindustrie en logistieke activiteiten | C51: vanaf 10000 m2 | D51: 344 | E51: 0.036 | F51: 3.5642141 | G51: 0.71471907 | H51: 2.4426415 | I51: 4.4790642 | J51: 3.402791
A52: Gas | B52: Bedrijfshal uitsluitend maakindustrie | C52: tot 50 m2 | D52: 38 | E52: 0.002 | F52: 28.812385 | H52: 26.985772 | J52: 28.459311
A53: Gas | B53: Bedrijfshal uitsluitend maakindustrie | C53: 50 tot 100 m2 | D53: 371 | E53: 0.021 | F53: 10.111594 | G53: 1.7515873 | H53: 6.2463768 | I53: 13.094203 | J53: 9.6500102
A54: Gas | B54: Bedrijfshal uitsluitend maakindustrie | C54: 100 tot 250 m2 | D54: 2029 | E54: 0.114 | F54: 7.2513771 | G54: 1.9656863 | H54: 4.5869565 | I54: 8.5090909 | J54: 7.0500523
A55: Gas | B55: Bedrijfshal uitsluitend maakindustrie | C55: 250 tot 500 m2 | D55: 3132 | E55: 0.176 | F55: 6.250717 | G55: 2.3740978 | H55: 4.5578507 | I55: 7.7020178 | J55: 6.2364229
A56: Gas | B56: Bedrijfshal uitsluitend maakindustrie | C56: 500 tot 1000 m2 | D56: 4321 | E56: 0.243 | F56: 6.1284226 | G56: 2.427027 | H56: 4.3233618 | I56: 7.1810155 | J56: 6.1285194
A57: Gas | B57: Bedrijfshal uitsluitend maakindustrie | C57: 1000 tot 2500 m2 | D57: 4908 | E57: 0.276 | F57: 6.8227149 | G57: 2.3239118 | H57: 4.4972924 | I57: 7.786741 | J57: 6.909617
A58: Gas | B58: Bedrijfshal uitsluitend maakindustrie | C58: 2500 tot 5000 m2 | D58: 1792 | E58: 0.101 | F58: 8.026739 | G58: 2.40676 | H58: 4.8147262 | I58: 8.3109366 | J58: 8.0889568
A59: Gas | B59: Bedrijfshal uitsluitend maakindustrie | C59: 5000 tot 10000 m2 | D59: 815 | E59: 0.046 | F59: 10.190586 | G59: 2.4593295 | H59: 5.4650769 | I59: 10.417966 | J59: 10.370288
A60: Gas | B60: Bedrijfshal uitsluitend maakindustrie | C60: vanaf 10000 m2 | D60: 397 | E60: 0.022 | F60: 14.393428 | G60: 2.5757798 | H60: 6.3722437 | I60: 17.610841 | J60: 14.199216
A61: Gas | B61: Bedrijfswoning | C61: tot 50 m2 | D61: 258 | E61: 0.004 | F61: 39.291883 | G61: 23.866667 | H61: 39.874634 | I61: 53.816527 | J61: 38.804893
A62: Gas | B62: Bedrijfswoning | C62: 50 tot 100 m2 | D62: 2415 | E62: 0.038 | F62: 23.843499 | G62: 13.176568 | H62: 20.716216 | I62: 31.090688 | J62: 23.383906
A63: Gas | B63: Bedrijfswoning | C63: 100 tot 250 m2 | D63: 28307 | E63: 0.442 | F63: 15.324783 | G63: 8.8832072 | H63: 12.845528 | I63: 18.525818 | J63: 14.828494
A64: Gas | B64: Bedrijfswoning | C64: 250 tot 500 m2 | D64: 18312 | E64: 0.286 | F64: 9.4532324 | G64: 5.3 | H64: 7.8513115 | I64: 11.488827 | J64: 9.187059
... A68: Gas | B68: Bedrijfswoning | C68: 5000 tot 10000 m2 | D68: 60 | E68: 0.001 | F68: 4.4143792 | G68: 0.67294845 | H68: 1.3469337 | I68: 5.7420711 | J68: 4.2071139
A69: Gas | B69: Bedrijfswoning | C69: vanaf 10000 m2 | D69: 31 | E69: 0 | F69: 10.862985 | H69: 2.2606791 | J69: 11.181688
A70: Gas | B70: Bijeenkomstgebouw (niet nader ingedeeld) | C70: tot 50 m2 | D70: 116 | E70: 0.013 | F70: 15.154762 | G70: 5.9681818 | H70: 12.590062 | I70: 23.393878 | J70: 15.085299
A71: Gas | B71: Bijeenkomstgebouw (niet nader ingedeeld) | C71: 50 tot 100 m2 | D71: 729 | E71: 0.079 | F71: 13.470706 | G71: 6.3737374 | H71: 11.188889 | I71: 18.329268 | J71: 13.237116
A72: Gas | B72: Bijeenkomstgebouw (niet nader ingedeeld) | C72: 100 tot 250 m2 | D72: 2844 | E72: 0.31 | F72: 11.061966 | G72: 5.6718882 | H72: 9.0188235 | I72: 14.280691 | J72: 10.918582
A73: Gas | B73: Bijeenkomstgebouw (niet nader ingedeeld) | C73: 250 tot 500 m2 | D73: 2627 | E73: 0.286 | F73: 9.9913936 | G73: 5.1419014 | H73: 8.2361111 | I73: 12.681821 | J73: 9.9554646
A74: Gas | B74: Bijeenkomstgebouw (niet nader ingedeeld) | C74: 500 tot 1000 m2 | D74: 1687 | E74: 0.184 | F74: 9.3113406 | G74: 4.6479799 | H74: 7.7790143 | I74: 12.035705 | J74: 9.3247659
A75: Gas | B75: Bijeenkomstgebouw (niet nader ingedeeld) | C75: 1000 tot 2500 m2 | D75: 884 | E75: 0.096 | F75: 9.125833 | G75: 4.0940851 | H75: 7.6128019 | I75: 12.370116 | J75: 9.0403842
A76: Gas | B76: Bijeenkomstgebouw (niet nader ingedeeld) | C76: 2500 tot 5000 m2 | D76: 193 | E76: 0.021 | F76: 8.6529843 | G76: 2.4424647 | H76: 5.828202 | I76: 12.382482 | J76: 8.6925666
A77: Gas | B77: Bijeenkomstgebouw (niet nader ingedeeld) | C77: 5000 tot 10000 m2 | D77: 67 | E77: 0.007 | F77: 6.8931914 | G77: 1.6132032 | H77: 3.5236794 | I77: 9.9104381 | J77: 7.2527225
A78: Gas | B78: Bijeenkomstgebouw (niet nader ingedeeld) | C78: vanaf 10000 m2 | D78: 31 | E78: 0.003 | F78: 8.5981182 | H78: 3.137478 | J78: 8.1401981
A79: Gas | B79: Campusgebouw | C79: tot 1000 m2 | D79: 14 | E79: 0.136 | F79: 8.5650813 | J79: 9.7403927
A80: Gas | B80: Campusgebouw | C80: 1000 tot 2500 m2 | D80: 11 | E80: 0.107 | F80: 15.160186 | J80: 15.356035
A81: Gas | B81: Campusgebouw | C81: 2500 tot 5000 m2 | D81: 17 | E81: 0.165 | F81: 10.859799 | J81: 10.440256
A82: Gas | B82: Campusgebouw | C82: 5000 tot 10000 m2 | D82: 23 | E82: 0.223 | F82: 8.6946578 | H82: 8.374109 | J82: 8.6046559
A83: Gas | B83: Campusgebouw | C83: vanaf 10000 m2 | D83: 38 | E83: 0.369 | F83: 10.17232 | H83: 5.1801524 | J83: 10.266252
A84: Gas | B84: Cultuurhuis | C84: tot 250 m2 | D84: 23 | E84: 0.043 | F84: 15.261593 | H84: 15.157609 | J84: 15.361819
A85: Gas | B85: Cultuurhuis | C85: 250 tot 500 m2 | D85: 66 | E85: 0.123 | F85: 12.486212 | G85: 8.9636806 | H85: 11.49332 | I85: 15.269067 | J85: 12.208728
A86: Gas | B86: Cultuurhuis | C86: 500 tot 1000 m2 | D86: 117 | E86: 0.218 | F86: 10.80587 | G86: 7.4136054 | H86: 10.212629 | I86: 13.618887 | J86: 10.625413
A87: Gas | B87: Cultuurhuis | C87: 1000 tot 2500 m2 | D87: 165 | E87: 0.308 | F87: 9.8342175 | G87: 6.4330557 | H87: 8.6851613 | I87: 12.569307 | J87: 9.7025294
A88: Gas | B88: Cultuurhuis | C88: 2500 tot 5000 m2 | D88: 90 | E88: 0.168 | F88: 7.6873493 | G88: 4.3850914 | H88: 6.2578345 | I88: 9.7615292 | J88: 7.8136768
A89: Gas | B89: Cultuurhuis | C89: 5000 tot 10000 m2 | D89: 52 | E89: 0.097 | F89: 8.6089769 | G89: 5.6583438 | H89: 7.2939342 | I89: 12.308772 | J89: 8.4372349
A90: Gas | B90: Cultuurhuis | C90: vanaf 10000 m2 | D90: 23 | E90: 0.043 | F90: 5.0910634 | H90: 3.5117443 | J90: 5.0279638
A91: Gas | B91: Gebedshuis | C91: tot 100 m2 | D91: 35 | E91: 0.008 | F91: 13.667542 | H91: 13.896907 | J91: 13.484088
A92: Gas | B92: Gebedshuis | C92: 100 tot 250 m2 | D92: 411 | E92: 0.097 | F92: 12.333567 | G92: 7.9182243 | H92: 12.017647 | I92: 16.668558 | J92: 12.168872
A93: Gas | B93: Gebedshuis | C93: 250 tot 500 m2 | D93: 1054 | E93: 0.248 | F93: 10.709933 | G93: 6.9826438 | H93: 9.7835768 | I93: 13.758405 | J93: 10.625466
A94: Gas | B94: Gebedshuis | C94: 500 tot 1000 m2 | D94: 1367 | E94: 0.322 | F94: 9.6098351 | G94: 6.4082967 | H94: 9.1044444 | I94: 11.900192 | J94: 9.5444116
A95: Gas | B95: Gebedshuis | C95: 1000 tot 2500 m2 | D95: 1081 | E95: 0.255 | F95: 7.5233721 | G95: 4.5320804 | H95: 7.1487719 | I95: 9.9966443 | J95: 7.3486671
A96: Gas | B96: Gebedshuis | C96: 2500 tot 5000 m2 | D96: 185 | E96: 0.044 | F96: 4.6809465 | G96: 1.8069705 | H96: 3.7610821 | I96: 6.145283 | J96: 4.6058299
A97: Gas | B97: Gebedshuis | C97: 5000 tot 10000 m2 | D97: 77 | E97: 0.018 | F97: 5.3104374 | G97: 1.1818809 | H97: 3.5213087 | I97: 7.6125405 | J97: 5.4186005
A98: Gas | B98: Gebedshuis | C98: vanaf 10000 m2 | D98: 33 | E98: 0.008 | F98: 3.5510541 | H98: 1.1526146 | J98: 3.6324027
A99: Gas | B99: Gebouw bij spooremplacement | C99: tot 500 m2 | D99: 15 | E99: 0.179 | F99: 13.747582 | J99: 11.55287
A100: Gas | B100: Gebouw bij spooremplacement | C100: 500 tot 1000 m2 | D100: 17 | E100: 0.202 | F100: 12.019858 | J100: 11.634129
A101: Gas | B101: Gebouw bij spooremplacement | C101: 1000 tot 2500 m2 | D101: 13 | E101: 0.155 | F101: 10.340108 | J101: 8.7888714
A102: Gas | B102: Gebouw bij spooremplacement | C102: 2500 tot 10000 m2 | D102: 21 | E102: 0.25 | F102: 11.30957 | H102: 8.9914517 | J102: 11.248929
A103: Gas | B103: Gebouw bij spooremplacement | C103: vanaf 10000 m2 | D103: 18 | E103: 0.214 | F103: 6.565568 | J103: 5.688334
A104: Gas | B104: Gebouw bij vliegveld of luchthaven | C104: tot 250 m2 | D104: 17 | E104: 0.104 | F104: 15.089169 | J104: 13.08563
A105: Gas | B105: Gebouw bij vliegveld of luchthaven | C105: 250 tot 500 m2 | D105: 26 | E105: 0.16 | F105: 9.7613462 | H105: 7.3679517 | J105: 9.8485506
...

Sheet gas_kental_diensten_2020
A1: Energiedrager | B1: Gebouwtype | C1: Aantal panden | D1: Gemiddelde kental (m3/m2) | E1: Q1 kental (m3/m2) | F1: Mediaan kental (m3/m2) | G1: Q3 kental (m3/m2) | H1: Gewogen gemiddelde kental (m3/m2)
A2: Gas | B2: Asielzoekerscentrum | C2: 55 | D2: 24.049557 | E2: 9.8221003 | F2: 15.674642 | G2: 21.964036 | H2: 19.640211
A3: Gas | B3: Basisschool | C3: 4049 | D3: 9.2290841 | E3: 6.532127 | F3: 8.9776305 | G3: 11.55545 | H3: 7.8205865
A4: Gas | B4: Bedrijfshal algemeen (geen LISA-informatie) | C4: 10674 | D4: 4.7578307 | E4: 0.90895289 | F4: 3.1688608 | G4: 6.4322722 | H4: 4.027751
A5: Gas | B5: Bedrijfshal algemeen (met LISA-informatie) | C5: 7883 | D5: 5.9064882 | E5: 2.1930431 | F5: 4.3706505 | G5: 7.5025323 | H5: 4.4655964
A6: Gas | B6: Bedrijfshal met logistieke activiteiten | C6: 2071 | D6: 4.9004642 | E6: 1.936556 | F6: 3.8999295 | G6: 6.5833526 | H6: 3.8125958
A7: Gas | B7: Bedrijfshal met maakindustrie en andere economische activiteiten | C7: 1616 | D7: 5.872018 | E7: 2.2821033 | F7: 4.4952328 | G7: 7.51207 | H7: 5.3634197
A8: Gas | B8: Bedrijfshal met maakindustrie en logistieke activiteiten | C8: 6222 | D8: 5.0506927 | E8: 1.9201714 | F8: 3.89344 | G8: 6.6190184 | H8: 3.923167
A9: Gas | B9: Bedrijfshal uitsluitend maakindustrie | C9: 6852 | D9: 6.7604021 | E9: 2.4522715 | F9: 4.8200044 | G9: 8.2380072 | H9: 6.5604924
A10: Gas | B10: Bedrijfswoning | C10: 8472 | D10: 12.627975 | E10: 5.6651863 | F10: 9.9378156 | G10: 15.958053 | H10: 9.1754065
A11: Gas | B11: Bijeenkomstgebouw (niet nader ingedeeld) | C11: 8413 | D11: 10.433726 | E11: 5.1505792 | F11: 8.5379113 | G11: 13.436073 | H11: 9.2880039
A12: Gas | B12: Campusgebouw | C12: 75 | D12: 10.72768 | E12: 2.4264214 | F12: 8.4175189 | G12: 12.019317 | H12: 10.732066
A13: Gas | B13: Cultuurhuis | C13: 450 | D13: 10.111249 | E13: 6.2504985 | F13: 9.1379724 | G13: 13.471541 | H13: 8.3281882
... A15: Gas | B15: Gebedshuis | C15: 3658 | D15: 9.3551094 | E15: 5.7216022 | F15: 8.739617 | G15: 12.235063 | H15: 7.2826621
A16: Gas | B16: Gebouw bij militaire inrichting
A17: Gas | B17: Gebouw bij spooremplacement | C17: 46 | D17: 10.669466 | E17: 4.2788378 | F17: 9.2939598 | G17: 16.088017 | H17: 8.3377445
A18: Gas | B18: Gebouw bij vliegveld of luchthaven | C18: 113 | D18: 8.4516483 | E18: 2.3915119 | F18: 6.4143132 | G18: 10.71308 | H18: 8.7306861
A19: Gas | B19: Gebouw in landelijk gebied voor industrie (geen landbouwactiviteiten geregistreerd) | C19: 1870 | D19: 6.4397551 | E19: 1.4585696 | F19: 4.2572174 | G19: 8.5666191 | H19: 5.1616566
A20: Gas | B20: Gebouw in stedelijk gebied met industriefunctie | C20: 8149 | D20: 8.4903587 | E20: 2.1882041 | F20: 5.6794718 | G20: 10.986755 | H20: 6.0750778
A21: Gas | B21: Gebouw op snelwegverzorgingsplaats | C21: 54 | D21: 13.573469 | E21: 3.797541 | F21: 8.2992504 | G21: 19.983081 | H21: 19.902662
A22: Gas | B22: Gebouw op vakantiepark | C22: 31793 | D22: 11.234531 | E22: 6.9315068 | F22: 10.336842 | G22: 14.275862 | H22: 10.937454
A23: Gas | B23: Gebouw voor landbouwactiviteiten | C23: 217 | D23: 17.345368 | E23: 2.3836784 | F23: 6.3538462 | G23: 18.117769 | H23: 5.0534201
A24: Gas | B24: Groothandel op bedrijventerrein | C24: 180 | D24: 4.9622022 | E24: 2.2279357 | F24: 4.2396716 | G24: 6.7419067 | H24: 4.2453032
A25: Gas | B25: Hotel (of ander groot logiesgebouw) | C25: 1993 | D25: 14.377796 | E25: 7.8044218 | F25: 13.436447 | G25: 19.555377 | H25: 12.354343
A26: Gas | B26: IJsbaan | C26: 112 | D26: 5.5860131 | E26: 2.5871429 | F26: 5.0199653 | G26: 7.3013608 | H26: 6.9132141
A27: Gas | B27: Kantoorpand algemeen | C27: 16192 | D27: 9.8356226 | E27: 5.642486 | F27: 8.9466469 | G27: 13.047081 | H27: 7.6469247
A28: Gas | B28: Kinderopvang (gebouw) | C28: 1395 | D28: 11.706606 | E28: 7.6910406 | F28: 10.660099 | G28: 14.893172 | H28: 10.367886
A29: Gas | B29: Koelhuis | C29: 70 | D29: 4.7754791 | E29: 0.57420037 | F29: 1.3263426 | G29: 6.0224596 | H29: 3.4251096
A30: Gas | B30: MBO-gebouw
A31: Gas | B31: Meergezinswoning met andere functie of combinatie van functies | C31: 1909 | D31: 10.777667 | E31: 5.8872902 | F31: 9.7695122 | G31: 14.488421 | H31: 8.9474153
A32: Gas | B32: Meergezinswoning met cafe of restaurant | C32: 1194 | D32: 15.457101 | E32: 7.9051367 | F32: 13.011198 | G32: 20.502839 | H32: 13.397675
A33: Gas | B33: Meergezinswoning met winkel | C33: 3184 | D33: 10.639388 | E33: 5.5547464 | F33: 9.5033488 | G33: 14.538946 | H33: 8.2042914
A34: Gas | B34: Meergezinswoning met winkels en horeca | C34: 316 | D34: 11.270119 | E34: 6.2356551 | F34: 9.9020412 | G34: 15.14155 | H34: 8.7964694
A35: Gas | B35: Meergezinswoning met woonzorgeenheden | C35: 85 | D35: 11.542765 | E35: 7.0166667 | F35: 10.990698 | G35: 15.421769 | H35: 10.49186
A36: Gas | B36: Middelbare school | C36: 995 | D36: 8.2801555 | E36: 4.7884371 | F36: 7.481082 | G36: 10.68513 | H36: 6.9462397
A37: Gas | B37: Nutsgebouw (elektriciteit)
A38: Gas | B38: Nutsgebouw (water) | C38: 183 | D38: 20.441411 | E38: 6.0573387 | F38: 12.92 | G38: 23.944468 | H38: 9.9557075
A39: Gas | B39: Overig gebouw met maatschappelijke functie | C39: 1403 | D39: 12.355185 | E39: 5.1908773 | F39: 9.1081081 | G39: 14.706993 | H39: 11.176859
A40: Gas | B40: Overig gebouw met recreatiefunctie | C40: 60 | D40: 15.164602 | E40: 5.9069656 | F40: 9.4820271 | G40: 14.504099 | H40: 12.895149
A41: Gas | B41: Overig onderwijsgebouw | C41: 2774 | D41: 10.958925 | E41: 6.870331 | F41: 10.052378 | G41: 13.694848 | H41: 8.7464098
A42: Gas | B42: Overig overheidsgebouw | C42: 997 | D42: 11.284235 | E42: 6.7035549 | F42: 9.7308585 | G42: 13.60681 | H42: 8.5463666
A43: Gas | B43: Overig sportgebouw | C43: 6982 | D43: 10.667605 | E43: 5.2086516 | F43: 8.5584738 | G43: 13.535216 | H43: 7.9711953
A44: Gas | B44: Overig zorggebouw | C44: 2740 | D44: 11.696849 | E44: 6.4204708 | F44: 9.8668866 | G44: 14.296979 | H44: 10.159348
A45: Gas | B45: Overige utiliteitsbouw | C45: 2290 | D45: 16.195431 | E45: 3.0216708 | F45: 8.0820877 | G45: 15.976842 | H45: 9.7363592
A46: Gas | B46: Pand met winkel en kantoor- en/of bijeenkomstfunctie | C46: 577 | D46: 8.9798139 | E46: 3.6179402 | F46: 6.9389831 | G46: 11.8125 | H46: 5.3724411
A47: Gas | B47: Penitentiaire inrichting | C47: 21 | D47: 20.275899 | F47: 15.927868 | H47: 16.162362
A48: Gas | B48: Praktijk- of zorgwoning | C48: 1496 | D48: 13.389538 | E48: 8.0805434 | F48: 11.844214 | G48: 17.105195 | H48: 12.446111
A49: Gas | B49: Productie-installatie
A50: Gas | B50: Restaurant of cafégebouw | C50: 3582 | D50: 28.427751 | E50: 11.140307 | F50: 21.23286 | G50: 38.308091 | H50: 20.479865
A51: Gas | B51: School voor speciaal onderwijs | C51: 432 | D51: 9.8114994 | E51: 6.3708144 | F51: 9.1647166 | G51: 12.848368 | H51: 8.8762659
A52: Gas | B52: Schoolverzamelgebouw | C52: 83 | D52: 6.4441611 | E52: 3.2205625 | F52: 5.7697529 | G52: 8.5084212 | H52: 5.5287787
A53: Gas | B53: Tuincentrum | C53: 350 | D53: 9.7469745 | E53: 3.7850872 | F53: 6.6627638 | G53: 10.600203 | H53: 6.6462503
A54: Gas | B54: Vakantiewoning buiten vakantiepark | C54: 3666 | D54: 12.634606 | E54: 6.8667558 | F54: 10.927964 | G54: 16.214423 | H54: 11.361495
A55: Gas | B55: Winkelpand | C55: 17835 | D55: 10.435536 | E55: 3.8024899 | F55: 7.4776119 | G55: 13.153131 | H55: 5.8878191
A56: Gas | B56: Woning met andere functie of combinatie van functies | C56: 4193 | D56: 12.80897 | E56: 5.9579685 | F56: 10.528205 | G56: 17 | H56: 10.33745
A57: Gas | B57: Woning met cafe of restaurant | C57: 6996 | D57: 20.956172 | E57: 9.9355448 | F57: 16.801985 | G57: 27.545681 | H57: 16.724418
A58: Gas | B58: Woning met winkel | C58: 14107 | D58: 12.757552 | E58: 6.8121437 | F58: 10.683099 | G58: 16.258524 | H58: 10.074155
A59: Gas | B59: Wooncomplex met andere functie of combinatie van functies | C59: 827 | D59: 10.720444 | E59: 5.9495802 | F59: 10.233522 | G59: 14.555861 | H59: 8.9806364
A60: Gas | B60: Wooncomplex met winkels en/of horeca | C60: 202 | D60: 8.7053558 | E60: 3.8644971 | F60: 8.2418151 | G60: 12.541001 | H60: 7.4566131
A61: Gas | B61: Woonzorgcomplex | C61: 871 | D61: 14.32839 | E61: 8.0247908 | F61: 12.626582 | G61: 18.132528 | H61: 12.597849
... A66: Gas | B66: Zwembad | C66: 423 | D66: 47.909235 | E66: 12.730588 | F66: 32.228519 | G66: 58.944338 | H66: 33.556565

Sheet elek_kental_2020
A1: Energiedrager | B1: Gebouwtype | C1: Aantal panden | D1: Gemiddelde kental (kWh/m2) | E1: Q1 kental (kWh/m2) | F1: Mediaan kental (kWh/m2) | G1: Q3 kental (kWh/m2) | H1: Gewogen gemiddelde kental (kWh/m2) | I1: Gemiddelde kental inclusief eigenverbruik zonnestroom (kWh/m2) | J1: Q1 kental inclusief eigenverbruik zonnestroom (kWh/m2) | K1: Mediaan kental inclusief eigenverbruik zonnestroom (kWh/m2) | L1: Q3 kental inclusief eigenverbruik zonnestroom (kWh/m2) | M1: Gewogen gemiddelde kental inclusief eigenverbruik zonnestroom (kWh/m2)
A2: Elektriciteit | B2: Asielzoekerscentrum | C2: 62 | D2: 69.879411 | E2: 26.733282 | F2: 46.683542 | G2: 74.666773 | H2: 53.85005 | I2: 70.235048 | J2: 27.107358 | K2: 46.683542 | L2: 74.666773 | M2: 54.503506
A3: Elektriciteit | B3: Basisschool | C3: 4730 | D3: 24.6354 | E3: 15.949717 | F3: 21.440409 | G3: 29.599515 | H3: 26.046239 | I3: 28.106832 | J3: 18.269285 | K3: 24.036072 | L3: 33.91929 | M3: 28.891336
A4: Elektriciteit | B4: Bedrijfshal algemeen (geen LISA-informatie) | C4: 18243 | D4: 38.541639 | E4: 11.267619 | F4: 21 | G4: 40.91056 | H4: 45.330182 | I4: 40.583465 | J4: 11.738056 | K4: 22.333333 | L4: 43.861438 | M4: 47.84099
A5: Elektriciteit | B5: Bedrijfshal algemeen (met LISA-informatie) | C5: 12071 | D5: 46.318257 | E5: 14.979235 | F5: 26.614081 | G5: 48.960993 | H5: 48.554887 | I5: 49.497427 | J5: 16.076876 | K5: 28.715031 | L5: 52.848343 | M5: 51.628759
A6: Elektriciteit | B6: Bedrijfshal met logistieke activiteiten | C6: 5360 | D6: 39.191339 | E6: 16.386975 | F6: 26.314038 | G6: 43.620618 | H6: 41.887917 | I6: 42.103039 | J6: 17.460124 | K6: 28.341693 | L6: 46.479673 | M6: 44.793674
A7: Elektriciteit | B7: Bedrijfshal met maakindustrie en andere economische activiteiten | C7: 4813 | D7: 43.037975 | E7: 16.417391 | F7: 27.475703 | G7: 47.902092 | H7: 53.351467 | I7: 46.125365 | J7: 17.739083 | K7: 29.688657 | L7: 51.423986 | M7: 56.570743
A8: Elektriciteit | B8: Bedrijfshal met maakindustrie en logistieke activiteiten | C8: 10335 | D8: 46.312408 | E8: 14.878501 | F8: 25.750097 | G8: 46.470365 | H8: 54.475915 | I8: 53.168958 | J8: 16.205915 | K8: 27.963141 | L8: 49.961612 | M8: 57.824291
A9: Elektriciteit | B9: Bedrijfshal uitsluitend maakindustrie | C9: 18777 | D9: 57.975141 | E9: 16.538462 | F9: 30.007663 | G9: 58.347826 | H9: 93.257323 | I9: 62.053339 | J9: 18.083632 | K9: 32.995261 | L9: 63.078029 | M9: 97.335373
A10: Elektriciteit | B10: Bedrijfswoning | C10: 67633 | D10: 66.126298 | E10: 16.54902 | F10: 29.985185 | G10: 64.882562 | H10: 50.149978 | I10: 80.834883 | J10: 19.083333 | K10: 35.172285 | L10: 78.013605 | M10: 60.622879
A11: Elektriciteit | B11: Bijeenkomstgebouw (niet nader ingedeeld) | C11: 9131 | D11: 45.348568 | E11: 13.276408 | F11: 25.138889 | G11: 52.508537 | H11: 45.14891 | I11: 48.043032 | J11: 14.455854 | K11: 27.648387 | L11: 57.790487 | M11: 47.175501
A12: Elektriciteit | B12: Campusgebouw | C12: 109 | D12: 89.837893 | E12: 35.036462 | F12: 53.711764 | G12: 109.51711 | H12: 78.123518 | I12: 94.062589 | J12: 36.375684 | K12: 53.711764 | L12: 115.65198 | M12: 80.734496
A13: Elektriciteit | B13: Cultuurhuis | C13: 563 | D13: 55.550266 | E13: 24.857196 | F13: 41.191431 | G13: 74.161484 | H13: 60.562378 | I13: 57.523328 | J13: 25.947776 | K13: 42.312775 | L13: 76.86513 | M13: 62.166638
... A15: Elektriciteit | B15: Gebedshuis | C15: 3598 | D15: 14.90286 | E15: 8.3565085 | F15: 12.187855 | G15: 18.733059 | H15: 16.358586 | I15: 16.318444 | J15: 8.7024625 | K15: 13.111748 | L15: 20.462356 | M15: 17.643682
A16: Elektriciteit | B16: Gebouw bij militaire inrichting | C16: 12 | D16: 580.74411 | H16: 439.13097 | I16: 580.74411 | M16: 439.13097
A17: Elektriciteit | B17: Gebouw bij spooremplacement | C17: 69 | D17: 62.505361 | E17: 19.223112 | F17: 44.070423 | G17: 90.5625 | H17: 48.786643 | I17: 62.922159 | J17: 19.547686 | K17: 44.070423 | L17: 90.5625 | M17: 49.154643
A18: Elektriciteit | B18: Gebouw bij vliegveld of luchthaven | C18: 137 | D18: 55.950486 | E18: 13.575556 | F18: 34.454815 | G18: 70.583942 | H18: 64.842257 | I18: 58.741147 | J18: 15.807117 | K18: 37.442432 | L18: 71.289216 | M18: 66.377285
A19: Elektriciteit | B19: Gebouw in landelijk gebied voor industrie (geen landbouwactiviteiten geregistreerd) | C19: 4646 | D19: 45.867112 | E19: 12.678043 | F19: 25.56044 | G19: 51.864037 | H19: 53.27355 | I19: 53.763191 | J19: 13.889323 | K19: 28.907237 | L19: 60.903769 | M19: 60.179849
A20: Elektriciteit | B20: Gebouw in stedelijk gebied met industriefunctie | C20: 13083 | D20: 53.523601 | E20: 13.779349 | F20: 26.657534 | G20: 54.908023 | H20: 59.195989 | I20: 56.39328 | J20: 14.564659 | K20: 28.824039 | L20: 58.691405 | M20: 61.420981
A21: Elektriciteit | B21: Gebouw op snelwegverzorgingsplaats | C21: 123 | D21: 545.50973 | E21: 192.73457 | F21: 577.51792 | G21: 829.20097 | H21: 320.16922 | I21: 561.11246 | J21: 192.73457 | K21: 590.22691 | L21: 846.78946 | M21: 329.89805
A22: Elektriciteit | B22: Gebouw op vakantiepark | C22: 34545 | D22: 26.804106 | E22: 11.942529 | F22: 17.939394 | G22: 29.640625 | H22: 32.967202 | I22: 29.314075 | J22: 12.263736 | K22: 18.727273 | L22: 32.417722 | M22: 36.499681
A23: Elektriciteit | B23: Gebouw voor landbouwactiviteiten | C23: 2360 | D23: 121.0667 | E23: 22.243202 | F23: 49.973977 | G23: 142.84992 | H23: 72.51125 | I23: 134.94379 | J23: 25.464964 | K23: 58.192011 | L23: 163.79708 | M23: 78.273863
A24: Elektriciteit | B24: Groothandel op bedrijventerrein | C24: 569 | D24: 28.853854 | E24: 15.478873 | F24: 23.461028 | G24: 36.587065 | H24: 27.236993 | I24: 30.48392 | J24: 16.508642 | K24: 25.045958 | L24: 39.338583 | M24: 28.807048
A25: Elektriciteit | B25: Hotel (of ander groot logiesgebouw) | C25: 2440 | D25: 63.620117 | E25: 25.652826 | F25: 51.207319 | G25: 89.885494 | H25: 72.938985 | I25: 65.346239 | J25: 27.091885 | K25: 52.830463 | L25: 92.463162 | M25: 73.879755
A26: Elektriciteit | B26: IJsbaan | C26: 96 | D26: 26.37947 | E26: 10.461884 | F26: 17.102801 | G26: 27.835294 | H26: 95.025308 | I26: 29.473082 | J26: 12.41449 | K26: 20.652029 | L26: 34.273325 | M26: 96.066642
A27: Elektriciteit | B27: Kantoorpand algemeen | C27: 20777 | D27: 47.508883 | E27: 21.597647 | F27: 37.308432 | G27: 61.514235 | H27: 57.202975 | I27: 50.736752 | J27: 22.98 | K27: 39.540601 | L27: 65.187398 | M27: 58.938921
A28: Elektriciteit | B28: Kinderopvang (gebouw) | C28: 1520 | D28: 32.287241 | E28: 19.387711 | F28: 28.189524 | G28: 38.644996 | H28: 30.950436 | I28: 34.130732 | J28: 20.682694 | K28: 29.421715 | L28: 41.096608 | M28: 32.727461
A29: Elektriciteit | B29: Koelhuis | C29: 96 | D29: 282.45456 | E29: 71.332695 | F29: 178.32446 | G29: 352.27542 | H29: 239.75142 | I29: 292.71318 | J29: 86.766273 | K29: 198.5881 | L29: 352.27542 | M29: 250.38503
A30: Elektriciteit | B30: MBO-gebouw | C30: 17 | D30: 64.896927 | H30: 58.374856 | I30: 66.47914 | M30: 59.43127
A31: Elektriciteit | B31: Meergezinswoning met andere functie of combinatie van functies | C31: 17513 | D31: 37.813499 | E31: 18.795031 | F31: 27.526012 | G31: 42.61991 | H31: 38.737592 | I31: 40.008573 | J31: 19.520362 | K31: 28.618919 | L31: 44.821429 | M31: 40.455658
A32: Elektriciteit | B32: Meergezinswoning met cafe of restaurant | C32: 6307 | D32: 86.835784 | E32: 36.097142 | F32: 73.123037 | G32: 122.07883 | H32: 77.046187 | I32: 87.355014 | J32: 36.767916 | K32: 73.834625 | L32: 122.2419 | M32: 77.615231
A33: Elektriciteit | B33: Meergezinswoning met winkel | C33: 22262 | D33: 49.711974 | E33: 23.684747 | F33: 36.601561 | G33: 61.064973 | H33: 50.985326 | I33: 50.199734 | J33: 24.053465 | K33: 37.165444 | L33: 61.601517 | M33: 51.530222
A34: Elektriciteit | B34: Meergezinswoning met winkels en horeca | C34: 2533 | D34: 55.581423 | E34: 26.143721 | F34: 42.146341 | G34: 73.164974 | H34: 55.298153 | I34: 56.404776 | J34: 26.709302 | K34: 43.296161 | L34: 73.734694 | M34: 56.010868
A35: Elektriciteit | B35: Meergezinswoning met woonzorgeenheden | C35: 278 | D35: 31.834078 | E35: 17.802815 | F35: 29.022633 | G35: 41.063302 | H35: 37.786649 | I35: 34.446221 | J35: 19.080849 | K35: 31.409232 | L35: 43.505413 | M35: 40.697924
A36: Elektriciteit | B36: Middelbare school | C36: 1080 | D36: 35.219308 | E36: 21.179824 | F36: 29.977684 | G36: 43.608777 | H36: 33.260202 | I36: 38.174726 | J36: 24.063668 | K36: 32.683332 | L36: 46.483329 | M36: 36.268207
A37: Elektriciteit | B37: Nutsgebouw (elektriciteit) | C37: 141 | D37: 226.50301 | E37: 32.69961 | F37: 83.934783 | G37: 305.93462 | H37: 145.6851 | I37: 439.80233 | J37: 36.79702 | K37: 87.668 | L37: 308.80808 | M37: 177.52687
A38: Elektriciteit | B38: Nutsgebouw (water) | C38: 59 | D38: 566.74356 | E38: 18.265257 | F38: 106.11013 | G38: 479.76255 | H38: 403.92779 | I38: 604.32994 | J38: 18.767852 | K38: 136.95513 | L38: 578.77996 | M38: 444.33779
A39: Elektriciteit | B39: Overig gebouw met maatschappelijke functie | C39: 1221 | D39: 38.102822 | E39: 8.8010204 | F39: 16.135514 | G39: 40.594059 | H39: 51.832779 | I39: 39.098275 | J39: 8.9892857 | K39: 16.306189 | L39: 43.004386 | M39: 52.934998
A40: Elektriciteit | B40: Overig gebouw met recreatiefunctie | C40: 72 | D40: 111.51959 | E40: 30.737965 | F40: 71.665498 | G40: 149.59367 | H40: 113.28657 | I40: 114.17725 | J40: 37.73904 | K40: 73.4533 | L40: 149.59367 | M40: 117.20706
A41: Elektriciteit | B41: Overig onderwijsgebouw | C41: 3067 | D41: 29.927843 | E41: 15.864923 | F41: 23.092402 | G41: 35.470771 | H41: 35.895231 | I41: 31.447077 | J41: 16.547368 | K41: 24.004211 | L41: 37.272102 | M41: 37.179225
A42: Elektriciteit | B42: Overig overheidsgebouw | C42: 790 | D42: 79.844014 | E42: 40.930245 | F42: 65.504276 | G42: 94.574268 | H42: 80.226792 | I42: 82.256937 | J42: 42.722052 | K42: 67.887552 | L42: 98.116746 | M42: 82.251479
... A46: Elektriciteit | B46: Pand met winkel en kantoor- en/of bijeenkomstfunctie | C46: 1446 | D46: 77.022494 | E46: 28.338054 | F46: 51.455499 | G46: 97.517125 | H46: 61.97523 | I46: 78.291905 | J46: 29.745343 | K46: 52.721444 | L46: 98.641433 | M46: 63.22228
A47: Elektriciteit | B47: Penitentiaire inrichting | C47: 25 | D47: 147.89049 | F47: 110.35236 | H47: 104.47357 | I47: 148.41171 | K47: 110.35236 | M47: 104.61338
A48: Elektriciteit | B48: Praktijk- of zorgwoning | C48: 4918 | D48: 32.820842 | E48: 17.543883 | F48: 26.613868 | G48: 41.5809 | H48: 33.206674 | I48: 37.558351 | J48: 20.425507 | K48: 31.175274 | L48: 47.180756 | M48: 36.93376
A49: Elektriciteit | B49: Productie-installatie | C49: 96 | D49: 1720.8764 | E49: 98.023363 | F49: 497.52297 | G49: 2280.2023 | H49: 1209.7102 | I49: 1731.0734 | J49: 98.023363 | K49: 497.52297 | L49: 2280.2023 | M49: 1212.8439
A50: Elektriciteit | B50: Restaurant of cafégebouw | C50: 3876 | D50: 234.16538 | E50: 105.70509 | F50: 188.03207 | G50: 302.79892 | H50: 170.07131 | I50: 235.13939 | J50: 107.08178 | K50: 188.2601 | L50: 303.78909 | M50: 170.99924
A51: Elektriciteit | B51: School voor speciaal onderwijs | C51: 496 | D51: 29.000574 | E51: 18.267676 | F51: 25.30353 | G51: 34.246451 | H51: 29.581909 | I51: 30.867599 | J51: 19.372667 | K51: 26.399411 | L51: 36.792101 | M51: 31.452094
A52: Elektriciteit | B52: Schoolverzamelgebouw | C52: 102 | D52: 33.771104 | E52: 19.611323 | F52: 27.497102 | G52: 45.2755 | H52: 34.377662 | I52: 35.832987 | J52: 20.186144 | K52: 30.774363 | L52: 46.577309 | M52: 36.300473
A53: Elektriciteit | B53: Tuincentrum | C53: 443 | D53: 41.731096 | E53: 18.64221 | F53: 33.040925 | G53: 51.630775 | H53: 35.04697 | I53: 45.315621 | J53: 20.253573 | K53: 34.700312 | L53: 55.143849 | M53: 36.95535
A54: Elektriciteit | B54: Vakantiewoning buiten vakantiepark | C54: 5045 | D54: 31.595223 | E54: 12.515723 | F54: 20.65 | G54: 37.746032 | H54: 35.550529 | I54: 34.397814 | J54: 12.955882 | K54: 21.885246 | L54: 40.909091 | M54: 38.134539
A55: Elektriciteit | B55: Winkelpand | C55: 21381 | D55: 94.539169 | E55: 26.462264 | F55: 54.562141 | G55: 119.10444 | H55: 78.289387 | I55: 97.206615 | J55: 27.652893 | K55: 56.106599 | L55: 120.81667 | M55: 80.950759
A56: Elektriciteit | B56: Woning met andere functie of combinatie van functies | C56: 13538 | D56: 46.200582 | E56: 16.528731 | F56: 27.712105 | G56: 53.391676 | H56: 46.744788 | I56: 50.692933 | J56: 18.749217 | K56: 31.9067 | L56: 58.991819 | M56: 49.881656
A57: Elektriciteit | B57: Woning met cafe of restaurant | C57: 11034 | D57: 105.96824 | E57: 37.193656 | F57: 86.138991 | G57: 148.13752 | H57: 86.856411 | I57: 107.27395 | J57: 39.23783 | K57: 86.98745 | L57: 149.22727 | M57: 88.093529
A58: Elektriciteit | B58: Woning met winkel | C58: 31548 | D58: 53.077189 | E58: 20.879077 | F58: 35.425493 | G58: 63.498077 | H58: 51.136229 | I58: 54.857108 | J58: 22.354564 | K58: 37.448215 | L58: 65.595819 | M58: 52.775026
A59: Elektriciteit | B59: Wooncomplex met andere functie of combinatie van functies | C59: 9135 | D59: 41.440456 | E59: 26.147206 | F59: 34.26257 | G59: 48.990502 | H59: 42.80156 | I59: 42.243164 | J59: 26.739714 | K59: 34.933714 | L59: 50.071003 | M59: 43.437927
... A66: Elektriciteit | B66: Zwembad | C66: 478 | D66: 204.4612 | E66: 73.461756 | F66: 120.01883 | G66: 200.96725 | H66: 115.93245 | I66: 216.01554 | J66: 75.712995 | K66: 125.01323 | L66: 207.62709 | M66: 120.81705

Sheet elek_kental_bouwj_2020
A1: Energiedrager | B1: Gebouwtype | C1: Bouwjaarklasse | D1: Aantal panden | E1: Aandeel panden per gebouwtype | F1: Gemiddelde kental (kWh/m2) | G1: Q1 kental (kWh/m2) | H1: Mediaan kental (kWh/m2) | I1: Q3 kental (kWh/m2) | J1: Gewogen gemiddelde kental (kWh/m2) | K1: Gemiddelde kental inclusief eigenverbruik zonnestroom (kWh/m2) | L1: Q1 kental inclusief eigenverbruik zonnestroom (kWh/m2) | M1: Mediaan kental inclusief eigenverbruik zonnestroom (kWh/m2) | N1: Q3 kental inclusief eigenverbruik zonnestroom (kWh/m2) | O1: Gewogen gemiddelde kental inclusief eigenverbruik zonnestroom (kWh/m2)
A2: Elektriciteit | B2: Basisschool | C2: tot 1946 | D2: 445 | E2: 0.094 | F2: 22.902796 | G2: 14.583002 | H2: 20.550505 | I2: 26.457319 | J2: 21.263656 | K2: 25.831733 | L2: 16.701389 | M2: 22.666107 | N2: 29.62842 | O2: 23.412453
A3: Elektriciteit | B3: Basisschool | C3: 1946 tot 1978 | D3: 1702 | E3: 0.36 | F3: 20.729197 | G3: 14.696625 | H3: 18.885981 | I3: 24.020642 | J3: 19.880914 | K3: 24.272096 | L3: 16.861259 | M3: 21.385922 | N3: 28.406088 | O3: 22.685457
A4: Elektriciteit | B4: Basisschool | C4: 1978 tot 1995 | D4: 1096 | E4: 0.232 | F4: 21.429547 | G4: 15.488844 | H4: 19.779363 | I4: 25.417959 | J4: 20.986761 | K4: 24.240007 | L4: 17.457651 | M4: 21.959883 | N4: 28.64678 | O4: 23.554121
A5: Elektriciteit | B5: Basisschool | C5: 1995 tot 2009 | D5: 703 | E5: 0.149 | F5: 26.832627 | G5: 17.345234 | H5: 23.984795 | I5: 32.545409 | J5: 27.484934 | K5: 29.758265 | L5: 20.124708 | M5: 26.475208 | N5: 35.983617 | O5: 29.723815
A6: Elektriciteit | B6: Basisschool | C6: 2009 tot 2015 | D6: 488 | E6: 0.103 | F6: 38.650329 | G6: 27.476157 | H6: 36.167015 | I6: 48.96544 | J6: 39.379831 | K6: 42.858338 | L6: 30.991365 | M6: 41.099462 | N6: 53.438623 | O6: 42.500797
A7: Elektriciteit | B7: Basisschool | C7: vanaf 2015 | D7: 296 | E7: 0.063 | F7: 33.247032 | G7: 22.252873 | H7: 31.190375 | I7: 41.051243 | J7: 33.07397 | K7: 39.652401 | L7: 27.051328 | M7: 37.611573 | N7: 50.073219 | O7: 38.539908
A8: Elektriciteit | B8: Bedrijfshal algemeen (geen LISA-informatie) | C8: tot 1946 | D8: 247 | E8: 0.014 | F8: 48.797275 | G8: 12.764296 | H8: 22.363636 | I8: 44.421461 | J8: 41.261458 | K8: 50.207832 | L8: 13.257909 | M8: 23.47166 | N8: 46.228643 | O8: 42.383236
A9: Elektriciteit | B9: Bedrijfshal algemeen (geen LISA-informatie) | C9: 1946 tot 1978 | D9: 2303 | E9: 0.126 | F9: 37.522643 | G9: 10.748397 | H9: 19.952222 | I9: 40.383087 | J9: 47.968677 | K9: 39.15325 | L9: 10.846057 | M9: 20.953917 | N9: 41.914775 | O9: 49.760703
A10: Elektriciteit | B10: Bedrijfshal algemeen (geen LISA-informatie) | C10: 1978 tot 1995 | D10: 4213 | E10: 0.231 | F10: 41.956998 | G10: 11.842105 | H10: 21.685437 | I10: 43.552846 | J10: 47.188055 | K10: 43.756306 | L10: 12.302249 | M10: 22.832292 | N10: 46.817073 | O10: 48.781517
A11: Elektriciteit | B11: Bedrijfshal algemeen (geen LISA-informatie) | C11: 1995 tot 2009 | D11: 7725 | E11: 0.423 | F11: 34.83406 | G11: 10.890625 | H11: 19.772727 | I11: 37.704261 | J11: 43.285792 | K11: 36.721609 | L11: 11.297872 | M11: 20.849219 | N11: 40.027397 | O11: 45.211853
A12: Elektriciteit | B12: Bedrijfshal algemeen (geen LISA-informatie) | C12: 2009 tot 2015 | D12: 1618 | E12: 0.089 | F12: 36.01766 | G12: 10.734257 | H12: 19.001605 | I12: 39.312102 | J12: 50.245841 | K12: 38.861312 | L12: 11.09631 | M12: 20.464999 | N12: 42.001704 | O12: 55.630996
A13: Elektriciteit | B13: Bedrijfshal algemeen (geen LISA-informatie) | C13: vanaf 2015 | D13: 2137 | E13: 0.117 | F13: 47.034645 | G13: 13.379367 | H13: 27.205674 | I13: 50.272525 | J13: 39.938056 | K13: 50.021309 | L13: 14.884844 | M13: 28.828571 | N13: 55.638021 | O13: 45.624515
... A55: Elektriciteit | B55: Bijeenkomstgebouw (niet nader ingedeeld) | C55: vanaf 2015 | D55: 349 | E55: 0.038 | F55: 65.899268 | G55: 18.382353 | H55: 37.37037 | I55: 89.260759 | J55: 67.664547 | K55: 74.315621 | L55: 24.896226 | M55: 47.54717 | N55: 95.333333 | O55: 72.510485
A56: Elektriciteit | B56: Campusgebouw | C56: tot 1978 | D56: 27 | E56: 0.248 | F56: 73.405247 | H56: 45.545646 | J56: 86.59206 | K56: 75.38862 | M56: 45.545646 | O56: 89.170489
A57: Elektriciteit | B57: Campusgebouw | C57: 1978 tot 1995 | D57: 19 | E57: 0.174 | F57: 57.766388 | J57: 60.43765 | K57: 60.068925 | O57: 63.160247
A58: Elektriciteit | B58: Campusgebouw | C58: 1995 tot 2009 | D58: 39 | E58: 0.358 | F58: 91.963452 | H58: 51.615333 | J58: 65.889726 | K58: 96.181397 | M58: 51.615333 | O58: 67.009246
A59: Elektriciteit | B59: Campusgebouw | C59: 2009 tot 2015 | D59: 10 | E59: 0.092 | F59: 157.40526 | J59: 122.96618 | K59: 164.64045 | O59: 125.26754
A60: Elektriciteit | B60: Campusgebouw | C60: vanaf 2015 | D60: 14 | E60: 0.128 | F60: 110.87144 | J60: 108.63174 | K60: 119.89579 | O60: 117.45855
A61: Elektriciteit | B61: Cultuurhuis | C61: tot 1946 | D61: 221 | E61: 0.393 | F61: 56.762781 | G61: 22.795955 | H61: 41.55 | I61: 77.458262 | J61: 62.903053 | K61: 57.224548 | L61: 22.85172 | M61: 42.312775 | N61: 77.458262 | O61: 63.368421
A62: Elektriciteit | B62: Cultuurhuis | C62: 1946 tot 1978 | D62: 106 | E62: 0.188 | F62: 37.980217 | G62: 19.389583 | H62: 28.694193 | I62: 46.031514 | J62: 43.02401 | K62: 39.779621 | L62: 21.935492 | M62: 30.924099 | N62: 46.439844 | O62: 44.949948
A63: Elektriciteit | B63: Cultuurhuis | C63: 1978 tot 1995 | D63: 108 | E63: 0.192 | F63: 55.516145 | G63: 27.808425 | H63: 45.312208 | I63: 65.652131 | J63: 57.772283 | K63: 56.77047 | L63: 29.645233 | M63: 45.452508 | N63: 69.264431 | O63: 58.478094
A64: Elektriciteit | B64: Cultuurhuis | C64: 1995 tot 2009 | D64: 88 | E64: 0.156 | F64: 65.50951 | G64: 26.697883 | H64: 51.883421 | I64: 96.523213 | J64: 71.799219 | K64: 71.22242 | L64: 27.886228 | M64: 54.193257 | N64: 101.20606 | O64: 74.768448
A65: Elektriciteit | B65: Cultuurhuis | C65: 2009 tot 2015 | D65: 21 | E65: 0.037 | F65: 78.876498 | H65: 68.490371 | J65: 64.428905 | K65: 82.147069 | M65: 68.490371 | O65: 64.901611
A66: Elektriciteit | B66: Cultuurhuis | C66: vanaf 2015 | D66: 19 | E66: 0.034 | F66: 67.754469 | J66: 69.325395 | K66: 73.605077 | O66: 75.702197
A67: Elektriciteit | B67: Gebedshuis | C67: tot 1946 | D67: 1452 | E67: 0.404 | F67: 13.987053 | G67: 7.8274806 | H67: 11.024076 | I67: 17.165073 | J67: 13.705995 | K67: 14.796107 | L67: 7.907572 | M67: 11.427414 | N67: 18.595654 | O67: 14.469239
A68: Elektriciteit | B68: Gebedshuis | C68: 1946 tot 1978 | D68: 1230 | E68: 0.342 | F68: 14.264316 | G68: 8.1387716 | H68: 11.71702 | I68: 17.215486 | J68: 15.957758 | K68: 15.957649 | L68: 8.5771887 | M68: 12.798861 | N68: 19.229022 | O68: 17.419719
A69: Elektriciteit | B69: Gebedshuis | C69: 1978 tot 1995 | D69: 493 | E69: 0.137 | F69: 16.365246 | G69: 9.6221198 | H69: 14.004249 | I69: 21.451087 | J69: 18.560919 | K69: 17.684684 | L69: 10.278947 | M69: 14.876761 | N69: 23.225564 | O69: 19.829437
A70: Elektriciteit | B70: Gebedshuis | C70: 1995 tot 2009 | D70: 313 | E70: 0.087 | F70: 17.80899 | G70: 10.826211 | H70: 15.212828 | I70: 22.471248 | J70: 21.885525 | K70: 20.50289 | L70: 11.927731 | M70: 17.202186 | N70: 26.839557 | O70: 23.754275
A71: Elektriciteit | B71: Gebedshuis | C71: 2009 tot 2015 | D71: 80 | E71: 0.022 | F71: 19.175073 | G71: 11.844898 | H71: 17.926592 | I71: 25.035913 | J71: 20.089372 | K71: 22.784347 | L71: 13.854036 | M71: 20.64179 | N71: 27.549528 | O71: 23.037108
A72: Elektriciteit | B72: Gebedshuis | C72: vanaf 2015 | D72: 30 | E72: 0.008 | F72: 19.663128 | H72: 18.416143 | J72: 18.117104 | K72: 21.44018 | M72: 19.016445 | O72: 19.790856
A73: Elektriciteit | B73: Gebouw bij spooremplacement | C73: tot 1946 | D73: 16 | E73: 0.232 | F73: 35.646678 | J73: 24.79256 | K73: 35.668542 | O73: 24.846215
A74: Elektriciteit | B74: Gebouw bij spooremplacement | C74: 1995 tot 2009 | D74: 24 | E74: 0.348 | F74: 91.57142 | H74: 86.514979 | J74: 82.747962 | K74: 92.135235 | M74: 86.514979 | O74: 82.804653
A75: Elektriciteit | B75: Gebouw bij spooremplacement | C75: vanaf 2009 | D75: 10 | E75: 0.145 | F75: 69.473747 | J75: 35.728285 | K75: 69.845453 | O75: 36.479128
A76: Elektriciteit | B76: Gebouw bij spooremplacement | D76: 19 | E76: 0.275 | F76: 44.740605 | J76: 28.781961 | K76: 45.328006 | O76: 29.069066
A77: Elektriciteit | B77: Gebouw bij vliegveld of luchthaven | C77: tot 1978 | D77: 18 | E77: 0.131 | F77: 52.746107 | J77: 30.5961 | K77: 52.746107 | O77: 30.5961
A78: Elektriciteit | B78: Gebouw bij vliegveld of luchthaven | C78: 1978 tot 1995 | D78: 54 | E78: 0.394 | F78: 52.297191 | G78: 11.223193 | H78: 23.617789 | I78: 68.360956 | J78: 78.845405 | K78: 56.602026 | L78: 12.9613 | M78: 27.3268 | N78: 68.360956 | O78: 81.833096
A79: Elektriciteit | B79: Gebouw bij vliegveld of luchthaven | C79: 1995 tot 2009 | D79: 41 | E79: 0.299 | F79: 58.151594 | G79: 17.959922 | H79: 36.173007 | I79: 68.47 | J79: 54.679214 | K79: 58.151594 | L79: 17.959922 | M79: 36.173007 | N79: 68.47 | O79: 54.679214
A80: Elektriciteit | B80: Gebouw bij vliegveld of luchthaven | C80: 2009 tot 2015 | D80: 10 | E80: 0.073 | F80: 77.349316 | J80: 92.290944 | K80: 88.937505 | O80: 92.740111
A81: Elektriciteit | B81: Gebouw bij vliegveld of luchthaven | C81: vanaf 2015 | D81: 14 | E81: 0.102 | F81: 52.430702 | J81: 54.750086 | K81: 54.857674 | O81: 56.581996
A82: Elektriciteit | B82: Gebouw in landelijk gebied voor industrie (geen landbouwactiviteiten geregistreerd) | C82: tot 1946 | D82: 495 | E82: 0.107 | F82: 42.940363 | G82: 12.194653 | H82: 22.330435 | I82: 43.912112 | J82: 46.089823 | K82: 49.283008 | L82: 13.177436 | M82: 25.058824 | N82: 51.011323 | O82: 50.402944
A83: Elektriciteit | B83: Gebouw in landelijk gebied voor industrie (geen landbouwactiviteiten geregistreerd) | C83: 1946 tot 1978 | D83: 1280 | E83: 0.276 | F83: 42.930698 | G83: 11.757346 | H83: 22.962741 | I83: 50.557761 | J83: 49.123041 | K83: 53.554285 | L83: 12.578744 | M83: 25.204995 | N83: 56.587264 | O83: 57.064505
A84: Elektriciteit | B84: Gebouw in landelijk gebied voor industrie (geen landbouwactiviteiten geregistreerd) | C84: 1978 tot 1995 | D84: 1170 | E84: 0.252 | F84: 48.489036 | G84: 12.860504 | H84: 26.181026 | I84: 56.923887 | J84: 56.717849 | K84: 54.941554 | L84: 13.801477 | M84: 29.696393 | N84: 65.57899 | O84: 63.218452
A85: Elektriciteit | B85: Gebouw in landelijk gebied voor industrie (geen landbouwactiviteiten geregistreerd) | C85: 1995 tot 2009 | D85: 1040 | E85: 0.224 | F85: 48.327923 | G85: 12.720832 | H85: 26.578208 | I85: 54.283682 | J85: 58.51269 | K85: 55.41115 | L85: 14.944786 | M85: 29.717784 | N85: 65.256154 | O85: 64.794157
A86: Elektriciteit | B86: Gebouw in landelijk gebied voor industrie (geen landbouwactiviteiten geregistreerd) | C86: 2009 tot 2015 | D86: 323 | E86: 0.07 | F86: 47.357657 | G86: 13.564339 | H86: 28.387258 | I86: 57.880866 | J86: 50.428569 | K86: 56.894057 | L86: 16.168287 | M86: 36.242358 | N86: 69.814271 | O86: 59.744507
A87: Elektriciteit | B87: Gebouw in landelijk gebied voor industrie (geen landbouwactiviteiten geregistreerd) | C87: vanaf 2015 | D87: 338 | E87: 0.073 | F87: 43.20146 | G87: 15.960465 | H87: 32.063403 | I87: 43.678423 | J87: 47.138419 | K87: 48.974013 | L87: 17.942778 | M87: 35.777525 | N87: 54.553268 | O87: 54.035223
A88: Elektriciteit | B88: Gebouw in stedelijk gebied met industriefunctie | C88: tot 1946 | D88: 2946 | E88: 0.225 | F88: 50.874511 | G88: 13.034601 | H88: 26.099632 | I88: 52.399134 | J88: 50.098413 | K88: 52.972112 | L88: 13.475566 | M88: 27.04595 | N88: 55.254787 | O88: 51.665954
A89: Elektriciteit | B89: Gebouw in stedelijk gebied met industriefunctie | C89: 1946 tot 1978 | D89: 4329 | E89: 0.331 | F89: 51.203209 | G89: 12.727941 | H89: 24.694575 | I89: 52.746667 | J89: 68.862541 | K89: 53.36682 | L89: 13.536145 | M89: 27.007143 | N89: 56.101266 | O89: 70.994269
A90: Elektriciteit | B90: Gebouw in stedelijk gebied met industriefunctie | C90: 1978 tot 1995 | D90: 2609 | E90: 0.199 | F90: 56.408793 | G90: 14.818182 | H90: 28.386813 | I90: 56.811852 | J90: 51.658972 | K90: 59.845003 | L90: 15.690799 | M90: 30.415584 | N90: 60.55 | O90: 53.343528
A91: Elektriciteit | B91: Gebouw in stedelijk gebied met industriefunctie | C91: 1995 tot 2009 | D91: 2145 | E91: 0.164 | F91: 59.869662 | G91: 15.579498 | H91: 29.086705 | I91: 61.796294 | J91: 61.043577 | K91: 63.61318 | L91: 16.529233 | M91: 31.624545 | N91: 67.190563 | O91: 63.780963
A92: Elektriciteit | B92: Gebouw in stedelijk gebied met industriefunctie | C92: 2009 tot 2015 | D92: 500 | E92: 0.038 | F92: 55.659893 | G92: 15.101026 | H92: 26.015185 | I92: 55.859283 | J92: 53.499945 | K92: 60.118695 | L92: 16.431045 | M92: 30.646703 | N92: 63.018659 | O92: 56.832384
A93: Elektriciteit | B93: Gebouw in stedelijk gebied met industriefunctie | C93: vanaf 2015 | D93: 554 | E93: 0.042 | F93: 45.65588 | G93: 17.250901 | H93: 29.757959 | I93: 50.53128 | J93: 54.491463 | K93: 50.662914 | L93: 19.67607 | M93: 33.518701 | N93: 53.698465 | O93: 58.546068
... A105: Elektriciteit | B105: Gebouw voor landbouwactiviteiten | C105: vanaf 2015 | D105: 86 | E105: 0.036 | F105: 94.376139 | G105: 18.256806 | H105: 33.807093 | I105: 104.1572 | J105: 55.409027 | K105: 107.46583 | L105: 21.282023 | M105: 41.55734 | N105: 111.46801 | O105: 60.167367
A106: Elektriciteit | B106: Groothandel op bedrijventerrein | C106: tot 1946 | D106: 11 | E106: 0.019 | F106: 21.398388 | J106: 17.7961 | K106: 22.347701 | O106: 18.261112
A107: Elektriciteit | B107: Groothandel op bedrijventerrein | C107: 1946 tot 1978 | D107: 109 | E107: 0.192 | F107: 25.446104 | G107: 13.275484 | H107: 18.332962 | I107: 32.005441 | J107: 24.876891 | K107: 28.263452 | L107: 13.61924 | M107: 20.059197 | N107: 33.749936 | O107: 26.696062
A108: Elektriciteit | B108: Groothandel op bedrijventerrein | C108: 1978 tot 1995 | D108: 173 | E108: 0.304 | F108: 28.930613 | G108: 15.26644 | H108: 22.962348 | I108: 36.141485 | J108: 23.267496 | K108: 30.401009 | L108: 16.723375 | M108: 23.461028 | N108: 39.349108 | O108: 24.707391
A109: Elektriciteit | B109: Groothandel op bedrijventerrein | C109: 1995 tot 2009 | D109: 233 | E109: 0.409 | F109: 30.476107 | G109: 17.201469 | H109: 26.693237 | I109: 39.513595 | J109: 32.780673 | K109: 31.375858 | L109: 17.913126 | M109: 28.439516 | N109: 40.791738 | O109: 34.026688
A110: Elektriciteit | B110: Groothandel op bedrijventerrein | C110: 2009 tot 2015 | D110: 23 | E110: 0.04 | F110: 28.972025 | H110: 27.112308 | J110: 29.183183 | K110: 30.079769 | M110: 29.058859 | O110: 30.416892
A111: Elektriciteit | B111: Groothandel op bedrijventerrein | C111: vanaf 2015 | D111: 20 | E111: 0.035 | F111: 31.827492 | H111: 22.233659 | J111: 29.048335 | K111: 37.851258 | M111: 26.563227 | O111: 35.86944
A112: Elektriciteit | B112: Hotel (of ander groot logiesgebouw) | C112: tot 1946 | D112: 1178 | E112: 0.483 | F112: 62.831227 | G112: 25.752547 | H112: 48.17675 | I112: 89.246436 | J112: 71.550447 | K112: 63.979657 | L112: 27.048069 | M112: 49.513817 | N112: 89.770708 | O112: 72.283146
A113: Elektriciteit | B113: Hotel (of ander groot logiesgebouw) | C113: 1946 tot 1978 | D113: 464 | E113: 0.19 | F113: 59.276411 | G113: 22.283931 | H113: 47.911831 | I113: 79.855689 | J113: 65.794279 | K113: 61.182973 | L113: 25.032094 | M113: 49.284992 | N113: 83.139068 | O113: 66.838028
A114: Elektriciteit | B114: Hotel (of ander groot logiesgebouw) | C114: 1978 tot 1995 | D114: 312 | E114: 0.128 | F114: 70.1528 | G114: 31.478198 | H114: 65.641406 | I114: 98.234829 | J114: 74.792018 | K114: 72.185306 | L114: 32.986567 | M114: 66.965222 | N114: 100.62682 | O114: 75.466642
A115: Elektriciteit | B115: Hotel (of ander groot logiesgebouw) | C115: 1995 tot 2009 | D115: 252 | E115: 0.103 | F115: 64.479886 | G115: 26.739247 | H115: 54.803067 | I115: 91.793728 | J115: 69.750506 | K115: 66.51199 | L115: 27.354655 | M115: 58.832801 | N115: 93.644823 | O115: 70.348067
A116: Elektriciteit | B116: Hotel (of ander groot logiesgebouw) | C116: 2009 tot 2015 | D116: 101 | E116: 0.041 | F116: 66.612752 | G116: 22.691304 | H116: 57.914601 | I116: 95.483095 | J116: 92.30606 | K116: 68.179236 | L116: 25.071172 | M116: 57.914601 | N116: 95.976083 | O116: 92.869267
A117: Elektriciteit | B117: Hotel (of ander groot logiesgebouw) | C117: vanaf 2015 | D117: 133 | E117: 0.055 | F117: 66.534987 | G117: 24.419512 | H117: 52.909589 | I117: 104.64133 | J117: 78.445396 | K117: 71.571037 | L117: 26.814668 | M117: 62.480305 | N117: 106.01042 | O117: 81.200019
A118: Elektriciteit | B118: IJsbaan | C118: tot 1978 | D118: 15 | E118: 0.156 | F118: 23.003227 | J118: 51.091492 | K118: 23.003227 | O118: 51.091492
A119: Elektriciteit | B119: IJsbaan | C119: 1978 tot 1995 | D119: 32 | E119: 0.333 | F119: 21.201782 | H119: 15.064274 | J119: 18.285005 | K119: 24.674631 | M119: 17.695625 | O119: 22.286811
A120: Elektriciteit | B120: IJsbaan | C120: 1995 tot 2009 | D120: 29 | E120: 0.302 | F120: 35.807862 | H120: 21.381679 | J120: 109.02752 | K120: 38.488918 | M120: 23.493955 | O120: 109.68966
A121: Elektriciteit | B121: IJsbaan | C121: vanaf 2009 | D121: 20 | E121: 0.208 | F121: 23.524783 | H121: 15.118002 | J121: 24.911664 | K121: 28.930036 | M121: 22.142815 | O121: 31.726197
A122: Elektriciteit | B122: Kantoorpand algemeen | C122: tot 1946 | D122: 5235 | E122: 0.252 | F122: 39.612683 | G122: 18.909151 | H122: 30.764045 | I122: 48.164687 | J122: 44.762713 | K122: 40.925391 | L122: 19.596358 | M122: 31.657971 | N122: 49.680713 | O122: 45.713437
A123: Elektriciteit | B123: Kantoorpand algemeen | C123: 1946 tot 1978 | D123: 3382 | E123: 0.163 | F123: 44.269685 | G123: 19.471498 | H123: 33.835568 | I123: 55.986028 | J123: 54.417446 | K123: 47.581873 | L123: 20.597368 | M123: 35.763827 | N123: 59.513872 | O123: 56.176073
A124: Elektriciteit | B124: Kantoorpand algemeen | C124: 1978 tot 1995 | D124: 4430 | E124: 0.213 | F124: 48.030731 | G124: 22.779769 | H124: 38.78266 | I124: 61.779636 | J124: 55.230398 | K124: 50.875595 | L124: 24.574719 | M124: 41.41396 | N124: 65.837824 | O124: 56.937154
A125: Elektriciteit | B125: Kantoorpand algemeen | C125: 1995 tot 2009 | D125: 6108 | E125: 0.294 | F125: 52.374428 | G125: 24.72499 | H125: 43.686833 | I125: 69.902127 | J125: 61.276667 | K125: 55.415228 | L125: 26.45262 | M125: 46.301055 | N125: 72.865028 | O125: 62.769788
A126: Elektriciteit | B126: Kantoorpand algemeen | C126: 2009 tot 2015 | D126: 1101 | E126: 0.053 | F126: 61.275106 | G126: 26.692308 | H126: 50.972222 | I126: 83.415385 | J126: 70.44562 | K126: 73.09052 | L126: 28.090641 | M126: 54.42437 | N126: 89.621535 | O126: 73.298033
A127: Elektriciteit | B127: Kantoorpand algemeen | C127: vanaf 2015 | D127: 521 | E127: 0.025 | F127: 57.306233 | G127: 23.945504 | H127: 46.724609 | I127: 74.731511 | J127: 57.46104 | K127: 66.532477 | L127: 29.901087 | M127: 54.946329 | N127: 88.218199 | O127: 63.017443
A128: Elektriciteit | B128: Kinderopvang (gebouw) | C128: tot 1946 | D128: 260 | E128: 0.171 | F128: 32.531507 | G128: 20.125156 | H128: 27.637378 | I128: 39.619308 | J128: 30.704097 | K128: 33.856613 | L128: 20.702344 | M128: 28.26109 | N128: 40.882584 | O128: 31.960264
A129: Elektriciteit | B129: Kinderopvang (gebouw) | C129: 1946 tot 1978 | D129: 459 | E129: 0.302 | F129: 27.41082 | G129: 16.466489 | H129: 25.105941 | I129: 33.229076 | J129: 24.498173 | K129: 29.333598 | L129: 17.727975 | M129: 25.921859 | N129: 34.904625 | O129: 26.004172
A130: Elektriciteit | B130: Kinderopvang (gebouw) | C130: 1978 tot 1995 | D130: 334 | E130: 0.22 | F130: 32.076858 | G130: 19.950848 | H130: 28.993581 | I130: 39.819092 | J130: 31.525091 | K130: 33.513591 | L130: 21.005928 | M130: 30.915598 | N130: 43.014649 | O130: 33.229239
A131: Elektriciteit | B131: Kinderopvang (gebouw) | C131: 1995 tot 2009 | D131: 355 | E131: 0.234 | F131: 34.636046 | G131: 21.922543 | H131: 30.992874 | I131: 42.533035 | J131: 33.389229 | K131: 36.625032 | L131: 22.764429 | M131: 32.094503 | N131: 43.596503 | O131: 35.281314
A132: Elektriciteit | B132: Kinderopvang (gebouw) | C132: 2009 tot 2015 | D132: 89 | E132: 0.059 | F132: 45.146008 | G132: 26.461722 | H132: 37.401015 | I132: 61.006276 | J132: 44.416171 | K132: 48.013683 | L132: 29.234936 | M132: 39.679277 | N132: 67.989305 | O132: 47.23378
A133: Elektriciteit | B133: Kinderopvang (gebouw) | C133: vanaf 2015 | D133: 23 | E133: 0.015 | F133: 43.88639 | H133: 28.690544 | J133: 39.886445 | K133: 49.705576 | M133: 35.406897 | O133: 46.756335
A134: Elektriciteit | B134: Koelhuis | C134: tot 1978 | D134: 13 | E134: 0.135 | F134: 417.55865 | J134: 407.88924 | K134: 429.01078 | O134: 425.18584
A135: Elektriciteit | B135: Koelhuis | C135: 1978 tot 1995 | D135: 41 | E135: 0.427 | F135: 300.11817 | G135: 122.19596 | H135: 213.66606 | I135: 389.1621 | J135: 313.30339 | K135: 312.97117 | L135: 132.88051 | M135: 225.78401 | N135: 389.43004 | O135: 326.60317
A136: Elektriciteit | B136: Koelhuis | C136: 1995 tot 2009 | D136: 31 | E136: 0.323 | F136: 259.34391 | H136: 149.76737 | J136: 188.90772 | K136: 267.7048 | M136: 152.25976 | O136: 198.76684
A137: Elektriciteit | B137: Koelhuis | C137: vanaf 2009 | D137: 11 | E137: 0.115 | F137: 122.07898 | J137: 94.306073 | K137: 126.60535 | O137: 98.046447
A138: Elektriciteit | B138: Meergezinswoning met andere functie of combinatie van functies | C138: tot 1946 | D138: 11295 | E138: 0.645 | F138: 36.600243 | G138: 18.182335 | H138: 26.525 | I138: 40.715986 | J138: 35.753353 | K138: 38.300184 | L138: 18.748893 | M138: 27.367496 | N138: 42.413898 | O138: 37.315949
A139: Elektriciteit | B139: Meergezinswoning met andere functie of combinatie van functies | C139: 1946 tot 1978 | D139: 3280 | E139: 0.187 | F139: 38.766103 | G139: 19.451262 | H139: 28.454427 | I139: 45.089349 | J139: 39.690846 | K139: 41.480604 | L139: 20.40422 | M139: 29.740119 | N139: 48.010485 | O139: 41.369277
A140: Elektriciteit | B140: Meergezinswoning met andere functie of combinatie van functies | C140: 1978 tot 1995 | D140: 1392 | E140: 0.079 | F140: 40.910654 | G140: 20.394295 | H140: 30.296283 | I140: 48.076065 | J140: 41.641102 | K140: 44.38815 | L140: 21.435929 | M140: 31.865012 | N140: 51.779831 | O140: 43.742811
A141: Elektriciteit | B141: Meergezinswoning met andere functie of combinatie van functies | C141: 1995 tot 2009 | D141: 1166 | E141: 0.067 | F141: 41.029757 | G141: 21.049581 | H141: 30.164292 | I141: 45.838536 | J141: 44.768274 | K141: 44.409592 | L141: 22.061761 | M141: 31.837861 | N141: 49.304447 | O141: 46.758424
A142: Elektriciteit | B142: Meergezinswoning met andere functie of combinatie van functies | C142: 2009 tot 2015 | D142: 222 | E142: 0.013 | F142: 45.946468 | G142: 22.516178 | H142: 33.452073 | I142: 55.757901 | J142: 49.336678 | K142: 48.786215 | L142: 23.560907 | M142: 35.050355 | N142: 63.990353 | O142: 50.713411
A143: Elektriciteit | B143: Meergezinswoning met andere functie of combinatie van functies | C143: vanaf 2015 | D143: 158 | E143: 0.009 | F143: 42.321446 | G143: 21.819413 | H143: 32.14117 | I143: 48.071349 | J143: 45.451844 | K143: 48.181911 | L143: 25.297131 | M143: 38.258448 | N143: 62.137572 | O143: 49.341177
A144: Elektriciteit | B144: Meergezinswoning met cafe of restaurant | C144: tot 1946 | D144: 4992 | E144: 0.792 | F144: 88.515979 | G144: 38.781886 | H144: 75.578312 | I144: 122.64894 | J144: 80.054171 | K144: 88.85202 | L144: 39.237701 | M144: 75.986373 | N144: 122.76827 | O144: 80.436463
A145: Elektriciteit | B145: Meergezinswoning met cafe of restaurant | C145: 1946 tot 1978 | D145: 729 | E145: 0.116 | F145: 83.363968 | G145: 30.245989 | H145: 67.517361 | I145: 121.33036 | J145: 70.762125 | K145: 84.246772 | L145: 30.690934 | M145: 69.985075 | N145: 122.55856 | O145: 71.427765
A146: Elektriciteit | B146: Meergezinswoning met cafe of restaurant | C146: 1978 tot 1995 | D146: 259 | E146: 0.041 | F146: 81.673929 | G146: 32.550284 | H146: 67.928094 | I146: 117.78319 | J146: 72.592778 | K146: 82.886793 | L146: 32.730293 | M146: 70.959391 | N146: 117.78319 | O146: 73.8989
A147: Elektriciteit | B147: Meergezinswoning met cafe of restaurant | C147: 1995 tot 2009 | D147: 225 | E147: 0.036 | F147: 74.531112 | G147: 29.201754 | H147: 54.756267 | I147: 110.01813 | J147: 63.339955 | K147: 75.14576 | L147: 30.744337 | M147: 54.82197 | N147: 110.01813 | O147: 63.904712
A148: Elektriciteit | B148: Meergezinswoning met cafe of restaurant | C148: 2009 tot 2015 | D148: 50 | E148: 0.008 | F148: 70.512117 | G148: 24.988772 | H148: 50.144759 | I148: 98.870054 | J148: 61.086969 | K148: 70.906172 | L148: 26.399606 | M148: 50.144759 | N148: 98.870054 | O148: 61.31664
A149: Elektriciteit | B149: Meergezinswoning met cafe of restaurant | C149: vanaf 2015 | D149: 52 | E149: 0.008 | F149: 68.856469 | G149: 27.695221 | H149: 51.814602 | I149: 106.59176 | J149: 66.632032 | K149: 78.117426 | L149: 37.576274 | M149: 55.415236 | N149: 114.64117 | O149: 73.63348
... A160: Elektriciteit | B160: Meergezinswoning met winkels en horeca | C160: 2009 tot 2015 | D160: 86 | E160: 0.034 | F160: 51.89012 | G160: 27.530073 | H160: 48.048808 | I160: 69.76113 | J160: 48.417008 | K160: 53.417277 | L160: 29.016055 | M160: 48.933599 | N160: 72.720404 | O160: 49.499273
A161: Elektriciteit | B161: Meergezinswoning met winkels en horeca | C161: vanaf 2015 | D161: 32 | E161: 0.013 | F161: 58.015866 | H161: 43.124757 | J161: 61.118011 | K161: 60.506091 | M161: 43.124757 | O161: 62.936751
A162: Elektriciteit | B162: Meergezinswoning met woonzorgeenheden | C162: tot 1946 | D162: 66 | E162: 0.237 | F162: 29.713712 | G162: 15.32477 | H162: 22.135944 | I162: 36.31223 | J162: 34.809202 | K162: 33.102344 | L162: 15.69525 | M162: 22.826909 | N162: 38.081144 | O162: 35.979053
...

Sheet elek_kental_opp_2020
A1: Energiedrager | B1: Gebouwtype | C1: Oppervlakteklasse | D1: Aantal panden | E1: Aandeel panden per gebouwtype | F1: Gemiddelde kental (kWh/m2) | G1: Q1 kental (kWh/m2) | H1: Mediaan kental (kWh/m2) | I1: Q3 kental (kWh/m2) | J1: Gewogen gemiddelde kental (kWh/m2) | K1: Gemiddelde kental inclusief eigenverbruik zonnestroom (kWh/m2) | L1: Q1 kental inclusief eigenverbruik zonnestroom (kWh/m2) | M1: Mediaan kental inclusief eigenverbruik zonnestroom (kWh/m2) | N1: Q3 kental inclusief eigenverbruik zonnestroom (kWh/m2) | O1: Gewogen gemiddelde kental inclusief eigenverbruik zonnestroom (kWh/m2)
A2: Elektriciteit | B2: Basisschool | C2: tot 250 m2 | D2: 19 | E2: 0.004 | F2: 42.448882 | J2: 41.358087 | K2: 71.057535 | O2: 64.020685
A3: Elektriciteit | B3: Basisschool | C3: 250 tot 500 m2 | D3: 111 | E3: 0.023 | F3: 28.83236 | G3: 18.125727 | H3: 25.352941 | I3: 33.100993 | J3: 28.284229 | K3: 33.360402 | L3: 21.297247 | M3: 28.58952 | N3: 38.560416 | O3: 32.804562
A4: Elektriciteit | B4: Basisschool | C4: 500 tot 1000 m2 | D4: 888 | E4: 0.188 | F4: 23.42365 | G4: 16.187435 | H4: 20.638969 | I4: 26.578517 | J4: 23.380468 | K4: 28.119559 | L4: 18.661577 | M4: 23.606214 | N4: 32.584246 | O4: 28.085841
A5: Elektriciteit | B5: Basisschool | C5: 1000 tot 2500 m2 | D5: 2771 | E5: 0.586 | F5: 23.439796 | G5: 15.677999 | H5: 20.880312 | I5: 27.631437 | J5: 23.662022 | K5: 26.657709 | L5: 17.991626 | M5: 23.198402 | N5: 31.871113 | O5: 26.789142
A6: Elektriciteit | B6: Basisschool | C6: 2500 tot 5000 m2 | D6: 751 | E6: 0.159 | F6: 27.890914 | G6: 16.674253 | H6: 24.958073 | I6: 36.541978 | J6: 28.055242 | K6: 30.521779 | L6: 18.427527 | M6: 27.16119 | N6: 40.658968 | O6: 30.658772
A7: Elektriciteit | B7: Basisschool | C7: 5000 tot 10000 m2 | D7: 161 | E7: 0.034 | F7: 31.220548 | G7: 15.548034 | H7: 29.468869 | I7: 43.322419 | J7: 31.339885 | K7: 33.00947 | L7: 16.50373 | M7: 30.660864 | N7: 46.117227 | O7: 33.096189
A8: Elektriciteit | B8: Basisschool | C8: vanaf 10000 m2 | D8: 29 | E8: 0.006 | F8: 27.381411 | H8: 20.269704 | J8: 29.190818 | K8: 28.17783 | M8: 20.873794 | O8: 30.081485
A9: Elektriciteit | B9: Bedrijfshal algemeen (geen LISA-informatie) | C9: tot 50 m2 | D9: 491 | E9: 0.027 | F9: 78.177238 | G9: 14.082071 | H9: 41.027778 | I9: 116.65784 | J9: 74.572798 | K9: 80.656923 | L9: 14.146429 | M9: 42.272727 | N9: 119.38043 | O9: 76.76822
A10: Elektriciteit | B10: Bedrijfshal algemeen (geen LISA-informatie) | C10: 50 tot 100 m2 | D10: 1693 | E10: 0.093 | F10: 45.668767 | G10: 10.933333 | H10: 24.3 | I10: 52.547945 | J10: 45.591427 | K10: 48.006622 | L10: 11.103448 | M10: 25.25 | N10: 55.296875 | O10: 47.781037
A11: Elektriciteit | B11: Bedrijfshal algemeen (geen LISA-informatie) | C11: 100 tot 250 m2 | D11: 4801 | E11: 0.263 | F11: 34.9148 | G11: 10.77037 | H11: 20.082569 | I11: 36.6875 | J11: 34.70122 | K11: 36.820551 | L11: 11.060465 | M11: 20.979021 | N11: 39.166667 | O11: 36.605637
A12: Elektriciteit | B12: Bedrijfshal algemeen (geen LISA-informatie) | C12: 250 tot 500 m2 | D12: 3491 | E12: 0.191 | F12: 33.013253 | G12: 10.69413 | H12: 18.854209 | I12: 36.289345 | J12: 33.041074 | K12: 35.06078 | L12: 11.029197 | M12: 20.147059 | N12: 38.463995 | O12: 35.055607
A13: Elektriciteit | B13: Bedrijfshal algemeen (geen LISA-informatie) | C13: 500 tot 1000 m2 | D13: 3278 | E13: 0.18 | F13: 32.486916 | G13: 10.953558 | H13: 19.197415 | I13: 35.662248 | J13: 33.073834 | K13: 34.401222 | L13: 11.593822 | M13: 20.807298 | N13: 37.835728 | O13: 34.996647
A14: Elektriciteit | B14: Bedrijfshal algemeen (geen LISA-informatie) | C14: 1000 tot 2500 m2 | D14: 2792 | E14: 0.153 | F14: 39.891898 | G14: 12.513471 | H14: 22.850463 | I14: 42.031664 | J14: 40.768585 | K14: 41.827072 | L14: 13.11918 | M14: 23.810077 | N14: 44.827562 | O14: 42.678179
A15: Elektriciteit | B15: Bedrijfshal algemeen (geen LISA-informatie) | C15: 2500 tot 5000 m2 | D15: 1003 | E15: 0.055 | F15: 48.919853 | G15: 13.530999 | H15: 25.913861 | I15: 54.643129 | J15: 49.999906 | K15: 50.86569 | L15: 14.013707 | M15: 27.504425 | N15: 56.037902 | O15: 52.045177
A16: Elektriciteit | B16: Bedrijfshal algemeen (geen LISA-informatie) | C16: 5000 tot 10000 m2 | D16: 450 | E16: 0.025 | F16: 55.44822 | G16: 13.223643 | H16: 29.182343 | I16: 69.35005 | J16: 55.545514 | K16: 57.860319 | L16: 13.516168 | M16: 30.19809 | N16: 73.1191 | O16: 57.971115
A17: Elektriciteit | B17: Bedrijfshal algemeen (geen LISA-informatie) | C17: vanaf 10000 m2 | D17: 244 | E17: 0.013 | F17: 51.840417 | G17: 13.465578 | H17: 24.565753 | I17: 53.155143 | J17: 51.336001 | K17: 56.188229 | L17: 15.212686 | M17: 26.258704 | N17: 59.086184 | O17: 55.607537
A18: Elektriciteit | B18: Bedrijfshal algemeen (met LISA-informatie) | C18: tot 50 m2 | D18: 68 | E18: 0.006 | F18: 129.01899 | G18: 30.917247 | H18: 94.586364 | I18: 171.86744 | J18: 120.95315 | K18: 134.72268 | L18: 30.917247 | M18: 95.65 | N18: 190.57956 | O18: 125.8076
A19: Elektriciteit | B19: Bedrijfshal algemeen (met LISA-informatie) | C19: 50 tot 100 m2 | D19: 522 | E19: 0.043 | F19: 76.815244 | G19: 21.187281 | H19: 44.113887 | I19: 86.496312 | J19: 74.149963 | K19: 80.908222 | L19: 21.187281 | M19: 46.055206 | N19: 92.52864 | O19: 78.502101
A20: Elektriciteit | B20: Bedrijfshal algemeen (met LISA-informatie) | C20: 100 tot 250 m2 | D20: 2250 | E20: 0.186 | F20: 49.48254 | G20: 16.10991 | H20: 28.047142 | I20: 52.030267 | J20: 48.966812 | K20: 53.209105 | L20: 16.634617 | M20: 29.586574 | N20: 56.186202 | O20: 52.741289
... A26: Elektriciteit | B26: Bedrijfshal algemeen (met LISA-informatie) | C26: vanaf 10000 m2 | D26: 270 | E26: 0.022 | F26: 54.011395 | G26: 16.971623 | H26: 29.04922 | I26: 58.985677 | J26: 49.208963 | K26: 57.815939 | L26: 18.158347 | M26: 31.30342 | N26: 67.980457 | O26: 52.693535
A27: Elektriciteit | B27: Bedrijfshal met logistieke activiteiten | C27: tot 100 m2 | D27: 37 | E27: 0.007 | F27: 81.523408 | H27: 51.944444 | J27: 82.610633 | K27: 81.523408 | M27: 51.944444 | O27: 82.610633
A28: Elektriciteit | B28: Bedrijfshal met logistieke activiteiten | C28: 100 tot 250 m2 | D28: 226 | E28: 0.042 | F28: 48.176222 | G28: 17.78004 | H28: 29.340803 | I28: 49.357305 | J28: 49.165239 | K28: 52.381581 | L28: 18.51464 | M28: 30.570317 | N28: 52.376046 | O28: 53.409004
A29: Elektriciteit | B29: Bedrijfshal met logistieke activiteiten | C29: 250 tot 500 m2 | D29: 357 | E29: 0.067 | F29: 41.85737 | G29: 16.12336 | H29: 27.902062 | I29: 49.383721 | J29: 42.372842 | K29: 46.077675 | L29: 17.601824 | M29: 29.977492 | N29: 55.635347 | O29: 46.792937
A30: Elektriciteit | B30: Bedrijfshal met logistieke activiteiten | C30: 500 tot 1000 m2 | D30: 842 | E30: 0.157 | F30: 36.771007 | G30: 15.850826 | H30: 25.749192 | I30: 40.755653 | J30: 35.941838 | K30: 40.921019 | L30: 17.109275 | M30: 28.297251 | N30: 44.964633 | O30: 40.323038
A31: Elektriciteit | B31: Bedrijfshal met logistieke activiteiten | C31: 1000 tot 2500 m2 | D31: 1869 | E31: 0.349 | F31: 35.078921 | G31: 16.526889 | H31: 25.088731 | I31: 39.280448 | J31: 34.457658 | K31: 37.167837 | L31: 17.678012 | M31: 26.719916 | N31: 41.679412 | O31: 36.504446
A32: Elektriciteit | B32: Bedrijfshal met logistieke activiteiten | C32: 2500 tot 5000 m2 | D32: 1151 | E32: 0.215 | F32: 40.075583 | G32: 16.730358 | H32: 26.89989 | I32: 43.944727 | J32: 40.611945 | K32: 43.129434 | L32: 17.958774 | M32: 28.952275 | N32: 45.097831 | O32: 43.700113
A33: Elektriciteit | B33: Bedrijfshal met logistieke activiteiten | C33: 5000 tot 10000 m2 | D33: 562 | E33: 0.105 | F33: 40.240375 | G33: 15.674723 | H33: 26.442057 | I33: 47.321599 | J33: 40.773897 | K33: 42.284639 | L33: 16.094188 | M33: 27.97523 | N33: 49.024664 | O33: 42.845695
A34: Elektriciteit | B34: Bedrijfshal met logistieke activiteiten | C34: vanaf 10000 m2 | D34: 316 | E34: 0.059 | F34: 50.482671 | G34: 16.656523 | H34: 29.915479 | I34: 61.553807 | J34: 48.134422 | K34: 53.923486 | L34: 17.368201 | M34: 32.894385 | N34: 65.528752 | O34: 51.727075
A35: Elektriciteit | B35: Bedrijfshal met maakindustrie en andere economische activiteiten | C35: tot 100 m2 | D35: 54 | E35: 0.011 | F35: 81.590577 | G35: 32.896673 | H35: 50.027273 | I35: 107.18017 | J35: 80.499226 | K35: 84.23481 | L35: 32.896673 | M35: 50.027273 | N35: 112.38438 | O35: 82.601962
A36: Elektriciteit | B36: Bedrijfshal met maakindustrie en andere economische activiteiten | C36: 100 tot 250 m2 | D36: 272 | E36: 0.057 | F36: 44.857527 | G36: 15.770526 | H36: 27.210204 | I36: 45.237711 | J36: 44.09649 | K36: 47.45284 | L36: 16.570594 | M36: 27.639731 | N36: 47.409859 | O36: 46.809226
A37: Elektriciteit | B37: Bedrijfshal met maakindustrie en andere economische activiteiten | C37: 250 tot 500 m2 | D37: 461 | E37: 0.096 | F37: 45.329053 | G37: 17.589583 | H37: 27.475703 | I37: 49.88189 | J37: 44.949058 | K37: 48.958109 | L37: 18.372263 | M37: 29.185484 | N37: 54.51505 | O37: 48.548411
A38: Elektriciteit | B38: Bedrijfshal met maakindustrie en andere economische activiteiten | C38: 500 tot 1000 m2 | D38: 1137 | E38: 0.236 | F38: 36.877752 | G38: 15.70641 | H38: 25.901786 | I38: 43.070391 | J38: 36.910729 | K38: 39.595842 | L38: 17.316757 | M38: 27.976378 | N38: 46.454649 | O38: 39.525331
A39: Elektriciteit | B39: Bedrijfshal met maakindustrie en andere economische activiteiten | C39: 1000 tot 2500 m2 | D39: 1776 | E39: 0.369 | F39: 38.677433 | G39: 15.522484 | H39: 25.776744 | I39: 42.834257 | J39: 39.232435 | K39: 41.992291 | L39: 16.80864 | M39: 28.114167 | N39: 46.54427 | O39: 42.534191
... A42: Elektriciteit | B42: Bedrijfshal met maakindustrie en andere economische activiteiten | C42: vanaf 10000 m2 | D42: 133 | E42: 0.028 | F42: 74.647809 | G42: 25.77191 | H42: 45.02812 | I42: 93.185132 | J42: 82.389328 | K42: 78.304535 | L42: 25.77191 | M42: 48.731011 | N42: 101.87646 | O42: 86.58543
A43: Elektriciteit | B43: Bedrijfshal met maakindustrie en logistieke activiteiten | C43: tot 50 m2 | D43: 24 | E43: 0.002 | F43: 134.53779 | H43: 93.657375 | J43: 132.22765 | K43: 173.32091 | M43: 123.87381 | O43: 178.3528
A44: Elektriciteit | B44: Bedrijfshal met maakindustrie en logistieke activiteiten | C44: 50 tot 100 m2 | D44: 192 | E44: 0.019 | F44: 79.859724 | G44: 19.639783 | H44: 41.639351 | I44: 99.068967 | J44: 77.496382 | K44: 293.9666 | L44: 21.459016 | M44: 44.631504 | N44: 102.51527 | O44: 299.24045
A45: Elektriciteit | B45: Bedrijfshal met maakindustrie en logistieke activiteiten | C45: 100 tot 250 m2 | D45: 950 | E45: 0.092 | F45: 46.756635 | G45: 14.619078 | H45: 26.930969 | I45: 48.973958 | J45: 46.141123 | K45: 49.757052 | L45: 15.247869 | M45: 28.056624 | N45: 53.125 | O45: 49.410768
A46: Elektriciteit | B46: Bedrijfshal met maakindustrie en logistieke activiteiten | C46: 250 tot 500 m2 | D46: 1331 | E46: 0.129 | F46: 40.054247 | G46: 15.531918 | H46: 25.214545 | I46: 42.078859 | J46: 39.78549 | K46: 42.870371 | L46: 16.337754 | M46: 27.11465 | N46: 45.310448 | O46: 42.609815
A47: Elektriciteit | B47: Bedrijfshal met maakindustrie en logistieke activiteiten | C47: 500 tot 1000 m2 | D47: 2151 | E47: 0.208 | F47: 40.355534 | G47: 14.496826 | H47: 24.076305 | I47: 41.123028 | J47: 40.271451 | K47: 42.964788 | L47: 15.7016 | M47: 26.012263 | N47: 44.648098 | O47: 42.822006
A48: Elektriciteit | B48: Bedrijfshal met maakindustrie en logistieke activiteiten | C48: 1000 tot 2500 m2 | D48: 3081 | E48: 0.298 | F48: 42.82387 | G48: 14.155333 | H48: 24.558895 | I48: 43.136574 | J48: 43.354723 | K48: 45.437849 | L48: 15.698328 | M48: 26.63586 | N48: 46.140772 | O48: 45.917189
A49: Elektriciteit | B49: Bedrijfshal met maakindustrie en logistieke activiteiten | C49: 2500 tot 5000 m2 | D49: 1476 | E49: 0.143 | F49: 50.180726 | G49: 15.389764 | H49: 27.638088 | I49: 50.722429 | J49: 50.631469 | K49: 53.160973 | L49: 17.120394 | M49: 29.870935 | N49: 55.403378 | O49: 53.702452
A50: Elektriciteit | B50: Bedrijfshal met maakindustrie en logistieke activiteiten | C50: 5000 tot 10000 m2 | D50: 747 | E50: 0.072 | F50: 56.37241 | G50: 14.382514 | H50: 28.010518 | I50: 59.978045 | J50: 57.535889 | K50: 60.031876 | L50: 15.925317 | M50: 30.065374 | N50: 67.712822 | O50: 61.191578
A51: Elektriciteit | B51: Bedrijfshal met maakindustrie en logistieke activiteiten | C51: vanaf 10000 m2 | D51: 383 | E51: 0.037 | F51: 71.602381 | G51: 18.769287 | H51: 38.402889 | I51: 76.28726 | J51: 67.844494 | K51: 75.325198 | L51: 20.917436 | M51: 40.796907 | N51: 89.025437 | O51: 71.471909
A52: Elektriciteit | B52: Bedrijfshal uitsluitend maakindustrie | C52: tot 50 m2 | D52: 73 | E52: 0.004 | F52: 147.16939 | G52: 28.588235 | H52: 100.21951 | I52: 202.7381 | J52: 141.23029 | K52: 151.16389 | L52: 30.566667 | M52: 102.075 | N52: 214.28571 | O52: 145.15575
A53: Elektriciteit | B53: Bedrijfshal uitsluitend maakindustrie | C53: 50 tot 100 m2 | D53: 493 | E53: 0.026 | F53: 65.658633 | G53: 15.358696 | H53: 32.806122 | I53: 64.72 | J53: 62.443378 | K53: 73.629384 | L53: 16.393443 | M53: 34.147059 | N53: 72.309278 | O53: 70.77678
A54: Elektriciteit | B54: Bedrijfshal uitsluitend maakindustrie | C54: 100 tot 250 m2 | D54: 2272 | E54: 0.121 | F54: 46.541504 | G54: 14.718094 | H54: 25.443698 | I54: 46.23258 | J54: 46.041841 | K54: 50.281912 | L54: 15.262966 | M54: 26.703253 | N54: 50.445036 | O54: 49.625193
A55: Elektriciteit | B55: Bedrijfshal uitsluitend maakindustrie | C55: 250 tot 500 m2 | D55: 3275 | E55: 0.174 | F55: 43.160673 | G55: 14.64276 | H55: 24.742857 | I55: 43.812973 | J55: 43.428462 | K55: 46.666415 | L55: 15.704704 | M55: 27.246667 | N55: 47.981569 | O55: 47.018103
... A68: Elektriciteit | B68: Bedrijfswoning | C68: 5000 tot 10000 m2 | D68: 50 | E68: 0.001 | F68: 36.395535 | G68: 12.377119 | H68: 21.23011 | I68: 44.902987 | J68: 37.698018 | K68: 39.983201 | L68: 12.919523 | M68: 22.595098 | N68: 44.902987 | O68: 41.521937
A69: Elektriciteit | B69: Bedrijfswoning | C69: vanaf 10000 m2 | D69: 21 | E69: 0 | F69: 74.296916 | H69: 46.425663 | J69: 73.309289 | K69: 80.489167 | M69: 62.987974 | O69: 78.337068
A70: Elektriciteit | B70: Bijeenkomstgebouw (niet nader ingedeeld) | C70: tot 50 m2 | D70: 182 | E70: 0.02 | F70: 74.480206 | G70: 18.54386 | H70: 45.656122 | I70: 120.43192 | J70: 71.632154 | K70: 75.487996 | L70: 18.910227 | M70: 45.864286 | N70: 124.55519 | O70: 72.761759
A71: Elektriciteit | B71: Bijeenkomstgebouw (niet nader ingedeeld) | C71: 50 tot 100 m2 | D71: 835 | E71: 0.091 | F71: 59.871068 | G71: 16.051843 | H71: 36.025 | I71: 80.737907 | J71: 59.528255 | K71: 62.440593 | L71: 16.441234 | M71: 37.285714 | N71: 83.733487 | O71: 61.906902
A72: Elektriciteit | B72: Bijeenkomstgebouw (niet nader ingedeeld) | C72: 100 tot 250 m2 | D72: 2807 | E72: 0.307 | F72: 45.699987 | G72: 12.614531 | H72: 24.066351 | I72: 51.311688 | J72: 45.066781 | K72: 48.816617 | L72: 13.243258 | M72: 25.40678 | N72: 58.317647 | O72: 48.082026
A73: Elektriciteit | B73: Bijeenkomstgebouw (niet nader ingedeeld) | C73: 250 tot 500 m2 | D73: 2572 | E73: 0.282 | F73: 40.875754 | G73: 12.607726 | H73: 21.709626 | I73: 44.654966 | J73: 40.922218 | K73: 43.851141 | L73: 13.732437 | M73: 24.698732 | N73: 49.642953 | O73: 43.890507
A74: Elektriciteit | B74: Bijeenkomstgebouw (niet nader ingedeeld) | C74: 500 tot 1000 m2 | D74: 1619 | E74: 0.177 | F74: 40.866244 | G74: 13.267508 | H74: 24.623902 | I74: 45.933106 | J74: 40.984561 | K74: 43.441866 | L74: 15.37734 | M74: 28.120219 | N74: 50.154243 | O74: 43.467984
A75: Elektriciteit | B75: Bijeenkomstgebouw (niet nader ingedeeld) | C75: 1000 tot 2500 m2 | D75: 838 | E75: 0.092 | F75: 43.974943 | G75: 16.713745 | H75: 29.840739 | I75: 54.02946 | J75: 44.435183 | K75: 45.632124 | L75: 17.874422 | M75: 31.522123 | N75: 56.256641 | O75: 46.107581
A76: Elektriciteit | B76: Bijeenkomstgebouw (niet nader ingedeeld) | C76: 2500 tot 5000 m2 | D76: 199 | E76: 0.022 | F76: 51.405226 | G76: 14.601303 | H76: 33.977797 | I76: 77.036105 | J76: 51.438234 | K76: 52.74164 | L76: 14.674943 | M76: 34.039642 | N76: 80.327266 | O76: 52.803524
A77: Elektriciteit | B77: Bijeenkomstgebouw (niet nader ingedeeld) | C77: 5000 tot 10000 m2 | D77: 56 | E77: 0.006 | F77: 47.618557 | G77: 12.719413 | H77: 31.034396 | I77: 66.773541 | J77: 50.066194 | K77: 48.193933 | L77: 12.719413 | M77: 31.922503 | N77: 66.773541 | O77: 50.693721
A78: Elektriciteit | B78: Bijeenkomstgebouw (niet nader ingedeeld) | C78: vanaf 10000 m2 | D78: 23 | E78: 0.003 | F78: 52.521624 | H78: 42.987712 | J78: 51.323258 | K78: 53.229894 | M78: 42.987712 | O78: 52.116894
A79: Elektriciteit | B79: Campusgebouw | C79: tot 1000 m2 | D79: 17 | E79: 0.156 | F79: 105.31298 | J79: 103.28947 | K79: 112.45714 | O79: 111.56468
A80: Elektriciteit | B80: Campusgebouw | C80: 1000 tot 2500 m2 | D80: 11 | E80: 0.101 | F80: 108.23399 | J80: 119.54118 | K80: 115.7851 | O80: 128.97745
A81: Elektriciteit | B81: Campusgebouw | C81: 2500 tot 5000 m2 | D81: 16 | E81: 0.147 | F81: 102.88792 | J81: 96.755844 | K81: 109.6055 | O81: 102.72389
A82: Elektriciteit | B82: Campusgebouw | C82: 5000 tot 10000 m2 | D82: 29 | E82: 0.266 | F82: 70.782965 | H82: 42.23504 | J82: 72.650185 | K82: 72.237897 | M82: 42.23504 | O82: 74.206982
A83: Elektriciteit | B83: Campusgebouw | C83: vanaf 10000 m2 | D83: 36 | E83: 0.33 | F83: 86.458978 | H83: 55.002617 | J83: 76.846828 | K83: 89.411885 | M83: 55.002617 | O83: 79.250254
A84: Elektriciteit | B84: Cultuurhuis | C84: tot 250 m2 | D84: 31 | E84: 0.055 | F84: 55.253923 | H84: 30.439791 | J84: 54.554877 | K84: 55.755904 | M84: 30.439791 | O84: 55.25399
A85: Elektriciteit | B85: Cultuurhuis | C85: 250 tot 500 m2 | D85: 66 | E85: 0.117 | F85: 40.86527 | G85: 20.612039 | H85: 29.818439 | I85: 46.282108 | J85: 40.747448 | K85: 41.634763 | L85: 21.915018 | M85: 29.818439 | N85: 51.890233 | O85: 41.367772
A86: Elektriciteit | B86: Cultuurhuis | C86: 500 tot 1000 m2 | D86: 120 | E86: 0.213 | F86: 47.330165 | G86: 21.955299 | H86: 32.669131 | I86: 53.867309 | J86: 46.646171 | K86: 50.908935 | L86: 23.154516 | M86: 35.539526 | N86: 55.67711 | O86: 50.528136
A87: Elektriciteit | B87: Cultuurhuis | C87: 1000 tot 2500 m2 | D87: 160 | E87: 0.284 | F87: 60.978969 | G87: 27.645045 | H87: 46.604775 | I87: 78.89279 | J87: 61.378586 | K87: 63.003302 | L87: 30.238861 | M87: 48.927352 | N87: 82.267434 | O87: 63.401799
A88: Elektriciteit | B88: Cultuurhuis | C88: 2500 tot 5000 m2 | D88: 92 | E88: 0.163 | F88: 55.184144 | G88: 25.141593 | H88: 41.358839 | I88: 76.411222 | J88: 54.267696 | K88: 57.132949 | L88: 25.787393 | M88: 45.956853 | N88: 81.052507 | O88: 56.394712
A89: Elektriciteit | B89: Cultuurhuis | C89: 5000 tot 10000 m2 | D89: 62 | E89: 0.11 | F89: 67.598265 | G89: 37.139703 | H89: 63.954404 | I89: 85.293922 | J89: 67.11505 | K89: 68.695961 | L89: 38.683749 | M89: 67.117021 | N89: 86.43342 | O89: 68.198668
A90: Elektriciteit | B90: Cultuurhuis | C90: vanaf 10000 m2 | D90: 32 | E90: 0.057 | F90: 67.516612 | H90: 60.051798 | J90: 62.021929 | K90: 68.885147 | M90: 61.046813 | O90: 63.197164
A91: Elektriciteit | B91: Gebedshuis | C91: tot 100 m2 | D91: 39 | E91: 0.011 | F91: 19.919323 | H91: 16.266667 | J91: 19.604774 | K91: 19.919323 | M91: 16.266667 | O91: 19.604774
A92: Elektriciteit | B92: Gebedshuis | C92: 100 tot 250 m2 | D92: 388 | E92: 0.108 | F92: 15.694141 | G92: 8.4447917 | H92: 12.168004 | I92: 19.923339 | J92: 15.501928 | K92: 16.819052 | L92: 8.6452941 | M92: 12.423878 | N92: 20.642472 | O92: 16.691593
A93: Elektriciteit | B93: Gebedshuis | C93: 250 tot 500 m2 | D93: 955 | E93: 0.265 | F93: 15.086719 | G93: 8.3708654 | H93: 12.561404 | I93: 18.752806 | J93: 14.895647 | K93: 16.281486 | L93: 8.5063636 | M93: 13.108108 | N93: 19.813237 | O93: 16.086112
A94: Elektriciteit | B94: Gebedshuis | C94: 500 tot 1000 m2 | D94: 1208 | E94: 0.336 | F94: 14.259683 | G94: 8.4352852 | H94: 11.95242 | I94: 17.338832 | J94: 14.227699 | K94: 16.053754 | L94: 8.9108071 | M94: 12.990199 | N94: 20.26976 | O94: 15.975673
A95: Elektriciteit | B95: Gebedshuis | C95: 1000 tot 2500 m2 | D95: 861 | E95: 0.239 | F95: 14.03629 | G95: 8.124 | H95: 11.653563 | I95: 17.787333 | J95: 14.206429 | K95: 15.48002 | L95: 8.6214765 | M95: 12.789104 | N95: 19.11166 | O95: 15.578076
A96: Elektriciteit | B96: Gebedshuis | C96: 2500 tot 5000 m2 | D96: 101 | E96: 0.028 | F96: 18.992233 | G96: 8.7082707 | H96: 16.00532 | I96: 27.218519 | J96: 19.746206 | K96: 19.750886 | L96: 8.8463005 | M96: 17.704062 | N96: 28.877905 | O96: 20.481821
A97: Elektriciteit | B97: Gebedshuis | C97: 5000 tot 10000 m2 | D97: 32 | E97: 0.009 | F97: 21.304334 | H97: 20.671426 | J97: 21.729961 | K97: 21.91608 | M97: 20.671426 | O97: 22.285896
A98: Elektriciteit | B98: Gebedshuis | C98: vanaf 10000 m2 | D98: 14 | E98: 0.004 | F98: 31.113957 | J98: 30.42208 | K98: 31.779298 | O98: 31.025465
A99: Elektriciteit | B99: Gebouw bij spooremplacement | C99: tot 500 m2 | D99: 19 | E99: 0.275 | F99: 87.040032 | J99: 54.851638 | K99: 87.040032 | O99: 54.851638
A100: Elektriciteit | B100: Gebouw bij spooremplacement | C100: 500 tot 2500 m2 | D100: 21 | E100: 0.304 | F100: 57.760279 | H100: 39.110843 | J100: 54.805814 | K100: 58.708824 | M100: 39.110843 | O100: 55.366
A101: Elektriciteit | B101: Gebouw bij spooremplacement | C101: 2500 tot 5000 m2 | D101: 12 | E101: 0.174 | F101: 60.687771 | J101: 60.679198 | K101: 61.085501 | O101: 61.026494
A102: Elektriciteit | B102: Gebouw bij spooremplacement | C102: vanaf 5000 m2 | D102: 17 | E102: 0.246 | F102: 42.228833 | J102: 46.790001 | K102: 42.468062 | O102: 47.15125
A103: Elektriciteit | B103: Gebouw bij vliegveld of luchthaven | C103: tot 250 m2 | D103: 17 | E103: 0.124 | F103: 80.794788 | J103: 79.006341 | K103: 92.495196 | O103: 85.490036
A104: Elektriciteit | B104: Gebouw bij vliegveld of luchthaven | C104: 250 tot 500 m2 | D104: 19 | E104: 0.139 | F104: 42.070929 | J104: 41.605739 | K104: 42.070929 | O104: 41.605739
A105: Elektriciteit | B105: Gebouw bij vliegveld of luchthaven | C105: 500 tot 1000 m2 | D105: 31 | E105: 0.226 | F105: 36.326014 | H105: 18.716667 | J105: 36.036515 | K105: 38.615737 | M105: 25.415888 | O105: 37.75949
A106: Elektriciteit | B106: Gebouw bij vliegveld of luchthaven | C106: 1000 tot 2500 m2 | D106: 34 | E106: 0.248 | F106: 48.39381 | H106: 26.573818 | J106: 53.157035 | K106: 48.682064 | M106: 26.573818 | O106: 53.338105
A107: Elektriciteit | B107: Gebouw bij vliegveld of luchthaven | C107: 2500 tot 5000 m2 | D107: 17 | E107: 0.124 | F107: 81.799969 | J107: 76.757368 | K107: 87.199632 | O107: 82.411522
A108: Elektriciteit | B108: Gebouw bij vliegveld of luchthaven | C108: vanaf 5000 m2 | D108: 19 | E108: 0.139 | F108: 70.013794 | J108: 68.27004 | K108: 70.584179 | O108: 69.15139
A109: Elektriciteit | B109: Gebouw in landelijk gebied voor industrie (geen landbouwactiviteiten geregistreerd) | C109: tot 50 m2 | D109: 86 | E109: 0.019 | F109: 86.184389 | G109: 26.879464 | H109: 68.485714 | I109: 122.76416 | J109: 86.953052 | K109: 95.082604 | L109: 26.879464 | M109: 68.485714 | N109: 133.93878 | O109: 95.504024
A110: Elektriciteit | B110: Gebouw in landelijk gebied voor industrie (geen landbouwactiviteiten geregistreerd) | C110: 50 tot 100 m2 | D110: 242 | E110: 0.052 | F110: 62.780314 | G110: 17.668497 | H110: 34.792708 | I110: 78.013235 | J110: 62.491455 | K110: 70.179042 | L110: 17.696747 | M110: 36.600275 | N110: 92.523883 | O110: 70.572134
A111: Elektriciteit | B111: Gebouw in landelijk gebied voor industrie (geen landbouwactiviteiten geregistreerd) | C111: 100 tot 250 m2 | D111: 813 | E111: 0.175 | F111: 49.515618 | G111: 14.815789 | H111: 30.080645 | I111: 57.239234 | J111: 49.024428 | K111: 65.286701 | L111: 16.135294 | M111: 32.326271 | N111: 67.377246 | O111: 61.83386
A112: Elektriciteit | B112: Gebouw in landelijk gebied voor industrie (geen landbouwactiviteiten geregistreerd) | C112: 250 tot 500 m2 | D112: 971 | E112: 0.209 | F112: 45.17432 | G112: 11.700262 | H112: 24.037135 | I112: 49.892713 | J112: 45.093654 | K112: 51.546756 | L112: 12.567647 | M112: 27.33209 | N112: 56.987519 | O112: 51.34568
A113: Elektriciteit | B113: Gebouw in landelijk gebied voor industrie (geen landbouwactiviteiten geregistreerd) | C113: 500 tot 1000 m2 | D113: 1004 | E113: 0.216 | F113: 38.685858 | G113: 11.609004 | H113: 22.972021 | I113: 43.562891 | J113: 38.622532 | K113: 44.174263 | L113: 13.039186 | M113: 26.654346 | N113: 52.644123 | O113: 44.052575
A114: Elektriciteit | B114: Gebouw in landelijk gebied voor industrie (geen landbouwactiviteiten geregistreerd) | C114: 1000 tot 2500 m2 | D114: 988 | E114: 0.213 | F114: 40.357644 | G114: 11.688911 | H114: 22.144909 | I114: 45.213925 | J114: 40.060924 | K114: 45.990244 | L114: 13.212395 | M114: 25.774607 | N114: 52.559716 | O114: 45.574894
A115: Elektriciteit | B115: Gebouw in landelijk gebied voor industrie (geen landbouwactiviteiten geregistreerd) | C115: 2500 tot 5000 m2 | D115: 343 | E115: 0.074 | F115: 41.080566 | G115: 12.707971 | H115: 24.734336 | I115: 47.1598 | J115: 41.428829 | K115: 47.669186 | L115: 14.792094 | M115: 27.586694 | N115: 59.851855 | O115: 47.848583
A116: Elektriciteit | B116: Gebouw in landelijk gebied voor industrie (geen landbouwactiviteiten geregistreerd) | C116: 5000 tot 10000 m2 | D116: 144 | E116: 0.031 | F116: 58.441249 | G116: 13.995065 | H116: 28.399986 | I116: 74.234083 | J116: 60.430624 | K116: 66.761874 | L116: 18.203079 | M116: 36.423244 | N116: 86.965594 | O116: 69.059133
A117: Elektriciteit | B117: Gebouw in landelijk gebied voor industrie (geen landbouwactiviteiten geregistreerd) | C117: vanaf 10000 m2 | D117: 55 | E117: 0.012 | F117: 93.696684 | G117: 18.729897 | H117: 44.597939 | I117: 151.83643 | J117: 94.116434 | K117: 104.36005 | L117: 20.563003 | M117: 46.733152 | N117: 173.24861 | O117: 102.52011
A118: Elektriciteit | B118: Gebouw in stedelijk gebied met industriefunctie | C118: tot 50 m2 | D118: 516 | E118: 0.039 | F118: 93.77171 | G118: 16.008605 | H118: 42.901049 | I118: 128.91576 | J118: 89.075261 | K118: 98.653955 | L118: 16.562153 | M118: 43.768132 | N118: 130.36842 | O118: 93.174397
A119: Elektriciteit | B119: Gebouw in stedelijk gebied met industriefunctie | C119: 50 tot 100 m2 | D119: 1359 | E119: 0.104 | F119: 69.790732 | G119: 15.229315 | H119: 34.293333 | I119: 75.154658 | J119: 69.408069 | K119: 74.17739 | L119: 15.444376 | M119: 36.408163 | N119: 80.49468 | O119: 73.871276
...

Sheet elek_kental_diensten_2020
A1: Energiedrager | B1: Gebouwtype | C1: Aantal panden | D1: Gemiddelde kental (kWh/m2) | E1: Q1 kental (kWh/m2) | F1: Mediaan kental (kWh/m2) | G1: Q3 kental (kWh/m2) | H1: Gewogen gemiddelde kental (kWh/m2) | I1: Gemiddelde kental inclusief eigenverbruik zonnestroom (kWh/m2) | J1: Q1 kental inclusief eigenverbruik zonnestroom (kWh/m2) | K1: Mediaan kental inclusief eigenverbruik zonnestroom (kWh/m2) | L1: Q3 kental inclusief eigenverbruik zonnestroom (kWh/m2) | M1: Gewogen gemiddelde kental inclusief eigenverbruik zonnestroom (kWh/m2)
A2: Elektriciteit | B2: Asielzoekerscentrum | C2: 51 | D2: 73.557088 | E2: 28.902421 | F2: 50.638474 | G2: 76.224429 | H2: 63.261816 | I2: 73.557088 | J2: 28.902421 | K2: 50.638474 | L2: 76.224429 | M2: 63.261816
A3: Elektriciteit | B3: Basisschool | C3: 4295 | D3: 24.115955 | E3: 15.78303 | F3: 21.129755 | G3: 28.842653 | H3: 24.763615 | I3: 27.701088 | J3: 18.112234 | K3: 23.725 | L3: 33.239958 | M3: 27.892222
A4: Elektriciteit | B4: Bedrijfshal algemeen (geen LISA-informatie) | C4: 10733 | D4: 35.920623 | E4: 10.858108 | F4: 20.021252 | G4: 38.347107 | H4: 38.009196 | I4: 37.900335 | J4: 11.248175 | K4: 21.108466 | L4: 40.81 | M4: 40.032438
A5: Elektriciteit | B5: Bedrijfshal algemeen (met LISA-informatie) | C5: 8588 | D5: 44.722266 | E5: 15.099906 | F5: 26.52759 | G5: 48.180517 | H5: 44.376117 | I5: 47.915758 | J5: 16.190475 | K5: 28.553672 | L5: 52.039507 | M5: 47.147518
A6: Elektriciteit | B6: Bedrijfshal met logistieke activiteiten | C6: 2269 | D6: 39.910714 | E6: 15.451899 | F6: 26.129301 | G6: 44.24 | H6: 40.882056 | I6: 43.213641 | J6: 16.817008 | K6: 28.399097 | L6: 48.006596 | M6: 43.415735
A7: Elektriciteit | B7: Bedrijfshal met maakindustrie en andere economische activiteiten | C7: 1716 | D7: 38.615844 | E7: 15.781612 | F7: 27.111695 | G7: 44.834119 | H7: 43.505569 | I7: 41.094897 | J7: 17.144691 | K7: 28.807099 | L7: 48.082731 | M7: 46.117425
A8: Elektriciteit | B8: Bedrijfshal met maakindustrie en logistieke activiteiten | C8: 6707 | D8: 44.14375 | E8: 14.440796 | F8: 25.190476 | G8: 44.661152 | H8: 48.855062 | I8: 46.910108 | J8: 15.633642 | K8: 27.123967 | L8: 47.821887 | M8: 51.820009
A9: Elektriciteit | B9: Bedrijfshal uitsluitend maakindustrie | C9: 7360 | D9: 42.9769 | E9: 16.266563 | F9: 27.789689 | G9: 48.548435 | H9: 48.187528 | I9: 47.140302 | J9: 17.205425 | K9: 29.928619 | L9: 51.868647 | M9: 51.864611
A10: Elektriciteit | B10: Bedrijfswoning | C10: 9073 | D10: 50.969644 | E10: 17.351178 | F10: 30.294618 | G10: 55.105769 | H10: 40.219539 | I10: 57.826767 | J10: 19.543779 | K10: 33.826087 | L10: 62.319372 | M10: 44.824344
A11: Elektriciteit | B11: Bijeenkomstgebouw (niet nader ingedeeld) | C11: 8366 | D11: 45.384577 | E11: 13.279163 | F11: 25.121648 | G11: 52.403889 | H11: 45.478785 | I11: 48.092078 | J11: 14.509351 | K11: 27.650591 | L11: 57.772288 | M11: 47.583534
A12: Elektriciteit | B12: Campusgebouw | C12: 78 | D12: 80.527692 | E12: 36.393063 | F12: 50.607571 | G12: 103.75818 | H12: 75.408834 | I12: 83.648632 | J12: 38.035085 | K12: 52.031117 | L12: 103.75818 | M12: 77.885031
A13: Elektriciteit | B13: Cultuurhuis | C13: 473 | D13: 54.509755 | E13: 23.852201 | F13: 40.888399 | G13: 73.650492 | H13: 59.010157 | I13: 56.390303 | J13: 25.014663 | K13: 41.629347 | L13: 75.095699 | M13: 60.52371
... A15: Elektriciteit | B15: Gebedshuis | C15: 3082 | D15: 14.530157 | E15: 8.2315926 | F15: 11.900379 | G15: 18.057163 | H15: 14.982015 | I15: 15.978474 | J15: 8.5941716 | K15: 12.773951 | L15: 19.773955 | M15: 16.437509
A16: Elektriciteit | B16: Gebouw bij militaire inrichting
A17: Elektriciteit | B17: Gebouw bij spooremplacement | C17: 33 | D17: 79.429471 | F17: 69.586628 | H17: 44.812702 | I17: 79.5741 | K17: 69.586628 | M17: 45.002775
A18: Elektriciteit | B18: Gebouw bij vliegveld of luchthaven | C18: 99 | D18: 57.385017 | E18: 15.160213 | F18: 37.442432 | G18: 72.745474 | H18: 65.934486 | I18: 60.285911 | J18: 15.894008 | K18: 41.323232 | L18: 77.173852 | M18: 67.33805
A19: Elektriciteit | B19: Gebouw in landelijk gebied voor industrie (geen landbouwactiviteiten geregistreerd) | C19: 2160 | D19: 42.162197 | E19: 12.313339 | F19: 23.552122 | G19: 47.283679 | H19: 45.693119 | I19: 47.626887 | J19: 13.449116 | K19: 25.70568 | L19: 55.817014 | M19: 51.282705
A20: Elektriciteit | B20: Gebouw in stedelijk gebied met industriefunctie | C20: 8573 | D20: 55.380932 | E20: 14.021978 | F20: 27.686937 | G20: 56.638158 | H20: 50.345041 | I20: 58.118892 | J20: 14.882353 | K20: 29.581081 | L20: 60.194118 | M20: 52.512799
A21: Elektriciteit | B21: Gebouw op snelwegverzorgingsplaats | C21: 106 | D21: 542.48207 | E21: 194.0967 | F21: 583.87241 | G21: 811.29454 | H21: 304.13315 | I21: 559.17936 | J21: 194.0967 | K21: 591.43429 | L21: 820.97881 | M21: 314.7281
A22: Elektriciteit | B22: Gebouw op vakantiepark | C22: 31302 | D22: 25.377296 | E22: 11.756853 | F22: 17.5 | G22: 28 | H22: 30.644311 | I22: 27.341532 | J22: 12.068378 | K22: 18.179026 | L22: 30.5 | M22: 32.980307
A23: Elektriciteit | B23: Gebouw voor landbouwactiviteiten | C23: 248 | D23: 82.170637 | E23: 17.2472 | F23: 33.783209 | G23: 84.45537 | H23: 49.794939 | I23: 97.456792 | J23: 18.678182 | K23: 39.367551 | L23: 95.77697 | M23: 57.356257
A24: Elektriciteit | B24: Groothandel op bedrijventerrein | C24: 184 | D24: 31.387439 | E24: 16.400498 | F24: 26.812396 | G24: 39.871249 | H24: 27.551149 | I24: 33.292948 | J24: 17.902925 | K24: 27.549159 | L24: 41.91042 | M24: 30.196043
A25: Elektriciteit | B25: Hotel (of ander groot logiesgebouw) | C25: 2032 | D25: 65.280884 | E25: 27.196733 | F25: 52.436146 | G25: 92.809304 | H25: 73.303492 | I25: 66.841598 | J25: 28.534006 | K25: 53.835826 | L25: 95.033375 | M25: 74.27718
A26: Elektriciteit | B26: IJsbaan | C26: 88 | D26: 26.824236 | E26: 10.393629 | F26: 16.415596 | G26: 28.60866 | H26: 98.362335 | I26: 30.199086 | J26: 12.350057 | K26: 20.652029 | L26: 36.03445 | M26: 99.452665
A27: Elektriciteit | B27: Kantoorpand algemeen | C27: 17057 | D27: 46.868521 | E27: 21.704762 | F27: 37.025641 | G27: 60.500712 | H27: 56.367878 | I27: 49.438143 | J27: 23.033333 | K27: 39.225806 | L27: 64.042767 | M27: 57.902248
A28: Elektriciteit | B28: Kinderopvang (gebouw) | C28: 1439 | D28: 32.014184 | E28: 19.321544 | F28: 28.143713 | G28: 38.491821 | H28: 30.960865 | I28: 33.868196 | J28: 20.654803 | K28: 29.26534 | L28: 40.875139 | M28: 32.764321
A29: Elektriciteit | B29: Koelhuis | C29: 76 | D29: 315.53112 | E29: 100.61666 | F29: 204.56969 | G29: 384.74018 | H29: 280.95602 | I29: 327.32502 | J29: 102.5476 | K29: 212.65435 | L29: 386.16028 | M29: 292.83953
A30: Elektriciteit | B30: MBO-gebouw
A31: Elektriciteit | B31: Meergezinswoning met andere functie of combinatie van functies | C31: 1921 | D31: 39.918973 | E31: 18.046304 | F31: 29.282748 | G31: 49.378336 | H31: 37.797357 | I31: 41.79349 | J31: 18.995392 | K31: 30.540614 | L31: 51.090909 | M31: 39.216395
A32: Elektriciteit | B32: Meergezinswoning met cafe of restaurant | C32: 1182 | D32: 94.365301 | E32: 40.967324 | F32: 81.809375 | G32: 132.11187 | H32: 78.568367 | I32: 95.435909 | J32: 42.02476 | K32: 83.236719 | L32: 132.81207 | M32: 79.620474
A33: Elektriciteit | B33: Meergezinswoning met winkel | C33: 3205 | D33: 51.302736 | E33: 22.173913 | F33: 38.306122 | G33: 65.515759 | H33: 47.381281 | I33: 52.215248 | J33: 22.841584 | K33: 39.454545 | L33: 66.537931 | M33: 48.279623
A34: Elektriciteit | B34: Meergezinswoning met winkels en horeca | C34: 329 | D34: 47.967989 | E34: 20.993684 | F34: 37.032895 | G34: 60.365079 | H34: 40.525004 | I34: 49.136955 | J34: 21.712536 | K34: 37.823529 | L34: 61.686667 | M34: 41.13044
A35: Elektriciteit | B35: Meergezinswoning met woonzorgeenheden | C35: 88 | D35: 34.29189 | E35: 17.461441 | F35: 32.109088 | G35: 43.675095 | H35: 45.285278 | I35: 36.345679 | J35: 19.394127 | K35: 33.461096 | L35: 47.329728 | M35: 49.305993
A36: Elektriciteit | B36: Middelbare school | C36: 1013 | D36: 35.188322 | E36: 21.240683 | F36: 29.927661 | G36: 43.57955 | H36: 33.50619 | I36: 38.224706 | J36: 24.202083 | K36: 32.656933 | L36: 46.481913 | M36: 36.657778
A37: Elektriciteit | B37: Nutsgebouw (elektriciteit)
A38: Elektriciteit | B38: Nutsgebouw (water) | C38: 25 | D38: 429.45669 | F38: 49.535897 | H38: 207.8083 | I38: 513.75489 | K38: 55.6 | M38: 374.46213
A39: Elektriciteit | B39: Overig gebouw met maatschappelijke functie | C39: 1068 | D39: 36.727692 | E39: 8.4763931 | F39: 14.497689 | G39: 38.504502 | H39: 55.329161 | I39: 37.774814 | J39: 8.5670723 | K39: 14.864579 | L39: 40.019343 | M39: 57.046709
A40: Elektriciteit | B40: Overig gebouw met recreatiefunctie | C40: 61 | D40: 109.4449 | E40: 28.926881 | F40: 70.682876 | G40: 148.55926 | H40: 116.54844 | I40: 112.58181 | J40: 37.056338 | K40: 72.64812 | L40: 148.55926 | M40: 120.91872
A41: Elektriciteit | B41: Overig onderwijsgebouw | C41: 2765 | D41: 29.489656 | E41: 15.994992 | F41: 23.075261 | G41: 34.791908 | H41: 35.385778 | I41: 30.986547 | J41: 16.619195 | K41: 23.987988 | L41: 36.732075 | M41: 36.691891
A42: Elektriciteit | B42: Overig overheidsgebouw | C42: 712 | D42: 80.55421 | E42: 41.779065 | F42: 66.765277 | G42: 95.070074 | H42: 80.450673 | I42: 82.942966 | J42: 44.209278 | K42: 69.109528 | L42: 98.471062 | M42: 82.427715
A43: Elektriciteit | B43: Overig sportgebouw | C43: 6177 | D43: 50.874023 | E43: 18.16383 | F43: 34.638581 | G43: 64.735537 | H43: 46.984054 | I43: 57.740155 | J43: 20.656352 | K43: 39.694408 | L43: 74.585965 | M43: 51.238517
A44: Elektriciteit | B44: Overig zorggebouw | C44: 2907 | D44: 55.641129 | E44: 25.489987 | F44: 43.595455 | G44: 72.035665 | H44: 60.06597 | I44: 59.077322 | J44: 27.309329 | K44: 47.327891 | L44: 76.938247 | M44: 62.360587
A45: Elektriciteit | B45: Overige utiliteitsbouw | C45: 3026 | D45: 83.358649 | E45: 14.866071 | F45: 31.155556 | G45: 75.03824 | H45: 57.8465 | I45: 86.310016 | J45: 15.696739 | K45: 33.344606 | L45: 78.926507 | M45: 59.240698
A46: Elektriciteit | B46: Pand met winkel en kantoor- en/of bijeenkomstfunctie | C46: 618 | D46: 70.579909 | E46: 24.516275 | F46: 44.358094 | G46: 84.907716 | H46: 62.48295 | I46: 72.147658 | J46: 25.936424 | K46: 45.796816 | L46: 86.773599 | M46: 64.153369
A47: Elektriciteit | B47: Penitentiaire inrichting | C47: 22 | D47: 149.37286 | F47: 97.709543 | H47: 101.4019 | I47: 149.96515 | K47: 97.709543 | M47: 101.55187
A48: Elektriciteit | B48: Praktijk- of zorgwoning | C48: 1547 | D48: 40.538709 | E48: 21.730972 | F48: 34.88 | G48: 52.474532 | H48: 40.00356 | I48: 44.03401 | J48: 24.055273 | K48: 38.359375 | L48: 56.160069 | M48: 42.603215
A49: Elektriciteit | B49: Productie-installatie
A50: Elektriciteit | B50: Restaurant of cafégebouw | C50: 3746 | D50: 234.78646 | E50: 106.92529 | F50: 189.1878 | G50: 303.82303 | H50: 170.63398 | I50: 235.70576 | J50: 107.85963 | K50: 189.61848 | L50: 304.74827 | M50: 171.43867
A51: Elektriciteit | B51: School voor speciaal onderwijs | C51: 448 | D51: 28.99724 | E51: 18.240731 | F51: 24.741425 | G51: 34.200147 | H51: 29.486034 | I51: 30.704201 | J51: 19.131153 | K51: 26.374838 | L51: 36.511202 | M51: 31.321857
A52: Elektriciteit | B52: Schoolverzamelgebouw | C52: 86 | D52: 34.575966 | E52: 19.955173 | F52: 28.375266 | G52: 45.739756 | H52: 35.4699 | I52: 36.809684 | J52: 20.532243 | K52: 31.73504 | L52: 47.263426 | M52: 37.43597
A53: Elektriciteit | B53: Tuincentrum | C53: 352 | D53: 40.881495 | E53: 18.273984 | F53: 31.17763 | G53: 50.69367 | H53: 35.257718 | I53: 44.530017 | J53: 20.087302 | K53: 34.103304 | L53: 54.051746 | M53: 37.433748
A54: Elektriciteit | B54: Vakantiewoning buiten vakantiepark | C54: 4073 | D54: 31.670059 | E54: 12.487179 | F54: 20.595745 | G54: 38.33913 | H54: 36.732618 | I54: 34.217888 | J54: 12.781377 | K54: 21.58 | L54: 41.008403 | M54: 39.034323
A55: Elektriciteit | B55: Winkelpand | C55: 19373 | D55: 93.414236 | E55: 26.511327 | F55: 54.171421 | G55: 116.22845 | H55: 74.827445 | I55: 95.085907 | J55: 27.637026 | K55: 55.724843 | L55: 117.37168 | M55: 76.728764
A56: Elektriciteit | B56: Woning met andere functie of combinatie van functies | C56: 4347 | D56: 58.029421 | E56: 20.486923 | F56: 37.311377 | G56: 71.946833 | H56: 51.944356 | I56: 61.15173 | J56: 22.398331 | K56: 40.38604 | L56: 76.006223 | M56: 54.239651
A57: Elektriciteit | B57: Woning met cafe of restaurant | C57: 7030 | D57: 119.81233 | E57: 53.389156 | F57: 98.894169 | G57: 162.97181 | H57: 94.054776 | I57: 120.92685 | J57: 55.084771 | K57: 100.08754 | L57: 164.02693 | M57: 95.123635
A58: Elektriciteit | B58: Woning met winkel | C58: 14020 | D58: 58.115729 | E58: 22.893925 | F58: 39.367522 | G58: 70.911437 | H58: 52.266788 | I58: 59.864261 | J58: 24.284966 | K58: 41.135564 | L58: 72.918977 | M58: 53.986785
A59: Elektriciteit | B59: Wooncomplex met andere functie of combinatie van functies | C59: 903 | D59: 45.770627 | E59: 26.527376 | F59: 40.922642 | G59: 57.938979 | H59: 43.194098 | I59: 46.909166 | J59: 27.414032 | K59: 42.126397 | L59: 59.444332 | M59: 43.946388
A60: Elektriciteit | B60: Wooncomplex met winkels en/of horeca | C60: 217 | D60: 49.033843 | E60: 24.000444 | F60: 40.556283 | G60: 63.680224 | H60: 45.400648 | I60: 50.12074 | J60: 24.204856 | K60: 42.311137 | L60: 66.584852 | M60: 46.120568
A61: Elektriciteit | B61: Woonzorgcomplex | C61: 955 | D61: 56.281414 | E61: 32.083216 | F61: 48.069982 | G61: 68.713489 | H61: 56.706591 | I61: 58.639503 | J61: 33.457715 | K61: 50.211665 | L61: 70.325311 | M61: 58.775812
... A66: Elektriciteit | B66: Zwembad | C66: 418 | D66: 205.39258 | E66: 75.435403 | F66: 124.31617 | G66: 202.34633 | H66: 118.15763 | I66: 216.8393 | J66: 77.870243 | K66: 133.40304 | L66: 209.94392 | M66: 123.21351

Sheet elek_kental_subsets_2020
A1: Energiedrager | B1: Gebouwtype | C1: Categorie zonnestroom en teruglevering | D1: Aantal panden | E1: Aandeel panden per gebouwtype | F1: Gemiddelde kental (kWh/m2) | G1: Q1 kental (kWh/m2) | H1: Mediaan kental (kWh/m2) | I1: Q3 kental (kWh/m2) | J1: Gewogen gemiddelde kental (kWh/m2) | K1: Gemiddelde kental inclusief eigenverbruik zonnestroom (kWh/m2) | L1: Q1 kental inclusief eigenverbruik zonnestroom (kWh/m2) | M1: Mediaan kental inclusief eigenverbruik zonnestroom (kWh/m2) | N1: Q3 kental inclusief eigenverbruik zonnestroom (kWh/m2) | O1: Gewogen gemiddelde kental inclusief eigenverbruik zonnestroom (kWh/m2)
A2: Elektriciteit | B2: Basisschool | C2: pand met zonPV en andere eigen opwek en teruglevering | D2: 24 | E2: 0.005 | F2: 30.483952 | H2: 27.986377 | J2: 28.999581 | K2: 36.387153 | M2: 34.555926 | O2: 34.463433
A3: Elektriciteit | B3: Basisschool | C3: pand met zonPV en teruglevering | D3: 1233 | E3: 0.261 | F3: 22.088952 | G3: 12.69024 | H3: 17.949319 | I3: 27.576744 | J3: 24.314129 | K3: 35.29106 | L3: 23.139694 | M3: 31.271476 | N3: 43.606829 | O3: 34.262256
A4: Elektriciteit | B4: Basisschool | C4: pand zonder zonPV met andere eigen opwek | D4: 103 | E4: 0.022 | F4: 35.79754 | G4: 24.062645 | H4: 33.643708 | I4: 43.762011 | J4: 38.025164
A5: Elektriciteit | B5: Basisschool | C5: pand zonder zonPV zonder andere eigen opwek | D5: 3370 | E5: 0.712 | F5: 25.184273 | G5: 17.044369 | H5: 21.937799 | I5: 29.609558 | J5: 26.010332
A6: Elektriciteit | B6: Bedrijfshal algemeen (geen LISA-informatie) | C6: pand met zonPV en andere eigen opwek en teruglevering | D6: 73 | E6: 0.004 | F6: 50.578694 | G6: 18.520231 | H6: 35.381526 | I6: 60.463061 | J6: 33.956613 | K6: 86.384711 | L6: 33.882293 | M6: 61.13788 | N6: 109.71532 | O6: 71.204525
A7: Elektriciteit | B7: Bedrijfshal algemeen (geen LISA-informatie) | C7: pand met zonPV en teruglevering | D7: 1335 | E7: 0.073 | F7: 41.126741 | G7: 12.14011 | H7: 21.92 | I7: 42.001203 | J7: 53.725425 | K7: 67.070704 | L7: 25.121961 | M7: 42.241532 | N7: 78.676071 | O7: 70.549853
A8: Elektriciteit | B8: Bedrijfshal algemeen (geen LISA-informatie) | C8: pand zonder zonPV met andere eigen opwek | D8: 103 | E8: 0.006 | F8: 59.928484 | G8: 14.223915 | H8: 33.871429 | I8: 63.760626 | J8: 83.169157
A9: Elektriciteit | B9: Bedrijfshal algemeen (geen LISA-informatie) | C9: pand zonder zonPV zonder andere eigen opwek | D9: 16732 | E9: 0.917 | F9: 38.15121 | G9: 11.170097 | H9: 20.860856 | I9: 40.495207 | J9: 43.811419
A10: Elektriciteit | B10: Bedrijfshal algemeen (met LISA-informatie) | C10: pand met zonPV en andere eigen opwek en teruglevering | D10: 67 | E10: 0.006 | F10: 49.400706 | G10: 15.373368 | H10: 23.8 | I10: 42.803129 | J10: 47.48044 | K10: 98.937053 | L10: 25.348623 | M10: 39.848269 | N10: 121.52081 | O10: 74.829155
A11: Elektriciteit | B11: Bedrijfshal algemeen (met LISA-informatie) | C11: pand met zonPV en teruglevering | D11: 1440 | E11: 0.119 | F11: 43.395871 | G11: 14.623831 | H11: 24.487815 | I11: 47.19761 | J11: 46.541058 | K11: 67.740887 | L11: 26.674786 | M11: 45.209385 | N11: 76.876847 | O11: 63.85322
A12: Elektriciteit | B12: Bedrijfshal algemeen (met LISA-informatie) | C12: pand zonder zonPV met andere eigen opwek | D12: 85 | E12: 0.007 | F12: 65.885096 | G12: 15.275248 | H12: 30.892857 | I12: 57.5648 | J12: 57.890645
A13: Elektriciteit | B13: Bedrijfshal algemeen (met LISA-informatie) | C13: pand zonder zonPV zonder andere eigen opwek | D13: 10479 | E13: 0.868 | F13: 46.541421 | G13: 15.040859 | H13: 26.840452 | I13: 49.085507 | J13: 48.737913
A14: Elektriciteit | B14: Bedrijfshal met logistieke activiteiten | C14: pand met zonPV en andere eigen opwek en teruglevering | D14: 35 | E14: 0.007 | F14: 27.684432 | H14: 19.038857 | J14: 30.484815 | K14: 76.267941 | M14: 30.63549 | O14: 68.869019
A15: Elektriciteit | B15: Bedrijfshal met logistieke activiteiten | C15: pand met zonPV en teruglevering | D15: 954 | E15: 0.178 | F15: 38.615596 | G15: 16.375435 | H15: 24.738703 | I15: 41.852513 | J15: 46.843762 | K15: 53.192418 | L15: 23.77208 | M15: 35.817002 | N15: 60.489588 | O15: 58.141877
A16: Elektriciteit | B16: Bedrijfshal met logistieke activiteiten | C16: pand zonder zonPV met andere eigen opwek | D16: 58 | E16: 0.011 | F16: 42.155016 | G16: 16.482756 | H16: 26.410235 | I16: 39.27753 | J16: 47.356384
A17: Elektriciteit | B17: Bedrijfshal met logistieke activiteiten | C17: pand zonder zonPV zonder andere eigen opwek | D17: 4313 | E17: 0.805 | F17: 39.372212 | G17: 16.419732 | H17: 26.7187 | I17: 44.005187 | J17: 40.654395
A18: Elektriciteit | B18: Bedrijfshal met maakindustrie en andere economische activiteiten | C18: pand met zonPV en andere eigen opwek en teruglevering | D18: 25 | E18: 0.005 | F18: 55.484189 | H18: 28.910345 | J18: 44.583675 | K18: 89.71462 | M18: 35.00945 | O18: 65.288277
A19: Elektriciteit | B19: Bedrijfshal met maakindustrie en andere economische activiteiten | C19: pand met zonPV en teruglevering | D19: 759 | E19: 0.158 | F19: 38.012156 | G19: 14.208721 | H19: 23.805435 | I19: 41.61762 | J19: 49.236625 | K19: 56.462544 | L19: 24.328413 | M19: 38.143036 | N19: 63.840203 | O19: 64.72778
A20: Elektriciteit | B20: Bedrijfshal met maakindustrie en andere economische activiteiten | C20: pand zonder zonPV met andere eigen opwek | D20: 32 | E20: 0.007 | F20: 35.969531 | H20: 29.589392 | J20: 37.096007
A21: Elektriciteit | B21: Bedrijfshal met maakindustrie en andere economische activiteiten | C21: pand zonder zonPV zonder andere eigen opwek | D21: 3997 | E21: 0.83 | F21: 43.971083 | G21: 16.952206 | H21: 28.112653 | I21: 48.989796 | J21: 54.631174
A22: Elektriciteit | B22: Bedrijfshal met maakindustrie en logistieke activiteiten | C22: pand met zonPV en andere eigen opwek en teruglevering | D22: 58 | E22: 0.006 | F22: 59.454799 | G22: 15.461305 | H22: 36.403674 | I22: 62.162553 | J22: 57.824715 | K22: 787.50175 | L22: 27.48998 | M22: 55.809991 | N22: 103.88342 | O22: 90.298149
A23: Elektriciteit | B23: Bedrijfshal met maakindustrie en logistieke activiteiten | C23: pand met zonPV en teruglevering | D23: 1282 | E23: 0.124 | F23: 46.579041 | G23: 13.429255 | H23: 23.126931 | I23: 46.539851 | J23: 60.472138 | K23: 68.915802 | L23: 25.372539 | M23: 40.312584 | N23: 74.911545 | O23: 76.685527
A24: Elektriciteit | B24: Bedrijfshal met maakindustrie en logistieke activiteiten | C24: pand zonder zonPV met andere eigen opwek | D24: 81 | E24: 0.008 | F24: 51.808583 | G24: 12.816872 | H24: 24.9876 | I24: 60.087041 | J24: 44.226492
A25: Elektriciteit | B25: Bedrijfshal met maakindustrie en logistieke activiteiten | C25: pand zonder zonPV zonder andere eigen opwek | D25: 8914 | E25: 0.863 | F25: 46.138605 | G25: 15.185017 | H25: 26.095622 | I25: 46.243783 | J25: 53.288852
A26: Elektriciteit | B26: Bedrijfshal uitsluitend maakindustrie | C26: pand met zonPV en andere eigen opwek en teruglevering | D26: 87 | E26: 0.005 | F26: 57.788825 | G26: 14.575029 | H26: 26.918383 | I26: 61.950256 | J26: 77.215187 | K26: 207.95872 | L26: 24.675157 | M26: 45.047553 | N26: 105.05835 | O26: 152.25862
A27: Elektriciteit | B27: Bedrijfshal uitsluitend maakindustrie | C27: pand met zonPV en teruglevering | D27: 2434 | E27: 0.13 | F27: 49.460175 | G27: 15.054777 | H27: 25.109662 | I27: 48.36513 | J27: 78.488706 | K27: 75.55366 | L27: 29.027984 | M27: 46.097983 | N27: 80.876847 | O27: 99.306672
A28: Elektriciteit | B28: Bedrijfshal uitsluitend maakindustrie | C28: pand zonder zonPV met andere eigen opwek | D28: 152 | E28: 0.008 | F28: 79.053375 | G28: 19.54957 | H28: 38.575184 | I28: 86.887037 | J28: 75.585722
A29: Elektriciteit | B29: Bedrijfshal uitsluitend maakindustrie | C29: pand zonder zonPV zonder andere eigen opwek | D29: 16104 | E29: 0.858 | F29: 59.064171 | G29: 16.825618 | H29: 30.854962 | I29: 59.44039 | J29: 96.683066
A30: Elektriciteit | B30: Bedrijfswoning | C30: pand met zonPV en andere eigen opwek en teruglevering | D30: 624 | E30: 0.009 | F30: 113.6071 | G30: 23.03277 | H30: 56.840764 | I30: 150.50096 | J30: 74.872737 | K30: 392.52849 | L30: 36.038025 | M30: 110.14098 | N30: 317.98997 | O30: 243.31223
A31: Elektriciteit | B31: Bedrijfswoning | C31: pand met zonPV en teruglevering | D31: 15523 | E31: 0.23 | F31: 71.061424 | G31: 15.840653 | H31: 29.805882 | I31: 70.804419 | J31: 52.235359 | K31: 123.93386 | L31: 32.162561 | M31: 58.427562 | N31: 130.96794 | O31: 86.76236
A32: Elektriciteit | B32: Bedrijfswoning | C32: pand zonder zonPV met andere eigen opwek | D32: 414 | E32: 0.006 | F32: 113.77638 | G32: 20.267223 | H32: 49.902174 | I32: 161.86275 | J32: 55.279702
A33: Elektriciteit | B33: Bedrijfswoning | C33: pand zonder zonPV zonder andere eigen opwek | D33: 51072 | E33: 0.755 | F33: 63.659915 | G33: 16.691285 | H33: 29.777887 | I33: 62.015319 | J33: 48.960542
A34: Elektriciteit | B34: Bijeenkomstgebouw (niet nader ingedeeld) | C34: pand met zonPV en andere eigen opwek en teruglevering | D34: 24 | E34: 0.003 | F34: 34.41143 | H34: 18.091387 | J34: 26.096557 | K34: 42.920321 | M34: 29.11676 | O34: 32.141252
A35: Elektriciteit | B35: Bijeenkomstgebouw (niet nader ingedeeld) | C35: pand met zonPV en teruglevering | D35: 1005 | E35: 0.11 | F35: 35.039019 | G35: 12.241935 | H35: 21.715596 | I35: 40.359296 | J35: 37.189001 | K35: 59.316572 | L35: 26.61708 | M35: 42.148734 | N35: 71.130081 | O35: 53.094587
A36: Elektriciteit | B36: Bijeenkomstgebouw (niet nader ingedeeld) | C36: pand zonder zonPV met andere eigen opwek | D36: 48 | E36: 0.005 | F36: 47.886245 | G36: 22.399323 | H36: 40.424179 | I36: 66.634743 | J36: 51.120038
A37: Elektriciteit | B37: Bijeenkomstgebouw (niet nader ingedeeld) | C37: pand zonder zonPV zonder andere eigen opwek | D37: 8054 | E37: 0.882 | F37: 46.652488 | G37: 13.435398 | H37: 25.630125 | I37: 54.620317 | J37: 46.259588
A38: Elektriciteit | B38: Gebouw in landelijk gebied voor industrie (geen landbouwactiviteiten geregistreerd) | C38: pand met zonPV en andere eigen opwek en teruglevering | D38: 44 | E38: 0.009 | F38: 50.394263 | G38: 15.949245 | H38: 31.00676 | I38: 58.04456 | J38: 79.415904 | K38: 259.68852 | L38: 31.963695 | M38: 64.343756 | N38: 150.47897 | O38: 150.07851
A39: Elektriciteit | B39: Gebouw in landelijk gebied voor industrie (geen landbouwactiviteiten geregistreerd) | C39: pand met zonPV en teruglevering | D39: 797 | E39: 0.172 | F39: 51.347616 | G39: 13.977966 | H39: 28.246862 | I39: 59.388889 | J39: 67.205853 | K39: 85.82219 | L39: 27.989726 | M39: 52.708853 | N39: 103.27891 | O39: 90.287722
A40: Elektriciteit | B40: Gebouw in landelijk gebied voor industrie (geen landbouwactiviteiten geregistreerd) | C40: pand zonder zonPV met andere eigen opwek | D40: 53 | E40: 0.011 | F40: 71.896683 | G40: 17.713877 | H40: 40.695652 | I40: 76.886121 | J40: 35.466138
A41: Elektriciteit | B41: Gebouw in landelijk gebied voor industrie (geen landbouwactiviteiten geregistreerd) | C41: pand zonder zonPV zonder andere eigen opwek | D41: 3752 | E41: 0.808 | F41: 44.282164 | G41: 12.324221 | H41: 24.746134 | I41: 49.826908 | J41: 48.569934
A42: Elektriciteit | B42: Gebouw in stedelijk gebied met industriefunctie | C42: pand met zonPV en andere eigen opwek en teruglevering | D42: 33 | E42: 0.003 | F42: 35.491288 | H42: 23.727478 | J42: 24.693802 | K42: 43.475023 | M42: 32.443745 | O42: 32.523408
A43: Elektriciteit | B43: Gebouw in stedelijk gebied met industriefunctie | C43: pand met zonPV en teruglevering | D43: 1306 | E43: 0.1 | F43: 49.466316 | G43: 14.871022 | H43: 25.549648 | I43: 49.707543 | J43: 53.023172 | K43: 78.011915 | L43: 28.225271 | M43: 47.000717 | N43: 83.053284 | O43: 67.31591
A44: Elektriciteit | B44: Gebouw in stedelijk gebied met industriefunctie | C44: pand zonder zonPV met andere eigen opwek | D44: 62 | E44: 0.005 | F44: 68.329849 | G44: 17.349923 | H44: 36.355109 | I44: 74.988423 | J44: 61.028386
A45: Elektriciteit | B45: Gebouw in stedelijk gebied met industriefunctie | C45: pand zonder zonPV zonder andere eigen opwek | D45: 11682 | E45: 0.893 | F45: 53.949546 | G45: 13.623022 | H45: 26.818901 | I45: 55.434774 | J45: 60.4953
A46: Elektriciteit | B46: Gebouw op vakantiepark | C46: pand met zonPV en andere eigen opwek en teruglevering | D46: 52 | E46: 0.002 | F46: 48.27801 | G46: 15.07843 | H46: 25.985931 | I46: 56.018791 | J46: 47.419454 | K46: 62.076887 | L46: 24.797097 | M46: 34.419859 | N46: 65.678611 | O46: 72.03099
A47: Elektriciteit | B47: Gebouw op vakantiepark | C47: pand met zonPV en teruglevering | D47: 2511 | E47: 0.073 | F47: 36.142536 | G47: 13.218789 | H47: 22 | I47: 42.694652 | J47: 43.726347 | K47: 70.387589 | L47: 33.186798 | M47: 50.291667 | N47: 83.178655 | O47: 74.655145
A48: Elektriciteit | B48: Gebouw op vakantiepark | C48: pand zonder zonPV met andere eigen opwek | D48: 70 | E48: 0.002 | F48: 38.184038 | G48: 12.041619 | H48: 17.727203 | I48: 46.223271 | J48: 92.041288
A49: Elektriciteit | B49: Gebouw op vakantiepark | C49: pand zonder zonPV zonder andere eigen opwek | D49: 31912 | E49: 0.924 | F49: 26.009357 | G49: 11.850746 | H49: 17.725541 | I49: 28.772358 | J49: 31.282736
A50: Elektriciteit | B50: Gebouw voor landbouwactiviteiten | C50: pand met zonPV en andere eigen opwek en teruglevering | D50: 36 | E50: 0.015 | F50: 181.50144 | H50: 106.14419 | J50: 91.334827 | K50: 248.80682 | M50: 178.21614 | O50: 110.83572
A51: Elektriciteit | B51: Gebouw voor landbouwactiviteiten | C51: pand met zonPV en teruglevering | D51: 528 | E51: 0.224 | F51: 105.95833 | G51: 21.577468 | H51: 42.658342 | I51: 116.68813 | J51: 78.687077 | K51: 163.3957 | L51: 42.549246 | M51: 83.150991 | N51: 180.88339 | O51: 105.3123
A52: Elektriciteit | B52: Gebouw voor landbouwactiviteiten | C52: pand zonder zonPV met andere eigen opwek | D52: 167 | E52: 0.071 | F52: 270.24689 | G52: 77.247463 | H52: 190.728 | I52: 407.00638 | J52: 78.97023
A53: Elektriciteit | B53: Gebouw voor landbouwactiviteiten | C53: pand zonder zonPV zonder andere eigen opwek | D53: 1629 | E53: 0.69 | F53: 109.33465 | G53: 21.630841 | H53: 46.358824 | I53: 121.57647 | J53: 66.366425
A54: Elektriciteit | B54: Kantoorpand algemeen | C54: pand met zonPV en andere eigen opwek en teruglevering | D54: 48 | E54: 0.002 | F54: 42.906848 | G54: 20.029707 | H54: 40.293499 | I54: 58.013218 | J54: 33.788552 | K54: 250.75542 | L54: 26.49817 | M54: 49.863289 | N54: 88.692303 | O54: 57.66449
A55: Elektriciteit | B55: Kantoorpand algemeen | C55: pand met zonPV en teruglevering | D55: 2178 | E55: 0.105 | F55: 45.780801 | G55: 20.135269 | H55: 35.208677 | I55: 58.79874 | J55: 52.525718 | K55: 71.992334 | L55: 37.236728 | M55: 58.051832 | N55: 87.559661 | O55: 66.459522
A56: Elektriciteit | B56: Kantoorpand algemeen | C56: pand zonder zonPV met andere eigen opwek | D56: 135 | E56: 0.006 | F56: 56.206974 | G56: 30.545355 | H56: 46.483333 | I56: 75.288394 | J56: 54.650971
A57: Elektriciteit | B57: Kantoorpand algemeen | C57: pand zonder zonPV zonder andere eigen opwek | D57: 18416 | E57: 0.886 | F57: 47.66149 | G57: 21.741914 | H57: 37.434167 | I57: 61.723786 | J57: 58.006493
A58: Elektriciteit | B58: Meergezinswoning met andere functie of combinatie van functies | C58: pand met zonPV en andere eigen opwek en teruglevering | D58: 49 | E58: 0.003 | F58: 46.931966 | G58: 21.483333 | H58: 33.806452 | I58: 57.241379 | J58: 44.653348 | K58: 97.111359 | L58: 25.672247 | M58: 40.89829 | N58: 100.95243 | O58: 95.531612
A59: Elektriciteit | B59: Meergezinswoning met andere functie of combinatie van functies | C59: pand met zonPV en teruglevering | D59: 1707 | E59: 0.097 | F59: 38.610839 | G59: 16.363812 | H59: 25.299559 | I59: 43.753956 | J59: 37.961306 | K59: 59.690827 | L59: 25.948121 | M59: 40.36 | N59: 67.339125 | O59: 51.930063
A60: Elektriciteit | B60: Meergezinswoning met andere functie of combinatie van functies | C60: pand zonder zonPV met andere eigen opwek | D60: 81 | E60: 0.005 | F60: 42.224261 | G60: 19.604651 | H60: 30.288274 | I60: 42.440514 | J60: 34.060012
A61: Elektriciteit | B61: Meergezinswoning met andere functie of combinatie van functies | C61: pand zonder zonPV zonder andere eigen opwek | D61: 15676 | E61: 0.895 | F61: 37.675381 | G61: 19.038385 | H61: 27.734425 | I61: 42.538924 | J61: 38.877581
A62: Elektriciteit | B62: Meergezinswoning met winkel | C62: pand met zonPV en andere eigen opwek en teruglevering | D62: 22 | E62: 0.001 | F62: 42.282101 | H62: 34.084507 | J62: 62.512666 | K62: 43.106675 | M62: 34.336954 | O62: 63.20348
A63: Elektriciteit | B63: Meergezinswoning met winkel | C63: pand met zonPV en teruglevering | D63: 922 | E63: 0.041 | F63: 42.374337 | G63: 18.72732 | H63: 30.86674 | I63: 50.056546 | J63: 51.854014 | K63: 54.131794 | L63: 28.748718 | M63: 42.115053 | N63: 63.382669 | O63: 61.394665
A64: Elektriciteit | B64: Meergezinswoning met winkel | C64: pand zonder zonPV met andere eigen opwek | D64: 81 | E64: 0.004 | F64: 56.86483 | G64: 27.610422 | H64: 44.095652 | I64: 68.528902 | J64: 57.974869
A65: Elektriciteit | B65: Meergezinswoning met winkel | C65: pand zonder zonPV zonder andere eigen opwek | D65: 21237 | E65: 0.954 | F65: 50.010951 | G65: 23.84 | H65: 36.84106 | I65: 61.499048 | J65: 50.886522
A66: Elektriciteit | B66: Overig onderwijsgebouw | C66: pand met zonPV en andere eigen opwek en teruglevering | D66: 13 | E66: 0.004 | F66: 30.917688 | J66: 29.737564 | K66: 41.044538 | O66: 33.274589
A67: Elektriciteit | B67: Overig onderwijsgebouw | C67: pand met zonPV en teruglevering | D67: 331 | E67: 0.108 | F67: 30.002663 | G67: 14.041754 | H67: 23.258361 | I67: 36.944388 | J67: 33.341691 | K67: 43.681942 | L67: 25.341217 | M67: 36.325552 | N67: 52.929389 | O67: 40.628556
A68: Elektriciteit | B68: Overig onderwijsgebouw | C68: pand zonder zonPV met andere eigen opwek | D68: 27 | E68: 0.009 | F68: 33.507903 | H68: 24.641667 | J68: 44.051201
A69: Elektriciteit | B69: Overig onderwijsgebouw | C69: pand zonder zonPV zonder andere eigen opwek | D69: 2696 | E69: 0.879 | F69: 29.87803 | G69: 16.028792 | H69: 23.050733 | I69: 35.226851 | J69: 36.288522
A70: Elektriciteit | B70: Overig sportgebouw | C70: pand met zonPV en andere eigen opwek en teruglevering | D70: 64 | E70: 0.009 | F70: 52.132252 | G70: 17.674574 | H70: 32.453468 | I70: 85.154392 | J70: 23.681914 | K70: 77.916809 | L70: 26.156363 | M70: 44.210319 | N70: 98.974174 | O70: 33.846512
A71: Elektriciteit | B71: Overig sportgebouw | C71: pand met zonPV en teruglevering | D71: 1554 | E71: 0.218 | F71: 48.602258 | G71: 18.759031 | H71: 34.293602 | I71: 58.521071 | J71: 51.806909 | K71: 79.361259 | L71: 34.728952 | M71: 57.382013 | N71: 97.398153 | O71: 69.036969
A72: Elektriciteit | B72: Overig sportgebouw | C72: pand zonder zonPV met andere eigen opwek | D72: 88 | E72: 0.012 | F72: 63.596371 | G72: 25.297816 | H72: 43.179489 | I72: 84.426598 | J72: 50.935021
A73: Elektriciteit | B73: Overig sportgebouw | C73: pand zonder zonPV zonder andere eigen opwek | D73: 5427 | E73: 0.761 | F73: 52.290031 | G73: 18.242357 | H73: 35.178313 | I73: 67.245237 | J73: 50.003398
A74: Elektriciteit | B74: Overige utiliteitsbouw | C74: pand met zonPV en andere eigen opwek en teruglevering | D74: 16 | E74: 0.004 | F74: 80.727886 | J74: 23.24486 | K74: 138.64602 | O74: 44.358845
A75: Elektriciteit | B75: Overige utiliteitsbouw | C75: pand met zonPV en teruglevering | D75: 330 | E75: 0.081 | F75: 71.750779 | G75: 15.166385 | H75: 29.437083 | I75: 60.015517 | J75: 63.976175 | K75: 126.97942 | L75: 30.745854 | M75: 58.851914 | N75: 108.05688 | O75: 82.846245
A76: Elektriciteit | B76: Overige utiliteitsbouw | C76: pand zonder zonPV met andere eigen opwek | D76: 41 | E76: 0.01 | F76: 254.35339 | G76: 23.524038 | H76: 61.647619 | I76: 270.01578 | J76: 146.39359
A77: Elektriciteit | B77: Overige utiliteitsbouw | C77: pand zonder zonPV zonder andere eigen opwek | D77: 3688 | E77: 0.905 | F77: 89.511479 | G77: 14.702316 | H77: 31.314468 | I77: 78.120871 | J77: 65.748093
A78: Elektriciteit | B78: Praktijk- of zorgwoning | C78: pand met zonPV en andere eigen opwek en teruglevering | D78: 16 | E78: 0.003 | F78: 29.51324 | J78: 23.809524 | K78: 33.185493 | O78: 28.28132
A79: Elektriciteit | B79: Praktijk- of zorgwoning | C79: pand met zonPV en teruglevering | D79: 1159 | E79: 0.236 | F79: 26.206285 | G79: 14.350579 | H79: 21.38172 | I79: 32.076342 | J79: 27.579662 | K79: 46.258324 | L79: 27.744649 | M79: 40.398714 | N79: 55.750513 | O79: 44.381195
A80: Elektriciteit | B80: Praktijk- of zorgwoning | C80: pand zonder zonPV met andere eigen opwek | D80: 22 | E80: 0.004 | F80: 25.191006 | H80: 19.684442 | J80: 27.444023
A81: Elektriciteit | B81: Praktijk- of zorgwoning | C81: pand zonder zonPV zonder andere eigen opwek | D81: 3721 | E81: 0.757 | F81: 34.940447 | G81: 18.906667 | H81: 28.58011 | I81: 43.863636 | J81: 35.013449
A82: Elektriciteit | B82: Winkelpand | C82: pand met zonPV en andere eigen opwek en teruglevering | D82: 43 | E82: 0.002 | F82: 55.529138 | G82: 22.06062 | H82: 42.200772 | I82: 57.356004 | J82: 46.200015 | K82: 541.57271 | L82: 29.107655 | M82: 52.029063 | N82: 103.68209 | O82: 250.56488
A83: Elektriciteit | B83: Winkelpand | C83: pand met zonPV en teruglevering | D83: 1126 | E83: 0.053 | F83: 71.739519 | G83: 17.892066 | H83: 33.965346 | I83: 90.3463 | J83: 69.183226 | K83: 103.82903 | L83: 35.422392 | M83: 60.282162 | N83: 130.04981 | O83: 87.994303
A84: Elektriciteit | B84: Winkelpand | C84: pand zonder zonPV met andere eigen opwek | D84: 49 | E84: 0.002 | F84: 122.59501 | G84: 31.483146 | H84: 65.819337 | I84: 163.93152 | J84: 94.81718
A85: Elektriciteit | B85: Winkelpand | C85: pand zonder zonPV zonder andere eigen opwek | D85: 20163 | E85: 0.943 | F85: 95.827425 | G85: 27.258573 | H85: 55.776083 | I85: 120.45931 | J85: 79.268634
A86: Elektriciteit | B86: Woning met andere functie of combinatie van functies | C86: pand met zonPV en andere eigen opwek en teruglevering | D86: 69 | E86: 0.005 | F86: 29.946108 | G86: 13.527149 | H86: 23.476793 | I86: 37.496552 | J86: 29.624327 | K86: 56.700215 | L86: 19.734257 | M86: 30.818489 | N86: 41.392686 | O86: 50.741979
A87: Elektriciteit | B87: Woning met andere functie of combinatie van functies | C87: pand met zonPV en teruglevering | D87: 2544 | E87: 0.188 | F87: 35.77823 | G87: 13.791331 | H87: 21.706196 | I87: 38.766387 | J87: 45.988239 | K87: 58.958815 | L87: 26.326041 | M87: 40.904538 | N87: 63.759298 | O87: 61.998571
A88: Elektriciteit | B88: Woning met andere functie of combinatie van functies | C88: pand zonder zonPV met andere eigen opwek | D88: 68 | E88: 0.005 | F88: 52.092399 | G88: 15.899531 | H88: 26.215463 | I88: 64.844099 | J88: 58.437577
A89: Elektriciteit | B89: Woning met andere functie of combinatie van functies | C89: pand zonder zonPV zonder andere eigen opwek | D89: 10857 | E89: 0.802 | F89: 48.709137 | G89: 17.47 | H89: 29.464419 | I89: 57.275362 | J89: 47.001584
A90: Elektriciteit | B90: Woning met winkel | C90: pand met zonPV en andere eigen opwek en teruglevering | D90: 40 | E90: 0.001 | F90: 30.251002 | G90: 18.227872 | H90: 26.047672 | I90: 37.403125 | J90: 24.187584 | K90: 34.627879 | L90: 18.545522 | M90: 26.524247 | N90: 44.898401 | O90: 34.156007
A91: Elektriciteit | B91: Woning met winkel | C91: pand met zonPV en teruglevering | D91: 2821 | E91: 0.089 | F91: 35.740767 | G91: 15.37931 | H91: 24.022847 | I91: 40.266667 | J91: 35.461861 | K91: 55.584019 | L91: 28.723542 | M91: 42.564516 | N91: 64.290323 | O91: 52.037192
A92: Elektriciteit | B92: Woning met winkel | C92: pand zonder zonPV met andere eigen opwek | D92: 63 | E92: 0.002 | F92: 53.519886 | G92: 21.516605 | H92: 33.992565 | I92: 58.872465 | J92: 49.854523
A93: Elektriciteit | B93: Woning met winkel | C93: pand zonder zonPV zonder andere eigen opwek | D93: 28624 | E93: 0.907 | F93: 54.81668 | G93: 21.822034 | H93: 36.839698 | I93: 65.804131 | J93: 52.891203
A94: Elektriciteit | B94: Wooncomplex met andere functie of combinatie van functies | C94: pand met zonPV en andere eigen opwek en teruglevering | D94: 53 | E94: 0.006 | F94: 45.442017 | G94: 27.696046 | H94: 37.448346 | I94: 54.984563 | J94: 42.326924 | K94: 47.9116 | L94: 27.892432 | M94: 38.880878 | N94: 59.830553 | O94: 44.069494
A95: Elektriciteit | B95: Wooncomplex met andere functie of combinatie van functies | C95: pand met zonPV en teruglevering | D95: 1318 | E95: 0.144 | F95: 43.828987 | G95: 26.689228 | H95: 34.655143 | I95: 51.816414 | J95: 46.058051 | K95: 49.293206 | L95: 30.784991 | M95: 40.24575 | N95: 59.166595 | O95: 49.478033
A96: Elektriciteit | B96: Wooncomplex met andere functie of combinatie van functies | C96: pand zonder zonPV met andere eigen opwek | D96: 304 | E96: 0.033 | F96: 43.055096 | G96: 25.921193 | H96: 36.117626 | I96: 53.147337 | J96: 41.309126
A97: Elektriciteit | B97: Wooncomplex met andere functie of combinatie van functies | C97: pand zonder zonPV zonder andere eigen opwek | D97: 7460 | E97: 0.817 | F97: 40.924234 | G97: 26.067445 | H97: 34.045831 | I97: 48.274821 | J97: 42.127601
A98: Elektriciteit | B98: Wooncomplex met winkels en/of horeca | C98: pand met zonPV en andere eigen opwek en teruglevering | D98: 12 | E98: 0.003 | F98: 44.631629 | J98: 42.256956 | K98: 45.669929 | O98: 42.86002
A99: Elektriciteit | B99: Wooncomplex met winkels en/of horeca | C99: pand met zonPV en teruglevering | D99: 530 | E99: 0.124 | F99: 54.675559 | G99: 28.662673 | H99: 41.362181 | I99: 70.633456 | J99: 57.20114 | K99: 60.676044 | L99: 35.186701 | M99: 47.616877 | N99: 77.240235 | O99: 61.770569
A100: Elektriciteit | B100: Wooncomplex met winkels en/of horeca | C100: pand zonder zonPV met andere eigen opwek | D100: 123 | E100: 0.029 | F100: 53.18989 | G100: 31.931403 | H100: 39.769183 | I100: 70.434079 | J100: 56.207287
...

Sheet zonnestroom_kentallen_2020
A1: Energiedrager | B1: Gebouwtype | C1: Aantal panden | D1: Aantal panden met zonnestroomproductie | E1: Aandeel panden met zonnestroomproductie | F1: Gemiddelde zonnestroomproductie kental (kWh/m2) | G1: Gewogen gemiddelde zonnestroomproductie kental (kWh/m2)
A2: Elektriciteit | B2: Asielzoekerscentrum | C2: 62
A3: Elektriciteit | B3: Basisschool | C3: 4730 | D3: 1257 | E3: 0.266 | F3: 4.1058444 | G3: 3.690263
A4: Elektriciteit | B4: Bedrijfshal algemeen (geen LISA-informatie) | C4: 18243
A5: Elektriciteit | B5: Bedrijfshal algemeen (met LISA-informatie) | C5: 12071 | D5: 1507 | E5: 0.125 | F5: 4.6254984 | G5: 6.1453563
A6: Elektriciteit | B6: Bedrijfshal met logistieke activiteiten | C6: 5360 | D6: 989 | E6: 0.185 | F6: 5.1508321 | G6: 5.3850511
A7: Elektriciteit | B7: Bedrijfshal met maakindustrie en andere economische activiteiten | C7: 4813 | D7: 784 | E7: 0.163 | F7: 4.8549046 | G7: 5.6262134
A8: Elektriciteit | B8: Bedrijfshal met maakindustrie en logistieke activiteiten | C8: 10335 | D8: 1340 | E8: 0.13 | F8: 9.4565356 | G8: 7.0430365
A9: Elektriciteit | B9: Bedrijfshal uitsluitend maakindustrie | C9: 18777 | D9: 2521 | E9: 0.134 | F9: 5.7427774 | G9: 6.6017788
A10: Elektriciteit | B10: Bedrijfswoning | C10: 67633 | D10: 16147 | E10: 0.239 | F10: 27.919894 | G10: 19.650446
A11: Elektriciteit | B11: Bijeenkomstgebouw (niet nader ingedeeld) | C11: 9131 | D11: 1029 | E11: 0.113 | F11: 3.0479689 | G11: 2.4880086
A12: Elektriciteit | B12: Campusgebouw | C12: 109 | D12: 25 | E12: 0.229 | F12: 4.9376234 | G12: 3.0141744
A13: Elektriciteit | B13: Cultuurhuis | C13: 563 | D13: 80 | E13: 0.142 | F13: 3.5369558 | G13: 2.4499061
A14: Elektriciteit | B14: Datacenter | C14: 84 | D14: 10 | E14: 0.119 | F14: 5.3409542 | G14: 2.7842802
A15: Elektriciteit | B15: Gebedshuis | C15: 3598 | D15: 399 | E15: 0.111 | F15: 1.5734799 | G15: 1.5037636
A16: Elektriciteit | B16: Gebouw bij militaire inrichting | C16: 12
A17: Elektriciteit | B17: Gebouw bij spooremplacement | C17: 69
A18: Elektriciteit | B18: Gebouw bij vliegveld of luchthaven | C18: 137 | D18: 17 | E18: 0.124
A19: Elektriciteit | B19: Gebouw in landelijk gebied voor industrie (geen landbouwactiviteiten geregistreerd) | C19: 4646 | D19: 841 | E19: 0.181 | F19: 13.396722 | G19: 12.688609
A20: Elektriciteit | B20: Gebouw in stedelijk gebied met industriefunctie | C20: 13083 | D20: 1339 | E20: 0.102 | F20: 3.8407741 | G20: 3.6678144
A21: Elektriciteit | B21: Gebouw op snelwegverzorgingsplaats | C21: 123
A22: Elektriciteit | B22: Gebouw op vakantiepark | C22: 34545
A23: Elektriciteit | B23: Gebouw voor landbouwactiviteiten | C23: 2360 | D23: 564 | E23: 0.239 | F23: 26.939126 | G23: 11.256942
A24: Elektriciteit | B24: Groothandel op bedrijventerrein | C24: 569 | D24: 93 | E24: 0.163 | F24: 2.5926142 | G24: 2.674644
A25: Elektriciteit | B25: Hotel (of ander groot logiesgebouw) | C25: 2440
A26: Elektriciteit | B26: IJsbaan | C26: 96 | D26: 15 | E26: 0.156 | F26: 3.117432 | G26: 1.4124561
A27: Elektriciteit | B27: Kantoorpand algemeen | C27: 20777 | D27: 2226 | E27: 0.107 | F27: 4.9928733 | G27: 3.1555079
A28: Elektriciteit | B28: Kinderopvang (gebouw) | C28: 1520
A29: Elektriciteit | B29: Koelhuis | C29: 96 | D29: 26 | E29: 0.271 | F29: 13.616779 | G29: 13.747757
A30: Elektriciteit | B30: MBO-gebouw | C30: 17
A31: Elektriciteit | B31: Meergezinswoning met andere functie of combinatie van functies | C31: 17513 | D31: 1756 | E31: 0.1 | F31: 2.90003 | G31: 2.3174903
A32: Elektriciteit | B32: Meergezinswoning met cafe of restaurant | C32: 6307
A33: Elektriciteit | B33: Meergezinswoning met winkel | C33: 22262
A34: Elektriciteit | B34: Meergezinswoning met winkels en horeca | C34: 2533
A35: Elektriciteit | B35: Meergezinswoning met woonzorgeenheden | C35: 278 | D35: 45 | E35: 0.162 | F35: 2.7440145 | G35: 3.0150412
A36: Elektriciteit | B36: Middelbare school | C36: 1080 | D36: 367 | E36: 0.34 | F36: 5.0537803 | G36: 5.0714392
A37: Elektriciteit | B37: Nutsgebouw (elektriciteit) | C37: 141 | D37: 18 | E37: 0.128
A38: Elektriciteit | B38: Nutsgebouw (water) | C38: 59
A39: Elektriciteit | B39: Overig gebouw met maatschappelijke functie | C39: 1221
A40: Elektriciteit | B40: Overig gebouw met recreatiefunctie | C40: 72
A41: Elektriciteit | B41: Overig onderwijsgebouw | C41: 3067 | D41: 344 | E41: 0.112 | F41: 1.9347617 | G41: 1.8937569
A42: Elektriciteit | B42: Overig overheidsgebouw | C42: 790 | D42: 177 | E42: 0.224 | F42: 3.0414269 | G42: 2.4447371
A43: Elektriciteit | B43: Overig sportgebouw | C43: 7133 | D43: 1618 | E43: 0.227 | F43: 9.4572235 | G43: 7.8576788
A44: Elektriciteit | B44: Overig zorggebouw | C44: 3423 | D44: 452 | E44: 0.132 | F44: 3.858809 | G44: 2.9202691
A45: Elektriciteit | B45: Overige utiliteitsbouw | C45: 4075
A46: Elektriciteit | B46: Pand met winkel en kantoor- en/of bijeenkomstfunctie | C46: 1446
A47: Elektriciteit | B47: Penitentiaire inrichting | C47: 25
A48: Elektriciteit | B48: Praktijk- of zorgwoning | C48: 4918 | D48: 1175 | E48: 0.239 | F48: 5.2356644 | G48: 4.2615417
A49: Elektriciteit | B49: Productie-installatie | C49: 96
A50: Elektriciteit | B50: Restaurant of cafégebouw | C50: 3876
A51: Elektriciteit | B51: School voor speciaal onderwijs | C51: 496 | D51: 89 | E51: 0.179 | F51: 2.6563649 | G51: 2.8423592
A52: Elektriciteit | B52: Schoolverzamelgebouw | C52: 102 | D52: 25 | E52: 0.245 | F52: 3.4039404 | G52: 3.1517005
A53: Elektriciteit | B53: Tuincentrum | C53: 443 | D53: 67 | E53: 0.151 | F53: 5.2273623 | G53: 3.4696677
A54: Elektriciteit | B54: Vakantiewoning buiten vakantiepark | C54: 5045
A55: Elektriciteit | B55: Winkelpand | C55: 21381
A56: Elektriciteit | B56: Woning met andere functie of combinatie van functies | C56: 13538 | D56: 2613 | E56: 0.193 | F56: 5.7341903 | G56: 4.1940843
A57: Elektriciteit | B57: Woning met cafe of restaurant | C57: 11034
A58: Elektriciteit | B58: Woning met winkel | C58: 31548
A59: Elektriciteit | B59: Wooncomplex met andere functie of combinatie van functies | C59: 9135 | D59: 1371 | E59: 0.15 | F59: 0.96073549 | G59: 0.75223769
A60: Elektriciteit | B60: Wooncomplex met winkels en/of horeca | C60: 4275 | D60: 542 | E60: 0.127 | F60: 0.85446997 | G60: 0.79505352
A61: Elektriciteit | B61: Woonzorgcomplex | C61: 1524 | D61: 219 | E61: 0.144 | F61: 2.9221146 | G61: 2.0341287
A62: Elektriciteit | B62: Ziekenhuis | C62: 116 | D62: 21 | E62: 0.181
A63: Elektriciteit | B63: Zorg met bed | C63: 396 | D63: 54 | E63: 0.136 | F63: 3.3450493 | G63: 3.0795654
A64: Elektriciteit | B64: Zorginstelling | C64: 170 | D64: 30 | E64: 0.176 | F64: 10.49179 | G64: 7.7595799
A65: Elektriciteit | B65: Zorgpraktijk | C65: 2452 | D65: 340 | E65: 0.139 | F65: 4.9219046 | G65: 3.9753655
A66: Elektriciteit | B66: Zwembad | C66: 478 | D66: 111 | E66: 0.232 | F66: 14.673926 | G66: 6.6053343

Sheet populatie_overzicht_2020
A1: Welk tabblad? | B1: elek_kental_totaal_ | C1: elek_kental_bouwj_ | D1: elek_kental_opp_ | E1: elek_kental_subsets_ | F1: elek_kental_diensten_ | G1: zonnestroom_kentallen_totaal_ | H1: gas_kental_totaal_ | I1: gas_kental_bouwj_ | J1: gas_kental_opp_ | K1: gas_kental_diensten_
A3: Aantal unieke gebouwtype categorieën in het betreffende tab | B3: =COUNTIF(B14:B98,">0") -> 65 | C3: =COUNTIF(C14:C98,">0") -> 59 | D3: =COUNTIF(D14:D98,">0") -> 59 | E3: =COUNTIF(E14:E98,">0") -> 26 | F3: =COUNTIF(F14:F98,">0") -> 61 | G3: =COUNTIF(G14:G98,">0") -> 65 | H3: =COUNTIF(H14:H98,">0") -> 65 | I3: =COUNTIF(I14:I98,">0") -> 59 | ... K3: =COUNTIF(K14:K98,">0") -> 61
A4: Totaal aantal panden in populatie in het betreffende tab | B4: =SUM(B16:B80) -> 418447 | C4: =SUM(C16:C80) -> 418124 | D4: =SUM(D16:D80) -> 418124 | E4: =SUM(E16:E80) -> 366873 | F4: =SUM(F16:F80) -> 211866 | G4: =SUM(G16:G80) -> 418447 | H4: =SUM(H16:H80) -> 405131 | I4: =SUM(I16:I80) -> 404894 | ... K4: =SUM(K16:K80) -> 206309
A6: Missende categorieën t.o.v. tab ‘totaal’ | B6: Totaal aantal cat | C6: 6 categorieën verwijderd | D6: 6 categorieën verwijderd | E6: 39 categorieën verwijderd | F6: 4 categorieën verw | G6: Totaal aantal cat | H6: Totaal aantal cat | I6: 6 categorieën verwijderd | J6: 6 categorieën verwijderd | K6: 4 categorieën verw
C7: Asielzoekerscentrum | D7: Asielzoekerscentrum | F7: Gebouw bij militaire inrichting | I7: Asielzoekerscentrum | J7: Asielzoekerscentrum | K7: Gebouw bij militaire inrichting
C8: Datacenter | D8: Datacenter | F8: MBO-gebouw | I8: Datacenter | J8: Datacenter | K8: MBO-gebouw
C9: Gebouw bij militaire inrichting | D9: Gebouw bij militaire inrichting | F9: Nutsgebouw (elektriciteit) | I9: Gebouw bij militaire inrichting | J9: Gebouw bij militaire inrichting | K9: Nutsgebouw (elektriciteit)
C10: Gebouw op snelwegverzorgingsplaats | D10: Gebouw op snelwegverzorgingsplaats | F10: Productie-installatie | I10: Gebouw op snelwegverzorgingsplaats | J10: Gebouw op snelwegverzorgingsplaats | K10: Productie-installatie
C11: MBO-gebouw | D11: MBO-gebouw | I11: MBO-gebouw | J11: MBO-gebouw
C12: Penitentiaire inrichting | D12: Penitentiaire inrichting | I12: Penitentiaire inrichting | J12: Penitentiaire inrichting
A15: gebouwtype_keuze | B15: Aantal panden in tab elek_kental_totaal_ | C15: Aantal panden in tab elek_kental_bouwj_ | D15: Aantal panden in tab elek_kental_opp_ | E15: Aantal panden in tab elek_kental_subsets_ | F15: Aantal panden in tab elek_kental_diensten_ | G15: Aantal panden in tab zonnestroom_kentallen_totaal_ | H15: Aantal panden in tab gas_kental_totaal_ | I15: Aantal panden in tab gas_kental_bouwj_ | J15: Aantal panden in tab gas_kental_opp_ | K15: Aantal panden in tab gas_kental_diensten_
A16: Asielzoekerscentrum | B16: =IF(SUMIF(elek_kental_2020!$B$2:$B$10000,A16,elek_kental_2020!$C$2:$C$10000)>0,SUMIF(elek_kental_2020!$B$2:$B$10000,A16,elek_kental_2020!$C$2:$C$10000),"") -> 62 | C16: =IF(SUMIF(elek_kental_bouwj_2020!$B$2:$B$10005,A16,elek_kental_bouwj_2020!$D$2:$D$10005)>0,SUMIF(elek_kental_bouwj_2020!$B$2:$B$10005,A16,elek_kental_bouwj_2020!$D$2:$D$10005),"") | D16: =IF(SUMIF(elek_kental_opp_2020!$B$2:$B$10007,A16,elek_kental_opp_2020!$D$2:$D$10007)>0,SUMIF(elek_kental_opp_2020!$B$2:$B$10007,A16,elek_kental_opp_2020!$D$2:$D$10007),"") | E16: =IF(SUMIF(elek_kental_subsets_2020!$B$2:$B$10017,A16,elek_kental_subsets_2020!$D$2:$D$10017)>0,SUMIF(elek_kental_subsets_2020!$B$2:$B$10017,A16,elek_kental_subsets_2020!$D$2:$D$10017),"") | F16: =IF(SUMIF(elek_kental_diensten_2020!$B$2:$B$10000,A16,elek_kental_diensten_2020!$C$2:$C$10000)>0,SUMIF(elek_kental_diensten_2020!$B$2:$B$10000,A16,elek_kental_diensten_2020!$C$2:$C$10000),"") -> 51 | G16: =IF(SUMIF(zonnestroom_kentallen_2020!$B$2:$B$10000,A16,zonnestroom_kentallen_2020!$C$2:$C$10000)>0,SUMIF(zonnestroom_kentallen_2020!$B$2:$B$10000,A16,zonnestroom_kentallen_2020!$C$2:$C$10000),"") -> 62 | H16: =IF(SUMIF(gas_kental_2020!$B$2:$B$10000,A16,gas_kental_2020!$C$2:$C$10000)>0,SUMIF(gas_kental_2020!$B$2:$B$10000,A16,gas_kental_2020!$C$2:$C$10000),"") -> 66 | I16: =IF(SUMIF(gas_kental_bouwj_2020!$B$2:$B$10003,A16,gas_kental_bouwj_2020!$D$2:$D$10003)>0,SUMIF(gas_kental_bouwj_2020!$B$2:$B$10003,A16,gas_kental_bouwj_2020!$D$2:$D$10003),"") | J16: =IF(SUMIF(gas_kental_opp_2020!$B$2:$B$10008,A16,gas_kental_opp_2020!$D$2:$D$10008)>0,SUMIF(gas_kental_opp_2020!$B$2:$B$10008,A16,gas_kental_opp_2020!$D$2:$D$10008),"") | K16: =IF(SUMIF(gas_kental_diensten_2020!$B$2:$B$10000,A16,gas_kental_diensten_2020!$C$2:$C$10000)>0,SUMIF(gas_kental_diensten_2020!$B$2:$B$10000,A16,gas_kental_diensten_2020!$C$2:$C$10000),"") -> 55
A17: Basisschool | B17: =IF(SUMIF(elek_kental_2020!$B$2:$B$10000,A17,elek_kental_2020!$C$2:$C$10000)>0,SUMIF(elek_kental_2020!$B$2:$B$10000,A17,elek_kental_2020!$C$2:$C$10000),"") -> 4730 | C17: =IF(SUMIF(elek_kental_bouwj_2020!$B$2:$B$10005,A17,elek_kental_bouwj_2020!$D$2:$D$10005)>0,SUMIF(elek_kental_bouwj_2020!$B$2:$B$10005,A17,elek_kental_bouwj_2020!$D$2:$D$10005),"") -> 4730 | D17: =IF(SUMIF(elek_kental_opp_2020!$B$2:$B$10007,A17,elek_kental_opp_2020!$D$2:$D$10007)>0,SUMIF(elek_kental_opp_2020!$B$2:$B$10007,A17,elek_kental_opp_2020!$D$2:$D$10007),"") -> 4730 | E17: =IF(SUMIF(elek_kental_subsets_2020!$B$2:$B$10017,A17,elek_kental_subsets_2020!$D$2:$D$10017)>0,SUMIF(elek_kental_subsets_2020!$B$2:$B$10017,A17,elek_kental_subsets_2020!$D$2:$D$10017),"") -> 4730 | F17: =IF(SUMIF(elek_kental_diensten_2020!$B$2:$B$10000,A17,elek_kental_diensten_2020!$C$2:$C$10000)>0,SUMIF(elek_kental_diensten_2020!$B$2:$B$10000,A17,elek_kental_diensten_2020!$C$2:$C$10000),"") -> 4295 | G17: =IF(SUMIF(zonnestroom_kentallen_2020!$B$2:$B$10000,A17,zonnestroom_kentallen_2020!$C$2:$C$10000)>0,SUMIF(zonnestroom_kentallen_2020!$B$2:$B$10000,A17,zonnestroom_kentallen_2020!$C$2:$C$10000),"") -> 4730 | H17: =IF(SUMIF(gas_kental_2020!$B$2:$B$10000,A17,gas_kental_2020!$C$2:$C$10000)>0,SUMIF(gas_kental_2020!$B$2:$B$10000,A17,gas_kental_2020!$C$2:$C$10000),"") -> 4433 | I17: =IF(SUMIF(gas_kental_bouwj_2020!$B$2:$B$10003,A17,gas_kental_bouwj_2020!$D$2:$D$10003)>0,SUMIF(gas_kental_bouwj_2020!$B$2:$B$10003,A17,gas_kental_bouwj_2020!$D$2:$D$10003),"") -> 4433 | J17: =IF(SUMIF(gas_kental_opp_2020!$B$2:$B$10008,A17,gas_kental_opp_2020!$D$2:$D$10008)>0,SUMIF(gas_kental_opp_2020!$B$2:$B$10008,A17,gas_kental_opp_2020!$D$2:$D$10008),"") -> 4433 | K17: =IF(SUMIF(gas_kental_diensten_2020!$B$2:$B$10000,A17,gas_kental_diensten_2020!$C$2:$C$10000)>0,SUMIF(gas_kental_diensten_2020!$B$2:$B$10000,A17,gas_kental_diensten_2020!$C$2:$C$10000),"") -> 4049
A18: Bedrijfshal algemeen (geen LISA-informatie) | B18: =IF(SUMIF(elek_kental_2020!$B$2:$B$10000,A18,elek_kental_2020!$C$2:$C$10000)>0,SUMIF(elek_kental_2020!$B$2:$B$10000,A18,elek_kental_2020!$C$2:$C$10000),"") -> 18243 | C18: =IF(SUMIF(elek_kental_bouwj_2020!$B$2:$B$10005,A18,elek_kental_bouwj_2020!$D$2:$D$10005)>0,SUMIF(elek_kental_bouwj_2020!$B$2:$B$10005,A18,elek_kental_bouwj_2020!$D$2:$D$10005),"") -> 18243 | D18: =IF(SUMIF(elek_kental_opp_2020!$B$2:$B$10007,A18,elek_kental_opp_2020!$D$2:$D$10007)>0,SUMIF(elek_kental_opp_2020!$B$2:$B$10007,A18,elek_kental_opp_2020!$D$2:$D$10007),"") -> 18243 | E18: =IF(SUMIF(elek_kental_subsets_2020!$B$2:$B$10017,A18,elek_kental_subsets_2020!$D$2:$D$10017)>0,SUMIF(elek_kental_subsets_2020!$B$2:$B$10017,A18,elek_kental_subsets_2020!$D$2:$D$10017),"") -> 18243 | F18: =IF(SUMIF(elek_kental_diensten_2020!$B$2:$B$10000,A18,elek_kental_diensten_2020!$C$2:$C$10000)>0,SUMIF(elek_kental_diensten_2020!$B$2:$B$10000,A18,elek_kental_diensten_2020!$C$2:$C$10000),"") -> 10733 | G18: =IF(SUMIF(zonnestroom_kentallen_2020!$B$2:$B$10000,A18,zonnestroom_kentallen_2020!$C$2:$C$10000)>0,SUMIF(zonnestroom_kentallen_2020!$B$2:$B$10000,A18,zonnestroom_kentallen_2020!$C$2:$C$10000),"") -> 18243 | H18: =IF(SUMIF(gas_kental_2020!$B$2:$B$10000,A18,gas_kental_2020!$C$2:$C$10000)>0,SUMIF(gas_kental_2020!$B$2:$B$10000,A18,gas_kental_2020!$C$2:$C$10000),"") -> 18052 | I18: =IF(SUMIF(gas_kental_bouwj_2020!$B$2:$B$10003,A18,gas_kental_bouwj_2020!$D$2:$D$10003)>0,SUMIF(gas_kental_bouwj_2020!$B$2:$B$10003,A18,gas_kental_bouwj_2020!$D$2:$D$10003),"") -> 18052 | J18: =IF(SUMIF(gas_kental_opp_2020!$B$2:$B$10008,A18,gas_kental_opp_2020!$D$2:$D$10008)>0,SUMIF(gas_kental_opp_2020!$B$2:$B$10008,A18,gas_kental_opp_2020!$D$2:$D$10008),"") -> 18052 | K18: =IF(SUMIF(gas_kental_diensten_2020!$B$2:$B$10000,A18,gas_kental_diensten_2020!$C$2:$C$10000)>0,SUMIF(gas_kental_diensten_2020!$B$2:$B$10000,A18,gas_kental_diensten_2020!$C$2:$C$10000),"") -> 10674
A19: Bedrijfshal algemeen (met LISA-informatie) | B19: =IF(SUMIF(elek_kental_2020!$B$2:$B$10000,A19,elek_kental_2020!$C$2:$C$10000)>0,SUMIF(elek_kental_2020!$B$2:$B$10000,A19,elek_kental_2020!$C$2:$C$10000),"") -> 12071 | C19: =IF(SUMIF(elek_kental_bouwj_2020!$B$2:$B$10005,A19,elek_kental_bouwj_2020!$D$2:$D$10005)>0,SUMIF(elek_kental_bouwj_2020!$B$2:$B$10005,A19,elek_kental_bouwj_2020!$D$2:$D$10005),"") -> 12071 | D19: =IF(SUMIF(elek_kental_opp_2020!$B$2:$B$10007,A19,elek_kental_opp_2020!$D$2:$D$10007)>0,SUMIF(elek_kental_opp_2020!$B$2:$B$10007,A19,elek_kental_opp_2020!$D$2:$D$10007),"") -> 12071 | E19: =IF(SUMIF(elek_kental_subsets_2020!$B$2:$B$10017,A19,elek_kental_subsets_2020!$D$2:$D$10017)>0,SUMIF(elek_kental_subsets_2020!$B$2:$B$10017,A19,elek_kental_subsets_2020!$D$2:$D$10017),"") -> 12071 | F19: =IF(SUMIF(elek_kental_diensten_2020!$B$2:$B$10000,A19,elek_kental_diensten_2020!$C$2:$C$10000)>0,SUMIF(elek_kental_diensten_2020!$B$2:$B$10000,A19,elek_kental_diensten_2020!$C$2:$C$10000),"") -> 8588 | G19: =IF(SUMIF(zonnestroom_kentallen_2020!$B$2:$B$10000,A19,zonnestroom_kentallen_2020!$C$2:$C$10000)>0,SUMIF(zonnestroom_kentallen_2020!$B$2:$B$10000,A19,zonnestroom_kentallen_2020!$C$2:$C$10000),"") -> 12071 | H19: =IF(SUMIF(gas_kental_2020!$B$2:$B$10000,A19,gas_kental_2020!$C$2:$C$10000)>0,SUMIF(gas_kental_2020!$B$2:$B$10000,A19,gas_kental_2020!$C$2:$C$10000),"") -> 11182 | I19: =IF(SUMIF(gas_kental_bouwj_2020!$B$2:$B$10003,A19,gas_kental_bouwj_2020!$D$2:$D$10003)>0,SUMIF(gas_kental_bouwj_2020!$B$2:$B$10003,A19,gas_kental_bouwj_2020!$D$2:$D$10003),"") -> 11182 | J19: =IF(SUMIF(gas_kental_opp_2020!$B$2:$B$10008,A19,gas_kental_opp_2020!$D$2:$D$10008)>0,SUMIF(gas_kental_opp_2020!$B$2:$B$10008,A19,gas_kental_opp_2020!$D$2:$D$10008),"") -> 11182 | K19: =IF(SUMIF(gas_kental_diensten_2020!$B$2:$B$10000,A19,gas_kental_diensten_2020!$C$2:$C$10000)>0,SUMIF(gas_kental_diensten_2020!$B$2:$B$10000,A19,gas_kental_diensten_2020!$C$2:$C$10000),"") -> 7883
A20: Bedrijfshal met logistieke activiteiten | B20: =IF(SUMIF(elek_kental_2020!$B$2:$B$10000,A20,elek_kental_2020!$C$2:$C$10000)>0,SUMIF(elek_kental_2020!$B$2:$B$10000,A20,elek_kental_2020!$C$2:$C$10000),"") -> 5360 | C20: =IF(SUMIF(elek_kental_bouwj_2020!$B$2:$B$10005,A20,elek_kental_bouwj_2020!$D$2:$D$10005)>0,SUMIF(elek_kental_bouwj_2020!$B$2:$B$10005,A20,elek_kental_bouwj_2020!$D$2:$D$10005),"") -> 5360 | D20: =IF(SUMIF(elek_kental_opp_2020!$B$2:$B$10007,A20,elek_kental_opp_2020!$D$2:$D$10007)>0,SUMIF(elek_kental_opp_2020!$B$2:$B$10007,A20,elek_kental_opp_2020!$D$2:$D$10007),"") -> 5360 | E20: =IF(SUMIF(elek_kental_subsets_2020!$B$2:$B$10017,A20,elek_kental_subsets_2020!$D$2:$D$10017)>0,SUMIF(elek_kental_subsets_2020!$B$2:$B$10017,A20,elek_kental_subsets_2020!$D$2:$D$10017),"") -> 5360 | F20: =IF(SUMIF(elek_kental_diensten_2020!$B$2:$B$10000,A20,elek_kental_diensten_2020!$C$2:$C$10000)>0,SUMIF(elek_kental_diensten_2020!$B$2:$B$10000,A20,elek_kental_diensten_2020!$C$2:$C$10000),"") -> 2269 | G20: =IF(SUMIF(zonnestroom_kentallen_2020!$B$2:$B$10000,A20,zonnestroom_kentallen_2020!$C$2:$C$10000)>0,SUMIF(zonnestroom_kentallen_2020!$B$2:$B$10000,A20,zonnestroom_kentallen_2020!$C$2:$C$10000),"") -> 5360 | H20: =IF(SUMIF(gas_kental_2020!$B$2:$B$10000,A20,gas_kental_2020!$C$2:$C$10000)>0,SUMIF(gas_kental_2020!$B$2:$B$10000,A20,gas_kental_2020!$C$2:$C$10000),"") -> 4911 | I20: =IF(SUMIF(gas_kental_bouwj_2020!$B$2:$B$10003,A20,gas_kental_bouwj_2020!$D$2:$D$10003)>0,SUMIF(gas_kental_bouwj_2020!$B$2:$B$10003,A20,gas_kental_bouwj_2020!$D$2:$D$10003),"") -> 4911 | J20: =IF(SUMIF(gas_kental_opp_2020!$B$2:$B$10008,A20,gas_kental_opp_2020!$D$2:$D$10008)>0,SUMIF(gas_kental_opp_2020!$B$2:$B$10008,A20,gas_kental_opp_2020!$D$2:$D$10008),"") -> 4911 | K20: =IF(SUMIF(gas_kental_diensten_2020!$B$2:$B$10000,A20,gas_kental_diensten_2020!$C$2:$C$10000)>0,SUMIF(gas_kental_diensten_2020!$B$2:$B$10000,A20,gas_kental_diensten_2020!$C$2:$C$10000),"") -> 2071
A21: Bedrijfshal met maakindustrie en andere economische activiteiten | B21: =IF(SUMIF(elek_kental_2020!$B$2:$B$10000,A21,elek_kental_2020!$C$2:$C$10000)>0,SUMIF(elek_kental_2020!$B$2:$B$10000,A21,elek_kental_2020!$C$2:$C$10000),"") -> 4813 | C21: =IF(SUMIF(elek_kental_bouwj_2020!$B$2:$B$10005,A21,elek_kental_bouwj_2020!$D$2:$D$10005)>0,SUMIF(elek_kental_bouwj_2020!$B$2:$B$10005,A21,elek_kental_bouwj_2020!$D$2:$D$10005),"") -> 4813 | D21: =IF(SUMIF(elek_kental_opp_2020!$B$2:$B$10007,A21,elek_kental_opp_2020!$D$2:$D$10007)>0,SUMIF(elek_kental_opp_2020!$B$2:$B$10007,A21,elek_kental_opp_2020!$D$2:$D$10007),"") -> 4813 | E21: =IF(SUMIF(elek_kental_subsets_2020!$B$2:$B$10017,A21,elek_kental_subsets_2020!$D$2:$D$10017)>0,SUMIF(elek_kental_subsets_2020!$B$2:$B$10017,A21,elek_kental_subsets_2020!$D$2:$D$10017),"") -> 4813 | F21: =IF(SUMIF(elek_kental_diensten_2020!$B$2:$B$10000,A21,elek_kental_diensten_2020!$C$2:$C$10000)>0,SUMIF(elek_kental_diensten_2020!$B$2:$B$10000,A21,elek_kental_diensten_2020!$C$2:$C$10000),"") -> 1716 | G21: =IF(SUMIF(zonnestroom_kentallen_2020!$B$2:$B$10000,A21,zonnestroom_kentallen_2020!$C$2:$C$10000)>0,SUMIF(zonnestroom_kentallen_2020!$B$2:$B$10000,A21,zonnestroom_kentallen_2020!$C$2:$C$10000),"") -> 4813 | H21: =IF(SUMIF(gas_kental_2020!$B$2:$B$10000,A21,gas_kental_2020!$C$2:$C$10000)>0,SUMIF(gas_kental_2020!$B$2:$B$10000,A21,gas_kental_2020!$C$2:$C$10000),"") -> 4548 | I21: =IF(SUMIF(gas_kental_bouwj_2020!$B$2:$B$10003,A21,gas_kental_bouwj_2020!$D$2:$D$10003)>0,SUMIF(gas_kental_bouwj_2020!$B$2:$B$10003,A21,gas_kental_bouwj_2020!$D$2:$D$10003),"") -> 4548 | J21: =IF(SUMIF(gas_kental_opp_2020!$B$2:$B$10008,A21,gas_kental_opp_2020!$D$2:$D$10008)>0,SUMIF(gas_kental_opp_2020!$B$2:$B$10008,A21,gas_kental_opp_2020!$D$2:$D$10008),"") -> 4548 | K21: =IF(SUMIF(gas_kental_diensten_2020!$B$2:$B$10000,A21,gas_kental_diensten_2020!$C$2:$C$10000)>0,SUMIF(gas_kental_diensten_2020!$B$2:$B$10000,A21,gas_kental_diensten_2020!$C$2:$C$10000),"") -> 1616
A22: Bedrijfshal met maakindustrie en logistieke activiteiten | B22: =IF(SUMIF(elek_kental_2020!$B$2:$B$10000,A22,elek_kental_2020!$C$2:$C$10000)>0,SUMIF(elek_kental_2020!$B$2:$B$10000,A22,elek_kental_2020!$C$2:$C$10000),"") -> 10335 | C22: =IF(SUMIF(elek_kental_bouwj_2020!$B$2:$B$10005,A22,elek_kental_bouwj_2020!$D$2:$D$10005)>0,SUMIF(elek_kental_bouwj_2020!$B$2:$B$10005,A22,elek_kental_bouwj_2020!$D$2:$D$10005),"") -> 10335 | D22: =IF(SUMIF(elek_kental_opp_2020!$B$2:$B$10007,A22,elek_kental_opp_2020!$D$2:$D$10007)>0,SUMIF(elek_kental_opp_2020!$B$2:$B$10007,A22,elek_kental_opp_2020!$D$2:$D$10007),"") -> 10335 | E22: =IF(SUMIF(elek_kental_subsets_2020!$B$2:$B$10017,A22,elek_kental_subsets_2020!$D$2:$D$10017)>0,SUMIF(elek_kental_subsets_2020!$B$2:$B$10017,A22,elek_kental_subsets_2020!$D$2:$D$10017),"") -> 10335 | F22: =IF(SUMIF(elek_kental_diensten_2020!$B$2:$B$10000,A22,elek_kental_diensten_2020!$C$2:$C$10000)>0,SUMIF(elek_kental_diensten_2020!$B$2:$B$10000,A22,elek_kental_diensten_2020!$C$2:$C$10000),"") -> 6707 | G22: =IF(SUMIF(zonnestroom_kentallen_2020!$B$2:$B$10000,A22,zonnestroom_kentallen_2020!$C$2:$C$10000)>0,SUMIF(zonnestroom_kentallen_2020!$B$2:$B$10000,A22,zonnestroom_kentallen_2020!$C$2:$C$10000),"") -> 10335 | H22: =IF(SUMIF(gas_kental_2020!$B$2:$B$10000,A22,gas_kental_2020!$C$2:$C$10000)>0,SUMIF(gas_kental_2020!$B$2:$B$10000,A22,gas_kental_2020!$C$2:$C$10000),"") -> 9644 | I22: =IF(SUMIF(gas_kental_bouwj_2020!$B$2:$B$10003,A22,gas_kental_bouwj_2020!$D$2:$D$10003)>0,SUMIF(gas_kental_bouwj_2020!$B$2:$B$10003,A22,gas_kental_bouwj_2020!$D$2:$D$10003),"") -> 9644 | J22: =IF(SUMIF(gas_kental_opp_2020!$B$2:$B$10008,A22,gas_kental_opp_2020!$D$2:$D$10008)>0,SUMIF(gas_kental_opp_2020!$B$2:$B$10008,A22,gas_kental_opp_2020!$D$2:$D$10008),"") -> 9644 | K22: =IF(SUMIF(gas_kental_diensten_2020!$B$2:$B$10000,A22,gas_kental_diensten_2020!$C$2:$C$10000)>0,SUMIF(gas_kental_diensten_2020!$B$2:$B$10000,A22,gas_kental_diensten_2020!$C$2:$C$10000),"") -> 6222
A23: Bedrijfshal uitsluitend maakindustrie | B23: =IF(SUMIF(elek_kental_2020!$B$2:$B$10000,A23,elek_kental_2020!$C$2:$C$10000)>0,SUMIF(elek_kental_2020!$B$2:$B$10000,A23,elek_kental_2020!$C$2:$C$10000),"") -> 18777 | C23: =IF(SUMIF(elek_kental_bouwj_2020!$B$2:$B$10005,A23,elek_kental_bouwj_2020!$D$2:$D$10005)>0,SUMIF(elek_kental_bouwj_2020!$B$2:$B$10005,A23,elek_kental_bouwj_2020!$D$2:$D$10005),"") -> 18777 | D23: =IF(SUMIF(elek_kental_opp_2020!$B$2:$B$10007,A23,elek_kental_opp_2020!$D$2:$D$10007)>0,SUMIF(elek_kental_opp_2020!$B$2:$B$10007,A23,elek_kental_opp_2020!$D$2:$D$10007),"") -> 18777 | E23: =IF(SUMIF(elek_kental_subsets_2020!$B$2:$B$10017,A23,elek_kental_subsets_2020!$D$2:$D$10017)>0,SUMIF(elek_kental_subsets_2020!$B$2:$B$10017,A23,elek_kental_subsets_2020!$D$2:$D$10017),"") -> 18777 | F23: =IF(SUMIF(elek_kental_diensten_2020!$B$2:$B$10000,A23,elek_kental_diensten_2020!$C$2:$C$10000)>0,SUMIF(elek_kental_diensten_2020!$B$2:$B$10000,A23,elek_kental_diensten_2020!$C$2:$C$10000),"") -> 7360 | G23: =IF(SUMIF(zonnestroom_kentallen_2020!$B$2:$B$10000,A23,zonnestroom_kentallen_2020!$C$2:$C$10000)>0,SUMIF(zonnestroom_kentallen_2020!$B$2:$B$10000,A23,zonnestroom_kentallen_2020!$C$2:$C$10000),"") -> 18777 | H23: =IF(SUMIF(gas_kental_2020!$B$2:$B$10000,A23,gas_kental_2020!$C$2:$C$10000)>0,SUMIF(gas_kental_2020!$B$2:$B$10000,A23,gas_kental_2020!$C$2:$C$10000),"") -> 17803 | I23: =IF(SUMIF(gas_kental_bouwj_2020!$B$2:$B$10003,A23,gas_kental_bouwj_2020!$D$2:$D$10003)>0,SUMIF(gas_kental_bouwj_2020!$B$2:$B$10003,A23,gas_kental_bouwj_2020!$D$2:$D$10003),"") -> 17803 | J23: =IF(SUMIF(gas_kental_opp_2020!$B$2:$B$10008,A23,gas_kental_opp_2020!$D$2:$D$10008)>0,SUMIF(gas_kental_opp_2020!$B$2:$B$10008,A23,gas_kental_opp_2020!$D$2:$D$10008),"") -> 17803 | K23: =IF(SUMIF(gas_kental_diensten_2020!$B$2:$B$10000,A23,gas_kental_diensten_2020!$C$2:$C$10000)>0,SUMIF(gas_kental_diensten_2020!$B$2:$B$10000,A23,gas_kental_diensten_2020!$C$2:$C$10000),"") -> 6852
A24: Bedrijfswoning | B24: =IF(SUMIF(elek_kental_2020!$B$2:$B$10000,A24,elek_kental_2020!$C$2:$C$10000)>0,SUMIF(elek_kental_2020!$B$2:$B$10000,A24,elek_kental_2020!$C$2:$C$10000),"") -> 67633 | C24: =IF(SUMIF(elek_kental_bouwj_2020!$B$2:$B$10005,A24,elek_kental_bouwj_2020!$D$2:$D$10005)>0,SUMIF(elek_kental_bouwj_2020!$B$2:$B$10005,A24,elek_kental_bouwj_2020!$D$2:$D$10005),"") -> 67633 | D24: =IF(SUMIF(elek_kental_opp_2020!$B$2:$B$10007,A24,elek_kental_opp_2020!$D$2:$D$10007)>0,SUMIF(elek_kental_opp_2020!$B$2:$B$10007,A24,elek_kental_opp_2020!$D$2:$D$10007),"") -> 67633 | E24: =IF(SUMIF(elek_kental_subsets_2020!$B$2:$B$10017,A24,elek_kental_subsets_2020!$D$2:$D$10017)>0,SUMIF(elek_kental_subsets_2020!$B$2:$B$10017,A24,elek_kental_subsets_2020!$D$2:$D$10017),"") -> 67633 | F24: =IF(SUMIF(elek_kental_diensten_2020!$B$2:$B$10000,A24,elek_kental_diensten_2020!$C$2:$C$10000)>0,SUMIF(elek_kental_diensten_2020!$B$2:$B$10000,A24,elek_kental_diensten_2020!$C$2:$C$10000),"") -> 9073 | G24: =IF(SUMIF(zonnestroom_kentallen_2020!$B$2:$B$10000,A24,zonnestroom_kentallen_2020!$C$2:$C$10000)>0,SUMIF(zonnestroom_kentallen_2020!$B$2:$B$10000,A24,zonnestroom_kentallen_2020!$C$2:$C$10000),"") -> 67633 | H24: =IF(SUMIF(gas_kental_2020!$B$2:$B$10000,A24,gas_kental_2020!$C$2:$C$10000)>0,SUMIF(gas_kental_2020!$B$2:$B$10000,A24,gas_kental_2020!$C$2:$C$10000),"") -> 64092 | I24: =IF(SUMIF(gas_kental_bouwj_2020!$B$2:$B$10003,A24,gas_kental_bouwj_2020!$D$2:$D$10003)>0,SUMIF(gas_kental_bouwj_2020!$B$2:$B$10003,A24,gas_kental_bouwj_2020!$D$2:$D$10003),"") -> 64092 | J24: =IF(SUMIF(gas_kental_opp_2020!$B$2:$B$10008,A24,gas_kental_opp_2020!$D$2:$D$10008)>0,SUMIF(gas_kental_opp_2020!$B$2:$B$10008,A24,gas_kental_opp_2020!$D$2:$D$10008),"") -> 64092 | K24: =IF(SUMIF(gas_kental_diensten_2020!$B$2:$B$10000,A24,gas_kental_diensten_2020!$C$2:$C$10000)>0,SUMIF(gas_kental_diensten_2020!$B$2:$B$10000,A24,gas_kental_diensten_2020!$C$2:$C$10000),"") -> 8472
A25: Bijeenkomstgebouw (niet nader ingedeeld) | B25: =IF(SUMIF(elek_kental_2020!$B$2:$B$10000,A25,elek_kental_2020!$C$2:$C$10000)>0,SUMIF(elek_kental_2020!$B$2:$B$10000,A25,elek_kental_2020!$C$2:$C$10000),"") -> 9131 | C25: =IF(SUMIF(elek_kental_bouwj_2020!$B$2:$B$10005,A25,elek_kental_bouwj_2020!$D$2:$D$10005)>0,SUMIF(elek_kental_bouwj_2020!$B$2:$B$10005,A25,elek_kental_bouwj_2020!$D$2:$D$10005),"") -> 9131 | D25: =IF(SUMIF(elek_kental_opp_2020!$B$2:$B$10007,A25,elek_kental_opp_2020!$D$2:$D$10007)>0,SUMIF(elek_kental_opp_2020!$B$2:$B$10007,A25,elek_kental_opp_2020!$D$2:$D$10007),"") -> 9131 | E25: =IF(SUMIF(elek_kental_subsets_2020!$B$2:$B$10017,A25,elek_kental_subsets_2020!$D$2:$D$10017)>0,SUMIF(elek_kental_subsets_2020!$B$2:$B$10017,A25,elek_kental_subsets_2020!$D$2:$D$10017),"") -> 9131 | F25: =IF(SUMIF(elek_kental_diensten_2020!$B$2:$B$10000,A25,elek_kental_diensten_2020!$C$2:$C$10000)>0,SUMIF(elek_kental_diensten_2020!$B$2:$B$10000,A25,elek_kental_diensten_2020!$C$2:$C$10000),"") -> 8366 | G25: =IF(SUMIF(zonnestroom_kentallen_2020!$B$2:$B$10000,A25,zonnestroom_kentallen_2020!$C$2:$C$10000)>0,SUMIF(zonnestroom_kentallen_2020!$B$2:$B$10000,A25,zonnestroom_kentallen_2020!$C$2:$C$10000),"") -> 9131 | H25: =IF(SUMIF(gas_kental_2020!$B$2:$B$10000,A25,gas_kental_2020!$C$2:$C$10000)>0,SUMIF(gas_kental_2020!$B$2:$B$10000,A25,gas_kental_2020!$C$2:$C$10000),"") -> 9178 | I25: =IF(SUMIF(gas_kental_bouwj_2020!$B$2:$B$10003,A25,gas_kental_bouwj_2020!$D$2:$D$10003)>0,SUMIF(gas_kental_bouwj_2020!$B$2:$B$10003,A25,gas_kental_bouwj_2020!$D$2:$D$10003),"") -> 9178 | J25: =IF(SUMIF(gas_kental_opp_2020!$B$2:$B$10008,A25,gas_kental_opp_2020!$D$2:$D$10008)>0,SUMIF(gas_kental_opp_2020!$B$2:$B$10008,A25,gas_kental_opp_2020!$D$2:$D$10008),"") -> 9178 | K25: =IF(SUMIF(gas_kental_diensten_2020!$B$2:$B$10000,A25,gas_kental_diensten_2020!$C$2:$C$10000)>0,SUMIF(gas_kental_diensten_2020!$B$2:$B$10000,A25,gas_kental_diensten_2020!$C$2:$C$10000),"") -> 8413
A26: Campusgebouw | B26: =IF(SUMIF(elek_kental_2020!$B$2:$B$10000,A26,elek_kental_2020!$C$2:$C$10000)>0,SUMIF(elek_kental_2020!$B$2:$B$10000,A26,elek_kental_2020!$C$2:$C$10000),"") -> 109 | C26: =IF(SUMIF(elek_kental_bouwj_2020!$B$2:$B$10005,A26,elek_kental_bouwj_2020!$D$2:$D$10005)>0,SUMIF(elek_kental_bouwj_2020!$B$2:$B$10005,A26,elek_kental_bouwj_2020!$D$2:$D$10005),"") -> 109 | D26: =IF(SUMIF(elek_kental_opp_2020!$B$2:$B$10007,A26,elek_kental_opp_2020!$D$2:$D$10007)>0,SUMIF(elek_kental_opp_2020!$B$2:$B$10007,A26,elek_kental_opp_2020!$D$2:$D$10007),"") -> 109 | E26: =IF(SUMIF(elek_kental_subsets_2020!$B$2:$B$10017,A26,elek_kental_subsets_2020!$D$2:$D$10017)>0,SUMIF(elek_kental_subsets_2020!$B$2:$B$10017,A26,elek_kental_subsets_2020!$D$2:$D$10017),"") | F26: =IF(SUMIF(elek_kental_diensten_2020!$B$2:$B$10000,A26,elek_kental_diensten_2020!$C$2:$C$10000)>0,SUMIF(elek_kental_diensten_2020!$B$2:$B$10000,A26,elek_kental_diensten_2020!$C$2:$C$10000),"") -> 78 | G26: =IF(SUMIF(zonnestroom_kentallen_2020!$B$2:$B$10000,A26,zonnestroom_kentallen_2020!$C$2:$C$10000)>0,SUMIF(zonnestroom_kentallen_2020!$B$2:$B$10000,A26,zonnestroom_kentallen_2020!$C$2:$C$10000),"") -> 109 | H26: =IF(SUMIF(gas_kental_2020!$B$2:$B$10000,A26,gas_kental_2020!$C$2:$C$10000)>0,SUMIF(gas_kental_2020!$B$2:$B$10000,A26,gas_kental_2020!$C$2:$C$10000),"") -> 103 | I26: =IF(SUMIF(gas_kental_bouwj_2020!$B$2:$B$10003,A26,gas_kental_bouwj_2020!$D$2:$D$10003)>0,SUMIF(gas_kental_bouwj_2020!$B$2:$B$10003,A26,gas_kental_bouwj_2020!$D$2:$D$10003),"") -> 103 | J26: =IF(SUMIF(gas_kental_opp_2020!$B$2:$B$10008,A26,gas_kental_opp_2020!$D$2:$D$10008)>0,SUMIF(gas_kental_opp_2020!$B$2:$B$10008,A26,gas_kental_opp_2020!$D$2:$D$10008),"") -> 103 | K26: =IF(SUMIF(gas_kental_diensten_2020!$B$2:$B$10000,A26,gas_kental_diensten_2020!$C$2:$C$10000)>0,SUMIF(gas_kental_diensten_2020!$B$2:$B$10000,A26,gas_kental_diensten_2020!$C$2:$C$10000),"") -> 75
A27: Cultuurhuis | B27: =IF(SUMIF(elek_kental_2020!$B$2:$B$10000,A27,elek_kental_2020!$C$2:$C$10000)>0,SUMIF(elek_kental_2020!$B$2:$B$10000,A27,elek_kental_2020!$C$2:$C$10000),"") -> 563 | C27: =IF(SUMIF(elek_kental_bouwj_2020!$B$2:$B$10005,A27,elek_kental_bouwj_2020!$D$2:$D$10005)>0,SUMIF(elek_kental_bouwj_2020!$B$2:$B$10005,A27,elek_kental_bouwj_2020!$D$2:$D$10005),"") -> 563 | D27: =IF(SUMIF(elek_kental_opp_2020!$B$2:$B$10007,A27,elek_kental_opp_2020!$D$2:$D$10007)>0,SUMIF(elek_kental_opp_2020!$B$2:$B$10007,A27,elek_kental_opp_2020!$D$2:$D$10007),"") -> 563 | E27: =IF(SUMIF(elek_kental_subsets_2020!$B$2:$B$10017,A27,elek_kental_subsets_2020!$D$2:$D$10017)>0,SUMIF(elek_kental_subsets_2020!$B$2:$B$10017,A27,elek_kental_subsets_2020!$D$2:$D$10017),"") | F27: =IF(SUMIF(elek_kental_diensten_2020!$B$2:$B$10000,A27,elek_kental_diensten_2020!$C$2:$C$10000)>0,SUMIF(elek_kental_diensten_2020!$B$2:$B$10000,A27,elek_kental_diensten_2020!$C$2:$C$10000),"") -> 473 | G27: =IF(SUMIF(zonnestroom_kentallen_2020!$B$2:$B$10000,A27,zonnestroom_kentallen_2020!$C$2:$C$10000)>0,SUMIF(zonnestroom_kentallen_2020!$B$2:$B$10000,A27,zonnestroom_kentallen_2020!$C$2:$C$10000),"") -> 563 | H27: =IF(SUMIF(gas_kental_2020!$B$2:$B$10000,A27,gas_kental_2020!$C$2:$C$10000)>0,SUMIF(gas_kental_2020!$B$2:$B$10000,A27,gas_kental_2020!$C$2:$C$10000),"") -> 536 | I27: =IF(SUMIF(gas_kental_bouwj_2020!$B$2:$B$10003,A27,gas_kental_bouwj_2020!$D$2:$D$10003)>0,SUMIF(gas_kental_bouwj_2020!$B$2:$B$10003,A27,gas_kental_bouwj_2020!$D$2:$D$10003),"") -> 536 | J27: =IF(SUMIF(gas_kental_opp_2020!$B$2:$B$10008,A27,gas_kental_opp_2020!$D$2:$D$10008)>0,SUMIF(gas_kental_opp_2020!$B$2:$B$10008,A27,gas_kental_opp_2020!$D$2:$D$10008),"") -> 536 | K27: =IF(SUMIF(gas_kental_diensten_2020!$B$2:$B$10000,A27,gas_kental_diensten_2020!$C$2:$C$10000)>0,SUMIF(gas_kental_diensten_2020!$B$2:$B$10000,A27,gas_kental_diensten_2020!$C$2:$C$10000),"") -> 450
... A80: Zwembad | B80: =IF(SUMIF(elek_kental_2020!$B$2:$B$10000,A80,elek_kental_2020!$C$2:$C$10000)>0,SUMIF(elek_kental_2020!$B$2:$B$10000,A80,elek_kental_2020!$C$2:$C$10000),"") -> 478 | C80: =IF(SUMIF(elek_kental_bouwj_2020!$B$2:$B$10005,A80,elek_kental_bouwj_2020!$D$2:$D$10005)>0,SUMIF(elek_kental_bouwj_2020!$B$2:$B$10005,A80,elek_kental_bouwj_2020!$D$2:$D$10005),"") -> 478 | D80: =IF(SUMIF(elek_kental_opp_2020!$B$2:$B$10007,A80,elek_kental_opp_2020!$D$2:$D$10007)>0,SUMIF(elek_kental_opp_2020!$B$2:$B$10007,A80,elek_kental_opp_2020!$D$2:$D$10007),"") -> 478 | E80: =IF(SUMIF(elek_kental_subsets_2020!$B$2:$B$10017,A80,elek_kental_subsets_2020!$D$2:$D$10017)>0,SUMIF(elek_kental_subsets_2020!$B$2:$B$10017,A80,elek_kental_subsets_2020!$D$2:$D$10017),"") | F80: =IF(SUMIF(elek_kental_diensten_2020!$B$2:$B$10000,A80,elek_kental_diensten_2020!$C$2:$C$10000)>0,SUMIF(elek_kental_diensten_2020!$B$2:$B$10000,A80,elek_kental_diensten_2020!$C$2:$C$10000),"") -> 418 | G80: =IF(SUMIF(zonnestroom_kentallen_2020!$B$2:$B$10000,A80,zonnestroom_kentallen_2020!$C$2:$C$10000)>0,SUMIF(zonnestroom_kentallen_2020!$B$2:$B$10000,A80,zonnestroom_kentallen_2020!$C$2:$C$10000),"") -> 478 | H80: =IF(SUMIF(gas_kental_2020!$B$2:$B$10000,A80,gas_kental_2020!$C$2:$C$10000)>0,SUMIF(gas_kental_2020!$B$2:$B$10000,A80,gas_kental_2020!$C$2:$C$10000),"") -> 487 | I80: =IF(SUMIF(gas_kental_bouwj_2020!$B$2:$B$10003,A80,gas_kental_bouwj_2020!$D$2:$D$10003)>0,SUMIF(gas_kental_bouwj_2020!$B$2:$B$10003,A80,gas_kental_bouwj_2020!$D$2:$D$10003),"") -> 487 | J80: =IF(SUMIF(gas_kental_opp_2020!$B$2:$B$10008,A80,gas_kental_opp_2020!$D$2:$D$10008)>0,SUMIF(gas_kental_opp_2020!$B$2:$B$10008,A80,gas_kental_opp_2020!$D$2:$D$10008),"") -> 487 | K80: =IF(SUMIF(gas_kental_diensten_2020!$B$2:$B$10000,A80,gas_kental_diensten_2020!$C$2:$C$10000)>0,SUMIF(gas_kental_diensten_2020!$B$2:$B$10000,A80,gas_kental_diensten_2020!$C$2:$C$10000),"") -> 423
