Workbook

Sheet inhoudsopgave en toelichting
C1: Energiekentallen Utiliteitsbouw
C4: Project details
D6: Project naam | E6: Energiekentallen Utiliteitsgebouwen
D7: Datum | E7: Augustus 2026
D8: Contactpersoon TNO | E8: Robin Niessink, robin.niessink@tno.nl
C10: Deze dataset is ontwikkeld met subsidie van de Rijksdienst voor Ondernemend Nederland (RVO)
C12: Toelichting
C14: In dit onderzoek zijn energie-kentallen voor aardgaslevering (m3/m2) en elektriciteitslevering (kWh/m2) voor de diverse gebouwtypen van de utiliteitsbouw bepaald voor zichtjaren 2020 t/m 2024. De kentallen zijn waar mogelijk uitgesplitst naar bouwjaar- en oppervlakteklassen. Voor zichtjaar 2024 is ook een opsplitsing naar energielabel gemaakt. Ook voor de groep van panden die binnen de dienstensector valt zijn kentallen ontwikkeld. Voor zonnestroom is een eigen inschatting gemaakt van de teruglevering en daarmee is het eigenverbruik berekend en vervolgens opgeteld bij de netlevering voor een betere benadering van het totaalverbruik.
C16: De kentallen voor zonnestroomproductie (kWh/m2) alsmede het aandeel panden met zonnestroomproductie (in de populatie) zijn toegevoegd in een apart tab.
C18: NB: Een lege cel betekent dat een kental niet kon worden weergegeven vanwege de daarvoor geldende privacyregels. Het aantal overgebleven waarnemingen in de onderzoekspopulatie was hiervoor te laag.
C20: Voor nadere toelichting zie TNO rapport: Energiekentallen utiliteitsgebouwen 2020 t/m 2024 - Een analyse van het energieverbruik per gebouwtype voor de ontwikkeling van benchmark energiekentallen
C22: Inhoudsopgave
C23: Tab naam | E23: Inhoud
C24: elek_kental_ | E24: kentallen elektriciteit per gebouwtype
C25: elek_kental_bouwj_ | E25: kentallen elektriciteit per gebouwtype met uitsplitsing naar bouwjaarklassen
C26: elek_kental_opp_ | E26: kentallen elektriciteit per gebouwtype met uitsplitsing naar (gebruiks)oppervlakteklassen
C27: elek_kental_diensten_ | E27: kentallen elektriciteit per gebouwtype voor panden die vallen binnen de dienstensector
C28: elek_kental_subsets_ | E28: kentallen elektriciteit per gebouwtype voor panden met onderscheid naar panden met of zonder zonnestroom en waar de teruglevering wel of niet hoger is dan de zonnestroomproductie
C29: zonnestroom_kentallen_ | E29: kentallen zonnestroomproductie per gebouwtype
C30: gas_kental_ | E30: kentallen aardgas per gebouwtype
C31: gas_kental_bouwj_ | E31: kentallen aardgas per gebouwtype met uitsplitsing naar bouwjaarklassen
C32: gas_kental_opp_ | E32: kentallen aardgas per gebouwtype met uitsplitsing naar (gebruiks)oppervlakteklassen
C33: gas_kental_diensten_ | E33: kentallen aardgas per gebouwtype voor panden die vallen binnen de dienstensector
C34: populatie_overzicht_ | E34: een overzicht met het aantal panden in de onderzoekspopulatie in het betreffende tab, waarmee onder andere is na te gaan welke categorieën ontbreken per tab
C37: Toelichting kolommen in de tabs
C39: Energiedrager | D39: Dit geeft aan of het een kental voor aardgas of elektriciteit is
C40: Gebouwtype | D40: Dit geeft aan over welk gebouwtype het gaat
C41: Aantal panden | D41: Dit geeft het aantal panden in het onderzoek aan waarover de kentallen in de categorie berekend zijn
C42: Aandeel panden per gebouwtype | D42: Het percentage van het aantal panden dat in de betreffende categorie valt per gebouwtype
C43: Gemiddelde kental (kWh/m2) | D43: Het gemiddelde kental
C44: Q1 kental (kWh/m2) | D44: Het kental voor het 1ste kwartiel
C45: Mediaan kental (kWh/m2) | D45: Het kental voor de mediaan
C46: Q3 kental (kWh/m2) | D46: Het kental voor het 3e kwartiel
C47: Gewogen gemiddelde kental (kWh/m2) | D47: Het gemiddelde kental waarbij het pandoppervlak als weegfactor is gebruikt
C48: Gemiddelde kental inclusief eigenverbruik zonnestroom (kWh/m2) | D48: Eerst is het eigenverbruik zonnestroom bepaald en vervolgens opnieuw het gemiddelde bepaald
C49: Q1 kental inclusief eigenverbruik zonnestroom (kWh/m2) | D49: Eerst is het eigenverbruik zonnestroom bepaald en vervolgens opnieuw het 1ste kwartiel
C50: Mediaan kental inclusief eigenverbruik zonnestroom (kWh/m2) | D50: Eerst is het eigenverbruik zonnestroom bepaald en vervolgens opnieuw de mediaan
... C56: Gewogen gemiddelde zonnestroomproductie kental (kWh/m2) (inclusief panden zonder zon-pv) | D56: Het gewogen gemiddelde kental voor zonnestroomproductie berekend als gemiddelde voor panden met en zonder zonnestroomproductie

Sheet gas_kental_2020
A1: Energiedrager | B1: Gebouwtype | C1: Aantal panden | D1: Gemiddelde kental (m3/m2) | E1: Q1 kental (m3/m2) | F1: Mediaan kental (m3/m2) | G1: Q3 kental (m3/m2) | H1: Gewogen gemiddelde kental (m3/m2)
A2: Gas | B2: Asielzoekerscentrum | C2: 66 | D2: 22.449333 | E2: 9.519514 | F2: 15.230675 | G2: 22.302779 | H2: 16.783758
A3: Gas | B3: Basisschool | C3: 4433 | D3: 9.1050805 | E3: 6.3166828 | F3: 8.8109394 | G3: 11.454418 | H3: 7.5174216
A4: Gas | B4: Bedrijfshal algemeen (geen LISA-informatie) | C4: 18052 | D4: 4.9624968 | E4: 1.0093407 | F4: 3.2690741 | G4: 6.6501014 | H4: 4.5928398
A5: Gas | B5: Bedrijfshal algemeen (met LISA-informatie) | C5: 11182 | D5: 5.8699071 | E5: 2.1056191 | F5: 4.2479479 | G5: 7.3378956 | H5: 4.5842718
A6: Gas | B6: Bedrijfshal met logistieke activiteiten | C6: 4911 | D6: 4.7357126 | E6: 2.1073976 | F6: 3.7342744 | G6: 5.9583745 | H6: 3.9931808
A7: Gas | B7: Bedrijfshal met maakindustrie en andere economische activiteiten | C7: 4548 | D7: 5.5286738 | E7: 2.2894115 | F7: 4.1269696 | G7: 6.8347635 | H7: 5.4798755
A8: Gas | B8: Bedrijfshal met maakindustrie en logistieke activiteiten | C8: 9644 | D8: 5.1514375 | E8: 1.9527397 | F8: 3.8834256 | G8: 6.6360732 | H8: 4.3304619
A9: Gas | B9: Bedrijfshal uitsluitend maakindustrie | C9: 17803 | D9: 7.162096 | E9: 2.3394383 | F9: 4.5743421 | G9: 8.0321835 | H9: 9.1255967
A10: Gas | B10: Bedrijfswoning | C10: 64092 | D10: 11.684486 | E10: 4.9708175 | F10: 9.137931 | G10: 14.769302 | H10: 7.7020917
A11: Gas | B11: Bijeenkomstgebouw (niet nader ingedeeld) | C11: 9178 | D11: 10.400915 | E11: 5.0911491 | F11: 8.4742445 | G11: 13.445033 | H11: 9.2011459
A12: Gas | B12: Campusgebouw | C12: 103 | D12: 10.270049 | E12: 1.673299 | F12: 8.4175189 | G12: 12.019317 | H12: 10.09119
A13: Gas | B13: Cultuurhuis | C13: 536 | D13: 9.9228769 | E13: 6.0230214 | F13: 8.9865688 | G13: 13.441217 | H13: 7.8592051
... A15: Gas | B15: Gebedshuis | C15: 4243 | D15: 9.3087916 | E15: 5.67275 | F15: 8.6907895 | G15: 12.209462 | H15: 7.2186257
A16: Gas | B16: Gebouw bij militaire inrichting | C16: 18 | D16: 1627.7558 | H16: 162.76997
A17: Gas | B17: Gebouw bij spooremplacement | C17: 84 | D17: 10.72207 | E17: 4.293267 | F17: 8.7082263 | G17: 15.479501 | H17: 6.9182158
A18: Gas | B18: Gebouw bij vliegveld of luchthaven | C18: 163 | D18: 8.0430746 | E18: 2.2845385 | F18: 5.879105 | G18: 10.263134 | H18: 8.053177
A19: Gas | B19: Gebouw in landelijk gebied voor industrie (geen landbouwactiviteiten geregistreerd) | C19: 3703 | D19: 6.4291878 | E19: 1.3430671 | F19: 3.8780488 | G19: 8.4068416 | H19: 5.814286
A20: Gas | B20: Gebouw in stedelijk gebied met industriefunctie | C20: 12358 | D20: 8.3028831 | E20: 2.1286579 | F20: 5.4693258 | G20: 10.629345 | H20: 6.6720274
A21: Gas | B21: Gebouw op snelwegverzorgingsplaats | C21: 62 | D21: 13.009072 | E21: 3.840446 | F21: 8.6185748 | G21: 16.423715 | H21: 18.592594
A22: Gas | B22: Gebouw op vakantiepark | C22: 34901 | D22: 11.262015 | E22: 6.907563 | F22: 10.335938 | G22: 14.317647 | H22: 10.702158
A23: Gas | B23: Gebouw voor landbouwactiviteiten | C23: 2101 | D23: 114.74767 | E23: 4.5045249 | F23: 12.536 | G23: 41.686732 | H23: 67.315254
A24: Gas | B24: Groothandel op bedrijventerrein | C24: 552 | D24: 4.2086058 | E24: 2.1749707 | F24: 3.6297517 | G24: 5.4132835 | H24: 3.5200415
A25: Gas | B25: Hotel (of ander groot logiesgebouw) | C25: 2380 | D25: 13.814502 | E25: 7.1886428 | F25: 12.63419 | G25: 19.097979 | H25: 11.104869
A26: Gas | B26: IJsbaan | C26: 121 | D26: 5.5863468 | E26: 2.64 | F26: 4.984375 | G26: 7.248227 | H26: 6.9486781
A27: Gas | B27: Kantoorpand algemeen | C27: 19858 | D27: 9.5756362 | E27: 5.3432432 | F27: 8.6397537 | G27: 12.786958 | H27: 7.3169265
A28: Gas | B28: Kinderopvang (gebouw) | C28: 1481 | D28: 11.670577 | E28: 7.5996593 | F28: 10.616622 | G28: 14.745968 | H28: 10.235519
A29: Gas | B29: Koelhuis | C29: 87 | D29: 4.6316807 | E29: 0.58237287 | F29: 1.730622 | G29: 5.1961928 | H29: 3.1877923
A30: Gas | B30: MBO-gebouw | C30: 11 | D30: 3.4241891 | H30: 3.1473445
A31: Gas | B31: Meergezinswoning met andere functie of combinatie van functies | C31: 17323 | D31: 10.372497 | E31: 6.4212243 | F31: 9.6280788 | G31: 13.385201 | H31: 8.4316387
A32: Gas | B32: Meergezinswoning met cafe of restaurant | C32: 6315 | D32: 15.243772 | E32: 8.6654854 | F32: 12.96945 | G32: 19.44417 | H32: 13.137442
A33: Gas | B33: Meergezinswoning met winkel | C33: 22272 | D33: 10.529353 | E33: 6.4567663 | F33: 9.671287 | G33: 13.503347 | H33: 8.8343263
A34: Gas | B34: Meergezinswoning met winkels en horeca | C34: 2494 | D34: 10.752717 | E34: 6.4479547 | F34: 9.6923993 | G34: 13.729866 | H34: 8.6638033
A35: Gas | B35: Meergezinswoning met woonzorgeenheden | C35: 248 | D35: 11.077499 | E35: 6.9633752 | F35: 10.423019 | G35: 14.563772 | H35: 10.004328
A36: Gas | B36: Middelbare school | C36: 1057 | D36: 8.2466028 | E36: 4.7246106 | F36: 7.4802863 | G36: 10.66964 | H36: 6.8485118
A37: Gas | B37: Nutsgebouw (elektriciteit) | C37: 57 | D37: 5.9590608 | E37: 1.4264825 | F37: 5.5644159 | G37: 10.233766 | H37: 3.6891004
A38: Gas | B38: Nutsgebouw (water) | C38: 246 | D38: 18.394728 | E38: 4.0616776 | F38: 10.719719 | G38: 21.704886 | H38: 9.2185562
A39: Gas | B39: Overig gebouw met maatschappelijke functie | C39: 1570 | D39: 12.582744 | E39: 5.1744678 | F39: 9.1634682 | G39: 15.015189 | H39: 11.173909
A40: Gas | B40: Overig gebouw met recreatiefunctie | C40: 75 | D40: 14.161776 | E40: 5.1547857 | F40: 9.7659079 | G40: 14.72559 | H40: 13.103219
A41: Gas | B41: Overig onderwijsgebouw | C41: 3096 | D41: 10.837349 | E41: 6.7247857 | F41: 9.8954249 | G41: 13.616501 | H41: 8.2535555
...

Sheet gas_kental_bouwj_2020
A1: Energiedrager | B1: Gebouwtype | C1: Bouwjaarklasse | D1: Aantal panden | E1: Aandeel panden per gebouwtype | F1: Gemiddelde kental (m3/m2) | G1: Q1 kental (m3/m2) | H1: Mediaan kental (m3/m2) | I1: Q3 kental (m3/m2) | J1: Gewogen gemiddelde kental (m3/m2)
A2: Gas | B2: Basisschool | C2: tot 1946 | D2: 430 | E2: 0.097 | F2: 10.802127 | G2: 8.1266756 | H2: 10.22228 | I2: 13.35986 | J2: 9.5632529
A3: Gas | B3: Basisschool | C3: 1946 tot 1978 | D3: 1697 | E3: 0.383 | F3: 10.323415 | G3: 7.87068 | H3: 10.021657 | I3: 12.425775 | J3: 9.1937133
A4: Gas | B4: Basisschool | C4: 1978 tot 1995 | D4: 1040 | E4: 0.235 | F4: 9.4933873 | G4: 7.1317378 | H4: 9.1079372 | I4: 11.49436 | J4: 8.3281658
A5: Gas | B5: Basisschool | C5: 1995 tot 2009 | D5: 650 | E5: 0.147 | F5: 7.8603399 | G5: 5.669198 | H5: 7.4366957 | I5: 9.5638722 | J5: 6.3339337
A6: Gas | B6: Basisschool | C6: 2009 tot 2015 | D6: 442 | E6: 0.1 | F6: 5.4793115 | G6: 2.7136116 | H6: 5.0762024 | I6: 6.8772706 | J6: 4.6886893
A7: Gas | B7: Basisschool | C7: vanaf 2015 | D7: 174 | E7: 0.039 | F7: 4.5682352 | G7: 2.0160653 | H7: 3.8519417 | I7: 5.9854527 | J7: 4.5371436
A8: Gas | B8: Bedrijfshal algemeen (geen LISA-informatie) | C8: tot 1946 | D8: 237 | E8: 0.013 | F8: 6.9090104 | G8: 1.7560976 | H8: 5.2616822 | I8: 9.4014706 | J8: 3.6087043
A9: Gas | B9: Bedrijfshal algemeen (geen LISA-informatie) | C9: 1946 tot 1978 | D9: 2629 | E9: 0.146 | F9: 5.8189588 | G9: 1.0943026 | H9: 3.6295111 | I9: 8.0251142 | J9: 5.4632918
A10: Gas | B10: Bedrijfshal algemeen (geen LISA-informatie) | C10: 1978 tot 1995 | D10: 4612 | E10: 0.255 | F10: 5.6356822 | G10: 1.4271841 | H10: 4.0232458 | I10: 7.6679954 | J10: 4.9934016
A11: Gas | B11: Bedrijfshal algemeen (geen LISA-informatie) | C11: 1995 tot 2009 | D11: 7945 | E11: 0.44 | F11: 4.420293 | G11: 0.87412096 | H11: 3.0571429 | I11: 6.0736842 | J11: 4.2930384
A12: Gas | B12: Bedrijfshal algemeen (geen LISA-informatie) | C12: 2009 tot 2015 | D12: 1543 | E12: 0.085 | F12: 3.8864173 | G12: 0.55753468 | H12: 2.6303318 | I12: 5.2324165 | J12: 4.2801659
A13: Gas | B13: Bedrijfshal algemeen (geen LISA-informatie) | C13: vanaf 2015 | D13: 1086 | E13: 0.06 | F13: 5.1010858 | G13: 0.66171719 | H13: 2.6347573 | I13: 6.0000828 | J13: 2.60454
... A55: Gas | B55: Bijeenkomstgebouw (niet nader ingedeeld) | C55: vanaf 2015 | D55: 198 | E55: 0.022 | F55: 10.290008 | G55: 3.781746 | H55: 6.2041258 | I55: 12.451671 | J55: 11.611048
A56: Gas | B56: Campusgebouw | C56: tot 1978 | D56: 30 | E56: 0.291 | F56: 11.191382 | H56: 8.9297326 | J56: 15.991876
A57: Gas | B57: Campusgebouw | C57: 1978 tot 1995 | D57: 15 | E57: 0.146 | F57: 9.782498 | J57: 5.9471479
A58: Gas | B58: Campusgebouw | C58: 1995 tot 2009 | D58: 33 | E58: 0.32 | F58: 10.991189 | H58: 8.4175189 | J58: 8.8804071
A59: Gas | B59: Campusgebouw | C59: 2009 tot 2015 | D59: 11 | E59: 0.107 | F59: 10.417181 | J59: 8.7881996
A60: Gas | B60: Campusgebouw | C60: vanaf 2015 | D60: 14 | E60: 0.136 | F60: 7.0027095 | J60: 3.8838766
A61: Gas | B61: Cultuurhuis | C61: tot 1946 | D61: 207 | E61: 0.386 | F61: 11.467382 | G61: 7.1914835 | H61: 10.971374 | I61: 15.568983 | J61: 8.4212094
A62: Gas | B62: Cultuurhuis | C62: 1946 tot 1978 | D62: 117 | E62: 0.218 | F62: 9.6985654 | G62: 6.0075686 | H62: 8.9283217 | I62: 12.297912 | J62: 8.8748457
A63: Gas | B63: Cultuurhuis | C63: 1978 tot 1995 | D63: 94 | E63: 0.175 | F63: 9.3083277 | G63: 6.3017071 | H63: 8.4810881 | I63: 11.444197 | J63: 8.2852253
A64: Gas | B64: Cultuurhuis | C64: 1995 tot 2009 | D64: 88 | E64: 0.164 | F64: 8.2465994 | G64: 5.3003408 | H64: 7.241682 | I64: 11.333313 | J64: 7.227607
A65: Gas | B65: Cultuurhuis | C65: 2009 tot 2015 | D65: 18 | E65: 0.034 | F65: 8.907162 | J65: 5.5878096
A66: Gas | B66: Cultuurhuis | C66: vanaf 2015 | D66: 12 | E66: 0.022 | F66: 4.0974477 | J66: 4.0733707
A67: Gas | B67: Gebedshuis | C67: tot 1946 | D67: 1757 | E67: 0.414 | F67: 10.015272 | G67: 5.7258182 | H67: 9.3936782 | I67: 13.646154 | J67: 6.9869912
A68: Gas | B68: Gebedshuis | C68: 1946 tot 1978 | D68: 1486 | E68: 0.35 | F68: 9.2294253 | G68: 5.9227862 | H68: 8.7825719 | I68: 11.885476 | J68: 7.7346063
A69: Gas | B69: Gebedshuis | C69: 1978 tot 1995 | D69: 534 | E69: 0.126 | F69: 8.6318183 | G69: 5.7013874 | H69: 8.1306114 | I69: 11.152451 | J69: 7.0727226
A70: Gas | B70: Gebedshuis | C70: 1995 tot 2009 | D70: 346 | E70: 0.082 | F70: 8.200866 | G70: 5.5714061 | H70: 7.7046123 | I70: 9.940902 | J70: 7.358795
A71: Gas | B71: Gebedshuis | C71: 2009 tot 2015 | D71: 88 | E71: 0.021 | F71: 6.2362843 | G71: 3.7821975 | H71: 5.3288589 | I71: 7.9893457 | J71: 6.3528078
A72: Gas | B72: Gebedshuis | C72: vanaf 2015 | D72: 32 | E72: 0.008 | F72: 5.9299977 | H72: 5.3055819 | J72: 3.5050536
A73: Gas | B73: Gebouw bij spooremplacement | C73: tot 1946 | D73: 22 | E73: 0.262 | F73: 8.2909734 | H73: 4.3170544 | J73: 6.4865549
A74: Gas | B74: Gebouw bij spooremplacement | C74: 1946 tot 1978 | D74: 16 | E74: 0.19 | F74: 17.310279 | J74: 10.389569
A75: Gas | B75: Gebouw bij spooremplacement | C75: 1978 tot 1995 | D75: 17 | E75: 0.202 | F75: 12.53982 | J75: 12.666472
A76: Gas | B76: Gebouw bij spooremplacement | C76: 1995 tot 2009 | D76: 14 | E76: 0.167 | F76: 10.148687 | J76: 6.5083761
A77: Gas | B77: Gebouw bij spooremplacement | C77: vanaf 2009 | D77: 15 | E77: 0.179 | F77: 5.735298 | J77: 2.3490324
A78: Gas | B78: Gebouw bij vliegveld of luchthaven | C78: tot 1978 | D78: 23 | E78: 0.141 | F78: 6.7642498 | H78: 4.8928323 | J78: 7.4646964
A79: Gas | B79: Gebouw bij vliegveld of luchthaven | C79: 1978 tot 1995 | D79: 68 | E79: 0.417 | F79: 7.7528084 | G79: 2.3349732 | H79: 6.3364757 | I79: 10.469694 | J79: 8.5017051
A80: Gas | B80: Gebouw bij vliegveld of luchthaven | C80: 1995 tot 2009 | D80: 51 | E80: 0.313 | F80: 9.6900826 | G80: 2.5100659 | H80: 5.8991546 | I80: 11.776233 | J80: 7.9251853
A81: Gas | B81: Gebouw bij vliegveld of luchthaven | C81: vanaf 2009 | D81: 21 | E81: 0.129 | F81: 6.3837253 | H81: 4.9388805 | J81: 7.7386284
...

Sheet gas_kental_opp_2020
A1: Energiedrager | B1: Gebouwtype | C1: Oppervlakteklasse | D1: Aantal panden | E1: Aandeel panden per gebouwtype | F1: Gemiddelde kental (m3/m2) | G1: Q1 kental (m3/m2) | H1: Mediaan kental (m3/m2) | I1: Q3 kental (m3/m2) | J1: Gewogen gemiddelde kental (m3/m2)
A2: Gas | B2: Basisschool | C2: tot 250 m2 | D2: 13 | E2: 0.003 | F2: 14.914897 | J2: 15.96123
A3: Gas | B3: Basisschool | C3: 250 tot 500 m2 | D3: 107 | E3: 0.024 | F3: 14.075036 | G3: 10.75611 | H3: 13.071672 | I3: 17.383115 | J3: 13.988356
A4: Gas | B4: Basisschool | C4: 500 tot 1000 m2 | D4: 864 | E4: 0.195 | F4: 11.619082 | G4: 8.8834861 | H4: 10.972894 | I4: 13.705425 | J4: 11.518699
A5: Gas | B5: Basisschool | C5: 1000 tot 2500 m2 | D5: 2598 | E5: 0.586 | F5: 9.1133298 | G5: 6.7132364 | H5: 8.8293095 | I5: 11.18451 | J5: 8.8474233
A6: Gas | B6: Basisschool | C6: 2500 tot 5000 m2 | D6: 667 | E6: 0.15 | F6: 6.2042933 | G6: 3.8513953 | H6: 5.9505185 | I6: 8.1851324 | J6: 6.132578
A7: Gas | B7: Basisschool | C7: 5000 tot 10000 m2 | D7: 152 | E7: 0.034 | F7: 4.6256669 | G7: 2.2594106 | H7: 4.0959818 | I7: 6.6871189 | J7: 4.5775075
A8: Gas | B8: Basisschool | C8: vanaf 10000 m2 | D8: 32 | E8: 0.007 | F8: 3.3192589 | H8: 2.2342756 | J8: 3.0520732
A9: Gas | B9: Bedrijfshal algemeen (geen LISA-informatie) | C9: tot 50 m2 | D9: 175 | E9: 0.01 | F9: 12.666878 | H9: 6.5384615 | I9: 26.683415 | J9: 12.607517
A10: Gas | B10: Bedrijfshal algemeen (geen LISA-informatie) | C10: 50 tot 100 m2 | D10: 1239 | E10: 0.069 | F10: 6.0309204 | G10: 0.020408163 | H10: 2.8681319 | I10: 8.6253411 | J10: 5.9693564
A11: Gas | B11: Bedrijfshal algemeen (geen LISA-informatie) | C11: 100 tot 250 m2 | D11: 4494 | E11: 0.249 | F11: 4.6657853 | G11: 0.45365757 | H11: 3.0612932 | I11: 6.4956781 | J11: 4.6749826
A12: Gas | B12: Bedrijfshal algemeen (geen LISA-informatie) | C12: 250 tot 500 m2 | D12: 3662 | E12: 0.203 | F12: 4.8647145 | G12: 1.3155451 | H12: 3.4693846 | I12: 6.516097 | J12: 4.8706156
A13: Gas | B13: Bedrijfshal algemeen (geen LISA-informatie) | C13: 500 tot 1000 m2 | D13: 3551 | E13: 0.197 | F13: 4.9664736 | G13: 1.5404239 | H13: 3.5044643 | I13: 6.6753378 | J13: 4.9644005
A14: Gas | B14: Bedrijfshal algemeen (geen LISA-informatie) | C14: 1000 tot 2500 m2 | D14: 3102 | E14: 0.172 | F14: 4.8743487 | G14: 1.312855 | H14: 3.3689244 | I14: 6.5181508 | J14: 4.8911422
A15: Gas | B15: Bedrijfshal algemeen (geen LISA-informatie) | C15: 2500 tot 5000 m2 | D15: 1112 | E15: 0.062 | F15: 4.6968302 | G15: 0.94252585 | H15: 3.0069977 | I15: 6.6073197 | J15: 4.661416
A16: Gas | B16: Bedrijfshal algemeen (geen LISA-informatie) | C16: 5000 tot 10000 m2 | D16: 479 | E16: 0.027 | F16: 4.5672137 | G16: 0.80364606 | H16: 2.5953974 | I16: 5.5697493 | J16: 4.5478438
A17: Gas | B17: Bedrijfshal algemeen (geen LISA-informatie) | C17: vanaf 10000 m2 | D17: 238 | E17: 0.013 | F17: 3.9689385 | G17: 0.61337563 | H17: 2.0863314 | I17: 4.8785201 | J17: 3.7859631
A18: Gas | B18: Bedrijfshal algemeen (met LISA-informatie) | C18: tot 50 m2 | D18: 38 | E18: 0.003 | F18: 21.545355 | H18: 22.17674 | J18: 20.330189
A19: Gas | B19: Bedrijfshal algemeen (met LISA-informatie) | C19: 50 tot 100 m2 | D19: 370 | E19: 0.033 | F19: 9.4364351 | G19: 2.8483333 | H19: 6.9266993 | I19: 12.273214 | J19: 9.0558496
A20: Gas | B20: Bedrijfshal algemeen (met LISA-informatie) | C20: 100 tot 250 m2 | D20: 1911 | E20: 0.171 | F20: 6.4662238 | G20: 2.3895161 | H20: 4.8 | I20: 8.2715966 | J20: 6.3573892
A21: Gas | B21: Bedrijfshal algemeen (met LISA-informatie) | C21: 250 tot 500 m2 | D21: 1924 | E21: 0.172 | F21: 6.3087293 | G21: 2.5139778 | H21: 4.7018494 | I21: 7.8119215 | J21: 6.2533864
A22: Gas | B22: Bedrijfshal algemeen (met LISA-informatie) | C22: 500 tot 1000 m2 | D22: 2597 | E22: 0.232 | F22: 5.7865479 | G22: 2.3754579 | H22: 4.4235624 | I22: 7.3001049 | J22: 5.7480234
A23: Gas | B23: Bedrijfshal algemeen (met LISA-informatie) | C23: 1000 tot 2500 m2 | D23: 2579 | E23: 0.231 | F23: 5.2893992 | G23: 2.0101661 | H23: 3.928494 | I23: 6.6109951 | J23: 5.2363469
A24: Gas | B24: Bedrijfshal algemeen (met LISA-informatie) | C24: 2500 tot 5000 m2 | D24: 1008 | E24: 0.09 | F24: 4.945947 | G24: 1.6345462 | H24: 3.395532 | I24: 6.0760909 | J24: 4.9066324
A25: Gas | B25: Bedrijfshal algemeen (met LISA-informatie) | C25: 5000 tot 10000 m2 | D25: 472 | E25: 0.042 | F25: 4.6748555 | G25: 1.2464459 | H25: 2.8946565 | I25: 5.6404461 | J25: 4.6929213
A26: Gas | B26: Bedrijfshal algemeen (met LISA-informatie) | C26: vanaf 10000 m2 | D26: 283 | E26: 0.025 | F26: 3.4313654 | G26: 0.82606355 | H26: 2.0801338 | I26: 3.7753714 | J26: 2.9847416
A27: Gas | B27: Bedrijfshal met logistieke activiteiten | C27: tot 100 m2 | D27: 25 | E27: 0.005 | F27: 9.4766432 | H27: 7.5227273 | J27: 8.7821053
A28: Gas | B28: Bedrijfshal met logistieke activiteiten | C28: 100 tot 250 m2 | D28: 181 | E28: 0.037 | F28: 7.2203213 | G28: 3 | H28: 5.705 | I28: 9.0689655 | J28: 7.22444
A29: Gas | B29: Bedrijfshal met logistieke activiteiten | C29: 250 tot 500 m2 | D29: 333 | E29: 0.068 | F29: 6.1981578 | G29: 3.1168385 | H29: 4.8535211 | I29: 7.8895582 | J29: 6.2339845
A30: Gas | B30: Bedrijfshal met logistieke activiteiten | C30: 500 tot 1000 m2 | D30: 766 | E30: 0.156 | F30: 5.2270413 | G30: 2.5929982 | H30: 4.4254615 | I30: 6.7293768 | J30: 5.1540229
A31: Gas | B31: Bedrijfshal met logistieke activiteiten | C31: 1000 tot 2500 m2 | D31: 1710 | E31: 0.348 | F31: 4.6254521 | G31: 2.2920365 | H31: 3.7628585 | I31: 5.7801799 | J31: 4.5539795
A32: Gas | B32: Bedrijfshal met logistieke activiteiten | C32: 2500 tot 5000 m2 | D32: 1057 | E32: 0.215 | F32: 4.2643035 | G32: 1.9908319 | H32: 3.3295455 | I32: 5.3586445 | J32: 4.2218772
A33: Gas | B33: Bedrijfshal met logistieke activiteiten | C33: 5000 tot 10000 m2 | D33: 529 | E33: 0.108 | F33: 4.0613331 | G33: 1.4517011 | H33: 2.983363 | I33: 5.3075656 | J33: 4.0749463
A34: Gas | B34: Bedrijfshal met logistieke activiteiten | C34: vanaf 10000 m2 | D34: 310 | E34: 0.063 | F34: 3.4840426 | G34: 1.032198 | H34: 2.3268421 | I34: 4.6214765 | J34: 3.310942
A35: Gas | B35: Bedrijfshal met maakindustrie en andere economische activiteiten | C35: tot 100 m2 | D35: 43 | E35: 0.009 | F35: 10.016669 | G35: 2.9898374 | H35: 7.1492537 | I35: 13.738571 | J35: 9.2280589
A36: Gas | B36: Bedrijfshal met maakindustrie en andere economische activiteiten | C36: 100 tot 250 m2 | D36: 251 | E36: 0.055 | F36: 7.6019243 | G36: 3.0992465 | H36: 5.3560606 | I36: 9.1103078 | J36: 7.4086996
A37: Gas | B37: Bedrijfshal met maakindustrie en andere economische activiteiten | C37: 250 tot 500 m2 | D37: 415 | E37: 0.091 | F37: 6.4916269 | G37: 2.9538799 | H37: 4.9305019 | I37: 8.1564058 | J37: 6.4733395
A38: Gas | B38: Bedrijfshal met maakindustrie en andere economische activiteiten | C38: 500 tot 1000 m2 | D38: 1059 | E38: 0.233 | F38: 5.6013478 | G38: 2.4319406 | H38: 4.4494253 | I38: 6.7870734 | J38: 5.5747164
A39: Gas | B39: Bedrijfshal met maakindustrie en andere economische activiteiten | C39: 1000 tot 2500 m2 | D39: 1672 | E39: 0.368 | F39: 4.8739774 | G39: 2.1952008 | H39: 3.783482 | I39: 6.2276413 | J39: 4.8490585
... A42: Gas | B42: Bedrijfshal met maakindustrie en andere economische activiteiten | C42: vanaf 10000 m2 | D42: 128 | E42: 0.028 | F42: 6.4899199 | G42: 1.6088728 | H42: 4.7557255 | I42: 8.5214186 | J42: 6.4926031
...

Sheet gas_kental_diensten_2020
A1: Energiedrager | B1: Gebouwtype | C1: Aantal panden | D1: Gemiddelde kental (m3/m2) | E1: Q1 kental (m3/m2) | F1: Mediaan kental (m3/m2) | G1: Q3 kental (m3/m2) | H1: Gewogen gemiddelde kental (m3/m2)
A2: Gas | B2: Asielzoekerscentrum | C2: 55 | D2: 24.049557 | E2: 9.8221003 | F2: 15.674642 | G2: 21.964036 | H2: 19.640211
A3: Gas | B3: Basisschool | C3: 4049 | D3: 9.2290841 | E3: 6.532127 | F3: 8.9776305 | G3: 11.55545 | H3: 7.8205865
A4: Gas | B4: Bedrijfshal algemeen (geen LISA-informatie) | C4: 10674 | D4: 4.7578307 | E4: 0.90895289 | F4: 3.1688608 | G4: 6.4322722 | H4: 4.027751
A5: Gas | B5: Bedrijfshal algemeen (met LISA-informatie) | C5: 7883 | D5: 5.9064882 | E5: 2.1930431 | F5: 4.3706505 | G5: 7.5025323 | H5: 4.4655964
A6: Gas | B6: Bedrijfshal met logistieke activiteiten | C6: 2071 | D6: 4.9004642 | E6: 1.936556 | F6: 3.8999295 | G6: 6.5833526 | H6: 3.8125958
A7: Gas | B7: Bedrijfshal met maakindustrie en andere economische activiteiten | C7: 1616 | D7: 5.872018 | E7: 2.2821033 | F7: 4.4952328 | G7: 7.51207 | H7: 5.3634197
A8: Gas | B8: Bedrijfshal met maakindustrie en logistieke activiteiten | C8: 6222 | D8: 5.0506927 | E8: 1.9201714 | F8: 3.89344 | G8: 6.6190184 | H8: 3.923167
A9: Gas | B9: Bedrijfshal uitsluitend maakindustrie | C9: 6852 | D9: 6.7604021 | E9: 2.4522715 | F9: 4.8200044 | G9: 8.2380072 | H9: 6.5604924
A10: Gas | B10: Bedrijfswoning | C10: 8472 | D10: 12.627975 | E10: 5.6651863 | F10: 9.9378156 | G10: 15.958053 | H10: 9.1754065
A11: Gas | B11: Bijeenkomstgebouw (niet nader ingedeeld) | C11: 8413 | D11: 10.433726 | E11: 5.1505792 | F11: 8.5379113 | G11: 13.436073 | H11: 9.2880039
A12: Gas | B12: Campusgebouw | C12: 75 | D12: 10.72768 | E12: 2.4264214 | F12: 8.4175189 | G12: 12.019317 | H12: 10.732066
A13: Gas | B13: Cultuurhuis | C13: 450 | D13: 10.111249 | E13: 6.2504985 | F13: 9.1379724 | G13: 13.471541 | H13: 8.3281882
... A15: Gas | B15: Gebedshuis | C15: 3658 | D15: 9.3551094 | E15: 5.7216022 | F15: 8.739617 | G15: 12.235063 | H15: 7.2826621
A16: Gas | B16: Gebouw bij militaire inrichting
A17: Gas | B17: Gebouw bij spooremplacement | C17: 46 | D17: 10.669466 | E17: 4.2788378 | F17: 9.2939598 | G17: 16.088017 | H17: 8.3377445
A18: Gas | B18: Gebouw bij vliegveld of luchthaven | C18: 113 | D18: 8.4516483 | E18: 2.3915119 | F18: 6.4143132 | G18: 10.71308 | H18: 8.7306861
A19: Gas | B19: Gebouw in landelijk gebied voor industrie (geen landbouwactiviteiten geregistreerd) | C19: 1870 | D19: 6.4397551 | E19: 1.4585696 | F19: 4.2572174 | G19: 8.5666191 | H19: 5.1616566
A20: Gas | B20: Gebouw in stedelijk gebied met industriefunctie | C20: 8149 | D20: 8.4903587 | E20: 2.1882041 | F20: 5.6794718 | G20: 10.986755 | H20: 6.0750778
A21: Gas | B21: Gebouw op snelwegverzorgingsplaats | C21: 54 | D21: 13.573469 | E21: 3.797541 | F21: 8.2992504 | G21: 19.983081 | H21: 19.902662
A22: Gas | B22: Gebouw op vakantiepark | C22: 31793 | D22: 11.234531 | E22: 6.9315068 | F22: 10.336842 | G22: 14.275862 | H22: 10.937454
A23: Gas | B23: Gebouw voor landbouwactiviteiten | C23: 217 | D23: 17.345368 | E23: 2.3836784 | F23: 6.3538462 | G23: 18.117769 | H23: 5.0534201
A24: Gas | B24: Groothandel op bedrijventerrein | C24: 180 | D24: 4.9622022 | E24: 2.2279357 | F24: 4.2396716 | G24: 6.7419067 | H24: 4.2453032
A25: Gas | B25: Hotel (of ander groot logiesgebouw) | C25: 1993 | D25: 14.377796 | E25: 7.8044218 | F25: 13.436447 | G25: 19.555377 | H25: 12.354343
A26: Gas | B26: IJsbaan | C26: 112 | D26: 5.5860131 | E26: 2.5871429 | F26: 5.0199653 | G26: 7.3013608 | H26: 6.9132141
A27: Gas | B27: Kantoorpand algemeen | C27: 16192 | D27: 9.8356226 | E27: 5.642486 | F27: 8.9466469 | G27: 13.047081 | H27: 7.6469247
A28: Gas | B28: Kinderopvang (gebouw) | C28: 1395 | D28: 11.706606 | E28: 7.6910406 | F28: 10.660099 | G28: 14.893172 | H28: 10.367886
A29: Gas | B29: Koelhuis | C29: 70 | D29: 4.7754791 | E29: 0.57420037 | F29: 1.3263426 | G29: 6.0224596 | H29: 3.4251096
A30: Gas | B30: MBO-gebouw
A31: Gas | B31: Meergezinswoning met andere functie of combinatie van functies | C31: 1909 | D31: 10.777667 | E31: 5.8872902 | F31: 9.7695122 | G31: 14.488421 | H31: 8.9474153
A32: Gas | B32: Meergezinswoning met cafe of restaurant | C32: 1194 | D32: 15.457101 | E32: 7.9051367 | F32: 13.011198 | G32: 20.502839 | H32: 13.397675
A33: Gas | B33: Meergezinswoning met winkel | C33: 3184 | D33: 10.639388 | E33: 5.5547464 | F33: 9.5033488 | G33: 14.538946 | H33: 8.2042914
A34: Gas | B34: Meergezinswoning met winkels en horeca | C34: 316 | D34: 11.270119 | E34: 6.2356551 | F34: 9.9020412 | G34: 15.14155 | H34: 8.7964694
A35: Gas | B35: Meergezinswoning met woonzorgeenheden | C35: 85 | D35: 11.542765 | E35: 7.0166667 | F35: 10.990698 | G35: 15.421769 | H35: 10.49186
A36: Gas | B36: Middelbare school | C36: 995 | D36: 8.2801555 | E36: 4.7884371 | F36: 7.481082 | G36: 10.68513 | H36: 6.9462397
A37: Gas | B37: Nutsgebouw (elektriciteit)
A38: Gas | B38: Nutsgebouw (water) | C38: 183 | D38: 20.441411 | E38: 6.0573387 | F38: 12.92 | G38: 23.944468 | H38: 9.9557075
A39: Gas | B39: Overig gebouw met maatschappelijke functie | C39: 1403 | D39: 12.355185 | E39: 5.1908773 | F39: 9.1081081 | G39: 14.706993 | H39: 11.176859
A40: Gas | B40: Overig gebouw met recreatiefunctie | C40: 60 | D40: 15.164602 | E40: 5.9069656 | F40: 9.4820271 | G40: 14.504099 | H40: 12.895149
A41: Gas | B41: Overig onderwijsgebouw | C41: 2774 | D41: 10.958925 | E41: 6.870331 | F41: 10.052378 | G41: 13.694848 | H41: 8.7464098
...

Sheet elek_kental_2020
A1: Energiedrager | B1: Gebouwtype | C1: Aantal panden | D1: Gemiddelde kental (kWh/m2) | E1: Q1 kental (kWh/m2) | F1: Mediaan kental (kWh/m2) | G1: Q3 kental (kWh/m2) | H1: Gewogen gemiddelde kental (kWh/m2) | I1: Gemiddelde kental inclusief eigenverbruik zonnestroom (kWh/m2) | J1: Q1 kental inclusief eigenverbruik zonnestroom (kWh/m2) | K1: Mediaan kental inclusief eigenverbruik zonnestroom (kWh/m2) | L1: Q3 kental inclusief eigenverbruik zonnestroom (kWh/m2) | M1: Gewogen gemiddelde kental inclusief eigenverbruik zonnestroom (kWh/m2)
A2: Elektriciteit | B2: Asielzoekerscentrum | C2: 62 | D2: 69.879411 | E2: 26.733282 | F2: 46.683542 | G2: 74.666773 | H2: 53.85005 | I2: 70.235048 | J2: 27.107358 | K2: 46.683542 | L2: 74.666773 | M2: 54.503506
A3: Elektriciteit | B3: Basisschool | C3: 4730 | D3: 24.6354 | E3: 15.949717 | F3: 21.440409 | G3: 29.599515 | H3: 26.046239 | I3: 28.106832 | J3: 18.269285 | K3: 24.036072 | L3: 33.91929 | M3: 28.891336
A4: Elektriciteit | B4: Bedrijfshal algemeen (geen LISA-informatie) | C4: 18243 | D4: 38.541639 | E4: 11.267619 | F4: 21 | G4: 40.91056 | H4: 45.330182 | I4: 40.583465 | J4: 11.738056 | K4: 22.333333 | L4: 43.861438 | M4: 47.84099
A5: Elektriciteit | B5: Bedrijfshal algemeen (met LISA-informatie) | C5: 12071 | D5: 46.318257 | E5: 14.979235 | F5: 26.614081 | G5: 48.960993 | H5: 48.554887 | I5: 49.497427 | J5: 16.076876 | K5: 28.715031 | L5: 52.848343 | M5: 51.628759
A6: Elektriciteit | B6: Bedrijfshal met logistieke activiteiten | C6: 5360 | D6: 39.191339 | E6: 16.386975 | F6: 26.314038 | G6: 43.620618 | H6: 41.887917 | I6: 42.103039 | J6: 17.460124 | K6: 28.341693 | L6: 46.479673 | M6: 44.793674
A7: Elektriciteit | B7: Bedrijfshal met maakindustrie en andere economische activiteiten | C7: 4813 | D7: 43.037975 | E7: 16.417391 | F7: 27.475703 | G7: 47.902092 | H7: 53.351467 | I7: 46.125365 | J7: 17.739083 | K7: 29.688657 | L7: 51.423986 | M7: 56.570743
A8: Elektriciteit | B8: Bedrijfshal met maakindustrie en logistieke activiteiten | C8: 10335 | D8: 46.312408 | E8: 14.878501 | F8: 25.750097 | G8: 46.470365 | H8: 54.475915 | I8: 53.168958 | J8: 16.205915 | K8: 27.963141 | L8: 49.961612 | M8: 57.824291
A9: Elektriciteit | B9: Bedrijfshal uitsluitend maakindustrie | C9: 18777 | D9: 57.975141 | E9: 16.538462 | F9: 30.007663 | G9: 58.347826 | H9: 93.257323 | I9: 62.053339 | J9: 18.083632 | K9: 32.995261 | L9: 63.078029 | M9: 97.335373
A10: Elektriciteit | B10: Bedrijfswoning | C10: 67633 | D10: 66.126298 | E10: 16.54902 | F10: 29.985185 | G10: 64.882562 | H10: 50.149978 | I10: 80.834883 | J10: 19.083333 | K10: 35.172285 | L10: 78.013605 | M10: 60.622879
A11: Elektriciteit | B11: Bijeenkomstgebouw (niet nader ingedeeld) | C11: 9131 | D11: 45.348568 | E11: 13.276408 | F11: 25.138889 | G11: 52.508537 | H11: 45.14891 | I11: 48.043032 | J11: 14.455854 | K11: 27.648387 | L11: 57.790487 | M11: 47.175501
A12: Elektriciteit | B12: Campusgebouw | C12: 109 | D12: 89.837893 | E12: 35.036462 | F12: 53.711764 | G12: 109.51711 | H12: 78.123518 | I12: 94.062589 | J12: 36.375684 | K12: 53.711764 | L12: 115.65198 | M12: 80.734496
A13: Elektriciteit | B13: Cultuurhuis | C13: 563 | D13: 55.550266 | E13: 24.857196 | F13: 41.191431 | G13: 74.161484 | H13: 60.562378 | I13: 57.523328 | J13: 25.947776 | K13: 42.312775 | L13: 76.86513 | M13: 62.166638
... A15: Elektriciteit | B15: Gebedshuis | C15: 3598 | D15: 14.90286 | E15: 8.3565085 | F15: 12.187855 | G15: 18.733059 | H15: 16.358586 | I15: 16.318444 | J15: 8.7024625 | K15: 13.111748 | L15: 20.462356 | M15: 17.643682
A16: Elektriciteit | B16: Gebouw bij militaire inrichting | C16: 12 | D16: 580.74411 | H16: 439.13097 | I16: 580.74411 | M16: 439.13097
A17: Elektriciteit | B17: Gebouw bij spooremplacement | C17: 69 | D17: 62.505361 | E17: 19.223112 | F17: 44.070423 | G17: 90.5625 | H17: 48.786643 | I17: 62.922159 | J17: 19.547686 | K17: 44.070423 | L17: 90.5625 | M17: 49.154643
A18: Elektriciteit | B18: Gebouw bij vliegveld of luchthaven | C18: 137 | D18: 55.950486 | E18: 13.575556 | F18: 34.454815 | G18: 70.583942 | H18: 64.842257 | I18: 58.741147 | J18: 15.807117 | K18: 37.442432 | L18: 71.289216 | M18: 66.377285
A19: Elektriciteit | B19: Gebouw in landelijk gebied voor industrie (geen landbouwactiviteiten geregistreerd) | C19: 4646 | D19: 45.867112 | E19: 12.678043 | F19: 25.56044 | G19: 51.864037 | H19: 53.27355 | I19: 53.763191 | J19: 13.889323 | K19: 28.907237 | L19: 60.903769 | M19: 60.179849
A20: Elektriciteit | B20: Gebouw in stedelijk gebied met industriefunctie | C20: 13083 | D20: 53.523601 | E20: 13.779349 | F20: 26.657534 | G20: 54.908023 | H20: 59.195989 | I20: 56.39328 | J20: 14.564659 | K20: 28.824039 | L20: 58.691405 | M20: 61.420981
A21: Elektriciteit | B21: Gebouw op snelwegverzorgingsplaats | C21: 123 | D21: 545.50973 | E21: 192.73457 | F21: 577.51792 | G21: 829.20097 | H21: 320.16922 | I21: 561.11246 | J21: 192.73457 | K21: 590.22691 | L21: 846.78946 | M21: 329.89805
A22: Elektriciteit | B22: Gebouw op vakantiepark | C22: 34545 | D22: 26.804106 | E22: 11.942529 | F22: 17.939394 | G22: 29.640625 | H22: 32.967202 | I22: 29.314075 | J22: 12.263736 | K22: 18.727273 | L22: 32.417722 | M22: 36.499681
A23: Elektriciteit | B23: Gebouw voor landbouwactiviteiten | C23: 2360 | D23: 121.0667 | E23: 22.243202 | F23: 49.973977 | G23: 142.84992 | H23: 72.51125 | I23: 134.94379 | J23: 25.464964 | K23: 58.192011 | L23: 163.79708 | M23: 78.273863
A24: Elektriciteit | B24: Groothandel op bedrijventerrein | C24: 569 | D24: 28.853854 | E24: 15.478873 | F24: 23.461028 | G24: 36.587065 | H24: 27.236993 | I24: 30.48392 | J24: 16.508642 | K24: 25.045958 | L24: 39.338583 | M24: 28.807048
A25: Elektriciteit | B25: Hotel (of ander groot logiesgebouw) | C25: 2440 | D25: 63.620117 | E25: 25.652826 | F25: 51.207319 | G25: 89.885494 | H25: 72.938985 | I25: 65.346239 | J25: 27.091885 | K25: 52.830463 | L25: 92.463162 | M25: 73.879755
A26: Elektriciteit | B26: IJsbaan | C26: 96 | D26: 26.37947 | E26: 10.461884 | F26: 17.102801 | G26: 27.835294 | H26: 95.025308 | I26: 29.473082 | J26: 12.41449 | K26: 20.652029 | L26: 34.273325 | M26: 96.066642
A27: Elektriciteit | B27: Kantoorpand algemeen | C27: 20777 | D27: 47.508883 | E27: 21.597647 | F27: 37.308432 | G27: 61.514235 | H27: 57.202975 | I27: 50.736752 | J27: 22.98 | K27: 39.540601 | L27: 65.187398 | M27: 58.938921
A28: Elektriciteit | B28: Kinderopvang (gebouw) | C28: 1520 | D28: 32.287241 | E28: 19.387711 | F28: 28.189524 | G28: 38.644996 | H28: 30.950436 | I28: 34.130732 | J28: 20.682694 | K28: 29.421715 | L28: 41.096608 | M28: 32.727461
A29: Elektriciteit | B29: Koelhuis | C29: 96 | D29: 282.45456 | E29: 71.332695 | F29: 178.32446 | G29: 352.27542 | H29: 239.75142 | I29: 292.71318 | J29: 86.766273 | K29: 198.5881 | L29: 352.27542 | M29: 250.38503
A30: Elektriciteit | B30: MBO-gebouw | C30: 17 | D30: 64.896927 | H30: 58.374856 | I30: 66.47914 | M30: 59.43127
A31: Elektriciteit | B31: Meergezinswoning met andere functie of combinatie van functies | C31: 17513 | D31: 37.813499 | E31: 18.795031 | F31: 27.526012 | G31: 42.61991 | H31: 38.737592 | I31: 40.008573 | J31: 19.520362 | K31: 28.618919 | L31: 44.821429 | M31: 40.455658
A32: Elektriciteit | B32: Meergezinswoning met cafe of restaurant | C32: 6307 | D32: 86.835784 | E32: 36.097142 | F32: 73.123037 | G32: 122.07883 | H32: 77.046187 | I32: 87.355014 | J32: 36.767916 | K32: 73.834625 | L32: 122.2419 | M32: 77.615231
A33: Elektriciteit | B33: Meergezinswoning met winkel | C33: 22262 | D33: 49.711974 | E33: 23.684747 | F33: 36.601561 | G33: 61.064973 | H33: 50.985326 | I33: 50.199734 | J33: 24.053465 | K33: 37.165444 | L33: 61.601517 | M33: 51.530222
A34: Elektriciteit | B34: Meergezinswoning met winkels en horeca | C34: 2533 | D34: 55.581423 | E34: 26.143721 | F34: 42.146341 | G34: 73.164974 | H34: 55.298153 | I34: 56.404776 | J34: 26.709302 | K34: 43.296161 | L34: 73.734694 | M34: 56.010868
A35: Elektriciteit | B35: Meergezinswoning met woonzorgeenheden | C35: 278 | D35: 31.834078 | E35: 17.802815 | F35: 29.022633 | G35: 41.063302 | H35: 37.786649 | I35: 34.446221 | J35: 19.080849 | K35: 31.409232 | L35: 43.505413 | M35: 40.697924
A36: Elektriciteit | B36: Middelbare school | C36: 1080 | D36: 35.219308 | E36: 21.179824 | F36: 29.977684 | G36: 43.608777 | H36: 33.260202 | I36: 38.174726 | J36: 24.063668 | K36: 32.683332 | L36: 46.483329 | M36: 36.268207
A37: Elektriciteit | B37: Nutsgebouw (elektriciteit) | C37: 141 | D37: 226.50301 | E37: 32.69961 | F37: 83.934783 | G37: 305.93462 | H37: 145.6851 | I37: 439.80233 | J37: 36.79702 | K37: 87.668 | L37: 308.80808 | M37: 177.52687
A38: Elektriciteit | B38: Nutsgebouw (water) | C38: 59 | D38: 566.74356 | E38: 18.265257 | F38: 106.11013 | G38: 479.76255 | H38: 403.92779 | I38: 604.32994 | J38: 18.767852 | K38: 136.95513 | L38: 578.77996 | M38: 444.33779
A39: Elektriciteit | B39: Overig gebouw met maatschappelijke functie | C39: 1221 | D39: 38.102822 | E39: 8.8010204 | F39: 16.135514 | G39: 40.594059 | H39: 51.832779 | I39: 39.098275 | J39: 8.9892857 | K39: 16.306189 | L39: 43.004386 | M39: 52.934998
A40: Elektriciteit | B40: Overig gebouw met recreatiefunctie | C40: 72 | D40: 111.51959 | E40: 30.737965 | F40: 71.665498 | G40: 149.59367 | H40: 113.28657 | I40: 114.17725 | J40: 37.73904 | K40: 73.4533 | L40: 149.59367 | M40: 117.20706
A41: Elektriciteit | B41: Overig onderwijsgebouw | C41: 3067 | D41: 29.927843 | E41: 15.864923 | F41: 23.092402 | G41: 35.470771 | H41: 35.895231 | I41: 31.447077 | J41: 16.547368 | K41: 24.004211 | L41: 37.272102 | M41: 37.179225
...

Sheet elek_kental_bouwj_2020
A1: Energiedrager | B1: Gebouwtype | C1: Bouwjaarklasse | D1: Aantal panden | E1: Aandeel panden per gebouwtype | F1: Gemiddelde kental (kWh/m2) | G1: Q1 kental (kWh/m2) | H1: Mediaan kental (kWh/m2) | I1: Q3 kental (kWh/m2) | J1: Gewogen gemiddelde kental (kWh/m2) | K1: Gemiddelde kental inclusief eigenverbruik zonnestroom (kWh/m2) | L1: Q1 kental inclusief eigenverbruik zonnestroom (kWh/m2) | M1: Mediaan kental inclusief eigenverbruik zonnestroom (kWh/m2) | N1: Q3 kental inclusief eigenverbruik zonnestroom (kWh/m2) | O1: Gewogen gemiddelde kental inclusief eigenverbruik zonnestroom (kWh/m2)
A2: Elektriciteit | B2: Basisschool | C2: tot 1946 | D2: 445 | E2: 0.094 | F2: 22.902796 | G2: 14.583002 | H2: 20.550505 | I2: 26.457319 | J2: 21.263656 | K2: 25.831733 | L2: 16.701389 | M2: 22.666107 | N2: 29.62842 | O2: 23.412453
A3: Elektriciteit | B3: Basisschool | C3: 1946 tot 1978 | D3: 1702 | E3: 0.36 | F3: 20.729197 | G3: 14.696625 | H3: 18.885981 | I3: 24.020642 | J3: 19.880914 | K3: 24.272096 | L3: 16.861259 | M3: 21.385922 | N3: 28.406088 | O3: 22.685457
A4: Elektriciteit | B4: Basisschool | C4: 1978 tot 1995 | D4: 1096 | E4: 0.232 | F4: 21.429547 | G4: 15.488844 | H4: 19.779363 | I4: 25.417959 | J4: 20.986761 | K4: 24.240007 | L4: 17.457651 | M4: 21.959883 | N4: 28.64678 | O4: 23.554121
A5: Elektriciteit | B5: Basisschool | C5: 1995 tot 2009 | D5: 703 | E5: 0.149 | F5: 26.832627 | G5: 17.345234 | H5: 23.984795 | I5: 32.545409 | J5: 27.484934 | K5: 29.758265 | L5: 20.124708 | M5: 26.475208 | N5: 35.983617 | O5: 29.723815
A6: Elektriciteit | B6: Basisschool | C6: 2009 tot 2015 | D6: 488 | E6: 0.103 | F6: 38.650329 | G6: 27.476157 | H6: 36.167015 | I6: 48.96544 | J6: 39.379831 | K6: 42.858338 | L6: 30.991365 | M6: 41.099462 | N6: 53.438623 | O6: 42.500797
A7: Elektriciteit | B7: Basisschool | C7: vanaf 2015 | D7: 296 | E7: 0.063 | F7: 33.247032 | G7: 22.252873 | H7: 31.190375 | I7: 41.051243 | J7: 33.07397 | K7: 39.652401 | L7: 27.051328 | M7: 37.611573 | N7: 50.073219 | O7: 38.539908
A8: Elektriciteit | B8: Bedrijfshal algemeen (geen LISA-informatie) | C8: tot 1946 | D8: 247 | E8: 0.014 | F8: 48.797275 | G8: 12.764296 | H8: 22.363636 | I8: 44.421461 | J8: 41.261458 | K8: 50.207832 | L8: 13.257909 | M8: 23.47166 | N8: 46.228643 | O8: 42.383236
A9: Elektriciteit | B9: Bedrijfshal algemeen (geen LISA-informatie) | C9: 1946 tot 1978 | D9: 2303 | E9: 0.126 | F9: 37.522643 | G9: 10.748397 | H9: 19.952222 | I9: 40.383087 | J9: 47.968677 | K9: 39.15325 | L9: 10.846057 | M9: 20.953917 | N9: 41.914775 | O9: 49.760703
A10: Elektriciteit | B10: Bedrijfshal algemeen (geen LISA-informatie) | C10: 1978 tot 1995 | D10: 4213 | E10: 0.231 | F10: 41.956998 | G10: 11.842105 | H10: 21.685437 | I10: 43.552846 | J10: 47.188055 | K10: 43.756306 | L10: 12.302249 | M10: 22.832292 | N10: 46.817073 | O10: 48.781517
A11: Elektriciteit | B11: Bedrijfshal algemeen (geen LISA-informatie) | C11: 1995 tot 2009 | D11: 7725 | E11: 0.423 | F11: 34.83406 | G11: 10.890625 | H11: 19.772727 | I11: 37.704261 | J11: 43.285792 | K11: 36.721609 | L11: 11.297872 | M11: 20.849219 | N11: 40.027397 | O11: 45.211853
A12: Elektriciteit | B12: Bedrijfshal algemeen (geen LISA-informatie) | C12: 2009 tot 2015 | D12: 1618 | E12: 0.089 | F12: 36.01766 | G12: 10.734257 | H12: 19.001605 | I12: 39.312102 | J12: 50.245841 | K12: 38.861312 | L12: 11.09631 | M12: 20.464999 | N12: 42.001704 | O12: 55.630996
A13: Elektriciteit | B13: Bedrijfshal algemeen (geen LISA-informatie) | C13: vanaf 2015 | D13: 2137 | E13: 0.117 | F13: 47.034645 | G13: 13.379367 | H13: 27.205674 | I13: 50.272525 | J13: 39.938056 | K13: 50.021309 | L13: 14.884844 | M13: 28.828571 | N13: 55.638021 | O13: 45.624515
... A55: Elektriciteit | B55: Bijeenkomstgebouw (niet nader ingedeeld) | C55: vanaf 2015 | D55: 349 | E55: 0.038 | F55: 65.899268 | G55: 18.382353 | H55: 37.37037 | I55: 89.260759 | J55: 67.664547 | K55: 74.315621 | L55: 24.896226 | M55: 47.54717 | N55: 95.333333 | O55: 72.510485
A56: Elektriciteit | B56: Campusgebouw | C56: tot 1978 | D56: 27 | E56: 0.248 | F56: 73.405247 | H56: 45.545646 | J56: 86.59206 | K56: 75.38862 | M56: 45.545646 | O56: 89.170489
A57: Elektriciteit | B57: Campusgebouw | C57: 1978 tot 1995 | D57: 19 | E57: 0.174 | F57: 57.766388 | J57: 60.43765 | K57: 60.068925 | O57: 63.160247
A58: Elektriciteit | B58: Campusgebouw | C58: 1995 tot 2009 | D58: 39 | E58: 0.358 | F58: 91.963452 | H58: 51.615333 | J58: 65.889726 | K58: 96.181397 | M58: 51.615333 | O58: 67.009246
A59: Elektriciteit | B59: Campusgebouw | C59: 2009 tot 2015 | D59: 10 | E59: 0.092 | F59: 157.40526 | J59: 122.96618 | K59: 164.64045 | O59: 125.26754
A60: Elektriciteit | B60: Campusgebouw | C60: vanaf 2015 | D60: 14 | E60: 0.128 | F60: 110.87144 | J60: 108.63174 | K60: 119.89579 | O60: 117.45855
A61: Elektriciteit | B61: Cultuurhuis | C61: tot 1946 | D61: 221 | E61: 0.393 | F61: 56.762781 | G61: 22.795955 | H61: 41.55 | I61: 77.458262 | J61: 62.903053 | K61: 57.224548 | L61: 22.85172 | M61: 42.312775 | N61: 77.458262 | O61: 63.368421
A62: Elektriciteit | B62: Cultuurhuis | C62: 1946 tot 1978 | D62: 106 | E62: 0.188 | F62: 37.980217 | G62: 19.389583 | H62: 28.694193 | I62: 46.031514 | J62: 43.02401 | K62: 39.779621 | L62: 21.935492 | M62: 30.924099 | N62: 46.439844 | O62: 44.949948
A63: Elektriciteit | B63: Cultuurhuis | C63: 1978 tot 1995 | D63: 108 | E63: 0.192 | F63: 55.516145 | G63: 27.808425 | H63: 45.312208 | I63: 65.652131 | J63: 57.772283 | K63: 56.77047 | L63: 29.645233 | M63: 45.452508 | N63: 69.264431 | O63: 58.478094
A64: Elektriciteit | B64: Cultuurhuis | C64: 1995 tot 2009 | D64: 88 | E64: 0.156 | F64: 65.50951 | G64: 26.697883 | H64: 51.883421 | I64: 96.523213 | J64: 71.799219 | K64: 71.22242 | L64: 27.886228 | M64: 54.193257 | N64: 101.20606 | O64: 74.768448
A65: Elektriciteit | B65: Cultuurhuis | C65: 2009 tot 2015 | D65: 21 | E65: 0.037 | F65: 78.876498 | H65: 68.490371 | J65: 64.428905 | K65: 82.147069 | M65: 68.490371 | O65: 64.901611
A66: Elektriciteit | B66: Cultuurhuis | C66: vanaf 2015 | D66: 19 | E66: 0.034 | F66: 67.754469 | J66: 69.325395 | K66: 73.605077 | O66: 75.702197
A67: Elektriciteit | B67: Gebedshuis | C67: tot 1946 | D67: 1452 | E67: 0.404 | F67: 13.987053 | G67: 7.8274806 | H67: 11.024076 | I67: 17.165073 | J67: 13.705995 | K67: 14.796107 | L67: 7.907572 | M67: 11.427414 | N67: 18.595654 | O67: 14.469239
A68: Elektriciteit | B68: Gebedshuis | C68: 1946 tot 1978 | D68: 1230 | E68: 0.342 | F68: 14.264316 | G68: 8.1387716 | H68: 11.71702 | I68: 17.215486 | J68: 15.957758 | K68: 15.957649 | L68: 8.5771887 | M68: 12.798861 | N68: 19.229022 | O68: 17.419719
A69: Elektriciteit | B69: Gebedshuis | C69: 1978 tot 1995 | D69: 493 | E69: 0.137 | F69: 16.365246 | G69: 9.6221198 | H69: 14.004249 | I69: 21.451087 | J69: 18.560919 | K69: 17.684684 | L69: 10.278947 | M69: 14.876761 | N69: 23.225564 | O69: 19.829437
A70: Elektriciteit | B70: Gebedshuis | C70: 1995 tot 2009 | D70: 313 | E70: 0.087 | F70: 17.80899 | G70: 10.826211 | H70: 15.212828 | I70: 22.471248 | J70: 21.885525 | K70: 20.50289 | L70: 11.927731 | M70: 17.202186 | N70: 26.839557 | O70: 23.754275
A71: Elektriciteit | B71: Gebedshuis | C71: 2009 tot 2015 | D71: 80 | E71: 0.022 | F71: 19.175073 | G71: 11.844898 | H71: 17.926592 | I71: 25.035913 | J71: 20.089372 | K71: 22.784347 | L71: 13.854036 | M71: 20.64179 | N71: 27.549528 | O71: 23.037108
A72: Elektriciteit | B72: Gebedshuis | C72: vanaf 2015 | D72: 30 | E72: 0.008 | F72: 19.663128 | H72: 18.416143 | J72: 18.117104 | K72: 21.44018 | M72: 19.016445 | O72: 19.790856
A73: Elektriciteit | B73: Gebouw bij spooremplacement | C73: tot 1946 | D73: 16 | E73: 0.232 | F73: 35.646678 | J73: 24.79256 | K73: 35.668542 | O73: 24.846215
A74: Elektriciteit | B74: Gebouw bij spooremplacement | C74: 1995 tot 2009 | D74: 24 | E74: 0.348 | F74: 91.57142 | H74: 86.514979 | J74: 82.747962 | K74: 92.135235 | M74: 86.514979 | O74: 82.804653
A75: Elektriciteit | B75: Gebouw bij spooremplacement | C75: vanaf 2009 | D75: 10 | E75: 0.145 | F75: 69.473747 | J75: 35.728285 | K75: 69.845453 | O75: 36.479128
A76: Elektriciteit | B76: Gebouw bij spooremplacement | D76: 19 | E76: 0.275 | F76: 44.740605 | J76: 28.781961 | K76: 45.328006 | O76: 29.069066
A77: Elektriciteit | B77: Gebouw bij vliegveld of luchthaven | C77: tot 1978 | D77: 18 | E77: 0.131 | F77: 52.746107 | J77: 30.5961 | K77: 52.746107 | O77: 30.5961
A78: Elektriciteit | B78: Gebouw bij vliegveld of luchthaven | C78: 1978 tot 1995 | D78: 54 | E78: 0.394 | F78: 52.297191 | G78: 11.223193 | H78: 23.617789 | I78: 68.360956 | J78: 78.845405 | K78: 56.602026 | L78: 12.9613 | M78: 27.3268 | N78: 68.360956 | O78: 81.833096
A79: Elektriciteit | B79: Gebouw bij vliegveld of luchthaven | C79: 1995 tot 2009 | D79: 41 | E79: 0.299 | F79: 58.151594 | G79: 17.959922 | H79: 36.173007 | I79: 68.47 | J79: 54.679214 | K79: 58.151594 | L79: 17.959922 | M79: 36.173007 | N79: 68.47 | O79: 54.679214
A80: Elektriciteit | B80: Gebouw bij vliegveld of luchthaven | C80: 2009 tot 2015 | D80: 10 | E80: 0.073 | F80: 77.349316 | J80: 92.290944 | K80: 88.937505 | O80: 92.740111
A81: Elektriciteit | B81: Gebouw bij vliegveld of luchthaven | C81: vanaf 2015 | D81: 14 | E81: 0.102 | F81: 52.430702 | J81: 54.750086 | K81: 54.857674 | O81: 56.581996
...

Sheet elek_kental_opp_2020
A1: Energiedrager | B1: Gebouwtype | C1: Oppervlakteklasse | D1: Aantal panden | E1: Aandeel panden per gebouwtype | F1: Gemiddelde kental (kWh/m2) | G1: Q1 kental (kWh/m2) | H1: Mediaan kental (kWh/m2) | I1: Q3 kental (kWh/m2) | J1: Gewogen gemiddelde kental (kWh/m2) | K1: Gemiddelde kental inclusief eigenverbruik zonnestroom (kWh/m2) | L1: Q1 kental inclusief eigenverbruik zonnestroom (kWh/m2) | M1: Mediaan kental inclusief eigenverbruik zonnestroom (kWh/m2) | N1: Q3 kental inclusief eigenverbruik zonnestroom (kWh/m2) | O1: Gewogen gemiddelde kental inclusief eigenverbruik zonnestroom (kWh/m2)
A2: Elektriciteit | B2: Basisschool | C2: tot 250 m2 | D2: 19 | E2: 0.004 | F2: 42.448882 | J2: 41.358087 | K2: 71.057535 | O2: 64.020685
A3: Elektriciteit | B3: Basisschool | C3: 250 tot 500 m2 | D3: 111 | E3: 0.023 | F3: 28.83236 | G3: 18.125727 | H3: 25.352941 | I3: 33.100993 | J3: 28.284229 | K3: 33.360402 | L3: 21.297247 | M3: 28.58952 | N3: 38.560416 | O3: 32.804562
A4: Elektriciteit | B4: Basisschool | C4: 500 tot 1000 m2 | D4: 888 | E4: 0.188 | F4: 23.42365 | G4: 16.187435 | H4: 20.638969 | I4: 26.578517 | J4: 23.380468 | K4: 28.119559 | L4: 18.661577 | M4: 23.606214 | N4: 32.584246 | O4: 28.085841
A5: Elektriciteit | B5: Basisschool | C5: 1000 tot 2500 m2 | D5: 2771 | E5: 0.586 | F5: 23.439796 | G5: 15.677999 | H5: 20.880312 | I5: 27.631437 | J5: 23.662022 | K5: 26.657709 | L5: 17.991626 | M5: 23.198402 | N5: 31.871113 | O5: 26.789142
A6: Elektriciteit | B6: Basisschool | C6: 2500 tot 5000 m2 | D6: 751 | E6: 0.159 | F6: 27.890914 | G6: 16.674253 | H6: 24.958073 | I6: 36.541978 | J6: 28.055242 | K6: 30.521779 | L6: 18.427527 | M6: 27.16119 | N6: 40.658968 | O6: 30.658772
A7: Elektriciteit | B7: Basisschool | C7: 5000 tot 10000 m2 | D7: 161 | E7: 0.034 | F7: 31.220548 | G7: 15.548034 | H7: 29.468869 | I7: 43.322419 | J7: 31.339885 | K7: 33.00947 | L7: 16.50373 | M7: 30.660864 | N7: 46.117227 | O7: 33.096189
A8: Elektriciteit | B8: Basisschool | C8: vanaf 10000 m2 | D8: 29 | E8: 0.006 | F8: 27.381411 | H8: 20.269704 | J8: 29.190818 | K8: 28.17783 | M8: 20.873794 | O8: 30.081485
A9: Elektriciteit | B9: Bedrijfshal algemeen (geen LISA-informatie) | C9: tot 50 m2 | D9: 491 | E9: 0.027 | F9: 78.177238 | G9: 14.082071 | H9: 41.027778 | I9: 116.65784 | J9: 74.572798 | K9: 80.656923 | L9: 14.146429 | M9: 42.272727 | N9: 119.38043 | O9: 76.76822
A10: Elektriciteit | B10: Bedrijfshal algemeen (geen LISA-informatie) | C10: 50 tot 100 m2 | D10: 1693 | E10: 0.093 | F10: 45.668767 | G10: 10.933333 | H10: 24.3 | I10: 52.547945 | J10: 45.591427 | K10: 48.006622 | L10: 11.103448 | M10: 25.25 | N10: 55.296875 | O10: 47.781037
A11: Elektriciteit | B11: Bedrijfshal algemeen (geen LISA-informatie) | C11: 100 tot 250 m2 | D11: 4801 | E11: 0.263 | F11: 34.9148 | G11: 10.77037 | H11: 20.082569 | I11: 36.6875 | J11: 34.70122 | K11: 36.820551 | L11: 11.060465 | M11: 20.979021 | N11: 39.166667 | O11: 36.605637
A12: Elektriciteit | B12: Bedrijfshal algemeen (geen LISA-informatie) | C12: 250 tot 500 m2 | D12: 3491 | E12: 0.191 | F12: 33.013253 | G12: 10.69413 | H12: 18.854209 | I12: 36.289345 | J12: 33.041074 | K12: 35.06078 | L12: 11.029197 | M12: 20.147059 | N12: 38.463995 | O12: 35.055607
A13: Elektriciteit | B13: Bedrijfshal algemeen (geen LISA-informatie) | C13: 500 tot 1000 m2 | D13: 3278 | E13: 0.18 | F13: 32.486916 | G13: 10.953558 | H13: 19.197415 | I13: 35.662248 | J13: 33.073834 | K13: 34.401222 | L13: 11.593822 | M13: 20.807298 | N13: 37.835728 | O13: 34.996647
A14: Elektriciteit | B14: Bedrijfshal algemeen (geen LISA-informatie) | C14: 1000 tot 2500 m2 | D14: 2792 | E14: 0.153 | F14: 39.891898 | G14: 12.513471 | H14: 22.850463 | I14: 42.031664 | J14: 40.768585 | K14: 41.827072 | L14: 13.11918 | M14: 23.810077 | N14: 44.827562 | O14: 42.678179
A15: Elektriciteit | B15: Bedrijfshal algemeen (geen LISA-informatie) | C15: 2500 tot 5000 m2 | D15: 1003 | E15: 0.055 | F15: 48.919853 | G15: 13.530999 | H15: 25.913861 | I15: 54.643129 | J15: 49.999906 | K15: 50.86569 | L15: 14.013707 | M15: 27.504425 | N15: 56.037902 | O15: 52.045177
A16: Elektriciteit | B16: Bedrijfshal algemeen (geen LISA-informatie) | C16: 5000 tot 10000 m2 | D16: 450 | E16: 0.025 | F16: 55.44822 | G16: 13.223643 | H16: 29.182343 | I16: 69.35005 | J16: 55.545514 | K16: 57.860319 | L16: 13.516168 | M16: 30.19809 | N16: 73.1191 | O16: 57.971115
A17: Elektriciteit | B17: Bedrijfshal algemeen (geen LISA-informatie) | C17: vanaf 10000 m2 | D17: 244 | E17: 0.013 | F17: 51.840417 | G17: 13.465578 | H17: 24.565753 | I17: 53.155143 | J17: 51.336001 | K17: 56.188229 | L17: 15.212686 | M17: 26.258704 | N17: 59.086184 | O17: 55.607537
A18: Elektriciteit | B18: Bedrijfshal algemeen (met LISA-informatie) | C18: tot 50 m2 | D18: 68 | E18: 0.006 | F18: 129.01899 | G18: 30.917247 | H18: 94.586364 | I18: 171.86744 | J18: 120.95315 | K18: 134.72268 | L18: 30.917247 | M18: 95.65 | N18: 190.57956 | O18: 125.8076
A19: Elektriciteit | B19: Bedrijfshal algemeen (met LISA-informatie) | C19: 50 tot 100 m2 | D19: 522 | E19: 0.043 | F19: 76.815244 | G19: 21.187281 | H19: 44.113887 | I19: 86.496312 | J19: 74.149963 | K19: 80.908222 | L19: 21.187281 | M19: 46.055206 | N19: 92.52864 | O19: 78.502101
A20: Elektriciteit | B20: Bedrijfshal algemeen (met LISA-informatie) | C20: 100 tot 250 m2 | D20: 2250 | E20: 0.186 | F20: 49.48254 | G20: 16.10991 | H20: 28.047142 | I20: 52.030267 | J20: 48.966812 | K20: 53.209105 | L20: 16.634617 | M20: 29.586574 | N20: 56.186202 | O20: 52.741289
... A26: Elektriciteit | B26: Bedrijfshal algemeen (met LISA-informatie) | C26: vanaf 10000 m2 | D26: 270 | E26: 0.022 | F26: 54.011395 | G26: 16.971623 | H26: 29.04922 | I26: 58.985677 | J26: 49.208963 | K26: 57.815939 | L26: 18.158347 | M26: 31.30342 | N26: 67.980457 | O26: 52.693535
A27: Elektriciteit | B27: Bedrijfshal met logistieke activiteiten | C27: tot 100 m2 | D27: 37 | E27: 0.007 | F27: 81.523408 | H27: 51.944444 | J27: 82.610633 | K27: 81.523408 | M27: 51.944444 | O27: 82.610633
A28: Elektriciteit | B28: Bedrijfshal met logistieke activiteiten | C28: 100 tot 250 m2 | D28: 226 | E28: 0.042 | F28: 48.176222 | G28: 17.78004 | H28: 29.340803 | I28: 49.357305 | J28: 49.165239 | K28: 52.381581 | L28: 18.51464 | M28: 30.570317 | N28: 52.376046 | O28: 53.409004
A29: Elektriciteit | B29: Bedrijfshal met logistieke activiteiten | C29: 250 tot 500 m2 | D29: 357 | E29: 0.067 | F29: 41.85737 | G29: 16.12336 | H29: 27.902062 | I29: 49.383721 | J29: 42.372842 | K29: 46.077675 | L29: 17.601824 | M29: 29.977492 | N29: 55.635347 | O29: 46.792937
A30: Elektriciteit | B30: Bedrijfshal met logistieke activiteiten | C30: 500 tot 1000 m2 | D30: 842 | E30: 0.157 | F30: 36.771007 | G30: 15.850826 | H30: 25.749192 | I30: 40.755653 | J30: 35.941838 | K30: 40.921019 | L30: 17.109275 | M30: 28.297251 | N30: 44.964633 | O30: 40.323038
A31: Elektriciteit | B31: Bedrijfshal met logistieke activiteiten | C31: 1000 tot 2500 m2 | D31: 1869 | E31: 0.349 | F31: 35.078921 | G31: 16.526889 | H31: 25.088731 | I31: 39.280448 | J31: 34.457658 | K31: 37.167837 | L31: 17.678012 | M31: 26.719916 | N31: 41.679412 | O31: 36.504446
A32: Elektriciteit | B32: Bedrijfshal met logistieke activiteiten | C32: 2500 tot 5000 m2 | D32: 1151 | E32: 0.215 | F32: 40.075583 | G32: 16.730358 | H32: 26.89989 | I32: 43.944727 | J32: 40.611945 | K32: 43.129434 | L32: 17.958774 | M32: 28.952275 | N32: 45.097831 | O32: 43.700113
A33: Elektriciteit | B33: Bedrijfshal met logistieke activiteiten | C33: 5000 tot 10000 m2 | D33: 562 | E33: 0.105 | F33: 40.240375 | G33: 15.674723 | H33: 26.442057 | I33: 47.321599 | J33: 40.773897 | K33: 42.284639 | L33: 16.094188 | M33: 27.97523 | N33: 49.024664 | O33: 42.845695
A34: Elektriciteit | B34: Bedrijfshal met logistieke activiteiten | C34: vanaf 10000 m2 | D34: 316 | E34: 0.059 | F34: 50.482671 | G34: 16.656523 | H34: 29.915479 | I34: 61.553807 | J34: 48.134422 | K34: 53.923486 | L34: 17.368201 | M34: 32.894385 | N34: 65.528752 | O34: 51.727075
A35: Elektriciteit | B35: Bedrijfshal met maakindustrie en andere economische activiteiten | C35: tot 100 m2 | D35: 54 | E35: 0.011 | F35: 81.590577 | G35: 32.896673 | H35: 50.027273 | I35: 107.18017 | J35: 80.499226 | K35: 84.23481 | L35: 32.896673 | M35: 50.027273 | N35: 112.38438 | O35: 82.601962
A36: Elektriciteit | B36: Bedrijfshal met maakindustrie en andere economische activiteiten | C36: 100 tot 250 m2 | D36: 272 | E36: 0.057 | F36: 44.857527 | G36: 15.770526 | H36: 27.210204 | I36: 45.237711 | J36: 44.09649 | K36: 47.45284 | L36: 16.570594 | M36: 27.639731 | N36: 47.409859 | O36: 46.809226
A37: Elektriciteit | B37: Bedrijfshal met maakindustrie en andere economische activiteiten | C37: 250 tot 500 m2 | D37: 461 | E37: 0.096 | F37: 45.329053 | G37: 17.589583 | H37: 27.475703 | I37: 49.88189 | J37: 44.949058 | K37: 48.958109 | L37: 18.372263 | M37: 29.185484 | N37: 54.51505 | O37: 48.548411
A38: Elektriciteit | B38: Bedrijfshal met maakindustrie en andere economische activiteiten | C38: 500 tot 1000 m2 | D38: 1137 | E38: 0.236 | F38: 36.877752 | G38: 15.70641 | H38: 25.901786 | I38: 43.070391 | J38: 36.910729 | K38: 39.595842 | L38: 17.316757 | M38: 27.976378 | N38: 46.454649 | O38: 39.525331
A39: Elektriciteit | B39: Bedrijfshal met maakindustrie en andere economische activiteiten | C39: 1000 tot 2500 m2 | D39: 1776 | E39: 0.369 | F39: 38.677433 | G39: 15.522484 | H39: 25.776744 | I39: 42.834257 | J39: 39.232435 | K39: 41.992291 | L39: 16.80864 | M39: 28.114167 | N39: 46.54427 | O39: 42.534191
... A42: Elektriciteit | B42: Bedrijfshal met maakindustrie en andere economische activiteiten | C42: vanaf 10000 m2 | D42: 133 | E42: 0.028 | F42: 74.647809 | G42: 25.77191 | H42: 45.02812 | I42: 93.185132 | J42: 82.389328 | K42: 78.304535 | L42: 25.77191 | M42: 48.731011 | N42: 101.87646 | O42: 86.58543
A43: Elektriciteit | B43: Bedrijfshal met maakindustrie en logistieke activiteiten | C43: tot 50 m2 | D43: 24 | E43: 0.002 | F43: 134.53779 | H43: 93.657375 | J43: 132.22765 | K43: 173.32091 | M43: 123.87381 | O43: 178.3528
A44: Elektriciteit | B44: Bedrijfshal met maakindustrie en logistieke activiteiten | C44: 50 tot 100 m2 | D44: 192 | E44: 0.019 | F44: 79.859724 | G44: 19.639783 | H44: 41.639351 | I44: 99.068967 | J44: 77.496382 | K44: 293.9666 | L44: 21.459016 | M44: 44.631504 | N44: 102.51527 | O44: 299.24045
A45: Elektriciteit | B45: Bedrijfshal met maakindustrie en logistieke activiteiten | C45: 100 tot 250 m2 | D45: 950 | E45: 0.092 | F45: 46.756635 | G45: 14.619078 | H45: 26.930969 | I45: 48.973958 | J45: 46.141123 | K45: 49.757052 | L45: 15.247869 | M45: 28.056624 | N45: 53.125 | O45: 49.410768
A46: Elektriciteit | B46: Bedrijfshal met maakindustrie en logistieke activiteiten | C46: 250 tot 500 m2 | D46: 1331 | E46: 0.129 | F46: 40.054247 | G46: 15.531918 | H46: 25.214545 | I46: 42.078859 | J46: 39.78549 | K46: 42.870371 | L46: 16.337754 | M46: 27.11465 | N46: 45.310448 | O46: 42.609815
A47: Elektriciteit | B47: Bedrijfshal met maakindustrie en logistieke activiteiten | C47: 500 tot 1000 m2 | D47: 2151 | E47: 0.208 | F47: 40.355534 | G47: 14.496826 | H47: 24.076305 | I47: 41.123028 | J47: 40.271451 | K47: 42.964788 | L47: 15.7016 | M47: 26.012263 | N47: 44.648098 | O47: 42.822006
...

Sheet elek_kental_diensten_2020
A1: Energiedrager | B1: Gebouwtype | C1: Aantal panden | D1: Gemiddelde kental (kWh/m2) | E1: Q1 kental (kWh/m2) | F1: Mediaan kental (kWh/m2) | G1: Q3 kental (kWh/m2) | H1: Gewogen gemiddelde kental (kWh/m2) | I1: Gemiddelde kental inclusief eigenverbruik zonnestroom (kWh/m2) | J1: Q1 kental inclusief eigenverbruik zonnestroom (kWh/m2) | K1: Mediaan kental inclusief eigenverbruik zonnestroom (kWh/m2) | L1: Q3 kental inclusief eigenverbruik zonnestroom (kWh/m2) | M1: Gewogen gemiddelde kental inclusief eigenverbruik zonnestroom (kWh/m2)
A2: Elektriciteit | B2: Asielzoekerscentrum | C2: 51 | D2: 73.557088 | E2: 28.902421 | F2: 50.638474 | G2: 76.224429 | H2: 63.261816 | I2: 73.557088 | J2: 28.902421 | K2: 50.638474 | L2: 76.224429 | M2: 63.261816
