Workbook
Name car_charge_from_network_kWh_km_high: EVs!$G$18
Name car_charge_from_network_kWh_km_low: EVs!$F$18
Name car_charge_from_network_per_km: EVs!$F$18:$G$18
Name car_consumption: EVs!$F$13:$G$13
Name car_consumption_high: EVs!$G$13
Name car_consumption_low: EVs!$F$13
Name car_Kilometrages: EVs!$F$4:$K$10
Name car_Kilometrages: #REF!
Name charger_efficiency: EVs!$F$17
Name charger_efficiency_dedicated_charger: EVs!$G$15
Name charger_efficiency_wall_plug: EVs!$F$15
Name days_per_year: EVs!$F$21:$K$21
Name days_per_year: #REF!
Name e_bike_consumption: EVs!$F$77
Name e_bike_consumption: #REF!
Name kilometrage_years: EVs!$F$3:$K$3
Name kilometrage_years: #REF!
Name kWh_per_day_car_per_type_average_high: EVs!$F$34:$K$34
Name kWh_per_day_car_per_type_average_low: EVs!$F$24:$K$24
Name kWh_per_day_car_per_type_FEV_high: EVs!$F$37:$K$37
Name kWh_per_day_car_per_type_FEV_low: EVs!$F$27:$K$27
Name kWh_per_day_car_per_type_gasoline_high: EVs!$F$35:$K$35
Name kWh_per_day_car_per_type_gasoline_low: EVs!$F$25:$K$25
Name kWh_per_day_car_per_type_high: EVs!$F$34:$K$40
Name kWh_per_day_car_per_type_low: EVs!$F$24:$K$30
Name percent_using_dedicated_charger: EVs!$G$16
Name percent_using_wall_plug: EVs!$F$16
Name selected_e_bike_kilometrages: EVs!$F$75:$H$75
Name Vehicle_types: EVs!$E$4:$E$10
Name Vehicle_types: #REF!

Sheet Readme
A1: Deze spreadsheet vormt een bijlage bij de TNO Memo Verschuiven elektriciteitsverbruik uit piekuren (TNO 2025 M12684).
A2: Sheet Energy use bevat de berekeningen van het elektriciteitsverbruik tussen 16-21u voor een lijst van huishoudelijke apparaten. Aanames en gebruikte bronnen worden ook gegeven.
A3: Sheets EVs, Home batteries en Heat pumps bevatten aanvullende gegevens en berekeningen voor de betreffende apparaten.
A6: 45945

Sheet Energy use
A1: Category | B1: Appliance | C1: Typical Use (16:00–21:00) | D1: Min kWh | E1: Max kWh | F1: Assumptions | G1: Sources/References | K1: Primary distribution source | L1: Total numer of models | M1: A | N1: B | O1: C | P1: D | Q1: E | R1: F | S1: G | T1: new label scheme | Z1: Sanity check EPREL | AA1: Total numer of models | AB1: Disttribution of current models over energy class | AC1: A+++ | AD1: A++ | AE1: A+ | AF1: A | AG1: B | AH1: C | AI1: D | AJ1: E | AK1: F | AL1: G | AM1: combination of old and new label scheme
A2: 1 | B2: Airconditioner (koelen) | C2: Cooling for 3–5 hours | D2: =2.5*3/4.5 -> 1.6666667 | E2: =6*3/4.5 -> 4 | F2: Moderate load. Cooling power 2.5-6.0 kW. SEER 4.5-8.5 (A+++/A++) | G2: https://eprel.ec.europa.eu/screen/product/airconditioners | AA2: 23856 | AB2: % | AC2: 11,5 | AD2: 72,9 | AE2: 7,4 | AF2: 6,5 | AG2: 1,6 | AH2: 0,1 | AI2: 0,0 | AM2: (old label scheme)
A3: 1 | B3: Airconditioner (verwarmen) | C3: Heating for 3–5 hours | D3: =3*3/4 -> 2.25 | E3: =5*3/3 -> 5 | F3: Heat demand 3–5kW. COP 3-4 | G3: https://eprel.ec.europa.eu/screen/product/airconditioners | AA3: 23856 | AB3: % | AC3: 11,5 | AD3: 72,9 | AE3: 7,4 | AF3: 6,5 | AG3: 1,6 | AH3: 0,1 | AI3: 0,0 | AM3: (old label scheme)
A4: 1 | B4: Elektrische auto opladen (weinig kilometers) | C4: Charge to replace daily kilometrage of 30 km per day times an effective consumption of 0.17-0.34 kWh/km. | D4: =EVs!K43 -> 5.1952297 | E4: =EVs!K44 -> 6.9269729 | F4: Yearly kilometrage times demand per kilometer times efficiency factor divided by days per year. Assumed all the charge occurs during the peak (i.e. from the moment the car comes home after 16h and charing is complete before 21h, and assumes the car does not charge elsewhere). Range is for a typical electric vehicle consumption range (15-20 kWh/100km and 85% charging efficiency). Low traveler=current gasoline car user | G4: https://www.cbs.nl/nl-nl/maatwerk/2024/49/gemiddeld-kilometrage-personenauto-s-per-365-dagen
A5: 1 | B5: Elektrische auto opladen (veel kilometers) | C5: Charge to replace daily kilometrage of 50 km per day times an effective consumption of 0.17-0.34 kWh/km. | D5: =EVs!K45 -> 8.5256728 | E5: =EVs!K46 -> 11.367564 | F5: Yearly kilometrage times demand per kilometer times efficiency factor divided by days per year. Assumed all the charge occurs during the peak (i.e. from the moment the car comes home after 16h and charing is complete before 21h, and assumes the car does not charge elsewhere). Range is for a typical electric vehicle consumption range (15-20 kWh/100km and 85% charging efficiency). Low traveler=current electric car user
A6: 1 | B6: Thuisbatterij opladen (o.b.v day-ahead uurprijzen) | D6: ='Home batteries'!$K$55 -> 0.073931212 | E6: ='Home batteries'!$K$9 -> 0.14786242 | F6: Assumed battery charges a given percentage (70%) of its capacity, with a charging power to capacity ratio of 2 (hours, as in the battery can be fully charged in 2 hours: 10kWh--> 5kW, 5kWh-->2.5 kW). and an efficiency of 0.85. That charge is drawn during the most advtantageous moments (hours or quarters). Peak charging will occur if these hours/quarters are in the peak. Taken yearly average of prices. Min value is for a 5 kWh battery. Max value is for a 10 kWh battery (10 kWh). Both use day ahead pricing as a reference. | G6: https://newtransparency.entsoe.eu
A7: 1 | B7: Thuisbatterij opladen (handel op onbalansmarkt) | D7: ='Home batteries'!G82 -> 2.4493732 | E7: ='Home batteries'!G83 -> 4.8987464 | F7: Assumed battery charges a given percentage (50%) of its capacity, with a charging power to capacity ratio of 2 (hours, as in the battery can be fully charged in 2 hours: 10kWh--> 5kW, 5kWh-->2.5 kW). and an efficiency of 0.85. Min if for a 5kWh battery size. Max is for a 10 kWh battery size. They both leverage the imbalance market by drawing from the network when the regulation condition is "DOWN" (reward to consume/take off from the network) and dichage to network when the condition is "UP" (reward to discharge to the network). This takes into acocunt the available capacity (cannot go above it, cannot go below 0). | G7: https://www.tennet.eu/nl/de-elektriciteitsmarkt/transparantie-nederland/verrekenprijzen#14726
A8: 1 | B8: E-HP – Appartement, goede isolatie (koelen) | C8: Simulated based on various data | D8: 0.87 | E8: 1.19 | F8: Cooling SEER ~5.5 - 7.5 well-insulated structure. Setpoint 23°C between timewindow with a 8.5kWth system | G8: https://www.coolblue.nl/en/heat-pumps
A9: 1 | B9: E-HP – Appartement, goede isolatie (verwarmen) | C9: Simulated based on various data | D9: 1.51 | E9: 2.11 | F9: Heating COP ~2.5 - 3.5 good insulation. Smaller living volume. Surrounded by other units. Setpoint 21°C between timewindow with a 8.5kWth system
A10: 1 | B10: E-HP – Rijtjeshuis, goede isolatie (koelen) | C10: Simulated based on various data | D10: 0.96 | E10: 1.31 | F10: Cooling SEER ~5.5 - 7.5 well-insulated structure. Setpoint 23°C between timewindow with a 12kWth system
A11: 1 | B11: E-HP – Rijtjeshuis, goede isolatie (verwarmen) | C11: Simulated based on various data | D11: 2.78 | E11: 3.89 | F11: Heating COP ~2.5 - 3.5. Medium living volume. Good insulation. Surrounded by other units. Setpoint 21°C between timewindow with a 12kWth system
A12: 1 | B12: E-HP – Rijtjeshuis, matige isolatie (verwarmen) | C12: Simulated based on various data | D12: 4.18 | E12: 5.85 | F12: Heating COP ~2.5 - 3.5. Medium living volume. Moderate insulation. Surrounded by other units. Setpoint 21°C between timewindow with a 12kWth system
A13: 1 | B13: H-HP – Rijtjeshuis, goede isolatie (verwarmen) | C13: Simulated based on various data | D13: 2.67 | E13: 3.73 | F13: Heating COP ~2.5 - 3.5 Medium living volume. Good insulation. Surrounded by other units. Setpoint 21°C between timewindow with a 12kWth system
A14: 1 | B14: H-HP – Rijtjeshuis, matige isolatie (koelen) | C14: Simulated based on various data | D14: 1.2 | E14: 1.63 | F14: Cooling SEER ~5.5 - 7.5 Moderately-insulated structure. Setpoint 23°C between timewindow with a 12kWth system
A15: 1 | B15: H-HP – Rijtjeshuis, matige isolatie (verwarmen) | C15: Simulated based on various data | D15: 3.49 | E15: 4.89 | F15: Heating COP ~2.5 - 3.5 Medium living volume. Moderate insulation. Surrounded by other units. Setpoint 21°C between timewindow with a 12kWth system
A16: 1 | B16: H-HP – Vrijstaand huis, matige isolatie (koelen) | C16: Simulated based on various data | D16: 2.69 | E16: 3.66 | F16: Cooling SEER ~5.5 - 7.5 Moderately-insulated structure. Setpoint 23°C between timewindow with a 12kWth system.
A17: 1 | B17: H-HP – Vrijstaand huis, matige isolatie (verwarmen) | C17: Simulated based on various data | D17: 6.2 | E17: 8.68 | F17: Heating COP ~2.5 - 3.5. Bigger living volume. Moderate insulation. Setpoint 21°C between timewindow with a 12kWth system
A18: 2 | B18: Elektrische fiets opladen | C18: Charge to replace daily kilometrage | D18: =EVs!F80 -> 0.0219 | E18: =EVs!G80 -> 0.046575 | F18: Used bike kilometrages and electricity use of e-bikes, with a charging efficiency loss. Low end is for average of all population (in terms of kilometers). High-end is the group with most kilometers (12-18 years). Note that average and currently most represntative group of users is 0.03 kWh for Age Group 65-75 | G18: https://www.cbs.nl/nl-nl/visualisaties/verkeer-en-vervoer/personen/fietsen#:~:text=Fietsen%20naar%20geslacht%20en%20leeftijd&text=Gemiddeld%20fietsten%20vrouwen%202%2C7,dag%20de%20langste%20afstand%20af. | H18: https://www.anwb.nl/energie/energieverbruik/hoeveel-stroom-verbruikt-een-elektrische-fiets
A19: 2 | B19: Vaatwasser | C19: 1 full cycle (3–6 hours) | D19: 0.5 | E19: 1 | F19: Typical program. Energy label data for efficient models (A-E). | G19: https://www.coolblue.nl/en/dishwashers/built-in/filter?sort=most-sold | L19: 94 | M19: 0.29787234 | N19: 0.22340426 | O19: 0.23404255 | P19: 0.15957447 | Q19: 0.085106383 | AA19: 11961 | AB19: % | AF19: 8,4 | AG19: 10,5 | AH19: 16,1 | AI19: 24,5 | AJ19: 34,9 | AK19: 4,6 | AL19: 1,0
A20: 2 | B20: Wasdroger | C20: 1 full cycle (~3 h) | D20: 0.8 | E20: 3.1 | F20: Heat pump or condenser dryer. 7-9kg. Used for one full cycle. Based on weighted average energy consumption per 100 drying cycles for A-G labels (new) | G20: https://www.mediamarkt.nl/nl/category/drogers-1280.html?filter=productType:Droger | L20: 89 | M20: 0.11235955 | N20: 0.08988764 | O20: 0.51685393 | P20: 0.06741573 | Q20: 0.16853933 | S20: 0.04494382 | AA20: 6824 | AB20: % | AC20: 32.7 | AD20: 41,1 | AE20: 5,7 | AF20: 0,0 | AG20: 16,8 | AH20: 3,6 | AI20: 0,1 | AM20: (old label scheme)
A21: 2 | B21: Wasmachine | C21: 1 full cycle (~3 h) | D21: 0.48 | E21: 0.9 | F21: Based on Eco 40-60 program wash program. Energy label A-E.Rated capacity <=12 kg | G21: https://www.mediamarkt.nl/nl/category/wasmachines-1283.html?washingCapacity=3-12 | L21: 182 | M21: 0.80769231 | N21: 0.032967033 | O21: 0.021978022 | P21: 0.12637363 | Q21: 0.010989011 | AA21: 19035 | AB21: % | AF21: 51,0 | AG21: 14,1 | AH21: 10,1 | AI21: 18,0 | AJ21: 6,0 | AK21: 0,7 | AL21: 0,2
A22: 3 | B22: Airfryer | C22: 15–30 min | D22: =1.2*15/60 -> 0.3 | E22: =1.5*30/60 -> 0.75 | F22: Air fryer rated 1.2–1.5 kW, used for quick meals or snacks (15–30 minutes). | G22: https://www.mediamarkt.nl/nl/category/airfryers-xl-1829.html
A23: 3 | B23: Telefoon opladen | C23: 1–2 phones x 3h charging | D23: =20/1000*2*1 -> 0.04 | E23: =20/1000*3*2 -> 0.12 | F23: Phone charging ~20 W per phone; 1–2 phones charged 2–3 hours. | G23: https://www.mediamarkt.nl/nl/category/telefoon-opladers-1360.html
A24: 3 | B24: Koffiezetapparaat | C24: 1–2 short cycles (~120seconds) | D24: =1.3*2/60 -> 0.043333333 | E24: =1.3*2/60*2 -> 0.086666667 | F24: Small cup machines (e.g., Nespresso) used 1–2 times. ~1260 W for 2 min | G24: https://www.topten.eu/private/selection-criteria/coffee-machines | AB24: %
A25: 3 | B25: Elektrisch koken (keramisch / inductie) | C25: 30–60 min cooking | D25: =3*30/60*0.6 -> 0.9 | E25: =3*1*0.6 -> 1.8 | F25: Ceramic/induction cooktop rated 7.0 kW. 2 simultaneous cooking zones totalling 3kW, used 30–60 minutes. Utilization factor 60% | G25: https://www.coolblue.nl/en/stoves/2-phase-stoves/breedte-fornuis:0.6?apf=done
A26: 3 | B26: Waterkoker | C26: 1–2 boils (~5 min per boil) | D26: =5/60*3 -> 0.25 | E26: =10/60*3 -> 0.5 | F26: Kettle rated 3 kW, used for boiling water 1-2 times per evening (2L) (5 min per boil) | G26: https://www.mediamarkt.be/nl/category/waterkoker-1261.html?query=waterkoker&power=2500-3000
A27: 3 | B27: Gameconsole (bijv. PlayStation) | C27: 2-3h | D27: =0.125*2 -> 0.25 | E27: =0.22*3 -> 0.66 | F27: Game console ~125–220 W; used for 2–3 hours gaming session. | G27: https://www.playstation.com/en-in/legal/ecodesign/
A28: 3 | B28: LED-verlichting | C28: 4h | D28: =10*4*4/1000 -> 0.16 | E28: =20*4*8/1000 -> 0.64 | F28: LED lighting in a typical household. 10-20 lamps of 4-8W simultaneously | G28: https://eprel.ec.europa.eu/screen/product/lightsources
A29: 3 | B29: Oven | C29: 1 cycle (55 minutes) | D29: 0.7 | E29: 1.1 | F29: Electric oven. Conventional/fan-forced. at 2.5–3.6 kW (A-C). Single cavity (based on energy label) | G29: https://www.mediamarkt.nl/nl/category/inbouwovens-82.html | L29: 109 | M29: 0.81651376 | N29: 0.027522936 | O29: 0.082568807 | P29: 0.027522936 | Q29: 0.027522936 | R29: 0.0091743119 | S29: 0.0091743119 | AA29: 24382 | AB29: % | AC29: 0,0 | AD29: 4.2 | AE29: 27.6 | AF29: 67,7 | AG29: 0,5 | AH29: 0,0 | AI29: 0,0 | AM29: (old label scheme)
A30: 3 | B30: Koelvries combinatie | C30: Always on (24h use) | D30: =100/8760*5 -> 0.057077626 | E30: =300/8760*5 -> 0.17123288 | F30: Continuous low power use. Estimated~Based on 100–300 kWh/year. Energy labels A-G. | G30: https://www.mediamarkt.nl/nl/category/koel-vriescombinaties-1735.html | L30: 358 | M30: 0.044692737 | N30: 0.036312849 | O30: 0.16480447 | P30: 0.20670391 | Q30: 0.51396648 | R30: 0.027932961 | S30: 0.0055865922 | AA30: 46291 | AB30: % | AF30: 0,6 | AG30: 1,0 | AH30: 4,6 | AI30: 10,5 | AJ30: 48,2 | AK30: 27,3 | AL30: 7,8
A31: 3 | B31: TV 32''–65'' | C31: 3h | D31: =117/1000 -> 0.117 | E31: =318/1000 -> 0.318 | F31: TV based on energy label D-G estimated for 1000h of use | G31: https://www.mediamarkt.nl/nl/category/televisies-453.html?displayInInch=32.0-65.0&sort=salescount+desc | L31: 443 | M31: 0 | N31: 0 | O31: 0 | P31: 0.015801354 | Q31: 0.32054176 | R31: 0.34085779 | S31: 0.3227991
A32: 3 | B32: Stofzuiger | C32: One cleaning session (~30 min) | D32: 0.3 | E32: 0.45 | F32: Efficient vacuum used for ~30 minutes at ~600–900 W. | G32: https://www.topten.eu/private/products/vacuum_cleaners | AB32: %

Sheet Sheet1
A1: Cat | B1: Appliance (EN) | C1: Appliance (NL)
A2: 1 | B2: Air Conditioner - Cooling | C2: Airconditioner – Koelen
A3: 1 | B3: Air Conditioner - Heating | C3: Airconditioner – Verwarmen
A4: 1 | B4: Charging Electric Vehicle (low traveler) | C4: Elektrische auto opladen (weinig kilometers)
A5: 1 | B5: Charging Electric Vehicle (high traveler) | C5: Elektrische auto opladen (veel kilometers)
A6: 1 | B6: Charging home battery (reducing own costs) | C6: Thuisbatterij opladen (kostenreductie)
A7: 1 | B7: Charging home battery (leveraging imbalance market) | C7: Thuisbatterij opladen (onbalansmarkt)
A8: 1 | B8: E-HP -- Apartment, good insulation (cooling) | C8: Lucht/water-warmtepomp – Appartement, goede isolatie (koelen)
A9: 1 | B9: E-HP -- Apartment, good insulation (heating) | C9: Lucht/water-warmtepomp – Appartement, goede isolatie (verwarmen)
A10: 1 | B10: E-HP -- Row house, good insulation (cooling) | C10: Lucht/water-warmtepomp – Rijtjeshuis, goede isolatie (koelen)
A11: 1 | B11: E-HP -- Row house, good insulation (heating) | C11: Lucht/water-warmtepomp – Rijtjeshuis, goede isolatie (verwarmen)
A12: 1 | B12: E-HP -- Row house, Moderate insulation (heating) | C12: Lucht/water-warmtepomp – Rijtjeshuis, matige isolatie (verwarmen)
A13: 1 | B13: H-HP -- Row house, moderate insulation (cooling) | C13: Hybride warmtepomp – Rijtjeshuis, matige isolatie (koelen)
... A32: 3 | B32: Vacuum Cleaner | C32: Stofzuiger

Sheet Appliance calculation methods
A1: Appliance
A2: Refrigerator | B2: Energy Annual ÷ 365 ÷ 24 × 5h
A3: Coffee Machine | B3: ~1.3–1.6 kW × 1 min x cups
A4: Vacuum Cleaner | B4: Power × Duration
A5: Washing Machine | B5: Energy 100 cycles (energy label)
A6: Dishwasher | B6: Energy 100 cycles (energy label)
A7: Oven | B7: Energy per standard cycle
A8: Heat Pump – Cooling Small/Medium system | B8: Cooling Output × Time ÷ SEER
A9: Household driers | B9: Annual / CyclesPerYear
A10: Air Conditioner - Heating | B10: Heating Output × Time ÷ COP
A11: Washing Machine + drier | B11: EPREL energy label
A12: Heat Pump – Heating (35 deg) | B12: Heating Output × Time ÷ COP
A13: Air Conditioner - Cooling | B13: Cooling Output × Time ÷ SEER
... A15: Heat Pump – Cooling Large system | B15: Cooling Output × Time ÷ SEER

Sheet EVs
E2: Gemiddeld kilometrage per 365/366 dagen van Nederlandse personenauto's
F3: 2018 | G3: 2019 | H3: 2020 | I3: 2021 | J3: 2022 | K3: 2023*
E4: Totaal | F4: 13198 | G4: 13060 | H4: 10660 | I4: 11115 | J4: 12024 | K4: 12353
E5: Benzine(inclusief benzine hybrides en ethanol) | F5: 10919 | G5: 11032 | H5: 9323 | I5: 9867 | J5: 10686 | K5: 11116
E6: Diesel (inclusief diesel hybrides) | F6: 23646 | G6: 23137 | H6: 17944 | I6: 18147 | J6: 19258 | K6: 18547
E7: Volledig elektrisch (FEV) inclusief waterstof | F7: 14392 | G7: 13612 | H7: 12478 | I7: 15032 | J7: 17857 | K7: 18242
E8: LPG (inclusief LPG hybrides) | F8: 15593 | G8: 15163 | H8: 12224 | I8: 12715 | J8: 13516 | K8: 13618
E9: Plug-in hybride (PHEV) | F9: 25176 | G9: 22922 | H9: 15423 | I9: 14716 | J9: 16750 | K9: 16946
E10: Aardgas (LNG en CNG inclusief aardgas hybrides en LNG hybrides) | F10: 25571 | G10: 25097 | H10: 18043 | I10: 19619 | J10: 20808 | K10: 20190
E11: Bron: CBS https://opendata.cbs.nl/statline/#/CBS/nl/dataset/85405NED/table?ts=1752781046722
F12: Low | G12: High
E13: Car consumption (kwh/km) | F13: 0.15 | G13: 0.2 | H13: Typical range based on: https://ev-database.org/cheatsheet/energy-consumption-electric-car and https://www.anwb.nl/energie/energieverbruik/hoeveel-stroom-verbruikt-een-elektrische-auto
F14: Wall plug | G14: Deidicated charger
E15: Charger efficiency | F15: 0.7 | G15: 0.9 | H15: https://www.anwb.nl/energie/energieverbruik/hoeveel-stroom-verbruikt-een-elektrische-auto
E16: Percent using this type | F16: 0.06 | G16: 0.52
E17: Charger efficiency | F17: =charger_efficiency_dedicated_charger*percent_using_dedicated_charger/(percent_using_wall_plug+percent_using_dedicated_charger)+charger_efficiency_wall_plug*percent_using_wall_plug/(percent_using_wall_plug+percent_using_dedicated_charger) -> 0.87931034 | G17: Typical value (see eg: https://backend.orbit.dtu.dk/ws/portalfiles/portal/137328554/efficiency_paper.pdf )
E18: Charge from network per kilometer (kWh/km) | F18: {=car_consumption/charger_efficiency} -> 0.17058824 | G18: 0.22745098
E21: Days per year | F21: 365 | G21: 365 | H21: 366 | I21: 365 | J21: 365 | K21: 365
E23: kWhe per day (low) | F23: {=kilometrage_years} -> 2018 | G23: 2019 | H23: 2020 | I23: 2021 | J23: 2022 | K23: 2023*
E24: {=Vehicle_types} -> Totaal | F24: {=car_Kilometrages*car_charge_from_network_kWh_km_low/days_per_year} -> 6.1682836 | G24: 6.1037873 | H24: 4.9684989 | I24: 5.1947623 | J24: 5.6195971 | K24: 5.7733602 | L24: Amount of kWhe a car with that kilometrage would use. This gives an upper bound on the peak consumption (assume charging only at home). We also assume charging every day, but if cars charge every X days, there is no reason to favour a specific day and all averages out). For an 11 kW charger, all these can be satisfied within an hour. For a 5.5 kW charger, all these are done within two hours --> All these can be satisfied within the peak.
E25: Benzine(inclusief benzine hybrides en ethanol) | F25: 5.1031587 | G25: 5.155971 | H25: 4.3453391 | I25: 4.6114907 | J25: 4.9942627 | K25: 5.1952297
E26: Diesel (inclusief diesel hybrides) | F26: 11.051313 | G26: 10.813425 | H26: 8.3634844 | I26: 8.4812732 | J26: 9.0005157 | K26: 8.6682192
E27: Volledig elektrisch (FEV) inclusief waterstof | F27: 6.7263175 | G27: 6.3617728 | H27: 5.815847 | I27: 7.0254311 | J27: 8.3457373 | K27: 8.5256728
E28: LPG (inclusief LPG hybrides) | F28: 7.2876229 | G28: 7.0866559 | H28: 5.6974606 | I28: 5.9425463 | J28: 6.3169057 | K28: 6.364577
E29: Plug-in hybride (PHEV) | F29: 11.766382 | G29: 10.712941 | H29: 7.1884764 | I29: 6.8777438 | J29: 7.8283642 | K29: 7.9199678
E30: Aardgas (LNG en CNG inclusief aardgas hybrides en LNG hybrides) | F30: 11.950991 | G30: 11.72946 | H30: 8.4096271 | I30: 9.1692345 | J30: 9.7249315 | K30: 9.4360999
F31: {=car} -> #NAME?
E33: kWhe per day (high) | F33: {=kilometrage_years} -> 2018 | G33: 2019 | H33: 2020 | I33: 2021 | J33: 2022 | K33: 2023*
E34: {=Vehicle_types} -> Totaal | F34: {=car_Kilometrages*car_charge_from_network_kWh_km_high/days_per_year} -> 8.2243782 | G34: 8.138383 | H34: 6.6246652 | I34: 6.9263497 | J34: 7.4927961 | K34: 7.6978136 | L34: Amount of kWhe a car with that kilometrage would use. This gives an upper bound on the peak consumption (assume charging only at home). We also assume charging every day, but if cars charge every X days, there is no reason to favour a specific day and all averages out). For an 11 kW charger, all these can be satisfied within an hour. For a 5.5 kW charger, all these are done within two hours --> All these can be satisfied within the peak.
E35: Benzine(inclusief benzine hybrides en ethanol) | F35: 6.8042117 | G35: 6.874628 | H35: 5.7937855 | I35: 6.1486543 | J35: 6.6590169 | K35: 6.9269729
E36: Diesel (inclusief diesel hybrides) | F36: 14.735085 | G36: 14.4179 | H36: 11.151313 | I36: 11.308364 | J36: 12.000688 | K36: 11.557626
E37: Volledig elektrisch (FEV) inclusief waterstof | F37: 8.9684233 | G37: 8.4823637 | H37: 7.7544627 | I37: 9.3672415 | J37: 11.12765 | K37: 11.367564
E38: LPG (inclusief LPG hybrides) | F38: 9.7168305 | G38: 9.4488746 | H38: 7.5966142 | I38: 7.9233951 | J38: 8.422541 | K38: 8.4861026
E39: Plug-in hybride (PHEV) | F39: 15.688509 | G39: 14.283922 | H39: 9.5846352 | I39: 9.170325 | J39: 10.437819 | K39: 10.559957
E40: Aardgas (LNG en CNG inclusief aardgas hybrides en LNG hybrides) | F40: 15.934655 | G40: 15.63928 | H40: 11.212836 | I40: 12.225646 | J40: 12.966575 | K40: 12.581467
F42: {=kilometrage_years} -> 2018 | G42: 2019 | H42: 2020 | I42: 2021 | J42: 2022 | K42: 2023*
E43: Peak demand low travelers base: gasoline users) low kWh | F43: {=kWh_per_day_car_per_type_gasoline_low} -> 5.1031587 | G43: 5.155971 | H43: 4.3453391 | I43: 4.6114907 | J43: 4.9942627 | K43: 5.1952297 | L43: =K5/365 -> 30.454795 | M43: =L43*car_charge_from_network_kWh_km_low -> 5.1952297
E44: Peak demand low travelers base: gasoline users) high kWh | F44: {=kWh_per_day_car_per_type_gasoline_high} -> 6.8042117 | G44: 6.874628 | H44: 5.7937855 | I44: 6.1486543 | J44: 6.6590169 | K44: 6.9269729 | L44: =K5/365 -> 30.454795 | M44: =L44*car_charge_from_network_kWh_km_high -> 6.9269729
E45: Peak demand high travelers (base: FEV users) low kWh | F45: {=kWh_per_day_car_per_type_FEV_low} -> 6.7263175 | G45: 6.3617728 | H45: 5.815847 | I45: 7.0254311 | J45: 8.3457373 | K45: 8.5256728 | L45: =K7/365 -> 49.978082 | M45: =L45*car_charge_from_network_kWh_km_low -> 8.5256728
E46: Peak demand high travelers (base: FEV users) high kWh | F46: {=kWh_per_day_car_per_type_FEV_high} -> 8.9684233 | G46: 8.4823637 | H46: 7.7544627 | I46: 9.3672415 | J46: 11.12765 | K46: 11.367564 | L46: =K7/365 -> 49.978082 | M46: =L46*car_charge_from_network_kWh_km_high -> 11.367564
E47: Peak demand of fleet average (kWh) low | F47: {=kWh_per_day_car_per_type_average_low} -> 6.1682836 | G47: 6.1037873 | H47: 4.9684989 | I47: 5.1947623 | J47: 5.6195971 | K47: 5.7733602
E48: Peak demand of fleet average (kWh) high | F48: {=kWh_per_day_car_per_type_average_high} -> 8.2243782 | G48: 8.138383 | H48: 6.6246652 | I48: 6.9263497 | J48: 7.4927961 | K48: 7.6978136
E49: As BEVs becme mainstream, the kilometrage will converge to the average (the reason why BEVs have larger kilometrages now is because they currently are used by a different demographic than the rest).
F60: ELECTRISCHE FIETSEN
E61: Leeftijd | F61: Totaal (km per persoon per dag) | G61: Mannen (km per persoon per dag) | H61: Vrouwen (km per persoon per dag)
E62: Totaal | F62: 2.92 | G62: 3.16 | H62: 2.68
E63: 6 tot 12 jaar | F63: 2.34 | G63: 2.58 | H63: 2.09
E64: 12 tot 18 jaar | F64: 6.21 | G64: 6.7 | H64: 5.7 | L64: =44/23 -> 1.9130435 | M64: gCO2/gDME
E65: 18 tot 25 jaar | F65: 2.62 | G65: 2.95 | H65: 2.29 | L65: =1000*L64/28.8 -> 66.425121
E66: 25 tot 35 jaar | F66: 2.42 | G66: 2.52 | H66: 2.31 | L66: =12*44/167 -> 3.1616766
E67: 35 tot 50 jaar | F67: 2.58 | G67: 2.6 | H67: 2.56 | L67: =12*12+23 -> 167
E68: 50 tot 65 jaar | F68: 2.81 | G68: 3.01 | H68: 2.61 | O68: =8/75 -> 0.10666667
E69: 65 tot 75 jaar | F69: 3.42 | G69: 3.75 | H69: 3.1
E70: 75 jaar of ouder | F70: 2.24 | G70: 2.82 | H70: 1.77
E71: Bron: CBS https://www.cbs.nl/nl-nl/visualisaties/verkeer-en-vervoer/personen/fietsen#:~:text=Fietsen%20naar%20geslacht%20en%20leeftijd&text=Gemiddeld%20fietsten%20vrouwen%202%2C7,dag%20de%20langste%20afstand%20af. | N71: =1.49/0.637 -> 2.3390895
G73: e-bikes probably are used more | H73: This age group uses e-bikes more
F74: Average | G74: High users | H74: Old users
E75: e-bike kilometrage | F75: =F62 -> 2.92 | G75: =F64 -> 6.21 | H75: =F69 -> 3.42
E77: e-bike consumption (kWh/km) | F77: =0.006*1.25 -> 0.0075 | G77: Source: https://www.anwb.nl/energie/energieverbruik/hoeveel-stroom-verbruikt-een-elektrische-fiets (6 Wh/ km with 25% charging efficiency loss)
F79: Average | G79: High users | H79: Old users
E80: e-bike daily demand (kWh) | F80: {=e_bike_consumption*selected_e_bike_kilometrages} -> 0.0219 | G80: 0.046575 | H80: 0.02565
F81: Same assumptions/reasoning as for cars, except that it might be possible that switching to e-bikes increases kilometrage, as e-bikes allow travel for less effort and might thus be used more

Sheet Home batteries
D8: capacity_kWh=10, charging_power_kW=5,charging_efficiency=0.85, proportion_used_in_a_typical_day=0.7 | E8: 2018 | F8: 2019 | G8: 2020 | H8: 2021 | I8: 2022 | J8: 2023 | K8: 2024
D9: Day Ahead | E9: 0.17082998 | F9: 0.15793715 | G9: 0.19607843 | H9: 0.13215149 | I9: 0.22240129 | J9: 0.11603546 | K9: 0.14786242
D10: Long Imbalance | E10: 0.042707494 | F10: 0.02739726 | G10: 1.5630023 | H10: 1.2949234 | I10: 1.0362611 | J10: 1.4206285 | K10: 1.7068467
D11: Short Imbalance | E11: 0.73005641 | F11: 0.71152297 | G11: 1.8989071 | H11: 1.264303 | I11: 1.0257857 | J11: 1.2892828 | K11: 1.3460302
D30: capacity_kWh=20, charging_power_kW=5,charging_efficiency=0.85, proportion_used_in_a_typical_day=0.7 | E30: 2018 | F30: 2019 | G30: 2020 | H30: 2021 | I30: 2022 | J30: 2023 | K30: 2024
D31: Day Ahead | E31: 0.36099919 | F31: 0.39323127 | G31: 0.54323369 | H31: 0.57050766 | I31: 0.50604351 | J31: 0.32232071 | K31: 0.30215365
D32: Long Imbalance | E32: 0.20306205 | F32: 0.17888799 | G32: 2.8471553 | H32: 2.532635 | I32: 2.1313457 | J32: 2.5938759 | K32: 3.1043073
D33: Short Imbalance | E33: 1.0999194 | F33: 0.85656728 | G33: 3.2706525 | H33: 2.5858179 | I33: 2.1402095 | J33: 2.3464948 | K33: 2.4831244
D40: capacity_kWh=20, charging_power_kW=10,charging_efficiency=0.85, proportion_used_in_a_typical_day=0.7 | E40: 2018 | F40: 2019 | G40: 2020 | H40: 2021 | I40: 2022 | J40: 2023 | K40: 2024
D41: Day Ahead | E41: 0.34165995 | F41: 0.31587429 | G41: 0.39215686 | H41: 0.26430298 | I41: 0.44480258 | J41: 0.23207091 | K41: 0.29572485
D42: Long Imbalance | E42: 0.085414988 | F42: 0.054794521 | G42: 3.1260045 | H42: 2.5898469 | I42: 2.0725222 | J42: 2.8412571 | K42: 3.4136933
D43: Short Imbalance | E43: 1.4601128 | F43: 1.4230459 | G43: 3.7978142 | H43: 2.528606 | I43: 2.0515713 | J43: 2.5785657 | K43: 2.6920604
... D56: Long Imbalance | E56: 0.021353747 | F56: 0.01369863 | G56: 0.78150113 | H56: 0.64746172 | I56: 0.51813054 | J56: 0.71031426 | K56: 0.85342334
D57: Short Imbalance | E57: 0.3650282 | F57: 0.35576148 | G57: 0.94945355 | H57: 0.63215149 | J57: 0.64464142 | K57: 0.67301511
D81: Battery capacity (kWh) (100.00% is used for imbalance schemes) | E81: Cumulative charge from network (kWh) | F81: Cumulative peak charge from network (kWh) | G81: Average daily peak charge from network (kWh) | H81: Cumulative discharge to network (kWh) | I81: Cumulative peak discharge to network (kWh) | J81: Average daily peak discharge to network (kWh)
D82: 5 | E82: 4862.1324 | F82: 896.47059 | G82: 2.4493732 | H82: -4737.55 | I82: -1136.9016 | J82: -3.1062884
D83: 10 | E83: 9724.2647 | F83: 1792.9412 | G83: 4.8987464 | H83: -9475.1 | I83: -2273.8031 | J83: -6.2125768
D84: 15 | E84: 14586.397 | F84: 2689.4118 | G84: 7.3481196 | H84: -14212.65 | I84: -3410.7047 | J84: -9.3188653
D85: 20 | E85: 19448.529 | F85: 3585.8824 | G85: 9.7974928 | H85: -18950.2 | I85: -4547.6062 | J85: -12.425154

Sheet Heat pumps
E1: Appartement - goede isolatie | F1: Rijtjeshuis - goede isolatie | G1: Rijtjeshuis - matige isolatie | H1: Vrijstaand huis - matige isolatie
C2: H-HP | D2: Koelen | G2: X | H2: X
D3: Verwarmen | F3: X | G3: X | H3: X
C4: E-HP | D4: Koelen | E4: X | F4: X
D5: Verwarmen | E5: X | F5: X
C8: For a description of the analysis method, see TNO Memo Verschuiven elektriciteitsverbruik uit piekuren (TNO 2025 M12684).
