{"text_format":"1","workbook":"xlsx","n_sheets":2,"sheets":["data","data without full details"],"not_rendered":{"charts":0,"images":0,"macros":1,"external_links":1,"defined_names":22,"comments":0,"pivot_tables":0},"unopened":[],"bounds":{"document_bytes":16777216,"sheet_cells":100000,"rows_first":2000,"rows_last":500,"rows_between":2000,"halvings":0,"cell_chars":16384,"cell_head_chars":4096},"cells_cut":0,"cells_raw":0,"read":"whole","date_system":"1900"}

{"sheet":"data","index":0,"n_rows":686,"n_cols":47,"rows_kept":686,"cut":false,"hidden":false,"merged":[]}
["To access the Visual Basic code (VBA) for the equations,choose e.g. tab 'Developer', then icon 'Visual Basic'"]
[null,null,"Friction coefficients"]
[null,"Red lead ",0.06]
[null,"Mill scale",0.33]
[null,null,"a) Joint type:",null,null,null,null,null,null,null,null,"b) Condition:",null,null,null,null,"c) Failure type:"]
[null,null,"   S = strap",null,null,null,null,null,null,null,null,"  1 = (red lead) paint",null,null,null,null,"   0 = no failure"]
[null,null,"   L = lap",null,null,null,null,null,null,null,null,"  2 = reduced clamping",null,null,null,null,"   1 = ply"]
[null,null,"   R = Riveted",null,null,null,null,null,null,null,null,">2 = clamping stress in [MPa]",null,null,null,null,"   2 = strap"]
[null,null,"   B = bolted",null,null,null,null,null,null,null,null,null,null,null,null,null,"   3 = fastener"]
["ID","Source","Joint type a)","nrow","npr","r [mm]","w [mm]","max(w1, w2) [mm]","tp [mm]","ts [mm]","p; e [mm]","Condition b)","su [MPa]","Δσnet [MPa]","R","N","FailureType c)","SeriesRef","Remark","ID","tp/r","r/h","r/w","σmax [MPa]","σmin [MPa]","f1","σcl,0 [MPa]","σclmax [MPa]","σclmin [MPa]","σslipmax [MPa]","σslipmin [MPa]","σpmax [MPa]","σpmin [MPa]","βmax","βmin","Kt,hole","Kt,1,μmax","Kt,1,μmin","σhmax [MPa]","σhmin [MPa]","Δσh [MPa]","Rh","Δσh [MPa]/K","Δτn [MPa]","τhmax [MPa]","τhmin [MPa]","Δτh [MPa]"]
[1,"Kloppel1936","R; S",2,1,8.5,35,null,6,8,70,null,410,206.01,8.6999999999999994E-2,785620,1,"P99T3","Dahlen_ST37SM",{"$f":"A11","v":1},{"$f":"I11/F11","v":0.70588235294117652},{"$f":"F11/(J11+I11)","v":0.6071428571428571},{"$f":"F11/G11","v":0.24285714285714285},{"$f":"N11/(1-O11)","v":225.6407447973713},{"$f":"X11*O11","v":19.630744797371303},{"$f":"IF(OR(X11>=1.6*D11*AD11,D11=1),calcLoadFraction(G11,F11,I11,J11,K11,D11,1),\"Condition for spring model not fulfilled\")","v":0.51768155648140746},{"$f":"IF(L11>2,L11,IF(L11=2,1,sigma_cl0(I11+J11)))","v":112.45880410439175},{"$f":"Sigma_cl(AA11,U11,V11,X11)","v":94.116522988539032},{"$f":"Sigma_cl(AA11,U11,V11,Y11)","v":110.86302564731255},{"$f":"sigma_Slip(AB11,W11,U11,IF(L11=1,mu_redLead,mu_millScale))","v":22.168709850088064},{"$f":"sigma_Slip(AC11,W11,U11,IF(L11=1,mu_redLead,mu_millScale))","v":26.113270769442117},{"$f":"Sigma_p(AB11,V11)","v":-22.107459336105119},{"$f":"Sigma_p(AC11,V11)","v":-26.041121723908116},{"$f":"beta_1(X11,AD11,Z11)","v":0.81021573506927369},{"$f":"beta_1(Y11,AE11,Z11)","v":0},{"$f":"k_tHole(W11,U11)","v":2.4340437317784254},{"$f":"K_t1Mu(Z11,AH11,D11,W11,U11,SIGN(X11),mu_millScale)","v":3.5557604586375282},{"$f":"K_t1Mu(Z11,AI11,D11,W11,U11,SIGN(Y11),mu_millScale)","v":1.804013957972991},{"$f":"Sigma_hMax(AK11,X11,AF11)","v":780.2169788719093},{"$f":"Sigma_hMin(X11,Y11,AG11,AE11,AK11,AL11,AJ11,AI11,Z11,IF(L11=1,mu_redLead,mu_millScale))","v":114.21635047652727},{"$f":"(AM11-AN11)","v":666.00062839538202},{"$f":"AN11/AM11","v":0.14639049593828249},{"$f":"AO11/3.16*(1-0.9*AP11)/(1-AP11)","v":214.37413400096034},{"$f":"tau_n(N11,W11,U11,D11)","v":144.31042357797222},{"$f":"tau_hMax(X11,Z11,AH11,W11,U11)","v":132.5929049041126},{"$f":"tau_hMin(X11,Y11,AS11,AE11,Z11,AI11,IF(L11=1,mu_redLead,mu_millScale),W11,U11)","v":39.132452668165129},{"$f":"(AS11-AT11)","v":93.460452235947471}]
[2,"Kloppel1936","R; S",2,1,8.5,35,null,6,8,70,null,410,196.2,9.0899999999999995E-2,526210,1,"P99T3","Dahlen_ST37SM",{"$f":"A12","v":2},0.70588235294117652,0.6071428571428571,0.24285714285714285,215.81784182158177,19.617841821581781,{"$f":"IF(OR(X12>=1.6*D12*AD12,D12=1),calcLoadFraction(G12,F12,I12,J12,K12,D12,1),\"Condition for spring model not fulfilled\")","v":0.51768155648140746},{"$f":"IF(L12>2,L12,IF(L12=2,1,sigma_cl0(I12+J12)))","v":112.45880410439175},{"$f":"Sigma_cl(AA12,U12,V12,X12)","v":94.915024375854856},{"$f":"Sigma_cl(AA12,U12,V12,Y12)","v":110.86407452706774},{"$f":"sigma_Slip(AB12,W12,U12,IF(L12=1,mu_redLead,mu_millScale))","v":22.356793143097654},{"$f":"sigma_Slip(AC12,W12,U12,IF(L12=1,mu_redLead,mu_millScale))","v":26.113517828196752},{"$f":"Sigma_p(AB12,V12)","v":-22.295022968816642},{"$f":"Sigma_p(AC12,V12)","v":-26.041368100057593},{"$f":"beta_1(X12,AD12,Z12)","v":0.79989429494009989},{"$f":"beta_1(Y12,AE12,Z12)","v":0},{"$f":"k_tHole(W12,U12)","v":2.4340437317784254},{"$f":"K_t1Mu(Z12,AH12,D12,W12,U12,SIGN(X12),mu_millScale)","v":3.5428839103036363},{"$f":"K_t1Mu(Z12,AI12,D12,W12,U12,SIGN(Y12),mu_millScale)","v":1.804013957972991},{"$f":"Sigma_hMax(AK12,X12,AF12)","v":742.3225363773206},{"$f":"Sigma_hMin(X12,Y12,AG12,AE12,AK12,AL12,AJ12,AI12,Z12,IF(L12=1,mu_redLead,mu_millScale))","v":112.78488824047045},{"$f":"(AM12-AN12)","v":629.53764813685018},{"$f":"AN12/AM12","v":0.15193515313556666},{"$f":"AO12/3.16*(1-0.9*AP12)/(1-AP12)","v":202.78991675977758},{"$f":"tau_n(N12,W12,U12,D12)","v":137.43849864568782},{"$f":"tau_hMax(X12,Z12,AH12,W12,U12)","v":125.20510366395928},{"$f":"tau_hMin(X12,Y12,AS12,AE12,Z12,AI12,IF(L12=1,mu_redLead,mu_millScale),W12,U12)","v":38.156843252070487},{"$f":"(AS12-AT12)","v":87.048260411888791}]
[3,"Kloppel1936","R; S",2,1,8.5,35,null,6,8,70,null,410,186.39,9.5200000000000007E-2,1169150,1,"P99T3","Dahlen_ST37SM",3,0.70588235294117652,0.6071428571428571,0.24285714285714285,206.00132625994692,19.611326259946949,{"$f":"IF(OR(X13>=1.6*D13*AD13,D13=1),calcLoadFraction(G13,F13,I13,J13,K13,D13,1),\"Condition for spring model not fulfilled\")","v":0.51768155648140746},{"$f":"IF(L13>2,L13,IF(L13=2,1,sigma_cl0(I13+J13)))","v":112.45880410439175},{"$f":"Sigma_cl(AA13,U13,V13,X13)","v":95.713006531831795},{"$f":"Sigma_cl(AA13,U13,V13,Y13)","v":110.86460417548403},{"$f":"sigma_Slip(AB13,W13,U13,IF(L13=1,mu_redLead,mu_millScale))","v":22.544754133577026},{"$f":"sigma_Slip(AC13,W13,U13,IF(L13=1,mu_redLead,mu_millScale))","v":26.113642584421171},{"$f":"Sigma_p(AB13,V13)","v":-22.482464636910841},{"$f":"Sigma_p(AC13,V13)","v":-26.041492511589745},{"$f":"beta_1(X13,AD13,Z13)","v":0.78859619763236055},{"$f":"beta_1(Y13,AE13,Z13)","v":0},{"$f":"k_tHole(W13,U13)","v":2.4340437317784254},{"$f":"K_t1Mu(Z13,AH13,D13,W13,U13,SIGN(X13),mu_millScale)","v":3.5281487073423694},{"$f":"K_t1Mu(Z13,AI13,D13,W13,U13,SIGN(Y13),mu_millScale)","v":1.804013957972991},{"$f":"Sigma_hMax(AK13,X13,AF13)","v":704.32084831793463},{"$f":"Sigma_hMin(X13,Y13,AG13,AE13,AK13,AL13,AJ13,AI13,Z13,IF(L13=1,mu_redLead,mu_millScale))","v":111.23203138350409},593.0888169344305,0.15792806879016777,191.2063354660699,{"$f":"tau_n(N13,W13,U13,D13)","v":130.56657371340341},{"$f":"tau_hMax(X13,Z13,AH13,W13,U13)","v":117.82210639533349},{"$f":"tau_hMin(X13,Y13,AS13,AE13,Z13,AI13,IF(L13=1,mu_redLead,mu_millScale),W13,U13)","v":37.124604790438255},80.697501604895237]
[4,"Kloppel1936","R; S",2,1,8.5,35,null,6,8,70,null,410,186.39,9.5200000000000007E-2,1991790,1,"P99T3","Dahlen_ST37SM",4,0.70588235294117652,0.6071428571428571,0.24285714285714285,206.00132625994692,19.611326259946949,{"$f":"IF(OR(X14>=1.6*D14*AD14,D14=1),calcLoadFraction(G14,F14,I14,J14,K14,D14,1),\"Condition for spring model not fulfilled\")","v":0.51768155648140746},{"$f":"IF(L14>2,L14,IF(L14=2,1,sigma_cl0(I14+J14)))","v":112.45880410439175},{"$f":"Sigma_cl(AA14,U14,V14,X14)","v":95.713006531831795},{"$f":"Sigma_cl(AA14,U14,V14,Y14)","v":110.86460417548403},{"$f":"sigma_Slip(AB14,W14,U14,IF(L14=1,mu_redLead,mu_millScale))","v":22.544754133577026},{"$f":"sigma_Slip(AC14,W14,U14,IF(L14=1,mu_redLead,mu_millScale))","v":26.113642584421171},{"$f":"Sigma_p(AB14,V14)","v":-22.482464636910841},{"$f":"Sigma_p(AC14,V14)","v":-26.041492511589745},{"$f":"beta_1(X14,AD14,Z14)","v":0.78859619763236055},{"$f":"beta_1(Y14,AE14,Z14)","v":0},{"$f":"k_tHole(W14,U14)","v":2.4340437317784254},{"$f":"K_t1Mu(Z14,AH14,D14,W14,U14,SIGN(X14),mu_millScale)","v":3.5281487073423694},{"$f":"K_t1Mu(Z14,AI14,D14,W14,U14,SIGN(Y14),mu_millScale)","v":1.804013957972991},{"$f":"Sigma_hMax(AK14,X14,AF14)","v":704.32084831793463},{"$f":"Sigma_hMin(X14,Y14,AG14,AE14,AK14,AL14,AJ14,AI14,Z14,IF(L14=1,mu_redLead,mu_millScale))","v":111.23203138350409},593.0888169344305,0.15792806879016777,191.2063354660699,{"$f":"tau_n(N14,W14,U14,D14)","v":130.56657371340341},{"$f":"tau_hMax(X14,Z14,AH14,W14,U14)","v":117.82210639533349},{"$f":"tau_hMin(X14,Y14,AS14,AE14,Z14,AI14,IF(L14=1,mu_redLead,mu_millScale),W14,U14)","v":37.124604790438255},80.697501604895237]
[5,"Kloppel1936","R; S",2,1,8.5,35,null,6,8,70,null,410,176.58,0.1,1503380,1,"P99T3","Dahlen_ST37SM",5,0.70588235294117652,0.6071428571428571,0.24285714285714285,196.20000000000002,19.620000000000005,{"$f":"IF(OR(X15>=1.6*D15*AD15,D15=1),calcLoadFraction(G15,F15,I15,J15,K15,D15,1),\"Condition for spring model not fulfilled\")","v":0.51768155648140746},{"$f":"IF(L15>2,L15,IF(L15=2,1,sigma_cl0(I15+J15)))","v":112.45880410439175},{"$f":"Sigma_cl(AA15,U15,V15,X15)","v":96.509753953178858},{"$f":"Sigma_cl(AA15,U15,V15,Y15)","v":110.86389908927046},{"$f":"sigma_Slip(AB15,W15,U15,IF(L15=1,mu_redLead,mu_millScale))","v":22.732424288049263},{"$f":"sigma_Slip(AC15,W15,U15,IF(L15=1,mu_redLead,mu_millScale))","v":26.113476504638452},{"$f":"Sigma_p(AB15,V15)","v":-22.669616272556389},{"$f":"Sigma_p(AC15,V15)","v":-26.041326890673243},{"$f":"beta_1(X15,AD15,Z15)","v":0.7761876446422058},{"$f":"beta_1(Y15,AE15,Z15)","v":0},{"$f":"k_tHole(W15,U15)","v":2.4340437317784254},{"$f":"K_t1Mu(Z15,AH15,D15,W15,U15,SIGN(X15),mu_millScale)","v":3.51121295498276},{"$f":"K_t1Mu(Z15,AI15,D15,W15,U15,SIGN(Y15),mu_millScale)","v":1.804013957972991},{"$f":"Sigma_hMax(AK15,X15,AF15)","v":666.23036549506116},{"$f":"Sigma_hMin(X15,Y15,AG15,AE15,AK15,AL15,AJ15,AI15,Z15,IF(L15=1,mu_redLead,mu_millScale))","v":109.56468908659321},556.66567640846802,0.16445466127197322,179.62726117630615,{"$f":"tau_n(N15,W15,U15,D15)","v":123.69464878111906},{"$f":"tau_hMax(X15,Z15,AH15,W15,U15)","v":110.45053299418595},{"$f":"tau_hMin(X15,Y15,AS15,AE15,Z15,AI15,IF(L15=1,mu_redLead,mu_millScale),W15,U15)","v":36.033965615724277},74.416567378461679]
[6,"Kloppel1936","R; S",2,1,8.5,35,null,6,8,70,null,410,170.69399999999999,0.10309,2685830,0,"P99T3","Dahlen_ST37SM",6,0.70588235294117652,0.6071428571428571,0.24285714285714285,190.3134093721778,19.61940937217781,{"$f":"IF(OR(X16>=1.6*D16*AD16,D16=1),calcLoadFraction(G16,F16,I16,J16,K16,D16,1),\"Condition for spring model not fulfilled\")","v":0.51768155648140746},{"$f":"IF(L16>2,L16,IF(L16=2,1,sigma_cl0(I16+J16)))","v":112.45880410439175},{"$f":"Sigma_cl(AA16,U16,V16,X16)","v":96.988273469706868},{"$f":"Sigma_cl(AA16,U16,V16,Y16)","v":110.86394710126208},{"$f":"sigma_Slip(AB16,W16,U16,IF(L16=1,mu_redLead,mu_millScale))","v":22.845137337603862},{"$f":"sigma_Slip(AC16,W16,U16,IF(L16=1,mu_redLead,mu_millScale))","v":26.113487813640084},{"$f":"Sigma_p(AB16,V16)","v":-22.782017904249305},{"$f":"Sigma_p(AC16,V16)","v":-26.041338168428933},{"$f":"beta_1(X16,AD16,Z16)","v":0.76812085456701484},{"$f":"beta_1(Y16,AE16,Z16)","v":0},{"$f":"k_tHole(W16,U16)","v":2.4340437317784254},{"$f":"K_t1Mu(Z16,AH16,D16,W16,U16,SIGN(X16),mu_millScale)","v":3.4997904794657066},{"$f":"K_t1Mu(Z16,AI16,D16,W16,U16,SIGN(Y16),mu_millScale)","v":1.804013957972991},{"$f":"Sigma_hMax(AK16,X16,AF16)","v":643.27504033115815},{"$f":"Sigma_hMin(X16,Y16,AG16,AE16,AK16,AL16,AJ16,AI16,Z16,IF(L16=1,mu_redLead,mu_millScale))","v":108.45535975582774},534.81968057533038,0.16859873764104838,172.6788659971244,{"$f":"tau_n(N16,W16,U16,D16)","v":119.5714938217484},{"$f":"tau_hMax(X16,Z16,AH16,W16,U16)","v":106.02323063278762},{"$f":"tau_hMin(X16,Y16,AS16,AE16,Z16,AI16,IF(L16=1,mu_redLead,mu_millScale),W16,U16)","v":35.341016196050447},70.682214436737169]
[7,"Kloppel1936","R; S",2,1,8.5,35,null,6,8,70,null,410,176.58,0.1,409000,1,"P99T3","RZE_ST37SM",7,0.70588235294117652,0.6071428571428571,0.24285714285714285,196.20000000000002,19.620000000000005,{"$f":"IF(OR(X17>=1.6*D17*AD17,D17=1),calcLoadFraction(G17,F17,I17,J17,K17,D17,1),\"Condition for spring model not fulfilled\")","v":0.51768155648140746},{"$f":"IF(L17>2,L17,IF(L17=2,1,sigma_cl0(I17+J17)))","v":112.45880410439175},{"$f":"Sigma_cl(AA17,U17,V17,X17)","v":96.509753953178858},{"$f":"Sigma_cl(AA17,U17,V17,Y17)","v":110.86389908927046},{"$f":"sigma_Slip(AB17,W17,U17,IF(L17=1,mu_redLead,mu_millScale))","v":22.732424288049263},{"$f":"sigma_Slip(AC17,W17,U17,IF(L17=1,mu_redLead,mu_millScale))","v":26.113476504638452},{"$f":"Sigma_p(AB17,V17)","v":-22.669616272556389},{"$f":"Sigma_p(AC17,V17)","v":-26.041326890673243},{"$f":"beta_1(X17,AD17,Z17)","v":0.7761876446422058},{"$f":"beta_1(Y17,AE17,Z17)","v":0},{"$f":"k_tHole(W17,U17)","v":2.4340437317784254},{"$f":"K_t1Mu(Z17,AH17,D17,W17,U17,SIGN(X17),mu_millScale)","v":3.51121295498276},{"$f":"K_t1Mu(Z17,AI17,D17,W17,U17,SIGN(Y17),mu_millScale)","v":1.804013957972991},{"$f":"Sigma_hMax(AK17,X17,AF17)","v":666.23036549506116},{"$f":"Sigma_hMin(X17,Y17,AG17,AE17,AK17,AL17,AJ17,AI17,Z17,IF(L17=1,mu_redLead,mu_millScale))","v":109.56468908659321},556.66567640846802,0.16445466127197322,179.62726117630615,{"$f":"tau_n(N17,W17,U17,D17)","v":123.69464878111906},{"$f":"tau_hMax(X17,Z17,AH17,W17,U17)","v":110.45053299418595},{"$f":"tau_hMin(X17,Y17,AS17,AE17,Z17,AI17,IF(L17=1,mu_redLead,mu_millScale),W17,U17)","v":36.033965615724277},74.416567378461679]
[8,"Kloppel1936","R; S",2,1,8.5,35,null,6,8,70,null,410,147.15,0.117647059,2263000,0,"P99T3","RZE_ST37SM",8,0.70588235294117652,0.6071428571428571,0.24285714285714285,166.77000003335402,19.620000033354003,{"$f":"IF(OR(X18>=1.6*D18*AD18,D18=1),calcLoadFraction(G18,F18,I18,J18,K18,D18,1),\"Condition for spring model not fulfilled\")","v":0.51768155648140746},{"$f":"IF(L18>2,L18,IF(L18=2,1,sigma_cl0(I18+J18)))","v":112.45880410439175},{"$f":"Sigma_cl(AA18,U18,V18,X18)","v":98.902111473149446},{"$f":"Sigma_cl(AA18,U18,V18,Y18)","v":110.86389908655912},{"$f":"sigma_Slip(AB18,W18,U18,IF(L18=1,mu_redLead,mu_millScale))","v":23.295932990175483},{"$f":"sigma_Slip(AC18,W18,U18,IF(L18=1,mu_redLead,mu_millScale))","v":26.113476503999809},{"$f":"Sigma_p(AB18,V18)","v":-23.231568041605652},{"$f":"Sigma_p(AC18,V18)","v":-26.041326890036366},{"$f":"beta_1(X18,AD18,Z18)","v":0.73016425060942536},{"$f":"beta_1(Y18,AE18,Z18)","v":0},{"$f":"k_tHole(W18,U18)","v":2.4340437317784254},{"$f":"K_t1Mu(Z18,AH18,D18,W18,U18,SIGN(X18),mu_millScale)","v":3.4418723469428745},{"$f":"K_t1Mu(Z18,AI18,D18,W18,U18,SIGN(Y18),mu_millScale)","v":1.804013957972991},{"$f":"Sigma_hMax(AK18,X18,AF18)","v":550.76948337285785},{"$f":"Sigma_hMin(X18,Y18,AG18,AE18,AK18,AL18,AJ18,AI18,Z18,IF(L18=1,mu_redLead,mu_millScale))","v":103.19522637047578},447.57425700238207,0.18736554853859808,144.90309482260429,{"$f":"tau_n(N18,W18,U18,D18)","v":103.07887398426587},{"$f":"tau_hMax(X18,Z18,AH18,W18,U18)","v":88.316242266976204},{"$f":"tau_hMin(X18,Y18,AS18,AE18,Z18,AI18,IF(L18=1,mu_redLead,mu_millScale),W18,U18)","v":32.262472821472009},56.053769445504194]
[9,"Kloppel1936","R; S",2,1,8.5,35,null,6,8,70,null,410,166.77,0.105263158,2362000,0,"P99T3","RZE_ST37SM",9,0.70588235294117652,0.6071428571428571,0.24285714285714285,186.39000002192824,19.620000021928234,{"$f":"IF(OR(X19>=1.6*D19*AD19,D19=1),calcLoadFraction(G19,F19,I19,J19,K19,D19,1),\"Condition for spring model not fulfilled\")","v":0.51768155648140746},{"$f":"IF(L19>2,L19,IF(L19=2,1,sigma_cl0(I19+J19)))","v":112.45880410439175},{"$f":"Sigma_cl(AA19,U19,V19,X19)","v":97.307206458956969},{"$f":"Sigma_cl(AA19,U19,V19,Y19)","v":110.86389908748792},{"$f":"sigma_Slip(AB19,W19,U19,IF(L19=1,mu_redLead,mu_millScale))","v":22.920260521884352},{"$f":"sigma_Slip(AC19,W19,U19,IF(L19=1,mu_redLead,mu_millScale))","v":26.113476504218585},{"$f":"Sigma_p(AB19,V19)","v":-22.856933528699731},{"$f":"Sigma_p(AC19,V19)","v":-26.041326890254535},{"$f":"beta_1(X19,AD19,Z19)","v":0.76246136924291574},{"$f":"beta_1(Y19,AE19,Z19)","v":0},{"$f":"k_tHole(W19,U19)","v":2.4340437317784254},{"$f":"K_t1Mu(Z19,AH19,D19,W19,U19,SIGN(X19),mu_millScale)","v":3.4915864867582243},{"$f":"K_t1Mu(Z19,AI19,D19,W19,U19,SIGN(Y19),mu_millScale)","v":1.804013957972991},{"$f":"Sigma_hMax(AK19,X19,AF19)","v":627.93987181473005},{"$f":"Sigma_hMin(X19,Y19,AG19,AE19,AK19,AL19,AJ19,AI19,Z19,IF(L19=1,mu_redLead,mu_millScale))","v":107.67765664874663},520.26221516598343,0.17147765491871217,168.04746228824621,{"$f":"tau_n(N19,W19,U19,D19)","v":116.82272384883466},{"$f":"tau_hMax(X19,Z19,AH19,W19,U19)","v":103.0724360932464},{"$f":"tau_hMin(X19,Y19,AS19,AE19,Z19,AI19,IF(L19=1,mu_redLead,mu_millScale),W19,U19)","v":34.863776648687399},68.208659444559004]
[10,"Kloppel1936","R; S",2,1,8.5,35,null,6,8,70,null,410,208.953,0.180769231,308400,1,"P99T3","Dahlen_ST37SM",10,0.70588235294117652,0.6071428571428571,0.24285714285714285,255.0600000718479,46.107000071847892,{"$f":"IF(OR(X20>=1.6*D20*AD20,D20=1),calcLoadFraction(G20,F20,I20,J20,K20,D20,1),\"Condition for spring model not fulfilled\")","v":0.51768155648140746},{"$f":"IF(L20>2,L20,IF(L20=2,1,sigma_cl0(I20+J20)))","v":112.45880410439175},{"$f":"Sigma_cl(AA20,U20,V20,X20)","v":91.7250389019745},{"$f":"Sigma_cl(AA20,U20,V20,Y20)","v":108.71077731301622},{"$f":"sigma_Slip(AB20,W20,U20,IF(L20=1,mu_redLead,mu_millScale))","v":21.605406881143832},{"$f":"sigma_Slip(AC20,W20,U20,IF(L20=1,mu_redLead,mu_millScale))","v":25.606318670774375},{"$f":"Sigma_p(AB20,V20)","v":-21.545712731812205},{"$f":"Sigma_p(AC20,V20)","v":-25.535570296583817},{"$f":"beta_1(X20,AD20,Z20)","v":0.83637208312952205},{"$f":"beta_1(Y20,AE20,Z20)","v":0},{"$f":"k_tHole(W20,U20)","v":2.4340437317784254},{"$f":"K_t1Mu(Z20,AH20,D20,W20,U20,SIGN(X20),mu_millScale)","v":3.5858056455150211},{"$f":"K_t1Mu(Z20,AI20,D20,W20,U20,SIGN(Y20),mu_millScale)","v":1.804013957972991},{"$f":"Sigma_hMax(AK20,X20,AF20)","v":893.04987547088172},{"$f":"Sigma_hMin(X20,Y20,AG20,AE20,AK20,AL20,AJ20,AI20,Z20,IF(L20=1,mu_redLead,mu_millScale))","v":203.78667330047719},689.2632021704045,0.22819181649068127,224.57021186723173,{"$f":"tau_n(N20,W20,U20,D20)","v":146.37200105765754},{"$f":"tau_hMax(X20,Z20,AH20,W20,U20)","v":154.71911455281329},{"$f":"tau_hMin(X20,Y20,AS20,AE20,Z20,AI20,IF(L20=1,mu_redLead,mu_millScale),W20,U20)","v":55.158133127142257},99.560981425671031]
[11,"Kloppel1936","R; S",2,1,8.5,35,null,6,8,70,null,410,199.143,0.188,507600,1,"P99T3","Dahlen_ST37SM",11,0.70588235294117652,0.6071428571428571,0.24285714285714285,245.24999999999997,46.106999999999992,{"$f":"IF(OR(X21>=1.6*D21*AD21,D21=1),calcLoadFraction(G21,F21,I21,J21,K21,D21,1),\"Condition for spring model not fulfilled\")","v":0.51768155648140746},{"$f":"IF(L21>2,L21,IF(L21=2,1,sigma_cl0(I21+J21)))","v":112.45880410439175},{"$f":"Sigma_cl(AA21,U21,V21,X21)","v":92.52249141537564},{"$f":"Sigma_cl(AA21,U21,V21,Y21)","v":108.71077731885671},{"$f":"sigma_Slip(AB21,W21,U21,IF(L21=1,mu_redLead,mu_millScale))","v":21.793243116774487},{"$f":"sigma_Slip(AC21,W21,U21,IF(L21=1,mu_redLead,mu_millScale))","v":25.606318672150074},{"$f":"Sigma_p(AB21,V21)","v":-21.733029989746154},{"$f":"Sigma_p(AC21,V21)","v":-25.535570297955715},{"$f":"beta_1(X21,AD21,Z21)","v":0.82834749128223684},{"$f":"beta_1(Y21,AE21,Z21)","v":0},{"$f":"k_tHole(W21,U21)","v":2.4340437317784254},{"$f":"K_t1Mu(Z21,AH21,D21,W21,U21,SIGN(X21),mu_millScale)","v":3.5769901345070836},{"$f":"K_t1Mu(Z21,AI21,D21,W21,U21,SIGN(Y21),mu_millScale)","v":1.804013957972991},{"$f":"Sigma_hMax(AK21,X21,AF21)","v":855.52380049811597},{"$f":"Sigma_hMin(X21,Y21,AG21,AE21,AK21,AL21,AJ21,AI21,Z21,IF(L21=1,mu_redLead,mu_millScale))","v":202.26422381059947},653.25957668751653,0.23642150422096281,213.12848071790393,{"$f":"tau_n(N21,W21,U21,D21)","v":139.50007612537314},{"$f":"tau_hMax(X21,Z21,AH21,W21,U21)","v":147.34101758134474},{"$f":"tau_hMin(X21,Y21,AS21,AE21,Z21,AI21,IF(L21=1,mu_redLead,mu_millScale),W21,U21)","v":54.08112913047237},93.259888450872381]
[12,"Kloppel1936","R; S",2,1,8.5,35,null,6,8,70,null,410,189.333,0.195833333,391100,1,"P99T3","Dahlen_ST37SM",12,0.70588235294117652,0.6071428571428571,0.24285714285714285,235.43999990240826,46.106999902408283,{"$f":"IF(OR(X22>=1.6*D22*AD22,D22=1),calcLoadFraction(G22,F22,I22,J22,K22,D22,1),\"Condition for spring model not fulfilled\")","v":0.51768155648140746},{"$f":"IF(L22>2,L22,IF(L22=2,1,sigma_cl0(I22+J22)))","v":112.45880410439175},{"$f":"Sigma_cl(AA22,U22,V22,X22)","v":93.319943930869485},{"$f":"Sigma_cl(AA22,U22,V22,Y22)","v":108.71077732678992},{"$f":"sigma_Slip(AB22,W22,U22,IF(L22=1,mu_redLead,mu_millScale))","v":21.981079352898071},{"$f":"sigma_Slip(AC22,W22,U22,IF(L22=1,mu_redLead,mu_millScale))","v":25.606318674018706},{"$f":"Sigma_p(AB22,V22)","v":-21.920347248171666},{"$f":"Sigma_p(AC22,V22)","v":-25.535570299819181},{"$f":"beta_1(X22,AD22,Z22)","v":0.81965418341881224},{"$f":"beta_1(Y22,AE22,Z22)","v":0},{"$f":"k_tHole(W22,U22)","v":2.4340437317784254},{"$f":"K_t1Mu(Z22,AH22,D22,W22,U22,SIGN(X22),mu_millScale)","v":3.5670357356456588},{"$f":"K_t1Mu(Z22,AI22,D22,W22,U22,SIGN(Y22),mu_millScale)","v":1.804013957972991},{"$f":"Sigma_hMax(AK22,X22,AF22)","v":817.90254600412902},{"$f":"Sigma_hMin(X22,Y22,AG22,AE22,AK22,AL22,AJ22,AI22,Z22,IF(L22=1,mu_redLead,mu_millScale))","v":200.60311512697055},617.29943087715844,0.24526530221359386,201.69612100944792,{"$f":"tau_n(N22,W22,U22,D22)","v":132.62815119308874},{"$f":"tau_hMax(X22,Z22,AH22,W22,U22)","v":139.9629205905143},{"$f":"tau_hMin(X22,Y22,AS22,AE22,Z22,AI22,IF(L22=1,mu_redLead,mu_millScale),W22,U22)","v":52.944406239456335},87.018514351057973]
[13,"Kloppel1936","R; S",2,1,8.5,35,null,6,8,70,null,410,179.523,0.20434782600000001,1036300,1,"P99T3","Dahlen_ST37SM",13,0.70588235294117652,0.6071428571428571,0.24285714285714285,225.62999997534098,46.106999975340983,{"$f":"IF(OR(X23>=1.6*D23*AD23,D23=1),calcLoadFraction(G23,F23,I23,J23,K23,D23,1),\"Condition for spring model not fulfilled\")","v":0.51768155648140746},{"$f":"IF(L23>2,L23,IF(L23=2,1,sigma_cl0(I23+J23)))","v":112.45880410439175},{"$f":"Sigma_cl(AA23,U23,V23,X23)","v":94.117396432501451},{"$f":"Sigma_cl(AA23,U23,V23,Y23)","v":108.71077732086124},{"$f":"sigma_Slip(AB23,W23,U23,IF(L23=1,mu_redLead,mu_millScale))","v":22.168915585756555},{"$f":"sigma_Slip(AC23,W23,U23,IF(L23=1,mu_redLead,mu_millScale))","v":25.606318672622233},{"$f":"Sigma_p(AB23,V23)","v":-22.107664503341098},{"$f":"Sigma_p(AC23,V23)","v":-25.535570298426567},{"$f":"beta_1(X23,AD23,Z23)","v":0.81020493590439768},{"$f":"beta_1(Y23,AE23,Z23)","v":0},{"$f":"k_tHole(W23,U23)","v":2.4340437317784254},{"$f":"K_t1Mu(Z23,AH23,D23,W23,U23,SIGN(X23),mu_millScale)","v":3.5557472824577263},{"$f":"K_t1Mu(Z23,AI23,D23,W23,U23,SIGN(Y23),mu_millScale)","v":1.804013957972991},{"$f":"Sigma_hMax(AK23,X23,AF23)","v":780.17559474991447},{"$f":"Sigma_hMin(X23,Y23,AG23,AE23,AK23,AL23,AJ23,AI23,Z23,IF(L23=1,mu_redLead,mu_millScale))","v":198.78448471674014},581.3911100331743,0.2547945437596783,190.27517674204063,{"$f":"tau_n(N23,W23,U23,D23)","v":125.75622626080435},{"$f":"tau_hMax(X23,Z23,AH23,W23,U23)","v":132.5848237279352},{"$f":"tau_hMin(X23,Y23,AS23,AE23,Z23,AI23,IF(L23=1,mu_redLead,mu_millScale),W23,U23)","v":51.74214626592159},80.842677462013611]
[14,"Kloppel1936","R; S",2,1,8.5,35,null,6,8,70,null,410,174.61799999999999,0.20888888899999999,1015400,1,"P99T3","Dahlen_ST37SM",14,0.70588235294117652,0.6071428571428571,0.24285714285714285,220.72500003100069,46.107000031000702,{"$f":"IF(OR(X24>=1.6*D24*AD24,D24=1),calcLoadFraction(G24,F24,I24,J24,K24,D24,1),\"Condition for spring model not fulfilled\")","v":0.51768155648140746},{"$f":"IF(L24>2,L24,IF(L24=2,1,sigma_cl0(I24+J24)))","v":112.45880410439175},{"$f":"Sigma_cl(AA24,U24,V24,X24)","v":94.51612268175721},{"$f":"Sigma_cl(AA24,U24,V24,Y24)","v":108.71077731633667},{"$f":"sigma_Slip(AB24,W24,U24,IF(L24=1,mu_redLead,mu_millScale))","v":22.262833701818291},{"$f":"sigma_Slip(AC24,W24,U24,IF(L24=1,mu_redLead,mu_millScale))","v":25.60631867155649},{"$f":"Sigma_p(AB24,V24)","v":-22.201323130559327},{"$f":"Sigma_p(AC24,V24)","v":-25.535570297363773},{"$f":"beta_1(X24,AD24,Z24)","v":0.80516533725256001},{"$f":"beta_1(Y24,AE24,Z24)","v":0},{"$f":"k_tHole(W24,U24)","v":2.4340437317784254},{"$f":"K_t1Mu(Z24,AH24,D24,W24,U24,SIGN(X24),mu_millScale)","v":3.5495304191789336},{"$f":"K_t1Mu(Z24,AI24,D24,W24,U24,SIGN(Y24),mu_millScale)","v":1.804013957972991},{"$f":"Sigma_hMax(AK24,X24,AF24)","v":761.26877875274874},{"$f":"Sigma_hMin(X24,Y24,AG24,AE24,AK24,AL24,AJ24,AI24,Z24,IF(L24=1,mu_redLead,mu_millScale))","v":197.80928435304335},563.45949439970536,0.25984158272867974,184.5697540617119,{"$f":"tau_n(N24,W24,U24,D24)","v":122.32026379466217},{"$f":"tau_hMax(X24,Z24,AH24,W24,U24)","v":128.89577531108097},{"$f":"tau_hMin(X24,Y24,AS24,AE24,Z24,AI24,IF(L24=1,mu_redLead,mu_millScale),W24,U24)","v":51.114403292148758},77.781372018932217]
[15,"Kloppel1936","R; S",2,1,8.5,35,null,6,8,70,null,410,169.7,0.213636364,2094600,0,"P99T3","Dahlen_ST37SM",15,0.70588235294117652,0.6071428571428571,0.24285714285714285,215.80346830788596,46.10346830788599,{"$f":"IF(OR(X25>=1.6*D25*AD25,D25=1),calcLoadFraction(G25,F25,I25,J25,K25,D25,1),\"Condition for spring model not fulfilled\")","v":0.51768155648140746},{"$f":"IF(L25>2,L25,IF(L25=2,1,sigma_cl0(I25+J25)))","v":112.45880410439175},{"$f":"Sigma_cl(AA25,U25,V25,X25)","v":94.916192795277809},{"$f":"Sigma_cl(AA25,U25,V25,Y25)","v":108.71106440924737},{"$f":"sigma_Slip(AB25,W25,U25,IF(L25=1,mu_redLead,mu_millScale))","v":22.35706835886581},{"$f":"sigma_Slip(AC25,W25,U25,IF(L25=1,mu_redLead,mu_millScale))","v":25.606386294958153},{"$f":"Sigma_p(AB25,V25)","v":-22.295297424183886},{"$f":"Sigma_p(AC25,V25)","v":-25.535637733926951},{"$f":"beta_1(X25,AD25,Z25)","v":0.79987850347245459},{"$f":"beta_1(Y25,AE25,Z25)","v":0},{"$f":"k_tHole(W25,U25)","v":2.4340437317784254},{"$f":"K_t1Mu(Z25,AH25,D25,W25,U25,SIGN(X25),mu_millScale)","v":3.5428637782880235},{"$f":"K_t1Mu(Z25,AI25,D25,W25,U25,SIGN(Y25),mu_millScale)","v":1.804013957972991},{"$f":"Sigma_hMax(AK25,X25,AF25)","v":742.26699367275273},{"$f":"Sigma_hMin(X25,Y25,AG25,AE25,AK25,AL25,AJ25,AI25,Z25,IF(L25=1,mu_redLead,mu_millScale))","v":196.77127805577089},545.4957156169819,0.26509501262092022,178.85216564005029,{"$f":"tau_n(N25,W25,U25,D25)","v":118.87519480210612},{"$f":"tau_hMax(X25,Z25,AH25,W25,U25)","v":125.19429335029039},{"$f":"tau_hMin(X25,Y25,AS25,AE25,Z25,AI25,IF(L25=1,mu_redLead,mu_millScale),W25,U25)","v":50.463884937813816},74.730408412476578]
[16,"Kloppel1936","R; S",2,1,8.5,35,null,6,8,70,null,420,156.96,0.111111111,2141000,1,"P99T5","RZE_AS",16,0.70588235294117652,0.6071428571428571,0.24285714285714285,176.57999997792751,19.619999977927502,{"$f":"IF(OR(X26>=1.6*D26*AD26,D26=1),calcLoadFraction(G26,F26,I26,J26,K26,D26,1),\"Condition for spring model not fulfilled\")","v":0.51768155648140746},{"$f":"IF(L26>2,L26,IF(L26=2,1,sigma_cl0(I26+J26)))","v":112.45880410439175},{"$f":"Sigma_cl(AA26,U26,V26,X26)","v":98.10465897009442},{"$f":"Sigma_cl(AA26,U26,V26,Y26)","v":110.86389909106472},{"$f":"sigma_Slip(AB26,W26,U26,IF(L26=1,mu_redLead,mu_millScale))","v":23.108096756981805},{"$f":"sigma_Slip(AC26,W26,U26,IF(L26=1,mu_redLead,mu_millScale))","v":26.113476505061083},{"$f":"Sigma_p(AB26,V26)","v":-23.044250786101948},{"$f":"Sigma_p(AC26,V26)","v":-26.041326891094709},{"$f":"beta_1(X26,AD26,Z26)","v":0.74720995202818863},{"$f":"beta_1(Y26,AE26,Z26)","v":0},{"$f":"k_tHole(W26,U26)","v":2.4340437317784254},{"$f":"K_t1Mu(Z26,AH26,D26,W26,U26,SIGN(X26),mu_millScale)","v":3.4687143720151439},{"$f":"K_t1Mu(Z26,AI26,D26,W26,U26,SIGN(Y26),mu_millScale)","v":1.804013957972991},{"$f":"Sigma_hMax(AK26,X26,AF26)","v":589.46133294776905},{"$f":"Sigma_hMin(X26,Y26,AG26,AE26,AK26,AL26,AJ26,AI26,Z26,IF(L26=1,mu_redLead,mu_millScale))","v":105.5675622119071},483.89377073586195,0.17909158126451905,156.47168574590273,{"$f":"tau_n(N26,W26,U26,D26)","v":109.95079891655027},{"$f":"tau_hMax(X26,Z26,AH26,W26,U26)","v":95.694339142721702},{"$f":"tau_hMin(X26,Y26,AS26,AE26,Z26,AI26,IF(L26=1,mu_redLead,mu_millScale),W26,U26)","v":33.610078517599426},62.084260625122276]
[17,"Kloppel1936","R; S",2,1,8.5,35,null,6,8,70,null,420,147.15,0.117647059,505000,1,"P99T5","RZE_AS",17,0.70588235294117652,0.6071428571428571,0.24285714285714285,166.77000003335402,19.620000033354003,{"$f":"IF(OR(X27>=1.6*D27*AD27,D27=1),calcLoadFraction(G27,F27,I27,J27,K27,D27,1),\"Condition for spring model not fulfilled\")","v":0.51768155648140746},{"$f":"IF(L27>2,L27,IF(L27=2,1,sigma_cl0(I27+J27)))","v":112.45880410439175},{"$f":"Sigma_cl(AA27,U27,V27,X27)","v":98.902111473149446},{"$f":"Sigma_cl(AA27,U27,V27,Y27)","v":110.86389908655912},{"$f":"sigma_Slip(AB27,W27,U27,IF(L27=1,mu_redLead,mu_millScale))","v":23.295932990175483},{"$f":"sigma_Slip(AC27,W27,U27,IF(L27=1,mu_redLead,mu_millScale))","v":26.113476503999809},{"$f":"Sigma_p(AB27,V27)","v":-23.231568041605652},{"$f":"Sigma_p(AC27,V27)","v":-26.041326890036366},{"$f":"beta_1(X27,AD27,Z27)","v":0.73016425060942536},{"$f":"beta_1(Y27,AE27,Z27)","v":0},{"$f":"k_tHole(W27,U27)","v":2.4340437317784254},{"$f":"K_t1Mu(Z27,AH27,D27,W27,U27,SIGN(X27),mu_millScale)","v":3.4418723469428745},{"$f":"K_t1Mu(Z27,AI27,D27,W27,U27,SIGN(Y27),mu_millScale)","v":1.804013957972991},{"$f":"Sigma_hMax(AK27,X27,AF27)","v":550.76948337285785},{"$f":"Sigma_hMin(X27,Y27,AG27,AE27,AK27,AL27,AJ27,AI27,Z27,IF(L27=1,mu_redLead,mu_millScale))","v":103.19522637047578},447.57425700238207,0.18736554853859808,144.90309482260429,{"$f":"tau_n(N27,W27,U27,D27)","v":103.07887398426587},{"$f":"tau_hMax(X27,Z27,AH27,W27,U27)","v":88.316242266976204},{"$f":"tau_hMin(X27,Y27,AS27,AE27,Z27,AI27,IF(L27=1,mu_redLead,mu_millScale),W27,U27)","v":32.262472821472009},56.053769445504194]
[18,"Kloppel1936","R; S",2,1,8.5,35,null,6,8,70,null,420,137.34,0.125,2252000,0,"P99T5","RZE_AS",18,0.70588235294117652,0.6071428571428571,0.24285714285714285,156.96,19.62,{"$f":"IF(OR(X28>=1.6*D28*AD28,D28=1),calcLoadFraction(G28,F28,I28,J28,K28,D28,1),\"Condition for spring model not fulfilled\")","v":0.51768155648140746},{"$f":"IF(L28>2,L28,IF(L28=2,1,sigma_cl0(I28+J28)))","v":112.45880410439175},{"$f":"Sigma_cl(AA28,U28,V28,X28)","v":99.699563983421442},{"$f":"Sigma_cl(AA28,U28,V28,Y28)","v":110.86389908927046},{"$f":"sigma_Slip(AB28,W28,U28,IF(L28=1,mu_redLead,mu_millScale))","v":23.483769225069082},{"$f":"sigma_Slip(AC28,W28,U28,IF(L28=1,mu_redLead,mu_millScale))","v":26.113476504638452},{"$f":"Sigma_p(AB28,V28)","v":-23.418885298804579},{"$f":"Sigma_p(AC28,V28)","v":-26.041326890673243},{"$f":"beta_1(X28,AD28,Z28)","v":0.710987836342167},{"$f":"beta_1(Y28,AE28,Z28)","v":0},{"$f":"k_tHole(W28,U28)","v":2.4340437317784254},{"$f":"K_t1Mu(Z28,AH28,D28,W28,U28,SIGN(X28),mu_millScale)","v":3.4101282378455822},{"$f":"K_t1Mu(Z28,AI28,D28,W28,U28,SIGN(Y28),mu_millScale)","v":1.804013957972991},{"$f":"Sigma_hMax(AK28,X28,AF28)","v":511.83484291343802},{"$f":"Sigma_hMin(X28,Y28,AG28,AE28,AK28,AL28,AJ28,AI28,Z28,IF(L28=1,mu_redLead,mu_millScale))","v":100.51233328048531},411.32250963295269,0.19637649658306683,133.34612119019025,{"$f":"tau_n(N28,W28,U28,D28)","v":96.206949051981482},{"$f":"tau_hMax(X28,Z28,AH28,W28,U28)","v":80.938145324458901},{"$f":"tau_hMin(X28,Y28,AS28,AE28,Z28,AI28,IF(L28=1,mu_redLead,mu_millScale),W28,U28)","v":30.808694888252031},50.129450436206866]
[19,"Kloppel1936","R; S",2,1,8.5,35,null,6,8,70,null,420,147.15,0.117647059,824000,1,"P99T5","RZE_AS",19,0.70588235294117652,0.6071428571428571,0.24285714285714285,166.77000003335402,19.620000033354003,{"$f":"IF(OR(X29>=1.6*D29*AD29,D29=1),calcLoadFraction(G29,F29,I29,J29,K29,D29,1),\"Condition for spring model not fulfilled\")","v":0.51768155648140746},{"$f":"IF(L29>2,L29,IF(L29=2,1,sigma_cl0(I29+J29)))","v":112.45880410439175},{"$f":"Sigma_cl(AA29,U29,V29,X29)","v":98.902111473149446},{"$f":"Sigma_cl(AA29,U29,V29,Y29)","v":110.86389908655912},{"$f":"sigma_Slip(AB29,W29,U29,IF(L29=1,mu_redLead,mu_millScale))","v":23.295932990175483},{"$f":"sigma_Slip(AC29,W29,U29,IF(L29=1,mu_redLead,mu_millScale))","v":26.113476503999809},{"$f":"Sigma_p(AB29,V29)","v":-23.231568041605652},{"$f":"Sigma_p(AC29,V29)","v":-26.041326890036366},{"$f":"beta_1(X29,AD29,Z29)","v":0.73016425060942536},{"$f":"beta_1(Y29,AE29,Z29)","v":0},{"$f":"k_tHole(W29,U29)","v":2.4340437317784254},{"$f":"K_t1Mu(Z29,AH29,D29,W29,U29,SIGN(X29),mu_millScale)","v":3.4418723469428745},{"$f":"K_t1Mu(Z29,AI29,D29,W29,U29,SIGN(Y29),mu_millScale)","v":1.804013957972991},{"$f":"Sigma_hMax(AK29,X29,AF29)","v":550.76948337285785},{"$f":"Sigma_hMin(X29,Y29,AG29,AE29,AK29,AL29,AJ29,AI29,Z29,IF(L29=1,mu_redLead,mu_millScale))","v":103.19522637047578},447.57425700238207,0.18736554853859808,144.90309482260429,{"$f":"tau_n(N29,W29,U29,D29)","v":103.07887398426587},{"$f":"tau_hMax(X29,Z29,AH29,W29,U29)","v":88.316242266976204},{"$f":"tau_hMin(X29,Y29,AS29,AE29,Z29,AI29,IF(L29=1,mu_redLead,mu_millScale),W29,U29)","v":32.262472821472009},56.053769445504194]
[20,"Kloppel1936","R; S",2,1,8.5,35,null,6,8,70,null,420,137.34,0.125,1117000,1,"P99T5","RZE_AS",20,0.70588235294117652,0.6071428571428571,0.24285714285714285,156.96,19.62,{"$f":"IF(OR(X30>=1.6*D30*AD30,D30=1),calcLoadFraction(G30,F30,I30,J30,K30,D30,1),\"Condition for spring model not fulfilled\")","v":0.51768155648140746},{"$f":"IF(L30>2,L30,IF(L30=2,1,sigma_cl0(I30+J30)))","v":112.45880410439175},{"$f":"Sigma_cl(AA30,U30,V30,X30)","v":99.699563983421442},{"$f":"Sigma_cl(AA30,U30,V30,Y30)","v":110.86389908927046},{"$f":"sigma_Slip(AB30,W30,U30,IF(L30=1,mu_redLead,mu_millScale))","v":23.483769225069082},{"$f":"sigma_Slip(AC30,W30,U30,IF(L30=1,mu_redLead,mu_millScale))","v":26.113476504638452},{"$f":"Sigma_p(AB30,V30)","v":-23.418885298804579},{"$f":"Sigma_p(AC30,V30)","v":-26.041326890673243},{"$f":"beta_1(X30,AD30,Z30)","v":0.710987836342167},{"$f":"beta_1(Y30,AE30,Z30)","v":0},{"$f":"k_tHole(W30,U30)","v":2.4340437317784254},{"$f":"K_t1Mu(Z30,AH30,D30,W30,U30,SIGN(X30),mu_millScale)","v":3.4101282378455822},{"$f":"K_t1Mu(Z30,AI30,D30,W30,U30,SIGN(Y30),mu_millScale)","v":1.804013957972991},{"$f":"Sigma_hMax(AK30,X30,AF30)","v":511.83484291343802},{"$f":"Sigma_hMin(X30,Y30,AG30,AE30,AK30,AL30,AJ30,AI30,Z30,IF(L30=1,mu_redLead,mu_millScale))","v":100.51233328048531},411.32250963295269,0.19637649658306683,133.34612119019025,{"$f":"tau_n(N30,W30,U30,D30)","v":96.206949051981482},{"$f":"tau_hMax(X30,Z30,AH30,W30,U30)","v":80.938145324458901},{"$f":"tau_hMin(X30,Y30,AS30,AE30,Z30,AI30,IF(L30=1,mu_redLead,mu_millScale),W30,U30)","v":30.808694888252031},50.129450436206866]
[21,"Kloppel1936","R; S",2,1,8.5,35,null,6,8,70,null,420,137.34,0.125,1603000,1,"P99T5","RZE_AS",21,0.70588235294117652,0.6071428571428571,0.24285714285714285,156.96,19.62,{"$f":"IF(OR(X31>=1.6*D31*AD31,D31=1),calcLoadFraction(G31,F31,I31,J31,K31,D31,1),\"Condition for spring model not fulfilled\")","v":0.51768155648140746},{"$f":"IF(L31>2,L31,IF(L31=2,1,sigma_cl0(I31+J31)))","v":112.45880410439175},{"$f":"Sigma_cl(AA31,U31,V31,X31)","v":99.699563983421442},{"$f":"Sigma_cl(AA31,U31,V31,Y31)","v":110.86389908927046},{"$f":"sigma_Slip(AB31,W31,U31,IF(L31=1,mu_redLead,mu_millScale))","v":23.483769225069082},{"$f":"sigma_Slip(AC31,W31,U31,IF(L31=1,mu_redLead,mu_millScale))","v":26.113476504638452},{"$f":"Sigma_p(AB31,V31)","v":-23.418885298804579},{"$f":"Sigma_p(AC31,V31)","v":-26.041326890673243},{"$f":"beta_1(X31,AD31,Z31)","v":0.710987836342167},{"$f":"beta_1(Y31,AE31,Z31)","v":0},{"$f":"k_tHole(W31,U31)","v":2.4340437317784254},{"$f":"K_t1Mu(Z31,AH31,D31,W31,U31,SIGN(X31),mu_millScale)","v":3.4101282378455822},{"$f":"K_t1Mu(Z31,AI31,D31,W31,U31,SIGN(Y31),mu_millScale)","v":1.804013957972991},{"$f":"Sigma_hMax(AK31,X31,AF31)","v":511.83484291343802},{"$f":"Sigma_hMin(X31,Y31,AG31,AE31,AK31,AL31,AJ31,AI31,Z31,IF(L31=1,mu_redLead,mu_millScale))","v":100.51233328048531},411.32250963295269,0.19637649658306683,133.34612119019025,{"$f":"tau_n(N31,W31,U31,D31)","v":96.206949051981482},{"$f":"tau_hMax(X31,Z31,AH31,W31,U31)","v":80.938145324458901},{"$f":"tau_hMin(X31,Y31,AS31,AE31,Z31,AI31,IF(L31=1,mu_redLead,mu_millScale),W31,U31)","v":30.808694888252031},50.129450436206866]
[22,"Kloppel1936","R; S",2,1,8.5,35,null,6,8,70,null,410,156.96,0.111111111,800000,1,"P99T4","RZE_ST37TH",22,0.70588235294117652,0.6071428571428571,0.24285714285714285,176.57999997792751,19.619999977927502,{"$f":"IF(OR(X32>=1.6*D32*AD32,D32=1),calcLoadFraction(G32,F32,I32,J32,K32,D32,1),\"Condition for spring model not fulfilled\")","v":0.51768155648140746},{"$f":"IF(L32>2,L32,IF(L32=2,1,sigma_cl0(I32+J32)))","v":112.45880410439175},{"$f":"Sigma_cl(AA32,U32,V32,X32)","v":98.10465897009442},{"$f":"Sigma_cl(AA32,U32,V32,Y32)","v":110.86389909106472},{"$f":"sigma_Slip(AB32,W32,U32,IF(L32=1,mu_redLead,mu_millScale))","v":23.108096756981805},{"$f":"sigma_Slip(AC32,W32,U32,IF(L32=1,mu_redLead,mu_millScale))","v":26.113476505061083},{"$f":"Sigma_p(AB32,V32)","v":-23.044250786101948},{"$f":"Sigma_p(AC32,V32)","v":-26.041326891094709},{"$f":"beta_1(X32,AD32,Z32)","v":0.74720995202818863},{"$f":"beta_1(Y32,AE32,Z32)","v":0},{"$f":"k_tHole(W32,U32)","v":2.4340437317784254},{"$f":"K_t1Mu(Z32,AH32,D32,W32,U32,SIGN(X32),mu_millScale)","v":3.4687143720151439},{"$f":"K_t1Mu(Z32,AI32,D32,W32,U32,SIGN(Y32),mu_millScale)","v":1.804013957972991},{"$f":"Sigma_hMax(AK32,X32,AF32)","v":589.46133294776905},{"$f":"Sigma_hMin(X32,Y32,AG32,AE32,AK32,AL32,AJ32,AI32,Z32,IF(L32=1,mu_redLead,mu_millScale))","v":105.5675622119071},483.89377073586195,0.17909158126451905,156.47168574590273,{"$f":"tau_n(N32,W32,U32,D32)","v":109.95079891655027},{"$f":"tau_hMax(X32,Z32,AH32,W32,U32)","v":95.694339142721702},{"$f":"tau_hMin(X32,Y32,AS32,AE32,Z32,AI32,IF(L32=1,mu_redLead,mu_millScale),W32,U32)","v":33.610078517599426},62.084260625122276]
[23,"Kloppel1936","R; S",2,1,8.5,35,null,6,8,70,null,410,156.96,0.111111111,1100000,1,"P99T4","RZE_ST37TH",23,0.70588235294117652,0.6071428571428571,0.24285714285714285,176.57999997792751,19.619999977927502,{"$f":"IF(OR(X33>=1.6*D33*AD33,D33=1),calcLoadFraction(G33,F33,I33,J33,K33,D33,1),\"Condition for spring model not fulfilled\")","v":0.51768155648140746},{"$f":"IF(L33>2,L33,IF(L33=2,1,sigma_cl0(I33+J33)))","v":112.45880410439175},{"$f":"Sigma_cl(AA33,U33,V33,X33)","v":98.10465897009442},{"$f":"Sigma_cl(AA33,U33,V33,Y33)","v":110.86389909106472},{"$f":"sigma_Slip(AB33,W33,U33,IF(L33=1,mu_redLead,mu_millScale))","v":23.108096756981805},{"$f":"sigma_Slip(AC33,W33,U33,IF(L33=1,mu_redLead,mu_millScale))","v":26.113476505061083},{"$f":"Sigma_p(AB33,V33)","v":-23.044250786101948},{"$f":"Sigma_p(AC33,V33)","v":-26.041326891094709},{"$f":"beta_1(X33,AD33,Z33)","v":0.74720995202818863},{"$f":"beta_1(Y33,AE33,Z33)","v":0},{"$f":"k_tHole(W33,U33)","v":2.4340437317784254},{"$f":"K_t1Mu(Z33,AH33,D33,W33,U33,SIGN(X33),mu_millScale)","v":3.4687143720151439},{"$f":"K_t1Mu(Z33,AI33,D33,W33,U33,SIGN(Y33),mu_millScale)","v":1.804013957972991},{"$f":"Sigma_hMax(AK33,X33,AF33)","v":589.46133294776905},{"$f":"Sigma_hMin(X33,Y33,AG33,AE33,AK33,AL33,AJ33,AI33,Z33,IF(L33=1,mu_redLead,mu_millScale))","v":105.5675622119071},483.89377073586195,0.17909158126451905,156.47168574590273,{"$f":"tau_n(N33,W33,U33,D33)","v":109.95079891655027},{"$f":"tau_hMax(X33,Z33,AH33,W33,U33)","v":95.694339142721702},{"$f":"tau_hMin(X33,Y33,AS33,AE33,Z33,AI33,IF(L33=1,mu_redLead,mu_millScale),W33,U33)","v":33.610078517599426},62.084260625122276]
[24,"Kloppel1936","R; S",2,1,8.5,35,null,6,8,70,null,410,147.15,0.117647059,900000,1,"P99T4","RZE_ST37TH",24,0.70588235294117652,0.6071428571428571,0.24285714285714285,166.77000003335402,19.620000033354003,{"$f":"IF(OR(X34>=1.6*D34*AD34,D34=1),calcLoadFraction(G34,F34,I34,J34,K34,D34,1),\"Condition for spring model not fulfilled\")","v":0.51768155648140746},{"$f":"IF(L34>2,L34,IF(L34=2,1,sigma_cl0(I34+J34)))","v":112.45880410439175},{"$f":"Sigma_cl(AA34,U34,V34,X34)","v":98.902111473149446},{"$f":"Sigma_cl(AA34,U34,V34,Y34)","v":110.86389908655912},{"$f":"sigma_Slip(AB34,W34,U34,IF(L34=1,mu_redLead,mu_millScale))","v":23.295932990175483},{"$f":"sigma_Slip(AC34,W34,U34,IF(L34=1,mu_redLead,mu_millScale))","v":26.113476503999809},{"$f":"Sigma_p(AB34,V34)","v":-23.231568041605652},{"$f":"Sigma_p(AC34,V34)","v":-26.041326890036366},{"$f":"beta_1(X34,AD34,Z34)","v":0.73016425060942536},{"$f":"beta_1(Y34,AE34,Z34)","v":0},{"$f":"k_tHole(W34,U34)","v":2.4340437317784254},{"$f":"K_t1Mu(Z34,AH34,D34,W34,U34,SIGN(X34),mu_millScale)","v":3.4418723469428745},{"$f":"K_t1Mu(Z34,AI34,D34,W34,U34,SIGN(Y34),mu_millScale)","v":1.804013957972991},{"$f":"Sigma_hMax(AK34,X34,AF34)","v":550.76948337285785},{"$f":"Sigma_hMin(X34,Y34,AG34,AE34,AK34,AL34,AJ34,AI34,Z34,IF(L34=1,mu_redLead,mu_millScale))","v":103.19522637047578},447.57425700238207,0.18736554853859808,144.90309482260429,{"$f":"tau_n(N34,W34,U34,D34)","v":103.07887398426587},{"$f":"tau_hMax(X34,Z34,AH34,W34,U34)","v":88.316242266976204},{"$f":"tau_hMin(X34,Y34,AS34,AE34,Z34,AI34,IF(L34=1,mu_redLead,mu_millScale),W34,U34)","v":32.262472821472009},56.053769445504194]
[25,"Kloppel1936","R; S",2,1,8.5,35,null,6,8,70,null,410,147.15,0.117647059,2200000,0,"P99T4","RZE_ST37TH",25,0.70588235294117652,0.6071428571428571,0.24285714285714285,166.77000003335402,19.620000033354003,{"$f":"IF(OR(X35>=1.6*D35*AD35,D35=1),calcLoadFraction(G35,F35,I35,J35,K35,D35,1),\"Condition for spring model not fulfilled\")","v":0.51768155648140746},{"$f":"IF(L35>2,L35,IF(L35=2,1,sigma_cl0(I35+J35)))","v":112.45880410439175},{"$f":"Sigma_cl(AA35,U35,V35,X35)","v":98.902111473149446},{"$f":"Sigma_cl(AA35,U35,V35,Y35)","v":110.86389908655912},{"$f":"sigma_Slip(AB35,W35,U35,IF(L35=1,mu_redLead,mu_millScale))","v":23.295932990175483},{"$f":"sigma_Slip(AC35,W35,U35,IF(L35=1,mu_redLead,mu_millScale))","v":26.113476503999809},{"$f":"Sigma_p(AB35,V35)","v":-23.231568041605652},{"$f":"Sigma_p(AC35,V35)","v":-26.041326890036366},{"$f":"beta_1(X35,AD35,Z35)","v":0.73016425060942536},{"$f":"beta_1(Y35,AE35,Z35)","v":0},{"$f":"k_tHole(W35,U35)","v":2.4340437317784254},{"$f":"K_t1Mu(Z35,AH35,D35,W35,U35,SIGN(X35),mu_millScale)","v":3.4418723469428745},{"$f":"K_t1Mu(Z35,AI35,D35,W35,U35,SIGN(Y35),mu_millScale)","v":1.804013957972991},{"$f":"Sigma_hMax(AK35,X35,AF35)","v":550.76948337285785},{"$f":"Sigma_hMin(X35,Y35,AG35,AE35,AK35,AL35,AJ35,AI35,Z35,IF(L35=1,mu_redLead,mu_millScale))","v":103.19522637047578},447.57425700238207,0.18736554853859808,144.90309482260429,{"$f":"tau_n(N35,W35,U35,D35)","v":103.07887398426587},{"$f":"tau_hMax(X35,Z35,AH35,W35,U35)","v":88.316242266976204},{"$f":"tau_hMin(X35,Y35,AS35,AE35,Z35,AI35,IF(L35=1,mu_redLead,mu_millScale),W35,U35)","v":32.262472821472009},56.053769445504194]
[26,"Kloppel1936","R; S",2,1,8.5,35,null,6,8,70,null,410,156.96,0.111111111,2000000,0,"P99T4","RZE_ST37TH",26,0.70588235294117652,0.6071428571428571,0.24285714285714285,176.57999997792751,19.619999977927502,{"$f":"IF(OR(X36>=1.6*D36*AD36,D36=1),calcLoadFraction(G36,F36,I36,J36,K36,D36,1),\"Condition for spring model not fulfilled\")","v":0.51768155648140746},{"$f":"IF(L36>2,L36,IF(L36=2,1,sigma_cl0(I36+J36)))","v":112.45880410439175},{"$f":"Sigma_cl(AA36,U36,V36,X36)","v":98.10465897009442},{"$f":"Sigma_cl(AA36,U36,V36,Y36)","v":110.86389909106472},{"$f":"sigma_Slip(AB36,W36,U36,IF(L36=1,mu_redLead,mu_millScale))","v":23.108096756981805},{"$f":"sigma_Slip(AC36,W36,U36,IF(L36=1,mu_redLead,mu_millScale))","v":26.113476505061083},{"$f":"Sigma_p(AB36,V36)","v":-23.044250786101948},{"$f":"Sigma_p(AC36,V36)","v":-26.041326891094709},{"$f":"beta_1(X36,AD36,Z36)","v":0.74720995202818863},{"$f":"beta_1(Y36,AE36,Z36)","v":0},{"$f":"k_tHole(W36,U36)","v":2.4340437317784254},{"$f":"K_t1Mu(Z36,AH36,D36,W36,U36,SIGN(X36),mu_millScale)","v":3.4687143720151439},{"$f":"K_t1Mu(Z36,AI36,D36,W36,U36,SIGN(Y36),mu_millScale)","v":1.804013957972991},{"$f":"Sigma_hMax(AK36,X36,AF36)","v":589.46133294776905},{"$f":"Sigma_hMin(X36,Y36,AG36,AE36,AK36,AL36,AJ36,AI36,Z36,IF(L36=1,mu_redLead,mu_millScale))","v":105.5675622119071},483.89377073586195,0.17909158126451905,156.47168574590273,{"$f":"tau_n(N36,W36,U36,D36)","v":109.95079891655027},{"$f":"tau_hMax(X36,Z36,AH36,W36,U36)","v":95.694339142721702},{"$f":"tau_hMin(X36,Y36,AS36,AE36,Z36,AI36,IF(L36=1,mu_redLead,mu_millScale),W36,U36)","v":33.610078517599426},62.084260625122276]
[27,"Kloppel1936","R; S",2,1,8.5,35,null,6,8,70,null,410,147.15,0.117647059,600000,1,"P99T4","RZE_ST37TH",27,0.70588235294117652,0.6071428571428571,0.24285714285714285,166.77000003335402,19.620000033354003,{"$f":"IF(OR(X37>=1.6*D37*AD37,D37=1),calcLoadFraction(G37,F37,I37,J37,K37,D37,1),\"Condition for spring model not fulfilled\")","v":0.51768155648140746},{"$f":"IF(L37>2,L37,IF(L37=2,1,sigma_cl0(I37+J37)))","v":112.45880410439175},{"$f":"Sigma_cl(AA37,U37,V37,X37)","v":98.902111473149446},{"$f":"Sigma_cl(AA37,U37,V37,Y37)","v":110.86389908655912},{"$f":"sigma_Slip(AB37,W37,U37,IF(L37=1,mu_redLead,mu_millScale))","v":23.295932990175483},{"$f":"sigma_Slip(AC37,W37,U37,IF(L37=1,mu_redLead,mu_millScale))","v":26.113476503999809},{"$f":"Sigma_p(AB37,V37)","v":-23.231568041605652},{"$f":"Sigma_p(AC37,V37)","v":-26.041326890036366},{"$f":"beta_1(X37,AD37,Z37)","v":0.73016425060942536},{"$f":"beta_1(Y37,AE37,Z37)","v":0},{"$f":"k_tHole(W37,U37)","v":2.4340437317784254},{"$f":"K_t1Mu(Z37,AH37,D37,W37,U37,SIGN(X37),mu_millScale)","v":3.4418723469428745},{"$f":"K_t1Mu(Z37,AI37,D37,W37,U37,SIGN(Y37),mu_millScale)","v":1.804013957972991},{"$f":"Sigma_hMax(AK37,X37,AF37)","v":550.76948337285785},{"$f":"Sigma_hMin(X37,Y37,AG37,AE37,AK37,AL37,AJ37,AI37,Z37,IF(L37=1,mu_redLead,mu_millScale))","v":103.19522637047578},447.57425700238207,0.18736554853859808,144.90309482260429,{"$f":"tau_n(N37,W37,U37,D37)","v":103.07887398426587},{"$f":"tau_hMax(X37,Z37,AH37,W37,U37)","v":88.316242266976204},{"$f":"tau_hMin(X37,Y37,AS37,AE37,Z37,AI37,IF(L37=1,mu_redLead,mu_millScale),W37,U37)","v":32.262472821472009},56.053769445504194]
[28,"Kloppel1936","R; S",2,1,8.5,35,null,6,8,70,null,410,137.34,0.125,1300000,1,"P99T4","RZE_ST37TH",28,0.70588235294117652,0.6071428571428571,0.24285714285714285,156.96,19.62,{"$f":"IF(OR(X38>=1.6*D38*AD38,D38=1),calcLoadFraction(G38,F38,I38,J38,K38,D38,1),\"Condition for spring model not fulfilled\")","v":0.51768155648140746},{"$f":"IF(L38>2,L38,IF(L38=2,1,sigma_cl0(I38+J38)))","v":112.45880410439175},{"$f":"Sigma_cl(AA38,U38,V38,X38)","v":99.699563983421442},{"$f":"Sigma_cl(AA38,U38,V38,Y38)","v":110.86389908927046},{"$f":"sigma_Slip(AB38,W38,U38,IF(L38=1,mu_redLead,mu_millScale))","v":23.483769225069082},{"$f":"sigma_Slip(AC38,W38,U38,IF(L38=1,mu_redLead,mu_millScale))","v":26.113476504638452},{"$f":"Sigma_p(AB38,V38)","v":-23.418885298804579},{"$f":"Sigma_p(AC38,V38)","v":-26.041326890673243},{"$f":"beta_1(X38,AD38,Z38)","v":0.710987836342167},{"$f":"beta_1(Y38,AE38,Z38)","v":0},{"$f":"k_tHole(W38,U38)","v":2.4340437317784254},{"$f":"K_t1Mu(Z38,AH38,D38,W38,U38,SIGN(X38),mu_millScale)","v":3.4101282378455822},{"$f":"K_t1Mu(Z38,AI38,D38,W38,U38,SIGN(Y38),mu_millScale)","v":1.804013957972991},{"$f":"Sigma_hMax(AK38,X38,AF38)","v":511.83484291343802},{"$f":"Sigma_hMin(X38,Y38,AG38,AE38,AK38,AL38,AJ38,AI38,Z38,IF(L38=1,mu_redLead,mu_millScale))","v":100.51233328048531},411.32250963295269,0.19637649658306683,133.34612119019025,{"$f":"tau_n(N38,W38,U38,D38)","v":96.206949051981482},{"$f":"tau_hMax(X38,Z38,AH38,W38,U38)","v":80.938145324458901},{"$f":"tau_hMin(X38,Y38,AS38,AE38,Z38,AI38,IF(L38=1,mu_redLead,mu_millScale),W38,U38)","v":30.808694888252031},50.129450436206866]
[29,"Kloppel1936","R; S",2,1,8.5,35,null,6,8,70,null,410,127.53,0.133333333,1700000,1,"P99T4","RZE_ST37TH",29,0.70588235294117652,0.6071428571428571,0.24285714285714285,147.14999994340383,19.619999943403844,{"$f":"IF(OR(X39>=1.6*D39*AD39,D39=1),calcLoadFraction(G39,F39,I39,J39,K39,D39,1),\"Condition for spring model not fulfilled\")","v":0.51768155648140746},{"$f":"IF(L39>2,L39,IF(L39=2,1,sigma_cl0(I39+J39)))","v":112.45880410439175},{"$f":"Sigma_cl(AA39,U39,V39,X39)","v":100.49701649558277},{"$f":"Sigma_cl(AA39,U39,V39,Y39)","v":110.86389909387114},{"$f":"sigma_Slip(AB39,W39,U39,IF(L39=1,mu_redLead,mu_millScale))","v":23.671605460407708},{"$f":"sigma_Slip(AC39,W39,U39,IF(L39=1,mu_redLead,mu_millScale))","v":26.113476505722122},{"$f":"Sigma_p(AB39,V39)","v":-23.606202556447304},{"$f":"Sigma_p(AC39,V39)","v":-26.041326891753918},{"$f":"beta_1(X39,AD39,Z39)","v":0.68925456677507746},{"$f":"beta_1(Y39,AE39,Z39)","v":0},{"$f":"k_tHole(W39,U39)","v":2.4340437317784254},{"$f":"K_t1Mu(Z39,AH39,D39,W39,U39,SIGN(X39),mu_millScale)","v":3.3722681976616999},{"$f":"K_t1Mu(Z39,AI39,D39,W39,U39,SIGN(Y39),mu_millScale)","v":1.804013957972991},{"$f":"Sigma_hMax(AK39,X39,AF39)","v":472.62306253861436},{"$f":"Sigma_hMin(X39,Y39,AG39,AE39,AK39,AL39,AJ39,AI39,Z39,IF(L39=1,mu_redLead,mu_millScale))","v":97.458806405737874},375.16425613287652,0.20620831722060806,121.80700530805387,{"$f":"tau_n(N39,W39,U39,D39)","v":89.335024119697081},{"$f":"tau_hMax(X39,Z39,AH39,W39,U39)","v":73.560048364461181},{"$f":"tau_hMin(X39,Y39,AS39,AE39,Z39,AI39,IF(L39=1,mu_redLead,mu_millScale),W39,U39)","v":29.234168323367385},44.325880041093797]
[30,"Kloppel1936","R; S",2,1,8.5,35,null,6,8,70,null,410,119.77200000000001,0.14285714299999999,2000000,0,"P99T4","RZE_ST37TH",30,0.70588235294117652,0.6071428571428571,0.24285714285714285,139.73400002328901,19.962000023289001,{"$f":"IF(OR(X40>=1.6*D40*AD40,D40=1),calcLoadFraction(G40,F40,I40,J40,K40,D40,1),\"Condition for spring model not fulfilled\")","v":0.51768155648140746},{"$f":"IF(L40>2,L40,IF(L40=2,1,sigma_cl0(I40+J40)))","v":112.45880410439175},{"$f":"Sigma_cl(AA40,U40,V40,X40)","v":101.09986132049256},{"$f":"Sigma_cl(AA40,U40,V40,Y40)","v":110.83609799078344},{"$f":"sigma_Slip(AB40,W40,U40,IF(L40=1,mu_redLead,mu_millScale))","v":23.813602758902043},{"$f":"sigma_Slip(AC40,W40,U40,IF(L40=1,mu_redLead,mu_millScale))","v":26.106928085016669},{"$f":"Sigma_p(AB40,V40)","v":-23.747807526855077},{"$f":"Sigma_p(AC40,V40)","v":-26.034796563852993},{"$f":"beta_1(X40,AD40,Z40)","v":0.67079962531010462},{"$f":"beta_1(Y40,AE40,Z40)","v":0},{"$f":"k_tHole(W40,U40)","v":2.4340437317784254},{"$f":"K_t1Mu(Z40,AH40,D40,W40,U40,SIGN(X40),mu_millScale)","v":3.338630533598602},{"$f":"K_t1Mu(Z40,AI40,D40,W40,U40,SIGN(Y40),mu_millScale)","v":1.804013957972991},{"$f":"Sigma_hMax(AK40,X40,AF40)","v":442.77239153276537},{"$f":"Sigma_hMin(X40,Y40,AG40,AE40,AK40,AL40,AJ40,AI40,Z40,IF(L40=1,mu_redLead,mu_millScale))","v":95.838924712283159},346.93346682048218,0.21645189841334322,112.82194914294637,{"$f":"tau_n(N40,W40,U40,D40)","v":83.900529356734566},{"$f":"tau_hMax(X40,Z40,AH40,W40,U40)","v":67.982477910814566},{"$f":"tau_hMin(X40,Y40,AS40,AE40,Z40,AI40,IF(L40=1,mu_redLead,mu_millScale),W40,U40)","v":28.071795559297975},39.910682351516591]
[31,"Kloppel1936","R; S",2,1,8.5,35,null,6,8,70,null,410,127.53,0.133333333,1800000,1,"P99T4","RZE_ST37TH",31,0.70588235294117652,0.6071428571428571,0.24285714285714285,147.14999994340383,19.619999943403844,{"$f":"IF(OR(X41>=1.6*D41*AD41,D41=1),calcLoadFraction(G41,F41,I41,J41,K41,D41,1),\"Condition for spring model not fulfilled\")","v":0.51768155648140746},{"$f":"IF(L41>2,L41,IF(L41=2,1,sigma_cl0(I41+J41)))","v":112.45880410439175},{"$f":"Sigma_cl(AA41,U41,V41,X41)","v":100.49701649558277},{"$f":"Sigma_cl(AA41,U41,V41,Y41)","v":110.86389909387114},{"$f":"sigma_Slip(AB41,W41,U41,IF(L41=1,mu_redLead,mu_millScale))","v":23.671605460407708},{"$f":"sigma_Slip(AC41,W41,U41,IF(L41=1,mu_redLead,mu_millScale))","v":26.113476505722122},{"$f":"Sigma_p(AB41,V41)","v":-23.606202556447304},{"$f":"Sigma_p(AC41,V41)","v":-26.041326891753918},{"$f":"beta_1(X41,AD41,Z41)","v":0.68925456677507746},{"$f":"beta_1(Y41,AE41,Z41)","v":0},{"$f":"k_tHole(W41,U41)","v":2.4340437317784254},{"$f":"K_t1Mu(Z41,AH41,D41,W41,U41,SIGN(X41),mu_millScale)","v":3.3722681976616999},{"$f":"K_t1Mu(Z41,AI41,D41,W41,U41,SIGN(Y41),mu_millScale)","v":1.804013957972991},{"$f":"Sigma_hMax(AK41,X41,AF41)","v":472.62306253861436},{"$f":"Sigma_hMin(X41,Y41,AG41,AE41,AK41,AL41,AJ41,AI41,Z41,IF(L41=1,mu_redLead,mu_millScale))","v":97.458806405737874},375.16425613287652,0.20620831722060806,121.80700530805387,{"$f":"tau_n(N41,W41,U41,D41)","v":89.335024119697081},{"$f":"tau_hMax(X41,Z41,AH41,W41,U41)","v":73.560048364461181},{"$f":"tau_hMin(X41,Y41,AS41,AE41,Z41,AI41,IF(L41=1,mu_redLead,mu_millScale),W41,U41)","v":29.234168323367385},44.325880041093797]
[32,"Kloppel1936","R; S",2,1,8.5,35,null,6,8,70,null,410,130.47300000000001,0.26111111100000001,1600000,1,"P99T4","RZE_ST37TH",32,0.70588235294117652,0.6071428571428571,0.24285714285714285,176.57999997344663,46.106999973446619,{"$f":"IF(OR(X42>=1.6*D42*AD42,D42=1),calcLoadFraction(G42,F42,I42,J42,K42,D42,1),\"Condition for spring model not fulfilled\")","v":0.51768155648140746},{"$f":"IF(L42>2,L42,IF(L42=2,1,sigma_cl0(I42+J42)))","v":112.45880410439175},{"$f":"Sigma_cl(AA42,U42,V42,X42)","v":98.104658970458672},{"$f":"Sigma_cl(AA42,U42,V42,Y42)","v":108.71077732101523},{"$f":"sigma_Slip(AB42,W42,U42,IF(L42=1,mu_redLead,mu_millScale))","v":23.108096757067603},{"$f":"sigma_Slip(AC42,W42,U42,IF(L42=1,mu_redLead,mu_millScale))","v":25.606318672658503},{"$f":"Sigma_p(AB42,V42)","v":-23.044250786187511},{"$f":"Sigma_p(AC42,V42)","v":-25.535570298462737},{"$f":"beta_1(X42,AD42,Z42)","v":0.74720995202083529},{"$f":"beta_1(Y42,AE42,Z42)","v":0},{"$f":"k_tHole(W42,U42)","v":2.4340437317784254},{"$f":"K_t1Mu(Z42,AH42,D42,W42,U42,SIGN(X42),mu_millScale)","v":3.4687143720038525},{"$f":"K_t1Mu(Z42,AI42,D42,W42,U42,SIGN(Y42),mu_millScale)","v":1.804013957972991},{"$f":"Sigma_hMax(AK42,X42,AF42)","v":589.46133293014668},{"$f":"Sigma_hMin(X42,Y42,AG42,AE42,AK42,AL42,AJ42,AI42,Z42,IF(L42=1,mu_redLead,mu_millScale))","v":186.37677096465575},403.08456196549093,0.31618150428662989,133.45640476644195,{"$f":"tau_n(N42,W42,U42,D42)","v":91.396601599382407},{"$f":"tau_hMax(X42,Z42,AH42,W42,U42)","v":95.694339139351641},{"$f":"tau_hMin(X42,Y42,AS42,AE42,Z42,AI42,IF(L42=1,mu_redLead,mu_millScale),W42,U42)","v":44.47781835840172},51.216520780949921]
[33,"Kloppel1936","R; S",2,1,8.5,35,null,6,8,70,null,410,120.663,0.27647058800000002,2000000,0,"P99T4","RZE_ST37TH",33,0.70588235294117652,0.6071428571428571,0.24285714285714285,166.76999994576585,46.106999945765857,{"$f":"IF(OR(X43>=1.6*D43*AD43,D43=1),calcLoadFraction(G43,F43,I43,J43,K43,D43,1),\"Condition for spring model not fulfilled\")","v":0.51768155648140746},{"$f":"IF(L43>2,L43,IF(L43=2,1,sigma_cl0(I43+J43)))","v":112.45880410439175},{"$f":"Sigma_cl(AA43,U43,V43,X43)","v":98.902111480269468},{"$f":"Sigma_cl(AA43,U43,V43,Y43)","v":108.7107773232654},{"$f":"sigma_Slip(AB43,W43,U43,IF(L43=1,mu_redLead,mu_millScale))","v":23.29593299185257},{"$f":"sigma_Slip(AC43,W43,U43,IF(L43=1,mu_redLead,mu_millScale))","v":25.606318673188522},{"$f":"Sigma_p(AB43,V43)","v":-23.231568043278106},{"$f":"Sigma_p(AC43,V43)","v":-25.535570298991292},{"$f":"beta_1(X43,AD43,Z43)","v":0.73016425044828104},{"$f":"beta_1(Y43,AE43,Z43)","v":0},{"$f":"k_tHole(W43,U43)","v":2.4340437317784254},{"$f":"K_t1Mu(Z43,AH43,D43,W43,U43,SIGN(X43),mu_millScale)","v":3.4418723466829033},{"$f":"K_t1Mu(Z43,AI43,D43,W43,U43,SIGN(Y43),mu_millScale)","v":1.804013957972991},{"$f":"Sigma_hMax(AK43,X43,AF43)","v":550.76948302636265},{"$f":"Sigma_hMin(X43,Y43,AG43,AE43,AK43,AL43,AJ43,AI43,Z43,IF(L43=1,mu_redLead,mu_millScale))","v":182.95470240213487},367.81478062422775,0.33218017344903933,122.18678824824089,{"$f":"tau_n(N43,W43,U43,D43)","v":84.524676667098007},{"$f":"tau_hMax(X43,Z43,AH43,W43,U43)","v":88.316242201101176},{"$f":"tau_hMin(X43,Y43,AS43,AE43,Z43,AI43,IF(L43=1,mu_redLead,mu_millScale),W43,U43)","v":42.701906454085332},45.614335747015843]
[34,"Kloppel1936","R; S",2,1,8.5,35,null,6,8,70,null,410,130.47300000000001,0.26111111100000001,1900000,1,"P99T4","RZE_ST37TH",34,0.70588235294117652,0.6071428571428571,0.24285714285714285,176.57999997344663,46.106999973446619,{"$f":"IF(OR(X44>=1.6*D44*AD44,D44=1),calcLoadFraction(G44,F44,I44,J44,K44,D44,1),\"Condition for spring model not fulfilled\")","v":0.51768155648140746},{"$f":"IF(L44>2,L44,IF(L44=2,1,sigma_cl0(I44+J44)))","v":112.45880410439175},{"$f":"Sigma_cl(AA44,U44,V44,X44)","v":98.104658970458672},{"$f":"Sigma_cl(AA44,U44,V44,Y44)","v":108.71077732101523},{"$f":"sigma_Slip(AB44,W44,U44,IF(L44=1,mu_redLead,mu_millScale))","v":23.108096757067603},{"$f":"sigma_Slip(AC44,W44,U44,IF(L44=1,mu_redLead,mu_millScale))","v":25.606318672658503},{"$f":"Sigma_p(AB44,V44)","v":-23.044250786187511},{"$f":"Sigma_p(AC44,V44)","v":-25.535570298462737},{"$f":"beta_1(X44,AD44,Z44)","v":0.74720995202083529},{"$f":"beta_1(Y44,AE44,Z44)","v":0},{"$f":"k_tHole(W44,U44)","v":2.4340437317784254},{"$f":"K_t1Mu(Z44,AH44,D44,W44,U44,SIGN(X44),mu_millScale)","v":3.4687143720038525},{"$f":"K_t1Mu(Z44,AI44,D44,W44,U44,SIGN(Y44),mu_millScale)","v":1.804013957972991},{"$f":"Sigma_hMax(AK44,X44,AF44)","v":589.46133293014668},{"$f":"Sigma_hMin(X44,Y44,AG44,AE44,AK44,AL44,AJ44,AI44,Z44,IF(L44=1,mu_redLead,mu_millScale))","v":186.37677096465575},403.08456196549093,0.31618150428662989,133.45640476644195,{"$f":"tau_n(N44,W44,U44,D44)","v":91.396601599382407},{"$f":"tau_hMax(X44,Z44,AH44,W44,U44)","v":95.694339139351641},{"$f":"tau_hMin(X44,Y44,AS44,AE44,Z44,AI44,IF(L44=1,mu_redLead,mu_millScale),W44,U44)","v":44.47781835840172},51.216520780949921]
[35,"Kloppel1936","R; S",2,1,8.5,35,null,6,8,70,null,410,120.663,0.27647058800000002,2000000,0,"P99T4","RZE_ST37TH",35,0.70588235294117652,0.6071428571428571,0.24285714285714285,166.76999994576585,46.106999945765857,{"$f":"IF(OR(X45>=1.6*D45*AD45,D45=1),calcLoadFraction(G45,F45,I45,J45,K45,D45,1),\"Condition for spring model not fulfilled\")","v":0.51768155648140746},{"$f":"IF(L45>2,L45,IF(L45=2,1,sigma_cl0(I45+J45)))","v":112.45880410439175},{"$f":"Sigma_cl(AA45,U45,V45,X45)","v":98.902111480269468},{"$f":"Sigma_cl(AA45,U45,V45,Y45)","v":108.7107773232654},{"$f":"sigma_Slip(AB45,W45,U45,IF(L45=1,mu_redLead,mu_millScale))","v":23.29593299185257},{"$f":"sigma_Slip(AC45,W45,U45,IF(L45=1,mu_redLead,mu_millScale))","v":25.606318673188522},{"$f":"Sigma_p(AB45,V45)","v":-23.231568043278106},{"$f":"Sigma_p(AC45,V45)","v":-25.535570298991292},{"$f":"beta_1(X45,AD45,Z45)","v":0.73016425044828104},{"$f":"beta_1(Y45,AE45,Z45)","v":0},{"$f":"k_tHole(W45,U45)","v":2.4340437317784254},{"$f":"K_t1Mu(Z45,AH45,D45,W45,U45,SIGN(X45),mu_millScale)","v":3.4418723466829033},{"$f":"K_t1Mu(Z45,AI45,D45,W45,U45,SIGN(Y45),mu_millScale)","v":1.804013957972991},{"$f":"Sigma_hMax(AK45,X45,AF45)","v":550.76948302636265},{"$f":"Sigma_hMin(X45,Y45,AG45,AE45,AK45,AL45,AJ45,AI45,Z45,IF(L45=1,mu_redLead,mu_millScale))","v":182.95470240213487},367.81478062422775,0.33218017344903933,122.18678824824089,{"$f":"tau_n(N45,W45,U45,D45)","v":84.524676667098007},{"$f":"tau_hMax(X45,Z45,AH45,W45,U45)","v":88.316242201101176},{"$f":"tau_hMin(X45,Y45,AS45,AE45,Z45,AI45,IF(L45=1,mu_redLead,mu_millScale),W45,U45)","v":42.701906454085332},45.614335747015843]
[36,"Kloppel1936","R; S",2,1,8.5,35,null,6,8,70,null,410,130.47300000000001,0.26111111100000001,2000000,0,"P99T4","RZE_ST37TH",36,0.70588235294117652,0.6071428571428571,0.24285714285714285,176.57999997344663,46.106999973446619,{"$f":"IF(OR(X46>=1.6*D46*AD46,D46=1),calcLoadFraction(G46,F46,I46,J46,K46,D46,1),\"Condition for spring model not fulfilled\")","v":0.51768155648140746},{"$f":"IF(L46>2,L46,IF(L46=2,1,sigma_cl0(I46+J46)))","v":112.45880410439175},{"$f":"Sigma_cl(AA46,U46,V46,X46)","v":98.104658970458672},{"$f":"Sigma_cl(AA46,U46,V46,Y46)","v":108.71077732101523},{"$f":"sigma_Slip(AB46,W46,U46,IF(L46=1,mu_redLead,mu_millScale))","v":23.108096757067603},{"$f":"sigma_Slip(AC46,W46,U46,IF(L46=1,mu_redLead,mu_millScale))","v":25.606318672658503},{"$f":"Sigma_p(AB46,V46)","v":-23.044250786187511},{"$f":"Sigma_p(AC46,V46)","v":-25.535570298462737},{"$f":"beta_1(X46,AD46,Z46)","v":0.74720995202083529},{"$f":"beta_1(Y46,AE46,Z46)","v":0},{"$f":"k_tHole(W46,U46)","v":2.4340437317784254},{"$f":"K_t1Mu(Z46,AH46,D46,W46,U46,SIGN(X46),mu_millScale)","v":3.4687143720038525},{"$f":"K_t1Mu(Z46,AI46,D46,W46,U46,SIGN(Y46),mu_millScale)","v":1.804013957972991},{"$f":"Sigma_hMax(AK46,X46,AF46)","v":589.46133293014668},{"$f":"Sigma_hMin(X46,Y46,AG46,AE46,AK46,AL46,AJ46,AI46,Z46,IF(L46=1,mu_redLead,mu_millScale))","v":186.37677096465575},403.08456196549093,0.31618150428662989,133.45640476644195,{"$f":"tau_n(N46,W46,U46,D46)","v":91.396601599382407},{"$f":"tau_hMax(X46,Z46,AH46,W46,U46)","v":95.694339139351641},{"$f":"tau_hMin(X46,Y46,AS46,AE46,Z46,AI46,IF(L46=1,mu_redLead,mu_millScale),W46,U46)","v":44.47781835840172},51.216520780949921]
[37,"Kloppel1936","R; S",2,1,8.5,35,null,6,8,70,null,410,140.28299999999999,0.247368421,900000,1,"P99T4","RZE_ST37TH",37,0.70588235294117652,0.6071428571428571,0.24285714285714285,186.38999998696571,46.106999986965725,{"$f":"IF(OR(X47>=1.6*D47*AD47,D47=1),calcLoadFraction(G47,F47,I47,J47,K47,D47,1),\"Condition for spring model not fulfilled\")","v":0.51768155648140746},{"$f":"IF(L47>2,L47,IF(L47=2,1,sigma_cl0(I47+J47)))","v":112.45880410439175},{"$f":"Sigma_cl(AA47,U47,V47,X47)","v":97.307206461799055},{"$f":"Sigma_cl(AA47,U47,V47,Y47)","v":108.71077731991628},{"$f":"sigma_Slip(AB47,W47,U47,IF(L47=1,mu_redLead,mu_millScale))","v":22.920260522553789},{"$f":"sigma_Slip(AC47,W47,U47,IF(L47=1,mu_redLead,mu_millScale))","v":25.606318672399649},{"$f":"Sigma_p(AB47,V47)","v":-22.856933529367321},{"$f":"Sigma_p(AC47,V47)","v":-25.5355702982046},{"$f":"beta_1(X47,AD47,Z47)","v":0.76246136919142105},{"$f":"beta_1(Y47,AE47,Z47)","v":0},{"$f":"k_tHole(W47,U47)","v":2.4340437317784254},{"$f":"K_t1Mu(Z47,AH47,D47,W47,U47,SIGN(X47),mu_millScale)","v":3.4915864866828716},{"$f":"K_t1Mu(Z47,AI47,D47,W47,U47,SIGN(Y47),mu_millScale)","v":1.804013957972991},{"$f":"Sigma_hMax(AK47,X47,AF47)","v":627.93987167794273},{"$f":"Sigma_hMin(X47,Y47,AG47,AE47,AK47,AL47,AJ47,AI47,Z47,IF(L47=1,mu_redLead,mu_millScale))","v":189.41899983952379},438.52087183841894,0.3016514930535783,144.76669994378838,{"$f":"tau_n(N47,W47,U47,D47)","v":98.268526531666794},{"$f":"tau_hMax(X47,Z47,AH47,W47,U47)","v":103.0724360669511},{"$f":"tau_hMin(X47,Y47,AS47,AE47,Z47,AI47,IF(L47=1,mu_redLead,mu_millScale),W47,U47)","v":46.129526598628402},56.942909468322696]
[38,"Kloppel1936","R; S",2,1,8.5,35,null,6,8,70,null,550,166.77,0.105263158,2246000,0,"P99T6","RZE_ST52A",38,0.70588235294117652,0.6071428571428571,0.24285714285714285,186.39000002192824,19.620000021928234,{"$f":"IF(OR(X48>=1.6*D48*AD48,D48=1),calcLoadFraction(G48,F48,I48,J48,K48,D48,1),\"Condition for spring model not fulfilled\")","v":0.51768155648140746},{"$f":"IF(L48>2,L48,IF(L48=2,1,sigma_cl0(I48+J48)))","v":112.45880410439175},{"$f":"Sigma_cl(AA48,U48,V48,X48)","v":97.307206458956969},{"$f":"Sigma_cl(AA48,U48,V48,Y48)","v":110.86389908748792},{"$f":"sigma_Slip(AB48,W48,U48,IF(L48=1,mu_redLead,mu_millScale))","v":22.920260521884352},{"$f":"sigma_Slip(AC48,W48,U48,IF(L48=1,mu_redLead,mu_millScale))","v":26.113476504218585},{"$f":"Sigma_p(AB48,V48)","v":-22.856933528699731},{"$f":"Sigma_p(AC48,V48)","v":-26.041326890254535},{"$f":"beta_1(X48,AD48,Z48)","v":0.76246136924291574},{"$f":"beta_1(Y48,AE48,Z48)","v":0},{"$f":"k_tHole(W48,U48)","v":2.4340437317784254},{"$f":"K_t1Mu(Z48,AH48,D48,W48,U48,SIGN(X48),mu_millScale)","v":3.4915864867582243},{"$f":"K_t1Mu(Z48,AI48,D48,W48,U48,SIGN(Y48),mu_millScale)","v":1.804013957972991},{"$f":"Sigma_hMax(AK48,X48,AF48)","v":627.93987181473005},{"$f":"Sigma_hMin(X48,Y48,AG48,AE48,AK48,AL48,AJ48,AI48,Z48,IF(L48=1,mu_redLead,mu_millScale))","v":107.67765664874663},520.26221516598343,0.17147765491871217,168.04746228824621,{"$f":"tau_n(N48,W48,U48,D48)","v":116.82272384883466},{"$f":"tau_hMax(X48,Z48,AH48,W48,U48)","v":103.0724360932464},{"$f":"tau_hMin(X48,Y48,AS48,AE48,Z48,AI48,IF(L48=1,mu_redLead,mu_millScale),W48,U48)","v":34.863776648687399},68.208659444559004]
[39,"Kloppel1936","R; S",2,1,8.5,35,null,6,8,70,null,550,176.58,0.1,1359000,1,"P99T6","RZE_ST52A",39,0.70588235294117652,0.6071428571428571,0.24285714285714285,196.20000000000002,19.620000000000005,{"$f":"IF(OR(X49>=1.6*D49*AD49,D49=1),calcLoadFraction(G49,F49,I49,J49,K49,D49,1),\"Condition for spring model not fulfilled\")","v":0.51768155648140746},{"$f":"IF(L49>2,L49,IF(L49=2,1,sigma_cl0(I49+J49)))","v":112.45880410439175},{"$f":"Sigma_cl(AA49,U49,V49,X49)","v":96.509753953178858},{"$f":"Sigma_cl(AA49,U49,V49,Y49)","v":110.86389908927046},{"$f":"sigma_Slip(AB49,W49,U49,IF(L49=1,mu_redLead,mu_millScale))","v":22.732424288049263},{"$f":"sigma_Slip(AC49,W49,U49,IF(L49=1,mu_redLead,mu_millScale))","v":26.113476504638452},{"$f":"Sigma_p(AB49,V49)","v":-22.669616272556389},{"$f":"Sigma_p(AC49,V49)","v":-26.041326890673243},{"$f":"beta_1(X49,AD49,Z49)","v":0.7761876446422058},{"$f":"beta_1(Y49,AE49,Z49)","v":0},{"$f":"k_tHole(W49,U49)","v":2.4340437317784254},{"$f":"K_t1Mu(Z49,AH49,D49,W49,U49,SIGN(X49),mu_millScale)","v":3.51121295498276},{"$f":"K_t1Mu(Z49,AI49,D49,W49,U49,SIGN(Y49),mu_millScale)","v":1.804013957972991},{"$f":"Sigma_hMax(AK49,X49,AF49)","v":666.23036549506116},{"$f":"Sigma_hMin(X49,Y49,AG49,AE49,AK49,AL49,AJ49,AI49,Z49,IF(L49=1,mu_redLead,mu_millScale))","v":109.56468908659321},556.66567640846802,0.16445466127197322,179.62726117630615,{"$f":"tau_n(N49,W49,U49,D49)","v":123.69464878111906},{"$f":"tau_hMax(X49,Z49,AH49,W49,U49)","v":110.45053299418595},{"$f":"tau_hMin(X49,Y49,AS49,AE49,Z49,AI49,IF(L49=1,mu_redLead,mu_millScale),W49,U49)","v":36.033965615724277},74.416567378461679]
[40,"Kloppel1936","R; S",2,1,8.5,35,null,6,8,70,null,550,166.77,0.105263158,498000,1,"P99T6","RZE_ST52A",40,0.70588235294117652,0.6071428571428571,0.24285714285714285,186.39000002192824,19.620000021928234,{"$f":"IF(OR(X50>=1.6*D50*AD50,D50=1),calcLoadFraction(G50,F50,I50,J50,K50,D50,1),\"Condition for spring model not fulfilled\")","v":0.51768155648140746},{"$f":"IF(L50>2,L50,IF(L50=2,1,sigma_cl0(I50+J50)))","v":112.45880410439175},{"$f":"Sigma_cl(AA50,U50,V50,X50)","v":97.307206458956969},{"$f":"Sigma_cl(AA50,U50,V50,Y50)","v":110.86389908748792},{"$f":"sigma_Slip(AB50,W50,U50,IF(L50=1,mu_redLead,mu_millScale))","v":22.920260521884352},{"$f":"sigma_Slip(AC50,W50,U50,IF(L50=1,mu_redLead,mu_millScale))","v":26.113476504218585},{"$f":"Sigma_p(AB50,V50)","v":-22.856933528699731},{"$f":"Sigma_p(AC50,V50)","v":-26.041326890254535},{"$f":"beta_1(X50,AD50,Z50)","v":0.76246136924291574},{"$f":"beta_1(Y50,AE50,Z50)","v":0},{"$f":"k_tHole(W50,U50)","v":2.4340437317784254},{"$f":"K_t1Mu(Z50,AH50,D50,W50,U50,SIGN(X50),mu_millScale)","v":3.4915864867582243},{"$f":"K_t1Mu(Z50,AI50,D50,W50,U50,SIGN(Y50),mu_millScale)","v":1.804013957972991},{"$f":"Sigma_hMax(AK50,X50,AF50)","v":627.93987181473005},{"$f":"Sigma_hMin(X50,Y50,AG50,AE50,AK50,AL50,AJ50,AI50,Z50,IF(L50=1,mu_redLead,mu_millScale))","v":107.67765664874663},520.26221516598343,0.17147765491871217,168.04746228824621,{"$f":"tau_n(N50,W50,U50,D50)","v":116.82272384883466},{"$f":"tau_hMax(X50,Z50,AH50,W50,U50)","v":103.0724360932464},{"$f":"tau_hMin(X50,Y50,AS50,AE50,Z50,AI50,IF(L50=1,mu_redLead,mu_millScale),W50,U50)","v":34.863776648687399},68.208659444559004]
[41,"Kloppel1936","R; S",2,1,8.5,35,null,6,8,70,null,550,156.96,0.111111111,2242000,0,"P99T6","RZE_ST52A",41,0.70588235294117652,0.6071428571428571,0.24285714285714285,176.57999997792751,19.619999977927502,{"$f":"IF(OR(X51>=1.6*D51*AD51,D51=1),calcLoadFraction(G51,F51,I51,J51,K51,D51,1),\"Condition for spring model not fulfilled\")","v":0.51768155648140746},{"$f":"IF(L51>2,L51,IF(L51=2,1,sigma_cl0(I51+J51)))","v":112.45880410439175},{"$f":"Sigma_cl(AA51,U51,V51,X51)","v":98.10465897009442},{"$f":"Sigma_cl(AA51,U51,V51,Y51)","v":110.86389909106472},{"$f":"sigma_Slip(AB51,W51,U51,IF(L51=1,mu_redLead,mu_millScale))","v":23.108096756981805},{"$f":"sigma_Slip(AC51,W51,U51,IF(L51=1,mu_redLead,mu_millScale))","v":26.113476505061083},{"$f":"Sigma_p(AB51,V51)","v":-23.044250786101948},{"$f":"Sigma_p(AC51,V51)","v":-26.041326891094709},{"$f":"beta_1(X51,AD51,Z51)","v":0.74720995202818863},{"$f":"beta_1(Y51,AE51,Z51)","v":0},{"$f":"k_tHole(W51,U51)","v":2.4340437317784254},{"$f":"K_t1Mu(Z51,AH51,D51,W51,U51,SIGN(X51),mu_millScale)","v":3.4687143720151439},{"$f":"K_t1Mu(Z51,AI51,D51,W51,U51,SIGN(Y51),mu_millScale)","v":1.804013957972991},{"$f":"Sigma_hMax(AK51,X51,AF51)","v":589.46133294776905},{"$f":"Sigma_hMin(X51,Y51,AG51,AE51,AK51,AL51,AJ51,AI51,Z51,IF(L51=1,mu_redLead,mu_millScale))","v":105.5675622119071},483.89377073586195,0.17909158126451905,156.47168574590273,{"$f":"tau_n(N51,W51,U51,D51)","v":109.95079891655027},{"$f":"tau_hMax(X51,Z51,AH51,W51,U51)","v":95.694339142721702},{"$f":"tau_hMin(X51,Y51,AS51,AE51,Z51,AI51,IF(L51=1,mu_redLead,mu_millScale),W51,U51)","v":33.610078517599426},62.084260625122276]
[42,"Kloppel1936","R; S",2,1,8.5,35,null,6,8,70,null,550,166.77,0.105263158,1785000,1,"P99T6","RZE_ST52A",42,0.70588235294117652,0.6071428571428571,0.24285714285714285,186.39000002192824,19.620000021928234,{"$f":"IF(OR(X52>=1.6*D52*AD52,D52=1),calcLoadFraction(G52,F52,I52,J52,K52,D52,1),\"Condition for spring model not fulfilled\")","v":0.51768155648140746},{"$f":"IF(L52>2,L52,IF(L52=2,1,sigma_cl0(I52+J52)))","v":112.45880410439175},{"$f":"Sigma_cl(AA52,U52,V52,X52)","v":97.307206458956969},{"$f":"Sigma_cl(AA52,U52,V52,Y52)","v":110.86389908748792},{"$f":"sigma_Slip(AB52,W52,U52,IF(L52=1,mu_redLead,mu_millScale))","v":22.920260521884352},{"$f":"sigma_Slip(AC52,W52,U52,IF(L52=1,mu_redLead,mu_millScale))","v":26.113476504218585},{"$f":"Sigma_p(AB52,V52)","v":-22.856933528699731},{"$f":"Sigma_p(AC52,V52)","v":-26.041326890254535},{"$f":"beta_1(X52,AD52,Z52)","v":0.76246136924291574},{"$f":"beta_1(Y52,AE52,Z52)","v":0},{"$f":"k_tHole(W52,U52)","v":2.4340437317784254},{"$f":"K_t1Mu(Z52,AH52,D52,W52,U52,SIGN(X52),mu_millScale)","v":3.4915864867582243},{"$f":"K_t1Mu(Z52,AI52,D52,W52,U52,SIGN(Y52),mu_millScale)","v":1.804013957972991},{"$f":"Sigma_hMax(AK52,X52,AF52)","v":627.93987181473005},{"$f":"Sigma_hMin(X52,Y52,AG52,AE52,AK52,AL52,AJ52,AI52,Z52,IF(L52=1,mu_redLead,mu_millScale))","v":107.67765664874663},520.26221516598343,0.17147765491871217,168.04746228824621,{"$f":"tau_n(N52,W52,U52,D52)","v":116.82272384883466},{"$f":"tau_hMax(X52,Z52,AH52,W52,U52)","v":103.0724360932464},{"$f":"tau_hMin(X52,Y52,AS52,AE52,Z52,AI52,IF(L52=1,mu_redLead,mu_millScale),W52,U52)","v":34.863776648687399},68.208659444559004]
[43,"Kloppel1936","R; S",2,1,8.5,35,null,6,8,70,null,550,156.96,0.111111111,2270000,0,"P99T6","RZE_ST52A",43,0.70588235294117652,0.6071428571428571,0.24285714285714285,176.57999997792751,19.619999977927502,{"$f":"IF(OR(X53>=1.6*D53*AD53,D53=1),calcLoadFraction(G53,F53,I53,J53,K53,D53,1),\"Condition for spring model not fulfilled\")","v":0.51768155648140746},{"$f":"IF(L53>2,L53,IF(L53=2,1,sigma_cl0(I53+J53)))","v":112.45880410439175},{"$f":"Sigma_cl(AA53,U53,V53,X53)","v":98.10465897009442},{"$f":"Sigma_cl(AA53,U53,V53,Y53)","v":110.86389909106472},{"$f":"sigma_Slip(AB53,W53,U53,IF(L53=1,mu_redLead,mu_millScale))","v":23.108096756981805},{"$f":"sigma_Slip(AC53,W53,U53,IF(L53=1,mu_redLead,mu_millScale))","v":26.113476505061083},{"$f":"Sigma_p(AB53,V53)","v":-23.044250786101948},{"$f":"Sigma_p(AC53,V53)","v":-26.041326891094709},{"$f":"beta_1(X53,AD53,Z53)","v":0.74720995202818863},{"$f":"beta_1(Y53,AE53,Z53)","v":0},{"$f":"k_tHole(W53,U53)","v":2.4340437317784254},{"$f":"K_t1Mu(Z53,AH53,D53,W53,U53,SIGN(X53),mu_millScale)","v":3.4687143720151439},{"$f":"K_t1Mu(Z53,AI53,D53,W53,U53,SIGN(Y53),mu_millScale)","v":1.804013957972991},{"$f":"Sigma_hMax(AK53,X53,AF53)","v":589.46133294776905},{"$f":"Sigma_hMin(X53,Y53,AG53,AE53,AK53,AL53,AJ53,AI53,Z53,IF(L53=1,mu_redLead,mu_millScale))","v":105.5675622119071},483.89377073586195,0.17909158126451905,156.47168574590273,{"$f":"tau_n(N53,W53,U53,D53)","v":109.95079891655027},{"$f":"tau_hMax(X53,Z53,AH53,W53,U53)","v":95.694339142721702},{"$f":"tau_hMin(X53,Y53,AS53,AE53,Z53,AI53,IF(L53=1,mu_redLead,mu_millScale),W53,U53)","v":33.610078517599426},62.084260625122276]
[44,"Kloppel1936","R; S",2,1,8.5,35,null,6,8,70,null,550,166.77,0.105263158,646000,1,"P99T6","RZE_ST52A",44,0.70588235294117652,0.6071428571428571,0.24285714285714285,186.39000002192824,19.620000021928234,{"$f":"IF(OR(X54>=1.6*D54*AD54,D54=1),calcLoadFraction(G54,F54,I54,J54,K54,D54,1),\"Condition for spring model not fulfilled\")","v":0.51768155648140746},{"$f":"IF(L54>2,L54,IF(L54=2,1,sigma_cl0(I54+J54)))","v":112.45880410439175},{"$f":"Sigma_cl(AA54,U54,V54,X54)","v":97.307206458956969},{"$f":"Sigma_cl(AA54,U54,V54,Y54)","v":110.86389908748792},{"$f":"sigma_Slip(AB54,W54,U54,IF(L54=1,mu_redLead,mu_millScale))","v":22.920260521884352},{"$f":"sigma_Slip(AC54,W54,U54,IF(L54=1,mu_redLead,mu_millScale))","v":26.113476504218585},{"$f":"Sigma_p(AB54,V54)","v":-22.856933528699731},{"$f":"Sigma_p(AC54,V54)","v":-26.041326890254535},{"$f":"beta_1(X54,AD54,Z54)","v":0.76246136924291574},{"$f":"beta_1(Y54,AE54,Z54)","v":0},{"$f":"k_tHole(W54,U54)","v":2.4340437317784254},{"$f":"K_t1Mu(Z54,AH54,D54,W54,U54,SIGN(X54),mu_millScale)","v":3.4915864867582243},{"$f":"K_t1Mu(Z54,AI54,D54,W54,U54,SIGN(Y54),mu_millScale)","v":1.804013957972991},{"$f":"Sigma_hMax(AK54,X54,AF54)","v":627.93987181473005},{"$f":"Sigma_hMin(X54,Y54,AG54,AE54,AK54,AL54,AJ54,AI54,Z54,IF(L54=1,mu_redLead,mu_millScale))","v":107.67765664874663},520.26221516598343,0.17147765491871217,168.04746228824621,{"$f":"tau_n(N54,W54,U54,D54)","v":116.82272384883466},{"$f":"tau_hMax(X54,Z54,AH54,W54,U54)","v":103.0724360932464},{"$f":"tau_hMin(X54,Y54,AS54,AE54,Z54,AI54,IF(L54=1,mu_redLead,mu_millScale),W54,U54)","v":34.863776648687399},68.208659444559004]
[45,"Kloppel1936","R; S",2,1,8.5,35,null,6,8,70,null,550,166.77,0.29166666699999999,1200000,1,"P99T6","RZE_ST52A",45,0.70588235294117652,0.6071428571428571,0.24285714285714285,235.4400001107953,68.670000110795286,{"$f":"IF(OR(X55>=1.6*D55*AD55,D55=1),calcLoadFraction(G55,F55,I55,J55,K55,D55,1),\"Condition for spring model not fulfilled\")","v":0.51768155648140746},{"$f":"IF(L55>2,L55,IF(L55=2,1,sigma_cl0(I55+J55)))","v":112.45880410439175},{"$f":"Sigma_cl(AA55,U55,V55,X55)","v":93.319943913929762},{"$f":"Sigma_cl(AA55,U55,V55,Y55)","v":106.87663654246072},{"$f":"sigma_Slip(AB55,W55,U55,IF(L55=1,mu_redLead,mu_millScale))","v":21.981079348908001},{"$f":"sigma_Slip(AC55,W55,U55,IF(L55=1,mu_redLead,mu_millScale))","v":25.174295331242234},{"$f":"Sigma_p(AB55,V55)","v":-21.920347244192616},{"$f":"Sigma_p(AC55,V55)","v":-25.104740605747423},{"$f":"beta_1(X55,AD55,Z55)","v":0.81965418361117248},{"$f":"beta_1(Y55,AE55,Z55)","v":0.29184621275844702},{"$f":"k_tHole(W55,U55)","v":2.4340437317784254},{"$f":"K_t1Mu(Z55,AH55,D55,W55,U55,SIGN(X55),mu_millScale)","v":3.5670357358705225},{"$f":"K_t1Mu(Z55,AI55,D55,W55,U55,SIGN(Y55),mu_millScale)","v":2.4639412230754298},{"$f":"Sigma_hMax(AK55,X55,AF55)","v":817.90254680437397},{"$f":"Sigma_hMin(X55,Y55,AG55,AE55,AK55,AL55,AJ55,AI55,Z55,IF(L55=1,mu_redLead,mu_millScale))","v":263.80705288625148},554.09549391812243,0.32254093585717725,183.69499974897073,{"$f":"tau_n(N55,W55,U55,D55)","v":116.82272384883466},{"$f":"tau_hMax(X55,Z55,AH55,W55,U55)","v":139.96292074724207},{"$f":"tau_hMin(X55,Y55,AS55,AE55,Z55,AI55,IF(L55=1,mu_redLead,mu_millScale),W55,U55)","v":63.699725275393874},76.263195471848192]
[46,"Kloppel1936","R; S",2,1,8.5,35,null,6,8,70,null,550,156.96,0.30434782599999999,1500000,1,"P99T6","RZE_ST52A",46,0.70588235294117652,0.6071428571428571,0.24285714285714285,225.62999997179625,68.669999971796244,{"$f":"IF(OR(X56>=1.6*D56*AD56,D56=1),calcLoadFraction(G56,F56,I56,J56,K56,D56,1),\"Condition for spring model not fulfilled\")","v":0.51768155648140746},{"$f":"IF(L56>2,L56,IF(L56=2,1,sigma_cl0(I56+J56)))","v":112.45880410439175},{"$f":"Sigma_cl(AA56,U56,V56,X56)","v":94.117396432789604},{"$f":"Sigma_cl(AA56,U56,V56,Y56)","v":106.87663655375991},{"$f":"sigma_Slip(AB56,W56,U56,IF(L56=1,mu_redLead,mu_millScale))","v":22.168915585824429},{"$f":"sigma_Slip(AC56,W56,U56,IF(L56=1,mu_redLead,mu_millScale))","v":25.174295333903707},{"$f":"Sigma_p(AB56,V56)","v":-22.107664503408785},{"$f":"Sigma_p(AC56,V56)","v":-25.104740608401542},{"$f":"beta_1(X56,AD56,Z56)","v":0.81020493590083476},{"$f":"beta_1(Y56,AE56,Z56)","v":0.29184621125016336},{"$f":"k_tHole(W56,U56)","v":2.4340437317784254},{"$f":"K_t1Mu(Z56,AH56,D56,W56,U56,SIGN(X56),mu_millScale)","v":3.5557472824533787},{"$f":"K_t1Mu(Z56,AI56,D56,W56,U56,SIGN(Y56),mu_millScale)","v":2.4639412193214718},{"$f":"Sigma_hMax(AK56,X56,AF56)","v":780.1755947362617},{"$f":"Sigma_hMin(X56,Y56,AG56,AE56,AK56,AL56,AJ56,AI56,Z56,IF(L56=1,mu_redLead,mu_millScale))","v":261.76285611144414},518.41273862481762,0.33551787299874852,172.33829880884872,{"$f":"tau_n(N56,W56,U56,D56)","v":109.95079891655027},{"$f":"tau_hMax(X56,Z56,AH56,W56,U56)","v":132.58482372526919},{"$f":"tau_hMin(X56,Y56,AS56,AE56,Z56,AI56,IF(L56=1,mu_redLead,mu_millScale),W56,U56)","v":62.25903873772689},70.325784987542306]
[47,"Kloppel1936","R; S",2,1,8.5,35,null,6,8,70,null,550,156.96,0.30434782599999999,2300000,0,"P99T6","RZE_ST52A",47,0.70588235294117652,0.6071428571428571,0.24285714285714285,225.62999997179625,68.669999971796244,{"$f":"IF(OR(X57>=1.6*D57*AD57,D57=1),calcLoadFraction(G57,F57,I57,J57,K57,D57,1),\"Condition for spring model not fulfilled\")","v":0.51768155648140746},{"$f":"IF(L57>2,L57,IF(L57=2,1,sigma_cl0(I57+J57)))","v":112.45880410439175},{"$f":"Sigma_cl(AA57,U57,V57,X57)","v":94.117396432789604},{"$f":"Sigma_cl(AA57,U57,V57,Y57)","v":106.87663655375991},{"$f":"sigma_Slip(AB57,W57,U57,IF(L57=1,mu_redLead,mu_millScale))","v":22.168915585824429},{"$f":"sigma_Slip(AC57,W57,U57,IF(L57=1,mu_redLead,mu_millScale))","v":25.174295333903707},{"$f":"Sigma_p(AB57,V57)","v":-22.107664503408785},{"$f":"Sigma_p(AC57,V57)","v":-25.104740608401542},{"$f":"beta_1(X57,AD57,Z57)","v":0.81020493590083476},{"$f":"beta_1(Y57,AE57,Z57)","v":0.29184621125016336},{"$f":"k_tHole(W57,U57)","v":2.4340437317784254},{"$f":"K_t1Mu(Z57,AH57,D57,W57,U57,SIGN(X57),mu_millScale)","v":3.5557472824533787},{"$f":"K_t1Mu(Z57,AI57,D57,W57,U57,SIGN(Y57),mu_millScale)","v":2.4639412193214718},{"$f":"Sigma_hMax(AK57,X57,AF57)","v":780.1755947362617},{"$f":"Sigma_hMin(X57,Y57,AG57,AE57,AK57,AL57,AJ57,AI57,Z57,IF(L57=1,mu_redLead,mu_millScale))","v":261.76285611144414},518.41273862481762,0.33551787299874852,172.33829880884872,{"$f":"tau_n(N57,W57,U57,D57)","v":109.95079891655027},{"$f":"tau_hMax(X57,Z57,AH57,W57,U57)","v":132.58482372526919},{"$f":"tau_hMin(X57,Y57,AS57,AE57,Z57,AI57,IF(L57=1,mu_redLead,mu_millScale),W57,U57)","v":62.25903873772689},70.325784987542306]
[48,"Kloppel1936","R; S",2,1,8.5,35,null,6,8,70,null,550,166.77,0.29166666699999999,1900000,1,"P99T6","RZE_ST52A",48,0.70588235294117652,0.6071428571428571,0.24285714285714285,235.4400001107953,68.670000110795286,{"$f":"IF(OR(X58>=1.6*D58*AD58,D58=1),calcLoadFraction(G58,F58,I58,J58,K58,D58,1),\"Condition for spring model not fulfilled\")","v":0.51768155648140746},{"$f":"IF(L58>2,L58,IF(L58=2,1,sigma_cl0(I58+J58)))","v":112.45880410439175},{"$f":"Sigma_cl(AA58,U58,V58,X58)","v":93.319943913929762},{"$f":"Sigma_cl(AA58,U58,V58,Y58)","v":106.87663654246072},{"$f":"sigma_Slip(AB58,W58,U58,IF(L58=1,mu_redLead,mu_millScale))","v":21.981079348908001},{"$f":"sigma_Slip(AC58,W58,U58,IF(L58=1,mu_redLead,mu_millScale))","v":25.174295331242234},{"$f":"Sigma_p(AB58,V58)","v":-21.920347244192616},{"$f":"Sigma_p(AC58,V58)","v":-25.104740605747423},{"$f":"beta_1(X58,AD58,Z58)","v":0.81965418361117248},{"$f":"beta_1(Y58,AE58,Z58)","v":0.29184621275844702},{"$f":"k_tHole(W58,U58)","v":2.4340437317784254},{"$f":"K_t1Mu(Z58,AH58,D58,W58,U58,SIGN(X58),mu_millScale)","v":3.5670357358705225},{"$f":"K_t1Mu(Z58,AI58,D58,W58,U58,SIGN(Y58),mu_millScale)","v":2.4639412230754298},{"$f":"Sigma_hMax(AK58,X58,AF58)","v":817.90254680437397},{"$f":"Sigma_hMin(X58,Y58,AG58,AE58,AK58,AL58,AJ58,AI58,Z58,IF(L58=1,mu_redLead,mu_millScale))","v":263.80705288625148},554.09549391812243,0.32254093585717725,183.69499974897073,{"$f":"tau_n(N58,W58,U58,D58)","v":116.82272384883466},{"$f":"tau_hMax(X58,Z58,AH58,W58,U58)","v":139.96292074724207},{"$f":"tau_hMin(X58,Y58,AS58,AE58,Z58,AI58,IF(L58=1,mu_redLead,mu_millScale),W58,U58)","v":63.699725275393874},76.263195471848192]
[49,"Kloppel1936","R; S",2,1,8.5,35,null,6,8,70,null,550,156.96,0.30434782599999999,1500000,1,"P99T6","RZE_ST52A",49,0.70588235294117652,0.6071428571428571,0.24285714285714285,225.62999997179625,68.669999971796244,{"$f":"IF(OR(X59>=1.6*D59*AD59,D59=1),calcLoadFraction(G59,F59,I59,J59,K59,D59,1),\"Condition for spring model not fulfilled\")","v":0.51768155648140746},{"$f":"IF(L59>2,L59,IF(L59=2,1,sigma_cl0(I59+J59)))","v":112.45880410439175},{"$f":"Sigma_cl(AA59,U59,V59,X59)","v":94.117396432789604},{"$f":"Sigma_cl(AA59,U59,V59,Y59)","v":106.87663655375991},{"$f":"sigma_Slip(AB59,W59,U59,IF(L59=1,mu_redLead,mu_millScale))","v":22.168915585824429},{"$f":"sigma_Slip(AC59,W59,U59,IF(L59=1,mu_redLead,mu_millScale))","v":25.174295333903707},{"$f":"Sigma_p(AB59,V59)","v":-22.107664503408785},{"$f":"Sigma_p(AC59,V59)","v":-25.104740608401542},{"$f":"beta_1(X59,AD59,Z59)","v":0.81020493590083476},{"$f":"beta_1(Y59,AE59,Z59)","v":0.29184621125016336},{"$f":"k_tHole(W59,U59)","v":2.4340437317784254},{"$f":"K_t1Mu(Z59,AH59,D59,W59,U59,SIGN(X59),mu_millScale)","v":3.5557472824533787},{"$f":"K_t1Mu(Z59,AI59,D59,W59,U59,SIGN(Y59),mu_millScale)","v":2.4639412193214718},{"$f":"Sigma_hMax(AK59,X59,AF59)","v":780.1755947362617},{"$f":"Sigma_hMin(X59,Y59,AG59,AE59,AK59,AL59,AJ59,AI59,Z59,IF(L59=1,mu_redLead,mu_millScale))","v":261.76285611144414},518.41273862481762,0.33551787299874852,172.33829880884872,{"$f":"tau_n(N59,W59,U59,D59)","v":109.95079891655027},{"$f":"tau_hMax(X59,Z59,AH59,W59,U59)","v":132.58482372526919},{"$f":"tau_hMin(X59,Y59,AS59,AE59,Z59,AI59,IF(L59=1,mu_redLead,mu_millScale),W59,U59)","v":62.25903873772689},70.325784987542306]
[50,"Kloppel1936","R; S",2,1,8.5,35,null,6,8,70,null,550,147.15,0.31818181800000001,2300000,0,"P99T6","RZE_ST52A",50,0.70588235294117652,0.6071428571428571,0.24285714285714285,215.81999994244802,68.669999942448001,{"$f":"IF(OR(X60>=1.6*D60*AD60,D60=1),calcLoadFraction(G60,F60,I60,J60,K60,D60,1),\"Condition for spring model not fulfilled\")","v":0.51768155648140746},{"$f":"IF(L60>2,L60,IF(L60=2,1,sigma_cl0(I60+J60)))","v":112.45880410439175},{"$f":"Sigma_cl(AA60,U60,V60,X60)","v":94.914848942735958},{"$f":"Sigma_cl(AA60,U60,V60,Y60)","v":106.87663655614563},{"$f":"sigma_Slip(AB60,W60,U60,IF(L60=1,mu_redLead,mu_millScale))","v":22.356751820641325},{"$f":"sigma_Slip(AC60,W60,U60,IF(L60=1,mu_redLead,mu_millScale))","v":25.174295334465651},{"$f":"Sigma_p(AB60,V60)","v":-22.294981760531222},{"$f":"Sigma_p(AC60,V60)","v":-25.104740608961936},{"$f":"beta_1(X60,AD60,Z60)","v":0.79989666577899587},{"$f":"beta_1(Y60,AE60,Z60)","v":0.29184621093170454},{"$f":"k_tHole(W60,U60)","v":2.4340437317784254},{"$f":"K_t1Mu(Z60,AH60,D60,W60,U60,SIGN(X60),mu_millScale)","v":3.5428869326941599},{"$f":"K_t1Mu(Z60,AI60,D60,W60,U60,SIGN(Y60),mu_millScale)","v":2.4639412185288618},{"$f":"Sigma_hMax(AK60,X60,AF60)","v":742.3308758496222},{"$f":"Sigma_hMin(X60,Y60,AG60,AE60,AK60,AL60,AJ60,AI60,Z60,IF(L60=1,mu_redLead,mu_millScale))","v":259.5097488181467},482.8211270314755,0.34958770712740356,161.00382971939558,{"$f":"tau_n(N60,W60,U60,D60)","v":103.07887398426587},{"$f":"tau_hMax(X60,Z60,AH60,W60,U60)","v":125.20672678576464},{"$f":"tau_hMin(X60,Y60,AS60,AE60,Z60,AI60,IF(L60=1,mu_redLead,mu_millScale),W60,U60)","v":60.731657661068979},64.475069124695665]
[51,"Kloppel1936","R; S",2,1,8.5,35,null,6,8,70,null,550,156.96,0.30434782599999999,1300000,1,"P99T6","RZE_ST52A",51,0.70588235294117652,0.6071428571428571,0.24285714285714285,225.62999997179625,68.669999971796244,{"$f":"IF(OR(X61>=1.6*D61*AD61,D61=1),calcLoadFraction(G61,F61,I61,J61,K61,D61,1),\"Condition for spring model not fulfilled\")","v":0.51768155648140746},{"$f":"IF(L61>2,L61,IF(L61=2,1,sigma_cl0(I61+J61)))","v":112.45880410439175},{"$f":"Sigma_cl(AA61,U61,V61,X61)","v":94.117396432789604},{"$f":"Sigma_cl(AA61,U61,V61,Y61)","v":106.87663655375991},{"$f":"sigma_Slip(AB61,W61,U61,IF(L61=1,mu_redLead,mu_millScale))","v":22.168915585824429},{"$f":"sigma_Slip(AC61,W61,U61,IF(L61=1,mu_redLead,mu_millScale))","v":25.174295333903707},{"$f":"Sigma_p(AB61,V61)","v":-22.107664503408785},{"$f":"Sigma_p(AC61,V61)","v":-25.104740608401542},{"$f":"beta_1(X61,AD61,Z61)","v":0.81020493590083476},{"$f":"beta_1(Y61,AE61,Z61)","v":0.29184621125016336},{"$f":"k_tHole(W61,U61)","v":2.4340437317784254},{"$f":"K_t1Mu(Z61,AH61,D61,W61,U61,SIGN(X61),mu_millScale)","v":3.5557472824533787},{"$f":"K_t1Mu(Z61,AI61,D61,W61,U61,SIGN(Y61),mu_millScale)","v":2.4639412193214718},{"$f":"Sigma_hMax(AK61,X61,AF61)","v":780.1755947362617},{"$f":"Sigma_hMin(X61,Y61,AG61,AE61,AK61,AL61,AJ61,AI61,Z61,IF(L61=1,mu_redLead,mu_millScale))","v":261.76285611144414},518.41273862481762,0.33551787299874852,172.33829880884872,{"$f":"tau_n(N61,W61,U61,D61)","v":109.95079891655027},{"$f":"tau_hMax(X61,Z61,AH61,W61,U61)","v":132.58482372526919},{"$f":"tau_hMin(X61,Y61,AS61,AE61,Z61,AI61,IF(L61=1,mu_redLead,mu_millScale),W61,U61)","v":62.25903873772689},70.325784987542306]
[52,"Kloppel1936","R; S",2,1,8.5,35,null,6,8,70,null,541.5,206.01,8.6999999999999994E-2,894210,1,"P100T7","DAHLEN_ST52B",52,0.70588235294117652,0.6071428571428571,0.24285714285714285,225.6407447973713,19.630744797371303,{"$f":"IF(OR(X62>=1.6*D62*AD62,D62=1),calcLoadFraction(G62,F62,I62,J62,K62,D62,1),\"Condition for spring model not fulfilled\")","v":0.51768155648140746},{"$f":"IF(L62>2,L62,IF(L62=2,1,sigma_cl0(I62+J62)))","v":112.45880410439175},{"$f":"Sigma_cl(AA62,U62,V62,X62)","v":94.116522988539032},{"$f":"Sigma_cl(AA62,U62,V62,Y62)","v":110.86302564731255},{"$f":"sigma_Slip(AB62,W62,U62,IF(L62=1,mu_redLead,mu_millScale))","v":22.168709850088064},{"$f":"sigma_Slip(AC62,W62,U62,IF(L62=1,mu_redLead,mu_millScale))","v":26.113270769442117},{"$f":"Sigma_p(AB62,V62)","v":-22.107459336105119},{"$f":"Sigma_p(AC62,V62)","v":-26.041121723908116},{"$f":"beta_1(X62,AD62,Z62)","v":0.81021573506927369},{"$f":"beta_1(Y62,AE62,Z62)","v":0},{"$f":"k_tHole(W62,U62)","v":2.4340437317784254},{"$f":"K_t1Mu(Z62,AH62,D62,W62,U62,SIGN(X62),mu_millScale)","v":3.5557604586375282},{"$f":"K_t1Mu(Z62,AI62,D62,W62,U62,SIGN(Y62),mu_millScale)","v":1.804013957972991},{"$f":"Sigma_hMax(AK62,X62,AF62)","v":780.2169788719093},{"$f":"Sigma_hMin(X62,Y62,AG62,AE62,AK62,AL62,AJ62,AI62,Z62,IF(L62=1,mu_redLead,mu_millScale))","v":114.21635047652727},666.00062839538202,0.14639049593828249,214.37413400096034,{"$f":"tau_n(N62,W62,U62,D62)","v":144.31042357797222},{"$f":"tau_hMax(X62,Z62,AH62,W62,U62)","v":132.5929049041126},{"$f":"tau_hMin(X62,Y62,AS62,AE62,Z62,AI62,IF(L62=1,mu_redLead,mu_millScale),W62,U62)","v":39.132452668165129},93.460452235947471]
[53,"Kloppel1936","R; S",2,1,8.5,35,null,6,8,70,null,541.5,186.39,9.5200000000000007E-2,1212470,1,"P100T7","DAHLEN_ST52B",53,0.70588235294117652,0.6071428571428571,0.24285714285714285,206.00132625994692,19.611326259946949,{"$f":"IF(OR(X63>=1.6*D63*AD63,D63=1),calcLoadFraction(G63,F63,I63,J63,K63,D63,1),\"Condition for spring model not fulfilled\")","v":0.51768155648140746},{"$f":"IF(L63>2,L63,IF(L63=2,1,sigma_cl0(I63+J63)))","v":112.45880410439175},{"$f":"Sigma_cl(AA63,U63,V63,X63)","v":95.713006531831795},{"$f":"Sigma_cl(AA63,U63,V63,Y63)","v":110.86460417548403},{"$f":"sigma_Slip(AB63,W63,U63,IF(L63=1,mu_redLead,mu_millScale))","v":22.544754133577026},{"$f":"sigma_Slip(AC63,W63,U63,IF(L63=1,mu_redLead,mu_millScale))","v":26.113642584421171},{"$f":"Sigma_p(AB63,V63)","v":-22.482464636910841},{"$f":"Sigma_p(AC63,V63)","v":-26.041492511589745},{"$f":"beta_1(X63,AD63,Z63)","v":0.78859619763236055},{"$f":"beta_1(Y63,AE63,Z63)","v":0},{"$f":"k_tHole(W63,U63)","v":2.4340437317784254},{"$f":"K_t1Mu(Z63,AH63,D63,W63,U63,SIGN(X63),mu_millScale)","v":3.5281487073423694},{"$f":"K_t1Mu(Z63,AI63,D63,W63,U63,SIGN(Y63),mu_millScale)","v":1.804013957972991},{"$f":"Sigma_hMax(AK63,X63,AF63)","v":704.32084831793463},{"$f":"Sigma_hMin(X63,Y63,AG63,AE63,AK63,AL63,AJ63,AI63,Z63,IF(L63=1,mu_redLead,mu_millScale))","v":111.23203138350409},593.0888169344305,0.15792806879016777,191.2063354660699,{"$f":"tau_n(N63,W63,U63,D63)","v":130.56657371340341},{"$f":"tau_hMax(X63,Z63,AH63,W63,U63)","v":117.82210639533349},{"$f":"tau_hMin(X63,Y63,AS63,AE63,Z63,AI63,IF(L63=1,mu_redLead,mu_millScale),W63,U63)","v":37.124604790438255},80.697501604895237]
[54,"Kloppel1936","R; S",2,1,8.5,35,null,6,8,70,null,541.5,176.58,0.1,336900,1,"P100T7","DAHLEN_ST52B",54,0.70588235294117652,0.6071428571428571,0.24285714285714285,196.20000000000002,19.620000000000005,{"$f":"IF(OR(X64>=1.6*D64*AD64,D64=1),calcLoadFraction(G64,F64,I64,J64,K64,D64,1),\"Condition for spring model not fulfilled\")","v":0.51768155648140746},{"$f":"IF(L64>2,L64,IF(L64=2,1,sigma_cl0(I64+J64)))","v":112.45880410439175},{"$f":"Sigma_cl(AA64,U64,V64,X64)","v":96.509753953178858},{"$f":"Sigma_cl(AA64,U64,V64,Y64)","v":110.86389908927046},{"$f":"sigma_Slip(AB64,W64,U64,IF(L64=1,mu_redLead,mu_millScale))","v":22.732424288049263},{"$f":"sigma_Slip(AC64,W64,U64,IF(L64=1,mu_redLead,mu_millScale))","v":26.113476504638452},{"$f":"Sigma_p(AB64,V64)","v":-22.669616272556389},{"$f":"Sigma_p(AC64,V64)","v":-26.041326890673243},{"$f":"beta_1(X64,AD64,Z64)","v":0.7761876446422058},{"$f":"beta_1(Y64,AE64,Z64)","v":0},{"$f":"k_tHole(W64,U64)","v":2.4340437317784254},{"$f":"K_t1Mu(Z64,AH64,D64,W64,U64,SIGN(X64),mu_millScale)","v":3.51121295498276},{"$f":"K_t1Mu(Z64,AI64,D64,W64,U64,SIGN(Y64),mu_millScale)","v":1.804013957972991},{"$f":"Sigma_hMax(AK64,X64,AF64)","v":666.23036549506116},{"$f":"Sigma_hMin(X64,Y64,AG64,AE64,AK64,AL64,AJ64,AI64,Z64,IF(L64=1,mu_redLead,mu_millScale))","v":109.56468908659321},556.66567640846802,0.16445466127197322,179.62726117630615,{"$f":"tau_n(N64,W64,U64,D64)","v":123.69464878111906},{"$f":"tau_hMax(X64,Z64,AH64,W64,U64)","v":110.45053299418595},{"$f":"tau_hMin(X64,Y64,AS64,AE64,Z64,AI64,IF(L64=1,mu_redLead,mu_millScale),W64,U64)","v":36.033965615724277},74.416567378461679]
[55,"Kloppel1936","R; S",2,1,8.5,35,null,6,8,70,null,541.5,170.69399999999999,0.10309278400000001,2111280,0,"P100T7","DAHLEN_ST52B",55,0.70588235294117652,0.6071428571428571,0.24285714285714285,190.31400010500082,19.620000105000827,{"$f":"IF(OR(X65>=1.6*D65*AD65,D65=1),calcLoadFraction(G65,F65,I65,J65,K65,D65,1),\"Condition for spring model not fulfilled\")","v":0.51768155648140746},{"$f":"IF(L65>2,L65,IF(L65=2,1,sigma_cl0(I65+J65)))","v":112.45880410439175},{"$f":"Sigma_cl(AA65,U65,V65,X65)","v":96.988225449179751},{"$f":"Sigma_cl(AA65,U65,V65,Y65)","v":110.86389908073497},{"$f":"sigma_Slip(AB65,W65,U65,IF(L65=1,mu_redLead,mu_millScale))","v":22.845126026591739},{"$f":"sigma_Slip(AC65,W65,U65,IF(L65=1,mu_redLead,mu_millScale))","v":26.113476502627961},{"$f":"Sigma_p(AB65,V65)","v":-22.782006624488677},{"$f":"Sigma_p(AC65,V65)","v":-26.041326888668305},{"$f":"beta_1(X65,AD65,Z65)","v":0.76812168912456102},{"$f":"beta_1(Y65,AE65,Z65)","v":0},{"$f":"k_tHole(W65,U65)","v":2.4340437317784254},{"$f":"K_t1Mu(Z65,AH65,D65,W65,U65,SIGN(X65),mu_millScale)","v":3.4997916777443807},{"$f":"K_t1Mu(Z65,AI65,D65,W65,U65,SIGN(Y65),mu_millScale)","v":1.804013957972991},{"$f":"Sigma_hMax(AK65,X65,AF65)","v":643.27734710123639},{"$f":"Sigma_hMin(X65,Y65,AG65,AE65,AK65,AL65,AJ65,AI65,Z65,IF(L65=1,mu_redLead,mu_millScale))","v":108.45730165863539},534.82004544260099,0.16860115181635149,172.67904291407103,{"$f":"tau_n(N65,W65,U65,D65)","v":119.5714938217484},{"$f":"tau_hMax(X65,Z65,AH65,W65,U65)","v":106.02367492269796},{"$f":"tau_hMin(X65,Y65,AS65,AE65,Z65,AI65,IF(L65=1,mu_redLead,mu_millScale),W65,U65)","v":35.341345362699855},70.682329559998109]
[56,"Kloppel1936","R; S",2,1,8.5,35,null,6,8,70,null,541.5,166.77,0.105263158,2070110,0,"P100T7","DAHLEN_ST52B",56,0.70588235294117652,0.6071428571428571,0.24285714285714285,186.39000002192824,19.620000021928234,{"$f":"IF(OR(X66>=1.6*D66*AD66,D66=1),calcLoadFraction(G66,F66,I66,J66,K66,D66,1),\"Condition for spring model not fulfilled\")","v":0.51768155648140746},{"$f":"IF(L66>2,L66,IF(L66=2,1,sigma_cl0(I66+J66)))","v":112.45880410439175},{"$f":"Sigma_cl(AA66,U66,V66,X66)","v":97.307206458956969},{"$f":"Sigma_cl(AA66,U66,V66,Y66)","v":110.86389908748792},{"$f":"sigma_Slip(AB66,W66,U66,IF(L66=1,mu_redLead,mu_millScale))","v":22.920260521884352},{"$f":"sigma_Slip(AC66,W66,U66,IF(L66=1,mu_redLead,mu_millScale))","v":26.113476504218585},{"$f":"Sigma_p(AB66,V66)","v":-22.856933528699731},{"$f":"Sigma_p(AC66,V66)","v":-26.041326890254535},{"$f":"beta_1(X66,AD66,Z66)","v":0.76246136924291574},{"$f":"beta_1(Y66,AE66,Z66)","v":0},{"$f":"k_tHole(W66,U66)","v":2.4340437317784254},{"$f":"K_t1Mu(Z66,AH66,D66,W66,U66,SIGN(X66),mu_millScale)","v":3.4915864867582243},{"$f":"K_t1Mu(Z66,AI66,D66,W66,U66,SIGN(Y66),mu_millScale)","v":1.804013957972991},{"$f":"Sigma_hMax(AK66,X66,AF66)","v":627.93987181473005},{"$f":"Sigma_hMin(X66,Y66,AG66,AE66,AK66,AL66,AJ66,AI66,Z66,IF(L66=1,mu_redLead,mu_millScale))","v":107.67765664874663},520.26221516598343,0.17147765491871217,168.04746228824621,{"$f":"tau_n(N66,W66,U66,D66)","v":116.82272384883466},{"$f":"tau_hMax(X66,Z66,AH66,W66,U66)","v":103.0724360932464},{"$f":"tau_hMin(X66,Y66,AS66,AE66,Z66,AI66,IF(L66=1,mu_redLead,mu_millScale),W66,U66)","v":34.863776648687399},68.208659444559004]
[57,"Kloppel1936","R; S",2,1,8.5,35,null,6,8,70,null,541.5,206.01,8.6999999999999994E-2,764500,1,"P100T7","DAHLEN_ST52B",57,0.70588235294117652,0.6071428571428571,0.24285714285714285,225.6407447973713,19.630744797371303,{"$f":"IF(OR(X67>=1.6*D67*AD67,D67=1),calcLoadFraction(G67,F67,I67,J67,K67,D67,1),\"Condition for spring model not fulfilled\")","v":0.51768155648140746},{"$f":"IF(L67>2,L67,IF(L67=2,1,sigma_cl0(I67+J67)))","v":112.45880410439175},{"$f":"Sigma_cl(AA67,U67,V67,X67)","v":94.116522988539032},{"$f":"Sigma_cl(AA67,U67,V67,Y67)","v":110.86302564731255},{"$f":"sigma_Slip(AB67,W67,U67,IF(L67=1,mu_redLead,mu_millScale))","v":22.168709850088064},{"$f":"sigma_Slip(AC67,W67,U67,IF(L67=1,mu_redLead,mu_millScale))","v":26.113270769442117},{"$f":"Sigma_p(AB67,V67)","v":-22.107459336105119},{"$f":"Sigma_p(AC67,V67)","v":-26.041121723908116},{"$f":"beta_1(X67,AD67,Z67)","v":0.81021573506927369},{"$f":"beta_1(Y67,AE67,Z67)","v":0},{"$f":"k_tHole(W67,U67)","v":2.4340437317784254},{"$f":"K_t1Mu(Z67,AH67,D67,W67,U67,SIGN(X67),mu_millScale)","v":3.5557604586375282},{"$f":"K_t1Mu(Z67,AI67,D67,W67,U67,SIGN(Y67),mu_millScale)","v":1.804013957972991},{"$f":"Sigma_hMax(AK67,X67,AF67)","v":780.2169788719093},{"$f":"Sigma_hMin(X67,Y67,AG67,AE67,AK67,AL67,AJ67,AI67,Z67,IF(L67=1,mu_redLead,mu_millScale))","v":114.21635047652727},666.00062839538202,0.14639049593828249,214.37413400096034,{"$f":"tau_n(N67,W67,U67,D67)","v":144.31042357797222},{"$f":"tau_hMax(X67,Z67,AH67,W67,U67)","v":132.5929049041126},{"$f":"tau_hMin(X67,Y67,AS67,AE67,Z67,AI67,IF(L67=1,mu_redLead,mu_millScale),W67,U67)","v":39.132452668165129},93.460452235947471]
[58,"Kloppel1936","R; S",2,1,8.5,35,null,6,8,70,null,541.5,186.39,9.5200000000000007E-2,1598900,1,"P100T7","DAHLEN_ST52B",58,0.70588235294117652,0.6071428571428571,0.24285714285714285,206.00132625994692,19.611326259946949,{"$f":"IF(OR(X68>=1.6*D68*AD68,D68=1),calcLoadFraction(G68,F68,I68,J68,K68,D68,1),\"Condition for spring model not fulfilled\")","v":0.51768155648140746},{"$f":"IF(L68>2,L68,IF(L68=2,1,sigma_cl0(I68+J68)))","v":112.45880410439175},{"$f":"Sigma_cl(AA68,U68,V68,X68)","v":95.713006531831795},{"$f":"Sigma_cl(AA68,U68,V68,Y68)","v":110.86460417548403},{"$f":"sigma_Slip(AB68,W68,U68,IF(L68=1,mu_redLead,mu_millScale))","v":22.544754133577026},{"$f":"sigma_Slip(AC68,W68,U68,IF(L68=1,mu_redLead,mu_millScale))","v":26.113642584421171},{"$f":"Sigma_p(AB68,V68)","v":-22.482464636910841},{"$f":"Sigma_p(AC68,V68)","v":-26.041492511589745},{"$f":"beta_1(X68,AD68,Z68)","v":0.78859619763236055},{"$f":"beta_1(Y68,AE68,Z68)","v":0},{"$f":"k_tHole(W68,U68)","v":2.4340437317784254},{"$f":"K_t1Mu(Z68,AH68,D68,W68,U68,SIGN(X68),mu_millScale)","v":3.5281487073423694},{"$f":"K_t1Mu(Z68,AI68,D68,W68,U68,SIGN(Y68),mu_millScale)","v":1.804013957972991},{"$f":"Sigma_hMax(AK68,X68,AF68)","v":704.32084831793463},{"$f":"Sigma_hMin(X68,Y68,AG68,AE68,AK68,AL68,AJ68,AI68,Z68,IF(L68=1,mu_redLead,mu_millScale))","v":111.23203138350409},593.0888169344305,0.15792806879016777,191.2063354660699,{"$f":"tau_n(N68,W68,U68,D68)","v":130.56657371340341},{"$f":"tau_hMax(X68,Z68,AH68,W68,U68)","v":117.82210639533349},{"$f":"tau_hMin(X68,Y68,AS68,AE68,Z68,AI68,IF(L68=1,mu_redLead,mu_millScale),W68,U68)","v":37.124604790438255},80.697501604895237]
[59,"Kloppel1936","R; S",2,1,8.5,35,null,6,8,70,null,541.5,176.58,0.1,2005700,0,"P100T7","DAHLEN_ST52B",59,0.70588235294117652,0.6071428571428571,0.24285714285714285,196.20000000000002,19.620000000000005,{"$f":"IF(OR(X69>=1.6*D69*AD69,D69=1),calcLoadFraction(G69,F69,I69,J69,K69,D69,1),\"Condition for spring model not fulfilled\")","v":0.51768155648140746},{"$f":"IF(L69>2,L69,IF(L69=2,1,sigma_cl0(I69+J69)))","v":112.45880410439175},{"$f":"Sigma_cl(AA69,U69,V69,X69)","v":96.509753953178858},{"$f":"Sigma_cl(AA69,U69,V69,Y69)","v":110.86389908927046},{"$f":"sigma_Slip(AB69,W69,U69,IF(L69=1,mu_redLead,mu_millScale))","v":22.732424288049263},{"$f":"sigma_Slip(AC69,W69,U69,IF(L69=1,mu_redLead,mu_millScale))","v":26.113476504638452},{"$f":"Sigma_p(AB69,V69)","v":-22.669616272556389},{"$f":"Sigma_p(AC69,V69)","v":-26.041326890673243},{"$f":"beta_1(X69,AD69,Z69)","v":0.7761876446422058},{"$f":"beta_1(Y69,AE69,Z69)","v":0},{"$f":"k_tHole(W69,U69)","v":2.4340437317784254},{"$f":"K_t1Mu(Z69,AH69,D69,W69,U69,SIGN(X69),mu_millScale)","v":3.51121295498276},{"$f":"K_t1Mu(Z69,AI69,D69,W69,U69,SIGN(Y69),mu_millScale)","v":1.804013957972991},{"$f":"Sigma_hMax(AK69,X69,AF69)","v":666.23036549506116},{"$f":"Sigma_hMin(X69,Y69,AG69,AE69,AK69,AL69,AJ69,AI69,Z69,IF(L69=1,mu_redLead,mu_millScale))","v":109.56468908659321},556.66567640846802,0.16445466127197322,179.62726117630615,{"$f":"tau_n(N69,W69,U69,D69)","v":123.69464878111906},{"$f":"tau_hMax(X69,Z69,AH69,W69,U69)","v":110.45053299418595},{"$f":"tau_hMin(X69,Y69,AS69,AE69,Z69,AI69,IF(L69=1,mu_redLead,mu_millScale),W69,U69)","v":36.033965615724277},74.416567378461679]
[60,"Kloppel1936","R; S",2,1,8.5,35,null,6,8,70,null,541.5,166.77,0.29166666699999999,319670,1,"P100T7","DAHLEN_ST52B",60,0.70588235294117652,0.6071428571428571,0.24285714285714285,235.4400001107953,68.670000110795286,{"$f":"IF(OR(X70>=1.6*D70*AD70,D70=1),calcLoadFraction(G70,F70,I70,J70,K70,D70,1),\"Condition for spring model not fulfilled\")","v":0.51768155648140746},{"$f":"IF(L70>2,L70,IF(L70=2,1,sigma_cl0(I70+J70)))","v":112.45880410439175},{"$f":"Sigma_cl(AA70,U70,V70,X70)","v":93.319943913929762},{"$f":"Sigma_cl(AA70,U70,V70,Y70)","v":106.87663654246072},{"$f":"sigma_Slip(AB70,W70,U70,IF(L70=1,mu_redLead,mu_millScale))","v":21.981079348908001},{"$f":"sigma_Slip(AC70,W70,U70,IF(L70=1,mu_redLead,mu_millScale))","v":25.174295331242234},{"$f":"Sigma_p(AB70,V70)","v":-21.920347244192616},{"$f":"Sigma_p(AC70,V70)","v":-25.104740605747423},{"$f":"beta_1(X70,AD70,Z70)","v":0.81965418361117248},{"$f":"beta_1(Y70,AE70,Z70)","v":0.29184621275844702},{"$f":"k_tHole(W70,U70)","v":2.4340437317784254},{"$f":"K_t1Mu(Z70,AH70,D70,W70,U70,SIGN(X70),mu_millScale)","v":3.5670357358705225},{"$f":"K_t1Mu(Z70,AI70,D70,W70,U70,SIGN(Y70),mu_millScale)","v":2.4639412230754298},{"$f":"Sigma_hMax(AK70,X70,AF70)","v":817.90254680437397},{"$f":"Sigma_hMin(X70,Y70,AG70,AE70,AK70,AL70,AJ70,AI70,Z70,IF(L70=1,mu_redLead,mu_millScale))","v":263.80705288625148},554.09549391812243,0.32254093585717725,183.69499974897073,{"$f":"tau_n(N70,W70,U70,D70)","v":116.82272384883466},{"$f":"tau_hMax(X70,Z70,AH70,W70,U70)","v":139.96292074724207},{"$f":"tau_hMin(X70,Y70,AS70,AE70,Z70,AI70,IF(L70=1,mu_redLead,mu_millScale),W70,U70)","v":63.699725275393874},76.263195471848192]
[61,"Kloppel1936","R; S",2,1,8.5,35,null,6,8,70,null,541.5,156.96,0.30434782599999999,354840,1,"P100T7","DAHLEN_ST52B",61,0.70588235294117652,0.6071428571428571,0.24285714285714285,225.62999997179625,68.669999971796244,{"$f":"IF(OR(X71>=1.6*D71*AD71,D71=1),calcLoadFraction(G71,F71,I71,J71,K71,D71,1),\"Condition for spring model not fulfilled\")","v":0.51768155648140746},{"$f":"IF(L71>2,L71,IF(L71=2,1,sigma_cl0(I71+J71)))","v":112.45880410439175},{"$f":"Sigma_cl(AA71,U71,V71,X71)","v":94.117396432789604},{"$f":"Sigma_cl(AA71,U71,V71,Y71)","v":106.87663655375991},{"$f":"sigma_Slip(AB71,W71,U71,IF(L71=1,mu_redLead,mu_millScale))","v":22.168915585824429},{"$f":"sigma_Slip(AC71,W71,U71,IF(L71=1,mu_redLead,mu_millScale))","v":25.174295333903707},{"$f":"Sigma_p(AB71,V71)","v":-22.107664503408785},{"$f":"Sigma_p(AC71,V71)","v":-25.104740608401542},{"$f":"beta_1(X71,AD71,Z71)","v":0.81020493590083476},{"$f":"beta_1(Y71,AE71,Z71)","v":0.29184621125016336},{"$f":"k_tHole(W71,U71)","v":2.4340437317784254},{"$f":"K_t1Mu(Z71,AH71,D71,W71,U71,SIGN(X71),mu_millScale)","v":3.5557472824533787},{"$f":"K_t1Mu(Z71,AI71,D71,W71,U71,SIGN(Y71),mu_millScale)","v":2.4639412193214718},{"$f":"Sigma_hMax(AK71,X71,AF71)","v":780.1755947362617},{"$f":"Sigma_hMin(X71,Y71,AG71,AE71,AK71,AL71,AJ71,AI71,Z71,IF(L71=1,mu_redLead,mu_millScale))","v":261.76285611144414},518.41273862481762,0.33551787299874852,172.33829880884872,{"$f":"tau_n(N71,W71,U71,D71)","v":109.95079891655027},{"$f":"tau_hMax(X71,Z71,AH71,W71,U71)","v":132.58482372526919},{"$f":"tau_hMin(X71,Y71,AS71,AE71,Z71,AI71,IF(L71=1,mu_redLead,mu_millScale),W71,U71)","v":62.25903873772689},70.325784987542306]
[62,"Kloppel1936","R; S",2,1,8.5,35,null,6,8,70,null,541.5,137.34,0.33333333300000001,940680,1,"P100T7","DAHLEN_ST52B",62,0.70588235294117652,0.6071428571428571,0.24285714285714285,206.009999896995,68.669999896994995,{"$f":"IF(OR(X72>=1.6*D72*AD72,D72=1),calcLoadFraction(G72,F72,I72,J72,K72,D72,1),\"Condition for spring model not fulfilled\")","v":0.51768155648140746},{"$f":"IF(L72>2,L72,IF(L72=2,1,sigma_cl0(I72+J72)))","v":112.45880410439175},{"$f":"Sigma_cl(AA72,U72,V72,X72)","v":95.712301453991472},{"$f":"Sigma_cl(AA72,U72,V72,Y72)","v":106.87663655984049},{"$f":"sigma_Slip(AB72,W72,U72,IF(L72=1,mu_redLead,mu_millScale))","v":22.544588055766589},{"$f":"sigma_Slip(AC72,W72,U72,IF(L72=1,mu_redLead,mu_millScale))","v":25.174295335335962},{"$f":"Sigma_p(AB72,V72)","v":-22.482299017961175},{"$f":"Sigma_p(AC72,V72)","v":-25.10474060982984},{"$f":"beta_1(X72,AD72,Z72)","v":0.78860665562278498},{"$f":"beta_1(Y72,AE72,Z72)","v":0.29184621043849218},{"$f":"k_tHole(W72,U72)","v":2.4340437317784254},{"$f":"K_t1Mu(Z72,AH72,D72,W72,U72,SIGN(X72),mu_millScale)","v":3.5281626514884703},{"$f":"K_t1Mu(Z72,AI72,D72,W72,U72,SIGN(Y72),mu_millScale)","v":2.4639412173013087},{"$f":"Sigma_hMax(AK72,X72,AF72)","v":704.35448845176018},{"$f":"Sigma_hMin(X72,Y72,AG72,AE72,AK72,AL72,AJ72,AI72,Z72,IF(L72=1,mu_redLead,mu_millScale))","v":257.01624400743236},447.33824444432781,0.36489615416859078,149.69616102692123,{"$f":"tau_n(N72,W72,U72,D72)","v":96.206949051981482},{"$f":"tau_hMax(X72,Z72,AH72,W72,U72)","v":117.82862983414769},{"$f":"tau_hMin(X72,Y72,AS72,AE72,Z72,AI72,IF(L72=1,mu_redLead,mu_millScale),W72,U72)","v":59.108432588236461},58.72019724591123]
[63,"Kloppel1936","R; S",2,1,8.5,35,null,6,8,70,null,541.5,127.53,0.35,1204020,1,"P100T7","DAHLEN_ST52B",63,0.70588235294117652,0.6071428571428571,0.24285714285714285,196.2,68.669999999999987,{"$f":"IF(OR(X73>=1.6*D73*AD73,D73=1),calcLoadFraction(G73,F73,I73,J73,K73,D73,1),\"Condition for spring model not fulfilled\")","v":0.51768155648140746},{"$f":"IF(L73>2,L73,IF(L73=2,1,sigma_cl0(I73+J73)))","v":112.45880410439175},{"$f":"Sigma_cl(AA73,U73,V73,X73)","v":96.509753953178858},{"$f":"Sigma_cl(AA73,U73,V73,Y73)","v":106.87663655146724},{"$f":"sigma_Slip(AB73,W73,U73,IF(L73=1,mu_redLead,mu_millScale))","v":22.732424288049263},{"$f":"sigma_Slip(AC73,W73,U73,IF(L73=1,mu_redLead,mu_millScale))","v":25.174295333363681},{"$f":"Sigma_p(AB73,V73)","v":-22.669616272556389},{"$f":"Sigma_p(AC73,V73)","v":-25.104740607863008},{"$f":"beta_1(X73,AD73,Z73)","v":0.7761876446422058},{"$f":"beta_1(Y73,AE73,Z73)","v":0.29184621155620316},{"$f":"k_tHole(W73,U73)","v":2.4340437317784254},{"$f":"K_t1Mu(Z73,AH73,D73,W73,U73,SIGN(X73),mu_millScale)","v":3.51121295498276},{"$f":"K_t1Mu(Z73,AI73,D73,W73,U73,SIGN(Y73),mu_millScale)","v":2.4639412200831727},{"$f":"Sigma_hMax(AK73,X73,AF73)","v":666.23036549506105},{"$f":"Sigma_hMin(X73,Y73,AG73,AE73,AK73,AL73,AJ73,AI73,Z73,IF(L73=1,mu_redLead,mu_millScale))","v":254.2445490305048},411.98581646455625,0.38161657318273284,138.42097195177428,{"$f":"tau_n(N73,W73,U73,D73)","v":89.335024119697081},{"$f":"tau_hMax(X73,Z73,AH73,W73,U73)","v":110.45053299418593},{"$f":"tau_hMin(X73,Y73,AS73,AE73,Z73,AI73,IF(L73=1,mu_redLead,mu_millScale),W73,U73)","v":57.378827718564295},53.071705275621639]
[64,"Kloppel1936","R; S",2,1,8.5,35,null,6,8,70,null,541.5,117.72,0.368421053,1358730,1,"P100T7","DAHLEN_ST52B",64,0.70588235294117652,0.6071428571428571,0.24285714285714285,186.39000010872752,68.670000108727507,{"$f":"IF(OR(X74>=1.6*D74*AD74,D74=1),calcLoadFraction(G74,F74,I74,J74,K74,D74,1),\"Condition for spring model not fulfilled\")","v":0.51768155648140746},{"$f":"IF(L74>2,L74,IF(L74=2,1,sigma_cl0(I74+J74)))","v":112.45880410439175},{"$f":"Sigma_cl(AA74,U74,V74,X74)","v":97.307206451901067},{"$f":"Sigma_cl(AA74,U74,V74,Y74)","v":106.8766365426288},{"$f":"sigma_Slip(AB74,W74,U74,IF(L74=1,mu_redLead,mu_millScale))","v":22.920260520222367},{"$f":"sigma_Slip(AC74,W74,U74,IF(L74=1,mu_redLead,mu_millScale))","v":25.174295331281826},{"$f":"Sigma_p(AB74,V74)","v":-22.856933527042337},{"$f":"Sigma_p(AC74,V74)","v":-25.104740605786908},{"$f":"beta_1(X74,AD74,Z74)","v":0.76246136937075859},{"$f":"beta_1(Y74,AE74,Z74)","v":0.29184621273600947},{"$f":"k_tHole(W74,U74)","v":2.4340437317784254},{"$f":"K_t1Mu(Z74,AH74,D74,W74,U74,SIGN(X74),mu_millScale)","v":3.4915864869452991},{"$f":"K_t1Mu(Z74,AI74,D74,W74,U74,SIGN(Y74),mu_millScale)","v":2.4639412230195852},{"$f":"Sigma_hMax(AK74,X74,AF74)","v":627.93987215432344},{"$f":"Sigma_hMin(X74,Y74,AG74,AE74,AK74,AL74,AJ74,AI74,Z74,IF(L74=1,mu_redLead,mu_millScale))","v":251.14898329925424},376.79088885506917,0.39995705709468232,127.18537569145397,{"$f":"tau_n(N74,W74,U74,D74)","v":82.463099187412695},{"$f":"tau_hMax(X74,Z74,AH74,W74,U74)","v":103.07243615852811},{"$f":"tau_hMin(X74,Y74,AS74,AE74,Z74,AI74,IF(L74=1,mu_redLead,mu_millScale),W74,U74)","v":55.530642558471079},47.541793600057026]
[65,"Kloppel1936","R; S",2,1,8.5,35,null,6,8,70,null,541.5,111.834,0.380434783,2432320,0,"P100T7","DAHLEN_ST52B",65,{"$f":"I75/F75","v":0.70588235294117652},{"$f":"F75/(J75+I75)","v":0.6071428571428571},{"$f":"F75/G75","v":0.24285714285714285},{"$f":"N75/(1-O75)","v":180.50400011400254},{"$f":"X75*O75","v":68.670000114002534},{"$f":"IF(OR(X75>=1.6*D75*AD75,D75=1),calcLoadFraction(G75,F75,I75,J75,K75,D75,1),\"Condition for spring model not fulfilled\")","v":0.51768155648140746},{"$f":"IF(L75>2,L75,IF(L75=2,1,sigma_cl0(I75+J75)))","v":112.45880410439175},{"$f":"Sigma_cl(AA75,U75,V75,X75)","v":97.785677956008655},{"$f":"Sigma_cl(AA75,U75,V75,Y75)","v":106.8766365422},{"$f":"sigma_Slip(AB75,W75,U75,IF(L75=1,mu_redLead,mu_millScale))","v":23.032962260674338},{"$f":"sigma_Slip(AC75,W75,U75,IF(L75=1,mu_redLead,mu_millScale))","v":25.174295331180826},{"$f":"Sigma_p(AB75,V75)","v":-22.969323880878843},{"$f":"Sigma_p(AC75,V75)","v":-25.104740605686185},{"$f":"beta_1(X75,AD75,Z75)","v":0.75350945062992636},{"$f":"beta_1(Y75,AE75,Z75)","v":0.2918462127932489},{"$f":"k_tHole(W75,U75)","v":2.4340437317784254},{"$f":"K_t1Mu(Z75,AH75,D75,W75,U75,SIGN(X75),mu_millScale)","v":3.4782950375596036},{"$f":"K_t1Mu(Z75,AI75,D75,W75,U75,SIGN(Y75),mu_millScale)","v":2.4639412231620481},{"$f":"Sigma_hMax(AK75,X75,AF75)","v":604.87684397531427},{"$f":"Sigma_hMin(X75,Y75,AG75,AE75,AK75,AL75,AJ75,AI75,Z75,IF(L75=1,mu_redLead,mu_millScale))","v":249.11353587277654},355.76330810253774,0.41184174655385414,120.46666509171372,{"$f":"tau_n(N75,W75,U75,D75)","v":78.339944228042057},{"$f":"tau_hMax(X75,Z75,AH75,W75,U75)","v":98.645578012036395},{"$f":"tau_hMin(X75,Y75,AS75,AE75,Z75,AI75,IF(L75=1,mu_redLead,mu_millScale),W75,U75)","v":54.358996315361075},44.28658169667532]
[66,"Kloppel1936","R; S",2,1,8.5,35,null,6,8,70,null,615,176.58,0.1,500000,1,"P100T11","RZE_BAUSTAHL",{"$f":"A76","v":66},0.70588235294117652,0.6071428571428571,0.24285714285714285,196.20000000000002,19.620000000000005,{"$f":"IF(OR(X76>=1.6*D76*AD76,D76=1),calcLoadFraction(G76,F76,I76,J76,K76,D76,1),\"Condition for spring model not fulfilled\")","v":0.51768155648140746},{"$f":"IF(L76>2,L76,IF(L76=2,1,sigma_cl0(I76+J76)))","v":112.45880410439175},{"$f":"Sigma_cl(AA76,U76,V76,X76)","v":96.509753953178858},{"$f":"Sigma_cl(AA76,U76,V76,Y76)","v":110.86389908927046},{"$f":"sigma_Slip(AB76,W76,U76,IF(L76=1,mu_redLead,mu_millScale))","v":22.732424288049263},{"$f":"sigma_Slip(AC76,W76,U76,IF(L76=1,mu_redLead,mu_millScale))","v":26.113476504638452},{"$f":"Sigma_p(AB76,V76)","v":-22.669616272556389},{"$f":"Sigma_p(AC76,V76)","v":-26.041326890673243},{"$f":"beta_1(X76,AD76,Z76)","v":0.7761876446422058},{"$f":"beta_1(Y76,AE76,Z76)","v":0},{"$f":"k_tHole(W76,U76)","v":2.4340437317784254},{"$f":"K_t1Mu(Z76,AH76,D76,W76,U76,SIGN(X76),mu_millScale)","v":3.51121295498276},{"$f":"K_t1Mu(Z76,AI76,D76,W76,U76,SIGN(Y76),mu_millScale)","v":1.804013957972991},{"$f":"Sigma_hMax(AK76,X76,AF76)","v":666.23036549506116},{"$f":"Sigma_hMin(X76,Y76,AG76,AE76,AK76,AL76,AJ76,AI76,Z76,IF(L76=1,mu_redLead,mu_millScale))","v":109.56468908659321},{"$f":"(AM76-AN76)","v":556.66567640846802},{"$f":"AN76/AM76","v":0.16445466127197322},{"$f":"AO76/3.16*(1-0.9*AP76)/(1-AP76)","v":179.62726117630615},{"$f":"tau_n(N76,W76,U76,D76)","v":123.69464878111906},{"$f":"tau_hMax(X76,Z76,AH76,W76,U76)","v":110.45053299418595},{"$f":"tau_hMin(X76,Y76,AS76,AE76,Z76,AI76,IF(L76=1,mu_redLead,mu_millScale),W76,U76)","v":36.033965615724277},{"$f":"(AS76-AT76)","v":74.416567378461679}]
[67,"Kloppel1936","R; S",2,1,8.5,35,null,6,8,70,null,615,156.96,0.111111111,1913000,1,"P100T11","RZE_BAUSTAHL",67,0.70588235294117652,0.6071428571428571,0.24285714285714285,176.57999997792751,19.619999977927502,{"$f":"IF(OR(X77>=1.6*D77*AD77,D77=1),calcLoadFraction(G77,F77,I77,J77,K77,D77,1),\"Condition for spring model not fulfilled\")","v":0.51768155648140746},{"$f":"IF(L77>2,L77,IF(L77=2,1,sigma_cl0(I77+J77)))","v":112.45880410439175},{"$f":"Sigma_cl(AA77,U77,V77,X77)","v":98.10465897009442},{"$f":"Sigma_cl(AA77,U77,V77,Y77)","v":110.86389909106472},{"$f":"sigma_Slip(AB77,W77,U77,IF(L77=1,mu_redLead,mu_millScale))","v":23.108096756981805},{"$f":"sigma_Slip(AC77,W77,U77,IF(L77=1,mu_redLead,mu_millScale))","v":26.113476505061083},{"$f":"Sigma_p(AB77,V77)","v":-23.044250786101948},{"$f":"Sigma_p(AC77,V77)","v":-26.041326891094709},{"$f":"beta_1(X77,AD77,Z77)","v":0.74720995202818863},{"$f":"beta_1(Y77,AE77,Z77)","v":0},{"$f":"k_tHole(W77,U77)","v":2.4340437317784254},{"$f":"K_t1Mu(Z77,AH77,D77,W77,U77,SIGN(X77),mu_millScale)","v":3.4687143720151439},{"$f":"K_t1Mu(Z77,AI77,D77,W77,U77,SIGN(Y77),mu_millScale)","v":1.804013957972991},{"$f":"Sigma_hMax(AK77,X77,AF77)","v":589.46133294776905},{"$f":"Sigma_hMin(X77,Y77,AG77,AE77,AK77,AL77,AJ77,AI77,Z77,IF(L77=1,mu_redLead,mu_millScale))","v":105.5675622119071},483.89377073586195,0.17909158126451905,156.47168574590273,{"$f":"tau_n(N77,W77,U77,D77)","v":109.95079891655027},{"$f":"tau_hMax(X77,Z77,AH77,W77,U77)","v":95.694339142721702},{"$f":"tau_hMin(X77,Y77,AS77,AE77,Z77,AI77,IF(L77=1,mu_redLead,mu_millScale),W77,U77)","v":33.610078517599426},62.084260625122276]
[68,"Kloppel1936","R; S",2,1,8.5,35,null,6,8,70,null,615,147.15,0.117647059,2305000,1,"P100T11","RZE_BAUSTAHL",68,0.70588235294117652,0.6071428571428571,0.24285714285714285,166.77000003335402,19.620000033354003,{"$f":"IF(OR(X78>=1.6*D78*AD78,D78=1),calcLoadFraction(G78,F78,I78,J78,K78,D78,1),\"Condition for spring model not fulfilled\")","v":0.51768155648140746},{"$f":"IF(L78>2,L78,IF(L78=2,1,sigma_cl0(I78+J78)))","v":112.45880410439175},{"$f":"Sigma_cl(AA78,U78,V78,X78)","v":98.902111473149446},{"$f":"Sigma_cl(AA78,U78,V78,Y78)","v":110.86389908655912},{"$f":"sigma_Slip(AB78,W78,U78,IF(L78=1,mu_redLead,mu_millScale))","v":23.295932990175483},{"$f":"sigma_Slip(AC78,W78,U78,IF(L78=1,mu_redLead,mu_millScale))","v":26.113476503999809},{"$f":"Sigma_p(AB78,V78)","v":-23.231568041605652},{"$f":"Sigma_p(AC78,V78)","v":-26.041326890036366},{"$f":"beta_1(X78,AD78,Z78)","v":0.73016425060942536},{"$f":"beta_1(Y78,AE78,Z78)","v":0},{"$f":"k_tHole(W78,U78)","v":2.4340437317784254},{"$f":"K_t1Mu(Z78,AH78,D78,W78,U78,SIGN(X78),mu_millScale)","v":3.4418723469428745},{"$f":"K_t1Mu(Z78,AI78,D78,W78,U78,SIGN(Y78),mu_millScale)","v":1.804013957972991},{"$f":"Sigma_hMax(AK78,X78,AF78)","v":550.76948337285785},{"$f":"Sigma_hMin(X78,Y78,AG78,AE78,AK78,AL78,AJ78,AI78,Z78,IF(L78=1,mu_redLead,mu_millScale))","v":103.19522637047578},447.57425700238207,0.18736554853859808,144.90309482260429,{"$f":"tau_n(N78,W78,U78,D78)","v":103.07887398426587},{"$f":"tau_hMax(X78,Z78,AH78,W78,U78)","v":88.316242266976204},{"$f":"tau_hMin(X78,Y78,AS78,AE78,Z78,AI78,IF(L78=1,mu_redLead,mu_millScale),W78,U78)","v":32.262472821472009},56.053769445504194]
[69,"Kloppel1936","R; S",2,1,8.5,35,null,6,8,70,null,615,166.77,0.105263158,1484000,1,"P100T11","RZE_BAUSTAHL",69,0.70588235294117652,0.6071428571428571,0.24285714285714285,186.39000002192824,19.620000021928234,{"$f":"IF(OR(X79>=1.6*D79*AD79,D79=1),calcLoadFraction(G79,F79,I79,J79,K79,D79,1),\"Condition for spring model not fulfilled\")","v":0.51768155648140746},{"$f":"IF(L79>2,L79,IF(L79=2,1,sigma_cl0(I79+J79)))","v":112.45880410439175},{"$f":"Sigma_cl(AA79,U79,V79,X79)","v":97.307206458956969},{"$f":"Sigma_cl(AA79,U79,V79,Y79)","v":110.86389908748792},{"$f":"sigma_Slip(AB79,W79,U79,IF(L79=1,mu_redLead,mu_millScale))","v":22.920260521884352},{"$f":"sigma_Slip(AC79,W79,U79,IF(L79=1,mu_redLead,mu_millScale))","v":26.113476504218585},{"$f":"Sigma_p(AB79,V79)","v":-22.856933528699731},{"$f":"Sigma_p(AC79,V79)","v":-26.041326890254535},{"$f":"beta_1(X79,AD79,Z79)","v":0.76246136924291574},{"$f":"beta_1(Y79,AE79,Z79)","v":0},{"$f":"k_tHole(W79,U79)","v":2.4340437317784254},{"$f":"K_t1Mu(Z79,AH79,D79,W79,U79,SIGN(X79),mu_millScale)","v":3.4915864867582243},{"$f":"K_t1Mu(Z79,AI79,D79,W79,U79,SIGN(Y79),mu_millScale)","v":1.804013957972991},{"$f":"Sigma_hMax(AK79,X79,AF79)","v":627.93987181473005},{"$f":"Sigma_hMin(X79,Y79,AG79,AE79,AK79,AL79,AJ79,AI79,Z79,IF(L79=1,mu_redLead,mu_millScale))","v":107.67765664874663},520.26221516598343,0.17147765491871217,168.04746228824621,{"$f":"tau_n(N79,W79,U79,D79)","v":116.82272384883466},{"$f":"tau_hMax(X79,Z79,AH79,W79,U79)","v":103.0724360932464},{"$f":"tau_hMin(X79,Y79,AS79,AE79,Z79,AI79,IF(L79=1,mu_redLead,mu_millScale),W79,U79)","v":34.863776648687399},68.208659444559004]
[70,"Kloppel1936","R; S",2,1,8.5,35,null,6,8,70,null,615,147.15,0.117647059,2335000,1,"P100T11","RZE_BAUSTAHL",70,0.70588235294117652,0.6071428571428571,0.24285714285714285,166.77000003335402,19.620000033354003,{"$f":"IF(OR(X80>=1.6*D80*AD80,D80=1),calcLoadFraction(G80,F80,I80,J80,K80,D80,1),\"Condition for spring model not fulfilled\")","v":0.51768155648140746},{"$f":"IF(L80>2,L80,IF(L80=2,1,sigma_cl0(I80+J80)))","v":112.45880410439175},{"$f":"Sigma_cl(AA80,U80,V80,X80)","v":98.902111473149446},{"$f":"Sigma_cl(AA80,U80,V80,Y80)","v":110.86389908655912},{"$f":"sigma_Slip(AB80,W80,U80,IF(L80=1,mu_redLead,mu_millScale))","v":23.295932990175483},{"$f":"sigma_Slip(AC80,W80,U80,IF(L80=1,mu_redLead,mu_millScale))","v":26.113476503999809},{"$f":"Sigma_p(AB80,V80)","v":-23.231568041605652},{"$f":"Sigma_p(AC80,V80)","v":-26.041326890036366},{"$f":"beta_1(X80,AD80,Z80)","v":0.73016425060942536},{"$f":"beta_1(Y80,AE80,Z80)","v":0},{"$f":"k_tHole(W80,U80)","v":2.4340437317784254},{"$f":"K_t1Mu(Z80,AH80,D80,W80,U80,SIGN(X80),mu_millScale)","v":3.4418723469428745},{"$f":"K_t1Mu(Z80,AI80,D80,W80,U80,SIGN(Y80),mu_millScale)","v":1.804013957972991},{"$f":"Sigma_hMax(AK80,X80,AF80)","v":550.76948337285785},{"$f":"Sigma_hMin(X80,Y80,AG80,AE80,AK80,AL80,AJ80,AI80,Z80,IF(L80=1,mu_redLead,mu_millScale))","v":103.19522637047578},447.57425700238207,0.18736554853859808,144.90309482260429,{"$f":"tau_n(N80,W80,U80,D80)","v":103.07887398426587},{"$f":"tau_hMax(X80,Z80,AH80,W80,U80)","v":88.316242266976204},{"$f":"tau_hMin(X80,Y80,AS80,AE80,Z80,AI80,IF(L80=1,mu_redLead,mu_millScale),W80,U80)","v":32.262472821472009},56.053769445504194]
[71,"Kloppel1936","R; S",2,1,8.5,35,null,6,8,70,null,590,196.2,0.25925925900000002,903500,1,"P100T9","Stuttgard_ST52D",71,0.70588235294117652,0.6071428571428571,0.24285714285714285,264.86999990729549,68.669999907295505,{"$f":"IF(OR(X81>=1.6*D81*AD81,D81=1),calcLoadFraction(G81,F81,I81,J81,K81,D81,1),\"Condition for spring model not fulfilled\")","v":0.51768155648140746},{"$f":"IF(L81>2,L81,IF(L81=2,1,sigma_cl0(I81+J81)))","v":112.45880410439175},{"$f":"Sigma_cl(AA81,U81,V81,X81)","v":90.927586407790272},{"$f":"Sigma_cl(AA81,U81,V81,Y81)","v":106.87663655900316},{"$f":"sigma_Slip(AB81,W81,U81,IF(L81=1,mu_redLead,mu_millScale))","v":21.417570650039629},{"$f":"sigma_Slip(AC81,W81,U81,IF(L81=1,mu_redLead,mu_millScale))","v":25.17429533513873},{"$f":"Sigma_p(AB81,V81)","v":-21.358395478392204},{"$f":"Sigma_p(AC81,V81)","v":-25.104740609633154},{"$f":"beta_1(X81,AD81,Z81)","v":0.84380226058944618},{"$f":"beta_1(Y81,AE81,Z81)","v":0.2918462105502635},{"$f":"k_tHole(W81,U81)","v":2.4340437317784254},{"$f":"K_t1Mu(Z81,AH81,D81,W81,U81,SIGN(X81),mu_millScale)","v":3.5936435423793531},{"$f":"K_t1Mu(Z81,AI81,D81,W81,U81,SIGN(Y81),mu_millScale)","v":2.4639412175794955},{"$f":"Sigma_hMax(AK81,X81,AF81)","v":930.48996925848007},{"$f":"Sigma_hMin(X81,Y81,AG81,AE81,AK81,AL81,AJ81,AI81,Z81,IF(L81=1,mu_redLead,mu_millScale))","v":268.93036883130299},661.55960042717709,0.2890201697129709,217.8647586425023,{"$f":"tau_n(N81,W81,U81,D81)","v":137.43849864568782},{"$f":"tau_hMax(X81,Z81,AH81,W81,U81)","v":162.09721134648524},{"$f":"tau_hMin(X81,Y81,AS81,AE81,Z81,AI81,IF(L81=1,mu_redLead,mu_millScale),W81,U81)","v":67.576723827048113},94.520487519437125]
[72,"Kloppel1936","R; S",2,1,8.5,35,null,6,8,70,null,590,176.58,0.28000000000000003,556600,1,"P100T9","Stuttgard_ST52D",72,0.70588235294117652,0.6071428571428571,0.24285714285714285,245.25000000000003,68.670000000000016,{"$f":"IF(OR(X82>=1.6*D82*AD82,D82=1),calcLoadFraction(G82,F82,I82,J82,K82,D82,1),\"Condition for spring model not fulfilled\")","v":0.51768155648140746},{"$f":"IF(L82>2,L82,IF(L82=2,1,sigma_cl0(I82+J82)))","v":112.45880410439175},{"$f":"Sigma_cl(AA82,U82,V82,X82)","v":92.52249141537564},{"$f":"Sigma_cl(AA82,U82,V82,Y82)","v":106.87663655146723},{"$f":"sigma_Slip(AB82,W82,U82,IF(L82=1,mu_redLead,mu_millScale))","v":21.793243116774487},{"$f":"sigma_Slip(AC82,W82,U82,IF(L82=1,mu_redLead,mu_millScale))","v":25.174295333363677},{"$f":"Sigma_p(AB82,V82)","v":-21.733029989746154},{"$f":"Sigma_p(AC82,V82)","v":-25.104740607863004},{"$f":"beta_1(X82,AD82,Z82)","v":0.82834749128223684},{"$f":"beta_1(Y82,AE82,Z82)","v":0.29184621155620355},{"$f":"k_tHole(W82,U82)","v":2.4340437317784254},{"$f":"K_t1Mu(Z82,AH82,D82,W82,U82,SIGN(X82),mu_millScale)","v":3.5769901345070836},{"$f":"K_t1Mu(Z82,AI82,D82,W82,U82,SIGN(Y82),mu_millScale)","v":2.4639412200831736},{"$f":"Sigma_hMax(AK82,X82,AF82)","v":855.5238004981162},{"$f":"Sigma_hMin(X82,Y82,AG82,AE82,AK82,AL82,AJ82,AI82,Z82,IF(L82=1,mu_redLead,mu_millScale))","v":265.66874369623616},589.85505680187998,0.31053343406875933,195.07023138338718,{"$f":"tau_n(N82,W82,U82,D82)","v":123.69464878111906},{"$f":"tau_hMax(X82,Z82,AH82,W82,U82)","v":147.34101758134477},{"$f":"tau_hMin(X82,Y82,AS82,AE82,Z82,AI82,IF(L82=1,mu_redLead,mu_millScale),W82,U82)","v":65.061703611471742},82.27931396987303]
[73,"Kloppel1936","R; S",2,1,8.5,35,null,6,8,70,null,590,166.77,0.29166666699999999,2041000,0,"P100T9","Stuttgard_ST52D",73,0.70588235294117652,0.6071428571428571,0.24285714285714285,235.4400001107953,68.670000110795286,{"$f":"IF(OR(X83>=1.6*D83*AD83,D83=1),calcLoadFraction(G83,F83,I83,J83,K83,D83,1),\"Condition for spring model not fulfilled\")","v":0.51768155648140746},{"$f":"IF(L83>2,L83,IF(L83=2,1,sigma_cl0(I83+J83)))","v":112.45880410439175},{"$f":"Sigma_cl(AA83,U83,V83,X83)","v":93.319943913929762},{"$f":"Sigma_cl(AA83,U83,V83,Y83)","v":106.87663654246072},{"$f":"sigma_Slip(AB83,W83,U83,IF(L83=1,mu_redLead,mu_millScale))","v":21.981079348908001},{"$f":"sigma_Slip(AC83,W83,U83,IF(L83=1,mu_redLead,mu_millScale))","v":25.174295331242234},{"$f":"Sigma_p(AB83,V83)","v":-21.920347244192616},{"$f":"Sigma_p(AC83,V83)","v":-25.104740605747423},{"$f":"beta_1(X83,AD83,Z83)","v":0.81965418361117248},{"$f":"beta_1(Y83,AE83,Z83)","v":0.29184621275844702},{"$f":"k_tHole(W83,U83)","v":2.4340437317784254},{"$f":"K_t1Mu(Z83,AH83,D83,W83,U83,SIGN(X83),mu_millScale)","v":3.5670357358705225},{"$f":"K_t1Mu(Z83,AI83,D83,W83,U83,SIGN(Y83),mu_millScale)","v":2.4639412230754298},{"$f":"Sigma_hMax(AK83,X83,AF83)","v":817.90254680437397},{"$f":"Sigma_hMin(X83,Y83,AG83,AE83,AK83,AL83,AJ83,AI83,Z83,IF(L83=1,mu_redLead,mu_millScale))","v":263.80705288625148},554.09549391812243,0.32254093585717725,183.69499974897073,{"$f":"tau_n(N83,W83,U83,D83)","v":116.82272384883466},{"$f":"tau_hMax(X83,Z83,AH83,W83,U83)","v":139.96292074724207},{"$f":"tau_hMin(X83,Y83,AS83,AE83,Z83,AI83,IF(L83=1,mu_redLead,mu_millScale),W83,U83)","v":63.699725275393874},76.263195471848192]
[74,"Kloppel1936","R; S",2,1,8.5,35,null,6,8,70,null,590,156.96,0.30434782599999999,2001000,0,"P100T9","Stuttgard_ST52D",74,0.70588235294117652,0.6071428571428571,0.24285714285714285,225.62999997179625,68.669999971796244,{"$f":"IF(OR(X84>=1.6*D84*AD84,D84=1),calcLoadFraction(G84,F84,I84,J84,K84,D84,1),\"Condition for spring model not fulfilled\")","v":0.51768155648140746},{"$f":"IF(L84>2,L84,IF(L84=2,1,sigma_cl0(I84+J84)))","v":112.45880410439175},{"$f":"Sigma_cl(AA84,U84,V84,X84)","v":94.117396432789604},{"$f":"Sigma_cl(AA84,U84,V84,Y84)","v":106.87663655375991},{"$f":"sigma_Slip(AB84,W84,U84,IF(L84=1,mu_redLead,mu_millScale))","v":22.168915585824429},{"$f":"sigma_Slip(AC84,W84,U84,IF(L84=1,mu_redLead,mu_millScale))","v":25.174295333903707},{"$f":"Sigma_p(AB84,V84)","v":-22.107664503408785},{"$f":"Sigma_p(AC84,V84)","v":-25.104740608401542},{"$f":"beta_1(X84,AD84,Z84)","v":0.81020493590083476},{"$f":"beta_1(Y84,AE84,Z84)","v":0.29184621125016336},{"$f":"k_tHole(W84,U84)","v":2.4340437317784254},{"$f":"K_t1Mu(Z84,AH84,D84,W84,U84,SIGN(X84),mu_millScale)","v":3.5557472824533787},{"$f":"K_t1Mu(Z84,AI84,D84,W84,U84,SIGN(Y84),mu_millScale)","v":2.4639412193214718},{"$f":"Sigma_hMax(AK84,X84,AF84)","v":780.1755947362617},{"$f":"Sigma_hMin(X84,Y84,AG84,AE84,AK84,AL84,AJ84,AI84,Z84,IF(L84=1,mu_redLead,mu_millScale))","v":261.76285611144414},518.41273862481762,0.33551787299874852,172.33829880884872,{"$f":"tau_n(N84,W84,U84,D84)","v":109.95079891655027},{"$f":"tau_hMax(X84,Z84,AH84,W84,U84)","v":132.58482372526919},{"$f":"tau_hMin(X84,Y84,AS84,AE84,Z84,AI84,IF(L84=1,mu_redLead,mu_millScale),W84,U84)","v":62.25903873772689},70.325784987542306]
[75,"Kloppel1936","R; S",2,1,8.5,35,null,6,8,70,1,590,225.63,0.08,93100,1,"P100T8","Stuttgard_ST52C",75,0.70588235294117652,0.6071428571428571,0.24285714285714285,245.24999999999997,19.619999999999997,{"$f":"IF(OR(X85>=1.6*D85*AD85,D85=1),calcLoadFraction(G85,F85,I85,J85,K85,D85,1),\"Condition for spring model not fulfilled\")","v":0.51768155648140746},{"$f":"IF(L85>2,L85,IF(L85=2,1,sigma_cl0(I85+J85)))","v":112.45880410439175},{"$f":"Sigma_cl(AA85,U85,V85,X85)","v":92.52249141537564},{"$f":"Sigma_cl(AA85,U85,V85,Y85)","v":110.86389908927046},{"$f":"sigma_Slip(AB85,W85,U85,IF(L85=1,mu_redLead,mu_millScale))","v":3.9624078394135429},{"$f":"sigma_Slip(AC85,W85,U85,IF(L85=1,mu_redLead,mu_millScale))","v":4.7479048190251731},{"$f":"Sigma_p(AB85,V85)","v":-21.733029989746154},{"$f":"Sigma_p(AC85,V85)","v":-26.041326890673243},{"$f":"beta_1(X85,AD85,Z85)","v":0.96879045296040667},{"$f":"beta_1(Y85,AE85,Z85)","v":0.53254446288014712},{"$f":"k_tHole(W85,U85)","v":2.4340437317784254},{"$f":"K_t1Mu(Z85,AH85,D85,W85,U85,SIGN(X85),mu_millScale)","v":3.6743478342249984},{"$f":"K_t1Mu(Z85,AI85,D85,W85,U85,SIGN(Y85),mu_millScale)","v":3.0503941001637069},{"$f":"Sigma_hMax(AK85,X85,AF85)","v":879.40077635393459},{"$f":"Sigma_hMin(X85,Y85,AG85,AE85,AK85,AL85,AJ85,AI85,Z85,IF(L85=1,mu_redLead,mu_millScale))","v":59.744870605596006},819.65590574833857,6.7938159951715052E-2,261.27544076230953,{"$f":"tau_n(N85,W85,U85,D85)","v":158.05427344254099},{"$f":"tau_hMax(X85,Z85,AH85,W85,U85)","v":172.32209026349616},{"$f":"tau_hMin(X85,Y85,AS85,AE85,Z85,AI85,IF(L85=1,mu_redLead,mu_millScale),W85,U85)","v":20.369338905356337},151.95275135813984]
[76,"Kloppel1936","R; S",2,1,8.5,35,null,6,8,70,1,590,186.39,9.5200000000000007E-2,283200,1,"P100T8","Stuttgard_ST52C",76,0.70588235294117652,0.6071428571428571,0.24285714285714285,206.00132625994692,19.611326259946949,{"$f":"IF(OR(X86>=1.6*D86*AD86,D86=1),calcLoadFraction(G86,F86,I86,J86,K86,D86,1),\"Condition for spring model not fulfilled\")","v":0.51768155648140746},{"$f":"IF(L86>2,L86,IF(L86=2,1,sigma_cl0(I86+J86)))","v":112.45880410439175},{"$f":"Sigma_cl(AA86,U86,V86,X86)","v":95.713006531831795},{"$f":"Sigma_cl(AA86,U86,V86,Y86)","v":110.86460417548403},{"$f":"sigma_Slip(AB86,W86,U86,IF(L86=1,mu_redLead,mu_millScale))","v":4.0990462061049131},{"$f":"sigma_Slip(AC86,W86,U86,IF(L86=1,mu_redLead,mu_millScale))","v":4.7479350153493032},{"$f":"Sigma_p(AB86,V86)","v":-22.482464636910841},{"$f":"Sigma_p(AC86,V86)","v":-26.041492511589745},{"$f":"beta_1(X86,AD86,Z86)","v":0.96156294502406559},{"$f":"beta_1(Y86,AE86,Z86)","v":0.53233474133039038},{"$f":"k_tHole(W86,U86)","v":2.4340437317784254},{"$f":"K_t1Mu(Z86,AH86,D86,W86,U86,SIGN(X86),mu_millScale)","v":3.6725107205000134},{"$f":"K_t1Mu(Z86,AI86,D86,W86,U86,SIGN(Y86),mu_millScale)","v":3.0499168360192717},{"$f":"Sigma_hMax(AK86,X86,AF86)","v":734.05961448996516},{"$f":"Sigma_hMin(X86,Y86,AG86,AE86,AK86,AL86,AJ86,AI86,Z86,IF(L86=1,mu_redLead,mu_millScale))","v":59.374307056750041},674.68530743321514,8.0884857148835435E-2,215.38694244901586,{"$f":"tau_n(N86,W86,U86,D86)","v":130.56657371340341},{"$f":"tau_hMax(X86,Z86,AH86,W86,U86)","v":143.66461815892808},{"$f":"tau_hMin(X86,Y86,AS86,AE86,Z86,AI86,IF(L86=1,mu_redLead,mu_millScale),W86,U86)","v":20.006419698425841},123.65819846050223]
[77,"Kloppel1936","R; S",2,1,8.5,35,null,6,8,70,1,590,147.15,0.117647059,428300,1,"P100T8","Stuttgard_ST52C",77,0.70588235294117652,0.6071428571428571,0.24285714285714285,166.77000003335402,19.620000033354003,{"$f":"IF(OR(X87>=1.6*D87*AD87,D87=1),calcLoadFraction(G87,F87,I87,J87,K87,D87,1),\"Condition for spring model not fulfilled\")","v":0.51768155648140746},{"$f":"IF(L87>2,L87,IF(L87=2,1,sigma_cl0(I87+J87)))","v":112.45880410439175},{"$f":"Sigma_cl(AA87,U87,V87,X87)","v":98.902111473149446},{"$f":"Sigma_cl(AA87,U87,V87,Y87)","v":110.86389908655912},{"$f":"sigma_Slip(AB87,W87,U87,IF(L87=1,mu_redLead,mu_millScale))","v":4.2356241800319054},{"$f":"sigma_Slip(AC87,W87,U87,IF(L87=1,mu_redLead,mu_millScale))","v":4.7479048189090562},{"$f":"Sigma_p(AB87,V87)","v":-23.231568041605652},{"$f":"Sigma_p(AC87,V87)","v":-26.041326890036366},{"$f":"beta_1(X87,AD87,Z87)","v":0.95093895465625911},{"$f":"beta_1(Y87,AE87,Z87)","v":0.53254446368625397},{"$f":"k_tHole(W87,U87)","v":2.4340437317784254},{"$f":"K_t1Mu(Z87,AH87,D87,W87,U87,SIGN(X87),mu_millScale)","v":3.6691416690171996},{"$f":"K_t1Mu(Z87,AI87,D87,W87,U87,SIGN(Y87),mu_millScale)","v":3.0503941019979779},{"$f":"Sigma_hMax(AK87,X87,AF87)","v":588.67118822277337},{"$f":"Sigma_hMin(X87,Y87,AG87,AE87,AK87,AL87,AJ87,AI87,Z87,IF(L87=1,mu_redLead,mu_millScale))","v":58.891965328235855},529.7792228945375,0.10004220778331878,169.51532260359528,{"$f":"tau_n(N87,W87,U87,D87)","v":103.07887398426587},{"$f":"tau_hMax(X87,Z87,AH87,W87,U87)","v":115.01981236472656},{"$f":"tau_hMin(X87,Y87,AS87,AE87,Z87,AI87,IF(L87=1,mu_redLead,mu_millScale),W87,U87)","v":19.515984301362984},95.503828063363585]
[78,"Kloppel1936","R; S",2,1,8.5,35,null,6,8,70,1,590,137.34,0.125,2021400,0,"P100T8","Stuttgard_ST52C",78,0.70588235294117652,0.6071428571428571,0.24285714285714285,156.96,19.62,{"$f":"IF(OR(X88>=1.6*D88*AD88,D88=1),calcLoadFraction(G88,F88,I88,J88,K88,D88,1),\"Condition for spring model not fulfilled\")","v":0.51768155648140746},{"$f":"IF(L88>2,L88,IF(L88=2,1,sigma_cl0(I88+J88)))","v":112.45880410439175},{"$f":"Sigma_cl(AA88,U88,V88,X88)","v":99.699563983421442},{"$f":"Sigma_cl(AA88,U88,V88,Y88)","v":110.86389908927046},{"$f":"sigma_Slip(AB88,W88,U88,IF(L88=1,mu_redLead,mu_millScale))","v":4.269776222739833},{"$f":"sigma_Slip(AC88,W88,U88,IF(L88=1,mu_redLead,mu_millScale))","v":4.7479048190251731},{"$f":"Sigma_p(AB88,V88)","v":-23.418885298804579},{"$f":"Sigma_p(AC88,V88)","v":-26.041326890673243},{"$f":"beta_1(X88,AD88,Z88)","v":0.94745233388039396},{"$f":"beta_1(Y88,AE88,Z88)","v":0.53254446288014723},{"$f":"k_tHole(W88,U88)","v":2.4340437317784254},{"$f":"K_t1Mu(Z88,AH88,D88,W88,U88,SIGN(X88),mu_millScale)","v":3.6678645242596306},{"$f":"K_t1Mu(Z88,AI88,D88,W88,U88,SIGN(Y88),mu_millScale)","v":3.0503941001637069},{"$f":"Sigma_hMax(AK88,X88,AF88)","v":552.28913042898705},{"$f":"Sigma_hMin(X88,Y88,AG88,AE88,AK88,AL88,AJ88,AI88,Z88,IF(L88=1,mu_redLead,mu_millScale))","v":58.721201772106689},493.56792865688038,0.10632329795535786,158.05064836521871,{"$f":"tau_n(N88,W88,U88,D88)","v":96.206949051981482},{"$f":"tau_hMax(X88,Z88,AH88,W88,U88)","v":107.85702759998269},{"$f":"tau_hMin(X88,Y88,AS88,AE88,Z88,AI88,IF(L88=1,mu_redLead,mu_millScale),W88,U88)","v":19.359058556468707},88.497969043513976]
[79,"Kloppel1936","R; S",2,1,8.5,35,null,6,8,70,1,590,255.06,7.1400000000000005E-2,68000,1,"P100T9","Stuttgard_ST52D",79,0.70588235294117652,0.6071428571428571,0.24285714285714285,274.67154856773641,19.611548567736381,{"$f":"IF(OR(X89>=1.6*D89*AD89,D89=1),calcLoadFraction(G89,F89,I89,J89,K89,D89,1),\"Condition for spring model not fulfilled\")","v":0.51768155648140746},{"$f":"IF(L89>2,L89,IF(L89=2,1,sigma_cl0(I89+J89)))","v":112.45880410439175},{"$f":"Sigma_cl(AA89,U89,V89,X89)","v":90.130820907561301},{"$f":"Sigma_cl(AA89,U89,V89,Y89)","v":110.86458610413806},{"$f":"sigma_Slip(AB89,W89,U89,IF(L89=1,mu_redLead,mu_millScale))","v":3.8599811340310417},{"$f":"sigma_Slip(AC89,W89,U89,IF(L89=1,mu_redLead,mu_millScale))","v":4.7479342414181014},{"$f":"Sigma_p(AB89,V89)","v":-21.17123959611563},{"$f":"Sigma_p(AC89,V89)","v":-26.041488266728866},{"$f":"beta_1(X89,AD89,Z89)","v":0.97285381443991681},{"$f":"beta_1(Y89,AE89,Z89)","v":0.53234011880602516},{"$f":"k_tHole(W89,U89)","v":2.4340437317784254},{"$f":"K_t1Mu(Z89,AH89,D89,W89,U89,SIGN(X89),mu_millScale)","v":3.6752170481609983},{"$f":"K_t1Mu(Z89,AI89,D89,W89,U89,SIGN(Y89),mu_millScale)","v":3.0499290747912156},{"$f":"Sigma_hMax(AK89,X89,AF89)","v":988.30631834481085},{"$f":"Sigma_hMin(X89,Y89,AG89,AE89,AK89,AL89,AJ89,AI89,Z89,IF(L89=1,mu_redLead,mu_millScale))","v":59.904794577337597},928.40152376747324,6.0613590609907821E-2,295.69367190671102,{"$f":"tau_n(N89,W89,U89,D89)","v":178.67004823939416},{"$f":"tau_hMax(X89,Z89,AH89,W89,U89)","v":193.80427365999333},{"$f":"tau_hMin(X89,Y89,AS89,AE89,Z89,AI89,IF(L89=1,mu_redLead,mu_millScale),W89,U89)","v":20.573167642532752},173.23110601746058]
[80,"Kloppel1936","R; S",2,1,8.5,35,null,6,8,70,1,590,196.2,9.0899999999999995E-2,168300,1,"P100T9","Stuttgard_ST52D",80,0.70588235294117652,0.6071428571428571,0.24285714285714285,215.81784182158177,19.617841821581781,{"$f":"IF(OR(X90>=1.6*D90*AD90,D90=1),calcLoadFraction(G90,F90,I90,J90,K90,D90,1),\"Condition for spring model not fulfilled\")","v":0.51768155648140746},{"$f":"IF(L90>2,L90,IF(L90=2,1,sigma_cl0(I90+J90)))","v":112.45880410439175},{"$f":"Sigma_cl(AA90,U90,V90,X90)","v":94.915024375854856},{"$f":"Sigma_cl(AA90,U90,V90,Y90)","v":110.86407452706774},{"$f":"sigma_Slip(AB90,W90,U90,IF(L90=1,mu_redLead,mu_millScale))","v":4.0648714805632089},{"$f":"sigma_Slip(AC90,W90,U90,IF(L90=1,mu_redLead,mu_millScale))","v":4.7479123323994097},{"$f":"Sigma_p(AB90,V90)","v":-22.295022968816642},{"$f":"Sigma_p(AC90,V90)","v":-26.041368100057593},{"$f":"beta_1(X90,AD90,Z90)","v":0.9636171445345636},{"$f":"beta_1(Y90,AE90,Z90)","v":0.53249229781700069},{"$f":"k_tHole(W90,U90)","v":2.4340437317784254},{"$f":"K_t1Mu(Z90,AH90,D90,W90,U90,SIGN(X90),mu_millScale)","v":3.6730705812389868},{"$f":"K_t1Mu(Z90,AI90,D90,W90,U90,SIGN(Y90),mu_millScale)","v":3.0502753971276597},{"$f":"Sigma_hMax(AK90,X90,AF90)","v":770.41914273252439},{"$f":"Sigma_hMin(X90,Y90,AG90,AE90,AK90,AL90,AJ90,AI90,Z90,IF(L90=1,mu_redLead,mu_millScale))","v":59.494096446393456},710.92504628613096,7.7223024645233576E-2,226.85900504138297,{"$f":"tau_n(N90,W90,U90,D90)","v":137.43849864568782},{"$f":"tau_hMax(X90,Z90,AH90,W90,U90)","v":150.83216024544009},{"$f":"tau_hMin(X90,Y90,AS90,AE90,Z90,AI90,IF(L90=1,mu_redLead,mu_millScale),W90,U90)","v":20.110471136216631},130.72168910922346]
[81,"Kloppel1936","R; S",2,1,8.5,35,null,6,8,70,1,590,156.96,0.111111111,378900,1,"P100T9","Stuttgard_ST52D",81,0.70588235294117652,0.6071428571428571,0.24285714285714285,176.57999997792751,19.619999977927502,{"$f":"IF(OR(X91>=1.6*D91*AD91,D91=1),calcLoadFraction(G91,F91,I91,J91,K91,D91,1),\"Condition for spring model not fulfilled\")","v":0.51768155648140746},{"$f":"IF(L91>2,L91,IF(L91=2,1,sigma_cl0(I91+J91)))","v":112.45880410439175},{"$f":"Sigma_cl(AA91,U91,V91,X91)","v":98.10465897009442},{"$f":"Sigma_cl(AA91,U91,V91,Y91)","v":110.86389909106472},{"$f":"sigma_Slip(AB91,W91,U91,IF(L91=1,mu_redLead,mu_millScale))","v":4.201472137633055},{"$f":"sigma_Slip(AC91,W91,U91,IF(L91=1,mu_redLead,mu_millScale))","v":4.7479048191020148},{"$f":"Sigma_p(AB91,V91)","v":-23.044250786101948},{"$f":"Sigma_p(AC91,V91)","v":-26.041326891094709},{"$f":"beta_1(X91,AD91,Z91)","v":0.95403817309603434},{"$f":"beta_1(Y91,AE91,Z91)","v":0.53254446234669428},{"$f":"k_tHole(W91,U91)","v":2.4340437317784254},{"$f":"K_t1Mu(Z91,AH91,D91,W91,U91,SIGN(X91),mu_millScale)","v":3.670206055869663},{"$f":"K_t1Mu(Z91,AI91,D91,W91,U91,SIGN(Y91),mu_millScale)","v":3.0503940989498513},{"$f":"Sigma_hMax(AK91,X91,AF91)","v":625.04073447835253},{"$f":"Sigma_hMin(X91,Y91,AG91,AE91,AK91,AL91,AJ91,AI91,Z91,IF(L91=1,mu_redLead,mu_millScale))","v":59.042634763701869},565.99809971465061,9.4462059041604332E-2,180.98176050348761,{"$f":"tau_n(N91,W91,U91,D91)","v":109.95079891655027},{"$f":"tau_hMax(X91,Z91,AH91,W91,U91)","v":122.18259706464721},{"$f":"tau_hMin(X91,Y91,AS91,AE91,Z91,AI91,IF(L91=1,mu_redLead,mu_millScale),W91,U91)","v":19.657776606737194},102.52482045791001]
[82,"Kloppel1936","R; S",2,1,8.5,35,null,6,8,70,1,590,127.53,0.133333333,696400,1,"P100T9","Stuttgard_ST52D (duplicate in Graf1935)",82,0.70588235294117652,0.6071428571428571,0.24285714285714285,147.14999994340383,19.619999943403844,{"$f":"IF(OR(X92>=1.6*D92*AD92,D92=1),calcLoadFraction(G92,F92,I92,J92,K92,D92,1),\"Condition for spring model not fulfilled\")","v":0.51768155648140746},{"$f":"IF(L92>2,L92,IF(L92=2,1,sigma_cl0(I92+J92)))","v":112.45880410439175},{"$f":"Sigma_cl(AA92,U92,V92,X92)","v":100.49701649558277},{"$f":"Sigma_cl(AA92,U92,V92,Y92)","v":110.86389909387114},{"$f":"sigma_Slip(AB92,W92,U92,IF(L92=1,mu_redLead,mu_millScale))","v":4.3039282655286737},{"$f":"sigma_Slip(AC92,W92,U92,IF(L92=1,mu_redLead,mu_millScale))","v":4.747904819222204},{"$f":"Sigma_p(AB92,V92)","v":-23.606202556447304},{"$f":"Sigma_p(AC92,V92)","v":-26.041326891753918},{"$f":"beta_1(X92,AD92,Z92)","v":0.94350083032274135},{"$f":"beta_1(Y92,AE92,Z92)","v":0.53254446151231893},{"$f":"k_tHole(W92,U92)","v":2.4340437317784254},{"$f":"K_t1Mu(Z92,AH92,D92,W92,U92,SIGN(X92),mu_millScale)","v":3.6663156456970896},{"$f":"K_t1Mu(Z92,AI92,D92,W92,U92,SIGN(Y92),mu_millScale)","v":3.0503940970512562},{"$f":"Sigma_hMax(AK92,X92,AF92)","v":515.89214450038003},{"$f":"Sigma_hMin(X92,Y92,AG92,AE92,AK92,AL92,AJ92,AI92,Z92,IF(L92=1,mu_redLead,mu_millScale))","v":58.526083770835783},457.36606072954424,0.1134463557833699,146.58818642614804,{"$f":"tau_n(N92,W92,U92,D92)","v":89.335024119697081},{"$f":"tau_hMax(X92,Z92,AH92,W92,U92)","v":100.69424281826853},{"$f":"tau_hMin(X92,Y92,AS92,AE92,Z92,AI92,IF(L92=1,mu_redLead,mu_millScale),W92,U92)","v":19.184259331042604},81.509983487225924]
[83,"Kloppel1936","R; S",2,1,8.5,35,null,6,8,70,1,590,107.91,0.15384615400000001,1209700,1,"P100T9","Stuttgard_ST52D (duplicate in Graf1935)",83,0.70588235294117652,0.6071428571428571,0.24285714285714285,127.53000002318727,19.620000023187274,{"$f":"IF(OR(X93>=1.6*D93*AD93,D93=1),calcLoadFraction(G93,F93,I93,J93,K93,D93,1),\"Condition for spring model not fulfilled\")","v":0.51768155648140746},{"$f":"IF(L93>2,L93,IF(L93=2,1,sigma_cl0(I93+J93)))","v":112.45880410439175},{"$f":"Sigma_cl(AA93,U93,V93,X93)","v":102.09192150421848},{"$f":"Sigma_cl(AA93,U93,V93,Y93)","v":110.86389908738558},{"$f":"sigma_Slip(AB93,W93,U93,IF(L93=1,mu_redLead,mu_millScale))","v":4.3722323504345395},{"$f":"sigma_Slip(AC93,W93,U93,IF(L93=1,mu_redLead,mu_millScale))","v":4.7479048189444502},{"$f":"Sigma_p(AB93,V93)","v":-23.980837068047972},{"$f":"Sigma_p(AC93,V93)","v":-26.041326890230497},{"$f":"beta_1(X93,AD93,Z93)","v":0.9337740524321112},{"$f":"beta_1(Y93,AE93,Z93)","v":0.53254446344054218},{"$f":"k_tHole(W93,U93)","v":2.4340437317784254},{"$f":"K_t1Mu(Z93,AH93,D93,W93,U93,SIGN(X93),mu_millScale)","v":3.6620480845822025},{"$f":"K_t1Mu(Z93,AI93,D93,W93,U93,SIGN(Y93),mu_millScale)","v":3.0503941014388687},{"$f":"Sigma_hMax(AK93,X93,AF93)","v":443.04015524363319},{"$f":"Sigma_hMin(X93,Y93,AG93,AE93,AK93,AL93,AJ93,AI93,Z93,IF(L93=1,mu_redLead,mu_millScale))","v":58.038811738300595},385.00134350533261,0.13100124458557114,123.67253945543122,{"$f":"tau_n(N93,W93,U93,D93)","v":75.591174255128308},{"$f":"tau_hMax(X93,Z93,AH93,W93,U93)","v":86.368673395741752},{"$f":"tau_hMin(X93,Y93,AS93,AE93,Z93,AI93,IF(L93=1,mu_redLead,mu_millScale),W93,U93)","v":18.766236262929979},67.602437132811772]
[84,"Kloppel1936","R; S",2,1,8.5,35,null,6,8,70,1,590,98.1,0.16666666699999999,2021000,0,"P100T9","Stuttgard_ST52D",84,0.70588235294117652,0.6071428571428571,0.24285714285714285,117.72000004708799,19.620000047087998,{"$f":"IF(OR(X94>=1.6*D94*AD94,D94=1),calcLoadFraction(G94,F94,I94,J94,K94,D94,1),\"Condition for spring model not fulfilled\")","v":0.51768155648140746},{"$f":"IF(L94>2,L94,IF(L94=2,1,sigma_cl0(I94+J94)))","v":112.45880410439175},{"$f":"Sigma_cl(AA94,U94,V94,X94)","v":102.88937400983625},{"$f":"Sigma_cl(AA94,U94,V94,Y94)","v":110.86389908544268},{"$f":"sigma_Slip(AB94,W94,U94,IF(L94=1,mu_redLead,mu_millScale))","v":4.406384392943143},{"$f":"sigma_Slip(AC94,W94,U94,IF(L94=1,mu_redLead,mu_millScale))","v":4.7479048188612429},{"$f":"Sigma_p(AB94,V94)","v":-24.168154324153647},{"$f":"Sigma_p(AC94,V94)","v":-26.041326889774119},{"$f":"beta_1(X94,AD94,Z94)","v":0.92769481624532757},{"$f":"beta_1(Y94,AE94,Z94)","v":0.53254446401818023},{"$f":"k_tHole(W94,U94)","v":2.4340437317784254},{"$f":"K_t1Mu(Z94,AH94,D94,W94,U94,SIGN(X94),mu_millScale)","v":3.659055850868449},{"$f":"K_t1Mu(Z94,AI94,D94,W94,U94,SIGN(Y94),mu_millScale)","v":3.0503941027532662},{"$f":"Sigma_hMax(AK94,X94,AF94)","v":406.57590061237778},{"$f":"Sigma_hMin(X94,Y94,AG94,AE94,AK94,AL94,AJ94,AI94,Z94,IF(L94=1,mu_redLead,mu_millScale))","v":57.729384494885544},348.84651611749223,0.14198919416506123,112.22134638195595,{"$f":"tau_n(N94,W94,U94,D94)","v":68.719249322843908},{"$f":"tau_hMax(X94,Z94,AH94,W94,U94)","v":79.205888672802502},{"$f":"tau_hMin(X94,Y94,AS94,AE94,Z94,AI94,IF(L94=1,mu_redLead,mu_millScale),W94,U94)","v":18.512809883119814},60.693078789682687]
[85,"Graf1935","R; S",2,1,8.5,35,null,6,8,70,1,590,127.53,0.133333333,700000,1,"P26",null,85,0.70588235294117652,0.6071428571428571,0.24285714285714285,147.14999994340383,19.619999943403844,{"$f":"IF(OR(X95>=1.6*D95*AD95,D95=1),calcLoadFraction(G95,F95,I95,J95,K95,D95,1),\"Condition for spring model not fulfilled\")","v":0.51768155648140746},{"$f":"IF(L95>2,L95,IF(L95=2,1,sigma_cl0(I95+J95)))","v":112.45880410439175},{"$f":"Sigma_cl(AA95,U95,V95,X95)","v":100.49701649558277},{"$f":"Sigma_cl(AA95,U95,V95,Y95)","v":110.86389909387114},{"$f":"sigma_Slip(AB95,W95,U95,IF(L95=1,mu_redLead,mu_millScale))","v":4.3039282655286737},{"$f":"sigma_Slip(AC95,W95,U95,IF(L95=1,mu_redLead,mu_millScale))","v":4.747904819222204},{"$f":"Sigma_p(AB95,V95)","v":-23.606202556447304},{"$f":"Sigma_p(AC95,V95)","v":-26.041326891753918},{"$f":"beta_1(X95,AD95,Z95)","v":0.94350083032274135},{"$f":"beta_1(Y95,AE95,Z95)","v":0.53254446151231893},{"$f":"k_tHole(W95,U95)","v":2.4340437317784254},{"$f":"K_t1Mu(Z95,AH95,D95,W95,U95,SIGN(X95),mu_millScale)","v":3.6663156456970896},{"$f":"K_t1Mu(Z95,AI95,D95,W95,U95,SIGN(Y95),mu_millScale)","v":3.0503940970512562},{"$f":"Sigma_hMax(AK95,X95,AF95)","v":515.89214450038003},{"$f":"Sigma_hMin(X95,Y95,AG95,AE95,AK95,AL95,AJ95,AI95,Z95,IF(L95=1,mu_redLead,mu_millScale))","v":58.526083770835783},457.36606072954424,0.1134463557833699,146.58818642614804,{"$f":"tau_n(N95,W95,U95,D95)","v":89.335024119697081},{"$f":"tau_hMax(X95,Z95,AH95,W95,U95)","v":100.69424281826853},{"$f":"tau_hMin(X95,Y95,AS95,AE95,Z95,AI95,IF(L95=1,mu_redLead,mu_millScale),W95,U95)","v":19.184259331042604},81.509983487225924]
[86,"Graf1935","R; S",2,1,8.5,35,null,6,8,70,1,590,107.91,0.15384615400000001,1021300,1,"P26",null,86,0.70588235294117652,0.6071428571428571,0.24285714285714285,127.53000002318727,19.620000023187274,{"$f":"IF(OR(X96>=1.6*D96*AD96,D96=1),calcLoadFraction(G96,F96,I96,J96,K96,D96,1),\"Condition for spring model not fulfilled\")","v":0.51768155648140746},{"$f":"IF(L96>2,L96,IF(L96=2,1,sigma_cl0(I96+J96)))","v":112.45880410439175},{"$f":"Sigma_cl(AA96,U96,V96,X96)","v":102.09192150421848},{"$f":"Sigma_cl(AA96,U96,V96,Y96)","v":110.86389908738558},{"$f":"sigma_Slip(AB96,W96,U96,IF(L96=1,mu_redLead,mu_millScale))","v":4.3722323504345395},{"$f":"sigma_Slip(AC96,W96,U96,IF(L96=1,mu_redLead,mu_millScale))","v":4.7479048189444502},{"$f":"Sigma_p(AB96,V96)","v":-23.980837068047972},{"$f":"Sigma_p(AC96,V96)","v":-26.041326890230497},{"$f":"beta_1(X96,AD96,Z96)","v":0.9337740524321112},{"$f":"beta_1(Y96,AE96,Z96)","v":0.53254446344054218},{"$f":"k_tHole(W96,U96)","v":2.4340437317784254},{"$f":"K_t1Mu(Z96,AH96,D96,W96,U96,SIGN(X96),mu_millScale)","v":3.6620480845822025},{"$f":"K_t1Mu(Z96,AI96,D96,W96,U96,SIGN(Y96),mu_millScale)","v":3.0503941014388687},{"$f":"Sigma_hMax(AK96,X96,AF96)","v":443.04015524363319},{"$f":"Sigma_hMin(X96,Y96,AG96,AE96,AK96,AL96,AJ96,AI96,Z96,IF(L96=1,mu_redLead,mu_millScale))","v":58.038811738300595},385.00134350533261,0.13100124458557114,123.67253945543122,{"$f":"tau_n(N96,W96,U96,D96)","v":75.591174255128308},{"$f":"tau_hMax(X96,Z96,AH96,W96,U96)","v":86.368673395741752},{"$f":"tau_hMin(X96,Y96,AS96,AE96,Z96,AI96,IF(L96=1,mu_redLead,mu_millScale),W96,U96)","v":18.766236262929979},67.602437132811772]
[85,"Graf1935","R; S",2,1,8.5,35,null,6,8,70,1,590,127.53,0.133333333,434000,1,"P48",null,85,{"$f":"I97/F97","v":0.70588235294117652},{"$f":"F97/(J97+I97)","v":0.6071428571428571},{"$f":"F97/G97","v":0.24285714285714285},{"$f":"N97/(1-O97)","v":147.14999994340383},{"$f":"X97*O97","v":19.619999943403844},{"$f":"IF(OR(X97>=1.6*D97*AD97,D97=1),calcLoadFraction(G97,F97,I97,J97,K97,D97,1),\"Condition for spring model not fulfilled\")","v":0.51768155648140746},{"$f":"IF(L97>2,L97,IF(L97=2,1,sigma_cl0(I97+J97)))","v":112.45880410439175},{"$f":"Sigma_cl(AA97,U97,V97,X97)","v":100.49701649558277},{"$f":"Sigma_cl(AA97,U97,V97,Y97)","v":110.86389909387114},{"$f":"sigma_Slip(AB97,W97,U97,IF(L97=1,mu_redLead,mu_millScale))","v":4.3039282655286737},{"$f":"sigma_Slip(AC97,W97,U97,IF(L97=1,mu_redLead,mu_millScale))","v":4.747904819222204},{"$f":"Sigma_p(AB97,V97)","v":-23.606202556447304},{"$f":"Sigma_p(AC97,V97)","v":-26.041326891753918},{"$f":"beta_1(X97,AD97,Z97)","v":0.94350083032274135},{"$f":"beta_1(Y97,AE97,Z97)","v":0.53254446151231893},{"$f":"k_tHole(W97,U97)","v":2.4340437317784254},{"$f":"K_t1Mu(Z97,AH97,D97,W97,U97,SIGN(X97),mu_millScale)","v":3.6663156456970896},{"$f":"K_t1Mu(Z97,AI97,D97,W97,U97,SIGN(Y97),mu_millScale)","v":3.0503940970512562},{"$f":"Sigma_hMax(AK97,X97,AF97)","v":515.89214450038003},{"$f":"Sigma_hMin(X97,Y97,AG97,AE97,AK97,AL97,AJ97,AI97,Z97,IF(L97=1,mu_redLead,mu_millScale))","v":58.526083770835783},{"$f":"(AM97-AN97)","v":457.36606072954424},{"$f":"AN97/AM97","v":0.1134463557833699},146.58818642614804,{"$f":"tau_n(N97,W97,U97,D97)","v":89.335024119697081},{"$f":"tau_hMax(X97,Z97,AH97,W97,U97)","v":100.69424281826853},{"$f":"tau_hMin(X97,Y97,AS97,AE97,Z97,AI97,IF(L97=1,mu_redLead,mu_millScale),W97,U97)","v":19.184259331042604},81.509983487225924]
[86,"Graf1935","R; S",2,1,8.5,35,null,6,8,70,1,590,107.91,0.15384615400000001,1003000,1,"P48",null,86,0.70588235294117652,0.6071428571428571,0.24285714285714285,127.53000002318727,19.620000023187274,{"$f":"IF(OR(X98>=1.6*D98*AD98,D98=1),calcLoadFraction(G98,F98,I98,J98,K98,D98,1),\"Condition for spring model not fulfilled\")","v":0.51768155648140746},{"$f":"IF(L98>2,L98,IF(L98=2,1,sigma_cl0(I98+J98)))","v":112.45880410439175},{"$f":"Sigma_cl(AA98,U98,V98,X98)","v":102.09192150421848},{"$f":"Sigma_cl(AA98,U98,V98,Y98)","v":110.86389908738558},{"$f":"sigma_Slip(AB98,W98,U98,IF(L98=1,mu_redLead,mu_millScale))","v":4.3722323504345395},{"$f":"sigma_Slip(AC98,W98,U98,IF(L98=1,mu_redLead,mu_millScale))","v":4.7479048189444502},{"$f":"Sigma_p(AB98,V98)","v":-23.980837068047972},{"$f":"Sigma_p(AC98,V98)","v":-26.041326890230497},{"$f":"beta_1(X98,AD98,Z98)","v":0.9337740524321112},{"$f":"beta_1(Y98,AE98,Z98)","v":0.53254446344054218},{"$f":"k_tHole(W98,U98)","v":2.4340437317784254},{"$f":"K_t1Mu(Z98,AH98,D98,W98,U98,SIGN(X98),mu_millScale)","v":3.6620480845822025},{"$f":"K_t1Mu(Z98,AI98,D98,W98,U98,SIGN(Y98),mu_millScale)","v":3.0503941014388687},{"$f":"Sigma_hMax(AK98,X98,AF98)","v":443.04015524363319},{"$f":"Sigma_hMin(X98,Y98,AG98,AE98,AK98,AL98,AJ98,AI98,Z98,IF(L98=1,mu_redLead,mu_millScale))","v":58.038811738300595},385.00134350533261,0.13100124458557114,123.67253945543122,{"$f":"tau_n(N98,W98,U98,D98)","v":75.591174255128308},{"$f":"tau_hMax(X98,Z98,AH98,W98,U98)","v":86.368673395741752},{"$f":"tau_hMin(X98,Y98,AS98,AE98,Z98,AI98,IF(L98=1,mu_redLead,mu_millScale),W98,U98)","v":18.766236262929979},67.602437132811772]
[87,"Graf1935","R; S",2,1,10,39.5,null,8.5,13,70,null,537,210.91499999999999,2.2700000000000001E-2,310700,1,"GH52.33.1-2",null,87,{"$f":"I99/F99","v":0.85},{"$f":"F99/(J99+I99)","v":0.46511627906976744},{"$f":"F99/G99","v":0.25316455696202533},{"$f":"N99/(1-O99)","v":215.81397728435485},{"$f":"X99*O99","v":4.8989772843548556},{"$f":"IF(OR(X99>=1.6*D99*AD99,D99=1),calcLoadFraction(G99,F99,I99,J99,K99,D99,1),\"Condition for spring model not fulfilled\")","v":0.52052112394594208},{"$f":"IF(L99>2,L99,IF(L99=2,1,sigma_cl0(I99+J99)))","v":151.65228340637427},{"$f":"Sigma_cl(AA99,U99,V99,X99)","v":133.8116167878963},{"$f":"Sigma_cl(AA99,U99,V99,Y99)","v":151.24730027413483},{"$f":"sigma_Slip(AB99,W99,U99,IF(L99=1,mu_redLead,mu_millScale))","v":27.662198550505288},{"$f":"sigma_Slip(AC99,W99,U99,IF(L99=1,mu_redLead,mu_millScale))","v":31.266589185920754},{"$f":"Sigma_p(AB99,V99)","v":-23.492513513708296},{"$f":"Sigma_p(AC99,V99)","v":-26.553593259650423},{"$f":"beta_1(X99,AD99,Z99)","v":0.75375423686862075},{"$f":"beta_1(Y99,AE99,Z99)","v":0},{"$f":"k_tHole(W99,U99)","v":2.4165573108821006},{"$f":"K_t1Mu(Z99,AH99,D99,W99,U99,SIGN(X99),mu_millScale)","v":3.4272868861188357},{"$f":"K_t1Mu(Z99,AI99,D99,W99,U99,SIGN(Y99),mu_millScale)","v":1.7876227471120334},{"$f":"Sigma_hMax(AK99,X99,AF99)","v":716.16390067410941},{"$f":"Sigma_hMin(X99,Y99,AG99,AE99,AK99,AL99,AJ99,AI99,Z99,IF(L99=1,mu_redLead,mu_millScale))","v":72.869500592172713},{"$f":"(AM99-AN99)","v":643.29440008193671},{"$f":"AN99/AM99","v":0.10174975382532161},205.88017409530187,{"$f":"tau_n(N99,W99,U99,D99)","v":168.34434623997367},{"$f":"tau_hMax(X99,Z99,AH99,W99,U99)","v":135.16640326502016},{"$f":"tau_hMin(X99,Y99,AS99,AE99,Z99,AI99,IF(L99=1,mu_redLead,mu_millScale),W99,U99)","v":37.318211186201687},97.848192078818471]
[88,"Graf1935","R; S",2,1,10,39.5,null,8.5,13,70,null,537,171.67500000000001,2.7799999999999998E-2,498400,1,"GH52.34-35.2",null,88,0.85,0.46511627906976744,0.25316455696202533,176.5840362065419,4.909036206541864,{"$f":"IF(OR(X100>=1.6*D100*AD100,D100=1),calcLoadFraction(G100,F100,I100,J100,K100,D100,1),\"Condition for spring model not fulfilled\")","v":0.52052112394594208},{"$f":"IF(L100>2,L100,IF(L100=2,1,sigma_cl0(I100+J100)))","v":151.65228340637427},{"$f":"Sigma_cl(AA100,U100,V100,X100)","v":137.05463333871788},{"$f":"Sigma_cl(AA100,U100,V100,Y100)","v":151.24646873449342},{"$f":"sigma_Slip(AB100,W100,U100,IF(L100=1,mu_redLead,mu_millScale))","v":28.33261095478554},{"$f":"sigma_Slip(AC100,W100,U100,IF(L100=1,mu_redLead,mu_millScale))","v":31.266417285937663},{"$f":"Sigma_p(AB100,V100)","v":-24.061870733762802},{"$f":"Sigma_p(AC100,V100)","v":-26.553447271157555},{"$f":"beta_1(X100,AD100,Z100)","v":0.69175446107127758},{"$f":"beta_1(Y100,AE100,Z100)","v":0},{"$f":"k_tHole(W100,U100)","v":2.4165573108821006},{"$f":"K_t1Mu(Z100,AH100,D100,W100,U100,SIGN(X100),mu_millScale)","v":3.3274745043377019},{"$f":"K_t1Mu(Z100,AI100,D100,W100,U100,SIGN(Y100),mu_millScale)","v":1.7876227471120334},{"$f":"Sigma_hMax(AK100,X100,AF100)","v":563.51700761655104},{"$f":"Sigma_hMin(X100,Y100,AG100,AE100,AK100,AL100,AJ100,AI100,Z100,IF(L100=1,mu_redLead,mu_millScale))","v":65.462291230796339},498.05471638575472,0.11616737444655903,159.6838435154539,{"$f":"tau_n(N100,W100,U100,D100)","v":137.02446786974602},{"$f":"tau_hMax(X100,Z100,AH100,W100,U100)","v":101.49924938467616},{"$f":"tau_hMin(X100,Y100,AS100,AE100,Z100,AI100,IF(L100=1,mu_redLead,mu_millScale),W100,U100)","v":32.126172368725875},69.373077015950287]
[89,"Graf1935","R; S",2,1,10,39.5,null,8.5,13,70,null,537,152.05500000000001,3.2258064000000003E-2,1316500,1,"GH52.34-35.1",null,89,0.85,0.46511627906976744,0.25316455696202533,157.12349991620081,5.0684999162008006,{"$f":"IF(OR(X101>=1.6*D101*AD101,D101=1),calcLoadFraction(G101,F101,I101,J101,K101,D101,1),\"Condition for spring model not fulfilled\")","v":0.52052112394594208},{"$f":"IF(L101>2,L101,IF(L101=2,1,sigma_cl0(I101+J101)))","v":151.65228340637427},{"$f":"Sigma_cl(AA101,U101,V101,X101)","v":138.6633750177395},{"$f":"Sigma_cl(AA101,U101,V101,Y101)","v":151.23328636828356},{"$f":"sigma_Slip(AB101,W101,U101,IF(L101=1,mu_redLead,mu_millScale))","v":28.665177983043691},{"$f":"sigma_Slip(AC101,W101,U101,IF(L101=1,mu_redLead,mu_millScale))","v":31.263692162064149},{"$f":"Sigma_p(AB101,V101)","v":-24.344307988028902},{"$f":"Sigma_p(AC101,V101)","v":-26.551132921149975},{"$f":"beta_1(X101,AD101,Z101)","v":0.64951039710269776},{"$f":"beta_1(Y101,AE101,Z101)","v":0},{"$f":"k_tHole(W101,U101)","v":2.4165573108821006},{"$f":"K_t1Mu(Z101,AH101,D101,W101,U101,SIGN(X101),mu_millScale)","v":3.250618987083139},{"$f":"K_t1Mu(Z101,AI101,D101,W101,U101,SIGN(Y101),mu_millScale)","v":1.7876227471120334},{"$f":"Sigma_hMax(AK101,X101,AF101)","v":486.40432415652947},{"$f":"Sigma_hMin(X101,Y101,AG101,AE101,AK101,AL101,AJ101,AI101,Z101,IF(L101=1,mu_redLead,mu_millScale))","v":60.799781934035323},425.60454222249416,0.12499844042190172,136.60902544806888,{"$f":"tau_n(N101,W101,U101,D101)","v":121.36452868463219},{"$f":"tau_hMax(X101,Z101,AH101,W101,U101)","v":84.798207989243679},{"$f":"tau_hMin(X101,Y101,AS101,AE101,Z101,AI101,IF(L101=1,mu_redLead,mu_millScale),W101,U101)","v":29.031975030508676},55.766232958735003]
[90,"Graf1935","R; S",2,1,10,39.5,null,12.5,8.5,70,null,572,210.91499999999999,2.2700000000000001E-2,280000,2,"GH52.23-32.3",null,90,1.25,0.47619047619047616,0.25316455696202533,215.81397728435485,4.8989772843548556,{"$f":"IF(OR(X102>=1.6*D102*AD102,D102=1),calcLoadFraction(G102,F102,I102,J102,K102,D102,1),\"Condition for spring model not fulfilled\")","v":0.48065575263457677},{"$f":"IF(L102>2,L102,IF(L102=2,1,sigma_cl0(I102+J102)))","v":149.65030233205619},{"$f":"Sigma_cl(AA102,U102,V102,X102)","v":123.00660143275311},{"$f":"Sigma_cl(AA102,U102,V102,Y102)","v":149.04549032164201},{"$f":"sigma_Slip(AB102,W102,U102,IF(L102=1,mu_redLead,mu_millScale))","v":17.291402026248853},{"$f":"sigma_Slip(AC102,W102,U102,IF(L102=1,mu_redLead,mu_millScale))","v":20.951765704703543},{"$f":"Sigma_p(AB102,V102)","v":-22.176670931385775},{"$f":"Sigma_p(AC102,V102)","v":-26.871182149334491},{"$f":"beta_1(X102,AD102,Z102)","v":0.83330733293328108},{"$f":"beta_1(Y102,AE102,Z102)","v":0},{"$f":"k_tHole(W102,U102)","v":2.4165573108821006},{"$f":"K_t1Mu(Z102,AH102,D102,W102,U102,SIGN(X102),mu_millScale)","v":3.6052243841289715},{"$f":"K_t1Mu(Z102,AI102,D102,W102,U102,SIGN(Y102),mu_millScale)","v":1.8357912243587882},{"$f":"Sigma_hMax(AK102,X102,AF102)","v":755.88114241002631},{"$f":"Sigma_hMin(X102,Y102,AG102,AE102,AK102,AL102,AJ102,AI102,Z102,IF(L102=1,mu_redLead,mu_millScale))","v":56.00193671367407},699.8792056963523,7.40882839531085E-2,223.2529744834556,{"$f":"tau_n(N102,W102,U102,D102)","v":247.56521505878482},{"$f":"tau_hMax(X102,Z102,AH102,W102,U102)","v":202.92290342675369},{"$f":"tau_hMin(X102,Y102,AS102,AE102,Z102,AI102,IF(L102=1,mu_redLead,mu_millScale),W102,U102)","v":45.615654203677572},157.30724922307613]
[91,"Graf1935","R; S",2,1,10,39.5,null,12.5,8.5,70,null,572,171.67500000000001,2.7799999999999998E-2,773000,2,"GH52.23-32.1",null,91,1.25,0.47619047619047616,0.25316455696202533,176.5840362065419,4.909036206541864,{"$f":"IF(OR(X103>=1.6*D103*AD103,D103=1),calcLoadFraction(G103,F103,I103,J103,K103,D103,1),\"Condition for spring model not fulfilled\")","v":0.48065575263457677},{"$f":"IF(L103>2,L103,IF(L103=2,1,sigma_cl0(I103+J103)))","v":149.65030233205619},{"$f":"Sigma_cl(AA103,U103,V103,X103)","v":127.84980403495224},{"$f":"Sigma_cl(AA103,U103,V103,Y103)","v":149.04424847939669},{"$f":"sigma_Slip(AB103,W103,U103,IF(L103=1,mu_redLead,mu_millScale))","v":17.972225350474936},{"$f":"sigma_Slip(AC103,W103,U103,IF(L103=1,mu_redLead,mu_millScale))","v":20.951591135263637},{"$f":"Sigma_p(AB103,V103)","v":-23.049844477455327},{"$f":"Sigma_p(AC103,V103)","v":-26.870958259506608},{"$f":"beta_1(X103,AD103,Z103)","v":0.78825348478946111},{"$f":"beta_1(Y103,AE103,Z103)","v":0},{"$f":"k_tHole(W103,U103)","v":2.4165573108821006},{"$f":"K_t1Mu(Z103,AH103,D103,W103,U103,SIGN(X103),mu_millScale)","v":3.5507126534824325},{"$f":"K_t1Mu(Z103,AI103,D103,W103,U103,SIGN(Y103),mu_millScale)","v":1.8357912243587882},{"$f":"Sigma_hMax(AK103,X103,AF103)","v":603.949327284113},{"$f":"Sigma_hMin(X103,Y103,AG103,AE103,AK103,AL103,AJ103,AI103,Z103,IF(L103=1,mu_redLead,mu_millScale))","v":52.126059112836856},551.82326817127614,8.6308663256967982E-2,176.27717534258221,{"$f":"tau_n(N103,W103,U103,D103)","v":201.50657039668533},{"$f":"tau_hMax(X103,Z103,AH103,W103,U103)","v":157.05929158644793},{"$f":"tau_hMin(X103,Y103,AS103,AE103,Z103,AI103,IF(L103=1,mu_redLead,mu_millScale),W103,U103)","v":40.860320728291306},116.19897085815663]
[92,"Graf1935","R; S",2,1,10,39.5,null,12.5,8.5,70,null,572,171.67500000000001,2.7799999999999998E-2,1601600,2,"GH52.23-32.2",null,92,1.25,0.47619047619047616,0.25316455696202533,176.5840362065419,4.909036206541864,{"$f":"IF(OR(X104>=1.6*D104*AD104,D104=1),calcLoadFraction(G104,F104,I104,J104,K104,D104,1),\"Condition for spring model not fulfilled\")","v":0.48065575263457677},{"$f":"IF(L104>2,L104,IF(L104=2,1,sigma_cl0(I104+J104)))","v":149.65030233205619},{"$f":"Sigma_cl(AA104,U104,V104,X104)","v":127.84980403495224},{"$f":"Sigma_cl(AA104,U104,V104,Y104)","v":149.04424847939669},{"$f":"sigma_Slip(AB104,W104,U104,IF(L104=1,mu_redLead,mu_millScale))","v":17.972225350474936},{"$f":"sigma_Slip(AC104,W104,U104,IF(L104=1,mu_redLead,mu_millScale))","v":20.951591135263637},{"$f":"Sigma_p(AB104,V104)","v":-23.049844477455327},{"$f":"Sigma_p(AC104,V104)","v":-26.870958259506608},{"$f":"beta_1(X104,AD104,Z104)","v":0.78825348478946111},{"$f":"beta_1(Y104,AE104,Z104)","v":0},{"$f":"k_tHole(W104,U104)","v":2.4165573108821006},{"$f":"K_t1Mu(Z104,AH104,D104,W104,U104,SIGN(X104),mu_millScale)","v":3.5507126534824325},{"$f":"K_t1Mu(Z104,AI104,D104,W104,U104,SIGN(Y104),mu_millScale)","v":1.8357912243587882},{"$f":"Sigma_hMax(AK104,X104,AF104)","v":603.949327284113},{"$f":"Sigma_hMin(X104,Y104,AG104,AE104,AK104,AL104,AJ104,AI104,Z104,IF(L104=1,mu_redLead,mu_millScale))","v":52.126059112836856},551.82326817127614,8.6308663256967982E-2,176.27717534258221,{"$f":"tau_n(N104,W104,U104,D104)","v":201.50657039668533},{"$f":"tau_hMax(X104,Z104,AH104,W104,U104)","v":157.05929158644793},{"$f":"tau_hMin(X104,Y104,AS104,AE104,Z104,AI104,IF(L104=1,mu_redLead,mu_millScale),W104,U104)","v":40.860320728291306},116.19897085815663]
[93,"Graf1935","R; S",2,1,10,39.5,null,12.5,8.5,70,null,572,161.86500000000001,2.9399999999999999E-2,1416700,2,"GH52.22-24.4",null,93,1.25,0.47619047619047616,0.25316455696202533,166.76797856995674,4.9029785699567281,{"$f":"IF(OR(X105>=1.6*D105*AD105,D105=1),calcLoadFraction(G105,F105,I105,J105,K105,D105,1),\"Condition for spring model not fulfilled\")","v":0.48065575263457677},{"$f":"IF(L105>2,L105,IF(L105=2,1,sigma_cl0(I105+J105)))","v":149.65030233205619},{"$f":"Sigma_cl(AA105,U105,V105,X105)","v":129.06166300243189},{"$f":"Sigma_cl(AA105,U105,V105,Y105)","v":149.04499633576523},{"$f":"sigma_Slip(AB105,W105,U105,IF(L105=1,mu_redLead,mu_millScale))","v":18.142579952274588},{"$f":"sigma_Slip(AC105,W105,U105,IF(L105=1,mu_redLead,mu_millScale))","v":20.951696263646792},{"$f":"Sigma_p(AB105,V105)","v":-23.268328666303823},{"$f":"Sigma_p(AC105,V105)","v":-26.871093089380746},{"$f":"beta_1(X105,AD105,Z105)","v":0.77366472952659315},{"$f":"beta_1(Y105,AE105,Z105)","v":0},{"$f":"k_tHole(W105,U105)","v":2.4165573108821006},{"$f":"K_t1Mu(Z105,AH105,D105,W105,U105,SIGN(X105),mu_millScale)","v":3.5307979744164797},{"$f":"K_t1Mu(Z105,AI105,D105,W105,U105,SIGN(Y105),mu_millScale)","v":1.8357912243587882},{"$f":"Sigma_hMax(AK105,X105,AF105)","v":565.55571226603035},{"$f":"Sigma_hMin(X105,Y105,AG105,AE105,AK105,AL105,AJ105,AI105,Z105,IF(L105=1,mu_redLead,mu_millScale))","v":50.817345059494343},514.73836720653605,8.9853826877431486E-2,164.50003218749541,{"$f":"tau_n(N105,W105,U105,D105)","v":189.99190923116046},{"$f":"tau_hMax(X105,Z105,AH105,W105,U105)","v":145.58336669649117},{"$f":"tau_hMin(X105,Y105,AS105,AE105,Z105,AI105,IF(L105=1,mu_redLead,mu_millScale),W105,U105)","v":39.439492821352175},106.14387387513899]
[94,"Graf1935","R; S",2,1,10,39.5,null,12.5,8.5,70,null,572,152.05500000000001,3.2258064000000003E-2,2064200,0,"GH52.22-24.3",null,94,1.25,0.47619047619047616,0.25316455696202533,157.12349991620081,5.0684999162008006,{"$f":"IF(OR(X106>=1.6*D106*AD106,D106=1),calcLoadFraction(G106,F106,I106,J106,K106,D106,1),\"Condition for spring model not fulfilled\")","v":0.48065575263457677},{"$f":"IF(L106>2,L106,IF(L106=2,1,sigma_cl0(I106+J106)))","v":149.65030233205619},{"$f":"Sigma_cl(AA106,U106,V106,X106)","v":130.25233937943881},{"$f":"Sigma_cl(AA106,U106,V106,Y106)","v":149.02456160166102},{"$f":"sigma_Slip(AB106,W106,U106,IF(L106=1,mu_redLead,mu_millScale))","v":18.309956854637345},{"$f":"sigma_Slip(AC106,W106,U106,IF(L106=1,mu_redLead,mu_millScale))","v":20.948823692593045},{"$f":"Sigma_p(AB106,V106)","v":-23.48299387850459},{"$f":"Sigma_p(AC106,V106)","v":-26.867408942607149},{"$f":"beta_1(X106,AD106,Z106)","v":0.75755566986123712},{"$f":"beta_1(Y106,AE106,Z106)","v":0},{"$f":"k_tHole(W106,U106)","v":2.4165573108821006},{"$f":"K_t1Mu(Z106,AH106,D106,W106,U106,SIGN(X106),mu_millScale)","v":3.5075914521612352},{"$f":"K_t1Mu(Z106,AI106,D106,W106,U106,SIGN(Y106),mu_millScale)","v":1.8357912243587882},{"$f":"Sigma_hMax(AK106,X106,AF106)","v":527.64205136121791},{"$f":"Sigma_hMin(X106,Y106,AG106,AE106,AK106,AL106,AJ106,AI106,Z106,IF(L106=1,mu_redLead,mu_millScale))","v":49.895983766847039},477.74606759437086,9.4564077366701013E-2,152.76445125666316,{"$f":"tau_n(N106,W106,U106,D106)","v":178.47724806563559},{"$f":"tau_hMax(X106,Z106,AH106,W106,U106)","v":134.30803430431118},{"$f":"tau_hMin(X106,Y106,AS106,AE106,Z106,AI106,IF(L106=1,mu_redLead,mu_millScale),W106,U106)","v":38.048980200199765},96.259054104111414]
[95,"Graf1935","R; S",2,1,10,39.5,null,12.5,8.5,70,null,572,98.1,0.67,1293500,2,"GH52.22-24.1",null,95,1.25,0.47619047619047616,0.25316455696202533,297.27272727272731,199.17272727272731,{"$f":"IF(OR(X107>=1.6*D107*AD107,D107=1),calcLoadFraction(G107,F107,I107,J107,K107,D107,1),\"Condition for spring model not fulfilled\")","v":0.48065575263457677},{"$f":"IF(L107>2,L107,IF(L107=2,1,sigma_cl0(I107+J107)))","v":149.65030233205619},{"$f":"Sigma_cl(AA107,U107,V107,X107)","v":112.94996563171948},{"$f":"Sigma_cl(AA107,U107,V107,Y107)","v":125.06107674283059},{"$f":"sigma_Slip(AB107,W107,U107,IF(L107=1,mu_redLead,mu_millScale))","v":15.877710967055529},{"$f":"sigma_Slip(AC107,W107,U107,IF(L107=1,mu_redLead,mu_millScale))","v":17.5802057012205},{"$f":"Sigma_p(AB107,V107)","v":-20.363575534564806},{"$f":"Sigma_p(AC107,V107)","v":-22.547069124308397},{"$f":"beta_1(X107,AD107,Z107)","v":0.88887835037640262},{"$f":"beta_1(Y107,AE107,Z107)","v":0.81636310638141163},{"$f":"k_tHole(W107,U107)","v":2.4165573108821006},{"$f":"K_t1Mu(Z107,AH107,D107,W107,U107,SIGN(X107),mu_millScale)","v":3.6567140875792048},{"$f":"K_t1Mu(Z107,AI107,D107,W107,U107,SIGN(Y107),mu_millScale)","v":3.5860000488181862},{"$f":"Sigma_hMax(AK107,X107,AF107)","v":1066.6777941367079},{"$f":"Sigma_hMin(X107,Y107,AG107,AE107,AK107,AL107,AJ107,AI107,Z107,IF(L107=1,mu_redLead,mu_millScale))","v":669.13481890145408},397.54297523525383,0.62730734864786752,146.97989149537949,{"$f":"tau_n(N107,W107,U107,D107)","v":115.14661165524875},{"$f":"tau_hMax(X107,Z107,AH107,W107,U107)","v":298.15609490804729},{"$f":"tau_hMin(X107,Y107,AS107,AE107,Z107,AI107,IF(L107=1,mu_redLead,mu_millScale),W107,U107)","v":218.75808065367443},79.398014254372868]
[96,"Graf1935","R; S",2,1,10,39.5,null,12.5,8.5,70,null,572,117.72,0.67,1226900,1,"GH52.21-31.2",null,96,1.25,0.47619047619047616,0.25316455696202533,356.72727272727275,239.00727272727275,{"$f":"IF(OR(X108>=1.6*D108*AD108,D108=1),calcLoadFraction(G108,F108,I108,J108,K108,D108,1),\"Condition for spring model not fulfilled\")","v":0.48065575263457677},{"$f":"IF(L108>2,L108,IF(L108=2,1,sigma_cl0(I108+J108)))","v":149.65030233205619},{"$f":"Sigma_cl(AA108,U108,V108,X108)","v":105.60989829165214},{"$f":"Sigma_cl(AA108,U108,V108,Y108)","v":120.14323162498548},{"$f":"sigma_Slip(AB108,W108,U108,IF(L108=1,mu_redLead,mu_millScale))","v":14.845895976652516},{"$f":"sigma_Slip(AC108,W108,U108,IF(L108=1,mu_redLead,mu_millScale))","v":16.888889657650484},{"$f":"Sigma_p(AB108,V108)","v":-19.04024608623536},{"$f":"Sigma_p(AC108,V108)","v":-21.660438393927667},{"$f":"beta_1(X108,AD108,Z108)","v":0.9134163369807683},{"$f":"beta_1(Y108,AE108,Z108)","v":0.85298696698494236},{"$f":"k_tHole(W108,U108)","v":2.4165573108821006},{"$f":"K_t1Mu(Z108,AH108,D108,W108,U108,SIGN(X108),mu_millScale)","v":3.6734556199263193},{"$f":"K_t1Mu(Z108,AI108,D108,W108,U108,SIGN(Y108),mu_millScale)","v":3.6255330055997499},{"$f":"Sigma_hMax(AK108,X108,AF108)","v":1291.3815586947535},{"$f":"Sigma_hMin(X108,Y108,AG108,AE108,AK108,AL108,AJ108,AI108,Z108,IF(L108=1,mu_redLead,mu_millScale))","v":802.63247836776327},488.74908032699022,0.62153007603656141,180.06719245688814,{"$f":"tau_n(N108,W108,U108,D108)","v":138.1759339862985},{"$f":"tau_hMax(X108,Z108,AH108,W108,U108)","v":367.66423384357239},{"$f":"tau_hMin(X108,Y108,AS108,AE108,Z108,AI108,IF(L108=1,mu_redLead,mu_millScale),W108,U108)","v":267.52365166398351},100.14058217958888]
[97,"Graf1935","R; S",2,1,10,39.5,null,12.5,8.5,70,null,572,114.777,0.67,1537400,1,"GH52.22-24.5",null,97,1.25,0.47619047619047616,0.25316455696202533,347.80909090909097,233.03209090909095,{"$f":"IF(OR(X109>=1.6*D109*AD109,D109=1),calcLoadFraction(G109,F109,I109,J109,K109,D109,1),\"Condition for spring model not fulfilled\")","v":0.48065575263457677},{"$f":"IF(L109>2,L109,IF(L109=2,1,sigma_cl0(I109+J109)))","v":149.65030233205619},{"$f":"Sigma_cl(AA109,U109,V109,X109)","v":106.71090839266225},{"$f":"Sigma_cl(AA109,U109,V109,Y109)","v":120.88090839266223},{"$f":"sigma_Slip(AB109,W109,U109,IF(L109=1,mu_redLead,mu_millScale))","v":15.000668225212969},{"$f":"sigma_Slip(AC109,W109,U109,IF(L109=1,mu_redLead,mu_millScale))","v":16.992587064185987},{"$f":"Sigma_p(AB109,V109)","v":-19.238745503484775},{"$f":"Sigma_p(AC109,V109)","v":-21.793433003484775},{"$f":"beta_1(X109,AD109,Z109)","v":0.91027044126225987},{"$f":"beta_1(Y109,AE109,Z109)","v":0.8482916002409},{"$f":"k_tHole(W109,U109)","v":2.4165573108821006},{"$f":"K_t1Mu(Z109,AH109,D109,W109,U109,SIGN(X109),mu_millScale)","v":3.6715241445052471},{"$f":"K_t1Mu(Z109,AI109,D109,W109,U109,SIGN(Y109),mu_millScale)","v":3.6208888656215441},{"$f":"Sigma_hMax(AK109,X109,AF109)","v":1257.7507294476632},{"$f":"Sigma_hMin(X109,Y109,AG109,AE109,AK109,AL109,AJ109,AI109,Z109,IF(L109=1,mu_redLead,mu_millScale))","v":782.67994515650037},475.07078429116279,0.62228542336064596,175.10720848316859,{"$f":"tau_n(N109,W109,U109,D109)","v":134.72153563664105},{"$f":"tau_hMax(X109,Z109,AH109,W109,U109)","v":357.23801300324368},{"$f":"tau_hMin(X109,Y109,AS109,AE109,Z109,AI109,IF(L109=1,mu_redLead,mu_millScale),W109,U109)","v":260.22088010127004},97.017132901973639]
[98,"Graf1935","R; S",2,1,10,48,null,6.5,10,70,null,564,201.10499999999999,2.3800000000000002E-2,266600,1,"GH52.6-13.6",null,98,0.65,0.60606060606060608,0.20833333333333334,206.00799016594959,4.9029901659496007,{"$f":"IF(OR(X110>=1.6*D110*AD110,D110=1),calcLoadFraction(G110,F110,I110,J110,K110,D110,1),\"Condition for spring model not fulfilled\")","v":0.52042742854640633},{"$f":"IF(L110>2,L110,IF(L110=2,1,sigma_cl0(I110+J110)))","v":128.05464651530374},{"$f":"Sigma_cl(AA110,U110,V110,X110)","v":112.65091024419254},{"$f":"Sigma_cl(AA110,U110,V110,Y110)","v":127.6880375920513},{"$f":"sigma_Slip(AB110,W110,U110,IF(L110=1,mu_redLead,mu_millScale))","v":23.641311743442607},{"$f":"sigma_Slip(AC110,W110,U110,IF(L110=1,mu_redLead,mu_millScale))","v":26.797055577078446},{"$f":"Sigma_p(AB110,V110)","v":-26.411400191225216},{"$f":"Sigma_p(AC110,V110)","v":-29.936907328715822},{"$f":"beta_1(X110,AD110,Z110)","v":0.77949048847973768},{"$f":"beta_1(Y110,AE110,Z110)","v":0},{"$f":"k_tHole(W110,U110)","v":2.4961660879629628},{"$f":"K_t1Mu(Z110,AH110,D110,W110,U110,SIGN(X110),mu_millScale)","v":3.8493496479911538},{"$f":"K_t1Mu(Z110,AI110,D110,W110,U110,SIGN(Y110),mu_millScale)","v":1.8466294387713091},{"$f":"Sigma_hMax(AK110,X110,AF110)","v":766.58538423743789},{"$f":"Sigma_hMin(X110,Y110,AG110,AE110,AK110,AL110,AJ110,AI110,Z110,IF(L110=1,mu_redLead,mu_millScale))","v":73.138777483618483},693.44660675381942,9.540852067819347E-2,221.75964699436116,{"$f":"tau_n(N110,W110,U110,D110)","v":158.1138625400277},{"$f":"tau_hMax(X110,Z110,AH110,W110,U110)","v":131.41112647712302},{"$f":"tau_hMin(X110,Y110,AS110,AE110,Z110,AI110,IF(L110=1,mu_redLead,mu_millScale),W110,U110)","v":34.012325008410507},97.39880146871252]
[99,"Graf1935","R; S",2,1,10,48,null,6.5,10,70,null,564,161.86500000000001,2.9399999999999999E-2,1010600,1,"GH52.8-14.6",null,99,0.65,0.60606060606060608,0.20833333333333334,166.76797856995674,4.9029785699567281,{"$f":"IF(OR(X111>=1.6*D111*AD111,D111=1),calcLoadFraction(G111,F111,I111,J111,K111,D111,1),\"Condition for spring model not fulfilled\")","v":0.52042742854640633},{"$f":"IF(L111>2,L111,IF(L111=2,1,sigma_cl0(I111+J111)))","v":128.05464651530374},{"$f":"Sigma_cl(AA111,U111,V111,X111)","v":115.58498474010462},{"$f":"Sigma_cl(AA111,U111,V111,Y111)","v":127.68803845911289},{"$f":"sigma_Slip(AB111,W111,U111,IF(L111=1,mu_redLead,mu_millScale))","v":24.257066819775133},{"$f":"sigma_Slip(AC111,W111,U111,IF(L111=1,mu_redLead,mu_millScale))","v":26.797055759043008},{"$f":"Sigma_p(AB111,V111)","v":-27.099304226216322},{"$f":"Sigma_p(AC111,V111)","v":-29.936907532001445},{"$f":"beta_1(X111,AD111,Z111)","v":0.72051053495508954},{"$f":"beta_1(Y111,AE111,Z111)","v":0},{"$f":"k_tHole(W111,U111)","v":2.4961660879629628},{"$f":"K_t1Mu(Z111,AH111,D111,W111,U111,SIGN(X111),mu_millScale)","v":3.7443986783642016},{"$f":"K_t1Mu(Z111,AI111,D111,W111,U111,SIGN(Y111),mu_millScale)","v":1.8466294387713091},{"$f":"Sigma_hMax(AK111,X111,AF111)","v":597.34649432459923},{"$f":"Sigma_hMin(X111,Y111,AG111,AE111,AK111,AL111,AJ111,AI111,Z111,IF(L111=1,mu_redLead,mu_millScale))","v":65.948575781325786},531.39791854327348,0.11040254928739768,170.25087851943229,{"$f":"tau_n(N111,W111,U111,D111)","v":127.26237716636376},{"$f":"tau_hMax(X111,Z111,AH111,W111,U111)","v":98.33095400422539},{"$f":"tau_hMin(X111,Y111,AS111,AE111,Z111,AI111,IF(L111=1,mu_redLead,mu_millScale),W111,U111)","v":29.484891592917453},68.84606241130794]
[100,"Graf1935","R; S",2,1,10,48,null,6.5,10,70,null,564,152.05500000000001,3.125E-2,1882700,1,"GH52.6-13.5",null,100,0.65,0.60606060606060608,0.20833333333333334,156.96,4.9050000000000002,{"$f":"IF(OR(X112>=1.6*D112*AD112,D112=1),calcLoadFraction(G112,F112,I112,J112,K112,D112,1),\"Condition for spring model not fulfilled\")","v":0.52042742854640633},{"$f":"IF(L112>2,L112,IF(L112=2,1,sigma_cl0(I112+J112)))","v":128.05464651530374},{"$f":"Sigma_cl(AA112,U112,V112,X112)","v":116.31835199990179},{"$f":"Sigma_cl(AA112,U112,V112,Y112)","v":127.68788731169744},{"$f":"sigma_Slip(AB112,W112,U112,IF(L112=1,mu_redLead,mu_millScale))","v":24.410973823044937},{"$f":"sigma_Slip(AC112,W112,U112,IF(L112=1,mu_redLead,mu_millScale))","v":26.797024038720817},{"$f":"Sigma_p(AB112,V112)","v":-27.271244747102116},{"$f":"Sigma_p(AC112,V112)","v":-29.936872094960869},{"$f":"beta_1(X112,AD112,Z112)","v":0.70116191999043687},{"$f":"beta_1(Y112,AE112,Z112)","v":0},{"$f":"k_tHole(W112,U112)","v":2.4961660879629628},{"$f":"K_t1Mu(Z112,AH112,D112,W112,U112,SIGN(X112),mu_millScale)","v":3.7059779483822233},{"$f":"K_t1Mu(Z112,AI112,D112,W112,U112,SIGN(Y112),mu_millScale)","v":1.8466294387713091},{"$f":"Sigma_hMax(AK112,X112,AF112)","v":554.41905403097167},{"$f":"Sigma_hMin(X112,Y112,AG112,AE112,AK112,AL112,AJ112,AI112,Z112,IF(L112=1,mu_redLead,mu_millScale))","v":63.567756790760328},490.85129724021135,0.11465651537151035,157.34432687319219,{"$f":"tau_n(N112,W112,U112,D112)","v":119.54950582294778},{"$f":"tau_hMax(X112,Z112,AH112,W112,U112)","v":90.062617438856336},{"$f":"tau_hMin(X112,Y112,AS112,AE112,Z112,AI112,IF(L112=1,mu_redLead,mu_millScale),W112,U112)","v":28.134492226834698},61.928125212021641]
[101,"Graf1935","R; S",2,1,10,48,null,6.5,10,70,null,564,142.245,3.3300000000000003E-2,2000000,0,"GH52.8-14.1",null,101,0.65,0.60606060606060608,0.20833333333333334,147.1449260370332,4.8999260370332065,{"$f":"IF(OR(X113>=1.6*D113*AD113,D113=1),calcLoadFraction(G113,F113,I113,J113,K113,D113,1),\"Condition for spring model not fulfilled\")","v":0.52042742854640633},{"$f":"IF(L113>2,L113,IF(L113=2,1,sigma_cl0(I113+J113)))","v":128.05464651530374},{"$f":"Sigma_cl(AA113,U113,V113,X113)","v":117.05224980010459},{"$f":"Sigma_cl(AA113,U113,V113,Y113)","v":127.68826670468761},{"$f":"sigma_Slip(AB113,W113,U113,IF(L113=1,mu_redLead,mu_millScale))","v":24.564992167369105},{"$f":"sigma_Slip(AC113,W113,U113,IF(L113=1,mu_redLead,mu_millScale))","v":26.797103659452997},{"$f":"Sigma_p(AB113,V113)","v":-27.443309655042931},{"$f":"Sigma_p(AC113,V113)","v":-29.936961044975313},{"$f":"beta_1(X113,AD113,Z113)","v":0.67921713529462013},{"$f":"beta_1(Y113,AE113,Z113)","v":0},{"$f":"k_tHole(W113,U113)","v":2.4961660879629628},{"$f":"K_t1Mu(Z113,AH113,D113,W113,U113,SIGN(X113),mu_millScale)","v":3.6602148212518735},{"$f":"K_t1Mu(Z113,AI113,D113,W113,U113,SIGN(Y113),mu_millScale)","v":1.8466294387713091},{"$f":"Sigma_hMax(AK113,X113,AF113)","v":511.13872949771667},{"$f":"Sigma_hMin(X113,Y113,AG113,AE113,AK113,AL113,AJ113,AI113,Z113,IF(L113=1,mu_redLead,mu_millScale))","v":60.834982089706429},450.30374740801022,0.11901853367575463,144.42634354967748,{"$f":"tau_n(N113,W113,U113,D113)","v":111.83663447953178},{"$f":"tau_hMax(X113,Z113,AH113,W113,U113)","v":81.788299304802948},{"$f":"tau_hMin(X113,Y113,AS113,AE113,Z113,AI113,IF(L113=1,mu_redLead,mu_millScale),W113,U113)","v":26.668207464666811},55.120091840136141]
[102,"Graf1935","R; S",2,1,10,48,null,6.5,10,70,null,564,137.34,0.67,89400,1,"GH52.6-13.2",null,102,0.65,0.60606060606060608,0.20833333333333334,416.18181818181824,278.84181818181821,{"$f":"IF(OR(X114>=1.6*D114*AD114,D114=1),calcLoadFraction(G114,F114,I114,J114,K114,D114,1),\"Condition for spring model not fulfilled\")","v":0.52042742854640633},{"$f":"IF(L114>2,L114,IF(L114=2,1,sigma_cl0(I114+J114)))","v":128.05464651530374},{"$f":"Sigma_cl(AA114,U114,V114,X114)","v":96.935683785071276},{"$f":"Sigma_cl(AA114,U114,V114,Y114)","v":107.204941486048},{"$f":"sigma_Slip(AB114,W114,U114,IF(L114=1,mu_redLead,mu_millScale))","v":20.343259672371687},{"$f":"sigma_Slip(AC114,W114,U114,IF(L114=1,mu_redLead,mu_millScale))","v":22.498401802659579},{"$f":"Sigma_p(AB114,V114)","v":-22.726910343714369},{"$f":"Sigma_p(AC114,V114)","v":-25.134573754683565},{"$f":"beta_1(X114,AD114,Z114)","v":0.90607585247146194},{"$f":"beta_1(Y114,AE114,Z114)","v":0.84496363215875858},{"$f":"k_tHole(W114,U114)","v":2.4961660879629628},{"$f":"K_t1Mu(Z114,AH114,D114,W114,U114,SIGN(X114),mu_millScale)","v":4.0021874789978478},{"$f":"K_t1Mu(Z114,AI114,D114,W114,U114,SIGN(Y114),mu_millScale)","v":3.9418275666402431},{"$f":"Sigma_hMax(AK114,X114,AF114)","v":1642.9107513701174},{"$f":"Sigma_hMin(X114,Y114,AG114,AE114,AK114,AL114,AJ114,AI114,Z114,IF(L114=1,mu_redLead,mu_millScale))","v":1027.0643509916072},615.84640037851022,0.62514920553966757,227.39013780938953,{"$f":"tau_n(N114,W114,U114,D114)","v":107.9801988078238},{"$f":"tau_hMax(X114,Z114,AH114,W114,U114)","v":308.59217707508088},{"$f":"tau_hMin(X114,Y114,AS114,AE114,Z114,AI114,IF(L114=1,mu_redLead,mu_millScale),W114,U114)","v":224.95887727894592},83.633299796134963]
[103,"Graf1935","R; S",2,1,10,48,null,6.5,10,70,null,564,107.91,0.67,501700,1,"GH52.7-9.1",null,103,0.65,0.60606060606060608,0.20833333333333334,327.00000000000006,219.09000000000006,{"$f":"IF(OR(X115>=1.6*D115*AD115,D115=1),calcLoadFraction(G115,F115,I115,J115,K115,D115,1),\"Condition for spring model not fulfilled\")","v":0.52042742854640633},{"$f":"IF(L115>2,L115,IF(L115=2,1,sigma_cl0(I115+J115)))","v":128.05464651530374},{"$f":"Sigma_cl(AA115,U115,V115,X115)","v":103.60403294154966},{"$f":"Sigma_cl(AA115,U115,V115,Y115)","v":111.67273542088851},{"$f":"sigma_Slip(AB115,W115,U115,IF(L115=1,mu_redLead,mu_millScale))","v":21.742702614117071},{"$f":"sigma_Slip(AC115,W115,U115,IF(L115=1,mu_redLead,mu_millScale))","v":23.436028573628985},{"$f":"Sigma_p(AB115,V115)","v":-24.290328143045016},{"$f":"Sigma_p(AC115,V115)","v":-26.1820636802351},{"$f":"beta_1(X115,AD115,Z115)","v":0.87223685444707244},{"$f":"beta_1(Y115,AE115,Z115)","v":0.79445766495817738},{"$f":"k_tHole(W115,U115)","v":2.4961660879629628},{"$f":"K_t1Mu(Z115,AH115,D115,W115,U115,SIGN(X115),mu_millScale)","v":3.9720495601327661},{"$f":"K_t1Mu(Z115,AI115,D115,W115,U115,SIGN(Y115),mu_millScale)","v":3.8728417169065987},{"$f":"Sigma_hMax(AK115,X115,AF115)","v":1274.5698780203697},{"$f":"Sigma_hMin(X115,Y115,AG115,AE115,AK115,AL115,AJ115,AI115,Z115,IF(L115=1,mu_redLead,mu_millScale))","v":807.56361860871846},467.00625941165129,0.63359697458330511,173.34260166851996,{"$f":"tau_n(N115,W115,U115,D115)","v":84.841584777575832},{"$f":"tau_hMax(X115,Z115,AH115,W115,U115)","v":233.4099891268385},{"$f":"tau_hMin(X115,Y115,AS115,AE115,Z115,AI115,IF(L115=1,mu_redLead,mu_millScale),W115,U115)","v":172.07158633566044},61.338402791178055]
[104,"Graf1935","R; S",2,1,10,48,null,6.5,10,70,null,564,91.233000000000004,0.67,1112700,1,"GH52.8-14.2",null,104,0.65,0.60606060606060608,0.20833333333333334,276.4636363636364,185.23063636363639,{"$f":"IF(OR(X116>=1.6*D116*AD116,D116=1),calcLoadFraction(G116,F116,I116,J116,K116,D116,1),\"Condition for spring model not fulfilled\")","v":0.52042742854640633},{"$f":"IF(L116>2,L116,IF(L116=2,1,sigma_cl0(I116+J116)))","v":128.05464651530374},{"$f":"Sigma_cl(AA116,U116,V116,X116)","v":107.38276413022075},{"$f":"Sigma_cl(AA116,U116,V116,Y116)","v":114.20448531729814},{"$f":"sigma_Slip(AB116,W116,U116,IF(L116=1,mu_redLead,mu_millScale))","v":22.535720281106123},{"$f":"sigma_Slip(AC116,W116,U116,IF(L116=1,mu_redLead,mu_millScale))","v":23.967350410511649},{"$f":"Sigma_p(AB116,V116)","v":-25.176264895999051},{"$f":"Sigma_p(AC116,V116)","v":-26.775641304714298},{"$f":"beta_1(X116,AD116,Z116)","v":0.84337061240476174},{"$f":"beta_1(Y116,AE116,Z116)","v":0.75137372161144489},{"$f":"k_tHole(W116,U116)","v":2.4961660879629628},{"$f":"K_t1Mu(Z116,AH116,D116,W116,U116,SIGN(X116),mu_millScale)","v":3.9399049773005732},{"$f":"K_t1Mu(Z116,AI116,D116,W116,U116,SIGN(Y116),mu_millScale)","v":3.8016984732715162},{"$f":"Sigma_hMax(AK116,X116,AF116)","v":1064.0641920557077},{"$f":"Sigma_hMin(X116,Y116,AG116,AE116,AK116,AL116,AJ116,AI116,Z116,IF(L116=1,mu_redLead,mu_millScale))","v":681.41405728895325},382.65013476675449,0.64038811039445132,142.65555078976257,{"$f":"tau_n(N116,W116,U116,D116)","v":71.729703493768667},{"$f":"tau_hMax(X116,Z116,AH116,W116,U116)","v":190.80674928950114},{"$f":"tau_hMin(X116,Y116,AS116,AE116,Z116,AI116,IF(L116=1,mu_redLead,mu_millScale),W116,U116)","v":141.92908659340583},48.877662696095314]
[105,"Graf1935","R; S",2,1,10,48,null,6.5,10,70,null,564,85.346999999999994,0.67,1994000,1,"GH52.8-14.5",null,105,0.65,0.60606060606060608,0.20833333333333334,258.62727272727273,173.28027272727275,{"$f":"IF(OR(X117>=1.6*D117*AD117,D117=1),calcLoadFraction(G117,F117,I117,J117,K117,D117,1),\"Condition for spring model not fulfilled\")","v":0.52042742854640633},{"$f":"IF(L117>2,L117,IF(L117=2,1,sigma_cl0(I117+J117)))","v":128.05464651530374},{"$f":"Sigma_cl(AA117,U117,V117,X117)","v":108.71643396151643},{"$f":"Sigma_cl(AA117,U117,V117,Y117)","v":115.09804410426625},{"$f":"sigma_Slip(AB117,W117,U117,IF(L117=1,mu_redLead,mu_millScale))","v":22.8156088694552},{"$f":"sigma_Slip(AC117,W117,U117,IF(L117=1,mu_redLead,mu_millScale))","v":24.154875764705533},{"$f":"Sigma_p(AB117,V117)","v":-25.488948455865177},{"$f":"Sigma_p(AC117,V117)","v":-26.985139289824609},{"$f":"beta_1(X117,AD117,Z117)","v":0.83048912508364947},{"$f":"beta_1(Y117,AE117,Z117)","v":0.7321476211321728},{"$f":"k_tHole(W117,U117)","v":2.4961660879629628},{"$f":"K_t1Mu(Z117,AH117,D117,W117,U117,SIGN(X117),mu_millScale)","v":3.9237376509384592},{"$f":"K_t1Mu(Z117,AI117,D117,W117,U117,SIGN(Y117),mu_millScale)","v":3.7665943979221908},{"$f":"Sigma_hMax(AK117,X117,AF117)","v":989.29661910366417},{"$f":"Sigma_hMin(X117,Y117,AG117,AE117,AK117,AL117,AJ117,AI117,Z117,IF(L117=1,mu_redLead,mu_millScale))","v":636.40688147091862},352.88973763274555,0.64329228381223469,131.81342587969539,{"$f":"tau_n(N117,W117,U117,D117)","v":67.101980687719063},{"$f":"tau_hMax(X117,Z117,AH117,W117,U117)","v":175.77031169985264},{"$f":"tau_hMin(X117,Y117,AS117,AE117,Z117,AI117,IF(L117=1,mu_redLead,mu_millScale),W117,U117)","v":131.24561726266163},44.524694437191016]
[106,"Graf1935","R; S",2,1,10,48,null,6.5,10,70,null,564,88.29,0.756756757,669900,1,"GH52.7-9.3",null,106,0.65,0.60606060606060608,0.20833333333333334,362.97000036297004,274.68000036297002,{"$f":"IF(OR(X118>=1.6*D118*AD118,D118=1),calcLoadFraction(G118,F118,I118,J118,K118,D118,1),\"Condition for spring model not fulfilled\")","v":0.52042742854640633},{"$f":"IF(L118>2,L118,IF(L118=2,1,sigma_cl0(I118+J118)))","v":128.05464651530374},{"$f":"Sigma_cl(AA118,U118,V118,X118)","v":100.91446542129654},{"$f":"Sigma_cl(AA118,U118,V118,Y118)","v":107.51613108621014},{"$f":"sigma_Slip(AB118,W118,U118,IF(L118=1,mu_redLead,mu_millScale))","v":21.178260621917367},{"$f":"sigma_Slip(AC118,W118,U118,IF(L118=1,mu_redLead,mu_millScale))","v":22.563709134245297},{"$f":"Sigma_p(AB118,V118)","v":-23.659749624285212},{"$f":"Sigma_p(AC118,V118)","v":-25.207533245622553},{"$f":"beta_1(X118,AD118,Z118)","v":0.88788612094296004},{"$f":"beta_1(Y118,AE118,Z118)","v":0.84215774534048082},{"$f":"k_tHole(W118,U118)","v":2.4961660879629628},{"$f":"K_t1Mu(Z118,AH118,D118,W118,U118,SIGN(X118),mu_millScale)","v":3.987027068451789},{"$f":"K_t1Mu(Z118,AI118,D118,W118,U118,SIGN(Y118),mu_millScale)","v":3.9384297687060705},{"$f":"Sigma_hMax(AK118,X118,AF118)","v":1423.5114668588319},{"$f":"Sigma_hMin(X118,Y118,AG118,AE118,AK118,AL118,AJ118,AI118,Z118,IF(L118=1,mu_redLead,mu_millScale))","v":1024.8746078672486},398.63685899158327,0.71996231272289735,158.58364549946458,{"$f":"tau_n(N118,W118,U118,D118)","v":69.415842090743865},{"$f":"tau_hMax(X118,Z118,AH118,W118,U118)","v":263.73347190528773},{"$f":"tau_hMin(X118,Y118,AS118,AE118,Z118,AI118,IF(L118=1,mu_redLead,mu_millScale),W118,U118)","v":212.06586457409611},51.667607331191618]
[107,"Graf1935","R; S",2,1,10,48,null,6.5,10,70,null,564,68.67,0.81081081099999996,1665000,1,"GH52.8-14.3",null,107,0.65,0.60606060606060608,0.20833333333333334,362.97000036296993,294.30000036296991,{"$f":"IF(OR(X119>=1.6*D119*AD119,D119=1),calcLoadFraction(G119,F119,I119,J119,K119,D119,1),\"Condition for spring model not fulfilled\")","v":0.52042742854640633},{"$f":"IF(L119>2,L119,IF(L119=2,1,sigma_cl0(I119+J119)))","v":128.05464651530374},{"$f":"Sigma_cl(AA119,U119,V119,X119)","v":100.91446542129654},{"$f":"Sigma_cl(AA119,U119,V119,Y119)","v":106.04909427178491},{"$f":"sigma_Slip(AB119,W119,U119,IF(L119=1,mu_redLead,mu_millScale))","v":21.178260621917367},{"$f":"sigma_Slip(AC119,W119,U119,IF(L119=1,mu_redLead,mu_millScale))","v":22.255831687061317},{"$f":"Sigma_p(AB119,V119)","v":-23.659749624285212},{"$f":"Sigma_p(AC119,V119)","v":-24.863581329769815},{"$f":"beta_1(X119,AD119,Z119)","v":0.88788612094296004},{"$f":"beta_1(Y119,AE119,Z119)","v":0.85469070753971732},{"$f":"k_tHole(W119,U119)","v":2.4961660879629628},{"$f":"K_t1Mu(Z119,AH119,D119,W119,U119,SIGN(X119),mu_millScale)","v":3.987027068451789},{"$f":"K_t1Mu(Z119,AI119,D119,W119,U119,SIGN(Y119),mu_millScale)","v":3.9531945109536482},{"$f":"Sigma_hMax(AK119,X119,AF119)","v":1423.5114668588315},{"$f":"Sigma_hMin(X119,Y119,AG119,AE119,AK119,AL119,AJ119,AI119,Z119,IF(L119=1,mu_redLead,mu_millScale))","v":1108.535652180879},314.97581467795248,0.77873320868079221,134.75613287849379,{"$f":"tau_n(N119,W119,U119,D119)","v":53.990099403911898},{"$f":"tau_hMax(X119,Z119,AH119,W119,U119)","v":263.73347190528767},{"$f":"tau_hMin(X119,Y119,AS119,AE119,Z119,AI119,IF(L119=1,mu_redLead,mu_millScale),W119,U119)","v":223.61169586624973},40.12177603903794]
[108,"Graf1935","R; S",2,1,10,48,null,6.5,10,70,null,564,68.67,0.81081081099999996,2002200,1,"GH52.10.5-6",null,108,0.65,0.60606060606060608,0.20833333333333334,362.97000036296993,294.30000036296991,{"$f":"IF(OR(X120>=1.6*D120*AD120,D120=1),calcLoadFraction(G120,F120,I120,J120,K120,D120,1),\"Condition for spring model not fulfilled\")","v":0.52042742854640633},{"$f":"IF(L120>2,L120,IF(L120=2,1,sigma_cl0(I120+J120)))","v":128.05464651530374},{"$f":"Sigma_cl(AA120,U120,V120,X120)","v":100.91446542129654},{"$f":"Sigma_cl(AA120,U120,V120,Y120)","v":106.04909427178491},{"$f":"sigma_Slip(AB120,W120,U120,IF(L120=1,mu_redLead,mu_millScale))","v":21.178260621917367},{"$f":"sigma_Slip(AC120,W120,U120,IF(L120=1,mu_redLead,mu_millScale))","v":22.255831687061317},{"$f":"Sigma_p(AB120,V120)","v":-23.659749624285212},{"$f":"Sigma_p(AC120,V120)","v":-24.863581329769815},{"$f":"beta_1(X120,AD120,Z120)","v":0.88788612094296004},{"$f":"beta_1(Y120,AE120,Z120)","v":0.85469070753971732},{"$f":"k_tHole(W120,U120)","v":2.4961660879629628},{"$f":"K_t1Mu(Z120,AH120,D120,W120,U120,SIGN(X120),mu_millScale)","v":3.987027068451789},{"$f":"K_t1Mu(Z120,AI120,D120,W120,U120,SIGN(Y120),mu_millScale)","v":3.9531945109536482},{"$f":"Sigma_hMax(AK120,X120,AF120)","v":1423.5114668588315},{"$f":"Sigma_hMin(X120,Y120,AG120,AE120,AK120,AL120,AJ120,AI120,Z120,IF(L120=1,mu_redLead,mu_millScale))","v":1108.535652180879},314.97581467795248,0.77873320868079221,134.75613287849379,{"$f":"tau_n(N120,W120,U120,D120)","v":53.990099403911898},{"$f":"tau_hMax(X120,Z120,AH120,W120,U120)","v":263.73347190528767},{"$f":"tau_hMin(X120,Y120,AS120,AE120,Z120,AI120,IF(L120=1,mu_redLead,mu_millScale),W120,U120)","v":223.61169586624973},40.12177603903794]
[109,"Graf1935","R; S",2,1,10,48,null,6.5,10,70,null,564,201.10499999999999,2.3800000000000002E-2,167000,1,"GH52.6-13.4",null,109,0.65,0.60606060606060608,0.20833333333333334,206.00799016594959,4.9029901659496007,{"$f":"IF(OR(X121>=1.6*D121*AD121,D121=1),calcLoadFraction(G121,F121,I121,J121,K121,D121,1),\"Condition for spring model not fulfilled\")","v":0.52042742854640633},{"$f":"IF(L121>2,L121,IF(L121=2,1,sigma_cl0(I121+J121)))","v":128.05464651530374},{"$f":"Sigma_cl(AA121,U121,V121,X121)","v":112.65091024419254},{"$f":"Sigma_cl(AA121,U121,V121,Y121)","v":127.6880375920513},{"$f":"sigma_Slip(AB121,W121,U121,IF(L121=1,mu_redLead,mu_millScale))","v":23.641311743442607},{"$f":"sigma_Slip(AC121,W121,U121,IF(L121=1,mu_redLead,mu_millScale))","v":26.797055577078446},{"$f":"Sigma_p(AB121,V121)","v":-26.411400191225216},{"$f":"Sigma_p(AC121,V121)","v":-29.936907328715822},{"$f":"beta_1(X121,AD121,Z121)","v":0.77949048847973768},{"$f":"beta_1(Y121,AE121,Z121)","v":0},{"$f":"k_tHole(W121,U121)","v":2.4961660879629628},{"$f":"K_t1Mu(Z121,AH121,D121,W121,U121,SIGN(X121),mu_millScale)","v":3.8493496479911538},{"$f":"K_t1Mu(Z121,AI121,D121,W121,U121,SIGN(Y121),mu_millScale)","v":1.8466294387713091},{"$f":"Sigma_hMax(AK121,X121,AF121)","v":766.58538423743789},{"$f":"Sigma_hMin(X121,Y121,AG121,AE121,AK121,AL121,AJ121,AI121,Z121,IF(L121=1,mu_redLead,mu_millScale))","v":73.138777483618483},693.44660675381942,9.540852067819347E-2,221.75964699436116,{"$f":"tau_n(N121,W121,U121,D121)","v":158.1138625400277},{"$f":"tau_hMax(X121,Z121,AH121,W121,U121)","v":131.41112647712302},{"$f":"tau_hMin(X121,Y121,AS121,AE121,Z121,AI121,IF(L121=1,mu_redLead,mu_millScale),W121,U121)","v":34.012325008410507},97.39880146871252]
[110,"Graf1935","R; S",2,1,10,48,null,6.5,10,70,null,564,161.86500000000001,2.9399999999999999E-2,460900,1,"GH52.8-14.4",null,110,0.65,0.60606060606060608,0.20833333333333334,166.76797856995674,4.9029785699567281,{"$f":"IF(OR(X122>=1.6*D122*AD122,D122=1),calcLoadFraction(G122,F122,I122,J122,K122,D122,1),\"Condition for spring model not fulfilled\")","v":0.52042742854640633},{"$f":"IF(L122>2,L122,IF(L122=2,1,sigma_cl0(I122+J122)))","v":128.05464651530374},{"$f":"Sigma_cl(AA122,U122,V122,X122)","v":115.58498474010462},{"$f":"Sigma_cl(AA122,U122,V122,Y122)","v":127.68803845911289},{"$f":"sigma_Slip(AB122,W122,U122,IF(L122=1,mu_redLead,mu_millScale))","v":24.257066819775133},{"$f":"sigma_Slip(AC122,W122,U122,IF(L122=1,mu_redLead,mu_millScale))","v":26.797055759043008},{"$f":"Sigma_p(AB122,V122)","v":-27.099304226216322},{"$f":"Sigma_p(AC122,V122)","v":-29.936907532001445},{"$f":"beta_1(X122,AD122,Z122)","v":0.72051053495508954},{"$f":"beta_1(Y122,AE122,Z122)","v":0},{"$f":"k_tHole(W122,U122)","v":2.4961660879629628},{"$f":"K_t1Mu(Z122,AH122,D122,W122,U122,SIGN(X122),mu_millScale)","v":3.7443986783642016},{"$f":"K_t1Mu(Z122,AI122,D122,W122,U122,SIGN(Y122),mu_millScale)","v":1.8466294387713091},{"$f":"Sigma_hMax(AK122,X122,AF122)","v":597.34649432459923},{"$f":"Sigma_hMin(X122,Y122,AG122,AE122,AK122,AL122,AJ122,AI122,Z122,IF(L122=1,mu_redLead,mu_millScale))","v":65.948575781325786},531.39791854327348,0.11040254928739768,170.25087851943229,{"$f":"tau_n(N122,W122,U122,D122)","v":127.26237716636376},{"$f":"tau_hMax(X122,Z122,AH122,W122,U122)","v":98.33095400422539},{"$f":"tau_hMin(X122,Y122,AS122,AE122,Z122,AI122,IF(L122=1,mu_redLead,mu_millScale),W122,U122)","v":29.484891592917453},68.84606241130794]
[111,"Graf1935","R; S",2,1,10,48,null,5,9,70,null,563,201.10499999999999,2.3800000000000002E-2,126100,1,"GH52.28-30.1",null,111,0.5,0.7142857142857143,0.20833333333333334,206.00799016594959,4.9029901659496007,{"$f":"IF(OR(X123>=1.6*D123*AD123,D123=1),calcLoadFraction(G123,F123,I123,J123,K123,D123,1),\"Condition for spring model not fulfilled\")","v":0.52905229877639126},{"$f":"IF(L123>2,L123,IF(L123=2,1,sigma_cl0(I123+J123)))","v":112.45880410439175},{"$f":"Sigma_cl(AA123,U123,V123,X123)","v":99.379301786250309},{"$f":"Sigma_cl(AA123,U123,V123,Y123)","v":112.14751194921998},{"$f":"sigma_Slip(AB123,W123,U123,IF(L123=1,mu_redLead,mu_millScale))","v":27.112911596239723},{"$f":"sigma_Slip(AC123,W123,U123,IF(L123=1,mu_redLead,mu_millScale))","v":30.596366874838818},{"$f":"Sigma_p(AB123,V123)","v":-27.594006049246794},{"$f":"Sigma_p(AC123,V123)","v":-31.139272137278272},{"$f":"beta_1(X123,AD123,Z123)","v":0.7512325885522303},{"$f":"beta_1(Y123,AE123,Z123)","v":0},{"$f":"k_tHole(W123,U123)","v":2.4961660879629628},{"$f":"K_t1Mu(Z123,AH123,D123,W123,U123,SIGN(X123),mu_millScale)","v":3.8212836448912806},{"$f":"K_t1Mu(Z123,AI123,D123,W123,U123,SIGN(Y123),mu_millScale)","v":1.8358648844807242},{"$f":"Sigma_hMax(AK123,X123,AF123)","v":759.62095748882018},{"$f":"Sigma_hMin(X123,Y123,AG123,AE123,AK123,AL123,AJ123,AI123,Z123,IF(L123=1,mu_redLead,mu_millScale))","v":80.137328183958445},679.48362930486178,0.10549646819761141,217.56245636811948,{"$f":"tau_n(N123,W123,U123,D123)","v":121.6260481077136},{"$f":"tau_hMax(X123,Z123,AH123,W123,U123)","v":99.035480569262731},{"$f":"tau_hMin(X123,Y123,AS123,AE123,Z123,AI123,IF(L123=1,mu_redLead,mu_millScale),W123,U123)","v":27.579304805793491},71.456175763469247]
[112,"Graf1935","R; S",2,1,10,48,null,5,9,70,null,563,161.86500000000001,2.9399999999999999E-2,378800,1,"GH52.27.1-2",null,112,0.5,0.7142857142857143,0.20833333333333334,166.76797856995674,4.9029785699567281,{"$f":"IF(OR(X124>=1.6*D124*AD124,D124=1),calcLoadFraction(G124,F124,I124,J124,K124,D124,1),\"Condition for spring model not fulfilled\")","v":0.52905229877639126},{"$f":"IF(L124>2,L124,IF(L124=2,1,sigma_cl0(I124+J124)))","v":112.45880410439175},{"$f":"Sigma_cl(AA124,U124,V124,X124)","v":101.87066060306245},{"$f":"Sigma_cl(AA124,U124,V124,Y124)","v":112.14751268545267},{"$f":"sigma_Slip(AB124,W124,U124,IF(L124=1,mu_redLead,mu_millScale))","v":27.792610388046743},{"$f":"sigma_Slip(AC124,W124,U124,IF(L124=1,mu_redLead,mu_millScale))","v":30.596367075699675},{"$f":"Sigma_p(AB124,V124)","v":-28.285765490360816},{"$f":"Sigma_p(AC124,V124)","v":-31.139272341703229},{"$f":"beta_1(X124,AD124,Z124)","v":0.68499454913516689},{"$f":"beta_1(Y124,AE124,Z124)","v":0},{"$f":"k_tHole(W124,U124)","v":2.4961660879629628},{"$f":"K_t1Mu(Z124,AH124,D124,W124,U124,SIGN(X124),mu_millScale)","v":3.6902978326541449},{"$f":"K_t1Mu(Z124,AI124,D124,W124,U124,SIGN(Y124),mu_millScale)","v":1.8358648844807242},{"$f":"Sigma_hMax(AK124,X124,AF124)","v":587.13774438246344},{"$f":"Sigma_hMin(X124,Y124,AG124,AE124,AK124,AL124,AJ124,AI124,Z124,IF(L124=1,mu_redLead,mu_millScale))","v":70.970586115133344},516.16715826733014,0.12087553013608145,165.5899420502669,{"$f":"tau_n(N124,W124,U124,D124)","v":97.894136281818277},{"$f":"tau_hMax(X124,Z124,AH124,W124,U124)","v":73.102479727396329},{"$f":"tau_hMin(X124,Y124,AS124,AE124,Z124,AI124,IF(L124=1,mu_redLead,mu_millScale),W124,U124)","v":23.494323709643311},49.608156017753018]
[113,"Graf1935","R; S",2,1,10,48,null,5,9,70,null,563,161.86500000000001,2.9399999999999999E-2,815300,1,"GH52.28-30.2",null,113,0.5,0.7142857142857143,0.20833333333333334,166.76797856995674,4.9029785699567281,{"$f":"IF(OR(X125>=1.6*D125*AD125,D125=1),calcLoadFraction(G125,F125,I125,J125,K125,D125,1),\"Condition for spring model not fulfilled\")","v":0.52905229877639126},{"$f":"IF(L125>2,L125,IF(L125=2,1,sigma_cl0(I125+J125)))","v":112.45880410439175},{"$f":"Sigma_cl(AA125,U125,V125,X125)","v":101.87066060306245},{"$f":"Sigma_cl(AA125,U125,V125,Y125)","v":112.14751268545267},{"$f":"sigma_Slip(AB125,W125,U125,IF(L125=1,mu_redLead,mu_millScale))","v":27.792610388046743},{"$f":"sigma_Slip(AC125,W125,U125,IF(L125=1,mu_redLead,mu_millScale))","v":30.596367075699675},{"$f":"Sigma_p(AB125,V125)","v":-28.285765490360816},{"$f":"Sigma_p(AC125,V125)","v":-31.139272341703229},{"$f":"beta_1(X125,AD125,Z125)","v":0.68499454913516689},{"$f":"beta_1(Y125,AE125,Z125)","v":0},{"$f":"k_tHole(W125,U125)","v":2.4961660879629628},{"$f":"K_t1Mu(Z125,AH125,D125,W125,U125,SIGN(X125),mu_millScale)","v":3.6902978326541449},{"$f":"K_t1Mu(Z125,AI125,D125,W125,U125,SIGN(Y125),mu_millScale)","v":1.8358648844807242},{"$f":"Sigma_hMax(AK125,X125,AF125)","v":587.13774438246344},{"$f":"Sigma_hMin(X125,Y125,AG125,AE125,AK125,AL125,AJ125,AI125,Z125,IF(L125=1,mu_redLead,mu_millScale))","v":70.970586115133344},516.16715826733014,0.12087553013608145,165.5899420502669,{"$f":"tau_n(N125,W125,U125,D125)","v":97.894136281818277},{"$f":"tau_hMax(X125,Z125,AH125,W125,U125)","v":73.102479727396329},{"$f":"tau_hMin(X125,Y125,AS125,AE125,Z125,AI125,IF(L125=1,mu_redLead,mu_millScale),W125,U125)","v":23.494323709643311},49.608156017753018]
[114,"Graf1935","R; S",2,1,10,48,null,5,9,70,null,563,152.05500000000001,3.125E-2,1743600,1,"GH52.25-26.3",null,114,0.5,0.7142857142857143,0.20833333333333334,156.96,4.9050000000000002,{"$f":"IF(OR(X126>=1.6*D126*AD126,D126=1),calcLoadFraction(G126,F126,I126,J126,K126,D126,1),\"Condition for spring model not fulfilled\")","v":0.52905229877639126},{"$f":"IF(L126>2,L126,IF(L126=2,1,sigma_cl0(I126+J126)))","v":112.45880410439175},{"$f":"Sigma_cl(AA126,U126,V126,X126)","v":102.49337178207395},{"$f":"Sigma_cl(AA126,U126,V126,Y126)","v":112.14738434431932},{"$f":"sigma_Slip(AB126,W126,U126,IF(L126=1,mu_redLead,mu_millScale))","v":27.962500021431801},{"$f":"sigma_Slip(AC126,W126,U126,IF(L126=1,mu_redLead,mu_millScale))","v":30.596332061348193},{"$f":"Sigma_p(AB126,V126)","v":-28.458669663883139},{"$f":"Sigma_p(AC126,V126)","v":-31.139236706053286},{"$f":"beta_1(X126,AD126,Z126)","v":0.6632648894100428},{"$f":"beta_1(Y126,AE126,Z126)","v":0},{"$f":"k_tHole(W126,U126)","v":2.4961660879629628},{"$f":"K_t1Mu(Z126,AH126,D126,W126,U126,SIGN(X126),mu_millScale)","v":3.6426474822923138},{"$f":"K_t1Mu(Z126,AI126,D126,W126,U126,SIGN(Y126),mu_millScale)","v":1.8358648844807242},{"$f":"Sigma_hMax(AK126,X126,AF126)","v":543.29127915671847},{"$f":"Sigma_hMin(X126,Y126,AG126,AE126,AK126,AL126,AJ126,AI126,Z126,IF(L126=1,mu_redLead,mu_millScale))","v":67.947655806284189},475.34362335043431,0.12506671543071821,152.57543953514642,{"$f":"tau_n(N126,W126,U126,D126)","v":91.961158325344442},{"$f":"tau_hMax(X126,Z126,AH126,W126,U126)","v":66.620567358704037},{"$f":"tau_hMin(X126,Y126,AS126,AE126,Z126,AI126,IF(L126=1,mu_redLead,mu_millScale),W126,U126)","v":22.279725278825115},44.340842079878925]
[115,"Graf1935","R; S",2,1,10,48,null,5,9,70,null,563,142.245,3.3300000000000003E-2,2020100,0,"GH52.25-26.5",null,115,{"$f":"I127/F127","v":0.5},{"$f":"F127/(J127+I127)","v":0.7142857142857143},{"$f":"F127/G127","v":0.20833333333333334},{"$f":"N127/(1-O127)","v":147.1449260370332},{"$f":"X127*O127","v":4.8999260370332065},{"$f":"IF(OR(X127>=1.6*D127*AD127,D127=1),calcLoadFraction(G127,F127,I127,J127,K127,D127,1),\"Condition for spring model not fulfilled\")","v":0.52905229877639126},{"$f":"IF(L127>2,L127,IF(L127=2,1,sigma_cl0(I127+J127)))","v":112.45880410439175},{"$f":"Sigma_cl(AA127,U127,V127,X127)","v":103.11653344948277},{"$f":"Sigma_cl(AA127,U127,V127,Y127)","v":112.14770649158328},{"$f":"sigma_Slip(AB127,W127,U127,IF(L127=1,mu_redLead,mu_millScale))","v":28.132512558196858},{"$f":"sigma_Slip(AC127,W127,U127,IF(L127=1,mu_redLead,mu_millScale))","v":30.59641995037671},{"$f":"Sigma_p(AB127,V127)","v":-28.631698921596406},{"$f":"Sigma_p(AC127,V127)","v":-31.139326154594286},{"$f":"beta_1(X127,AD127,Z127)","v":0.63861957474269548},{"$f":"beta_1(Y127,AE127,Z127)","v":0},{"$f":"k_tHole(W127,U127)","v":2.4961660879629628},{"$f":"K_t1Mu(Z127,AH127,D127,W127,U127,SIGN(X127),mu_millScale)","v":3.5860918663237142},{"$f":"K_t1Mu(Z127,AI127,D127,W127,U127,SIGN(Y127),mu_millScale)","v":1.8358648844807242},{"$f":"Sigma_hMax(AK127,X127,AF127)","v":499.04352351061289},{"$f":"Sigma_hMin(X127,Y127,AG127,AE127,AK127,AL127,AJ127,AI127,Z127,IF(L127=1,mu_redLead,mu_millScale))","v":64.494947437825104},{"$f":"(AM127-AN127)","v":434.5485760727878},{"$f":"AN127/AM127","v":0.1292371194081903},139.5563515242311,{"$f":"tau_n(N127,W127,U127,D127)","v":86.028180368870608},{"$f":"tau_hMax(X127,Z127,AH127,W127,U127)","v":60.133965775472298},{"$f":"tau_hMin(X127,Y127,AS127,AE127,Z127,AI127,IF(L127=1,mu_redLead,mu_millScale),W127,U127)","v":20.963773175492804},39.170192599979494]
[116,"Graf1935","R; S",2,1,10,48,null,5,9,70,null,563,117.72,0.67,290300,1,"GH52.25-26.1",null,116,0.5,0.7142857142857143,0.20833333333333334,356.72727272727275,239.00727272727275,{"$f":"IF(OR(X128>=1.6*D128*AD128,D128=1),calcLoadFraction(G128,F128,I128,J128,K128,D128,1),\"Condition for spring model not fulfilled\")","v":0.52905229877639126},{"$f":"IF(L128>2,L128,IF(L128=2,1,sigma_cl0(I128+J128)))","v":112.45880410439175},{"$f":"Sigma_cl(AA128,U128,V128,X128)","v":89.810094280942224},{"$f":"Sigma_cl(AA128,U128,V128,Y128)","v":97.284168522680559},{"$f":"sigma_Slip(AB128,W128,U128,IF(L128=1,mu_redLead,mu_millScale))","v":24.50221628570587},{"$f":"sigma_Slip(AC128,W128,U128,IF(L128=1,mu_redLead,mu_millScale))","v":26.541312058544367},{"$f":"Sigma_p(AB128,V128)","v":-24.936986277102427},{"$f":"Sigma_p(AC128,V128)","v":-27.012263987169632},{"$f":"beta_1(X128,AD128,Z128)","v":0.87017137731209038},{"$f":"beta_1(Y128,AE128,Z128)","v":0.79009988998965619},{"$f":"k_tHole(W128,U128)","v":2.4961660879629628},{"$f":"K_t1Mu(Z128,AH128,D128,W128,U128,SIGN(X128),mu_millScale)","v":3.9924150834608763},{"$f":"K_t1Mu(Z128,AI128,D128,W128,U128,SIGN(Y128),mu_millScale)","v":3.8869883751858261},{"$f":"Sigma_hMax(AK128,X128,AF128)","v":1399.2663580411229},{"$f":"Sigma_hMin(X128,Y128,AG128,AE128,AK128,AL128,AJ128,AI128,Z128,IF(L128=1,mu_redLead,mu_millScale))","v":888.76328296221971},510.50307507890318,0.63516376124873575,189.67702638453329,{"$f":"tau_n(N128,W128,U128,D128)","v":71.195735477686014},{"$f":"tau_hMax(X128,Z128,AH128,W128,U128)","v":198.64307808453555},{"$f":"tau_hMin(X128,Y128,AS128,AE128,Z128,AI128,IF(L128=1,mu_redLead,mu_millScale),W128,U128)","v":146.57745454434516},52.065623540190387]
[117,"Graf1935","R; S",2,1,10,48,null,5,9,70,null,563,107.91,0.67,820800,1,"GH52.25-26.2",null,117,0.5,0.7142857142857143,0.20833333333333334,327.00000000000006,219.09000000000006,{"$f":"IF(OR(X129>=1.6*D129*AD129,D129=1),calcLoadFraction(G129,F129,I129,J129,K129,D129,1),\"Condition for spring model not fulfilled\")","v":0.52905229877639126},{"$f":"IF(L129>2,L129,IF(L129=2,1,sigma_cl0(I129+J129)))","v":112.45880410439175},{"$f":"Sigma_cl(AA129,U129,V129,X129)","v":91.697486766229673},{"$f":"Sigma_cl(AA129,U129,V129,Y129)","v":98.548721487823158},{"$f":"sigma_Slip(AB129,W129,U129,IF(L129=1,mu_redLead,mu_millScale))","v":25.017139460665085},{"$f":"sigma_Slip(AC129,W129,U129,IF(L129=1,mu_redLead,mu_millScale))","v":26.886310585767038},{"$f":"Sigma_p(AB129,V129)","v":-25.461046304897174},{"$f":"Sigma_p(AC129,V129)","v":-27.363384205792112},{"$f":"beta_1(X129,AD129,Z129)","v":0.85539234246194407},{"$f":"beta_1(Y129,AE129,Z129)","v":0.76804162901928863},{"$f":"k_tHole(W129,U129)","v":2.4961660879629628},{"$f":"K_t1Mu(Z129,AH129,D129,W129,U129,SIGN(X129),mu_millScale)","v":3.9762128909471177},{"$f":"K_t1Mu(Z129,AI129,D129,W129,U129,SIGN(Y129),mu_millScale)","v":3.850780191911392},{"$f":"Sigma_hMax(AK129,X129,AF129)","v":1274.7605690348105},{"$f":"Sigma_hMin(X129,Y129,AG129,AE129,AK129,AL129,AJ129,AI129,Z129,IF(L129=1,mu_redLead,mu_millScale))","v":814.26135681174821},460.49921222306227,0.63875630968744912,171.49536326083452,{"$f":"tau_n(N129,W129,U129,D129)","v":65.26275752121218},{"$f":"tau_hMax(X129,Z129,AH129,W129,U129)","v":178.99687113128681},{"$f":"tau_hMin(X129,Y129,AS129,AE129,Z129,AI129,IF(L129=1,mu_redLead,mu_millScale),W129,U129)","v":132.69257721976669},46.304293911520119]
[118,"Graf1935","R; S",2,1,10,48,null,5,9,70,null,563,102.024,0.67,1517100,1,"GH52.25-26.4",null,118,0.5,0.7142857142857143,0.20833333333333334,309.16363636363639,207.13963636363638,{"$f":"IF(OR(X130>=1.6*D130*AD130,D130=1),calcLoadFraction(G130,F130,I130,J130,K130,D130,1),\"Condition for spring model not fulfilled\")","v":0.52905229877639126},{"$f":"IF(L130>2,L130,IF(L130=2,1,sigma_cl0(I130+J130)))","v":112.45880410439175},{"$f":"Sigma_cl(AA130,U130,V130,X130)","v":92.82992225740216},{"$f":"Sigma_cl(AA130,U130,V130,Y130)","v":99.307453266908723},{"$f":"sigma_Slip(AB130,W130,U130,IF(L130=1,mu_redLead,mu_millScale))","v":25.326093365640617},{"$f":"sigma_Slip(AC130,W130,U130,IF(L130=1,mu_redLead,mu_millScale))","v":27.093309702100647},{"$f":"Sigma_p(AB130,V130)","v":-25.775482321574025},{"$f":"Sigma_p(AC130,V130)","v":-27.574056336965604},{"$f":"beta_1(X130,AD130,Z130)","v":0.84516070295030432},{"$f":"beta_1(Y130,AE130,Z130)","v":0.75277052527057264},{"$f":"k_tHole(W130,U130)","v":2.4961660879629628},{"$f":"K_t1Mu(Z130,AH130,D130,W130,U130,SIGN(X130),mu_millScale)","v":3.9641009519945394},{"$f":"K_t1Mu(Z130,AI130,D130,W130,U130,SIGN(Y130),mu_millScale)","v":3.8240489446233963},{"$f":"Sigma_hMax(AK130,X130,AF130)","v":1199.7803829096106},{"$f":"Sigma_hMin(X130,Y130,AG130,AE130,AK130,AL130,AJ130,AI130,Z130,IF(L130=1,mu_redLead,mu_millScale))","v":769.27946309130425},430.50091981830633,0.64118356496687312,160.57875510361919,{"$f":"tau_n(N130,W130,U130,D130)","v":61.702970747327882},{"$f":"tau_hMax(X130,Z130,AH130,W130,U130)","v":167.20914695933755},{"$f":"tau_hMin(X130,Y130,AS130,AE130,Z130,AI130,IF(L130=1,mu_redLead,mu_millScale),W130,U130)","v":124.34126306658403},42.867883892753511]
[119,"Graf1935","R; S",2,1,10,48,null,5,9,70,null,563,98.1,0.67,2008200,0,"GH52.28-30.3",null,119,{"$f":"I131/F131","v":0.5},{"$f":"F131/(J131+I131)","v":0.7142857142857143},{"$f":"F131/G131","v":0.20833333333333334},{"$f":"N131/(1-O131)","v":297.27272727272731},{"$f":"X131*O131","v":199.17272727272731},{"$f":"IF(OR(X131>=1.6*D131*AD131,D131=1),calcLoadFraction(G131,F131,I131,J131,K131,D131,1),\"Condition for spring model not fulfilled\")","v":0.52905229877639126},{"$f":"IF(L131>2,L131,IF(L131=2,1,sigma_cl0(I131+J131)))","v":112.45880410439175},{"$f":"Sigma_cl(AA131,U131,V131,X131)","v":93.584879251517137},{"$f":"Sigma_cl(AA131,U131,V131,Y131)","v":99.813274452965757},{"$f":"sigma_Slip(AB131,W131,U131,IF(L131=1,mu_redLead,mu_millScale))","v":25.5320626356243},{"$f":"sigma_Slip(AC131,W131,U131,IF(L131=1,mu_redLead,mu_millScale))","v":27.231309112989717},{"$f":"Sigma_p(AB131,V131)","v":-25.985106332691924},{"$f":"Sigma_p(AC131,V131)","v":-27.714504424414596},{"$f":"beta_1(X131,AD131,Z131)","v":0.83765750064176858},{"$f":"beta_1(Y131,AE131,Z131)","v":0.7415717158548476},{"$f":"k_tHole(W131,U131)","v":2.4961660879629628},{"$f":"K_t1Mu(Z131,AH131,D131,W131,U131,SIGN(X131),mu_millScale)","v":3.9547630786159753},{"$f":"K_t1Mu(Z131,AI131,D131,W131,U131,SIGN(Y131),mu_millScale)","v":3.8036127596558615},{"$f":"Sigma_hMax(AK131,X131,AF131)","v":1149.6580997649664},{"$f":"Sigma_hMin(X131,Y131,AG131,AE131,AK131,AL131,AJ131,AI131,Z131,IF(L131=1,mu_redLead,mu_millScale))","v":739.15213785121603},{"$f":"(AM131-AN131)","v":410.50596191375041},{"$f":"AN131/AM131","v":0.64293213608665623},153.29784041103545,{"$f":"tau_n(N131,W131,U131,D131)","v":59.329779564738345},{"$f":"tau_hMax(X131,Z131,AH131,W131,U131)","v":159.35066417803807},{"$f":"tau_hMin(X131,Y131,AS131,AE131,Z131,AI131,IF(L131=1,mu_redLead,mu_millScale),W131,U131)","v":118.76381537490333},40.586848803134743]
[120,"Graf1935","R; S",2,1,10,61,null,5,9,70,null,560,171.67500000000001,2.7799999999999998E-2,246700,1,"GH52.38.3-4",null,120,{"$f":"I132/F132","v":0.5},{"$f":"F132/(J132+I132)","v":0.7142857142857143},{"$f":"F132/G132","v":0.16393442622950818},{"$f":"N132/(1-O132)","v":176.5840362065419},{"$f":"X132*O132","v":4.909036206541864},{"$f":"IF(OR(X132>=1.6*D132*AD132,D132=1),calcLoadFraction(G132,F132,I132,J132,K132,D132,1),\"Condition for spring model not fulfilled\")","v":0.5235407370473234},{"$f":"IF(L132>2,L132,IF(L132=2,1,sigma_cl0(I132+J132)))","v":112.45880410439175},{"$f":"Sigma_cl(AA132,U132,V132,X132)","v":101.24743648195286},{"$f":"Sigma_cl(AA132,U132,V132,Y132)","v":112.14712808448795},{"$f":"sigma_Slip(AB132,W132,U132,IF(L132=1,mu_redLead,mu_millScale))","v":20.581530801474781},{"$f":"sigma_Slip(AC132,W132,U132,IF(L132=1,mu_redLead,mu_millScale))","v":22.797214933725758},{"$f":"Sigma_p(AB132,V132)","v":-28.112718891533596},{"$f":"Sigma_p(AC132,V132)","v":-31.139165552048276},{"$f":"beta_1(X132,AD132,Z132)","v":0.77737406628833439},{"$f":"beta_1(Y132,AE132,Z132)","v":0},{"$f":"k_tHole(W132,U132)","v":2.5844145545221848},{"$f":"K_t1Mu(Z132,AH132,D132,W132,U132,SIGN(X132),mu_millScale)","v":4.4651163477368945},{"$f":"K_t1Mu(Z132,AI132,D132,W132,U132,SIGN(Y132),mu_millScale)","v":1.9078914041669974},{"$f":"Sigma_hMax(AK132,X132,AF132)","v":760.35554792366031},{"$f":"Sigma_hMin(X132,Y132,AG132,AE132,AK132,AL132,AJ132,AI132,Z132,IF(L132=1,mu_redLead,mu_millScale))","v":77.427827582324454},{"$f":"(AM132-AN132)","v":682.92772034133588},{"$f":"AN132/AM132","v":0.10183108125371133},218.56661490492669,{"$f":"tau_n(N132,W132,U132,D132)","v":139.34691647770785},{"$f":"tau_hMax(X132,Z132,AH132,W132,U132)","v":116.66813892127441},{"$f":"tau_hMin(X132,Y132,AS132,AE132,Z132,AI132,IF(L132=1,mu_redLead,mu_millScale),W132,U132)","v":30.332538240916755},86.335600680357658]
[121,"Graf1935","R; S",2,1,10,61,null,5,9,70,null,560,132.435,3.5700000000000003E-2,582300,1,"GH52.36-37.2",null,121,{"$f":"I133/F133","v":0.5},{"$f":"F133/(J133+I133)","v":0.7142857142857143},{"$f":"F133/G133","v":0.16393442622950818},{"$f":"N133/(1-O133)","v":137.33796536347609},{"$f":"X133*O133","v":4.9029653634760963},{"$f":"IF(OR(X133>=1.6*D133*AD133,D133=1),calcLoadFraction(G133,F133,I133,J133,K133,D133,1),\"Condition for spring model not fulfilled\")","v":0.5235407370473234},{"$f":"IF(L133>2,L133,IF(L133=2,1,sigma_cl0(I133+J133)))","v":112.45880410439175},{"$f":"Sigma_cl(AA133,U133,V133,X133)","v":103.73918000198002},{"$f":"Sigma_cl(AA133,U133,V133,Y133)","v":112.14751352393564},{"$f":"sigma_Slip(AB133,W133,U133,IF(L133=1,mu_redLead,mu_millScale))","v":21.088051240794304},{"$f":"sigma_Slip(AC133,W133,U133,IF(L133=1,mu_redLead,mu_millScale))","v":22.797293285673625},{"$f":"Sigma_p(AB133,V133)","v":-28.80458515069375},{"$f":"Sigma_p(AC133,V133)","v":-31.139272574519357},{"$f":"beta_1(X133,AD133,Z133)","v":0.70671128078333223},{"$f":"beta_1(Y133,AE133,Z133)","v":0},{"$f":"k_tHole(W133,U133)","v":2.5844145545221848},{"$f":"K_t1Mu(Z133,AH133,D133,W133,U133,SIGN(X133),mu_millScale)","v":4.3004572996571211},{"$f":"K_t1Mu(Z133,AI133,D133,W133,U133,SIGN(Y133),mu_millScale)","v":1.9078914041669974},{"$f":"Sigma_hMax(AK133,X133,AF133)","v":561.81147051672383},{"$f":"Sigma_hMin(X133,Y133,AG133,AE133,AK133,AL133,AJ133,AI133,Z133,IF(L133=1,mu_redLead,mu_millScale))","v":68.030584763121126},{"$f":"(AM133-AN133)","v":493.78088575360272},{"$f":"AN133/AM133","v":0.12109148412464821},158.41264057908694,{"$f":"tau_n(N133,W133,U133,D133)","v":107.49619271137462},{"$f":"tau_hMax(X133,Z133,AH133,W133,U133)","v":82.490401122823059},{"$f":"tau_hMin(X133,Y133,AS133,AE133,Z133,AI133,IF(L133=1,mu_redLead,mu_millScale),W133,U133)","v":25.539448136104774},56.950952986718285]
[122,"Graf1935","R; S",2,1,10,61,null,5,9,70,null,560,122.625,3.85E-2,2000000,0,"GH52.36-37.1",null,122,0.5,0.7142857142857143,0.16393442622950818,127.53510140405616,4.9101014040561619,{"$f":"IF(OR(X134>=1.6*D134*AD134,D134=1),calcLoadFraction(G134,F134,I134,J134,K134,D134,1),\"Condition for spring model not fulfilled\")","v":0.5235407370473234},{"$f":"IF(L134>2,L134,IF(L134=2,1,sigma_cl0(I134+J134)))","v":112.45880410439175},{"$f":"Sigma_cl(AA134,U134,V134,X134)","v":104.36156645300248},{"$f":"Sigma_cl(AA134,U134,V134,Y134)","v":112.14706045481326},{"$f":"sigma_Slip(AB134,W134,U134,IF(L134=1,mu_redLead,mu_millScale))","v":21.214569662961196},{"$f":"sigma_Slip(AC134,W134,U134,IF(L134=1,mu_redLead,mu_millScale))","v":22.797201185997611},{"$f":"Sigma_p(AB134,V134)","v":-28.977399159101878},{"$f":"Sigma_p(AC134,V134)","v":-31.139146773755222},{"$f":"beta_1(X134,AD134,Z134)","v":0.68227307863203768},{"$f":"beta_1(Y134,AE134,Z134)","v":0},{"$f":"k_tHole(W134,U134)","v":2.5844145545221848},{"$f":"K_t1Mu(Z134,AH134,D134,W134,U134,SIGN(X134),mu_millScale)","v":4.2359096090290684},{"$f":"K_t1Mu(Z134,AI134,D134,W134,U134,SIGN(Y134),mu_millScale)","v":1.9078914041669974},{"$f":"Sigma_hMax(AK134,X134,AF134)","v":511.24976236683625},{"$f":"Sigma_hMin(X134,Y134,AG134,AE134,AK134,AL134,AJ134,AI134,Z134,IF(L134=1,mu_redLead,mu_millScale))","v":64.770877643093158},446.47888472374308,0.12669126210100456,143.34049762280139,{"$f":"tau_n(N134,W134,U134,D134)","v":99.533511769791318},{"$f":"tau_hMax(X134,Z134,AH134,W134,U134)","v":73.953502858059849},{"$f":"tau_hMin(X134,Y134,AS134,AE134,Z134,AI134,IF(L134=1,mu_redLead,mu_millScale),W134,U134)","v":24.063522661823569},49.88998019623628]
[123,"Graf1935","R; S",2,1,10,61,null,5,9,70,null,560,112.815,4.1700000000000001E-2,2026400,0,"GH52.36-37.3",null,123,0.5,0.7142857142857143,0.16393442622950818,117.72409475112177,4.9090947511217777,{"$f":"IF(OR(X135>=1.6*D135*AD135,D135=1),calcLoadFraction(G135,F135,I135,J135,K135,D135,1),\"Condition for spring model not fulfilled\")","v":0.5235407370473234},{"$f":"IF(L135>2,L135,IF(L135=2,1,sigma_cl0(I135+J135)))","v":112.45880410439175},{"$f":"Sigma_cl(AA135,U135,V135,X135)","v":104.98446988581102},{"$f":"Sigma_cl(AA135,U135,V135,Y135)","v":112.14712436747693},{"$f":"sigma_Slip(AB135,W135,U135,IF(L135=1,mu_redLead,mu_millScale))","v":21.341193176940028},{"$f":"sigma_Slip(AC135,W135,U135,IF(L135=1,mu_redLead,mu_millScale))","v":22.797214178133526},{"$f":"Sigma_p(AB135,V135)","v":-29.150356714488868},{"$f":"Sigma_p(AC135,V135)","v":-31.139164519969942},{"$f":"beta_1(X135,AD135,Z135)","v":0.65373957532950655},{"$f":"beta_1(Y135,AE135,Z135)","v":0},{"$f":"k_tHole(W135,U135)","v":2.5844145545221848},{"$f":"K_t1Mu(Z135,AH135,D135,W135,U135,SIGN(X135),mu_millScale)","v":4.1561255278397562},{"$f":"K_t1Mu(Z135,AI135,D135,W135,U135,SIGN(Y135),mu_millScale)","v":1.9078914041669974},{"$f":"Sigma_hMax(AK135,X135,AF135)","v":460.12575872247459},{"$f":"Sigma_hMin(X135,Y135,AG135,AE135,AK135,AL135,AJ135,AI135,Z135,IF(L135=1,mu_redLead,mu_millScale))","v":60.91963336477702},399.20612535769754,0.13239778953892639,128.25888882727065,{"$f":"tau_n(N135,W135,U135,D135)","v":91.570830828208017},{"$f":"tau_hMax(X135,Z135,AH135,W135,U135)","v":65.409513467027622},{"$f":"tau_hMin(X135,Y135,AS135,AE135,Z135,AI135,IF(L135=1,mu_redLead,mu_millScale),W135,U135)","v":22.431618682806899},42.977894784220723]
[124,"Graf1935","R; S",2,2,10,47.5,null,6.5,10,70,null,561,270,{"$f":"ROUND(0.5/28,2)","v":0.02},37740,1,"GH52.1-2,1",null,124,{"$f":"I136/F136","v":0.65},{"$f":"F136/(J136+I136)","v":0.60606060606060608},{"$f":"F136/G136","v":0.21052631578947367},{"$f":"N136/(1-O136)","v":275.51020408163265},{"$f":"X136*O136","v":5.5102040816326534},{"$f":"IF(OR(X136>=1.6*D136*AD136,D136=1),calcLoadFraction(G136,F136,I136,J136,K136,D136,1),\"Condition for spring model not fulfilled\")","v":0.52061616301792979},{"$f":"IF(L136>2,L136,IF(L136=2,1,sigma_cl0(I136+J136)))","v":128.05464651530374},{"$f":"Sigma_cl(AA136,U136,V136,X136)","v":107.45405466323609},{"$f":"Sigma_cl(AA136,U136,V136,Y136)","v":127.6426346782624},{"$f":"sigma_Slip(AB136,W136,U136,IF(L136=1,mu_redLead,mu_millScale))","v":22.851357314399223},{"$f":"sigma_Slip(AC136,W136,U136,IF(L136=1,mu_redLead,mu_millScale))","v":27.144694192561207},{"$f":"Sigma_p(AB136,V136)","v":-25.192979210985342},{"$f":"Sigma_p(AC136,V136)","v":-29.926262456665281},{"$f":"beta_1(X136,AD136,Z136)","v":0.84068500081750108},{"$f":"beta_1(Y136,AE136,Z136)","v":0},{"$f":"k_tHole(W136,U136)","v":2.49205423531127},{"$f":"K_t1Mu(Z136,AH136,D136,W136,U136,SIGN(X136),mu_millScale)","v":3.9121282292248178},{"$f":"K_t1Mu(Z136,AI136,D136,W136,U136,SIGN(Y136),mu_millScale)","v":1.8433523783011028},{"$f":"Sigma_hMax(AK136,X136,AF136)","v":1052.6382676162605},{"$f":"Sigma_hMin(X136,Y136,AG136,AE136,AK136,AL136,AJ136,AI136,Z136,IF(L136=1,mu_redLead,mu_millScale))","v":82.827053343678813},{"$f":"(AM136-AN136)","v":969.81121427258165},{"$f":"AN136/AM136","v":7.8685200692203444E-2},309.52339228068024,{"$f":"tau_n(N136,W136,U136,D136)","v":209.48769341726182},{"$f":"tau_hMax(X136,Z136,AH136,W136,U136)","v":187.1170581782163},{"$f":"tau_hMin(X136,Y136,AS136,AE136,Z136,AI136,IF(L136=1,mu_redLead,mu_millScale),W136,U136)","v":39.857345805320335},147.25971237289596]
[125,"Graf1935","R; S",2,2,10,47.5,null,6.5,10,70,null,561,181,{"$f":"ROUND(0.5/19,2)","v":0.03},382020,1,"GH52.1-2,6",null,125,0.65,0.60606060606060608,0.21052631578947367,186.5979381443299,5.5979381443298966,{"$f":"IF(OR(X137>=1.6*D137*AD137,D137=1),calcLoadFraction(G137,F137,I137,J137,K137,D137,1),\"Condition for spring model not fulfilled\")","v":0.52061616301792979},{"$f":"IF(L137>2,L137,IF(L137=2,1,sigma_cl0(I137+J137)))","v":128.05464651530374},{"$f":"Sigma_cl(AA137,U137,V137,X137)","v":114.10224871950474},{"$f":"Sigma_cl(AA137,U137,V137,Y137)","v":127.63607458142977},{"$f":"sigma_Slip(AB137,W137,U137,IF(L137=1,mu_redLead,mu_millScale))","v":24.265173278360585},{"$f":"sigma_Slip(AC137,W137,U137,IF(L137=1,mu_redLead,mu_millScale))","v":27.143299111498806},{"$f":"Sigma_p(AB137,V137)","v":-26.751671576527841},{"$f":"Sigma_p(AC137,V137)","v":-29.924724419002168},{"$f":"beta_1(X137,AD137,Z137)","v":0.75021928220349343},{"$f":"beta_1(Y137,AE137,Z137)","v":0},{"$f":"k_tHole(W137,U137)","v":2.49205423531127},{"$f":"K_t1Mu(Z137,AH137,D137,W137,U137,SIGN(X137),mu_millScale)","v":3.7765408111522056},{"$f":"K_t1Mu(Z137,AI137,D137,W137,U137,SIGN(Y137),mu_millScale)","v":1.8433523783011028},{"$f":"Sigma_hMax(AK137,X137,AF137)","v":677.94305710238893},{"$f":"Sigma_hMin(X137,Y137,AG137,AE137,AK137,AL137,AJ137,AI137,Z137,IF(L137=1,mu_redLead,mu_millScale))","v":72.179735427019182},605.76332167536975,0.1064687287093464,193.98142253736447,{"$f":"tau_n(N137,W137,U137,D137)","v":140.4343426241644},{"$f":"tau_hMax(X137,Z137,AH137,W137,U137)","v":113.09345093892999},{"$f":"tau_hMin(X137,Y137,AS137,AE137,Z137,AI137,IF(L137=1,mu_redLead,mu_millScale),W137,U137)","v":31.972164511820939},81.121286427109055]
[126,"Graf1935","R; S",2,2,10,47.5,null,6.5,10,70,null,561,314,-1,132011,1,"GH52.1-2,7",null,126,0.65,0.60606060606060608,0.21052631578947367,157,-157,{"$f":"IF(OR(X138>=1.6*D138*AD138,D138=1),calcLoadFraction(G138,F138,I138,J138,K138,D138,1),\"Condition for spring model not fulfilled\")","v":0.52061616301792979},{"$f":"IF(L138>2,L138,IF(L138=2,1,sigma_cl0(I138+J138)))","v":128.05464651530374},{"$f":"Sigma_cl(AA138,U138,V138,X138)","v":116.31536109915882},{"$f":"Sigma_cl(AA138,U138,V138,Y138)","v":139.79393193144867},{"$f":"sigma_Slip(AB138,W138,U138,IF(L138=1,mu_redLead,mu_millScale))","v":24.735817424110987},{"$f":"sigma_Slip(AC138,W138,U138,IF(L138=1,mu_redLead,mu_millScale))","v":29.728809200936404},{"$f":"Sigma_p(AB138,V138)","v":-27.270543519954607},{"$f":"Sigma_p(AC138,V138)","v":-32.775176627893501},{"$f":"beta_1(X138,AD138,Z138)","v":0.69737209788046706},{"$f":"beta_1(Y138,AE138,Z138)","v":0.63628583576859099},{"$f":"k_tHole(W138,U138)","v":2.49205423531127},{"$f":"K_t1Mu(Z138,AH138,D138,W138,U138,SIGN(X138),mu_millScale)","v":3.6761606905003514},{"$f":"K_t1Mu(Z138,AI138,D138,W138,U138,SIGN(Y138),mu_millScale)","v":0.36698462896644246},{"$f":"Sigma_hMax(AK138,X138,AF138)","v":549.8866848886006},{"$f":"Sigma_hMin(X138,Y138,AG138,AE138,AK138,AL138,AJ138,AI138,Z138,IF(L138=1,mu_redLead,mu_millScale))","v":-165.48711318621588},715.37379807481648,-0.30094766382594129,221.14717935322625,{"$f":"tau_n(N138,W138,U138,D138)","v":243.62642864081559},{"$f":"tau_hMax(X138,Z138,AH138,W138,U138)","v":88.451787326020479},{"$f":"tau_hMin(X138,Y138,AS138,AE138,Z138,AI138,IF(L138=1,mu_redLead,mu_millScale),W138,U138)","v":-80.703858951364836},169.1556462773853]
[127,"Graf1935","R; S",2,2,10,47.5,null,6.5,10,70,null,561,294,-1,220090,1,"GH52.1-2,4",null,127,0.65,0.60606060606060608,0.21052631578947367,147,-147,{"$f":"IF(OR(X139>=1.6*D139*AD139,D139=1),calcLoadFraction(G139,F139,I139,J139,K139,D139,1),\"Condition for spring model not fulfilled\")","v":0.52061616301792979},{"$f":"IF(L139>2,L139,IF(L139=2,1,sigma_cl0(I139+J139)))","v":128.05464651530374},{"$f":"Sigma_cl(AA139,U139,V139,X139)","v":117.06308628490054},{"$f":"Sigma_cl(AA139,U139,V139,Y139)","v":139.04620674570694},{"$f":"sigma_Slip(AB139,W139,U139,IF(L139=1,mu_redLead,mu_millScale))","v":24.894829901079948},{"$f":"sigma_Slip(AC139,W139,U139,IF(L139=1,mu_redLead,mu_millScale))","v":29.569796723967439},{"$f":"Sigma_p(AB139,V139)","v":-27.445850306831641},{"$f":"Sigma_p(AC139,V139)","v":-32.599869841016464},{"$f":"beta_1(X139,AD139,Z139)","v":0.67470740174608135},{"$f":"beta_1(Y139,AE139,Z139)","v":0.61362113963420528},{"$f":"k_tHole(W139,U139)","v":2.49205423531127},{"$f":"K_t1Mu(Z139,AH139,D139,W139,U139,SIGN(X139),mu_millScale)","v":3.6289420633973228},{"$f":"K_t1Mu(Z139,AI139,D139,W139,U139,SIGN(Y139),mu_millScale)","v":0.41731867791260197},{"$f":"Sigma_hMax(AK139,X139,AF139)","v":506.00863301257482},{"$f":"Sigma_hMin(X139,Y139,AG139,AE139,AK139,AL139,AJ139,AI139,Z139,IF(L139=1,mu_redLead,mu_millScale))","v":-164.89584365726728},670.9044766698421,-0.32587555408994268,207.0933203494036,{"$f":"tau_n(N139,W139,U139,D139)","v":228.10882172101842},{"$f":"tau_hMax(X139,Z139,AH139,W139,U139)","v":80.126321040920445},{"$f":"tau_hMin(X139,Y139,AS139,AE139,Z139,AI139,IF(L139=1,mu_redLead,mu_millScale),W139,U139)","v":-72.871891288854329},152.99821232977479]
[128,"Graf1935","R; S",2,2,10,47.5,null,6.5,10,70,null,561,275,-1,483347,1,"GH52.3,6-7",null,{"$f":"A140","v":128},0.65,0.60606060606060608,0.21052631578947367,137.5,-137.5,{"$f":"IF(OR(X140>=1.6*D140*AD140,D140=1),calcLoadFraction(G140,F140,I140,J140,K140,D140,1),\"Condition for spring model not fulfilled\")","v":0.52061616301792979},{"$f":"IF(L140>2,L140,IF(L140=2,1,sigma_cl0(I140+J140)))","v":128.05464651530374},{"$f":"Sigma_cl(AA140,U140,V140,X140)","v":117.77342521135516},{"$f":"Sigma_cl(AA140,U140,V140,Y140)","v":138.33586781925231},{"$f":"sigma_Slip(AB140,W140,U140,IF(L140=1,mu_redLead,mu_millScale))","v":25.045891754200461},{"$f":"sigma_Slip(AC140,W140,U140,IF(L140=1,mu_redLead,mu_millScale))","v":29.418734870846926},{"$f":"Sigma_p(AB140,V140)","v":-27.612391754364825},{"$f":"Sigma_p(AC140,V140)","v":-32.433328393483279},{"$f":"beta_1(X140,AD140,Z140)","v":0.6501223877210367},{"$f":"beta_1(Y140,AE140,Z140)","v":0.58903612560916052},{"$f":"k_tHole(W140,U140)","v":2.49205423531127},{"$f":"K_t1Mu(Z140,AH140,D140,W140,U140,SIGN(X140),mu_millScale)","v":3.5751458237543989},{"$f":"K_t1Mu(Z140,AI140,D140,W140,U140,SIGN(Y140),mu_millScale)","v":0.47254958302065864},{"$f":"Sigma_hMax(AK140,X140,AF140)","v":463.97015901186501},{"$f":"Sigma_hMin(X140,Y140,AG140,AE140,AK140,AL140,AJ140,AI140,Z140,IF(L140=1,mu_redLead,mu_millScale))","v":-163.91888637536584},627.88904538723091,-0.3532961833676333,{"$f":"AO140/3.16*(1-0.9*AP140)/(1-AP140)","v":193.51175846509312},{"$f":"tau_n(N140,W140,U140,D140)","v":213.3670951472111},{"$f":"tau_hMax(X140,Z140,AH140,W140,U140)","v":72.21712807007539},{"$f":"tau_hMin(X140,Y140,AS140,AE140,Z140,AI140,IF(L140=1,mu_redLead,mu_millScale),W140,U140)","v":-65.431522009469333},{"$f":"(AS140-AT140)","v":137.64865007954472}]
[129,"Graf1935","R; S",2,2,10,47.5,null,6.5,10,70,null,561,235,-1,522400,0,"GH52.1-2,5",null,129,0.65,0.60606060606060608,0.21052631578947367,117.5,-117.5,{"$f":"IF(OR(X141>=1.6*D141*AD141,D141=1),calcLoadFraction(G141,F141,I141,J141,K141,D141,1),\"Condition for spring model not fulfilled\")","v":0.52061616301792979},{"$f":"IF(L141>2,L141,IF(L141=2,1,sigma_cl0(I141+J141)))","v":128.05464651530374},{"$f":"Sigma_cl(AA141,U141,V141,X141)","v":119.26887558283859},{"$f":"Sigma_cl(AA141,U141,V141,Y141)","v":136.84041744776889},{"$f":"sigma_Slip(AB141,W141,U141,IF(L141=1,mu_redLead,mu_millScale))","v":25.36391670813839},{"$f":"sigma_Slip(AC141,W141,U141,IF(L141=1,mu_redLead,mu_millScale))","v":29.100709916909},{"$f":"Sigma_p(AB141,V141)","v":-27.963005328118893},{"$f":"Sigma_p(AC141,V141)","v":-32.082714819729212},{"$f":"beta_1(X141,AD141,Z141)","v":0.58536992077041505},{"$f":"beta_1(Y141,AE141,Z141)","v":0.5242836586585391},{"$f":"k_tHole(W141,U141)","v":2.49205423531127},{"$f":"K_t1Mu(Z141,AH141,D141,W141,U141,SIGN(X141),mu_millScale)","v":3.422029631072836},{"$f":"K_t1Mu(Z141,AI141,D141,W141,U141,SIGN(Y141),mu_millScale)","v":0.62074570423723152},{"$f":"Sigma_hMax(AK141,X141,AF141)","v":374.12547632293933},{"$f":"Sigma_hMin(X141,Y141,AG141,AE141,AK141,AL141,AJ141,AI141,Z141,IF(L141=1,mu_redLead,mu_millScale))","v":-160.04049131797026},534.16596764090957,-0.4277722353765232,163.97529066744067,{"$f":"tau_n(N141,W141,U141,D141)","v":182.33188130761675},{"$f":"tau_hMax(X141,Z141,AH141,W141,U141)","v":55.566195499875292},{"$f":"tau_hMin(X141,Y141,AS141,AE141,Z141,AI141,IF(L141=1,mu_redLead,mu_millScale),W141,U141)","v":-49.767586684448311},105.33378218432361]
[130,"Graf1935","R; S",3,2,10,66.25,67.5,6.5,10,70,null,567,181,{"$f":"ROUND(0.5/19,2)","v":0.03},208945,1,"GH52.54-55,3",null,130,0.65,0.60606060606060608,0.15094339622641509,186.5979381443299,5.5979381443298966,{"$f":"IF(OR(X142>=1.6*D142*AD142,D142=1),calcLoadFraction(G142,F142,I142,J142,K142,D142,1),\"Condition for spring model not fulfilled\")","v":0.3769839317562913},{"$f":"IF(L142>2,L142,IF(L142=2,1,sigma_cl0(I142+J142)))","v":128.05464651530374},{"$f":"Sigma_cl(AA142,U142,V142,X142)","v":114.10224871950474},{"$f":"Sigma_cl(AA142,U142,V142,Y142)","v":127.63607458142977},{"$f":"sigma_Slip(AB142,W142,U142,IF(L142=1,mu_redLead,mu_millScale))","v":16.176782185573725},{"$f":"sigma_Slip(AC142,W142,U142,IF(L142=1,mu_redLead,mu_millScale))","v":18.095532740999204},{"$f":"Sigma_p(AB142,V142)","v":-26.751671576527841},{"$f":"Sigma_p(AC142,V142)","v":-29.924724419002168},{"$f":"beta_1(X142,AD142,Z142)","v":0.77003462138867595},{"$f":"beta_1(Y142,AE142,Z142)","v":0},{"$f":"k_tHole(W142,U142)","v":2.6120824573305481},{"$f":"K_t1Mu(Z142,AH142,D142,W142,U142,SIGN(X142),mu_millScale)","v":4.1099494831756296},{"$f":"K_t1Mu(Z142,AI142,D142,W142,U142,SIGN(Y142),mu_millScale)","v":2.1197258999124955},{"$f":"Sigma_hMax(AK142,X142,AF142)","v":740.15642786139892},{"$f":"Sigma_hMin(X142,Y142,AG142,AE142,AK142,AL142,AJ142,AI142,Z142,IF(L142=1,mu_redLead,mu_millScale))","v":65.754889912153899},674.40153794924504,8.8839179715219749E-2,215.49905915837354,{"$f":"tau_n(N142,W142,U142,D142)","v":140.4343426241644},{"$f":"tau_hMax(X142,Z142,AH142,W142,U142)","v":126.08282690009217},{"$f":"tau_hMin(X142,Y142,AS142,AE142,Z142,AI142,IF(L142=1,mu_redLead,mu_millScale),W142,U142)","v":33.885483646412929},92.197343253679236]
[131,"Graf1935","R; S",3,2,10,66.25,67.5,6.5,10,70,null,567,314,-1,144570,1,"GH52.54.1-2",null,131,0.65,0.60606060606060608,0.15094339622641509,157,-157,{"$f":"IF(OR(X143>=1.6*D143*AD143,D143=1),calcLoadFraction(G143,F143,I143,J143,K143,D143,1),\"Condition for spring model not fulfilled\")","v":0.3769839317562913},{"$f":"IF(L143>2,L143,IF(L143=2,1,sigma_cl0(I143+J143)))","v":128.05464651530374},{"$f":"Sigma_cl(AA143,U143,V143,X143)","v":116.31536109915882},{"$f":"Sigma_cl(AA143,U143,V143,Y143)","v":139.79393193144867},{"$f":"sigma_Slip(AB143,W143,U143,IF(L143=1,mu_redLead,mu_millScale))","v":16.490544949407326},{"$f":"sigma_Slip(AC143,W143,U143,IF(L143=1,mu_redLead,mu_millScale))","v":19.819206133957604},{"$f":"Sigma_p(AB143,V143)","v":-27.270543519954607},{"$f":"Sigma_p(AC143,V143)","v":-32.775176627893501},{"$f":"beta_1(X143,AD143,Z143)","v":0.72137985388461223},{"$f":"beta_1(Y143,AE143,Z143)","v":0.66513962237902147},{"$f":"k_tHole(W143,U143)","v":2.6120824573305481},{"$f":"K_t1Mu(Z143,AH143,D143,W143,U143,SIGN(X143),mu_millScale)","v":4.0220692425984526},{"$f":"K_t1Mu(Z143,AI143,D143,W143,U143,SIGN(Y143),mu_millScale)","v":0.5862973965558943},{"$f":"Sigma_hMax(AK143,X143,AF143)","v":604.19432756800245},{"$f":"Sigma_hMin(X143,Y143,AG143,AE143,AK143,AL143,AJ143,AI143,Z143,IF(L143=1,mu_redLead,mu_millScale))","v":-204.71252651590208},808.90685408390459,-0.33881901430605793,249.5049371621248,{"$f":"tau_n(N143,W143,U143,D143)","v":243.62642864081559},{"$f":"tau_hMax(X143,Z143,AH143,W143,U143)","v":99.380804260414891},{"$f":"tau_hMin(X143,Y143,AS143,AE143,Z143,AI143,IF(L143=1,mu_redLead,mu_millScale),W143,U143)","v":-91.632875885759233},191.01368014617412]
[132,"Graf1935","R; S",3,2,10,66.25,67.5,6.5,10,70,null,567,275,-1,264258,1,"GH52.55.1-2",null,132,0.65,0.60606060606060608,0.15094339622641509,137.5,-137.5,{"$f":"IF(OR(X144>=1.6*D144*AD144,D144=1),calcLoadFraction(G144,F144,I144,J144,K144,D144,1),\"Condition for spring model not fulfilled\")","v":0.3769839317562913},{"$f":"IF(L144>2,L144,IF(L144=2,1,sigma_cl0(I144+J144)))","v":128.05464651530374},{"$f":"Sigma_cl(AA144,U144,V144,X144)","v":117.77342521135516},{"$f":"Sigma_cl(AA144,U144,V144,Y144)","v":138.33586781925231},{"$f":"sigma_Slip(AB144,W144,U144,IF(L144=1,mu_redLead,mu_millScale))","v":16.697261169466977},{"$f":"sigma_Slip(AC144,W144,U144,IF(L144=1,mu_redLead,mu_millScale))","v":19.612489913897949},{"$f":"Sigma_p(AB144,V144)","v":-27.612391754364825},{"$f":"Sigma_p(AC144,V144)","v":-32.433328393483279},{"$f":"beta_1(X144,AD144,Z144)","v":0.67787850765603352},{"$f":"beta_1(Y144,AE144,Z144)","v":0.62163827615044287},{"$f":"k_tHole(W144,U144)","v":2.6120824573305481},{"$f":"K_t1Mu(Z144,AH144,D144,W144,U144,SIGN(X144),mu_millScale)","v":3.9332042684974025},{"$f":"K_t1Mu(Z144,AI144,D144,W144,U144,SIGN(Y144),mu_millScale)","v":0.68276815850447459},{"$f":"Sigma_hMax(AK144,X144,AF144)","v":513.20319516402799},{"$f":"Sigma_hMin(X144,Y144,AG144,AE144,AK144,AL144,AJ144,AI144,Z144,IF(L144=1,mu_redLead,mu_millScale))","v":-198.81752599111798},712.02072115514602,-0.38740508216744968,219.03131916330193,{"$f":"tau_n(N144,W144,U144,D144)","v":213.3670951472111},{"$f":"tau_hMax(X144,Z144,AH144,W144,U144)","v":81.788719334274305},{"$f":"tau_hMin(X144,Y144,AS144,AE144,Z144,AI144,IF(L144=1,mu_redLead,mu_millScale),W144,U144)","v":-75.003113273668262},156.79183260794258]
[133,"Graf1935","R; S",3,2,10,66.25,67.5,6.5,10,70,null,567,255,-1,294796,1,"GH52.56.2-3",null,133,0.65,0.60606060606060608,0.15094339622641509,127.5,-127.5,{"$f":"IF(OR(X145>=1.6*D145*AD145,D145=1),calcLoadFraction(G145,F145,I145,J145,K145,D145,1),\"Condition for spring model not fulfilled\")","v":0.3769839317562913},{"$f":"IF(L145>2,L145,IF(L145=2,1,sigma_cl0(I145+J145)))","v":128.05464651530374},{"$f":"Sigma_cl(AA145,U145,V145,X145)","v":118.52115039709687},{"$f":"Sigma_cl(AA145,U145,V145,Y145)","v":137.58814263351061},{"$f":"sigma_Slip(AB145,W145,U145,IF(L145=1,mu_redLead,mu_millScale))","v":16.803269487446283},{"$f":"sigma_Slip(AC145,W145,U145,IF(L145=1,mu_redLead,mu_millScale))","v":19.506481595918643},{"$f":"Sigma_p(AB145,V145)","v":-27.787698541241859},{"$f":"Sigma_p(AC145,V145)","v":-32.258021606606249},{"$f":"beta_1(X145,AD145,Z145)","v":0.65040857760922877},{"$f":"beta_1(Y145,AE145,Z145)","v":0.594168346103638},{"$f":"k_tHole(W145,U145)","v":2.6120824573305481},{"$f":"K_t1Mu(Z145,AH145,D145,W145,U145,SIGN(X145),mu_millScale)","v":3.8725950094147796},{"$f":"K_t1Mu(Z145,AI145,D145,W145,U145,SIGN(Y145),mu_millScale)","v":0.74453245823995673},{"$f":"Sigma_hMax(AK145,X145,AF145)","v":465.96816515914253},{"$f":"Sigma_hMin(X145,Y145,AG145,AE145,AK145,AL145,AJ145,AI145,Z145,IF(L145=1,mu_redLead,mu_millScale))","v":-195.13361997989912},661.10178513904168,-0.4187702821141332,203.03431112058598,{"$f":"tau_n(N145,W145,U145,D145)","v":197.84948822741393},{"$f":"tau_hMax(X145,Z145,AH145,W145,U145)","v":72.767137320868898},{"$f":"tau_hMin(X145,Y145,AS145,AE145,Z145,AI145,IF(L145=1,mu_redLead,mu_millScale),W145,U145)","v":-66.475029882852368},139.24216720372127]
[134,"Graf1932","R; S",1,1,10,35,null,6,10,50,null,386,212.87700000000001,0,36400,1,"P3T1",null,134,0.6,0.625,0.2857142857142857,212.87700000000001,0,{"$f":"IF(OR(X146>=1.6*D146*AD146,D146=1),calcLoadFraction(G146,F146,I146,J146,K146,D146,1),\"Condition for spring model not fulfilled\")","v":0.99999999999999989},{"$f":"IF(L146>2,L146,IF(L146=2,1,sigma_cl0(I146+J146)))","v":125.17713647636889},{"$f":"Sigma_cl(AA146,U146,V146,X146)","v":110.2054819938616},{"$f":"Sigma_cl(AA146,U146,V146,Y146)","v":125.17713647636889},{"$f":"sigma_Slip(AB146,W146,U146,IF(L146=1,mu_redLead,mu_millScale))","v":38.08428066560456},{"$f":"sigma_Slip(AC146,W146,U146,IF(L146=1,mu_redLead,mu_millScale))","v":43.258113046937666},{"$f":"Sigma_p(AB146,V146)","v":-26.685845457950897},{"$f":"Sigma_p(AC146,V146)","v":-30.311175618861416},{"$f":"beta_1(X146,AD146,Z146)","v":0.82109725021677038},{"$f":"beta_1(Y146,AE146,Z146)","v":0},{"$f":"k_tHole(W146,U146)","v":2.3644314868804663},{"$f":"K_t1Mu(Z146,AH146,D146,W146,U146,SIGN(X146),mu_millScale)","v":4.4103127739924179},{"$f":"K_t1Mu(Z146,AI146,D146,W146,U146,SIGN(Y146),mu_millScale)","v":1.1822157434402334},{"$f":"Sigma_hMax(AK146,X146,AF146)","v":912.16830693123313},{"$f":"Sigma_hMin(X146,Y146,AG146,AE146,AK146,AL146,AJ146,AI146,Z146,IF(L146=1,mu_redLead,mu_millScale))","v":93.852046642525579},818.31626028870755,0.10288895802384081,261.93084333954431,{"$f":"tau_n(N146,W146,U146,D146)","v":203.28256050865616},{"$f":"tau_hMax(X146,Z146,AH146,W146,U146)","v":166.91475145068179},{"$f":"tau_hMin(X146,Y146,AS146,AE146,Z146,AI146,IF(L146=1,mu_redLead,mu_millScale),W146,U146)","v":34.281304721074726},132.63344672960707]
[135,"Graf1932","R; S",1,1,10,35,null,6,10,50,null,386,201.10499999999999,0,2009800,0,"P3T1",null,135,0.6,0.625,0.2857142857142857,201.10499999999999,0,{"$f":"IF(OR(X147>=1.6*D147*AD147,D147=1),calcLoadFraction(G147,F147,I147,J147,K147,D147,1),\"Condition for spring model not fulfilled\")","v":0.99999999999999989},{"$f":"IF(L147>2,L147,IF(L147=2,1,sigma_cl0(I147+J147)))","v":125.17713647636889},{"$f":"Sigma_cl(AA147,U147,V147,X147)","v":111.03340758736431},{"$f":"Sigma_cl(AA147,U147,V147,Y147)","v":125.17713647636889},{"$f":"sigma_Slip(AB147,W147,U147,IF(L147=1,mu_redLead,mu_millScale))","v":38.370391212037724},{"$f":"sigma_Slip(AC147,W147,U147,IF(L147=1,mu_redLead,mu_millScale))","v":43.258113046937666},{"$f":"Sigma_p(AB147,V147)","v":-26.886324545190188},{"$f":"Sigma_p(AC147,V147)","v":-30.311175618861416},{"$f":"beta_1(X147,AD147,Z147)","v":0.80920220177500446},{"$f":"beta_1(Y147,AE147,Z147)","v":0},{"$f":"k_tHole(W147,U147)","v":2.3644314868804663},{"$f":"K_t1Mu(Z147,AH147,D147,W147,U147,SIGN(X147),mu_millScale)","v":4.3843449371048626},{"$f":"K_t1Mu(Z147,AI147,D147,W147,U147,SIGN(Y147),mu_millScale)","v":1.1822157434402334},{"$f":"Sigma_hMax(AK147,X147,AF147)","v":854.8273640312832},{"$f":"Sigma_hMin(X147,Y147,AG147,AE147,AK147,AL147,AJ147,AI147,Z147,IF(L147=1,mu_redLead,mu_millScale))","v":92.172772797757176},762.65459123352605,0.10782618418189059,244.26324952952587,{"$f":"tau_n(N147,W147,U147,D147)","v":192.04112859112675},{"$f":"tau_hMax(X147,Z147,AH147,W147,U147)","v":155.40010408729651},{"$f":"tau_hMin(X147,Y147,AS147,AE147,Z147,AI147,IF(L147=1,mu_redLead,mu_millScale),W147,U147)","v":33.281256633342174},122.11884745395434]
[136,"Graf1932","R; S",1,1,10,35,null,6,10,50,null,386,191.29499999999999,0,2003000,0,"P3T1",null,136,0.6,0.625,0.2857142857142857,191.29499999999999,0,{"$f":"IF(OR(X148>=1.6*D148*AD148,D148=1),calcLoadFraction(G148,F148,I148,J148,K148,D148,1),\"Condition for spring model not fulfilled\")","v":0.99999999999999989},{"$f":"IF(L148>2,L148,IF(L148=2,1,sigma_cl0(I148+J148)))","v":125.17713647636889},{"$f":"Sigma_cl(AA148,U148,V148,X148)","v":111.7233455819499},{"$f":"Sigma_cl(AA148,U148,V148,Y148)","v":125.17713647636889},{"$f":"sigma_Slip(AB148,W148,U148,IF(L148=1,mu_redLead,mu_millScale))","v":38.608816667398699},{"$f":"sigma_Slip(AC148,W148,U148,IF(L148=1,mu_redLead,mu_millScale))","v":43.258113046937666},{"$f":"Sigma_p(AB148,V148)","v":-27.053390451222931},{"$f":"Sigma_p(AC148,V148)","v":-30.311175618861416},{"$f":"beta_1(X148,AD148,Z148)","v":0.79817132351917874},{"$f":"beta_1(Y148,AE148,Z148)","v":0},{"$f":"k_tHole(W148,U148)","v":2.3644314868804663},{"$f":"K_t1Mu(Z148,AH148,D148,W148,U148,SIGN(X148),mu_millScale)","v":4.3590253233526521},{"$f":"K_t1Mu(Z148,AI148,D148,W148,U148,SIGN(Y148),mu_millScale)","v":1.1822157434402334},{"$f":"Sigma_hMax(AK148,X148,AF148)","v":806.80635877952261},{"$f":"Sigma_hMin(X148,Y148,AG148,AE148,AK148,AL148,AJ148,AI148,Z148,IF(L148=1,mu_redLead,mu_millScale))","v":90.604041124411594},716.20231765511107,0.1122996120921391,229.51351954669371,{"$f":"tau_n(N148,W148,U148,D148)","v":182.67326865985228},{"$f":"tau_hMax(X148,Z148,AH148,W148,U148)","v":145.80456461780881},{"$f":"tau_hMin(X148,Y148,AS148,AE148,Z148,AI148,IF(L148=1,mu_redLead,mu_millScale),W148,U148)","v":32.38594616183704},113.41861845597177]
[137,"Graf1932","R; S",1,1,10,35,null,7,10,50,null,386,166.77,0,317600,1,"P3T1",null,137,0.7,0.58823529411764708,0.2857142857142857,166.77,0,{"$f":"IF(OR(X149>=1.6*D149*AD149,D149=1),calcLoadFraction(G149,F149,I149,J149,K149,D149,1),\"Condition for spring model not fulfilled\")","v":1},{"$f":"IF(L149>2,L149,IF(L149=2,1,sigma_cl0(I149+J149)))","v":130.82328892311955},{"$f":"Sigma_cl(AA149,U149,V149,X149)","v":117.63864892311955},{"$f":"Sigma_cl(AA149,U149,V149,Y149)","v":130.82328892311955},{"$f":"sigma_Slip(AB149,W149,U149,IF(L149=1,mu_redLead,mu_millScale))","v":34.845427507552131},{"$f":"sigma_Slip(AC149,W149,U149,IF(L149=1,mu_redLead,mu_millScale))","v":38.750814228147846},{"$f":"Sigma_p(AB149,V149)","v":-26.72320270008364},{"$f":"Sigma_p(AC149,V149)","v":-29.718271161622102},{"$f":"beta_1(X149,AD149,Z149)","v":0.79105697962731825},{"$f":"beta_1(Y149,AE149,Z149)","v":0},{"$f":"k_tHole(W149,U149)","v":2.3644314868804663},{"$f":"K_t1Mu(Z149,AH149,D149,W149,U149,SIGN(X149),mu_millScale)","v":4.358988023259835},{"$f":"K_t1Mu(Z149,AI149,D149,W149,U149,SIGN(Y149),mu_millScale)","v":1.1822157434402332},{"$f":"Sigma_hMax(AK149,X149,AF149)","v":700.22522993895905},{"$f":"Sigma_hMin(X149,Y149,AG149,AE149,AK149,AL149,AJ149,AI149,Z149,IF(L149=1,mu_redLead,mu_millScale))","v":78.166359162517381},622.05887077644161,0.11163030953530681,199.32769199135862,{"$f":"tau_n(N149,W149,U149,D149)","v":185.7958886369438},{"$f":"tau_hMax(X149,Z149,AH149,W149,U149)","v":146.97513449231434},{"$f":"tau_hMin(X149,Y149,AS149,AE149,Z149,AI149,IF(L149=1,mu_redLead,mu_millScale),W149,U149)","v":33.29447218711833},113.68066230519601]
[138,"Graf1932","R; S",1,1,10,35,null,7,10,50,null,386,161.86500000000001,0,590600,1,"P3T1",null,138,0.7,0.58823529411764708,0.2857142857142857,161.86500000000001,0,{"$f":"IF(OR(X150>=1.6*D150*AD150,D150=1),calcLoadFraction(G150,F150,I150,J150,K150,D150,1),\"Condition for spring model not fulfilled\")","v":1},{"$f":"IF(L150>2,L150,IF(L150=2,1,sigma_cl0(I150+J150)))","v":130.82328892311955},{"$f":"Sigma_cl(AA150,U150,V150,X150)","v":118.02643245253131},{"$f":"Sigma_cl(AA150,U150,V150,Y150)","v":130.82328892311955},{"$f":"sigma_Slip(AB150,W150,U150,IF(L150=1,mu_redLead,mu_millScale))","v":34.960291822863766},{"$f":"sigma_Slip(AC150,W150,U150,IF(L150=1,mu_redLead,mu_millScale))","v":38.750814228147846},{"$f":"Sigma_p(AB150,V150)","v":-26.811292948952417},{"$f":"Sigma_p(AC150,V150)","v":-29.718271161622102},{"$f":"beta_1(X150,AD150,Z150)","v":0.78401574260733475},{"$f":"beta_1(Y150,AE150,Z150)","v":0},{"$f":"k_tHole(W150,U150)","v":2.3644314868804663},{"$f":"K_t1Mu(Z150,AH150,D150,W150,U150,SIGN(X150),mu_millScale)","v":4.3416520480710394},{"$f":"K_t1Mu(Z150,AI150,D150,W150,U150,SIGN(Y150),mu_millScale)","v":1.1822157434402332},{"$f":"Sigma_hMax(AK150,X150,AF150)","v":675.9502158120664},{"$f":"Sigma_hMin(X150,Y150,AG150,AE150,AK150,AL150,AJ150,AI150,Z150,IF(L150=1,mu_redLead,mu_millScale))","v":77.256209614030126},598.69400619803628,0.11429275086659574,191.90494530362,{"$f":"tau_n(N150,W150,U150,D150)","v":180.33130367703367},{"$f":"tau_hMax(X150,Z150,AH150,W150,U150)","v":141.38258096769835},{"$f":"tau_hMin(X150,Y150,AS150,AE150,Z150,AI150,IF(L150=1,mu_redLead,mu_millScale),W150,U150)","v":32.723582988509939},108.6589979791884]
[139,"Graf1932","R; S",1,1,10,35,null,7,10,50,null,386,152.05500000000001,0,2500000,0,"P3T1",null,139,{"$f":"I151/F151","v":0.7},{"$f":"F151/(J151+I151)","v":0.58823529411764708},{"$f":"F151/G151","v":0.2857142857142857},{"$f":"N151/(1-O151)","v":152.05500000000001},{"$f":"X151*O151","v":0},{"$f":"IF(OR(X151>=1.6*D151*AD151,D151=1),calcLoadFraction(G151,F151,I151,J151,K151,D151,1),\"Condition for spring model not fulfilled\")","v":1},{"$f":"IF(L151>2,L151,IF(L151=2,1,sigma_cl0(I151+J151)))","v":130.82328892311955},{"$f":"Sigma_cl(AA151,U151,V151,X151)","v":118.80199951135484},{"$f":"Sigma_cl(AA151,U151,V151,Y151)","v":130.82328892311955},{"$f":"sigma_Slip(AB151,W151,U151,IF(L151=1,mu_redLead,mu_millScale))","v":35.190020453487044},{"$f":"sigma_Slip(AC151,W151,U151,IF(L151=1,mu_redLead,mu_millScale))","v":38.750814228147846},{"$f":"Sigma_p(AB151,V151)","v":-26.987473446689975},{"$f":"Sigma_p(AC151,V151)","v":-29.718271161622102},{"$f":"beta_1(X151,AD151,Z151)","v":0.76857044849898359},{"$f":"beta_1(Y151,AE151,Z151)","v":0},{"$f":"k_tHole(W151,U151)","v":2.3644314868804663},{"$f":"K_t1Mu(Z151,AH151,D151,W151,U151,SIGN(X151),mu_millScale)","v":4.3020165165925359},{"$f":"K_t1Mu(Z151,AI151,D151,W151,U151,SIGN(Y151),mu_millScale)","v":1.1822157434402332},{"$f":"Sigma_hMax(AK151,X151,AF151)","v":627.15564798378807},{"$f":"Sigma_hMin(X151,Y151,AG151,AE151,AK151,AL151,AJ151,AI151,Z151,IF(L151=1,mu_redLead,mu_millScale))","v":75.24877968953453},551.90686829425351,0.11998421752470562,177.03536274152117,{"$f":"tau_n(N151,W151,U151,D151)","v":169.40213375721345},{"$f":"tau_hMax(X151,Z151,AH151,W151,U151)","v":130.19747391846636},{"$f":"tau_hMin(X151,Y151,AS151,AE151,Z151,AI151,IF(L151=1,mu_redLead,mu_millScale),W151,U151)","v":31.50982353602377},98.687650382442584]
[140,"Graf1932","R; S",1,1,10,35,null,6,10,50,null,386,98.1,0.67,446400,1,"P3T1",null,140,0.6,0.625,0.2857142857142857,297.27272727272731,199.17272727272731,{"$f":"IF(OR(X152>=1.6*D152*AD152,D152=1),calcLoadFraction(G152,F152,I152,J152,K152,D152,1),\"Condition for spring model not fulfilled\")","v":0.99999999999999989},{"$f":"IF(L152>2,L152,IF(L152=2,1,sigma_cl0(I152+J152)))","v":125.17713647636889},{"$f":"Sigma_cl(AA152,U152,V152,X152)","v":104.26992451922982},{"$f":"Sigma_cl(AA152,U152,V152,Y152)","v":111.1693044650857},{"$f":"sigma_Slip(AB152,W152,U152,IF(L152=1,mu_redLead,mu_millScale))","v":36.033099248120308},{"$f":"sigma_Slip(AC152,W152,U152,IF(L152=1,mu_redLead,mu_millScale))","v":38.417353801730037},{"$f":"Sigma_p(AB152,V152)","v":-25.248572405748},{"$f":"Sigma_p(AC152,V152)","v":-26.919231466075423},{"$f":"beta_1(X152,AD152,Z152)","v":0.87878773953231704},{"$f":"beta_1(Y152,AE152,Z152)","v":0.8071153901049658},{"$f":"k_tHole(W152,U152)","v":2.3644314868804663},{"$f":"K_t1Mu(Z152,AH152,D152,W152,U152,SIGN(X152),mu_millScale)","v":4.5154891066568164},{"$f":"K_t1Mu(Z152,AI152,D152,W152,U152,SIGN(Y152),mu_millScale)","v":4.3796454946209753},{"$f":"Sigma_hMax(AK152,X152,AF152)","v":1317.0831893004149},{"$f":"Sigma_hMin(X152,Y152,AG152,AE152,AK152,AL152,AJ152,AI152,Z152,IF(L152=1,mu_redLead,mu_millScale))","v":843.68720397566756},{"$f":"(AM152-AN152)","v":473.39598532474736},{"$f":"AN152/AM152","v":0.64057244890036336},176.50781826655509,{"$f":"tau_n(N152,W152,U152,D152)","v":93.678599312744765},{"$f":"tau_hMax(X152,Z152,AH152,W152,U152)","v":249.46546828060801},{"$f":"tau_hMin(X152,Y152,AS152,AE152,Z152,AI152,IF(L152=1,mu_redLead,mu_millScale),W152,U152)","v":183.40550073176098},66.059967548847027]
[141,"Graf1932","R; S",1,1,10,35,null,6,10,50,null,386,84.366,0.67,799700,1,"P3T1",null,141,0.6,0.625,0.2857142857142857,255.65454545454548,171.28854545454547,{"$f":"IF(OR(X153>=1.6*D153*AD153,D153=1),calcLoadFraction(G153,F153,I153,J153,K153,D153,1),\"Condition for spring model not fulfilled\")","v":0.99999999999999989},{"$f":"IF(L153>2,L153,IF(L153=2,1,sigma_cl0(I153+J153)))","v":125.17713647636889},{"$f":"Sigma_cl(AA153,U153,V153,X153)","v":107.19693419322928},{"$f":"Sigma_cl(AA153,U153,V153,Y153)","v":113.13040094666535},{"$f":"sigma_Slip(AB153,W153,U153,IF(L153=1,mu_redLead,mu_millScale))","v":37.044601179954739},{"$f":"sigma_Slip(AC153,W153,U153,IF(L153=1,mu_redLead,mu_millScale))","v":39.095060096059107},{"$f":"Sigma_p(AB153,V153)","v":-25.957336855583875},{"$f":"Sigma_p(AC153,V153)","v":-27.394103647465464},{"$f":"beta_1(X153,AD153,Z153)","v":0.85509899261094446},{"$f":"beta_1(Y153,AE153,Z153)","v":0.77175905141634993},{"$f":"k_tHole(W153,U153)","v":2.3644314868804663},{"$f":"K_t1Mu(Z153,AH153,D153,W153,U153,SIGN(X153),mu_millScale)","v":4.4765951791300385},{"$f":"K_t1Mu(Z153,AI153,D153,W153,U153,SIGN(Y153),mu_millScale)","v":4.2937248583456},{"$f":"Sigma_hMax(AK153,X153,AF153)","v":1118.5045688489158},{"$f":"Sigma_hMin(X153,Y153,AG153,AE153,AK153,AL153,AJ153,AI153,Z153,IF(L153=1,mu_redLead,mu_millScale))","v":724.64097625983868},393.86359258907714,0.64786590635529262,147.57205386552562,{"$f":"tau_n(N153,W153,U153,D153)","v":80.563595408960495},{"$f":"tau_hMax(X153,Z153,AH153,W153,U153)","v":208.75711901611464},{"$f":"tau_hMin(X153,Y153,AS153,AE153,Z153,AI153,IF(L153=1,mu_redLead,mu_millScale),W153,U153)","v":154.63525083191234},54.121868184202299]
[142,"Graf1932","R; S",1,1,10,35,null,6,10,50,null,386,82.403999999999996,0.67,769800,1,"P3T1",null,142,0.6,0.625,0.2857142857142857,249.70909090909092,167.30509090909092,{"$f":"IF(OR(X154>=1.6*D154*AD154,D154=1),calcLoadFraction(G154,F154,I154,J154,K154,D154,1),\"Condition for spring model not fulfilled\")","v":0.99999999999999989},{"$f":"IF(L154>2,L154,IF(L154=2,1,sigma_cl0(I154+J154)))","v":125.17713647636889},{"$f":"Sigma_cl(AA154,U154,V154,X154)","v":107.61507843237207},{"$f":"Sigma_cl(AA154,U154,V154,Y154)","v":113.41055758689102},{"$f":"sigma_Slip(AB154,W154,U154,IF(L154=1,mu_redLead,mu_millScale))","v":37.189101455931088},{"$f":"sigma_Slip(AC154,W154,U154,IF(L154=1,mu_redLead,mu_millScale))","v":39.191875280963259},{"$f":"Sigma_p(AB154,V154)","v":-26.058588919846148},{"$f":"Sigma_p(AC154,V154)","v":-27.461942530521185},{"$f":"beta_1(X154,AD154,Z154)","v":0.85107029415492863},{"$f":"beta_1(Y154,AE154,Z154)","v":0.76574606864617722},{"$f":"k_tHole(W154,U154)","v":2.3644314868804663},{"$f":"K_t1Mu(Z154,AH154,D154,W154,U154,SIGN(X154),mu_millScale)","v":4.4693738807020083},{"$f":"K_t1Mu(Z154,AI154,D154,W154,U154,SIGN(Y154),mu_millScale)","v":4.2779659477823486},{"$f":"Sigma_hMax(AK154,X154,AF154)","v":1089.9846997630882},{"$f":"Sigma_hMin(X154,Y154,AG154,AE154,AK154,AL154,AJ154,AI154,Z154,IF(L154=1,mu_redLead,mu_millScale))","v":707.48670204214113},382.49799772094707,0.64907947991922799,143.43248984973454,{"$f":"tau_n(N154,W154,U154,D154)","v":78.690023422705593},{"$f":"tau_hMax(X154,Z154,AH154,W154,U154)","v":202.94164054975843},{"$f":"tau_hMin(X154,Y154,AS154,AE154,Z154,AI154,IF(L154=1,mu_redLead,mu_millScale),W154,U154)","v":150.51428957660059},52.427350973157843]
[143,"Graf1932","R; S",1,1,10,35,null,6,10,50,null,386,79.460999999999999,0.67,2003000,1,"P3T1",null,143,0.6,0.625,0.2857142857142857,240.79090909090911,161.32990909090913,{"$f":"IF(OR(X155>=1.6*D155*AD155,D155=1),calcLoadFraction(G155,F155,I155,J155,K155,D155,1),\"Condition for spring model not fulfilled\")","v":0.99999999999999989},{"$f":"IF(L155>2,L155,IF(L155=2,1,sigma_cl0(I155+J155)))","v":125.17713647636889},{"$f":"Sigma_cl(AA155,U155,V155,X155)","v":108.24229479108624},{"$f":"Sigma_cl(AA155,U155,V155,Y155)","v":113.83079254722951},{"$f":"sigma_Slip(AB155,W155,U155,IF(L155=1,mu_redLead,mu_millScale))","v":37.405851869895606},{"$f":"sigma_Slip(AC155,W155,U155,IF(L155=1,mu_redLead,mu_millScale))","v":39.337098058319484},{"$f":"Sigma_p(AB155,V155)","v":-26.210467016239548},{"$f":"Sigma_p(AC155,V155)","v":-27.563700855104763},{"$f":"beta_1(X155,AD155,Z155)","v":0.84465421883608882},{"$f":"beta_1(Y155,AE155,Z155)","v":0.75616983682701322},{"$f":"k_tHole(W155,U155)","v":2.3644314868804663},{"$f":"K_t1Mu(Z155,AH155,D155,W155,U155,SIGN(X155),mu_millScale)","v":4.4575170412590159},{"$f":"K_t1Mu(Z155,AI155,D155,W155,U155,SIGN(Y155),mu_millScale)","v":4.2522064025134254},{"$f":"Sigma_hMax(AK155,X155,AF155)","v":1047.1191136367383},{"$f":"Sigma_hMin(X155,Y155,AG155,AE155,AK155,AL155,AJ155,AI155,Z155,IF(L155=1,mu_redLead,mu_millScale))","v":681.67034443796308},365.44876919877527,0.65099599038972844,137.22019102613021,{"$f":"tau_n(N155,W155,U155,D155)","v":75.879665443323262},{"$f":"tau_hMax(X155,Z155,AH155,W155,U155)","v":194.21842285022416},{"$f":"tau_hMin(X155,Y155,AS155,AE155,Z155,AI155,IF(L155=1,mu_redLead,mu_millScale),W155,U155)","v":144.32671481774034},49.89170803248382]
[144,"Graf1932","R; S",1,1,10,35,null,7,10,50,null,386,91.233000000000004,0.67,663800,1,"P3T1",null,144,0.7,0.58823529411764708,0.2857142857142857,276.4636363636364,185.23063636363639,{"$f":"IF(OR(X156>=1.6*D156*AD156,D156=1),calcLoadFraction(G156,F156,I156,J156,K156,D156,1),\"Condition for spring model not fulfilled\")","v":1},{"$f":"IF(L156>2,L156,IF(L156=2,1,sigma_cl0(I156+J156)))","v":130.82328892311955},{"$f":"Sigma_cl(AA156,U156,V156,X156)","v":108.96639908354736},{"$f":"Sigma_cl(AA156,U156,V156,Y156)","v":116.17917273060618},{"$f":"sigma_Slip(AB156,W156,U156,IF(L156=1,mu_redLead,mu_millScale))","v":32.276643728764576},{"$f":"sigma_Slip(AC156,W156,U156,IF(L156=1,mu_redLead,mu_millScale))","v":34.413119993561061},{"$f":"Sigma_p(AB156,V156)","v":-24.753184407200056},{"$f":"Sigma_p(AC156,V156)","v":-26.391663036159329},{"$f":"beta_1(X156,AD156,Z156)","v":0.88325175725349037},{"$f":"beta_1(Y156,AE156,Z156)","v":0.81421475049082714},{"$f":"k_tHole(W156,U156)","v":2.3644314868804663},{"$f":"K_t1Mu(Z156,AH156,D156,W156,U156,SIGN(X156),mu_millScale)","v":4.5399967454392742},{"$f":"K_t1Mu(Z156,AI156,D156,W156,U156,SIGN(Y156),mu_millScale)","v":4.4126556105536023},{"$f":"Sigma_hMax(AK156,X156,AF156)","v":1230.3908249160161},{"$f":"Sigma_hMin(X156,Y156,AG156,AE156,AK156,AL156,AJ156,AI156,Z156,IF(L156=1,mu_redLead,mu_millScale))","v":785.47040844077787},444.9204164752382,0.63839098320193699,165.65425864535311,{"$f":"tau_n(N156,W156,U156,D156)","v":101.64128025432807},{"$f":"tau_hMax(X156,Z156,AH156,W156,U156)","v":272.04496786099929},{"$f":"tau_hMin(X156,Y156,AS156,AE156,Z156,AI156,IF(L156=1,mu_redLead,mu_millScale),W156,U156)","v":199.69488470910488},72.35008315189441]
[145,"Graf1932","R; S",1,1,10,35,null,7,10,50,null,386,86.328000000000003,0.67,403500,1,"P3T1",null,145,0.7,0.58823529411764708,0.2857142857142857,261.60000000000002,175.27200000000002,{"$f":"IF(OR(X157>=1.6*D157*AD157,D157=1),calcLoadFraction(G157,F157,I157,J157,K157,D157,1),\"Condition for spring model not fulfilled\")","v":1},{"$f":"IF(L157>2,L157,IF(L157=2,1,sigma_cl0(I157+J157)))","v":130.82328892311955},{"$f":"Sigma_cl(AA157,U157,V157,X157)","v":110.14150068782543},{"$f":"Sigma_cl(AA157,U157,V157,Y157)","v":116.96649080547249},{"$f":"sigma_Slip(AB157,W157,U157,IF(L157=1,mu_redLead,mu_millScale))","v":32.624717411527122},{"$f":"sigma_Slip(AC157,W157,U157,IF(L157=1,mu_redLead,mu_millScale))","v":34.646329361011958},{"$f":"Sigma_p(AB157,V157)","v":-25.020124555287261},{"$f":"Sigma_p(AC157,V157)","v":-26.570512935377756},{"$f":"beta_1(X157,AD157,Z157)","v":0.87528777747887188},{"$f":"beta_1(Y157,AE157,Z157)","v":0.80232821351378458},{"$f":"k_tHole(W157,U157)","v":2.3644314868804663},{"$f":"K_t1Mu(Z157,AH157,D157,W157,U157,SIGN(X157),mu_millScale)","v":4.5279431590196424},{"$f":"K_t1Mu(Z157,AI157,D157,W157,U157,SIGN(Y157),mu_millScale)","v":4.3857587497370938},{"$f":"Sigma_hMax(AK157,X157,AF157)","v":1159.4898058442514},{"$f":"Sigma_hMin(X157,Y157,AG157,AE157,AK157,AL157,AJ157,AI157,Z157,IF(L157=1,mu_redLead,mu_millScale))","v":743.06069853270753},416.42910731154382,0.64085142860886801,155.29594214076408,{"$f":"tau_n(N157,W157,U157,D157)","v":96.176695294417954},{"$f":"tau_hMax(X157,Z157,AH157,W157,U157)","v":255.09783596822356},{"$f":"tau_hMin(X157,Y157,AS157,AE157,Z157,AI157,IF(L157=1,mu_redLead,mu_millScale),W157,U157)","v":187.74157014992653},67.356265818297032]
[146,"Graf1932","R; S",1,1,10,35,null,7,10,50,null,386,77.498999999999995,0.67,1487000,1,"P3T1",null,146,0.7,0.58823529411764708,0.2857142857142857,234.84545454545457,157.34645454545458,{"$f":"IF(OR(X158>=1.6*D158*AD158,D158=1),calcLoadFraction(G158,F158,I158,J158,K158,D158,1),\"Condition for spring model not fulfilled\")","v":1},{"$f":"IF(L158>2,L158,IF(L158=2,1,sigma_cl0(I158+J158)))","v":130.82328892311955},{"$f":"Sigma_cl(AA158,U158,V158,X158)","v":112.25668357552597},{"$f":"Sigma_cl(AA158,U158,V158,Y158)","v":118.38366334023185},{"$f":"sigma_Slip(AB158,W158,U158,IF(L158=1,mu_redLead,mu_millScale))","v":33.251250040499691},{"$f":"sigma_Slip(AC158,W158,U158,IF(L158=1,mu_redLead,mu_millScale))","v":35.066106222423585},{"$f":"Sigma_p(AB158,V158)","v":-25.500616821844233},{"$f":"Sigma_p(AC158,V158)","v":-26.892442753970929},{"$f":"beta_1(X158,AD158,Z158)","v":0.85841220514632577},{"$f":"beta_1(Y158,AE158,Z158)","v":0.77714079212192477},{"$f":"k_tHole(W158,U158)","v":2.3644314868804663},{"$f":"K_t1Mu(Z158,AH158,D158,W158,U158,SIGN(X158),mu_millScale)","v":4.5000659107391296},{"$f":"K_t1Mu(Z158,AI158,D158,W158,U158,SIGN(Y158),mu_millScale)","v":4.3242796389586742},{"$f":"Sigma_hMax(AK158,X158,AF158)","v":1031.3194074701917},{"$f":"Sigma_hMin(X158,Y158,AG158,AE158,AK158,AL158,AJ158,AI158,Z158,IF(L158=1,mu_redLead,mu_millScale))","v":666.19674448655451},365.12266298363716,0.64596548815145771,136.62732197224446,{"$f":"tau_n(N158,W158,U158,D158)","v":86.340442366579751},{"$f":"tau_hMax(X158,Z158,AH158,W158,U158)","v":224.59299856122723},{"$f":"tau_hMin(X158,Y158,AS158,AE158,Z158,AI158,IF(L158=1,mu_redLead,mu_millScale),W158,U158)","v":166.17926503579608},58.413733525431155]
[147,"Graf1932","R; S",1,1,10,35,null,7,10,50,null,386,74.555999999999997,0.67,1700200,1,"P3T1",null,147,0.7,0.58823529411764708,0.2857142857142857,225.92727272727274,151.37127272727275,{"$f":"IF(OR(X159>=1.6*D159*AD159,D159=1),calcLoadFraction(G159,F159,I159,J159,K159,D159,1),\"Condition for spring model not fulfilled\")","v":1},{"$f":"IF(L159>2,L159,IF(L159=2,1,sigma_cl0(I159+J159)))","v":130.82328892311955},{"$f":"Sigma_cl(AA159,U159,V159,X159)","v":112.96174453809282},{"$f":"Sigma_cl(AA159,U159,V159,Y159)","v":118.85605418515163},{"$f":"sigma_Slip(AB159,W159,U159,IF(L159=1,mu_redLead,mu_millScale))","v":33.460094250157219},{"$f":"sigma_Slip(AC159,W159,U159,IF(L159=1,mu_redLead,mu_millScale))","v":35.20603184289412},{"$f":"Sigma_p(AB159,V159)","v":-25.660780910696559},{"$f":"Sigma_p(AC159,V159)","v":-26.999752693501986},{"$f":"beta_1(X159,AD159,Z159)","v":0.85189882635130798},{"$f":"beta_1(Y159,AE159,Z159)","v":0.76741933123383854},{"$f":"k_tHole(W159,U159)","v":2.3644314868804663},{"$f":"K_t1Mu(Z159,AH159,D159,W159,U159,SIGN(X159),mu_millScale)","v":4.4884738247202467},{"$f":"K_t1Mu(Z159,AI159,D159,W159,U159,SIGN(Y159),mu_millScale)","v":4.2989756259306064},{"$f":"Sigma_hMax(AK159,X159,AF159)","v":988.40786901609954},{"$f":"Sigma_hMin(X159,Y159,AG159,AE159,AK159,AL159,AJ159,AI159,Z159,IF(L159=1,mu_redLead,mu_millScale))","v":640.39223125887872},348.01563775722082,0.64790280544442713,130.39710787440146,{"$f":"tau_n(N159,W159,U159,D159)","v":83.061691390633683},{"$f":"tau_hMax(X159,Z159,AH159,W159,U159)","v":214.42471942556176},{"$f":"tau_hMin(X159,Y159,AS159,AE159,Z159,AI159,IF(L159=1,mu_redLead,mu_millScale),W159,U159)","v":158.9760785142775},55.448640911284258]
[148,"Graf1932","R; S",1,1,10,35,null,7,10,50,null,386,72.593999999999994,0.67,2005300,0,"P3T1",null,148,0.7,0.58823529411764708,0.2857142857142857,219.9818181818182,147.3878181818182,{"$f":"IF(OR(X160>=1.6*D160*AD160,D160=1),calcLoadFraction(G160,F160,I160,J160,K160,D160,1),\"Condition for spring model not fulfilled\")","v":1},{"$f":"IF(L160>2,L160,IF(L160=2,1,sigma_cl0(I160+J160)))","v":130.82328892311955},{"$f":"Sigma_cl(AA160,U160,V160,X160)","v":113.43178517980404},{"$f":"Sigma_cl(AA160,U160,V160,Y160)","v":119.17098141509815},{"$f":"sigma_Slip(AB160,W160,U160,IF(L160=1,mu_redLead,mu_millScale))","v":33.599323723262231},{"$f":"sigma_Slip(AC160,W160,U160,IF(L160=1,mu_redLead,mu_millScale))","v":35.299315589874489},{"$f":"Sigma_p(AB160,V160)","v":-25.767556969931441},{"$f":"Sigma_p(AC160,V160)","v":-27.071292653189357},{"$f":"beta_1(X160,AD160,Z160)","v":0.84726317838007914},{"$f":"beta_1(Y160,AE160,Z160)","v":0.76050045366484009},{"$f":"k_tHole(W160,U160)","v":2.3644314868804663},{"$f":"K_t1Mu(Z160,AH160,D160,W160,U160,SIGN(X160),mu_millScale)","v":4.4799461786307031},{"$f":"K_t1Mu(Z160,AI160,D160,W160,U160,SIGN(Y160),mu_millScale)","v":4.2804486488681022},{"$f":"Sigma_hMax(AK160,X160,AF160)","v":959.73914876193908},{"$f":"Sigma_hMin(X160,Y160,AG160,AE160,AK160,AL160,AJ160,AI160,Z160,IF(L160=1,mu_redLead,mu_millScale))","v":623.12900050674114},336.61014825519794,0.64926912829447025,126.24147098287087,{"$f":"tau_n(N160,W160,U160,D160)","v":80.875857406669638},{"$f":"tau_hMax(X160,Z160,AH160,W160,U160)","v":207.6458666684515},{"$f":"tau_hMin(X160,Y160,AS160,AE160,Z160,AI160,IF(L160=1,mu_redLead,mu_millScale),W160,U160)","v":154.16887953237807},53.476987136073433]
[149,"Graf1932","R; S",1,1,10,35,null,8,10,50,null,386,88.29,0.67,391500,1,"P3T1",null,149,0.8,0.55555555555555558,0.2857142857142857,267.54545454545462,179.2554545454546,{"$f":"IF(OR(X161>=1.6*D161*AD161,D161=1),calcLoadFraction(G161,F161,I161,J161,K161,D161,1),\"Condition for spring model not fulfilled\")","v":1},{"$f":"IF(L161>2,L161,IF(L161=2,1,sigma_cl0(I161+J161)))","v":136.05553654363689},{"$f":"Sigma_cl(AA161,U161,V161,X161)","v":112.72631351752804},{"$f":"Sigma_cl(AA161,U161,V161,Y161)","v":120.42495711614396},{"$f":"sigma_Slip(AB161,W161,U161,IF(L161=1,mu_redLead,mu_millScale))","v":29.216563128680797},{"$f":"sigma_Slip(AC161,W161,U161,IF(L161=1,mu_redLead,mu_millScale))","v":31.211908311943638},{"$f":"Sigma_p(AB161,V161)","v":-24.086819127676936},{"$f":"Sigma_p(AC161,V161)","v":-25.731828443620508},{"$f":"beta_1(X161,AD161,Z161)","v":0.89079775928797533},{"$f":"beta_1(Y161,AE161,Z161)","v":0.82588028692856819},{"$f":"k_tHole(W161,U161)","v":2.3644314868804663},{"$f":"K_t1Mu(Z161,AH161,D161,W161,U161,SIGN(X161),mu_millScale)","v":4.5872193146152984},{"$f":"K_t1Mu(Z161,AI161,D161,W161,U161,SIGN(Y161),mu_millScale)","v":4.4729294634694954},{"$f":"Sigma_hMax(AK161,X161,AF161)","v":1203.2028575007619},{"$f":"Sigma_hMin(X161,Y161,AG161,AE161,AK161,AL161,AJ161,AI161,Z161,IF(L161=1,mu_redLead,mu_millScale))","v":764.55869113724748},438.64416636351439,0.63543623286047868,163.00634034089845,{"$f":"tau_n(N161,W161,U161,D161)","v":112.41431917529374},{"$f":"tau_hMax(X161,Z161,AH161,W161,U161)","v":303.44976858556049},{"$f":"tau_hMin(X161,Y161,AS161,AE161,Z161,AI161,IF(L161=1,mu_redLead,mu_millScale),W161,U161)","v":222.17115722798056},81.278611357579933]
[150,"Graf1932","R; S",1,1,10,35,null,8,10,50,null,386,74.555999999999997,0.67,775700,1,"P3T1",null,150,0.8,0.55555555555555558,0.2857142857142857,225.92727272727274,151.37127272727275,{"$f":"IF(OR(X162>=1.6*D162*AD162,D162=1),calcLoadFraction(G162,F162,I162,J162,K162,D162,1),\"Condition for spring model not fulfilled\")","v":1},{"$f":"IF(L162>2,L162,IF(L162=2,1,sigma_cl0(I162+J162)))","v":136.05553654363689},{"$f":"Sigma_cl(AA162,U162,V162,X162)","v":116.35530376603387},{"$f":"Sigma_cl(AA162,U162,V162,Y162)","v":122.85638058264287},{"$f":"sigma_Slip(AB162,W162,U162,IF(L162=1,mu_redLead,mu_millScale))","v":30.15712988173399},{"$f":"sigma_Slip(AC162,W162,U162,IF(L162=1,mu_redLead,mu_millScale))","v":31.84208803648928},{"$f":"Sigma_p(AB162,V162)","v":-24.862244394451682},{"$f":"Sigma_p(AC162,V162)","v":-26.251363372359592},{"$f":"beta_1(X162,AD162,Z162)","v":0.86651841755227998},{"$f":"beta_1(Y162,AE162,Z162)","v":0.7896424634424557},{"$f":"k_tHole(W162,U162)","v":2.3644314868804663},{"$f":"K_t1Mu(Z162,AH162,D162,W162,U162,SIGN(X162),mu_millScale)","v":4.5499161577809328},{"$f":"K_t1Mu(Z162,AI162,D162,W162,U162,SIGN(Y162),mu_millScale)","v":4.3898963866841489},{"$f":"Sigma_hMax(AK162,X162,AF162)","v":1003.087904270746},{"$f":"Sigma_hMin(X162,Y162,AG162,AE162,AK162,AL162,AJ162,AI162,Z162,IF(L162=1,mu_redLead,mu_millScale))","v":644.82142995851598},358.26647431223,0.64283641265448921,133.78120800888658,{"$f":"tau_n(N162,W162,U162,D162)","v":94.927647303581367},{"$f":"tau_hMax(X162,Z162,AH162,W162,U162)","v":249.26228704078875},{"$f":"tau_hMin(X162,Y162,AS162,AE162,Z162,AI162,IF(L162=1,mu_redLead,mu_millScale),W162,U162)","v":183.94694482141071},65.315342219378039]
[151,"Graf1932","R; S",1,1,10,35,null,8,10,50,null,386,67.688999999999993,0.67,1539200,1,"P3T1",null,151,0.8,0.55555555555555558,0.2857142857142857,205.11818181818182,137.42918181818183,{"$f":"IF(OR(X163>=1.6*D163*AD163,D163=1),calcLoadFraction(G163,F163,I163,J163,K163,D163,1),\"Condition for spring model not fulfilled\")","v":1},{"$f":"IF(L163>2,L163,IF(L163=2,1,sigma_cl0(I163+J163)))","v":136.05553654363689},{"$f":"Sigma_cl(AA163,U163,V163,X163)","v":118.16979889028678},{"$f":"Sigma_cl(AA163,U163,V163,Y163)","v":124.07209231589232},{"$f":"sigma_Slip(AB163,W163,U163,IF(L163=1,mu_redLead,mu_millScale))","v":30.627413258260589},{"$f":"sigma_Slip(AC163,W163,U163,IF(L163=1,mu_redLead,mu_millScale))","v":32.1571778987621},{"$f":"Sigma_p(AB163,V163)","v":-25.249957027839059},{"$f":"Sigma_p(AC163,V163)","v":-26.51113083672913},{"$f":"beta_1(X163,AD163,Z163)","v":0.85068406424639165},{"$f":"beta_1(Y163,AE163,Z163)","v":0.76600910029933889},{"$f":"k_tHole(W163,U163)","v":2.3644314868804663},{"$f":"K_t1Mu(Z163,AH163,D163,W163,U163,SIGN(X163),mu_millScale)","v":4.5220300505167526},{"$f":"K_t1Mu(Z163,AI163,D163,W163,U163,SIGN(Y163),mu_millScale)","v":4.3289347043569686},{"$f":"Sigma_hMax(AK163,X163,AF163)","v":902.30062506133811},{"$f":"Sigma_hMin(X163,Y163,AG163,AE163,AK163,AL163,AJ163,AI163,Z163,IF(L163=1,mu_redLead,mu_millScale))","v":584.25002512600236},318.05059993533575,0.64751149328560553,119.13784887592909,{"$f":"tau_n(N163,W163,U163,D163)","v":86.184311367725186},{"$f":"tau_hMax(X163,Z163,AH163,W163,U163)","v":222.16854626840291},{"$f":"tau_hMin(X163,Y163,AS163,AE163,Z163,AI163,IF(L163=1,mu_redLead,mu_millScale),W163,U163)","v":164.76525702192129},57.40328924648162]
[152,"Graf1932","R; S",1,1,10,35,null,8,10,50,null,386,65.727000000000004,0.67,2018600,0,"P3T1",null,152,0.8,0.55555555555555558,0.2857142857142857,199.17272727272731,133.44572727272731,{"$f":"IF(OR(X164>=1.6*D164*AD164,D164=1),calcLoadFraction(G164,F164,I164,J164,K164,D164,1),\"Condition for spring model not fulfilled\")","v":1},{"$f":"IF(L164>2,L164,IF(L164=2,1,sigma_cl0(I164+J164)))","v":136.05553654363689},{"$f":"Sigma_cl(AA164,U164,V164,X164)","v":118.68822606864475},{"$f":"Sigma_cl(AA164,U164,V164,Y164)","v":124.41943852539215},{"$f":"sigma_Slip(AB164,W164,U164,IF(L164=1,mu_redLead,mu_millScale))","v":30.761779937268184},{"$f":"sigma_Slip(AC164,W164,U164,IF(L164=1,mu_redLead,mu_millScale))","v":32.247203573697185},{"$f":"Sigma_p(AB164,V164)","v":-25.360732065949737},{"$f":"Sigma_p(AC164,V164)","v":-26.585350112263281},{"$f":"beta_1(X164,AD164,Z164)","v":0.84555224824960062},{"$f":"beta_1(Y164,AE164,Z164)","v":0.75834967343845683},{"$f":"k_tHole(W164,U164)","v":2.3644314868804663},{"$f":"K_t1Mu(Z164,AH164,D164,W164,U164,SIGN(X164),mu_millScale)","v":4.5124065979569528},{"$f":"K_t1Mu(Z164,AI164,D164,W164,U164,SIGN(Y164),mu_millScale)","v":4.3080802691073403},{"$f":"Sigma_hMax(AK164,X164,AF164)","v":873.38759661258575},{"$f":"Sigma_hMin(X164,Y164,AG164,AE164,AK164,AL164,AJ164,AI164,Z164,IF(L164=1,mu_redLead,mu_millScale))","v":566.82914865506837},306.55844795751739,0.64900068520952503,114.94979836171655,{"$f":"tau_n(N164,W164,U164,D164)","v":83.686215386051998},{"$f":"tau_hMax(X164,Z164,AH164,W164,U164)","v":214.42747747629272},{"$f":"tau_hMin(X164,Y164,AS164,AE164,Z164,AI164,IF(L164=1,mu_redLead,mu_millScale),W164,U164)","v":159.27378574750611},55.153691728786612]
[153,"Graf1932","R; S",1,1,10,35,null,8,10,50,null,386,195.21899999999999,0.02,45300,3,"P3T1","Rivet may have yielded",153,0.8,0.55555555555555558,0.2857142857142857,199.2030612244898,3.9840612244897962,{"$f":"IF(OR(X165>=1.6*D165*AD165,D165=1),calcLoadFraction(G165,F165,I165,J165,K165,D165,1),\"Condition for spring model not fulfilled\")","v":1},{"$f":"IF(L165>2,L165,IF(L165=2,1,sigma_cl0(I165+J165)))","v":136.05553654363689},{"$f":"Sigma_cl(AA165,U165,V165,X165)","v":118.68558103202048},{"$f":"Sigma_cl(AA165,U165,V165,Y165)","v":135.70813743340457},{"$f":"sigma_Slip(AB165,W165,U165,IF(L165=1,mu_redLead,mu_millScale))","v":30.761094392987534},{"$f":"sigma_Slip(AC165,W165,U165,IF(L165=1,mu_redLead,mu_millScale))","v":35.173024298202037},{"$f":"Sigma_p(AB165,V165)","v":-25.360166887183865},{"$f":"Sigma_p(AC165,V165)","v":-28.997465263547987},{"$f":"beta_1(X165,AD165,Z165)","v":0.84557920845241608},{"$f":"beta_1(Y165,AE165,Z165)","v":0},{"$f":"k_tHole(W165,U165)","v":2.3644314868804663},{"$f":"K_t1Mu(Z165,AH165,D165,W165,U165,SIGN(X165),mu_millScale)","v":4.5124578943527256},{"$f":"K_t1Mu(Z165,AI165,D165,W165,U165,SIGN(Y165),mu_millScale)","v":1.1822157434402332},{"$f":"Sigma_hMax(AK165,X165,AF165)","v":873.53525931449451},{"$f":"Sigma_hMin(X165,Y165,AG165,AE165,AK165,AL165,AJ165,AI165,Z165,IF(L165=1,mu_redLead,mu_millScale))","v":91.995375723831302},781.53988359066318,0.10531386654732694,250.2339940389387,{"$f":"tau_n(N165,W165,U165,D165)","v":248.56055017648279},{"$f":"tau_hMax(X165,Z165,AH165,W165,U165)","v":214.46697272523201},{"$f":"tau_hMin(X165,Y165,AS165,AE165,Z165,AI165,IF(L165=1,mu_redLead,mu_millScale),W165,U165)","v":43.625338297844941},170.84163442738708]
[154,"Graf1932","R; S",1,1,10,35,null,8,10,50,null,386,165.78899999999999,2.3E-2,161800,3,"P3T1","Rivet may have yielded",154,0.8,0.55555555555555558,0.2857142857142857,169.69191402251789,3.9029140225179115,{"$f":"IF(OR(X166>=1.6*D166*AD166,D166=1),calcLoadFraction(G166,F166,I166,J166,K166,D166,1),\"Condition for spring model not fulfilled\")","v":1},{"$f":"IF(L166>2,L166,IF(L166=2,1,sigma_cl0(I166+J166)))","v":136.05553654363689},{"$f":"Sigma_cl(AA166,U166,V166,X166)","v":121.25887137627547},{"$f":"Sigma_cl(AA166,U166,V166,Y166)","v":135.71521324478758},{"$f":"sigma_Slip(AB166,W166,U166,IF(L166=1,mu_redLead,mu_millScale))","v":31.428043372736262},{"$f":"sigma_Slip(AC166,W166,U166,IF(L166=1,mu_redLead,mu_millScale))","v":35.17485821686315},{"$f":"Sigma_p(AB166,V166)","v":-25.910015251340916},{"$f":"Sigma_p(AC166,V166)","v":-28.998977189057179},{"$f":"beta_1(X166,AD166,Z166)","v":0.81479351238524067},{"$f":"beta_1(Y166,AE166,Z166)","v":0},{"$f":"k_tHole(W166,U166)","v":2.3644314868804663},{"$f":"K_t1Mu(Z166,AH166,D166,W166,U166,SIGN(X166),mu_millScale)","v":4.4489152857376242},{"$f":"K_t1Mu(Z166,AI166,D166,W166,U166,SIGN(Y166),mu_millScale)","v":1.1822157434402332},{"$f":"Sigma_hMax(AK166,X166,AF166)","v":729.03493490951359},{"$f":"Sigma_hMin(X166,Y166,AG166,AE166,AK166,AL166,AJ166,AI166,Z166,IF(L166=1,mu_redLead,mu_millScale))","v":87.604480163591248},641.43045474592236,0.1201649961732829,205.75661479819033,{"$f":"tau_n(N166,W166,U166,D166)","v":211.08911045138487},{"$f":"tau_hMax(X166,Z166,AH166,W166,U166)","v":176.04302736024553},{"$f":"tau_hMin(X166,Y166,AS166,AE166,Z166,AI166,IF(L166=1,mu_redLead,mu_millScale),W166,U166)","v":40.292729732346409},135.75029762789913]
[155,"Graf1932","R; S",1,1,10,35,null,8,10,50,null,386,153.036,2.5000000000000001E-2,109700,3,"P3T1","Rivet may have yielded",155,0.8,0.55555555555555558,0.2857142857142857,156.96,3.9240000000000004,{"$f":"IF(OR(X167>=1.6*D167*AD167,D167=1),calcLoadFraction(G167,F167,I167,J167,K167,D167,1),\"Condition for spring model not fulfilled\")","v":1},{"$f":"IF(L167>2,L167,IF(L167=2,1,sigma_cl0(I167+J167)))","v":136.05553654363689},{"$f":"Sigma_cl(AA167,U167,V167,X167)","v":122.36905903498636},{"$f":"Sigma_cl(AA167,U167,V167,Y167)","v":135.71337460592062},{"$f":"sigma_Slip(AB167,W167,U167,IF(L167=1,mu_redLead,mu_millScale))","v":31.715783358222133},{"$f":"sigma_Slip(AC167,W167,U167,IF(L167=1,mu_redLead,mu_millScale))","v":35.174381675877719},{"$f":"Sigma_p(AB167,V167)","v":-26.147234836535549},{"$f":"Sigma_p(AC167,V167)","v":-28.99858431750441},{"$f":"beta_1(X167,AD167,Z167)","v":0.79793716005210158},{"$f":"beta_1(Y167,AE167,Z167)","v":0},{"$f":"k_tHole(W167,U167)","v":2.3644314868804663},{"$f":"K_t1Mu(Z167,AH167,D167,W167,U167,SIGN(X167),mu_millScale)","v":4.4100435853712732},{"$f":"K_t1Mu(Z167,AI167,D167,W167,U167,SIGN(Y167),mu_millScale)","v":1.1822157434402332},{"$f":"Sigma_hMax(AK167,X167,AF167)","v":666.05320632333951},{"$f":"Sigma_hMin(X167,Y167,AG167,AE167,AK167,AL167,AJ167,AI167,Z167,IF(L167=1,mu_redLead,mu_millScale))","v":85.416690344258001},580.63651597908154,0.12824304354867402,186.44879272579345,{"$f":"tau_n(N167,W167,U167,D167)","v":194.85148657050914},{"$f":"tau_hMax(X167,Z167,AH167,W167,U167)","v":159.46588905231002},{"$f":"tau_hMin(X167,Y167,AS167,AE167,Z167,AI167,IF(L167=1,mu_redLead,mu_millScale),W167,U167)","v":38.661667978472259},120.80422107383777]
[156,"Graf1932","R; S",1,1,10,35,null,8,10,50,null,386,144.20699999999999,0,729300,1,"P3T1",null,156,0.8,0.55555555555555558,0.2857142857142857,144.20699999999999,0,{"$f":"IF(OR(X168>=1.6*D168*AD168,D168=1),calcLoadFraction(G168,F168,I168,J168,K168,D168,1),\"Condition for spring model not fulfilled\")","v":1},{"$f":"IF(L168>2,L168,IF(L168=2,1,sigma_cl0(I168+J168)))","v":136.05553654363689},{"$f":"Sigma_cl(AA168,U168,V168,X168)","v":123.48108533256422},{"$f":"Sigma_cl(AA168,U168,V168,Y168)","v":136.05553654363689},{"$f":"sigma_Slip(AB168,W168,U168,IF(L168=1,mu_redLead,mu_millScale))","v":32.003999884693435},{"$f":"sigma_Slip(AC168,W168,U168,IF(L168=1,mu_redLead,mu_millScale))","v":35.26306368402274},{"$f":"Sigma_p(AB168,V168)","v":-26.384847293282956},{"$f":"Sigma_p(AC168,V168)","v":-29.071695842657459},{"$f":"beta_1(X168,AD168,Z168)","v":0.7780690265750384},{"$f":"beta_1(Y168,AE168,Z168)","v":0},{"$f":"k_tHole(W168,U168)","v":2.3644314868804663},{"$f":"K_t1Mu(Z168,AH168,D168,W168,U168,SIGN(X168),mu_millScale)","v":4.3606914654122173},{"$f":"K_t1Mu(Z168,AI168,D168,W168,U168,SIGN(Y168),mu_millScale)","v":1.1822157434402332},{"$f":"Sigma_hMax(AK168,X168,AF168)","v":602.4573868594166},{"$f":"Sigma_hMin(X168,Y168,AG168,AE168,AK168,AL168,AJ168,AI168,Z168,IF(L168=1,mu_redLead,mu_millScale))","v":68.383674637918432},534.07371222149823,0.11350790301435172,171.17470876116772,{"$f":"tau_n(N168,W168,U168,D168)","v":183.61005465297976},{"$f":"tau_hMax(X168,Z168,AH168,W168,U168)","v":142.86129649323354},{"$f":"tau_hMin(X168,Y168,AS168,AE168,Z168,AI168,IF(L168=1,mu_redLead,mu_millScale),W168,U168)","v":33.571947010433831},109.28934948279971]
[157,"Graf1932","R; S",1,1,10,35,null,8,10,50,null,386,138.321,0,2237900,0,"P3T1",null,157,0.8,0.55555555555555558,0.2857142857142857,138.321,0,{"$f":"IF(OR(X169>=1.6*D169*AD169,D169=1),calcLoadFraction(G169,F169,I169,J169,K169,D169,1),\"Condition for spring model not fulfilled\")","v":1},{"$f":"IF(L169>2,L169,IF(L169=2,1,sigma_cl0(I169+J169)))","v":136.05553654363689},{"$f":"Sigma_cl(AA169,U169,V169,X169)","v":123.99432823913862},{"$f":"Sigma_cl(AA169,U169,V169,Y169)","v":136.05553654363689},{"$f":"sigma_Slip(AB169,W169,U169,IF(L169=1,mu_redLead,mu_millScale))","v":32.137022896910956},{"$f":"sigma_Slip(AC169,W169,U169,IF(L169=1,mu_redLead,mu_millScale))","v":35.26306368402274},{"$f":"Sigma_p(AB169,V169)","v":-26.494514581012528},{"$f":"Sigma_p(AC169,V169)","v":-29.071695842657459},{"$f":"beta_1(X169,AD169,Z169)","v":0.76766345748721487},{"$f":"beta_1(Y169,AE169,Z169)","v":0},{"$f":"k_tHole(W169,U169)","v":2.3644314868804663},{"$f":"K_t1Mu(Z169,AH169,D169,W169,U169,SIGN(X169),mu_millScale)","v":4.3333696970618858},{"$f":"K_t1Mu(Z169,AI169,D169,W169,U169,SIGN(Y169),mu_millScale)","v":1.1822157434402332},{"$f":"Sigma_hMax(AK169,X169,AF169)","v":572.90151528628462},{"$f":"Sigma_hMin(X169,Y169,AG169,AE169,AK169,AL169,AJ169,AI169,Z169,IF(L169=1,mu_redLead,mu_millScale))","v":67.13859154327443},505.76292374301022,0.11719045900886578,162.17619711941063,{"$f":"tau_n(N169,W169,U169,D169)","v":176.11576670796018},{"$f":"tau_hMax(X169,Z169,AH169,W169,U169)","v":135.19763838904444},{"$f":"tau_hMin(X169,Y169,AS169,AE169,Z169,AI169,IF(L169=1,mu_redLead,mu_millScale),W169,U169)","v":32.728053379934657},102.46958500910978]
[158,"Graf1941","R; S",2,2,10,39.25,39.5,8.5,13,70,null,514,353.16,-1,99631,1,"73-77.2",null,158,{"$f":"I170/F170","v":0.85},{"$f":"F170/(J170+I170)","v":0.46511627906976744},{"$f":"F170/G170","v":0.25477707006369427},{"$f":"N170/(1-O170)","v":176.58},{"$f":"X170*O170","v":-176.58},{"$f":"IF(OR(X170>=1.6*D170*AD170,D170=1),calcLoadFraction(G170,F170,I170,J170,K170,D170,1),\"Condition for spring model not fulfilled\")","v":0.52063856670291098},{"$f":"IF(L170>2,L170,IF(L170=2,1,sigma_cl0(I170+J170)))","v":151.65228340637427},{"$f":"Sigma_cl(AA170,U170,V170,X170)","v":137.05496699929085},{"$f":"Sigma_cl(AA170,U170,V170,Y170)","v":166.24959981345768},{"$f":"sigma_Slip(AB170,W170,U170,IF(L170=1,mu_redLead,mu_millScale))","v":28.574839588275463},{"$f":"sigma_Slip(AC170,W170,U170,IF(L170=1,mu_redLead,mu_millScale))","v":34.661681734665798},{"$f":"Sigma_p(AB170,V170)","v":-24.061929312574627},{"$f":"Sigma_p(AC170,V170)","v":-29.18745818950098},{"$f":"beta_1(X170,AD170,Z170)","v":0.68918214934852973},{"$f":"beta_1(Y170,AE170,Z170)","v":0.62297358193553576},{"$f":"k_tHole(W170,U170)","v":2.4138649311492593},{"$f":"K_t1Mu(Z170,AH170,D170,W170,U170,SIGN(X170),mu_millScale)","v":3.3113212478694534},{"$f":"K_t1Mu(Z170,AI170,D170,W170,U170,SIGN(Y170),mu_millScale)","v":0.55762201411743395},{"$f":"Sigma_hMax(AK170,X170,AF170)","v":560.65117663621345},{"$f":"Sigma_hMin(X170,Y170,AG170,AE170,AK170,AL170,AJ170,AI170,Z170,IF(L170=1,mu_redLead,mu_millScale))","v":-195.51437312373},{"$f":"(AM170-AN170)","v":756.16554975994347},{"$f":"AN170/AM170","v":-0.34872730366281263},233.10573178720585,{"$f":"tau_n(N170,W170,U170,D170)","v":279.49010104957404},{"$f":"tau_hMax(X170,Z170,AH170,W170,U170)","v":100.28518650833598},{"$f":"tau_hMin(X170,Y170,AS170,AE170,Z170,AI170,IF(L170=1,mu_redLead,mu_millScale),W170,U170)","v":-90.650957679660934},190.93614418799692]
[159,"Graf1941","R; S",2,2,10,39.25,39.5,8.5,13,70,null,514,294.3,-1,376821,1,"75-76.1",null,159,0.85,0.46511627906976744,0.25477707006369427,147.15,-147.15,{"$f":"IF(OR(X171>=1.6*D171*AD171,D171=1),calcLoadFraction(G171,F171,I171,J171,K171,D171,1),\"Condition for spring model not fulfilled\")","v":0.52063856670291098},{"$f":"IF(L171>2,L171,IF(L171=2,1,sigma_cl0(I171+J171)))","v":151.65228340637427},{"$f":"Sigma_cl(AA171,U171,V171,X171)","v":139.48785306713808},{"$f":"Sigma_cl(AA171,U171,V171,Y171)","v":163.81671374561046},{"$f":"sigma_Slip(AB171,W171,U171,IF(L171=1,mu_redLead,mu_millScale))","v":29.082076433807991},{"$f":"sigma_Slip(AC171,W171,U171,IF(L171=1,mu_redLead,mu_millScale))","v":34.154444889133273},{"$f":"Sigma_p(AB171,V171)","v":-24.489056718985154},{"$f":"Sigma_p(AC171,V171)","v":-28.760330783090453},{"$f":"beta_1(X171,AD171,Z171)","v":0.62039772247693625},{"$f":"beta_1(Y171,AE171,Z171)","v":0.55418915506394228},{"$f":"k_tHole(W171,U171)","v":2.4138649311492593},{"$f":"K_t1Mu(Z171,AH171,D171,W171,U171,SIGN(X171),mu_millScale)","v":3.1831228773023073},{"$f":"K_t1Mu(Z171,AI171,D171,W171,U171,SIGN(Y171),mu_millScale)","v":0.68895096496679642},{"$f":"Sigma_hMax(AK171,X171,AF171)","v":443.90747467604939},{"$f":"Sigma_hMin(X171,Y171,AG171,AE171,AK171,AL171,AJ171,AI171,Z171,IF(L171=1,mu_redLead,mu_millScale))","v":-185.7526212270958},629.66009590314525,-0.41844896025382899,193.38127651279606,{"$f":"tau_n(N171,W171,U171,D171)","v":232.90841754131168},{"$f":"tau_hMax(X171,Z171,AH171,W171,U171)","v":75.230113169596066},{"$f":"tau_hMin(X171,Y171,AS171,AE171,Z171,AI171,IF(L171=1,mu_redLead,mu_millScale),W171,U171)","v":-67.201589145700197},142.43170231529626]
[160,"Graf1941","R; S",2,2,10,39.25,39.5,8.5,13,70,null,514,274.68,-1,274179,1,"73-77.3",null,160,0.85,0.46511627906976744,0.25477707006369427,137.34,-137.34,{"$f":"IF(OR(X172>=1.6*D172*AD172,D172=1),calcLoadFraction(G172,F172,I172,J172,K172,D172,1),\"Condition for spring model not fulfilled\")","v":0.52063856670291098},{"$f":"IF(L172>2,L172,IF(L172=2,1,sigma_cl0(I172+J172)))","v":151.65228340637427},{"$f":"Sigma_cl(AA172,U172,V172,X172)","v":140.29881508975382},{"$f":"Sigma_cl(AA172,U172,V172,Y172)","v":163.00575172299472},{"$f":"sigma_Slip(AB172,W172,U172,IF(L172=1,mu_redLead,mu_millScale))","v":29.251155382318831},{"$f":"sigma_Slip(AC172,W172,U172,IF(L172=1,mu_redLead,mu_millScale))","v":33.985365940622437},{"$f":"Sigma_p(AB172,V172)","v":-24.631432521121994},{"$f":"Sigma_p(AC172,V172)","v":-28.617954980953609},{"$f":"beta_1(X172,AD172,Z172)","v":0.59091868238911049},{"$f":"beta_1(Y172,AE172,Z172)","v":0.52471011497611642},{"$f":"k_tHole(W172,U172)","v":2.4138649311492593},{"$f":"K_t1Mu(Z172,AH172,D172,W172,U172,SIGN(X172),mu_millScale)","v":3.1234244401016396},{"$f":"K_t1Mu(Z172,AI172,D172,W172,U172,SIGN(Y172),mu_millScale)","v":0.7465123665305643},{"$f":"Sigma_hMax(AK172,X172,AF172)","v":404.33968008243721},{"$f":"Sigma_hMin(X172,Y172,AG172,AE172,AK172,AL172,AJ172,AI172,Z172,IF(L172=1,mu_redLead,mu_millScale))","v":-181.60234925600233},585.94202933843951,-0.44913313780872816,179.67778304203773,{"$f":"tau_n(N172,W172,U172,D172)","v":217.38118970522422},{"$f":"tau_hMax(X172,Z172,AH172,W172,U172)","v":66.878422056682766},{"$f":"tau_hMin(X172,Y172,AS172,AE172,Z172,AI172,IF(L172=1,mu_redLead,mu_millScale),W172,U172)","v":-59.385132967713268},126.26355502439603]
[161,"Graf1941","R; S",2,2,10,39.25,39.5,8.5,13,70,null,514,274.68,-1,257815,1,"75-76.3",null,161,0.85,0.46511627906976744,0.25477707006369427,137.34,-137.34,{"$f":"IF(OR(X173>=1.6*D173*AD173,D173=1),calcLoadFraction(G173,F173,I173,J173,K173,D173,1),\"Condition for spring model not fulfilled\")","v":0.52063856670291098},{"$f":"IF(L173>2,L173,IF(L173=2,1,sigma_cl0(I173+J173)))","v":151.65228340637427},{"$f":"Sigma_cl(AA173,U173,V173,X173)","v":140.29881508975382},{"$f":"Sigma_cl(AA173,U173,V173,Y173)","v":163.00575172299472},{"$f":"sigma_Slip(AB173,W173,U173,IF(L173=1,mu_redLead,mu_millScale))","v":29.251155382318831},{"$f":"sigma_Slip(AC173,W173,U173,IF(L173=1,mu_redLead,mu_millScale))","v":33.985365940622437},{"$f":"Sigma_p(AB173,V173)","v":-24.631432521121994},{"$f":"Sigma_p(AC173,V173)","v":-28.617954980953609},{"$f":"beta_1(X173,AD173,Z173)","v":0.59091868238911049},{"$f":"beta_1(Y173,AE173,Z173)","v":0.52471011497611642},{"$f":"k_tHole(W173,U173)","v":2.4138649311492593},{"$f":"K_t1Mu(Z173,AH173,D173,W173,U173,SIGN(X173),mu_millScale)","v":3.1234244401016396},{"$f":"K_t1Mu(Z173,AI173,D173,W173,U173,SIGN(Y173),mu_millScale)","v":0.7465123665305643},{"$f":"Sigma_hMax(AK173,X173,AF173)","v":404.33968008243721},{"$f":"Sigma_hMin(X173,Y173,AG173,AE173,AK173,AL173,AJ173,AI173,Z173,IF(L173=1,mu_redLead,mu_millScale))","v":-181.60234925600233},585.94202933843951,-0.44913313780872816,179.67778304203773,{"$f":"tau_n(N173,W173,U173,D173)","v":217.38118970522422},{"$f":"tau_hMax(X173,Z173,AH173,W173,U173)","v":66.878422056682766},{"$f":"tau_hMin(X173,Y173,AS173,AE173,Z173,AI173,IF(L173=1,mu_redLead,mu_millScale),W173,U173)","v":-59.385132967713268},126.26355502439603]
[162,"Graf1941","R; S",2,2,10,39.25,39.5,8.5,13,70,null,514,206.01,2.3E-2,481700,1,"Abb3",null,162,0.85,0.46511627906976744,0.25477707006369427,210.85977482088023,4.8497748208802456,{"$f":"IF(OR(X174>=1.6*D174*AD174,D174=1),calcLoadFraction(G174,F174,I174,J174,K174,D174,1),\"Condition for spring model not fulfilled\")","v":0.52063856670291098},{"$f":"IF(L174>2,L174,IF(L174=2,1,sigma_cl0(I174+J174)))","v":151.65228340637427},{"$f":"Sigma_cl(AA174,U174,V174,X174)","v":134.22116521299591},{"$f":"Sigma_cl(AA174,U174,V174,Y174)","v":151.25136768792657},{"$f":"sigma_Slip(AB174,W174,U174,IF(L174=1,mu_redLead,mu_millScale))","v":27.984015094707381},{"$f":"sigma_Slip(AC174,W174,U174,IF(L174=1,mu_redLead,mu_millScale))","v":31.534673013435079},{"$f":"Sigma_p(AB174,V174)","v":-23.564415506540662},{"$f":"Sigma_p(AC174,V174)","v":-26.554307351414369},{"$f":"beta_1(X174,AD174,Z174)","v":0.7450940620484392},{"$f":"beta_1(Y174,AE174,Z174)","v":0},{"$f":"k_tHole(W174,U174)","v":2.4138649311492593},{"$f":"K_t1Mu(Z174,AH174,D174,W174,U174,SIGN(X174),mu_millScale)","v":3.402120484124437},{"$f":"K_t1Mu(Z174,AI174,D174,W174,U174,SIGN(Y174),mu_millScale)","v":1.7854893421652736},{"$f":"Sigma_hMax(AK174,X174,AF174)","v":693.80594368944219},{"$f":"Sigma_hMin(X174,Y174,AG174,AE174,AK174,AL174,AJ174,AI174,Z174,IF(L174=1,mu_redLead,mu_millScale))","v":71.922424932474073},621.8835187569681,0.10366360447996914,199.07460799057449,{"$f":"tau_n(N174,W174,U174,D174)","v":163.03589227891814},{"$f":"tau_hMax(X174,Z174,AH174,W174,U174)","v":129.46908974220088},{"$f":"tau_hMin(X174,Y174,AS174,AE174,Z174,AI174,IF(L174=1,mu_redLead,mu_millScale),W174,U174)","v":36.49122927366119},92.977860468539689]
[163,"Graf1941","R; S",2,2,10,59.25,59.5,5,8.5,70,null,529,294.3,-1,149221,1,"62-68.2",null,163,0.5,0.7407407407407407,0.16877637130801687,147.15,-147.15,{"$f":"IF(OR(X175>=1.6*D175*AD175,D175=1),calcLoadFraction(G175,F175,I175,J175,K175,D175,1),\"Condition for spring model not fulfilled\")","v":0.52216445595565253},{"$f":"IF(L175>2,L175,IF(L175=2,1,sigma_cl0(I175+J175)))","v":108.94475698440468},{"$f":"Sigma_cl(AA175,U175,V175,X175)","v":99.400168014581581},{"$f":"Sigma_cl(AA175,U175,V175,Y175)","v":118.48934595422777},{"$f":"sigma_Slip(AB175,W175,U175,IF(L175=1,mu_redLead,mu_millScale))","v":20.923999313367347},{"$f":"sigma_Slip(AC175,W175,U175,IF(L175=1,mu_redLead,mu_millScale))","v":24.942321958891551},{"$f":"Sigma_p(AB175,V175)","v":-28.62201464837807},{"$f":"Sigma_p(AC175,V175)","v":-34.118692788136329},{"$f":"beta_1(X175,AD175,Z175)","v":0.72768151338581222},{"$f":"beta_1(Y175,AE175,Z175)","v":0.67538445845054473},{"$f":"k_tHole(W175,U175)","v":2.5743196034450886},{"$f":"K_t1Mu(Z175,AH175,D175,W175,U175,SIGN(X175),mu_millScale)","v":4.2705749443171559},{"$f":"K_t1Mu(Z175,AI175,D175,W175,U175,SIGN(Y175),mu_millScale)","v":0},{"$f":"Sigma_hMax(AK175,X175,AF175)","v":599.79308840789145},{"$f":"Sigma_hMin(X175,Y175,AG175,AE175,AK175,AL175,AJ175,AI175,Z175,IF(L175=1,mu_redLead,mu_millScale))","v":-122.07686603566061},721.86995444355205,-0.20353163181607356,224.57666703797025,{"$f":"tau_n(N175,W175,U175,D175)","v":230.68355080763399},{"$f":"tau_hMax(X175,Z175,AH175,W175,U175)","v":87.652695360574413},{"$f":"tau_hMin(X175,Y175,AS175,AE175,Z175,AI175,IF(L175=1,mu_redLead,mu_millScale),W175,U175)","v":-81.353266640491171},169.0059620010656]
[164,"Graf1941","R; S",2,2,10,59.25,59.5,5,8.5,70,null,529,255.06,-1,237405,1,"64-71.2",null,164,0.5,0.7407407407407407,0.16877637130801687,127.53,-127.53,{"$f":"IF(OR(X176>=1.6*D176*AD176,D176=1),calcLoadFraction(G176,F176,I176,J176,K176,D176,1),\"Condition for spring model not fulfilled\")","v":0.52216445595565253},{"$f":"IF(L176>2,L176,IF(L176=2,1,sigma_cl0(I176+J176)))","v":108.94475698440468},{"$f":"Sigma_cl(AA176,U176,V176,X176)","v":100.67277987722466},{"$f":"Sigma_cl(AA176,U176,V176,Y176)","v":117.2167340915847},{"$f":"sigma_Slip(AB176,W176,U176,IF(L176=1,mu_redLead,mu_millScale))","v":21.191887489735624},{"$f":"sigma_Slip(AC176,W176,U176,IF(L176=1,mu_redLead,mu_millScale))","v":24.674433782523273},{"$f":"Sigma_p(AB176,V176)","v":-28.988459857695286},{"$f":"Sigma_p(AC176,V176)","v":-33.752247578819116},{"$f":"beta_1(X176,AD176,Z176)","v":0.68176351121937817},{"$f":"beta_1(Y176,AE176,Z176)","v":0.62946645628411058},{"$f":"k_tHole(W176,U176)","v":2.5743196034450886},{"$f":"K_t1Mu(Z176,AH176,D176,W176,U176,SIGN(X176),mu_millScale)","v":4.1559449598754501},{"$f":"K_t1Mu(Z176,AI176,D176,W176,U176,SIGN(Y176),mu_millScale)","v":9.3658529598035375E-2},{"$f":"Sigma_hMax(AK176,X176,AF176)","v":501.01920087522086},{"$f":"Sigma_hMin(X176,Y176,AG176,AE176,AK176,AL176,AJ176,AI176,Z176,IF(L176=1,mu_redLead,mu_millScale))","v":-126.44608651341399},627.46528738863481,-0.2523777258287262,194.56350592952322,{"$f":"tau_n(N176,W176,U176,D176)","v":199.9257440332828},{"$f":"tau_hMax(X176,Z176,AH176,W176,U176)","v":71.172100005184021},{"$f":"tau_hMin(X176,Y176,AS176,AE176,Z176,AI176,IF(L176=1,mu_redLead,mu_millScale),W176,U176)","v":-65.712595114445193},136.88469511962921]
[165,"Graf1941","R; S",2,2,10,59.25,59.5,5,8.5,70,null,529,235.44,-1,298991,1,"64-71.1",null,165,0.5,0.7407407407407407,0.16877637130801687,117.72,-117.72,{"$f":"IF(OR(X177>=1.6*D177*AD177,D177=1),calcLoadFraction(G177,F177,I177,J177,K177,D177,1),\"Condition for spring model not fulfilled\")","v":0.52216445595565253},{"$f":"IF(L177>2,L177,IF(L177=2,1,sigma_cl0(I177+J177)))","v":108.94475698440468},{"$f":"Sigma_cl(AA177,U177,V177,X177)","v":101.3090858085462},{"$f":"Sigma_cl(AA177,U177,V177,Y177)","v":116.58042816026315},{"$f":"sigma_Slip(AB177,W177,U177,IF(L177=1,mu_redLead,mu_millScale))","v":21.325831577919764},{"$f":"sigma_Slip(AC177,W177,U177,IF(L177=1,mu_redLead,mu_millScale))","v":24.540489694339129},{"$f":"Sigma_p(AB177,V177)","v":-29.171682462353896},{"$f":"Sigma_p(AC177,V177)","v":-33.569024974160506},{"$f":"beta_1(X177,AD177,Z177)","v":0.65306475986535684},{"$f":"beta_1(Y177,AE177,Z177)","v":0.60076770493008935},{"$f":"k_tHole(W177,U177)","v":2.5743196034450886},{"$f":"K_t1Mu(Z177,AH177,D177,W177,U177,SIGN(X177),mu_millScale)","v":4.0781207104613948},{"$f":"K_t1Mu(Z177,AI177,D177,W177,U177,SIGN(Y177),mu_millScale)","v":0.17344640774627054},{"$f":"Sigma_hMax(AK177,X177,AF177)","v":450.90468757316148},{"$f":"Sigma_hMin(X177,Y177,AG177,AE177,AK177,AL177,AJ177,AI177,Z177,IF(L177=1,mu_redLead,mu_millScale))","v":-129.39923060508798},580.30391817824943,-0.28697690259450304,179.54556807523437,{"$f":"tau_n(N177,W177,U177,D177)","v":184.5468406461072},{"$f":"tau_hMax(X177,Z177,AH177,W177,U177)","v":62.931802327488818},{"$f":"tau_hMin(X177,Y177,AS177,AE177,Z177,AI177,IF(L177=1,mu_redLead,mu_millScale),W177,U177)","v":-57.892259351422219},120.82406167891104]
[166,"Graf1941","R; S",2,2,10,59.25,59.5,5,8.5,70,null,529,167.751,2.8000000000000001E-2,563600,1,"Abb4",null,166,0.5,0.7407407407407407,0.16877637130801687,172.58333333333334,4.8323333333333336,{"$f":"IF(OR(X178>=1.6*D178*AD178,D178=1),calcLoadFraction(G178,F178,I178,J178,K178,D178,1),\"Condition for spring model not fulfilled\")","v":0.52216445595565253},{"$f":"IF(L178>2,L178,IF(L178=2,1,sigma_cl0(I178+J178)))","v":108.94475698440468},{"$f":"Sigma_cl(AA178,U178,V178,X178)","v":97.750485970414616},{"$f":"Sigma_cl(AA178,U178,V178,Y178)","v":108.63131739601296},{"$f":"sigma_Slip(AB178,W178,U178,IF(L178=1,mu_redLead,mu_millScale))","v":20.576736862519574},{"$f":"sigma_Slip(AC178,W178,U178,IF(L178=1,mu_redLead,mu_millScale))","v":22.867180770468373},{"$f":"Sigma_p(AB178,V178)","v":-28.146993080744636},{"$f":"Sigma_p(AC178,V178)","v":-31.280099620406848},{"$f":"beta_1(X178,AD178,Z178)","v":0.77166612598734385},{"$f":"beta_1(Y178,AE178,Z178)","v":0},{"$f":"k_tHole(W178,U178)","v":2.5743196034450886},{"$f":"K_t1Mu(Z178,AH178,D178,W178,U178,SIGN(X178),mu_millScale)","v":4.3676914940134344},{"$f":"K_t1Mu(Z178,AI178,D178,W178,U178,SIGN(Y178),mu_millScale)","v":1.9022105058506507},{"$f":"Sigma_hMax(AK178,X178,AF178)","v":725.64376392774057},{"$f":"Sigma_hMin(X178,Y178,AG178,AE178,AK178,AL178,AJ178,AI178,Z178,IF(L178=1,mu_redLead,mu_millScale))","v":73.97872919183969},651.66503473590092,0.10194910074250493,208.56421128325474,{"$f":"tau_n(N178,W178,U178,D178)","v":131.48962396035137},{"$f":"tau_hMax(X178,Z178,AH178,W178,U178)","v":109.01643008052493},{"$f":"tau_hMin(X178,Y178,AS178,AE178,Z178,AI178,IF(L178=1,mu_redLead,mu_millScale),W178,U178)","v":28.871102289505842},80.145327791019085]
[167,"Graf1941","R; S",2,2,10,48,null,5,6.5,70,null,538,313.92,-1,220300,1,"78-79.2",null,167,0.5,0.86956521739130432,0.20833333333333334,156.96,-156.96,{"$f":"IF(OR(X179>=1.6*D179*AD179,D179=1),calcLoadFraction(G179,F179,I179,J179,K179,D179,1),\"Condition for spring model not fulfilled\")","v":0.51402460500979574},{"$f":"IF(L179>2,L179,IF(L179=2,1,sigma_cl0(I179+J179)))","v":93.340263648068472},{"$f":"Sigma_cl(AA179,U179,V179,X179)","v":82.171974180884376},{"$f":"Sigma_cl(AA179,U179,V179,Y179)","v":104.50855311525257},{"$f":"sigma_Slip(AB179,W179,U179,IF(L179=1,mu_redLead,mu_millScale))","v":22.418365108327382},{"$f":"sigma_Slip(AC179,W179,U179,IF(L179=1,mu_redLead,mu_millScale))","v":28.512286871961109},{"$f":"Sigma_p(AB179,V179)","v":-27.647629858094},{"$f":"Sigma_p(AC179,V179)","v":-35.163008097809858},{"$f":"beta_1(X179,AD179,Z179)","v":0.72213679561495092},{"$f":"beta_1(Y179,AE179,Z179)","v":0.64660601447488997},{"$f":"k_tHole(W179,U179)","v":2.4961660879629628},{"$f":"K_t1Mu(Z179,AH179,D179,W179,U179,SIGN(X179),mu_millScale)","v":3.7304494492443334},{"$f":"K_t1Mu(Z179,AI179,D179,W179,U179,SIGN(Y179),mu_millScale)","v":0.36090267238049983},{"$f":"Sigma_hMax(AK179,X179,AF179)","v":557.88371569529659},{"$f":"Sigma_hMin(X179,Y179,AG179,AE179,AK179,AL179,AJ179,AI179,Z179,IF(L179=1,mu_redLead,mu_millScale))","v":-166.67417702905354},724.55789272435015,-0.29876150233445276,224.01597310805215,{"$f":"tau_n(N179,W179,U179,D179)","v":189.8552946071627},{"$f":"tau_hMax(X179,Z179,AH179,W179,U179)","v":70.473541339773377},{"$f":"tau_hMin(X179,Y179,AS179,AE179,Z179,AI179,IF(L179=1,mu_redLead,mu_millScale),W179,U179)","v":-63.102470291431885},133.57601163120526]
[168,"Graf1941","R; S",2,2,10,48,null,5,6.5,70,null,538,274.68,-1,112300,1,"82-83.1",null,168,0.5,0.86956521739130432,0.20833333333333334,137.34,-137.34,{"$f":"IF(OR(X180>=1.6*D180*AD180,D180=1),calcLoadFraction(G180,F180,I180,J180,K180,D180,1),\"Condition for spring model not fulfilled\")","v":0.51402460500979574},{"$f":"IF(L180>2,L180,IF(L180=2,1,sigma_cl0(I180+J180)))","v":93.340263648068472},{"$f":"Sigma_cl(AA180,U180,V180,X180)","v":83.568010364282387},{"$f":"Sigma_cl(AA180,U180,V180,Y180)","v":103.11251693185456},{"$f":"sigma_Slip(AB180,W180,U180,IF(L180=1,mu_redLead,mu_millScale))","v":22.79923521855449},{"$f":"sigma_Slip(AC180,W180,U180,IF(L180=1,mu_redLead,mu_millScale))","v":28.131416761734002},{"$f":"Sigma_p(AB180,V180)","v":-28.117340998076241},{"$f":"Sigma_p(AC180,V180)","v":-34.693296957827613},{"$f":"beta_1(X180,AD180,Z180)","v":0.67704699633565391},{"$f":"beta_1(Y180,AE180,Z180)","v":0.60151621519559284},{"$f":"k_tHole(W180,U180)","v":2.4961660879629628},{"$f":"K_t1Mu(Z180,AH180,D180,W180,U180,SIGN(X180),mu_millScale)","v":3.6396886549482068},{"$f":"K_t1Mu(Z180,AI180,D180,W180,U180,SIGN(Y180),mu_millScale)","v":0.460746797774991},{"$f":"Sigma_hMax(AK180,X180,AF180)","v":471.7574988725105},{"$f":"Sigma_hMin(X180,Y180,AG180,AE180,AK180,AL180,AJ180,AI180,Z180,IF(L180=1,mu_redLead,mu_millScale))","v":-164.70693939918536},636.46443827169583,-0.34913475629498447,196.20055200372698,{"$f":"tau_n(N180,W180,U180,D180)","v":166.12338278126737},{"$f":"tau_hMax(X180,Z180,AH180,W180,U180)","v":57.814062796818881},{"$f":"tau_hMin(X180,Y180,AS180,AE180,Z180,AI180,IF(L180=1,mu_redLead,mu_millScale),W180,U180)","v":-51.364375629520069},109.17843842633894]
[169,"Graf1941","R; S",2,2,10,48,null,5,6.5,70,null,538,235.44,-1,337500,1,"82-82.3",null,169,0.5,0.86956521739130432,0.20833333333333334,117.72,-117.72,{"$f":"IF(OR(X181>=1.6*D181*AD181,D181=1),calcLoadFraction(G181,F181,I181,J181,K181,D181,1),\"Condition for spring model not fulfilled\")","v":0.51402460500979574},{"$f":"IF(L181>2,L181,IF(L181=2,1,sigma_cl0(I181+J181)))","v":93.340263648068472},{"$f":"Sigma_cl(AA181,U181,V181,X181)","v":84.964046547680397},{"$f":"Sigma_cl(AA181,U181,V181,Y181)","v":101.71648074845655},{"$f":"sigma_Slip(AB181,W181,U181,IF(L181=1,mu_redLead,mu_millScale))","v":23.180105328781597},{"$f":"sigma_Slip(AC181,W181,U181,IF(L181=1,mu_redLead,mu_millScale))","v":27.750546651506895},{"$f":"Sigma_p(AB181,V181)","v":-28.587052138058482},{"$f":"Sigma_p(AC181,V181)","v":-34.223585817845375},{"$f":"beta_1(X181,AD181,Z181)","v":0.61692726396325781},{"$f":"beta_1(Y181,AE181,Z181)","v":0.54139648282319663},{"$f":"k_tHole(W181,U181)","v":2.4961660879629628},{"$f":"K_t1Mu(Z181,AH181,D181,W181,U181,SIGN(X181),mu_millScale)","v":3.5047693361318504},{"$f":"K_t1Mu(Z181,AI181,D181,W181,U181,SIGN(Y181),mu_millScale)","v":0.59707607283349751},{"$f":"Sigma_hMax(AK181,X181,AF181)","v":383.99439411138292},{"$f":"Sigma_hMin(X181,Y181,AG181,AE181,AK181,AL181,AJ181,AI181,Z181,IF(L181=1,mu_redLead,mu_millScale))","v":-160.78164673565215},544.77604084703512,-0.41870831762459321,167.30945448527527,{"$f":"tau_n(N181,W181,U181,D181)","v":142.39147095537203},{"$f":"tau_hMax(X181,Z181,AH181,W181,U181)","v":45.154584253864385},{"$f":"tau_hMin(X181,Y181,AS181,AE181,Z181,AI181,IF(L181=1,mu_redLead,mu_millScale),W181,U181)","v":-39.626280967608245},84.780865221472624]
[170,"Graf1941","R; S",2,2,10,48,null,5,6.5,70,null,538,225.63,2.1000000000000001E-2,286000,1,"82-83.2(R0)",null,170,0.5,0.86956521739130432,0.20833333333333334,230.46986721144023,4.8398672114402448,{"$f":"IF(OR(X182>=1.6*D182*AD182,D182=1),calcLoadFraction(G182,F182,I182,J182,K182,D182,1),\"Condition for spring model not fulfilled\")","v":0.51402460500979574},{"$f":"IF(L182>2,L182,IF(L182=2,1,sigma_cl0(I182+J182)))","v":93.340263648068472},{"$f":"Sigma_cl(AA182,U182,V182,X182)","v":76.941472933995811},{"$f":"Sigma_cl(AA182,U182,V182,Y182)","v":92.99588904307295},{"$f":"sigma_Slip(AB182,W182,U182,IF(L182=1,mu_redLead,mu_millScale))","v":20.991366574810495},{"$f":"sigma_Slip(AC182,W182,U182,IF(L182=1,mu_redLead,mu_millScale))","v":25.37137284242224},{"$f":"Sigma_p(AB182,V182)","v":-25.887772389805075},{"$f":"Sigma_p(AC182,V182)","v":-31.289450499600846},{"$f":"beta_1(X182,AD182,Z182)","v":0.82280859442323195},{"$f":"beta_1(Y182,AE182,Z182)","v":0},{"$f":"k_tHole(W182,U182)","v":2.4961660879629628},{"$f":"K_t1Mu(Z182,AH182,D182,W182,U182,SIGN(X182),mu_millScale)","v":3.8942957616991709},{"$f":"K_t1Mu(Z182,AI182,D182,W182,U182,SIGN(Y182),mu_millScale)","v":1.8546206942609582},{"$f":"Sigma_hMax(AK182,X182,AF182)","v":871.63005469107736},{"$f":"Sigma_hMin(X182,Y182,AG182,AE182,AK182,AL182,AJ182,AI182,Z182,IF(L182=1,mu_redLead,mu_millScale))","v":71.281551658722265},800.3485030323551,8.1779593618976146E-2,255.53058803741368,{"$f":"tau_n(N182,W182,U182,D182)","v":136.45849299889818},{"$f":"tau_hMax(X182,Z182,AH182,W182,U182)","v":117.90456002777856},{"$f":"tau_hMin(X182,Y182,AS182,AE182,Z182,AI182,IF(L182=1,mu_redLead,mu_millScale),W182,U182)","v":27.355423212093523},90.549136815685031]
[171,"Graf1941","R; S",2,2,10,48,null,5,6.5,70,null,538,186.39,2.5999999999999999E-2,1426000,1,"78-79.1(R0)",null,171,0.5,0.86956521739130432,0.20833333333333334,191.36550308008214,4.9755030800821354,{"$f":"IF(OR(X183>=1.6*D183*AD183,D183=1),calcLoadFraction(G183,F183,I183,J183,K183,D183,1),\"Condition for spring model not fulfilled\")","v":0.51402460500979574},{"$f":"IF(L183>2,L183,IF(L183=2,1,sigma_cl0(I183+J183)))","v":93.340263648068472},{"$f":"Sigma_cl(AA183,U183,V183,X183)","v":79.723894302810649},{"$f":"Sigma_cl(AA183,U183,V183,Y183)","v":92.986238045091767},{"$f":"sigma_Slip(AB183,W183,U183,IF(L183=1,mu_redLead,mu_millScale))","v":21.750473785670398},{"$f":"sigma_Slip(AC183,W183,U183,IF(L183=1,mu_redLead,mu_millScale))","v":25.368739832827927},{"$f":"Sigma_p(AB183,V183)","v":-26.823947489418774},{"$f":"Sigma_p(AC183,V183)","v":-31.286203319250067},{"$f":"beta_1(X183,AD183,Z183)","v":0.77888349458161166},{"$f":"beta_1(Y183,AE183,Z183)","v":0},{"$f":"k_tHole(W183,U183)","v":2.4961660879629628},{"$f":"K_t1Mu(Z183,AH183,D183,W183,U183,SIGN(X183),mu_millScale)","v":3.8299454232363663},{"$f":"K_t1Mu(Z183,AI183,D183,W183,U183,SIGN(Y183),mu_millScale)","v":1.8546206942609582},{"$f":"Sigma_hMax(AK183,X183,AF183)","v":706.09548519746659},{"$f":"Sigma_hMin(X183,Y183,AG183,AE183,AK183,AL183,AJ183,AI183,Z183,IF(L183=1,mu_redLead,mu_millScale))","v":66.823409981225552},639.27207521624109,9.4637922748561018E-2,204.41595449821631,{"$f":"tau_n(N183,W183,U183,D183)","v":112.72658117300284},{"$f":"tau_hMax(X183,Z183,AH183,W183,U183)","v":92.673119729266489},{"$f":"tau_hMin(X183,Y183,AS183,AE183,Z183,AI183,IF(L183=1,mu_redLead,mu_millScale),W183,U183)","v":24.636892809795828},68.036226919470664]
[172,"Graf1941","R; S",2,2,10,48,null,8.5,13,70,null,562,274.68,-1,105900,"1 & 3","88-89.4","Failed in ply and rivet",172,0.85,0.46511627906976744,0.20833333333333334,137.34,-137.34,{"$f":"IF(OR(X184>=1.6*D184*AD184,D184=1),calcLoadFraction(G184,F184,I184,J184,K184,D184,1),\"Condition for spring model not fulfilled\")","v":0.51720593479934962},{"$f":"IF(L184>2,L184,IF(L184=2,1,sigma_cl0(I184+J184)))","v":151.65228340637427},{"$f":"Sigma_cl(AA184,U184,V184,X184)","v":140.29881508975382},{"$f":"Sigma_cl(AA184,U184,V184,Y184)","v":163.00575172299472},{"$f":"sigma_Slip(AB184,W184,U184,IF(L184=1,mu_redLead,mu_millScale))","v":22.515691971916468},{"$f":"sigma_Slip(AC184,W184,U184,IF(L184=1,mu_redLead,mu_millScale))","v":26.159788256926479},{"$f":"Sigma_p(AB184,V184)","v":-24.631432521121994},{"$f":"Sigma_p(AC184,V184)","v":-28.617954980953609},{"$f":"beta_1(X184,AD184,Z184)","v":0.68302518582276273},{"$f":"beta_1(Y184,AE184,Z184)","v":0.63172377593379581},{"$f":"k_tHole(W184,U184)","v":2.4961660879629628},{"$f":"K_t1Mu(Z184,AH184,D184,W184,U184,SIGN(X184),mu_millScale)","v":3.6968714281921042},{"$f":"K_t1Mu(Z184,AI184,D184,W184,U184,SIGN(Y184),mu_millScale)","v":0.3521201063750703},{"$f":"Sigma_hMax(AK184,X184,AF184)","v":483.09688942678162},{"$f":"Sigma_hMin(X184,Y184,AG184,AE184,AK184,AL184,AJ184,AI184,Z184,IF(L184=1,mu_redLead,mu_millScale))","v":-144.8111120257613},627.90800145254298,-0.29975583613793677,194.12243362340718,{"$f":"tau_n(N184,W184,U184,D184)","v":282.40975072815451},{"$f":"tau_hMax(X184,Z184,AH184,W184,U184)","v":99.765390142187698},{"$f":"tau_hMin(X184,Y184,AS184,AE184,Z184,AI184,IF(L184=1,mu_redLead,mu_millScale),W184,U184)","v":-92.272101053218208},192.03749119540589]
[173,"Graf1941","R; S",2,2,10,48,null,8.5,13,70,null,562,255.06,-1,345500,"1 & 3","88-89.1","Failed in ply and rivet",173,0.85,0.46511627906976744,0.20833333333333334,127.53,-127.53,{"$f":"IF(OR(X185>=1.6*D185*AD185,D185=1),calcLoadFraction(G185,F185,I185,J185,K185,D185,1),\"Condition for spring model not fulfilled\")","v":0.51720593479934962},{"$f":"IF(L185>2,L185,IF(L185=2,1,sigma_cl0(I185+J185)))","v":151.65228340637427},{"$f":"Sigma_cl(AA185,U185,V185,X185)","v":141.10977711236958},{"$f":"Sigma_cl(AA185,U185,V185,Y185)","v":162.19478970037895},{"$f":"sigma_Slip(AB185,W185,U185,IF(L185=1,mu_redLead,mu_millScale))","v":22.645838267809687},{"$f":"sigma_Slip(AC185,W185,U185,IF(L185=1,mu_redLead,mu_millScale))","v":26.02964196103326},{"$f":"Sigma_p(AB185,V185)","v":-24.773808323258841},{"$f":"Sigma_p(AC185,V185)","v":-28.475579178816762},{"$f":"beta_1(X185,AD185,Z185)","v":0.65666937665955338},{"$f":"beta_1(Y185,AE185,Z185)","v":0.60536796677058657},{"$f":"k_tHole(W185,U185)","v":2.4961660879629628},{"$f":"K_t1Mu(Z185,AH185,D185,W185,U185,SIGN(X185),mu_millScale)","v":3.6386946056796008},{"$f":"K_t1Mu(Z185,AI185,D185,W185,U185,SIGN(Y185),mu_millScale)","v":0.41219762332642679},{"$f":"Sigma_hMax(AK185,X185,AF185)","v":439.26891473906068},{"$f":"Sigma_hMin(X185,Y185,AG185,AE185,AK185,AL185,AJ185,AI185,Z185,IF(L185=1,mu_redLead,mu_millScale))","v":-144.57561400647407},583.84452874553472,-0.32912780566855376,180.18574915977445,{"$f":"tau_n(N185,W185,U185,D185)","v":262.23762567614347},{"$f":"tau_hMax(X185,Z185,AH185,W185,U185)","v":89.064629880309752},{"$f":"tau_hMin(X185,Y185,AS185,AE185,Z185,AI185,IF(L185=1,mu_redLead,mu_millScale),W185,U185)","v":-82.106575726266669},171.17120560657642]
[174,"Graf1941","R; S",2,2,10,48,null,8.5,13,70,null,562,235.44,-1,594100,1,"84-87.1",null,174,0.85,0.46511627906976744,0.20833333333333334,117.72,-117.72,{"$f":"IF(OR(X186>=1.6*D186*AD186,D186=1),calcLoadFraction(G186,F186,I186,J186,K186,D186,1),\"Condition for spring model not fulfilled\")","v":0.51720593479934962},{"$f":"IF(L186>2,L186,IF(L186=2,1,sigma_cl0(I186+J186)))","v":151.65228340637427},{"$f":"Sigma_cl(AA186,U186,V186,X186)","v":141.92073913498533},{"$f":"Sigma_cl(AA186,U186,V186,Y186)","v":161.38382767776321},{"$f":"sigma_Slip(AB186,W186,U186,IF(L186=1,mu_redLead,mu_millScale))","v":22.775984563702902},{"$f":"sigma_Slip(AC186,W186,U186,IF(L186=1,mu_redLead,mu_millScale))","v":25.899495665140051},{"$f":"Sigma_p(AB186,V186)","v":-24.916184125395684},{"$f":"Sigma_p(AC186,V186)","v":-28.333203376679919},{"$f":"beta_1(X186,AD186,Z186)","v":0.62592093263580917},{"$f":"beta_1(Y186,AE186,Z186)","v":0.57461952274684225},{"$f":"k_tHole(W186,U186)","v":2.4961660879629628},{"$f":"K_t1Mu(Z186,AH186,D186,W186,U186,SIGN(X186),mu_millScale)","v":3.5670543468627534},{"$f":"K_t1Mu(Z186,AI186,D186,W186,U186,SIGN(Y186),mu_millScale)","v":0.48320808588721259},{"$f":"Sigma_hMax(AK186,X186,AF186)","v":394.99745358728762},{"$f":"Sigma_hMin(X186,Y186,AG186,AE186,AK186,AL186,AJ186,AI186,Z186,IF(L186=1,mu_redLead,mu_millScale))","v":-143.78443190938938},538.78188549667698,-0.36401356667889379,165.95045642586646,{"$f":"tau_n(N186,W186,U186,D186)","v":242.06550062413245},{"$f":"tau_hMax(X186,Z186,AH186,W186,U186)","v":78.363869618431806},{"$f":"tau_hMin(X186,Y186,AS186,AE186,Z186,AI186,IF(L186=1,mu_redLead,mu_millScale),W186,U186)","v":-71.941050399315088},150.30492001774689]
[175,"Graf1941","R; S",2,2,10,48,null,8.5,13,70,null,562,186.39,2.5999999999999999E-2,317000,1,"84-87.2",null,175,0.85,0.46511627906976744,0.20833333333333334,191.36550308008214,4.9755030800821354,{"$f":"IF(OR(X187>=1.6*D187*AD187,D187=1),calcLoadFraction(G187,F187,I187,J187,K187,D187,1),\"Condition for spring model not fulfilled\")","v":0.51720593479934962},{"$f":"IF(L187>2,L187,IF(L187=2,1,sigma_cl0(I187+J187)))","v":151.65228340637427},{"$f":"Sigma_cl(AA187,U187,V187,X187)","v":135.83269569621086},{"$f":"Sigma_cl(AA187,U187,V187,Y187)","v":151.24097412591001},{"$f":"sigma_Slip(AB187,W187,U187,IF(L187=1,mu_redLead,mu_millScale))","v":21.798952001514831},{"$f":"sigma_Slip(AC187,W187,U187,IF(L187=1,mu_redLead,mu_millScale))","v":24.271731623485898},{"$f":"Sigma_p(AB187,V187)","v":-23.847342374651745},{"$f":"Sigma_p(AC187,V187)","v":-26.552482615251765},{"$f":"beta_1(X187,AD187,Z187)","v":0.77975377974744209},{"$f":"beta_1(Y187,AE187,Z187)","v":0},{"$f":"k_tHole(W187,U187)","v":2.4961660879629628},{"$f":"K_t1Mu(Z187,AH187,D187,W187,U187,SIGN(X187),mu_millScale)","v":3.8807725470552432},{"$f":"K_t1Mu(Z187,AI187,D187,W187,U187,SIGN(Y187),mu_millScale)","v":1.850650130493303},{"$f":"Sigma_hMax(AK187,X187,AF187)","v":718.79864843194662},{"$f":"Sigma_hMin(X187,Y187,AG187,AE187,AK187,AL187,AJ187,AI187,Z187,IF(L187=1,mu_redLead,mu_millScale))","v":70.231319739641748},648.56732869230484,9.7706527263025325E-2,207.46533565388262,{"$f":"tau_n(N187,W187,U187,D187)","v":191.63518799410483},{"$f":"tau_hMax(X187,Z187,AH187,W187,U187)","v":158.69647643039434},{"$f":"tau_hMin(X187,Y187,AS187,AE187,Z187,AI187,IF(L187=1,mu_redLead,mu_millScale),W187,U187)","v":40.875750936498648},117.82072549389569]
[176,"Graf1941","R; S",2,2,10,48,null,8.5,13,70,null,562,166.77,2.9000000000000001E-2,965300,1,"88-89.3",null,176,0.85,0.46511627906976744,0.20833333333333334,171.75077239958807,4.9807723995880542,{"$f":"IF(OR(X188>=1.6*D188*AD188,D188=1),calcLoadFraction(G188,F188,I188,J188,K188,D188,1),\"Condition for spring model not fulfilled\")","v":0.51720593479934962},{"$f":"IF(L188>2,L188,IF(L188=2,1,sigma_cl0(I188+J188)))","v":151.65228340637427},{"$f":"Sigma_cl(AA188,U188,V188,X188)","v":137.45418414327676},{"$f":"Sigma_cl(AA188,U188,V188,Y188)","v":151.24053852774443},{"$f":"sigma_Slip(AB188,W188,U188,IF(L188=1,mu_redLead,mu_millScale))","v":22.059174686836876},{"$f":"sigma_Slip(AC188,W188,U188,IF(L188=1,mu_redLead,mu_millScale))","v":24.271661717021519},{"$f":"Sigma_p(AB188,V188)","v":-24.132017503533852},{"$f":"Sigma_p(AC188,V188)","v":-26.552406139860185},{"$f":"beta_1(X188,AD188,Z188)","v":0.75167121630091449},{"$f":"beta_1(Y188,AE188,Z188)","v":0},{"$f":"k_tHole(W188,U188)","v":2.4961660879629628},{"$f":"K_t1Mu(Z188,AH188,D188,W188,U188,SIGN(X188),mu_millScale)","v":3.8325837195027002},{"$f":"K_t1Mu(Z188,AI188,D188,W188,U188,SIGN(Y188),mu_millScale)","v":1.850650130493303},{"$f":"Sigma_hMax(AK188,X188,AF188)","v":634.11719660714107},{"$f":"Sigma_hMin(X188,Y188,AG188,AE188,AK188,AL188,AJ188,AI188,Z188,IF(L188=1,mu_redLead,mu_millScale))","v":67.059808538285296},567.05738806885574,0.10575301994188199,181.57068636793807,{"$f":"tau_n(N188,W188,U188,D188)","v":171.46306294209381},{"$f":"tau_hMax(X188,Z188,AH188,W188,U188)","v":137.30070368694186},{"$f":"tau_hMin(X188,Y188,AS188,AE188,Z188,AI188,IF(L188=1,mu_redLead,mu_millScale),W188,U188)","v":38.177859279751956},99.122844407189902]
[177,"Graf1941","R; S",2,2,10,48,null,6.5,10.5,70,null,null,294.3,-1,245200,1,"4-5.1","Grade St52",177,0.65,0.58823529411764708,0.20833333333333334,147.15,-147.15,{"$f":"IF(OR(X189>=1.6*D189*AD189,D189=1),calcLoadFraction(G189,F189,I189,J189,K189,D189,1),\"Condition for spring model not fulfilled\")","v":0.5223625882418157},{"$f":"IF(L189>2,L189,IF(L189=2,1,sigma_cl0(I189+J189)))","v":130.82328892311955},{"$f":"Sigma_cl(AA189,U189,V189,X189)","v":120.02074774664896},{"$f":"Sigma_cl(AA189,U189,V189,Y189)","v":141.62583009959013},{"$f":"sigma_Slip(AB189,W189,U189,IF(L189=1,mu_redLead,mu_millScale))","v":25.187971468751563},{"$f":"sigma_Slip(AC189,W189,U189,IF(L189=1,mu_redLead,mu_millScale))","v":29.722089178421506},{"$f":"Sigma_p(AB189,V189)","v":-27.264328514563278},{"$f":"Sigma_p(AC189,V189)","v":-32.172213808680922},{"$f":"beta_1(X189,AD189,Z189)","v":0.67231175595005377},{"$f":"beta_1(Y189,AE189,Z189)","v":0.61332419228535873},{"$f":"k_tHole(W189,U189)","v":2.4961660879629628},{"$f":"K_t1Mu(Z189,AH189,D189,W189,U189,SIGN(X189),mu_millScale)","v":3.6496278654648564},{"$f":"K_t1Mu(Z189,AI189,D189,W189,U189,SIGN(Y189),mu_millScale)","v":0.39971849692185007},{"$f":"Sigma_hMax(AK189,X189,AF189)","v":509.77841188859037},{"$f":"Sigma_hMin(X189,Y189,AG189,AE189,AK189,AL189,AJ189,AI189,Z189,IF(L189=1,mu_redLead,mu_millScale))","v":-163.18325246856838},672.96166435715872,-0.32010624354220651,207.79852503490565,{"$f":"tau_n(N189,W189,U189,D189)","v":231.38614030247956},{"$f":"tau_hMax(X189,Z189,AH189,W189,U189)","v":81.260616375292955},{"$f":"tau_hMin(X189,Y189,AS189,AE189,Z189,AI189,IF(L189=1,mu_redLead,mu_millScale),W189,U189)","v":-74.130939198822389},155.39155557411533]
[178,"Graf1941","R; S",2,2,10,48,null,6.5,10.5,70,null,null,274.68,-1,246200,1,"4-5.2","Grade St52",178,0.65,0.58823529411764708,0.20833333333333334,137.34,-137.34,{"$f":"IF(OR(X190>=1.6*D190*AD190,D190=1),calcLoadFraction(G190,F190,I190,J190,K190,D190,1),\"Condition for spring model not fulfilled\")","v":0.5223625882418157},{"$f":"IF(L190>2,L190,IF(L190=2,1,sigma_cl0(I190+J190)))","v":130.82328892311955},{"$f":"Sigma_cl(AA190,U190,V190,X190)","v":120.74091715841367},{"$f":"Sigma_cl(AA190,U190,V190,Y190)","v":140.90566068782545},{"$f":"sigma_Slip(AB190,W190,U190,IF(L190=1,mu_redLead,mu_millScale))","v":25.339108725740559},{"$f":"sigma_Slip(AC190,W190,U190,IF(L190=1,mu_redLead,mu_millScale))","v":29.57095192143251},{"$f":"Sigma_p(AB190,V190)","v":-27.427924691033866},{"$f":"Sigma_p(AC190,V190)","v":-32.008617632210338},{"$f":"beta_1(X190,AD190,Z190)","v":0.6467987541013186},{"$f":"beta_1(Y190,AE190,Z190)","v":0.58781119043662344},{"$f":"k_tHole(W190,U190)","v":2.4961660879629628},{"$f":"K_t1Mu(Z190,AH190,D190,W190,U190,SIGN(X190),mu_millScale)","v":3.5927037095011878},{"$f":"K_t1Mu(Z190,AI190,D190,W190,U190,SIGN(Y190),mu_millScale)","v":0.45783994981361648},{"$f":"Sigma_hMax(AK190,X190,AF190)","v":465.9940027718593},{"$f":"Sigma_hMin(X190,Y190,AG190,AE190,AK190,AL190,AJ190,AI190,Z190,IF(L190=1,mu_redLead,mu_millScale))","v":-162.41403633494028},628.40803910679961,-0.34853246043695268,193.7236188206663,{"$f":"tau_n(N190,W190,U190,D190)","v":215.96039761564759},{"$f":"tau_hMax(X190,Z190,AH190,W190,U190)","v":72.965129593964804},{"$f":"tau_hMin(X190,Y190,AS190,AE190,Z190,AI190,IF(L190=1,mu_redLead,mu_millScale),W190,U190)","v":-66.310764229258922},139.27589382322373]
[179,"Graf1941","R; S",2,2,10,48,null,6.5,10.5,70,null,null,255.06,-1,372100,1,"90.2-4","Grade St52",179,0.65,0.58823529411764708,0.20833333333333334,127.53,-127.53,{"$f":"IF(OR(X191>=1.6*D191*AD191,D191=1),calcLoadFraction(G191,F191,I191,J191,K191,D191,1),\"Condition for spring model not fulfilled\")","v":0.5223625882418157},{"$f":"IF(L191>2,L191,IF(L191=2,1,sigma_cl0(I191+J191)))","v":130.82328892311955},{"$f":"Sigma_cl(AA191,U191,V191,X191)","v":121.46108657017837},{"$f":"Sigma_cl(AA191,U191,V191,Y191)","v":140.18549127606073},{"$f":"sigma_Slip(AB191,W191,U191,IF(L191=1,mu_redLead,mu_millScale))","v":25.490245982729558},{"$f":"sigma_Slip(AC191,W191,U191,IF(L191=1,mu_redLead,mu_millScale))","v":29.419814664443511},{"$f":"Sigma_p(AB191,V191)","v":-27.591520867504453},{"$f":"Sigma_p(AC191,V191)","v":-31.845021455739747},{"$f":"beta_1(X191,AD191,Z191)","v":0.61736067504508552},{"$f":"beta_1(Y191,AE191,Z191)","v":0.55837311138039036},{"$f":"k_tHole(W191,U191)","v":2.4961660879629628},{"$f":"K_t1Mu(Z191,AH191,D191,W191,U191,SIGN(X191),mu_millScale)","v":3.5236883683171452},{"$f":"K_t1Mu(Z191,AI191,D191,W191,U191,SIGN(Y191),mu_millScale)","v":0.52570416722311097},{"$f":"Sigma_hMax(AK191,X191,AF191)","v":421.78445674398108},{"$f":"Sigma_hMin(X191,Y191,AG191,AE191,AK191,AL191,AJ191,AI191,Z191,IF(L191=1,mu_redLead,mu_millScale))","v":-161.08831679301863},582.87277353699972,-0.38192094141296823,179.35567780306891,{"$f":"tau_n(N191,W191,U191,D191)","v":200.53465492881563},{"$f":"tau_hMax(X191,Z191,AH191,W191,U191)","v":64.669642812636638},{"$f":"tau_hMin(X191,Y191,AS191,AE191,Z191,AI191,IF(L191=1,mu_redLead,mu_millScale),W191,U191)","v":-58.490589259695462},123.16023207233209]
[180,"Graf1941","R; S",2,2,10,48,null,6.5,10.5,70,null,null,235.44,-1,555000,1,"91.1-3","Grade St52",180,0.65,0.58823529411764708,0.20833333333333334,117.72,-117.72,{"$f":"IF(OR(X192>=1.6*D192*AD192,D192=1),calcLoadFraction(G192,F192,I192,J192,K192,D192,1),\"Condition for spring model not fulfilled\")","v":0.5223625882418157},{"$f":"IF(L192>2,L192,IF(L192=2,1,sigma_cl0(I192+J192)))","v":130.82328892311955},{"$f":"Sigma_cl(AA192,U192,V192,X192)","v":122.18125598194308},{"$f":"Sigma_cl(AA192,U192,V192,Y192)","v":139.46532186429602},{"$f":"sigma_Slip(AB192,W192,U192,IF(L192=1,mu_redLead,mu_millScale))","v":25.641383239718557},{"$f":"sigma_Slip(AC192,W192,U192,IF(L192=1,mu_redLead,mu_millScale))","v":29.268677407454515},{"$f":"Sigma_p(AB192,V192)","v":-27.755117043975044},{"$f":"Sigma_p(AC192,V192)","v":-31.68142527926916},{"$f":"beta_1(X192,AD192,Z192)","v":0.58301624947948039},{"$f":"beta_1(Y192,AE192,Z192)","v":0.52402868581478523},{"$f":"k_tHole(W192,U192)","v":2.4961660879629628},{"$f":"K_t1Mu(Z192,AH192,D192,W192,U192,SIGN(X192),mu_millScale)","v":3.4390866404793106},{"$f":"K_t1Mu(Z192,AI192,D192,W192,U192,SIGN(Y192),mu_millScale)","v":0.60583625122072815},{"$f":"Sigma_hMax(AK192,X192,AF192)","v":377.09416227324937},{"$f":"Sigma_hMin(X192,Y192,AG192,AE192,AK192,AL192,AJ192,AI192,Z192,IF(L192=1,mu_redLead,mu_millScale))","v":-159.05225690006239},536.14641917331176,-0.42178392776287582,164.6332890769954,{"$f":"tau_n(N192,W192,U192,D192)","v":185.10891224198363},{"$f":"tau_hMax(X192,Z192,AH192,W192,U192)","v":56.37415603130848},{"$f":"tau_hMin(X192,Y192,AS192,AE192,Z192,AI192,IF(L192=1,mu_redLead,mu_millScale),W192,U192)","v":-50.670414290132008},107.04457032144049]
[181,"Graf1941","R; S",2,2,10,48,null,6.5,10.5,70,null,null,313.92,-1,134700,1,"90.1-3","Grade St52",181,0.65,0.58823529411764708,0.20833333333333334,156.96,-156.96,{"$f":"IF(OR(X193>=1.6*D193*AD193,D193=1),calcLoadFraction(G193,F193,I193,J193,K193,D193,1),\"Condition for spring model not fulfilled\")","v":0.5223625882418157},{"$f":"IF(L193>2,L193,IF(L193=2,1,sigma_cl0(I193+J193)))","v":130.82328892311955},{"$f":"Sigma_cl(AA193,U193,V193,X193)","v":119.30057833488425},{"$f":"Sigma_cl(AA193,U193,V193,Y193)","v":142.34599951135485},{"$f":"sigma_Slip(AB193,W193,U193,IF(L193=1,mu_redLead,mu_millScale))","v":25.036834211762564},{"$f":"sigma_Slip(AC193,W193,U193,IF(L193=1,mu_redLead,mu_millScale))","v":29.873226435410508},{"$f":"Sigma_p(AB193,V193)","v":-27.100732338092691},{"$f":"Sigma_p(AC193,V193)","v":-32.335809985151514},{"$f":"beta_1(X193,AD193,Z193)","v":0.69463563256769723},{"$f":"beta_1(Y193,AE193,Z193)","v":0.63564806890300196},{"$f":"k_tHole(W193,U193)","v":2.4961660879629628},{"$f":"K_t1Mu(Z193,AH193,D193,W193,U193,SIGN(X193),mu_millScale)","v":3.6970541934987389},{"$f":"K_t1Mu(Z193,AI193,D193,W193,U193,SIGN(Y193),mu_millScale)","v":0.34944481302755731},{"$f":"Sigma_hMax(AK193,X193,AF193)","v":553.1888938734694},{"$f":"Sigma_hMin(X193,Y193,AG193,AE193,AK193,AL193,AJ193,AI193,Z193,IF(L193=1,mu_redLead,mu_millScale))","v":-163.50998325508615},716.69887712855552,-0.29557712576291473,221.62907557058443,{"$f":"tau_n(N193,W193,U193,D193)","v":246.81188298931153},{"$f":"tau_hMax(X193,Z193,AH193,W193,U193)","v":89.556103156621134},{"$f":"tau_hMin(X193,Y193,AS193,AE193,Z193,AI193,IF(L193=1,mu_redLead,mu_millScale),W193,U193)","v":-81.951114168385828},171.50721732500696]
[182,"Graf1941","R; S",2,2,10,48,null,6.5,10.5,70,null,null,255.06,-1,312100,1,"91.2-4","Grade St52",182,0.65,0.58823529411764708,0.20833333333333334,127.53,-127.53,{"$f":"IF(OR(X194>=1.6*D194*AD194,D194=1),calcLoadFraction(G194,F194,I194,J194,K194,D194,1),\"Condition for spring model not fulfilled\")","v":0.5223625882418157},{"$f":"IF(L194>2,L194,IF(L194=2,1,sigma_cl0(I194+J194)))","v":130.82328892311955},{"$f":"Sigma_cl(AA194,U194,V194,X194)","v":121.46108657017837},{"$f":"Sigma_cl(AA194,U194,V194,Y194)","v":140.18549127606073},{"$f":"sigma_Slip(AB194,W194,U194,IF(L194=1,mu_redLead,mu_millScale))","v":25.490245982729558},{"$f":"sigma_Slip(AC194,W194,U194,IF(L194=1,mu_redLead,mu_millScale))","v":29.419814664443511},{"$f":"Sigma_p(AB194,V194)","v":-27.591520867504453},{"$f":"Sigma_p(AC194,V194)","v":-31.845021455739747},{"$f":"beta_1(X194,AD194,Z194)","v":0.61736067504508552},{"$f":"beta_1(Y194,AE194,Z194)","v":0.55837311138039036},{"$f":"k_tHole(W194,U194)","v":2.4961660879629628},{"$f":"K_t1Mu(Z194,AH194,D194,W194,U194,SIGN(X194),mu_millScale)","v":3.5236883683171452},{"$f":"K_t1Mu(Z194,AI194,D194,W194,U194,SIGN(Y194),mu_millScale)","v":0.52570416722311097},{"$f":"Sigma_hMax(AK194,X194,AF194)","v":421.78445674398108},{"$f":"Sigma_hMin(X194,Y194,AG194,AE194,AK194,AL194,AJ194,AI194,Z194,IF(L194=1,mu_redLead,mu_millScale))","v":-161.08831679301863},582.87277353699972,-0.38192094141296823,179.35567780306891,{"$f":"tau_n(N194,W194,U194,D194)","v":200.53465492881563},{"$f":"tau_hMax(X194,Z194,AH194,W194,U194)","v":64.669642812636638},{"$f":"tau_hMin(X194,Y194,AS194,AE194,Z194,AI194,IF(L194=1,mu_redLead,mu_millScale),W194,U194)","v":-58.490589259695462},123.16023207233209]
[183,"Maljaars2019","R; S",2,1,11.5,57.5,null,7.5,10,80,1,400,170,0,200000,1,"P1F1",null,183,0.65217391304347827,0.65714285714285714,0.2,170,0,{"$f":"IF(OR(X195>=1.6*D195*AD195,D195=1),calcLoadFraction(G195,F195,I195,J195,K195,D195,1),\"Condition for spring model not fulfilled\")","v":0.51367593483224683},{"$f":"IF(L195>2,L195,IF(L195=2,1,sigma_cl0(I195+J195)))","v":133.48852782757527},{"$f":"Sigma_cl(AA195,U195,V195,X195)","v":120.09251715662417},{"$f":"Sigma_cl(AA195,U195,V195,Y195)","v":133.48852782757527},{"$f":"sigma_Slip(AB195,W195,U195,IF(L195=1,mu_redLead,mu_millScale))","v":4.3387403598320073},{"$f":"sigma_Slip(AC195,W195,U195,IF(L195=1,mu_redLead,mu_millScale))","v":4.822715660999136},{"$f":"Sigma_p(AB195,V195)","v":-30.632672940805286},{"$f":"Sigma_p(AC195,V195)","v":-34.04966863138273},{"$f":"beta_1(X195,AD195,Z195)","v":0.95031497411886023},{"$f":"beta_1(Y195,AE195,Z195)","v":0},{"$f":"k_tHole(W195,U195)","v":2.512},{"$f":"K_t1Mu(Z195,AH195,D195,W195,U195,SIGN(X195),mu_millScale)","v":4.1111426132396209},{"$f":"K_t1Mu(Z195,AI195,D195,W195,U195,SIGN(Y195),mu_millScale)","v":1.8668230258506979},{"$f":"Sigma_hMax(AK195,X195,AF195)","v":668.26157130993022},{"$f":"Sigma_hMin(X195,Y195,AG195,AE195,AK195,AL195,AJ195,AI195,Z195,IF(L195=1,mu_redLead,mu_millScale))","v":-14.512582881454327},682.77415419138458,-2.1716919698085702E-2,215.60851136178451,{"$f":"tau_n(N195,W195,U195,D195)","v":141.16351445434213},{"$f":"tau_hMax(X195,Z195,AH195,W195,U195)","v":137.81904947368173},{"$f":"tau_hMin(X195,Y195,AS195,AE195,Z195,AI195,IF(L195=1,mu_redLead,mu_millScale),W195,U195)","v":7.6513948301719443},130.16765464350979]
[184,"Maljaars2019","R; S",2,1,11.5,57.5,null,7.5,10,80,1,400,170,0,220000,1,"P1F1",null,184,0.65217391304347827,0.65714285714285714,0.2,170,0,{"$f":"IF(OR(X196>=1.6*D196*AD196,D196=1),calcLoadFraction(G196,F196,I196,J196,K196,D196,1),\"Condition for spring model not fulfilled\")","v":0.51367593483224683},{"$f":"IF(L196>2,L196,IF(L196=2,1,sigma_cl0(I196+J196)))","v":133.48852782757527},{"$f":"Sigma_cl(AA196,U196,V196,X196)","v":120.09251715662417},{"$f":"Sigma_cl(AA196,U196,V196,Y196)","v":133.48852782757527},{"$f":"sigma_Slip(AB196,W196,U196,IF(L196=1,mu_redLead,mu_millScale))","v":4.3387403598320073},{"$f":"sigma_Slip(AC196,W196,U196,IF(L196=1,mu_redLead,mu_millScale))","v":4.822715660999136},{"$f":"Sigma_p(AB196,V196)","v":-30.632672940805286},{"$f":"Sigma_p(AC196,V196)","v":-34.04966863138273},{"$f":"beta_1(X196,AD196,Z196)","v":0.95031497411886023},{"$f":"beta_1(Y196,AE196,Z196)","v":0},{"$f":"k_tHole(W196,U196)","v":2.512},{"$f":"K_t1Mu(Z196,AH196,D196,W196,U196,SIGN(X196),mu_millScale)","v":4.1111426132396209},{"$f":"K_t1Mu(Z196,AI196,D196,W196,U196,SIGN(Y196),mu_millScale)","v":1.8668230258506979},{"$f":"Sigma_hMax(AK196,X196,AF196)","v":668.26157130993022},{"$f":"Sigma_hMin(X196,Y196,AG196,AE196,AK196,AL196,AJ196,AI196,Z196,IF(L196=1,mu_redLead,mu_millScale))","v":-14.512582881454327},682.77415419138458,-2.1716919698085702E-2,215.60851136178451,{"$f":"tau_n(N196,W196,U196,D196)","v":141.16351445434213},{"$f":"tau_hMax(X196,Z196,AH196,W196,U196)","v":137.81904947368173},{"$f":"tau_hMin(X196,Y196,AS196,AE196,Z196,AI196,IF(L196=1,mu_redLead,mu_millScale),W196,U196)","v":7.6513948301719443},130.16765464350979]
[185,"Maljaars2019","R; S",2,1,11.5,57.5,null,7.5,10,80,1,400,170,0,270000,1,"P1F1",null,185,0.65217391304347827,0.65714285714285714,0.2,170,0,{"$f":"IF(OR(X197>=1.6*D197*AD197,D197=1),calcLoadFraction(G197,F197,I197,J197,K197,D197,1),\"Condition for spring model not fulfilled\")","v":0.51367593483224683},{"$f":"IF(L197>2,L197,IF(L197=2,1,sigma_cl0(I197+J197)))","v":133.48852782757527},{"$f":"Sigma_cl(AA197,U197,V197,X197)","v":120.09251715662417},{"$f":"Sigma_cl(AA197,U197,V197,Y197)","v":133.48852782757527},{"$f":"sigma_Slip(AB197,W197,U197,IF(L197=1,mu_redLead,mu_millScale))","v":4.3387403598320073},{"$f":"sigma_Slip(AC197,W197,U197,IF(L197=1,mu_redLead,mu_millScale))","v":4.822715660999136},{"$f":"Sigma_p(AB197,V197)","v":-30.632672940805286},{"$f":"Sigma_p(AC197,V197)","v":-34.04966863138273},{"$f":"beta_1(X197,AD197,Z197)","v":0.95031497411886023},{"$f":"beta_1(Y197,AE197,Z197)","v":0},{"$f":"k_tHole(W197,U197)","v":2.512},{"$f":"K_t1Mu(Z197,AH197,D197,W197,U197,SIGN(X197),mu_millScale)","v":4.1111426132396209},{"$f":"K_t1Mu(Z197,AI197,D197,W197,U197,SIGN(Y197),mu_millScale)","v":1.8668230258506979},{"$f":"Sigma_hMax(AK197,X197,AF197)","v":668.26157130993022},{"$f":"Sigma_hMin(X197,Y197,AG197,AE197,AK197,AL197,AJ197,AI197,Z197,IF(L197=1,mu_redLead,mu_millScale))","v":-14.512582881454327},682.77415419138458,-2.1716919698085702E-2,215.60851136178451,{"$f":"tau_n(N197,W197,U197,D197)","v":141.16351445434213},{"$f":"tau_hMax(X197,Z197,AH197,W197,U197)","v":137.81904947368173},{"$f":"tau_hMin(X197,Y197,AS197,AE197,Z197,AI197,IF(L197=1,mu_redLead,mu_millScale),W197,U197)","v":7.6513948301719443},130.16765464350979]
[186,"Maljaars2019","R; S",2,1,11.5,57.5,null,7.5,10,80,1,400,170,0,320000,1,"P1F1",null,186,0.65217391304347827,0.65714285714285714,0.2,170,0,{"$f":"IF(OR(X198>=1.6*D198*AD198,D198=1),calcLoadFraction(G198,F198,I198,J198,K198,D198,1),\"Condition for spring model not fulfilled\")","v":0.51367593483224683},{"$f":"IF(L198>2,L198,IF(L198=2,1,sigma_cl0(I198+J198)))","v":133.48852782757527},{"$f":"Sigma_cl(AA198,U198,V198,X198)","v":120.09251715662417},{"$f":"Sigma_cl(AA198,U198,V198,Y198)","v":133.48852782757527},{"$f":"sigma_Slip(AB198,W198,U198,IF(L198=1,mu_redLead,mu_millScale))","v":4.3387403598320073},{"$f":"sigma_Slip(AC198,W198,U198,IF(L198=1,mu_redLead,mu_millScale))","v":4.822715660999136},{"$f":"Sigma_p(AB198,V198)","v":-30.632672940805286},{"$f":"Sigma_p(AC198,V198)","v":-34.04966863138273},{"$f":"beta_1(X198,AD198,Z198)","v":0.95031497411886023},{"$f":"beta_1(Y198,AE198,Z198)","v":0},{"$f":"k_tHole(W198,U198)","v":2.512},{"$f":"K_t1Mu(Z198,AH198,D198,W198,U198,SIGN(X198),mu_millScale)","v":4.1111426132396209},{"$f":"K_t1Mu(Z198,AI198,D198,W198,U198,SIGN(Y198),mu_millScale)","v":1.8668230258506979},{"$f":"Sigma_hMax(AK198,X198,AF198)","v":668.26157130993022},{"$f":"Sigma_hMin(X198,Y198,AG198,AE198,AK198,AL198,AJ198,AI198,Z198,IF(L198=1,mu_redLead,mu_millScale))","v":-14.512582881454327},682.77415419138458,-2.1716919698085702E-2,215.60851136178451,{"$f":"tau_n(N198,W198,U198,D198)","v":141.16351445434213},{"$f":"tau_hMax(X198,Z198,AH198,W198,U198)","v":137.81904947368173},{"$f":"tau_hMin(X198,Y198,AS198,AE198,Z198,AI198,IF(L198=1,mu_redLead,mu_millScale),W198,U198)","v":7.6513948301719443},130.16765464350979]
[187,"Maljaars2019","R; S",2,1,11.5,57.5,null,7.5,10,80,1,400,170,0,370000,1,"P1F1",null,187,0.65217391304347827,0.65714285714285714,0.2,170,0,{"$f":"IF(OR(X199>=1.6*D199*AD199,D199=1),calcLoadFraction(G199,F199,I199,J199,K199,D199,1),\"Condition for spring model not fulfilled\")","v":0.51367593483224683},{"$f":"IF(L199>2,L199,IF(L199=2,1,sigma_cl0(I199+J199)))","v":133.48852782757527},{"$f":"Sigma_cl(AA199,U199,V199,X199)","v":120.09251715662417},{"$f":"Sigma_cl(AA199,U199,V199,Y199)","v":133.48852782757527},{"$f":"sigma_Slip(AB199,W199,U199,IF(L199=1,mu_redLead,mu_millScale))","v":4.3387403598320073},{"$f":"sigma_Slip(AC199,W199,U199,IF(L199=1,mu_redLead,mu_millScale))","v":4.822715660999136},{"$f":"Sigma_p(AB199,V199)","v":-30.632672940805286},{"$f":"Sigma_p(AC199,V199)","v":-34.04966863138273},{"$f":"beta_1(X199,AD199,Z199)","v":0.95031497411886023},{"$f":"beta_1(Y199,AE199,Z199)","v":0},{"$f":"k_tHole(W199,U199)","v":2.512},{"$f":"K_t1Mu(Z199,AH199,D199,W199,U199,SIGN(X199),mu_millScale)","v":4.1111426132396209},{"$f":"K_t1Mu(Z199,AI199,D199,W199,U199,SIGN(Y199),mu_millScale)","v":1.8668230258506979},{"$f":"Sigma_hMax(AK199,X199,AF199)","v":668.26157130993022},{"$f":"Sigma_hMin(X199,Y199,AG199,AE199,AK199,AL199,AJ199,AI199,Z199,IF(L199=1,mu_redLead,mu_millScale))","v":-14.512582881454327},682.77415419138458,-2.1716919698085702E-2,215.60851136178451,{"$f":"tau_n(N199,W199,U199,D199)","v":141.16351445434213},{"$f":"tau_hMax(X199,Z199,AH199,W199,U199)","v":137.81904947368173},{"$f":"tau_hMin(X199,Y199,AS199,AE199,Z199,AI199,IF(L199=1,mu_redLead,mu_millScale),W199,U199)","v":7.6513948301719443},130.16765464350979]
[188,"Maljaars2019","R; S",2,1,11.5,57.5,null,7.5,10,80,1,400,170,0,420000,1,"P1F1",null,188,0.65217391304347827,0.65714285714285714,0.2,170,0,{"$f":"IF(OR(X200>=1.6*D200*AD200,D200=1),calcLoadFraction(G200,F200,I200,J200,K200,D200,1),\"Condition for spring model not fulfilled\")","v":0.51367593483224683},{"$f":"IF(L200>2,L200,IF(L200=2,1,sigma_cl0(I200+J200)))","v":133.48852782757527},{"$f":"Sigma_cl(AA200,U200,V200,X200)","v":120.09251715662417},{"$f":"Sigma_cl(AA200,U200,V200,Y200)","v":133.48852782757527},{"$f":"sigma_Slip(AB200,W200,U200,IF(L200=1,mu_redLead,mu_millScale))","v":4.3387403598320073},{"$f":"sigma_Slip(AC200,W200,U200,IF(L200=1,mu_redLead,mu_millScale))","v":4.822715660999136},{"$f":"Sigma_p(AB200,V200)","v":-30.632672940805286},{"$f":"Sigma_p(AC200,V200)","v":-34.04966863138273},{"$f":"beta_1(X200,AD200,Z200)","v":0.95031497411886023},{"$f":"beta_1(Y200,AE200,Z200)","v":0},{"$f":"k_tHole(W200,U200)","v":2.512},{"$f":"K_t1Mu(Z200,AH200,D200,W200,U200,SIGN(X200),mu_millScale)","v":4.1111426132396209},{"$f":"K_t1Mu(Z200,AI200,D200,W200,U200,SIGN(Y200),mu_millScale)","v":1.8668230258506979},{"$f":"Sigma_hMax(AK200,X200,AF200)","v":668.26157130993022},{"$f":"Sigma_hMin(X200,Y200,AG200,AE200,AK200,AL200,AJ200,AI200,Z200,IF(L200=1,mu_redLead,mu_millScale))","v":-14.512582881454327},682.77415419138458,-2.1716919698085702E-2,215.60851136178451,{"$f":"tau_n(N200,W200,U200,D200)","v":141.16351445434213},{"$f":"tau_hMax(X200,Z200,AH200,W200,U200)","v":137.81904947368173},{"$f":"tau_hMin(X200,Y200,AS200,AE200,Z200,AI200,IF(L200=1,mu_redLead,mu_millScale),W200,U200)","v":7.6513948301719443},130.16765464350979]
[189,"Maljaars2019","R; S",2,1,11.5,57.5,null,7.5,10,80,1,400,150,0,420000,1,"P1F1",null,189,0.65217391304347827,0.65714285714285714,0.2,150,0,{"$f":"IF(OR(X201>=1.6*D201*AD201,D201=1),calcLoadFraction(G201,F201,I201,J201,K201,D201,1),\"Condition for spring model not fulfilled\")","v":0.51367593483224683},{"$f":"IF(L201>2,L201,IF(L201=2,1,sigma_cl0(I201+J201)))","v":133.48852782757527},{"$f":"Sigma_cl(AA201,U201,V201,X201)","v":121.66851841203018},{"$f":"Sigma_cl(AA201,U201,V201,Y201)","v":133.48852782757527},{"$f":"sigma_Slip(AB201,W201,U201,IF(L201=1,mu_redLead,mu_millScale))","v":4.3956786305575521},{"$f":"sigma_Slip(AC201,W201,U201,IF(L201=1,mu_redLead,mu_millScale))","v":4.822715660999136},{"$f":"Sigma_p(AB201,V201)","v":-31.034672433814396},{"$f":"Sigma_p(AC201,V201)","v":-34.04966863138273},{"$f":"beta_1(X201,AD201,Z201)","v":0.94295133912923701},{"$f":"beta_1(Y201,AE201,Z201)","v":0},{"$f":"k_tHole(W201,U201)","v":2.512},{"$f":"K_t1Mu(Z201,AH201,D201,W201,U201,SIGN(X201),mu_millScale)","v":4.107739819891882},{"$f":"K_t1Mu(Z201,AI201,D201,W201,U201,SIGN(Y201),mu_millScale)","v":1.8668230258506979},{"$f":"Sigma_hMax(AK201,X201,AF201)","v":585.12630054996794},{"$f":"Sigma_hMin(X201,Y201,AG201,AE201,AK201,AL201,AJ201,AI201,Z201,IF(L201=1,mu_redLead,mu_millScale))","v":-14.638529224208817},599.76482977417675,-2.501772559266242E-2,189.33575216827717,{"$f":"tau_n(N201,W201,U201,D201)","v":124.55604216559601},{"$f":"tau_hMax(X201,Z201,AH201,W201,U201)","v":120.66277169211276},{"$f":"tau_hMin(X201,Y201,AS201,AE201,Z201,AI201,IF(L201=1,mu_redLead,mu_millScale),W201,U201)","v":7.521690902568352},113.1410807895444]
[190,"Maljaars2019","R; S",2,1,11.5,57.5,null,7.5,10,80,1,400,150,0,470000,1,"P1F1",null,190,0.65217391304347827,0.65714285714285714,0.2,150,0,{"$f":"IF(OR(X202>=1.6*D202*AD202,D202=1),calcLoadFraction(G202,F202,I202,J202,K202,D202,1),\"Condition for spring model not fulfilled\")","v":0.51367593483224683},{"$f":"IF(L202>2,L202,IF(L202=2,1,sigma_cl0(I202+J202)))","v":133.48852782757527},{"$f":"Sigma_cl(AA202,U202,V202,X202)","v":121.66851841203018},{"$f":"Sigma_cl(AA202,U202,V202,Y202)","v":133.48852782757527},{"$f":"sigma_Slip(AB202,W202,U202,IF(L202=1,mu_redLead,mu_millScale))","v":4.3956786305575521},{"$f":"sigma_Slip(AC202,W202,U202,IF(L202=1,mu_redLead,mu_millScale))","v":4.822715660999136},{"$f":"Sigma_p(AB202,V202)","v":-31.034672433814396},{"$f":"Sigma_p(AC202,V202)","v":-34.04966863138273},{"$f":"beta_1(X202,AD202,Z202)","v":0.94295133912923701},{"$f":"beta_1(Y202,AE202,Z202)","v":0},{"$f":"k_tHole(W202,U202)","v":2.512},{"$f":"K_t1Mu(Z202,AH202,D202,W202,U202,SIGN(X202),mu_millScale)","v":4.107739819891882},{"$f":"K_t1Mu(Z202,AI202,D202,W202,U202,SIGN(Y202),mu_millScale)","v":1.8668230258506979},{"$f":"Sigma_hMax(AK202,X202,AF202)","v":585.12630054996794},{"$f":"Sigma_hMin(X202,Y202,AG202,AE202,AK202,AL202,AJ202,AI202,Z202,IF(L202=1,mu_redLead,mu_millScale))","v":-14.638529224208817},599.76482977417675,-2.501772559266242E-2,189.33575216827717,{"$f":"tau_n(N202,W202,U202,D202)","v":124.55604216559601},{"$f":"tau_hMax(X202,Z202,AH202,W202,U202)","v":120.66277169211276},{"$f":"tau_hMin(X202,Y202,AS202,AE202,Z202,AI202,IF(L202=1,mu_redLead,mu_millScale),W202,U202)","v":7.521690902568352},113.1410807895444]
[191,"Maljaars2019","R; S",2,1,11.5,57.5,null,7.5,10,80,1,400,150,0,530000,1,"P1F1",null,191,0.65217391304347827,0.65714285714285714,0.2,150,0,{"$f":"IF(OR(X203>=1.6*D203*AD203,D203=1),calcLoadFraction(G203,F203,I203,J203,K203,D203,1),\"Condition for spring model not fulfilled\")","v":0.51367593483224683},{"$f":"IF(L203>2,L203,IF(L203=2,1,sigma_cl0(I203+J203)))","v":133.48852782757527},{"$f":"Sigma_cl(AA203,U203,V203,X203)","v":121.66851841203018},{"$f":"Sigma_cl(AA203,U203,V203,Y203)","v":133.48852782757527},{"$f":"sigma_Slip(AB203,W203,U203,IF(L203=1,mu_redLead,mu_millScale))","v":4.3956786305575521},{"$f":"sigma_Slip(AC203,W203,U203,IF(L203=1,mu_redLead,mu_millScale))","v":4.822715660999136},{"$f":"Sigma_p(AB203,V203)","v":-31.034672433814396},{"$f":"Sigma_p(AC203,V203)","v":-34.04966863138273},{"$f":"beta_1(X203,AD203,Z203)","v":0.94295133912923701},{"$f":"beta_1(Y203,AE203,Z203)","v":0},{"$f":"k_tHole(W203,U203)","v":2.512},{"$f":"K_t1Mu(Z203,AH203,D203,W203,U203,SIGN(X203),mu_millScale)","v":4.107739819891882},{"$f":"K_t1Mu(Z203,AI203,D203,W203,U203,SIGN(Y203),mu_millScale)","v":1.8668230258506979},{"$f":"Sigma_hMax(AK203,X203,AF203)","v":585.12630054996794},{"$f":"Sigma_hMin(X203,Y203,AG203,AE203,AK203,AL203,AJ203,AI203,Z203,IF(L203=1,mu_redLead,mu_millScale))","v":-14.638529224208817},599.76482977417675,-2.501772559266242E-2,189.33575216827717,{"$f":"tau_n(N203,W203,U203,D203)","v":124.55604216559601},{"$f":"tau_hMax(X203,Z203,AH203,W203,U203)","v":120.66277169211276},{"$f":"tau_hMin(X203,Y203,AS203,AE203,Z203,AI203,IF(L203=1,mu_redLead,mu_millScale),W203,U203)","v":7.521690902568352},113.1410807895444]
[192,"Maljaars2019","R; S",2,1,11.5,57.5,null,7.5,10,80,1,400,150,0,730000,1,"P1F1",null,{"$f":"A204","v":192},0.65217391304347827,0.65714285714285714,0.2,150,0,{"$f":"IF(OR(X204>=1.6*D204*AD204,D204=1),calcLoadFraction(G204,F204,I204,J204,K204,D204,1),\"Condition for spring model not fulfilled\")","v":0.51367593483224683},{"$f":"IF(L204>2,L204,IF(L204=2,1,sigma_cl0(I204+J204)))","v":133.48852782757527},{"$f":"Sigma_cl(AA204,U204,V204,X204)","v":121.66851841203018},{"$f":"Sigma_cl(AA204,U204,V204,Y204)","v":133.48852782757527},{"$f":"sigma_Slip(AB204,W204,U204,IF(L204=1,mu_redLead,mu_millScale))","v":4.3956786305575521},{"$f":"sigma_Slip(AC204,W204,U204,IF(L204=1,mu_redLead,mu_millScale))","v":4.822715660999136},{"$f":"Sigma_p(AB204,V204)","v":-31.034672433814396},{"$f":"Sigma_p(AC204,V204)","v":-34.04966863138273},{"$f":"beta_1(X204,AD204,Z204)","v":0.94295133912923701},{"$f":"beta_1(Y204,AE204,Z204)","v":0},{"$f":"k_tHole(W204,U204)","v":2.512},{"$f":"K_t1Mu(Z204,AH204,D204,W204,U204,SIGN(X204),mu_millScale)","v":4.107739819891882},{"$f":"K_t1Mu(Z204,AI204,D204,W204,U204,SIGN(Y204),mu_millScale)","v":1.8668230258506979},{"$f":"Sigma_hMax(AK204,X204,AF204)","v":585.12630054996794},{"$f":"Sigma_hMin(X204,Y204,AG204,AE204,AK204,AL204,AJ204,AI204,Z204,IF(L204=1,mu_redLead,mu_millScale))","v":-14.638529224208817},599.76482977417675,-2.501772559266242E-2,{"$f":"AO204/3.16*(1-0.9*AP204)/(1-AP204)","v":189.33575216827717},{"$f":"tau_n(N204,W204,U204,D204)","v":124.55604216559601},{"$f":"tau_hMax(X204,Z204,AH204,W204,U204)","v":120.66277169211276},{"$f":"tau_hMin(X204,Y204,AS204,AE204,Z204,AI204,IF(L204=1,mu_redLead,mu_millScale),W204,U204)","v":7.521690902568352},{"$f":"(AS204-AT204)","v":113.1410807895444}]
[193,"Maljaars2019","R; S",2,1,11.5,57.5,null,7.5,10,80,1,400,150,0,920000,1,"P1F1",null,193,0.65217391304347827,0.65714285714285714,0.2,150,0,{"$f":"IF(OR(X205>=1.6*D205*AD205,D205=1),calcLoadFraction(G205,F205,I205,J205,K205,D205,1),\"Condition for spring model not fulfilled\")","v":0.51367593483224683},{"$f":"IF(L205>2,L205,IF(L205=2,1,sigma_cl0(I205+J205)))","v":133.48852782757527},{"$f":"Sigma_cl(AA205,U205,V205,X205)","v":121.66851841203018},{"$f":"Sigma_cl(AA205,U205,V205,Y205)","v":133.48852782757527},{"$f":"sigma_Slip(AB205,W205,U205,IF(L205=1,mu_redLead,mu_millScale))","v":4.3956786305575521},{"$f":"sigma_Slip(AC205,W205,U205,IF(L205=1,mu_redLead,mu_millScale))","v":4.822715660999136},{"$f":"Sigma_p(AB205,V205)","v":-31.034672433814396},{"$f":"Sigma_p(AC205,V205)","v":-34.04966863138273},{"$f":"beta_1(X205,AD205,Z205)","v":0.94295133912923701},{"$f":"beta_1(Y205,AE205,Z205)","v":0},{"$f":"k_tHole(W205,U205)","v":2.512},{"$f":"K_t1Mu(Z205,AH205,D205,W205,U205,SIGN(X205),mu_millScale)","v":4.107739819891882},{"$f":"K_t1Mu(Z205,AI205,D205,W205,U205,SIGN(Y205),mu_millScale)","v":1.8668230258506979},{"$f":"Sigma_hMax(AK205,X205,AF205)","v":585.12630054996794},{"$f":"Sigma_hMin(X205,Y205,AG205,AE205,AK205,AL205,AJ205,AI205,Z205,IF(L205=1,mu_redLead,mu_millScale))","v":-14.638529224208817},599.76482977417675,-2.501772559266242E-2,189.33575216827717,{"$f":"tau_n(N205,W205,U205,D205)","v":124.55604216559601},{"$f":"tau_hMax(X205,Z205,AH205,W205,U205)","v":120.66277169211276},{"$f":"tau_hMin(X205,Y205,AS205,AE205,Z205,AI205,IF(L205=1,mu_redLead,mu_millScale),W205,U205)","v":7.521690902568352},113.1410807895444]
[194,"Maljaars2019","R; S",2,1,11.5,57.5,null,7.5,10,80,1,400,150,0,1200000,1,"P1F1",null,194,0.65217391304347827,0.65714285714285714,0.2,150,0,{"$f":"IF(OR(X206>=1.6*D206*AD206,D206=1),calcLoadFraction(G206,F206,I206,J206,K206,D206,1),\"Condition for spring model not fulfilled\")","v":0.51367593483224683},{"$f":"IF(L206>2,L206,IF(L206=2,1,sigma_cl0(I206+J206)))","v":133.48852782757527},{"$f":"Sigma_cl(AA206,U206,V206,X206)","v":121.66851841203018},{"$f":"Sigma_cl(AA206,U206,V206,Y206)","v":133.48852782757527},{"$f":"sigma_Slip(AB206,W206,U206,IF(L206=1,mu_redLead,mu_millScale))","v":4.3956786305575521},{"$f":"sigma_Slip(AC206,W206,U206,IF(L206=1,mu_redLead,mu_millScale))","v":4.822715660999136},{"$f":"Sigma_p(AB206,V206)","v":-31.034672433814396},{"$f":"Sigma_p(AC206,V206)","v":-34.04966863138273},{"$f":"beta_1(X206,AD206,Z206)","v":0.94295133912923701},{"$f":"beta_1(Y206,AE206,Z206)","v":0},{"$f":"k_tHole(W206,U206)","v":2.512},{"$f":"K_t1Mu(Z206,AH206,D206,W206,U206,SIGN(X206),mu_millScale)","v":4.107739819891882},{"$f":"K_t1Mu(Z206,AI206,D206,W206,U206,SIGN(Y206),mu_millScale)","v":1.8668230258506979},{"$f":"Sigma_hMax(AK206,X206,AF206)","v":585.12630054996794},{"$f":"Sigma_hMin(X206,Y206,AG206,AE206,AK206,AL206,AJ206,AI206,Z206,IF(L206=1,mu_redLead,mu_millScale))","v":-14.638529224208817},599.76482977417675,-2.501772559266242E-2,189.33575216827717,{"$f":"tau_n(N206,W206,U206,D206)","v":124.55604216559601},{"$f":"tau_hMax(X206,Z206,AH206,W206,U206)","v":120.66277169211276},{"$f":"tau_hMin(X206,Y206,AS206,AE206,Z206,AI206,IF(L206=1,mu_redLead,mu_millScale),W206,U206)","v":7.521690902568352},113.1410807895444]
[195,"Maljaars2019","R; S",2,1,11.5,57.5,null,7.5,10,80,1,400,140,0,1600000,1,"P1F1",null,195,0.65217391304347827,0.65714285714285714,0.2,140,0,{"$f":"IF(OR(X207>=1.6*D207*AD207,D207=1),calcLoadFraction(G207,F207,I207,J207,K207,D207,1),\"Condition for spring model not fulfilled\")","v":0.51367593483224683},{"$f":"IF(L207>2,L207,IF(L207=2,1,sigma_cl0(I207+J207)))","v":133.48852782757527},{"$f":"Sigma_cl(AA207,U207,V207,X207)","v":122.45651903973319},{"$f":"Sigma_cl(AA207,U207,V207,Y207)","v":133.48852782757527},{"$f":"sigma_Slip(AB207,W207,U207,IF(L207=1,mu_redLead,mu_millScale))","v":4.4241477659203241},{"$f":"sigma_Slip(AC207,W207,U207,IF(L207=1,mu_redLead,mu_millScale))","v":4.822715660999136},{"$f":"Sigma_p(AB207,V207)","v":-31.235672180318954},{"$f":"Sigma_p(AC207,V207)","v":-34.04966863138273},{"$f":"beta_1(X207,AD207,Z207)","v":0.93848056074268005},{"$f":"beta_1(Y207,AE207,Z207)","v":0},{"$f":"k_tHole(W207,U207)","v":2.512},{"$f":"K_t1Mu(Z207,AH207,D207,W207,U207,SIGN(X207),mu_millScale)","v":4.1054552755304341},{"$f":"K_t1Mu(Z207,AI207,D207,W207,U207,SIGN(Y207),mu_millScale)","v":1.8668230258506979},{"$f":"Sigma_hMax(AK207,X207,AF207)","v":543.5280663939418},{"$f":"Sigma_hMin(X207,Y207,AG207,AE207,AK207,AL207,AJ207,AI207,Z207,IF(L207=1,mu_redLead,mu_millScale))","v":-14.715815742711305},558.24388213665316,-2.7074619789818694E-2,176.19376600075381,{"$f":"tau_n(N207,W207,U207,D207)","v":116.25230602122294},{"$f":"tau_hMax(X207,Z207,AH207,W207,U207)","v":112.08463280132827},{"$f":"tau_hMin(X207,Y207,AS207,AE207,Z207,AI207,IF(L207=1,mu_redLead,mu_millScale),W207,U207)","v":7.44500948413737},104.6396233171909]
[196,"Maljaars2019","R; S",2,1,11.5,57.5,null,7.5,10,80,1,400,130,0,1500000,1,"P1F1",null,196,0.65217391304347827,0.65714285714285714,0.2,130,0,{"$f":"IF(OR(X208>=1.6*D208*AD208,D208=1),calcLoadFraction(G208,F208,I208,J208,K208,D208,1),\"Condition for spring model not fulfilled\")","v":0.51367593483224683},{"$f":"IF(L208>2,L208,IF(L208=2,1,sigma_cl0(I208+J208)))","v":133.48852782757527},{"$f":"Sigma_cl(AA208,U208,V208,X208)","v":123.24451966743619},{"$f":"Sigma_cl(AA208,U208,V208,Y208)","v":133.48852782757527},{"$f":"sigma_Slip(AB208,W208,U208,IF(L208=1,mu_redLead,mu_millScale))","v":4.4526169012830961},{"$f":"sigma_Slip(AC208,W208,U208,IF(L208=1,mu_redLead,mu_millScale))","v":4.822715660999136},{"$f":"Sigma_p(AB208,V208)","v":-31.436671926823507},{"$f":"Sigma_p(AC208,V208)","v":-34.04966863138273},{"$f":"beta_1(X208,AD208,Z208)","v":0.93332197029665276},{"$f":"beta_1(Y208,AE208,Z208)","v":0},{"$f":"k_tHole(W208,U208)","v":2.512},{"$f":"K_t1Mu(Z208,AH208,D208,W208,U208,SIGN(X208),mu_millScale)","v":4.1026159675306655},{"$f":"K_t1Mu(Z208,AI208,D208,W208,U208,SIGN(Y208),mu_millScale)","v":1.8668230258506979},{"$f":"Sigma_hMax(AK208,X208,AF208)","v":501.90340385216302},{"$f":"Sigma_hMin(X208,Y208,AG208,AE208,AK208,AL208,AJ208,AI208,Z208,IF(L208=1,mu_redLead,mu_millScale))","v":-14.805739495312753},516.70914334747579,-2.9499181280057275E-2,163.04701563226092,{"$f":"tau_n(N208,W208,U208,D208)","v":107.94856987684987},{"$f":"tau_hMax(X208,Z208,AH208,W208,U208)","v":103.50649391054378},{"$f":"tau_hMin(X208,Y208,AS208,AE208,Z208,AI208,IF(L208=1,mu_redLead,mu_millScale),W208,U208)","v":7.358260688316526},96.148233222227262]
[197,"Maljaars2019","R; S",2,1,11.5,57.5,null,7.5,10,80,1,400,130,0,1600000,1,"P1F1",null,197,0.65217391304347827,0.65714285714285714,0.2,130,0,{"$f":"IF(OR(X209>=1.6*D209*AD209,D209=1),calcLoadFraction(G209,F209,I209,J209,K209,D209,1),\"Condition for spring model not fulfilled\")","v":0.51367593483224683},{"$f":"IF(L209>2,L209,IF(L209=2,1,sigma_cl0(I209+J209)))","v":133.48852782757527},{"$f":"Sigma_cl(AA209,U209,V209,X209)","v":123.24451966743619},{"$f":"Sigma_cl(AA209,U209,V209,Y209)","v":133.48852782757527},{"$f":"sigma_Slip(AB209,W209,U209,IF(L209=1,mu_redLead,mu_millScale))","v":4.4526169012830961},{"$f":"sigma_Slip(AC209,W209,U209,IF(L209=1,mu_redLead,mu_millScale))","v":4.822715660999136},{"$f":"Sigma_p(AB209,V209)","v":-31.436671926823507},{"$f":"Sigma_p(AC209,V209)","v":-34.04966863138273},{"$f":"beta_1(X209,AD209,Z209)","v":0.93332197029665276},{"$f":"beta_1(Y209,AE209,Z209)","v":0},{"$f":"k_tHole(W209,U209)","v":2.512},{"$f":"K_t1Mu(Z209,AH209,D209,W209,U209,SIGN(X209),mu_millScale)","v":4.1026159675306655},{"$f":"K_t1Mu(Z209,AI209,D209,W209,U209,SIGN(Y209),mu_millScale)","v":1.8668230258506979},{"$f":"Sigma_hMax(AK209,X209,AF209)","v":501.90340385216302},{"$f":"Sigma_hMin(X209,Y209,AG209,AE209,AK209,AL209,AJ209,AI209,Z209,IF(L209=1,mu_redLead,mu_millScale))","v":-14.805739495312753},516.70914334747579,-2.9499181280057275E-2,163.04701563226092,{"$f":"tau_n(N209,W209,U209,D209)","v":107.94856987684987},{"$f":"tau_hMax(X209,Z209,AH209,W209,U209)","v":103.50649391054378},{"$f":"tau_hMin(X209,Y209,AS209,AE209,Z209,AI209,IF(L209=1,mu_redLead,mu_millScale),W209,U209)","v":7.358260688316526},96.148233222227262]
[198,"Maljaars2019","R; S",2,1,11.5,57.5,null,7.5,10,80,1,400,130,0,1700000,1,"P1F1",null,198,0.65217391304347827,0.65714285714285714,0.2,130,0,{"$f":"IF(OR(X210>=1.6*D210*AD210,D210=1),calcLoadFraction(G210,F210,I210,J210,K210,D210,1),\"Condition for spring model not fulfilled\")","v":0.51367593483224683},{"$f":"IF(L210>2,L210,IF(L210=2,1,sigma_cl0(I210+J210)))","v":133.48852782757527},{"$f":"Sigma_cl(AA210,U210,V210,X210)","v":123.24451966743619},{"$f":"Sigma_cl(AA210,U210,V210,Y210)","v":133.48852782757527},{"$f":"sigma_Slip(AB210,W210,U210,IF(L210=1,mu_redLead,mu_millScale))","v":4.4526169012830961},{"$f":"sigma_Slip(AC210,W210,U210,IF(L210=1,mu_redLead,mu_millScale))","v":4.822715660999136},{"$f":"Sigma_p(AB210,V210)","v":-31.436671926823507},{"$f":"Sigma_p(AC210,V210)","v":-34.04966863138273},{"$f":"beta_1(X210,AD210,Z210)","v":0.93332197029665276},{"$f":"beta_1(Y210,AE210,Z210)","v":0},{"$f":"k_tHole(W210,U210)","v":2.512},{"$f":"K_t1Mu(Z210,AH210,D210,W210,U210,SIGN(X210),mu_millScale)","v":4.1026159675306655},{"$f":"K_t1Mu(Z210,AI210,D210,W210,U210,SIGN(Y210),mu_millScale)","v":1.8668230258506979},{"$f":"Sigma_hMax(AK210,X210,AF210)","v":501.90340385216302},{"$f":"Sigma_hMin(X210,Y210,AG210,AE210,AK210,AL210,AJ210,AI210,Z210,IF(L210=1,mu_redLead,mu_millScale))","v":-14.805739495312753},516.70914334747579,-2.9499181280057275E-2,163.04701563226092,{"$f":"tau_n(N210,W210,U210,D210)","v":107.94856987684987},{"$f":"tau_hMax(X210,Z210,AH210,W210,U210)","v":103.50649391054378},{"$f":"tau_hMin(X210,Y210,AS210,AE210,Z210,AI210,IF(L210=1,mu_redLead,mu_millScale),W210,U210)","v":7.358260688316526},96.148233222227262]
[199,"Maljaars2019","R; S",2,1,11.5,57.5,null,7.5,10,80,1,400,120,0,1500000,1,"P1F1",null,199,0.65217391304347827,0.65714285714285714,0.2,120,0,{"$f":"IF(OR(X211>=1.6*D211*AD211,D211=1),calcLoadFraction(G211,F211,I211,J211,K211,D211,1),\"Condition for spring model not fulfilled\")","v":0.51367593483224683},{"$f":"IF(L211>2,L211,IF(L211=2,1,sigma_cl0(I211+J211)))","v":133.48852782757527},{"$f":"Sigma_cl(AA211,U211,V211,X211)","v":124.03252029513921},{"$f":"Sigma_cl(AA211,U211,V211,Y211)","v":133.48852782757527},{"$f":"sigma_Slip(AB211,W211,U211,IF(L211=1,mu_redLead,mu_millScale))","v":4.4810860366458689},{"$f":"sigma_Slip(AC211,W211,U211,IF(L211=1,mu_redLead,mu_millScale))","v":4.822715660999136},{"$f":"Sigma_p(AB211,V211)","v":-31.637671673328065},{"$f":"Sigma_p(AC211,V211)","v":-34.04966863138273},{"$f":"beta_1(X211,AD211,Z211)","v":0.92730361477628764},{"$f":"beta_1(Y211,AE211,Z211)","v":0},{"$f":"k_tHole(W211,U211)","v":2.512},{"$f":"K_t1Mu(Z211,AH211,D211,W211,U211,SIGN(X211),mu_millScale)","v":4.0990305195844359},{"$f":"K_t1Mu(Z211,AI211,D211,W211,U211,SIGN(Y211),mu_millScale)","v":1.8668230258506979},{"$f":"Sigma_hMax(AK211,X211,AF211)","v":460.24599067680424},{"$f":"Sigma_hMin(X211,Y211,AG211,AE211,AK211,AL211,AJ211,AI211,Z211,IF(L211=1,mu_redLead,mu_millScale))","v":-14.911635101481737},475.15762577828599,-3.2399272136089168E-2,149.89445008485376,{"$f":"tau_n(N211,W211,U211,D211)","v":99.644833732476798},{"$f":"tau_hMax(X211,Z211,AH211,W211,U211)","v":94.928355019759294},{"$f":"tau_hMin(X211,Y211,AS211,AE211,Z211,AI211,IF(L211=1,mu_redLead,mu_millScale),W211,U211)","v":7.2591895470769243},87.669165472682366]
[200,"Maljaars2019","R; S",2,1,11.5,57.5,null,7.5,10,80,1,400,120,0,1600000,1,"P1F1",null,200,0.65217391304347827,0.65714285714285714,0.2,120,0,{"$f":"IF(OR(X212>=1.6*D212*AD212,D212=1),calcLoadFraction(G212,F212,I212,J212,K212,D212,1),\"Condition for spring model not fulfilled\")","v":0.51367593483224683},{"$f":"IF(L212>2,L212,IF(L212=2,1,sigma_cl0(I212+J212)))","v":133.48852782757527},{"$f":"Sigma_cl(AA212,U212,V212,X212)","v":124.03252029513921},{"$f":"Sigma_cl(AA212,U212,V212,Y212)","v":133.48852782757527},{"$f":"sigma_Slip(AB212,W212,U212,IF(L212=1,mu_redLead,mu_millScale))","v":4.4810860366458689},{"$f":"sigma_Slip(AC212,W212,U212,IF(L212=1,mu_redLead,mu_millScale))","v":4.822715660999136},{"$f":"Sigma_p(AB212,V212)","v":-31.637671673328065},{"$f":"Sigma_p(AC212,V212)","v":-34.04966863138273},{"$f":"beta_1(X212,AD212,Z212)","v":0.92730361477628764},{"$f":"beta_1(Y212,AE212,Z212)","v":0},{"$f":"k_tHole(W212,U212)","v":2.512},{"$f":"K_t1Mu(Z212,AH212,D212,W212,U212,SIGN(X212),mu_millScale)","v":4.0990305195844359},{"$f":"K_t1Mu(Z212,AI212,D212,W212,U212,SIGN(Y212),mu_millScale)","v":1.8668230258506979},{"$f":"Sigma_hMax(AK212,X212,AF212)","v":460.24599067680424},{"$f":"Sigma_hMin(X212,Y212,AG212,AE212,AK212,AL212,AJ212,AI212,Z212,IF(L212=1,mu_redLead,mu_millScale))","v":-14.911635101481737},475.15762577828599,-3.2399272136089168E-2,149.89445008485376,{"$f":"tau_n(N212,W212,U212,D212)","v":99.644833732476798},{"$f":"tau_hMax(X212,Z212,AH212,W212,U212)","v":94.928355019759294},{"$f":"tau_hMin(X212,Y212,AS212,AE212,Z212,AI212,IF(L212=1,mu_redLead,mu_millScale),W212,U212)","v":7.2591895470769243},87.669165472682366]
[201,"Maljaars2019","R; S",2,1,11.5,57.5,null,7.5,10,80,1,400,120,0,1700000,1,"P1F1",null,201,0.65217391304347827,0.65714285714285714,0.2,120,0,{"$f":"IF(OR(X213>=1.6*D213*AD213,D213=1),calcLoadFraction(G213,F213,I213,J213,K213,D213,1),\"Condition for spring model not fulfilled\")","v":0.51367593483224683},{"$f":"IF(L213>2,L213,IF(L213=2,1,sigma_cl0(I213+J213)))","v":133.48852782757527},{"$f":"Sigma_cl(AA213,U213,V213,X213)","v":124.03252029513921},{"$f":"Sigma_cl(AA213,U213,V213,Y213)","v":133.48852782757527},{"$f":"sigma_Slip(AB213,W213,U213,IF(L213=1,mu_redLead,mu_millScale))","v":4.4810860366458689},{"$f":"sigma_Slip(AC213,W213,U213,IF(L213=1,mu_redLead,mu_millScale))","v":4.822715660999136},{"$f":"Sigma_p(AB213,V213)","v":-31.637671673328065},{"$f":"Sigma_p(AC213,V213)","v":-34.04966863138273},{"$f":"beta_1(X213,AD213,Z213)","v":0.92730361477628764},{"$f":"beta_1(Y213,AE213,Z213)","v":0},{"$f":"k_tHole(W213,U213)","v":2.512},{"$f":"K_t1Mu(Z213,AH213,D213,W213,U213,SIGN(X213),mu_millScale)","v":4.0990305195844359},{"$f":"K_t1Mu(Z213,AI213,D213,W213,U213,SIGN(Y213),mu_millScale)","v":1.8668230258506979},{"$f":"Sigma_hMax(AK213,X213,AF213)","v":460.24599067680424},{"$f":"Sigma_hMin(X213,Y213,AG213,AE213,AK213,AL213,AJ213,AI213,Z213,IF(L213=1,mu_redLead,mu_millScale))","v":-14.911635101481737},475.15762577828599,-3.2399272136089168E-2,149.89445008485376,{"$f":"tau_n(N213,W213,U213,D213)","v":99.644833732476798},{"$f":"tau_hMax(X213,Z213,AH213,W213,U213)","v":94.928355019759294},{"$f":"tau_hMin(X213,Y213,AS213,AE213,Z213,AI213,IF(L213=1,mu_redLead,mu_millScale),W213,U213)","v":7.2591895470769243},87.669165472682366]
[202,"Maljaars2019","R; S",2,1,11.5,57.5,null,7.5,10,80,1,400,120,0,1800000,1,"P1F1",null,202,0.65217391304347827,0.65714285714285714,0.2,120,0,{"$f":"IF(OR(X214>=1.6*D214*AD214,D214=1),calcLoadFraction(G214,F214,I214,J214,K214,D214,1),\"Condition for spring model not fulfilled\")","v":0.51367593483224683},{"$f":"IF(L214>2,L214,IF(L214=2,1,sigma_cl0(I214+J214)))","v":133.48852782757527},{"$f":"Sigma_cl(AA214,U214,V214,X214)","v":124.03252029513921},{"$f":"Sigma_cl(AA214,U214,V214,Y214)","v":133.48852782757527},{"$f":"sigma_Slip(AB214,W214,U214,IF(L214=1,mu_redLead,mu_millScale))","v":4.4810860366458689},{"$f":"sigma_Slip(AC214,W214,U214,IF(L214=1,mu_redLead,mu_millScale))","v":4.822715660999136},{"$f":"Sigma_p(AB214,V214)","v":-31.637671673328065},{"$f":"Sigma_p(AC214,V214)","v":-34.04966863138273},{"$f":"beta_1(X214,AD214,Z214)","v":0.92730361477628764},{"$f":"beta_1(Y214,AE214,Z214)","v":0},{"$f":"k_tHole(W214,U214)","v":2.512},{"$f":"K_t1Mu(Z214,AH214,D214,W214,U214,SIGN(X214),mu_millScale)","v":4.0990305195844359},{"$f":"K_t1Mu(Z214,AI214,D214,W214,U214,SIGN(Y214),mu_millScale)","v":1.8668230258506979},{"$f":"Sigma_hMax(AK214,X214,AF214)","v":460.24599067680424},{"$f":"Sigma_hMin(X214,Y214,AG214,AE214,AK214,AL214,AJ214,AI214,Z214,IF(L214=1,mu_redLead,mu_millScale))","v":-14.911635101481737},475.15762577828599,-3.2399272136089168E-2,149.89445008485376,{"$f":"tau_n(N214,W214,U214,D214)","v":99.644833732476798},{"$f":"tau_hMax(X214,Z214,AH214,W214,U214)","v":94.928355019759294},{"$f":"tau_hMin(X214,Y214,AS214,AE214,Z214,AI214,IF(L214=1,mu_redLead,mu_millScale),W214,U214)","v":7.2591895470769243},87.669165472682366]
[203,"Maljaars2019","R; S",2,1,11.5,57.5,null,7.5,10,80,1,400,120,0,1900000,1,"P1F1",null,203,0.65217391304347827,0.65714285714285714,0.2,120,0,{"$f":"IF(OR(X215>=1.6*D215*AD215,D215=1),calcLoadFraction(G215,F215,I215,J215,K215,D215,1),\"Condition for spring model not fulfilled\")","v":0.51367593483224683},{"$f":"IF(L215>2,L215,IF(L215=2,1,sigma_cl0(I215+J215)))","v":133.48852782757527},{"$f":"Sigma_cl(AA215,U215,V215,X215)","v":124.03252029513921},{"$f":"Sigma_cl(AA215,U215,V215,Y215)","v":133.48852782757527},{"$f":"sigma_Slip(AB215,W215,U215,IF(L215=1,mu_redLead,mu_millScale))","v":4.4810860366458689},{"$f":"sigma_Slip(AC215,W215,U215,IF(L215=1,mu_redLead,mu_millScale))","v":4.822715660999136},{"$f":"Sigma_p(AB215,V215)","v":-31.637671673328065},{"$f":"Sigma_p(AC215,V215)","v":-34.04966863138273},{"$f":"beta_1(X215,AD215,Z215)","v":0.92730361477628764},{"$f":"beta_1(Y215,AE215,Z215)","v":0},{"$f":"k_tHole(W215,U215)","v":2.512},{"$f":"K_t1Mu(Z215,AH215,D215,W215,U215,SIGN(X215),mu_millScale)","v":4.0990305195844359},{"$f":"K_t1Mu(Z215,AI215,D215,W215,U215,SIGN(Y215),mu_millScale)","v":1.8668230258506979},{"$f":"Sigma_hMax(AK215,X215,AF215)","v":460.24599067680424},{"$f":"Sigma_hMin(X215,Y215,AG215,AE215,AK215,AL215,AJ215,AI215,Z215,IF(L215=1,mu_redLead,mu_millScale))","v":-14.911635101481737},475.15762577828599,-3.2399272136089168E-2,149.89445008485376,{"$f":"tau_n(N215,W215,U215,D215)","v":99.644833732476798},{"$f":"tau_hMax(X215,Z215,AH215,W215,U215)","v":94.928355019759294},{"$f":"tau_hMin(X215,Y215,AS215,AE215,Z215,AI215,IF(L215=1,mu_redLead,mu_millScale),W215,U215)","v":7.2591895470769243},87.669165472682366]
[204,"Maljaars2019","R; S",2,1,11.5,57.5,null,7.5,10,80,1,400,120,0,2000000,1,"P1F1",null,204,0.65217391304347827,0.65714285714285714,0.2,120,0,{"$f":"IF(OR(X216>=1.6*D216*AD216,D216=1),calcLoadFraction(G216,F216,I216,J216,K216,D216,1),\"Condition for spring model not fulfilled\")","v":0.51367593483224683},{"$f":"IF(L216>2,L216,IF(L216=2,1,sigma_cl0(I216+J216)))","v":133.48852782757527},{"$f":"Sigma_cl(AA216,U216,V216,X216)","v":124.03252029513921},{"$f":"Sigma_cl(AA216,U216,V216,Y216)","v":133.48852782757527},{"$f":"sigma_Slip(AB216,W216,U216,IF(L216=1,mu_redLead,mu_millScale))","v":4.4810860366458689},{"$f":"sigma_Slip(AC216,W216,U216,IF(L216=1,mu_redLead,mu_millScale))","v":4.822715660999136},{"$f":"Sigma_p(AB216,V216)","v":-31.637671673328065},{"$f":"Sigma_p(AC216,V216)","v":-34.04966863138273},{"$f":"beta_1(X216,AD216,Z216)","v":0.92730361477628764},{"$f":"beta_1(Y216,AE216,Z216)","v":0},{"$f":"k_tHole(W216,U216)","v":2.512},{"$f":"K_t1Mu(Z216,AH216,D216,W216,U216,SIGN(X216),mu_millScale)","v":4.0990305195844359},{"$f":"K_t1Mu(Z216,AI216,D216,W216,U216,SIGN(Y216),mu_millScale)","v":1.8668230258506979},{"$f":"Sigma_hMax(AK216,X216,AF216)","v":460.24599067680424},{"$f":"Sigma_hMin(X216,Y216,AG216,AE216,AK216,AL216,AJ216,AI216,Z216,IF(L216=1,mu_redLead,mu_millScale))","v":-14.911635101481737},475.15762577828599,-3.2399272136089168E-2,149.89445008485376,{"$f":"tau_n(N216,W216,U216,D216)","v":99.644833732476798},{"$f":"tau_hMax(X216,Z216,AH216,W216,U216)","v":94.928355019759294},{"$f":"tau_hMin(X216,Y216,AS216,AE216,Z216,AI216,IF(L216=1,mu_redLead,mu_millScale),W216,U216)","v":7.2591895470769243},87.669165472682366]
[205,"Maljaars2019","R; S",2,1,11.5,57.5,null,7.5,10,80,1,400,110,0,1800000,1,"P1F1",null,205,0.65217391304347827,0.65714285714285714,0.2,110,0,{"$f":"IF(OR(X217>=1.6*D217*AD217,D217=1),calcLoadFraction(G217,F217,I217,J217,K217,D217,1),\"Condition for spring model not fulfilled\")","v":0.51367593483224683},{"$f":"IF(L217>2,L217,IF(L217=2,1,sigma_cl0(I217+J217)))","v":133.48852782757527},{"$f":"Sigma_cl(AA217,U217,V217,X217)","v":124.82052092284221},{"$f":"Sigma_cl(AA217,U217,V217,Y217)","v":133.48852782757527},{"$f":"sigma_Slip(AB217,W217,U217,IF(L217=1,mu_redLead,mu_millScale))","v":4.5095551720086409},{"$f":"sigma_Slip(AC217,W217,U217,IF(L217=1,mu_redLead,mu_millScale))","v":4.822715660999136},{"$f":"Sigma_p(AB217,V217)","v":-31.838671419832618},{"$f":"Sigma_p(AC217,V217)","v":-34.04966863138273},{"$f":"beta_1(X217,AD217,Z217)","v":0.92019101279767435},{"$f":"beta_1(Y217,AE217,Z217)","v":0},{"$f":"k_tHole(W217,U217)","v":2.512},{"$f":"K_t1Mu(Z217,AH217,D217,W217,U217,SIGN(X217),mu_millScale)","v":4.094418091258702},{"$f":"K_t1Mu(Z217,AI217,D217,W217,U217,SIGN(Y217),mu_millScale)","v":1.8668230258506979},{"$f":"Sigma_hMax(AK217,X217,AF217)","v":418.54731861862462},{"$f":"Sigma_hMin(X217,Y217,AG217,AE217,AK217,AL217,AJ217,AI217,Z217,IF(L217=1,mu_redLead,mu_millScale))","v":-15.038108332250212},433.58542695087482,-3.5929290819212631E-2,136.73468864482589,{"$f":"tau_n(N217,W217,U217,D217)","v":91.341097588103736},{"$f":"tau_hMax(X217,Z217,AH217,W217,U217)","v":86.350216128974822},{"$f":"tau_hMin(X217,Y217,AS217,AE217,Z217,AI217,IF(L217=1,mu_redLead,mu_millScale),W217,U217)","v":7.1448002558708055},79.205415873104016]
[206,"Maljaars2019","R; S",2,1,11.5,57.5,null,7.5,10,80,1,400,110,0,2000000,1,"P1F1",null,206,0.65217391304347827,0.65714285714285714,0.2,110,0,{"$f":"IF(OR(X218>=1.6*D218*AD218,D218=1),calcLoadFraction(G218,F218,I218,J218,K218,D218,1),\"Condition for spring model not fulfilled\")","v":0.51367593483224683},{"$f":"IF(L218>2,L218,IF(L218=2,1,sigma_cl0(I218+J218)))","v":133.48852782757527},{"$f":"Sigma_cl(AA218,U218,V218,X218)","v":124.82052092284221},{"$f":"Sigma_cl(AA218,U218,V218,Y218)","v":133.48852782757527},{"$f":"sigma_Slip(AB218,W218,U218,IF(L218=1,mu_redLead,mu_millScale))","v":4.5095551720086409},{"$f":"sigma_Slip(AC218,W218,U218,IF(L218=1,mu_redLead,mu_millScale))","v":4.822715660999136},{"$f":"Sigma_p(AB218,V218)","v":-31.838671419832618},{"$f":"Sigma_p(AC218,V218)","v":-34.04966863138273},{"$f":"beta_1(X218,AD218,Z218)","v":0.92019101279767435},{"$f":"beta_1(Y218,AE218,Z218)","v":0},{"$f":"k_tHole(W218,U218)","v":2.512},{"$f":"K_t1Mu(Z218,AH218,D218,W218,U218,SIGN(X218),mu_millScale)","v":4.094418091258702},{"$f":"K_t1Mu(Z218,AI218,D218,W218,U218,SIGN(Y218),mu_millScale)","v":1.8668230258506979},{"$f":"Sigma_hMax(AK218,X218,AF218)","v":418.54731861862462},{"$f":"Sigma_hMin(X218,Y218,AG218,AE218,AK218,AL218,AJ218,AI218,Z218,IF(L218=1,mu_redLead,mu_millScale))","v":-15.038108332250212},433.58542695087482,-3.5929290819212631E-2,136.73468864482589,{"$f":"tau_n(N218,W218,U218,D218)","v":91.341097588103736},{"$f":"tau_hMax(X218,Z218,AH218,W218,U218)","v":86.350216128974822},{"$f":"tau_hMin(X218,Y218,AS218,AE218,Z218,AI218,IF(L218=1,mu_redLead,mu_millScale),W218,U218)","v":7.1448002558708055},79.205415873104016]
[207,"Maljaars2019","R; S",2,1,11.5,57.5,null,7.5,10,80,1,400,100,0,1900000,1,"P1F1",null,207,0.65217391304347827,0.65714285714285714,0.2,100,0,{"$f":"IF(OR(X219>=1.6*D219*AD219,D219=1),calcLoadFraction(G219,F219,I219,J219,K219,D219,1),\"Condition for spring model not fulfilled\")","v":0.51367593483224683},{"$f":"IF(L219>2,L219,IF(L219=2,1,sigma_cl0(I219+J219)))","v":133.48852782757527},{"$f":"Sigma_cl(AA219,U219,V219,X219)","v":125.60852155054522},{"$f":"Sigma_cl(AA219,U219,V219,Y219)","v":133.48852782757527},{"$f":"sigma_Slip(AB219,W219,U219,IF(L219=1,mu_redLead,mu_millScale))","v":4.5380243073714137},{"$f":"sigma_Slip(AC219,W219,U219,IF(L219=1,mu_redLead,mu_millScale))","v":4.822715660999136},{"$f":"Sigma_p(AB219,V219)","v":-32.039671166337172},{"$f":"Sigma_p(AC219,V219)","v":-34.04966863138273},{"$f":"beta_1(X219,AD219,Z219)","v":0.91165589042333828},{"$f":"beta_1(Y219,AE219,Z219)","v":0},{"$f":"k_tHole(W219,U219)","v":2.512},{"$f":"K_t1Mu(Z219,AH219,D219,W219,U219,SIGN(X219),mu_millScale)","v":4.0883533374138734},{"$f":"K_t1Mu(Z219,AI219,D219,W219,U219,SIGN(Y219),mu_millScale)","v":1.8668230258506979},{"$f":"Sigma_hMax(AK219,X219,AF219)","v":376.79566257505019},{"$f":"Sigma_hMin(X219,Y219,AG219,AE219,AK219,AL219,AJ219,AI219,Z219,IF(L219=1,mu_redLead,mu_millScale))","v":-15.191697688321803},391.98736026337201,-4.0318133134815262E-2,123.56588306789233,{"$f":"tau_n(N219,W219,U219,D219)","v":83.037361443730674},{"$f":"tau_hMax(X219,Z219,AH219,W219,U219)","v":77.772077238190334},{"$f":"tau_hMin(X219,Y219,AS219,AE219,Z219,AI219,IF(L219=1,mu_redLead,mu_millScale),W219,U219)","v":7.0110220024104386},70.761055235779892]
[208,"Maljaars2019","R; S",2,1,11.5,57.5,null,7.5,10,80,1,400,130,0,2120000,0,"P1F1",null,208,0.65217391304347827,0.65714285714285714,0.2,130,0,{"$f":"IF(OR(X220>=1.6*D220*AD220,D220=1),calcLoadFraction(G220,F220,I220,J220,K220,D220,1),\"Condition for spring model not fulfilled\")","v":0.51367593483224683},{"$f":"IF(L220>2,L220,IF(L220=2,1,sigma_cl0(I220+J220)))","v":133.48852782757527},{"$f":"Sigma_cl(AA220,U220,V220,X220)","v":123.24451966743619},{"$f":"Sigma_cl(AA220,U220,V220,Y220)","v":133.48852782757527},{"$f":"sigma_Slip(AB220,W220,U220,IF(L220=1,mu_redLead,mu_millScale))","v":4.4526169012830961},{"$f":"sigma_Slip(AC220,W220,U220,IF(L220=1,mu_redLead,mu_millScale))","v":4.822715660999136},{"$f":"Sigma_p(AB220,V220)","v":-31.436671926823507},{"$f":"Sigma_p(AC220,V220)","v":-34.04966863138273},{"$f":"beta_1(X220,AD220,Z220)","v":0.93332197029665276},{"$f":"beta_1(Y220,AE220,Z220)","v":0},{"$f":"k_tHole(W220,U220)","v":2.512},{"$f":"K_t1Mu(Z220,AH220,D220,W220,U220,SIGN(X220),mu_millScale)","v":4.1026159675306655},{"$f":"K_t1Mu(Z220,AI220,D220,W220,U220,SIGN(Y220),mu_millScale)","v":1.8668230258506979},{"$f":"Sigma_hMax(AK220,X220,AF220)","v":501.90340385216302},{"$f":"Sigma_hMin(X220,Y220,AG220,AE220,AK220,AL220,AJ220,AI220,Z220,IF(L220=1,mu_redLead,mu_millScale))","v":-14.805739495312753},516.70914334747579,-2.9499181280057275E-2,163.04701563226092,{"$f":"tau_n(N220,W220,U220,D220)","v":107.94856987684987},{"$f":"tau_hMax(X220,Z220,AH220,W220,U220)","v":103.50649391054378},{"$f":"tau_hMin(X220,Y220,AS220,AE220,Z220,AI220,IF(L220=1,mu_redLead,mu_millScale),W220,U220)","v":7.358260688316526},96.148233222227262]
[209,"Maljaars2019","R; S",2,1,11.5,57.5,null,7.5,10,80,1,400,120,0,2200000,0,"P1F1",null,209,0.65217391304347827,0.65714285714285714,0.2,120,0,{"$f":"IF(OR(X221>=1.6*D221*AD221,D221=1),calcLoadFraction(G221,F221,I221,J221,K221,D221,1),\"Condition for spring model not fulfilled\")","v":0.51367593483224683},{"$f":"IF(L221>2,L221,IF(L221=2,1,sigma_cl0(I221+J221)))","v":133.48852782757527},{"$f":"Sigma_cl(AA221,U221,V221,X221)","v":124.03252029513921},{"$f":"Sigma_cl(AA221,U221,V221,Y221)","v":133.48852782757527},{"$f":"sigma_Slip(AB221,W221,U221,IF(L221=1,mu_redLead,mu_millScale))","v":4.4810860366458689},{"$f":"sigma_Slip(AC221,W221,U221,IF(L221=1,mu_redLead,mu_millScale))","v":4.822715660999136},{"$f":"Sigma_p(AB221,V221)","v":-31.637671673328065},{"$f":"Sigma_p(AC221,V221)","v":-34.04966863138273},{"$f":"beta_1(X221,AD221,Z221)","v":0.92730361477628764},{"$f":"beta_1(Y221,AE221,Z221)","v":0},{"$f":"k_tHole(W221,U221)","v":2.512},{"$f":"K_t1Mu(Z221,AH221,D221,W221,U221,SIGN(X221),mu_millScale)","v":4.0990305195844359},{"$f":"K_t1Mu(Z221,AI221,D221,W221,U221,SIGN(Y221),mu_millScale)","v":1.8668230258506979},{"$f":"Sigma_hMax(AK221,X221,AF221)","v":460.24599067680424},{"$f":"Sigma_hMin(X221,Y221,AG221,AE221,AK221,AL221,AJ221,AI221,Z221,IF(L221=1,mu_redLead,mu_millScale))","v":-14.911635101481737},475.15762577828599,-3.2399272136089168E-2,149.89445008485376,{"$f":"tau_n(N221,W221,U221,D221)","v":99.644833732476798},{"$f":"tau_hMax(X221,Z221,AH221,W221,U221)","v":94.928355019759294},{"$f":"tau_hMin(X221,Y221,AS221,AE221,Z221,AI221,IF(L221=1,mu_redLead,mu_millScale),W221,U221)","v":7.2591895470769243},87.669165472682366]
[210,"Maljaars2019","R; S",2,1,11.5,57.5,null,7.5,10,80,1,400,120,0,2500000,0,"P1F1",null,210,0.65217391304347827,0.65714285714285714,0.2,120,0,{"$f":"IF(OR(X222>=1.6*D222*AD222,D222=1),calcLoadFraction(G222,F222,I222,J222,K222,D222,1),\"Condition for spring model not fulfilled\")","v":0.51367593483224683},{"$f":"IF(L222>2,L222,IF(L222=2,1,sigma_cl0(I222+J222)))","v":133.48852782757527},{"$f":"Sigma_cl(AA222,U222,V222,X222)","v":124.03252029513921},{"$f":"Sigma_cl(AA222,U222,V222,Y222)","v":133.48852782757527},{"$f":"sigma_Slip(AB222,W222,U222,IF(L222=1,mu_redLead,mu_millScale))","v":4.4810860366458689},{"$f":"sigma_Slip(AC222,W222,U222,IF(L222=1,mu_redLead,mu_millScale))","v":4.822715660999136},{"$f":"Sigma_p(AB222,V222)","v":-31.637671673328065},{"$f":"Sigma_p(AC222,V222)","v":-34.04966863138273},{"$f":"beta_1(X222,AD222,Z222)","v":0.92730361477628764},{"$f":"beta_1(Y222,AE222,Z222)","v":0},{"$f":"k_tHole(W222,U222)","v":2.512},{"$f":"K_t1Mu(Z222,AH222,D222,W222,U222,SIGN(X222),mu_millScale)","v":4.0990305195844359},{"$f":"K_t1Mu(Z222,AI222,D222,W222,U222,SIGN(Y222),mu_millScale)","v":1.8668230258506979},{"$f":"Sigma_hMax(AK222,X222,AF222)","v":460.24599067680424},{"$f":"Sigma_hMin(X222,Y222,AG222,AE222,AK222,AL222,AJ222,AI222,Z222,IF(L222=1,mu_redLead,mu_millScale))","v":-14.911635101481737},475.15762577828599,-3.2399272136089168E-2,149.89445008485376,{"$f":"tau_n(N222,W222,U222,D222)","v":99.644833732476798},{"$f":"tau_hMax(X222,Z222,AH222,W222,U222)","v":94.928355019759294},{"$f":"tau_hMin(X222,Y222,AS222,AE222,Z222,AI222,IF(L222=1,mu_redLead,mu_millScale),W222,U222)","v":7.2591895470769243},87.669165472682366]
[211,"Maljaars2019","R; S",2,1,11.5,57.5,null,7.5,10,80,1,400,110,0,2200000,0,"P1F1",null,211,0.65217391304347827,0.65714285714285714,0.2,110,0,{"$f":"IF(OR(X223>=1.6*D223*AD223,D223=1),calcLoadFraction(G223,F223,I223,J223,K223,D223,1),\"Condition for spring model not fulfilled\")","v":0.51367593483224683},{"$f":"IF(L223>2,L223,IF(L223=2,1,sigma_cl0(I223+J223)))","v":133.48852782757527},{"$f":"Sigma_cl(AA223,U223,V223,X223)","v":124.82052092284221},{"$f":"Sigma_cl(AA223,U223,V223,Y223)","v":133.48852782757527},{"$f":"sigma_Slip(AB223,W223,U223,IF(L223=1,mu_redLead,mu_millScale))","v":4.5095551720086409},{"$f":"sigma_Slip(AC223,W223,U223,IF(L223=1,mu_redLead,mu_millScale))","v":4.822715660999136},{"$f":"Sigma_p(AB223,V223)","v":-31.838671419832618},{"$f":"Sigma_p(AC223,V223)","v":-34.04966863138273},{"$f":"beta_1(X223,AD223,Z223)","v":0.92019101279767435},{"$f":"beta_1(Y223,AE223,Z223)","v":0},{"$f":"k_tHole(W223,U223)","v":2.512},{"$f":"K_t1Mu(Z223,AH223,D223,W223,U223,SIGN(X223),mu_millScale)","v":4.094418091258702},{"$f":"K_t1Mu(Z223,AI223,D223,W223,U223,SIGN(Y223),mu_millScale)","v":1.8668230258506979},{"$f":"Sigma_hMax(AK223,X223,AF223)","v":418.54731861862462},{"$f":"Sigma_hMin(X223,Y223,AG223,AE223,AK223,AL223,AJ223,AI223,Z223,IF(L223=1,mu_redLead,mu_millScale))","v":-15.038108332250212},433.58542695087482,-3.5929290819212631E-2,136.73468864482589,{"$f":"tau_n(N223,W223,U223,D223)","v":91.341097588103736},{"$f":"tau_hMax(X223,Z223,AH223,W223,U223)","v":86.350216128974822},{"$f":"tau_hMin(X223,Y223,AS223,AE223,Z223,AI223,IF(L223=1,mu_redLead,mu_millScale),W223,U223)","v":7.1448002558708055},79.205415873104016]
[212,"Maljaars2019","R; S",2,1,11.5,57.5,null,7.5,10,80,1,400,110,0,2400000,0,"P1F1",null,212,0.65217391304347827,0.65714285714285714,0.2,110,0,{"$f":"IF(OR(X224>=1.6*D224*AD224,D224=1),calcLoadFraction(G224,F224,I224,J224,K224,D224,1),\"Condition for spring model not fulfilled\")","v":0.51367593483224683},{"$f":"IF(L224>2,L224,IF(L224=2,1,sigma_cl0(I224+J224)))","v":133.48852782757527},{"$f":"Sigma_cl(AA224,U224,V224,X224)","v":124.82052092284221},{"$f":"Sigma_cl(AA224,U224,V224,Y224)","v":133.48852782757527},{"$f":"sigma_Slip(AB224,W224,U224,IF(L224=1,mu_redLead,mu_millScale))","v":4.5095551720086409},{"$f":"sigma_Slip(AC224,W224,U224,IF(L224=1,mu_redLead,mu_millScale))","v":4.822715660999136},{"$f":"Sigma_p(AB224,V224)","v":-31.838671419832618},{"$f":"Sigma_p(AC224,V224)","v":-34.04966863138273},{"$f":"beta_1(X224,AD224,Z224)","v":0.92019101279767435},{"$f":"beta_1(Y224,AE224,Z224)","v":0},{"$f":"k_tHole(W224,U224)","v":2.512},{"$f":"K_t1Mu(Z224,AH224,D224,W224,U224,SIGN(X224),mu_millScale)","v":4.094418091258702},{"$f":"K_t1Mu(Z224,AI224,D224,W224,U224,SIGN(Y224),mu_millScale)","v":1.8668230258506979},{"$f":"Sigma_hMax(AK224,X224,AF224)","v":418.54731861862462},{"$f":"Sigma_hMin(X224,Y224,AG224,AE224,AK224,AL224,AJ224,AI224,Z224,IF(L224=1,mu_redLead,mu_millScale))","v":-15.038108332250212},433.58542695087482,-3.5929290819212631E-2,136.73468864482589,{"$f":"tau_n(N224,W224,U224,D224)","v":91.341097588103736},{"$f":"tau_hMax(X224,Z224,AH224,W224,U224)","v":86.350216128974822},{"$f":"tau_hMin(X224,Y224,AS224,AE224,Z224,AI224,IF(L224=1,mu_redLead,mu_millScale),W224,U224)","v":7.1448002558708055},79.205415873104016]
[213,"Maljaars2019","R; S",2,1,11.5,57.5,null,7.5,10,80,1,400,100,0,2200000,0,"P1F1",null,213,0.65217391304347827,0.65714285714285714,0.2,100,0,{"$f":"IF(OR(X225>=1.6*D225*AD225,D225=1),calcLoadFraction(G225,F225,I225,J225,K225,D225,1),\"Condition for spring model not fulfilled\")","v":0.51367593483224683},{"$f":"IF(L225>2,L225,IF(L225=2,1,sigma_cl0(I225+J225)))","v":133.48852782757527},{"$f":"Sigma_cl(AA225,U225,V225,X225)","v":125.60852155054522},{"$f":"Sigma_cl(AA225,U225,V225,Y225)","v":133.48852782757527},{"$f":"sigma_Slip(AB225,W225,U225,IF(L225=1,mu_redLead,mu_millScale))","v":4.5380243073714137},{"$f":"sigma_Slip(AC225,W225,U225,IF(L225=1,mu_redLead,mu_millScale))","v":4.822715660999136},{"$f":"Sigma_p(AB225,V225)","v":-32.039671166337172},{"$f":"Sigma_p(AC225,V225)","v":-34.04966863138273},{"$f":"beta_1(X225,AD225,Z225)","v":0.91165589042333828},{"$f":"beta_1(Y225,AE225,Z225)","v":0},{"$f":"k_tHole(W225,U225)","v":2.512},{"$f":"K_t1Mu(Z225,AH225,D225,W225,U225,SIGN(X225),mu_millScale)","v":4.0883533374138734},{"$f":"K_t1Mu(Z225,AI225,D225,W225,U225,SIGN(Y225),mu_millScale)","v":1.8668230258506979},{"$f":"Sigma_hMax(AK225,X225,AF225)","v":376.79566257505019},{"$f":"Sigma_hMin(X225,Y225,AG225,AE225,AK225,AL225,AJ225,AI225,Z225,IF(L225=1,mu_redLead,mu_millScale))","v":-15.191697688321803},391.98736026337201,-4.0318133134815262E-2,123.56588306789233,{"$f":"tau_n(N225,W225,U225,D225)","v":83.037361443730674},{"$f":"tau_hMax(X225,Z225,AH225,W225,U225)","v":77.772077238190334},{"$f":"tau_hMin(X225,Y225,AS225,AE225,Z225,AI225,IF(L225=1,mu_redLead,mu_millScale),W225,U225)","v":7.0110220024104386},70.761055235779892]
[214,"Maljaars2019","R; S",3,1,10,40,null,6,10,100,1,365,170,0,680000,1,"P28F1",null,214,0.6,0.625,0.25,170,0,{"$f":"IF(OR(X226>=1.6*D226*AD226,D226=1),calcLoadFraction(G226,F226,I226,J226,K226,D226,1),\"Condition for spring model not fulfilled\")","v":0.42568872156197046},{"$f":"IF(L226>2,L226,IF(L226=2,1,sigma_cl0(I226+J226)))","v":125.17713647636889},{"$f":"Sigma_cl(AA226,U226,V226,X226)","v":113.2210244397175},{"$f":"Sigma_cl(AA226,U226,V226,Y226)","v":125.17713647636889},{"$f":"sigma_Slip(AB226,W226,U226,IF(L226=1,mu_redLead,mu_millScale))","v":5.9282389889582854},{"$f":"sigma_Slip(AC226,W226,U226,IF(L226=1,mu_redLead,mu_millScale))","v":6.5542595525663137},{"$f":"Sigma_p(AB226,V226)","v":-27.416047787509097},{"$f":"Sigma_p(AC226,V226)","v":-30.311175618861416},{"$f":"beta_1(X226,AD226,Z226)","v":0.91808100077272248},{"$f":"beta_1(Y226,AE226,Z226)","v":0},{"$f":"k_tHole(W226,U226)","v":2.421875},{"$f":"K_t1Mu(Z226,AH226,D226,W226,U226,SIGN(X226),mu_millScale)","v":3.3765001566656783},{"$f":"K_t1Mu(Z226,AI226,D226,W226,U226,SIGN(Y226),mu_millScale)","v":1.9063925637335515},{"$f":"Sigma_hMax(AK226,X226,AF226)","v":546.58897884565624},{"$f":"Sigma_hMin(X226,Y226,AG226,AE226,AK226,AL226,AJ226,AI226,Z226,IF(L226=1,mu_redLead,mu_millScale))","v":-8.84074856626067},555.42972741191693,-1.6174399609980222E-2,175.4891305554718,{"$f":"tau_n(N226,W226,U226,D226)","v":64.935216648997383},{"$f":"tau_hMax(X226,Z226,AH226,W226,U226)","v":76.133306612600776},{"$f":"tau_hMin(X226,Y226,AS226,AE226,Z226,AI226,IF(L226=1,mu_redLead,mu_millScale),W226,U226)","v":6.6453411632453587},69.487965449355414]
[215,"Maljaars2019","R; S",3,1,10,40,null,6,10,100,1,365,135,0,2300000,1,"P28F1",null,215,0.6,0.625,0.25,135,0,{"$f":"IF(OR(X227>=1.6*D227*AD227,D227=1),calcLoadFraction(G227,F227,I227,J227,K227,D227,1),\"Condition for spring model not fulfilled\")","v":0.42568872156197046},{"$f":"IF(L227>2,L227,IF(L227=2,1,sigma_cl0(I227+J227)))","v":125.17713647636889},{"$f":"Sigma_cl(AA227,U227,V227,X227)","v":115.68257691785161},{"$f":"Sigma_cl(AA227,U227,V227,Y227)","v":125.17713647636889},{"$f":"sigma_Slip(AB227,W227,U227,IF(L227=1,mu_redLead,mu_millScale))","v":6.0571255755834681},{"$f":"sigma_Slip(AC227,W227,U227,IF(L227=1,mu_redLead,mu_millScale))","v":6.5542595525663137},{"$f":"Sigma_p(AB227,V227)","v":-28.012103517493397},{"$f":"Sigma_p(AC227,V227)","v":-30.311175618861416},{"$f":"beta_1(X227,AD227,Z227)","v":0.89459998683652664},{"$f":"beta_1(Y227,AE227,Z227)","v":0},{"$f":"k_tHole(W227,U227)","v":2.421875},{"$f":"K_t1Mu(Z227,AH227,D227,W227,U227,SIGN(X227),mu_millScale)","v":3.3643242580377164},{"$f":"K_t1Mu(Z227,AI227,D227,W227,U227,SIGN(Y227),mu_millScale)","v":1.9063925637335515},{"$f":"Sigma_hMax(AK227,X227,AF227)","v":426.17167131759834},{"$f":"Sigma_hMin(X227,Y227,AG227,AE227,AK227,AL227,AJ227,AI227,Z227,IF(L227=1,mu_redLead,mu_millScale))","v":-9.3185883985033602},435.49025971610172,-2.1865809075701834E-2,137.51848128995294,{"$f":"tau_n(N227,W227,U227,D227)","v":51.566201456556747},{"$f":"tau_hMax(X227,Z227,AH227,W227,U227)","v":58.912496506474888},{"$f":"tau_hMin(X227,Y227,AS227,AE227,Z227,AI227,IF(L227=1,mu_redLead,mu_millScale),W227,U227)","v":6.3124269074470911},52.600069599027798]
[216,"Maljaars2019","R; S",3,1,10,40,null,6,10,100,1,365,135,0,10000000,0,"P28F1",null,216,0.6,0.625,0.25,135,0,{"$f":"IF(OR(X228>=1.6*D228*AD228,D228=1),calcLoadFraction(G228,F228,I228,J228,K228,D228,1),\"Condition for spring model not fulfilled\")","v":0.42568872156197046},{"$f":"IF(L228>2,L228,IF(L228=2,1,sigma_cl0(I228+J228)))","v":125.17713647636889},{"$f":"Sigma_cl(AA228,U228,V228,X228)","v":115.68257691785161},{"$f":"Sigma_cl(AA228,U228,V228,Y228)","v":125.17713647636889},{"$f":"sigma_Slip(AB228,W228,U228,IF(L228=1,mu_redLead,mu_millScale))","v":6.0571255755834681},{"$f":"sigma_Slip(AC228,W228,U228,IF(L228=1,mu_redLead,mu_millScale))","v":6.5542595525663137},{"$f":"Sigma_p(AB228,V228)","v":-28.012103517493397},{"$f":"Sigma_p(AC228,V228)","v":-30.311175618861416},{"$f":"beta_1(X228,AD228,Z228)","v":0.89459998683652664},{"$f":"beta_1(Y228,AE228,Z228)","v":0},{"$f":"k_tHole(W228,U228)","v":2.421875},{"$f":"K_t1Mu(Z228,AH228,D228,W228,U228,SIGN(X228),mu_millScale)","v":3.3643242580377164},{"$f":"K_t1Mu(Z228,AI228,D228,W228,U228,SIGN(Y228),mu_millScale)","v":1.9063925637335515},{"$f":"Sigma_hMax(AK228,X228,AF228)","v":426.17167131759834},{"$f":"Sigma_hMin(X228,Y228,AG228,AE228,AK228,AL228,AJ228,AI228,Z228,IF(L228=1,mu_redLead,mu_millScale))","v":-9.3185883985033602},435.49025971610172,-2.1865809075701834E-2,137.51848128995294,{"$f":"tau_n(N228,W228,U228,D228)","v":51.566201456556747},{"$f":"tau_hMax(X228,Z228,AH228,W228,U228)","v":58.912496506474888},{"$f":"tau_hMin(X228,Y228,AS228,AE228,Z228,AI228,IF(L228=1,mu_redLead,mu_millScale),W228,U228)","v":6.3124269074470911},52.600069599027798]
[217,"Wilson1938","R; L",2,1,14.3,63.5,null,4.75,9.5,101.6,null,442,206.99100000000001,0,250000,1,"B15-1",null,217,0.33216783216783213,1.0035087719298246,0.2251968503937008,206.99100000000001,0,{"$f":"IF(OR(X229>=1.6*D229*AD229,D229=1),calcLoadFraction(G229,F229,I229,J229,K229,D229,1),\"Condition for spring model not fulfilled\")","v":0.5387896416044623},{"$f":"IF(L229>2,L229,IF(L229=2,1,sigma_cl0(I229+J229)))","v":114.16269302732034},{"$f":"Sigma_cl(AA229,U229,V229,X229)","v":103.55527679416224},{"$f":"Sigma_cl(AA229,U229,V229,Y229)","v":114.16269302732034},{"$f":"sigma_Slip(AB229,W229,U229,IF(L229=1,mu_redLead,mu_millScale))","v":46.969876055735291},{"$f":"sigma_Slip(AC229,W229,U229,IF(L229=1,mu_redLead,mu_millScale))","v":51.781113504632891},{"$f":"Sigma_p(AB229,V229)","v":-39.787092821330475},{"$f":"Sigma_p(AC229,V229)","v":-43.862580496401236},{"$f":"beta_1(X229,AD229,Z229)","v":0.57883845150128299},{"$f":"beta_1(Y229,AE229,Z229)","v":0},{"$f":"k_tHole(W229,U229)","v":2.4651297652831525},{"$f":"K_t1Mu(Z229,AH229,D229,W229,U229,SIGN(X229),mu_millScale)","v":3.3298758487626561},{"$f":"K_t1Mu(Z229,AI229,D229,W229,U229,SIGN(Y229),mu_millScale)","v":1.8010365739104515},{"$f":"Sigma_hMax(AK229,X229,AF229)","v":649.46723898990047},{"$f":"Sigma_hMin(X229,Y229,AG229,AE229,AK229,AL229,AJ229,AI229,Z229,IF(L229=1,mu_redLead,mu_millScale))","v":73.377410241258403},576.08982874864205,0.1129809262671669,184.62897777619239,{"$f":"tau_n(N229,W229,U229,D229)","v":75.298829724859615},{"$f":"tau_hMax(X229,Z229,AH229,W229,U229)","v":46.96721761931154},{"$f":"tau_hMin(X229,Y229,AS229,AE229,Z229,AI229,IF(L229=1,mu_redLead,mu_millScale),W229,U229)","v":16.898031768701003},30.069185850610538]
[218,"Wilson1938","R; L",2,1,14.3,63.5,null,4.75,9.5,101.6,null,442,172.36799999999999,0,3153000,0,"B15-2",null,218,0.33216783216783213,1.0035087719298246,0.2251968503937008,172.36799999999999,0,{"$f":"IF(OR(X230>=1.6*D230*AD230,D230=1),calcLoadFraction(G230,F230,I230,J230,K230,D230,1),\"Condition for spring model not fulfilled\")","v":0.5387896416044623},{"$f":"IF(L230>2,L230,IF(L230=2,1,sigma_cl0(I230+J230)))","v":114.16269302732034},{"$f":"Sigma_cl(AA230,U230,V230,X230)","v":105.32955959989114},{"$f":"Sigma_cl(AA230,U230,V230,Y230)","v":114.16269302732034},{"$f":"sigma_Slip(AB230,W230,U230,IF(L230=1,mu_redLead,mu_millScale))","v":47.774642804981298},{"$f":"sigma_Slip(AC230,W230,U230,IF(L230=1,mu_redLead,mu_millScale))","v":51.781113504632891},{"$f":"Sigma_p(AB230,V230)","v":-40.468792072863025},{"$f":"Sigma_p(AC230,V230)","v":-43.862580496401236},{"$f":"beta_1(X230,AD230,Z230)","v":0.48557558961689679},{"$f":"beta_1(Y230,AE230,Z230)","v":0},{"$f":"k_tHole(W230,U230)","v":2.4651297652831525},{"$f":"K_t1Mu(Z230,AH230,D230,W230,U230,SIGN(X230),mu_millScale)","v":3.0897426688357945},{"$f":"K_t1Mu(Z230,AI230,D230,W230,U230,SIGN(Y230),mu_millScale)","v":1.8010365739104515},{"$f":"Sigma_hMax(AK230,X230,AF230)","v":492.10397226902518},{"$f":"Sigma_hMin(X230,Y230,AG230,AE230,AK230,AL230,AJ230,AI230,Z230,IF(L230=1,mu_redLead,mu_millScale))","v":55.389947205006742},436.71402506401841,0.11255740722760507,139.953487273582,{"$f":"tau_n(N230,W230,U230,D230)","v":62.703734374995051},{"$f":"tau_hMax(X230,Z230,AH230,W230,U230)","v":32.809490474365894},{"$f":"tau_hMin(X230,Y230,AS230,AE230,Z230,AI230,IF(L230=1,mu_redLead,mu_millScale),W230,U230)","v":13.149988870748546},19.65950160361735]
[219,"Wilson1938","R; L",2,1,14.3,63.5,null,4.75,9.5,101.6,null,442,193.25700000000001,0,2200000,1,"B15-3",null,219,0.33216783216783213,1.0035087719298246,0.2251968503937008,193.25700000000001,0,{"$f":"IF(OR(X231>=1.6*D231*AD231,D231=1),calcLoadFraction(G231,F231,I231,J231,K231,D231,1),\"Condition for spring model not fulfilled\")","v":0.5387896416044623},{"$f":"IF(L231>2,L231,IF(L231=2,1,sigma_cl0(I231+J231)))","v":114.16269302732034},{"$f":"Sigma_cl(AA231,U231,V231,X231)","v":104.2590864020495},{"$f":"Sigma_cl(AA231,U231,V231,Y231)","v":114.16269302732034},{"$f":"sigma_Slip(AB231,W231,U231,IF(L231=1,mu_redLead,mu_millScale))","v":47.289105080780622},{"$f":"sigma_Slip(AC231,W231,U231,IF(L231=1,mu_redLead,mu_millScale))","v":51.781113504632891},{"$f":"Sigma_p(AB231,V231)","v":-40.057504325837542},{"$f":"Sigma_p(AC231,V231)","v":-43.862580496401236},{"$f":"beta_1(X231,AD231,Z231)","v":0.54584236036647205},{"$f":"beta_1(Y231,AE231,Z231)","v":0},{"$f":"k_tHole(W231,U231)","v":2.4651297652831525},{"$f":"K_t1Mu(Z231,AH231,D231,W231,U231,SIGN(X231),mu_millScale)","v":3.247494512457465},{"$f":"K_t1Mu(Z231,AI231,D231,W231,U231,SIGN(Y231),mu_millScale)","v":1.8010365739104515},{"$f":"Sigma_hMax(AK231,X231,AF231)","v":587.54354266815483},{"$f":"Sigma_hMin(X231,Y231,AG231,AE231,AK231,AL231,AJ231,AI231,Z231,IF(L231=1,mu_redLead,mu_millScale))","v":66.93928672250577},520.60425594564902,0.11393076744324487,166.86651411958846,{"$f":"tau_n(N231,W231,U231,D231)","v":70.302698842641433},{"$f":"tau_hMax(X231,Z231,AH231,W231,U231)","v":41.351233313830114},{"$f":"tau_hMin(X231,Y231,AS231,AE231,Z231,AI231,IF(L231=1,mu_redLead,mu_millScale),W231,U231)","v":15.504334282102743},25.846899031727371]
[220,"Wilson1938","R; L",2,1,14.3,73.8,null,6.35,31.7,101.6,null,437,193.25700000000001,0,1085000,1,"B36-1",null,220,0.44405594405594401,0.3758212877792379,0.19376693766937672,193.25700000000001,0,{"$f":"IF(OR(X232>=1.6*D232*AD232,D232=1),calcLoadFraction(G232,F232,I232,J232,K232,D232,1),\"Condition for spring model not fulfilled\")","v":0.55063574360660761},{"$f":"IF(L232>2,L232,IF(L232=2,1,sigma_cl0(I232+J232)))","v":193.3216377718349},{"$f":"Sigma_cl(AA232,U232,V232,X232)","v":186.09686414884885},{"$f":"Sigma_cl(AA232,U232,V232,Y232)","v":193.3216377718349},{"$f":"sigma_Slip(AB232,W232,U232,IF(L232=1,mu_redLead,mu_millScale))","v":52.210067748373262},{"$f":"sigma_Slip(AC232,W232,U232,IF(L232=1,mu_redLead,mu_millScale))","v":54.237000991165871},{"$f":"Sigma_p(AB232,V232)","v":-25.493767288831762},{"$f":"Sigma_p(AC232,V232)","v":-26.483502920871082},{"$f":"beta_1(X232,AD232,Z232)","v":0.50936940832333855},{"$f":"beta_1(Y232,AE232,Z232)","v":0},{"$f":"k_tHole(W232,U232)","v":2.5240609643943546},{"$f":"K_t1Mu(Z232,AH232,D232,W232,U232,SIGN(X232),mu_millScale)","v":3.4208139388507224},{"$f":"K_t1Mu(Z232,AI232,D232,W232,U232,SIGN(Y232),mu_millScale)","v":1.8291418713755063},{"$f":"Sigma_hMax(AK232,X232,AF232)","v":635.60247209164231},{"$f":"Sigma_hMin(X232,Y232,AG232,AE232,AK232,AL232,AJ232,AI232,Z232,IF(L232=1,mu_redLead,mu_millScale))","v":95.722275528749037},539.88019656289327,0.15060085467217571,173.87734940372411,{"$f":"tau_n(N232,W232,U232,D232)","v":113.65903804116816},{"$f":"tau_hMax(X232,Z232,AH232,W232,U232)","v":63.757492689700541},{"$f":"tau_hMin(X232,Y232,AS232,AE232,Z232,AI232,IF(L232=1,mu_redLead,mu_millScale),W232,U232)","v":24.255911868054515},39.50158082164603]
[221,"Wilson1938","R; L",2,1,14.3,73.8,null,6.35,31.7,101.6,null,437,206.99100000000001,0,3148000,1,"B36-2",null,221,0.44405594405594401,0.3758212877792379,0.19376693766937672,206.99100000000001,0,{"$f":"IF(OR(X233>=1.6*D233*AD233,D233=1),calcLoadFraction(G233,F233,I233,J233,K233,D233,1),\"Condition for spring model not fulfilled\")","v":0.55063574360660761},{"$f":"IF(L233>2,L233,IF(L233=2,1,sigma_cl0(I233+J233)))","v":193.3216377718349},{"$f":"Sigma_cl(AA233,U233,V233,X233)","v":185.58342845990569},{"$f":"Sigma_cl(AA233,U233,V233,Y233)","v":193.3216377718349},{"$f":"sigma_Slip(AB233,W233,U233,IF(L233=1,mu_redLead,mu_millScale))","v":52.066021731118973},{"$f":"sigma_Slip(AC233,W233,U233,IF(L233=1,mu_redLead,mu_millScale))","v":54.237000991165871},{"$f":"Sigma_p(AB233,V233)","v":-25.423430746453338},{"$f":"Sigma_p(AC233,V233)","v":-26.483502920871082},{"$f":"beta_1(X233,AD233,Z233)","v":0.54318691736227709},{"$f":"beta_1(Y233,AE233,Z233)","v":0},{"$f":"k_tHole(W233,U233)","v":2.5240609643943546},{"$f":"K_t1Mu(Z233,AH233,D233,W233,U233,SIGN(X233),mu_millScale)","v":3.5240729739812537},{"$f":"K_t1Mu(Z233,AI233,D233,W233,U233,SIGN(Y233),mu_millScale)","v":1.8291418713755063},{"$f":"Sigma_hMax(AK233,X233,AF233)","v":704.02795821090035},{"$f":"Sigma_hMin(X233,Y233,AG233,AE233,AK233,AL233,AJ233,AI233,Z233,IF(L233=1,mu_redLead,mu_millScale))","v":103.62833413100024},600.39962407990015,0.1471934927049546,193.27925870031649,{"$f":"tau_n(N233,W233,U233,D233)","v":121.73633008470296},{"$f":"tau_hMax(X233,Z233,AH233,W233,U233)","v":72.822217888490826},{"$f":"tau_hMin(X233,Y233,AS233,AE233,Z233,AI233,IF(L233=1,mu_redLead,mu_millScale),W233,U233)","v":26.593197587830996},46.229020300659826]
[222,"Wilson1938","R; L",2,1,14.3,73.8,null,6.35,31.7,101.6,null,437,206.99100000000001,0,3099000,1,"B36-3",null,222,0.44405594405594401,0.3758212877792379,0.19376693766937672,206.99100000000001,0,{"$f":"IF(OR(X234>=1.6*D234*AD234,D234=1),calcLoadFraction(G234,F234,I234,J234,K234,D234,1),\"Condition for spring model not fulfilled\")","v":0.55063574360660761},{"$f":"IF(L234>2,L234,IF(L234=2,1,sigma_cl0(I234+J234)))","v":193.3216377718349},{"$f":"Sigma_cl(AA234,U234,V234,X234)","v":185.58342845990569},{"$f":"Sigma_cl(AA234,U234,V234,Y234)","v":193.3216377718349},{"$f":"sigma_Slip(AB234,W234,U234,IF(L234=1,mu_redLead,mu_millScale))","v":52.066021731118973},{"$f":"sigma_Slip(AC234,W234,U234,IF(L234=1,mu_redLead,mu_millScale))","v":54.237000991165871},{"$f":"Sigma_p(AB234,V234)","v":-25.423430746453338},{"$f":"Sigma_p(AC234,V234)","v":-26.483502920871082},{"$f":"beta_1(X234,AD234,Z234)","v":0.54318691736227709},{"$f":"beta_1(Y234,AE234,Z234)","v":0},{"$f":"k_tHole(W234,U234)","v":2.5240609643943546},{"$f":"K_t1Mu(Z234,AH234,D234,W234,U234,SIGN(X234),mu_millScale)","v":3.5240729739812537},{"$f":"K_t1Mu(Z234,AI234,D234,W234,U234,SIGN(Y234),mu_millScale)","v":1.8291418713755063},{"$f":"Sigma_hMax(AK234,X234,AF234)","v":704.02795821090035},{"$f":"Sigma_hMin(X234,Y234,AG234,AE234,AK234,AL234,AJ234,AI234,Z234,IF(L234=1,mu_redLead,mu_millScale))","v":103.62833413100024},600.39962407990015,0.1471934927049546,193.27925870031649,{"$f":"tau_n(N234,W234,U234,D234)","v":121.73633008470296},{"$f":"tau_hMax(X234,Z234,AH234,W234,U234)","v":72.822217888490826},{"$f":"tau_hMin(X234,Y234,AS234,AE234,Z234,AI234,IF(L234=1,mu_redLead,mu_millScale),W234,U234)","v":26.593197587830996},46.229020300659826]
[223,"Wilson1938","R; L",2,1,14.3,51.6,null,9.5,9.5,101.6,null,434,206.99100000000001,0,302000,1,"B7-1",null,223,0.66433566433566427,0.75263157894736843,0.27713178294573643,206.99100000000001,0,{"$f":"IF(OR(X235>=1.6*D235*AD235,D235=1),calcLoadFraction(G235,F235,I235,J235,K235,D235,1),\"Condition for spring model not fulfilled\")","v":0.5},{"$f":"IF(L235>2,L235,IF(L235=2,1,sigma_cl0(I235+J235)))","v":140.91415548460122},{"$f":"Sigma_cl(AA235,U235,V235,X235)","v":122.90835681339847},{"$f":"Sigma_cl(AA235,U235,V235,Y235)","v":140.91415548460122},{"$f":"sigma_Slip(AB235,W235,U235,IF(L235=1,mu_redLead,mu_millScale))","v":36.766718346188327},{"$f":"sigma_Slip(AC235,W235,U235,IF(L235=1,mu_redLead,mu_millScale))","v":42.152960140530801},{"$f":"Sigma_p(AB235,V235)","v":-35.954853018569239},{"$f":"Sigma_p(AC235,V235)","v":-41.2221583628912},{"$f":"beta_1(X235,AD235,Z235)","v":0.64475056068922487},{"$f":"beta_1(Y235,AE235,Z235)","v":0},{"$f":"k_tHole(W235,U235)","v":2.3777264443638551},{"$f":"K_t1Mu(Z235,AH235,D235,W235,U235,SIGN(X235),mu_millScale)","v":3.0349081973802412},{"$f":"K_t1Mu(Z235,AI235,D235,W235,U235,SIGN(Y235),mu_millScale)","v":1.7832948332728913},{"$f":"Sigma_hMax(AK235,X235,AF235)","v":592.24382966536427},{"$f":"Sigma_hMin(X235,Y235,AG235,AE235,AK235,AL235,AJ235,AI235,Z235,IF(L235=1,mu_redLead,mu_millScale))","v":48.189650275595085},544.05417938976916,8.1367922909089146E-2,173.69403304345843,{"$f":"tau_n(N235,W235,U235,D235)","v":114.1726158023278},{"$f":"tau_hMax(X235,Z235,AH235,W235,U235)","v":73.612858053906308},{"$f":"tau_hMin(X235,Y235,AS235,AE235,Z235,AI235,IF(L235=1,mu_redLead,mu_millScale),W235,U235)","v":24.417906156031627},49.194951897874681]
[224,"Wilson1938","R; L",2,1,14.3,51.6,null,9.5,9.5,101.6,null,434,193.25700000000001,0,407000,1,"B7-2",null,224,{"$f":"I236/F236","v":0.66433566433566427},{"$f":"F236/(J236+I236)","v":0.75263157894736843},{"$f":"F236/G236","v":0.27713178294573643},193.25700000000001,0,{"$f":"IF(OR(X236>=1.6*D236*AD236,D236=1),calcLoadFraction(G236,F236,I236,J236,K236,D236,1),\"Condition for spring model not fulfilled\")","v":0.5},{"$f":"IF(L236>2,L236,IF(L236=2,1,sigma_cl0(I236+J236)))","v":140.91415548460122},{"$f":"Sigma_cl(AA236,U236,V236,X236)","v":124.10305435556359},{"$f":"Sigma_cl(AA236,U236,V236,Y236)","v":140.91415548460122},{"$f":"sigma_Slip(AB236,W236,U236,IF(L236=1,mu_redLead,mu_millScale))","v":37.124099318324802},{"$f":"sigma_Slip(AC236,W236,U236,IF(L236=1,mu_redLead,mu_millScale))","v":42.152960140530801},{"$f":"Sigma_p(AB236,V236)","v":-36.30434247269487},{"$f":"Sigma_p(AC236,V236)","v":-41.2221583628912},{"$f":"beta_1(X236,AD236,Z236)","v":0.6158059028306887},{"$f":"beta_1(Y236,AE236,Z236)","v":0},{"$f":"k_tHole(W236,U236)","v":2.3777264443638551},{"$f":"K_t1Mu(Z236,AH236,D236,W236,U236,SIGN(X236),mu_millScale)","v":2.9860551724232094},{"$f":"K_t1Mu(Z236,AI236,D236,W236,U236,SIGN(Y236),mu_millScale)","v":1.7832948332728913},{"$f":"Sigma_hMax(AK236,X236,AF236)","v":540.7717219842973},{"$f":"Sigma_hMin(X236,Y236,AG236,AE236,AK236,AL236,AJ236,AI236,Z236,IF(L236=1,mu_redLead,mu_millScale))","v":44.399695161001162},496.37202682329615,8.2104321206149203E-2,158.48480896816338,{"$f":"tau_n(N236,W236,U236,D236)","v":106.59718157847666},{"$f":"tau_hMax(X236,Z236,AH236,W236,U236)","v":65.643173641140677},{"$f":"tau_hMin(X236,Y236,AS236,AE236,Z236,AI236,IF(L236=1,mu_redLead,mu_millScale),W236,U236)","v":22.730634893352921},42.912538747787757]
[225,"Wilson1938","R; L",2,1,14.3,51.6,null,9.5,9.5,101.6,null,434,172.65600000000001,0,865000,1,"B7-3",null,225,0.66433566433566427,0.75263157894736843,0.27713178294573643,172.65600000000001,0,{"$f":"IF(OR(X237>=1.6*D237*AD237,D237=1),calcLoadFraction(G237,F237,I237,J237,K237,D237,1),\"Condition for spring model not fulfilled\")","v":0.5},{"$f":"IF(L237>2,L237,IF(L237=2,1,sigma_cl0(I237+J237)))","v":140.91415548460122},{"$f":"Sigma_cl(AA237,U237,V237,X237)","v":125.89510066881125},{"$f":"Sigma_cl(AA237,U237,V237,Y237)","v":140.91415548460122},{"$f":"sigma_Slip(AB237,W237,U237,IF(L237=1,mu_redLead,mu_millScale))","v":37.660170776529498},{"$f":"sigma_Slip(AC237,W237,U237,IF(L237=1,mu_redLead,mu_millScale))","v":42.152960140530801},{"$f":"Sigma_p(AB237,V237)","v":-36.82857665388331},{"$f":"Sigma_p(AC237,V237)","v":-41.2221583628912},{"$f":"beta_1(X237,AD237,Z237)","v":0.56375485617030974},{"$f":"beta_1(Y237,AE237,Z237)","v":0},{"$f":"k_tHole(W237,U237)","v":2.3777264443638551},{"$f":"K_t1Mu(Z237,AH237,D237,W237,U237,SIGN(X237),mu_millScale)","v":2.8927140077645657},{"$f":"K_t1Mu(Z237,AI237,D237,W237,U237,SIGN(Y237),mu_millScale)","v":1.7832948332728913},{"$f":"Sigma_hMax(AK237,X237,AF237)","v":462.61585307071556},{"$f":"Sigma_hMin(X237,Y237,AG237,AE237,AK237,AL237,AJ237,AI237,Z237,IF(L237=1,mu_redLead,mu_millScale))","v":37.633241005885161},{"$f":"(AM237-AN237)","v":424.98261206483039},{"$f":"AN237/AM237","v":8.1348792429152952E-2},135.67909372323382,{"$f":"tau_n(N237,W237,U237,D237)","v":95.234030242699959},{"$f":"tau_hMax(X237,Z237,AH237,W237,U237)","v":53.688647021992246},{"$f":"tau_hMin(X237,Y237,AS237,AE237,Z237,AI237,IF(L237=1,mu_redLead,mu_millScale),W237,U237)","v":19.911910915397282},33.776736106594967]
[226,"Wilson1938","R; L",3,1,14.3,63.5,null,6.35,9.5,101.6,null,437,241.32599999999999,0,482000,1,"B14-1",null,226,0.44405594405594401,0.90220820189274453,0.2251968503937008,241.32599999999999,0,{"$f":"IF(OR(X238>=1.6*D238*AD238,D238=1),calcLoadFraction(G238,F238,I238,J238,K238,D238,1),\"Condition for spring model not fulfilled\")","v":0.39874037036054966},{"$f":"IF(L238>2,L238,IF(L238=2,1,sigma_cl0(I238+J238)))","v":124.29180090438807},{"$f":"Sigma_cl(AA238,U238,V238,X238)","v":108.71935417887293},{"$f":"Sigma_cl(AA238,U238,V238,Y238)","v":124.29180090438807},{"$f":"sigma_Slip(AB238,W238,U238,IF(L238=1,mu_redLead,mu_millScale))","v":36.88705035405912},{"$f":"sigma_Slip(AC238,W238,U238,IF(L238=1,mu_redLead,mu_millScale))","v":42.170577200207411},{"$f":"Sigma_p(AB238,V238)","v":-37.871975929814191},{"$f":"Sigma_p(AC238,V238)","v":-43.296578862855057},{"$f":"beta_1(X238,AD238,Z238)","v":0.61666400055232951},{"$f":"beta_1(Y238,AE238,Z238)","v":0},{"$f":"k_tHole(W238,U238)","v":2.4651297652831525},{"$f":"K_t1Mu(Z238,AH238,D238,W238,U238,SIGN(X238),mu_millScale)","v":3.1597345568586275},{"$f":"K_t1Mu(Z238,AI238,D238,W238,U238,SIGN(Y238),mu_millScale)","v":1.9736563874852431},{"$f":"Sigma_hMax(AK238,X238,AF238)","v":724.65412573865092},{"$f":"Sigma_hMin(X238,Y238,AG238,AE238,AK238,AL238,AJ238,AI238,Z238,IF(L238=1,mu_redLead,mu_millScale))","v":56.849807565917395},667.80431817273347,7.8450954112721738E-2,213.12952497763456,{"$f":"tau_n(N238,W238,U238,D238)","v":78.240160913413618},{"$f":"tau_hMax(X238,Z238,AH238,W238,U238)","v":57.715145340022559},{"$f":"tau_hMin(X238,Y238,AS238,AE238,Z238,AI238,IF(L238=1,mu_redLead,mu_millScale),W238,U238)","v":20.042207722444594},37.672937617577965]
[227,"Wilson1938","R; L",3,1,14.3,63.5,null,6.35,9.5,101.6,null,437,227.59200000000001,0,632000,1,"B14-2",null,227,0.44405594405594401,0.90220820189274453,0.2251968503937008,227.59200000000001,0,{"$f":"IF(OR(X239>=1.6*D239*AD239,D239=1),calcLoadFraction(G239,F239,I239,J239,K239,D239,1),\"Condition for spring model not fulfilled\")","v":0.39874037036054966},{"$f":"IF(L239>2,L239,IF(L239=2,1,sigma_cl0(I239+J239)))","v":124.29180090438807},{"$f":"Sigma_cl(AA239,U239,V239,X239)","v":109.60559098439005},{"$f":"Sigma_cl(AA239,U239,V239,Y239)","v":124.29180090438807},{"$f":"sigma_Slip(AB239,W239,U239,IF(L239=1,mu_redLead,mu_millScale))","v":37.187738873758612},{"$f":"sigma_Slip(AC239,W239,U239,IF(L239=1,mu_redLead,mu_millScale))","v":42.170577200207411},{"$f":"Sigma_p(AB239,V239)","v":-38.180693169905943},{"$f":"Sigma_p(AC239,V239)","v":-43.296578862855057},{"$f":"beta_1(X239,AD239,Z239)","v":0.59021828796201292},{"$f":"beta_1(Y239,AE239,Z239)","v":0},{"$f":"k_tHole(W239,U239)","v":2.4651297652831525},{"$f":"K_t1Mu(Z239,AH239,D239,W239,U239,SIGN(X239),mu_millScale)","v":3.1138928800414041},{"$f":"K_t1Mu(Z239,AI239,D239,W239,U239,SIGN(Y239),mu_millScale)","v":1.9736563874852431},{"$f":"Sigma_hMax(AK239,X239,AF239)","v":670.5164151844773},{"$f":"Sigma_hMin(X239,Y239,AG239,AE239,AK239,AL239,AJ239,AI239,Z239,IF(L239=1,mu_redLead,mu_millScale))","v":52.680429428941991},617.83598575553526,7.8566949646487291E-2,197.18481920836376,{"$f":"tau_n(N239,W239,U239,D239)","v":73.787468828910406},{"$f":"tau_hMax(X239,Z239,AH239,W239,U239)","v":52.096282921573028},{"$f":"tau_hMin(X239,Y239,AS239,AE239,Z239,AI239,IF(L239=1,mu_redLead,mu_millScale),W239,U239)","v":18.75287307103822},33.343409850534812]
[228,"Wilson1938","R; L",3,1,14.3,63.5,null,6.35,9.5,101.6,null,437,206.99100000000001,0,1874000,1,"B14-3",null,228,0.44405594405594401,0.90220820189274453,0.2251968503937008,{"$f":"N240/(1-O240)","v":206.99100000000001},{"$f":"X240*O240","v":0},{"$f":"IF(OR(X240>=1.6*D240*AD240,D240=1),calcLoadFraction(G240,F240,I240,J240,K240,D240,1),\"Condition for spring model not fulfilled\")","v":0.39874037036054966},{"$f":"IF(L240>2,L240,IF(L240=2,1,sigma_cl0(I240+J240)))","v":124.29180090438807},{"$f":"Sigma_cl(AA240,U240,V240,X240)","v":110.93494619266573},{"$f":"Sigma_cl(AA240,U240,V240,Y240)","v":124.29180090438807},{"$f":"sigma_Slip(AB240,W240,U240,IF(L240=1,mu_redLead,mu_millScale))","v":37.638771653307856},{"$f":"sigma_Slip(AC240,W240,U240,IF(L240=1,mu_redLead,mu_millScale))","v":42.170577200207411},{"$f":"Sigma_p(AB240,V240)","v":-38.643769030043579},{"$f":"Sigma_p(AC240,V240)","v":-43.296578862855057},{"$f":"beta_1(X240,AD240,Z240)","v":0.54396962471164867},{"$f":"beta_1(Y240,AE240,Z240)","v":0},{"$f":"k_tHole(W240,U240)","v":2.4651297652831525},{"$f":"K_t1Mu(Z240,AH240,D240,W240,U240,SIGN(X240),mu_millScale)","v":3.0297972351528353},{"$f":"K_t1Mu(Z240,AI240,D240,W240,U240,SIGN(Y240),mu_millScale)","v":1.9736563874852431},{"$f":"Sigma_hMax(AK240,X240,AF240)","v":588.49699047147703},{"$f":"Sigma_hMin(X240,Y240,AG240,AE240,AK240,AL240,AJ240,AI240,Z240,IF(L240=1,mu_redLead,mu_millScale))","v":45.451165928533484},543.04582454294359,7.7232622535792536E-2,173.2882725113281,{"$f":"tau_n(N240,W240,U240,D240)","v":67.108430702155587},{"$f":"tau_hMax(X240,Z240,AH240,W240,U240)","v":43.667989293898707},{"$f":"tau_hMin(X240,Y240,AS240,AE240,Z240,AI240,IF(L240=1,mu_redLead,mu_millScale),W240,U240)","v":16.63723648078976},27.030752813108947]
[229,"Wilson1938","R; L",3,1,14.3,73.8,null,9.5,28.6,101.6,null,426,193.25700000000001,0,3371000,0,"B35-1",null,229,0.66433566433566427,0.37532808398950129,0.19376693766937672,193.25700000000001,0,{"$f":"IF(OR(X241>=1.6*D241*AD241,D241=1),calcLoadFraction(G241,F241,I241,J241,K241,D241,1),\"Condition for spring model not fulfilled\")","v":0.41035855251002973},{"$f":"IF(L241>2,L241,IF(L241=2,1,sigma_cl0(I241+J241)))","v":193.40166577022526},{"$f":"Sigma_cl(AA241,U241,V241,X241)","v":182.60284201661975},{"$f":"Sigma_cl(AA241,U241,V241,Y241)","v":193.40166577022526},{"$f":"sigma_Slip(AB241,W241,U241,IF(L241=1,mu_redLead,mu_millScale))","v":34.243082667130203},{"$f":"sigma_Slip(AC241,W241,U241,IF(L241=1,mu_redLead,mu_millScale))","v":36.268160756927003},{"$f":"Sigma_p(AB241,V241)","v":-24.975863025835451},{"$f":"Sigma_p(AC241,V241)","v":-26.452893393663143},{"$f":"beta_1(X241,AD241,Z241)","v":0.56820845753956817},{"$f":"beta_1(Y241,AE241,Z241)","v":0},{"$f":"k_tHole(W241,U241)","v":2.5240609643943546},{"$f":"K_t1Mu(Z241,AH241,D241,W241,U241,SIGN(X241),mu_millScale)","v":3.323164897850774},{"$f":"K_t1Mu(Z241,AI241,D241,W241,U241,SIGN(Y241),mu_millScale)","v":2.006175962496386},{"$f":"Sigma_hMax(AK241,X241,AF241)","v":617.24901563811159},{"$f":"Sigma_hMin(X241,Y241,AG241,AE241,AK241,AL241,AJ241,AI241,Z241,IF(L241=1,mu_redLead,mu_millScale))","v":64.110996905782429},553.1380187323291,0.10386569323161177,177.072505830034,{"$f":"tau_n(N241,W241,U241,D241)","v":113.36072035602074},{"$f":"tau_hMax(X241,Z241,AH241,W241,U241)","v":79.296685484888258},{"$f":"tau_hMin(X241,Y241,AS241,AE241,Z241,AI241,IF(L241=1,mu_redLead,mu_millScale),W241,U241)","v":28.267744951883611},51.028940533004643]
[230,"Wilson1938","R; L",3,1,14.3,73.8,null,9.5,28.6,101.6,null,426,206.99100000000001,0,1049000,1,"B35-2",null,230,0.66433566433566427,0.37532808398950129,0.19376693766937672,206.99100000000001,0,{"$f":"IF(OR(X242>=1.6*D242*AD242,D242=1),calcLoadFraction(G242,F242,I242,J242,K242,D242,1),\"Condition for spring model not fulfilled\")","v":0.41035855251002973},{"$f":"IF(L242>2,L242,IF(L242=2,1,sigma_cl0(I242+J242)))","v":193.40166577022526},{"$f":"Sigma_cl(AA242,U242,V242,X242)","v":181.83541291737873},{"$f":"Sigma_cl(AA242,U242,V242,Y242)","v":193.40166577022526},{"$f":"sigma_Slip(AB242,W242,U242,IF(L242=1,mu_redLead,mu_millScale))","v":34.099168488159869},{"$f":"sigma_Slip(AC242,W242,U242,IF(L242=1,mu_redLead,mu_millScale))","v":36.268160756927003},{"$f":"Sigma_p(AB242,V242)","v":-24.870896400710638},{"$f":"Sigma_p(AC242,V242)","v":-26.452893393663143},{"$f":"beta_1(X242,AD242,Z242)","v":0.59855242679490306},{"$f":"beta_1(Y242,AE242,Z242)","v":0},{"$f":"k_tHole(W242,U242)","v":2.5240609643943546},{"$f":"K_t1Mu(Z242,AH242,D242,W242,U242,SIGN(X242),mu_millScale)","v":3.3878588431870997},{"$f":"K_t1Mu(Z242,AI242,D242,W242,U242,SIGN(Y242),mu_millScale)","v":2.006175962496386},{"$f":"Sigma_hMax(AK242,X242,AF242)","v":676.38539340943032},{"$f":"Sigma_hMin(X242,Y242,AG242,AE242,AK242,AL242,AJ242,AI242,Z242,IF(L242=1,mu_redLead,mu_millScale))","v":68.920260204219488},607.4651332052108,0.10189495644903822,194.41682253975719,{"$f":"tau_n(N242,W242,U242,D242)","v":121.41681215797145},{"$f":"tau_hMax(X242,Z242,AH242,W242,U242)","v":89.467595599847044},{"$f":"tau_hMin(X242,Y242,AS242,AE242,Z242,AI242,IF(L242=1,mu_redLead,mu_millScale),W242,U242)","v":30.570212112218758},58.897383487628289]
[231,"Wilson1938","R; L",3,1,14.3,73.8,null,9.5,28.6,101.6,null,426,193.25700000000001,0,1046000,1,"B35-3",null,231,0.66433566433566427,0.37532808398950129,0.19376693766937672,193.25700000000001,0,{"$f":"IF(OR(X243>=1.6*D243*AD243,D243=1),calcLoadFraction(G243,F243,I243,J243,K243,D243,1),\"Condition for spring model not fulfilled\")","v":0.41035855251002973},{"$f":"IF(L243>2,L243,IF(L243=2,1,sigma_cl0(I243+J243)))","v":193.40166577022526},{"$f":"Sigma_cl(AA243,U243,V243,X243)","v":182.60284201661975},{"$f":"Sigma_cl(AA243,U243,V243,Y243)","v":193.40166577022526},{"$f":"sigma_Slip(AB243,W243,U243,IF(L243=1,mu_redLead,mu_millScale))","v":34.243082667130203},{"$f":"sigma_Slip(AC243,W243,U243,IF(L243=1,mu_redLead,mu_millScale))","v":36.268160756927003},{"$f":"Sigma_p(AB243,V243)","v":-24.975863025835451},{"$f":"Sigma_p(AC243,V243)","v":-26.452893393663143},{"$f":"beta_1(X243,AD243,Z243)","v":0.56820845753956817},{"$f":"beta_1(Y243,AE243,Z243)","v":0},{"$f":"k_tHole(W243,U243)","v":2.5240609643943546},{"$f":"K_t1Mu(Z243,AH243,D243,W243,U243,SIGN(X243),mu_millScale)","v":3.323164897850774},{"$f":"K_t1Mu(Z243,AI243,D243,W243,U243,SIGN(Y243),mu_millScale)","v":2.006175962496386},{"$f":"Sigma_hMax(AK243,X243,AF243)","v":617.24901563811159},{"$f":"Sigma_hMin(X243,Y243,AG243,AE243,AK243,AL243,AJ243,AI243,Z243,IF(L243=1,mu_redLead,mu_millScale))","v":64.110996905782429},553.1380187323291,0.10386569323161177,177.072505830034,{"$f":"tau_n(N243,W243,U243,D243)","v":113.36072035602074},{"$f":"tau_hMax(X243,Z243,AH243,W243,U243)","v":79.296685484888258},{"$f":"tau_hMin(X243,Y243,AS243,AE243,Z243,AI243,IF(L243=1,mu_redLead,mu_millScale),W243,U243)","v":28.267744951883611},51.028940533004643]
[232,"Wilson1938","R; L",4,1,14.3,63.5,null,7.95,9.5,101.6,null,429,241.32599999999999,0,339000,1,"B13-1",null,232,0.55594405594405594,0.81948424068767911,0.2251968503937008,241.32599999999999,0,{"$f":"IF(OR(X244>=1.6*D244*AD244,D244=1),calcLoadFraction(G244,F244,I244,J244,K244,D244,1),\"Condition for spring model not fulfilled\")","v":0.32773595731390232},{"$f":"IF(L244>2,L244,IF(L244=2,1,sigma_cl0(I244+J244)))","v":133.22650741061054},{"$f":"Sigma_cl(AA244,U244,V244,X244)","v":114.77108699401218},{"$f":"Sigma_cl(AA244,U244,V244,Y244)","v":133.22650741061054},{"$f":"sigma_Slip(AB244,W244,U244,IF(L244=1,mu_redLead,mu_millScale))","v":31.10327757472924},{"$f":"sigma_Slip(AC244,W244,U244,IF(L244=1,mu_redLead,mu_millScale))","v":36.104746838549424},{"$f":"Sigma_p(AB244,V244)","v":-36.486605281527673},{"$f":"Sigma_p(AC244,V244)","v":-42.353724411280297},{"$f":"beta_1(X244,AD244,Z244)","v":0.60674165302453298},{"$f":"beta_1(Y244,AE244,Z244)","v":0},{"$f":"k_tHole(W244,U244)","v":2.4651297652831525},{"$f":"K_t1Mu(Z244,AH244,D244,W244,U244,SIGN(X244),mu_millScale)","v":3.0185129916265159},{"$f":"K_t1Mu(Z244,AI244,D244,W244,U244,SIGN(Y244),mu_millScale)","v":2.0611739335191177},{"$f":"Sigma_hMax(AK244,X244,AF244)","v":691.95906093573285},{"$f":"Sigma_hMin(X244,Y244,AG244,AE244,AK244,AL244,AJ244,AI244,Z244,IF(L244=1,mu_redLead,mu_millScale))","v":41.434122175987689},650.52493875974517,5.987944159580269E-2,207.17352879029872,{"$f":"tau_n(N244,W244,U244,D244)","v":73.465662904917906},{"$f":"tau_hMax(X244,Z244,AH244,W244,U244)","v":58.434898739350828},{"$f":"tau_hMin(X244,Y244,AS244,AE244,Z244,AI244,IF(L244=1,mu_redLead,mu_millScale),W244,U244)","v":20.807763065635179},37.627135673715649]
[233,"Wilson1938","R; L",4,1,14.3,63.5,null,7.95,9.5,101.6,null,429,227.59200000000001,0,361000,1,"B13-2",null,233,0.55594405594405594,0.81948424068767911,0.2251968503937008,227.59200000000001,0,{"$f":"IF(OR(X245>=1.6*D245*AD245,D245=1),calcLoadFraction(G245,F245,I245,J245,K245,D245,1),\"Condition for spring model not fulfilled\")","v":0.32773595731390232},{"$f":"IF(L245>2,L245,IF(L245=2,1,sigma_cl0(I245+J245)))","v":133.22650741061054},{"$f":"Sigma_cl(AA245,U245,V245,X245)","v":115.82139547300558},{"$f":"Sigma_cl(AA245,U245,V245,Y245)","v":133.22650741061054},{"$f":"sigma_Slip(AB245,W245,U245,IF(L245=1,mu_redLead,mu_millScale))","v":31.387914036897872},{"$f":"sigma_Slip(AC245,W245,U245,IF(L245=1,mu_redLead,mu_millScale))","v":36.104746838549424},{"$f":"Sigma_p(AB245,V245)","v":-36.820506370212783},{"$f":"Sigma_p(AC245,V245)","v":-42.353724411280297},{"$f":"beta_1(X245,AD245,Z245)","v":0.57919453637058183},{"$f":"beta_1(Y245,AE245,Z245)","v":0},{"$f":"k_tHole(W245,U245)","v":2.4651297652831525},{"$f":"K_t1Mu(Z245,AH245,D245,W245,U245,SIGN(X245),mu_millScale)","v":2.9788272908629945},{"$f":"K_t1Mu(Z245,AI245,D245,W245,U245,SIGN(Y245),mu_millScale)","v":2.0611739335191177},{"$f":"Sigma_hMax(AK245,X245,AF245)","v":641.13675441187786},{"$f":"Sigma_hMin(X245,Y245,AG245,AE245,AK245,AL245,AJ245,AI245,Z245,IF(L245=1,mu_redLead,mu_millScale))","v":37.758462294612436},603.37829211726546,5.8892992851811633E-2,192.1373855527616,{"$f":"tau_n(N245,W245,U245,D245)","v":69.284690219272179},{"$f":"tau_hMax(X245,Z245,AH245,W245,U245)","v":52.607276598749486},{"$f":"tau_hMin(X245,Y245,AS245,AE245,Z245,AI245,IF(L245=1,mu_redLead,mu_millScale),W245,U245)","v":19.409069887968872},33.19820671078061]
[234,"Wilson1938","R; L",4,1,14.3,63.5,null,7.95,9.5,101.6,null,429,206.99100000000001,0,812000,1,"B13-3",null,234,0.55594405594405594,0.81948424068767911,0.2251968503937008,206.99100000000001,0,{"$f":"IF(OR(X246>=1.6*D246*AD246,D246=1),calcLoadFraction(G246,F246,I246,J246,K246,D246,1),\"Condition for spring model not fulfilled\")","v":0.32773595731390232},{"$f":"IF(L246>2,L246,IF(L246=2,1,sigma_cl0(I246+J246)))","v":133.22650741061054},{"$f":"Sigma_cl(AA246,U246,V246,X246)","v":117.39685819149568},{"$f":"Sigma_cl(AA246,U246,V246,Y246)","v":133.22650741061054},{"$f":"sigma_Slip(AB246,W246,U246,IF(L246=1,mu_redLead,mu_millScale))","v":31.814868730150813},{"$f":"sigma_Slip(AC246,W246,U246,IF(L246=1,mu_redLead,mu_millScale))","v":36.104746838549424},{"$f":"Sigma_p(AB246,V246)","v":-37.321358003240441},{"$f":"Sigma_p(AC246,V246)","v":-42.353724411280297},{"$f":"beta_1(X246,AD246,Z246)","v":0.53101972098997519},{"$f":"beta_1(Y246,AE246,Z246)","v":0},{"$f":"k_tHole(W246,U246)","v":2.4651297652831525},{"$f":"K_t1Mu(Z246,AH246,D246,W246,U246,SIGN(X246),mu_millScale)","v":2.9060926583843116},{"$f":"K_t1Mu(Z246,AI246,D246,W246,U246,SIGN(Y246),mu_millScale)","v":2.0611739335191177},{"$f":"Sigma_hMax(AK246,X246,AF246)","v":564.21366744838667},{"$f":"Sigma_hMin(X246,Y246,AG246,AE246,AK246,AL246,AJ246,AI246,Z246,IF(L246=1,mu_redLead,mu_millScale))","v":31.394582907180084},532.81908454120662,5.5643074101979294E-2,169.60713380757107,{"$f":"tau_n(N246,W246,U246,D246)","v":63.013231190803573},{"$f":"tau_hMax(X246,Z246,AH246,W246,U246)","v":43.865843387847455},{"$f":"tau_hMin(X246,Y246,AS246,AE246,Z246,AI246,IF(L246=1,mu_redLead,mu_millScale),W246,U246)","v":17.116320987707695},26.74952240013976]
[235,"Wilson1938","R; L",4,1,14.3,73.8,null,12.7,25.4,101.6,null,438,206.99100000000001,0,530000,1,"B34-1","All plates are double",235,0.88811188811188801,0.3753280839895014,0.19376693766937672,206.99100000000001,0,{"$f":"IF(OR(X247>=1.6*D247*AD247,D247=1),calcLoadFraction(G247,F247,I247,J247,K247,D247,1),\"Condition for spring model not fulfilled\")","v":0.33194230491755117},{"$f":"IF(L247>2,L247,IF(L247=2,1,sigma_cl0(I247+J247)))","v":193.40166577022526},{"$f":"Sigma_cl(AA247,U247,V247,X247)","v":177.93941195641992},{"$f":"Sigma_cl(AA247,U247,V247,Y247)","v":193.40166577022526},{"$f":"sigma_Slip(AB247,W247,U247,IF(L247=1,mu_redLead,mu_millScale))","v":24.960734281690073},{"$f":"sigma_Slip(AC247,W247,U247,IF(L247=1,mu_redLead,mu_millScale))","v":27.129726550457203},{"$f":"Sigma_p(AB247,V247)","v":-24.338013203084543},{"$f":"Sigma_p(AC247,V247)","v":-26.45289339366315},{"$f":"beta_1(X247,AD247,Z247)","v":0.63671849417416571},{"$f":"beta_1(Y247,AE247,Z247)","v":0},{"$f":"k_tHole(W247,U247)","v":2.5240609643943546},{"$f":"K_t1Mu(Z247,AH247,D247,W247,U247,SIGN(X247),mu_millScale)","v":3.3157817797196474},{"$f":"K_t1Mu(Z247,AI247,D247,W247,U247,SIGN(Y247),mu_millScale)","v":2.1051396572576149},{"$f":"Sigma_hMax(AK247,X247,AF247)","v":661.99897316286501},{"$f":"Sigma_hMin(X247,Y247,AG247,AE247,AK247,AL247,AJ247,AI247,Z247,IF(L247=1,mu_redLead,mu_millScale))","v":50.613396139070957},611.3855770237941,7.6455399767846835E-2,195.07813817648773,{"$f":"tau_n(N247,W247,U247,D247)","v":121.73633008470296},{"$f":"tau_hMax(X247,Z247,AH247,W247,U247)","v":102.91774605646194},{"$f":"tau_hMin(X247,Y247,AS247,AE247,Z247,AI247,IF(L247=1,mu_redLead,mu_millScale),W247,U247)","v":33.472248376867306},69.445497679594638]
[236,"Wilson1938","R; L",4,1,14.3,73.8,null,12.7,25.4,101.6,null,438,179.523,0,1814000,1,"B34-2","All plates are double",236,0.88811188811188801,0.3753280839895014,0.19376693766937672,179.523,0,{"$f":"IF(OR(X248>=1.6*D248*AD248,D248=1),calcLoadFraction(G248,F248,I248,J248,K248,D248,1),\"Condition for spring model not fulfilled\")","v":0.33194230491755117},{"$f":"IF(L248>2,L248,IF(L248=2,1,sigma_cl0(I248+J248)))","v":193.40166577022526},{"$f":"Sigma_cl(AA248,U248,V248,X248)","v":179.99127502175901},{"$f":"Sigma_cl(AA248,U248,V248,Y248)","v":193.40166577022526},{"$f":"sigma_Slip(AB248,W248,U248,IF(L248=1,mu_redLead,mu_millScale))","v":25.248562639630734},{"$f":"sigma_Slip(AC248,W248,U248,IF(L248=1,mu_redLead,mu_millScale))","v":27.129726550457203},{"$f":"Sigma_p(AB248,V248)","v":-24.618660811312981},{"$f":"Sigma_p(AC248,V248)","v":-26.45289339366315},{"$f":"beta_1(X248,AD248,Z248)","v":0.57630439696675595},{"$f":"beta_1(Y248,AE248,Z248)","v":0},{"$f":"k_tHole(W248,U248)","v":2.5240609643943546},{"$f":"K_t1Mu(Z248,AH248,D248,W248,U248,SIGN(X248),mu_millScale)","v":3.2123647529557884},{"$f":"K_t1Mu(Z248,AI248,D248,W248,U248,SIGN(Y248),mu_millScale)","v":2.1051396572576149},{"$f":"Sigma_hMax(AK248,X248,AF248)","v":552.074696733569},{"$f":"Sigma_hMin(X248,Y248,AG248,AE248,AK248,AL248,AJ248,AI248,Z248,IF(L248=1,mu_redLead,mu_millScale))","v":43.284639813804255},508.79005691976477,7.8403592973748271E-2,162.37927876618522,{"$f":"tau_n(N248,W248,U248,D248)","v":105.58174599763336},{"$f":"tau_hMax(X248,Z248,AH248,W248,U248)","v":80.79107173751494},{"$f":"tau_hMin(X248,Y248,AS248,AE248,Z248,AI248,IF(L248=1,mu_redLead,mu_millScale),W248,U248)","v":28.720973821362133},52.070097916152804]
[237,"Wilson1938","R; L",4,1,14.3,73.8,null,12.7,25.4,101.6,null,438,186.39,0,1257000,1,"B34-3","All plates are double",237,0.88811188811188801,0.3753280839895014,0.19376693766937672,186.39,0,{"$f":"IF(OR(X249>=1.6*D249*AD249,D249=1),calcLoadFraction(G249,F249,I249,J249,K249,D249,1),\"Condition for spring model not fulfilled\")","v":0.33194230491755117},{"$f":"IF(L249>2,L249,IF(L249=2,1,sigma_cl0(I249+J249)))","v":193.40166577022526},{"$f":"Sigma_cl(AA249,U249,V249,X249)","v":179.47830925542425},{"$f":"Sigma_cl(AA249,U249,V249,Y249)","v":193.40166577022526},{"$f":"sigma_Slip(AB249,W249,U249,IF(L249=1,mu_redLead,mu_millScale))","v":25.17660555014557},{"$f":"sigma_Slip(AC249,W249,U249,IF(L249=1,mu_redLead,mu_millScale))","v":27.129726550457203},{"$f":"Sigma_p(AB249,V249)","v":-24.548498909255873},{"$f":"Sigma_p(AC249,V249)","v":-26.45289339366315},{"$f":"beta_1(X249,AD249,Z249)","v":0.5930772581651288},{"$f":"beta_1(Y249,AE249,Z249)","v":0},{"$f":"k_tHole(W249,U249)","v":2.5240609643943546},{"$f":"K_t1Mu(Z249,AH249,D249,W249,U249,SIGN(X249),mu_millScale)","v":3.2419877456942614},{"$f":"K_t1Mu(Z249,AI249,D249,W249,U249,SIGN(Y249),mu_millScale)","v":2.1051396572576149},{"$f":"Sigma_hMax(AK249,X249,AF249)","v":579.72559701069747},{"$f":"Sigma_hMin(X249,Y249,AG249,AE249,AK249,AL249,AJ249,AI249,Z249,IF(L249=1,mu_redLead,mu_millScale))","v":45.311247865967381},534.41434914473007,7.8159819231047797E-2,170.55236516814136,{"$f":"tau_n(N249,W249,U249,D249)","v":109.62039201940074},{"$f":"tau_hMax(X249,Z249,AH249,W249,U249)","v":86.322740317251657},{"$f":"tau_hMin(X249,Y249,AS249,AE249,Z249,AI249,IF(L249=1,mu_redLead,mu_millScale),W249,U249)","v":29.986968740010852},56.335771577240806]
[238,"Wilson1938","R; L",4,1,14.3,88.9,null,6.35,9.5,76.2,null,436,193.25700000000001,0,414000,1,"B16-1","Rivet row drilled out",238,0.44405594405594401,0.90220820189274453,0.16085489313835771,193.25700000000001,0,{"$f":"IF(OR(X250>=1.6*D250*AD250,D250=1),calcLoadFraction(G250,F250,I250,J250,K250,D250,1),\"Condition for spring model not fulfilled\")","v":0.31585277800667683},{"$f":"IF(L250>2,L250,IF(L250=2,1,sigma_cl0(I250+J250)))","v":124.29180090438807},{"$f":"Sigma_cl(AA250,U250,V250,X250)","v":111.82118299818285},{"$f":"Sigma_cl(AA250,U250,V250,Y250)","v":124.29180090438807},{"$f":"sigma_Slip(AB250,W250,U250,IF(L250=1,mu_redLead,mu_millScale))","v":25.02173512750619},{"$f":"sigma_Slip(AC250,W250,U250,IF(L250=1,mu_redLead,mu_millScale))","v":27.812230539546984},{"$f":"Sigma_p(AB250,V250)","v":-38.952486270135331},{"$f":"Sigma_p(AC250,V250)","v":-43.296578862855057},{"$f":"beta_1(X250,AD250,Z250)","v":0.59008152918401879},{"$f":"beta_1(Y250,AE250,Z250)","v":0},{"$f":"k_tHole(W250,U250)","v":2.5908962033024729},{"$f":"K_t1Mu(Z250,AH250,D250,W250,U250,SIGN(X250),mu_millScale)","v":3.4488299166375151},{"$f":"K_t1Mu(Z250,AI250,D250,W250,U250,SIGN(Y250),mu_millScale)","v":2.1817253216324541},{"$f":"Sigma_hMax(AK250,X250,AF250)","v":627.55803692948098},{"$f":"Sigma_hMin(X250,Y250,AG250,AE250,AK250,AL250,AJ250,AI250,Z250,IF(L250=1,mu_redLead,mu_millScale))","v":39.21106045722351},588.34697647225744,6.2481966845768684E-2,187.42660839176574,{"$f":"tau_n(N250,W250,U250,D250)","v":71.251800318244918},{"$f":"tau_hMax(X250,Z250,AH250,W250,U250)","v":53.119325884578366},{"$f":"tau_hMin(X250,Y250,AS250,AE250,Z250,AI250,IF(L250=1,mu_redLead,mu_millScale),W250,U250)","v":18.893147270713026},34.226178613865343]
[239,"Wilson1938","R; L",4,1,14.3,88.9,null,6.35,9.5,76.2,null,436,172.65600000000001,0,1395000,1,"B16-2","Rivet row drilled out",239,0.44405594405594401,0.90220820189274453,0.16085489313835771,172.65600000000001,0,{"$f":"IF(OR(X251>=1.6*D251*AD251,D251=1),calcLoadFraction(G251,F251,I251,J251,K251,D251,1),\"Condition for spring model not fulfilled\")","v":0.31585277800667683},{"$f":"IF(L251>2,L251,IF(L251=2,1,sigma_cl0(I251+J251)))","v":124.29180090438807},{"$f":"Sigma_cl(AA251,U251,V251,X251)","v":113.15053820645853},{"$f":"Sigma_cl(AA251,U251,V251,Y251)","v":124.29180090438807},{"$f":"sigma_Slip(AB251,W251,U251,IF(L251=1,mu_redLead,mu_millScale))","v":25.319199105439473},{"$f":"sigma_Slip(AC251,W251,U251,IF(L251=1,mu_redLead,mu_millScale))","v":27.812230539546984},{"$f":"Sigma_p(AB251,V251)","v":-39.415562130272967},{"$f":"Sigma_p(AC251,V251)","v":-43.296578862855057},{"$f":"beta_1(X251,AD251,Z251)","v":0.53571613853469768},{"$f":"beta_1(Y251,AE251,Z251)","v":0},{"$f":"k_tHole(W251,U251)","v":2.5908962033024729},{"$f":"K_t1Mu(Z251,AH251,D251,W251,U251,SIGN(X251),mu_millScale)","v":3.3384240693916616},{"$f":"K_t1Mu(Z251,AI251,D251,W251,U251,SIGN(Y251),mu_millScale)","v":2.1817253216324541},{"$f":"Sigma_hMax(AK251,X251,AF251)","v":536.98338399461375},{"$f":"Sigma_hMin(X251,Y251,AG251,AE251,AK251,AL251,AJ251,AI251,Z251,IF(L251=1,mu_redLead,mu_millScale))","v":31.503670626279536},505.47971336833422,5.8667868625513257E-2,160.95888621232976,{"$f":"tau_n(N251,W251,U251,D251)","v":63.656430741173125},{"$f":"tau_hMax(X251,Z251,AH251,W251,U251)","v":43.084564342225292},{"$f":"tau_hMin(X251,Y251,AS251,AE251,Z251,AI251,IF(L251=1,mu_redLead,mu_millScale),W251,U251)","v":16.397183175715572},26.68738116650972]
[240,"Wilson1938","R; L",4,1,14.3,88.9,null,6.35,9.5,76.2,null,436,165.78899999999999,0,1345000,1,"B16-3","Rivet row drilled out",240,0.44405594405594401,0.90220820189274453,0.16085489313835771,165.78899999999999,0,{"$f":"IF(OR(X252>=1.6*D252*AD252,D252=1),calcLoadFraction(G252,F252,I252,J252,K252,D252,1),\"Condition for spring model not fulfilled\")","v":0.31585277800667683},{"$f":"IF(L252>2,L252,IF(L252=2,1,sigma_cl0(I252+J252)))","v":124.29180090438807},{"$f":"Sigma_cl(AA252,U252,V252,X252)","v":113.59365660921709},{"$f":"Sigma_cl(AA252,U252,V252,Y252)","v":124.29180090438807},{"$f":"sigma_Slip(AB252,W252,U252,IF(L252=1,mu_redLead,mu_millScale))","v":25.418353764750567},{"$f":"sigma_Slip(AC252,W252,U252,IF(L252=1,mu_redLead,mu_millScale))","v":27.812230539546984},{"$f":"Sigma_p(AB252,V252)","v":-39.569920750318843},{"$f":"Sigma_p(AC252,V252)","v":-43.296578862855057},{"$f":"beta_1(X252,AD252,Z252)","v":0.51459191376563218},{"$f":"beta_1(Y252,AE252,Z252)","v":0},{"$f":"k_tHole(W252,U252)","v":2.5908962033024729},{"$f":"K_t1Mu(Z252,AH252,D252,W252,U252,SIGN(X252),mu_millScale)","v":3.2937589978813628},{"$f":"K_t1Mu(Z252,AI252,D252,W252,U252,SIGN(Y252),mu_millScale)","v":2.1817253216324541},{"$f":"Sigma_hMax(AK252,X252,AF252)","v":506.4990897494344},{"$f":"Sigma_hMin(X252,Y252,AG252,AE252,AK252,AL252,AJ252,AI252,Z252,IF(L252=1,mu_redLead,mu_millScale))","v":28.54674817277844},477.95234157665595,5.6360907157603272E-2,152.15411911200434,{"$f":"tau_n(N252,W252,U252,D252)","v":61.124640882149187},{"$f":"tau_hMax(X252,Z252,AH252,W252,U252)","v":39.739643828107596},{"$f":"tau_hMin(X252,Y252,AS252,AE252,Z252,AI252,IF(L252=1,mu_redLead,mu_millScale),W252,U252)","v":15.487767462046419},24.251876366061175]
[241,"Wilson1938","R; L",1,2,14.3,76.2,null,9.5,9.5,45,null,431,118.70099999999999,0,46000,1,"B1-1","Rivet row drilled out",241,0.66433566433566427,0.75263157894736843,0.18766404199475065,118.70099999999999,0,{"$f":"IF(OR(X253>=1.6*D253*AD253,D253=1),calcLoadFraction(G253,F253,I253,J253,K253,D253,1),\"Condition for spring model not fulfilled\")","v":1},{"$f":"IF(L253>2,L253,IF(L253=2,1,sigma_cl0(I253+J253)))","v":140.91415548460122},{"$f":"Sigma_cl(AA253,U253,V253,X253)","v":130.5885552987456},{"$f":"Sigma_cl(AA253,U253,V253,Y253)","v":140.91415548460122},{"$f":"sigma_Slip(AB253,W253,U253,IF(L253=1,mu_redLead,mu_millScale))","v":23.539474087054771},{"$f":"sigma_Slip(AC253,W253,U253,IF(L253=1,mu_redLead,mu_millScale))","v":25.400733654956362},{"$f":"Sigma_p(AB253,V253)","v":-38.201570937948269},{"$f":"Sigma_p(AC253,V253)","v":-41.2221583628912},{"$f":"beta_1(X253,AD253,Z253)","v":0.8016910212462004},{"$f":"beta_1(Y253,AE253,Z253)","v":0},{"$f":"k_tHole(W253,U253)","v":2.5360521386688735},{"$f":"K_t1Mu(Z253,AH253,D253,W253,U253,SIGN(X253),mu_millScale)","v":5.8804093139978573},{"$f":"K_t1Mu(Z253,AI253,D253,W253,U253,SIGN(Y253),mu_millScale)","v":1.2680260693344367},{"$f":"Sigma_hMax(AK253,X253,AF253)","v":659.80889504291133},{"$f":"Sigma_hMin(X253,Y253,AG253,AE253,AK253,AL253,AJ253,AI253,Z253,IF(L253=1,mu_redLead,mu_millScale))","v":55.310210440062896},604.49868460284847,8.3827621688043086E-2,193.0473752047009,{"$f":"tau_n(N253,W253,U253,D253)","v":217.30848254776944},{"$f":"tau_hMax(X253,Z253,AH253,W253,U253)","v":174.2142592991834},{"$f":"tau_hMin(X253,Y253,AS253,AE253,Z253,AI253,IF(L253=1,mu_redLead,mu_millScale),W253,U253)","v":37.169034293567471},137.04522500561592]
[242,"Wilson1938","R; L",1,2,14.3,76.2,null,9.5,9.5,45,null,431,103.986,0,1217000,1,"B1-2","Rivet row drilled out",242,0.66433566433566427,0.75263157894736843,0.18766404199475065,103.986,0,{"$f":"IF(OR(X254>=1.6*D254*AD254,D254=1),calcLoadFraction(G254,F254,I254,J254,K254,D254,1),\"Condition for spring model not fulfilled\")","v":1},{"$f":"IF(L254>2,L254,IF(L254=2,1,sigma_cl0(I254+J254)))","v":140.91415548460122},{"$f":"Sigma_cl(AA254,U254,V254,X254)","v":131.8685883796368},{"$f":"Sigma_cl(AA254,U254,V254,Y254)","v":140.91415548460122},{"$f":"sigma_Slip(AB254,W254,U254,IF(L254=1,mu_redLead,mu_millScale))","v":23.770208744232658},{"$f":"sigma_Slip(AC254,W254,U254,IF(L254=1,mu_redLead,mu_millScale))","v":25.400733654956362},{"$f":"Sigma_p(AB254,V254)","v":-38.576023924511446},{"$f":"Sigma_p(AC254,V254)","v":-41.2221583628912},{"$f":"beta_1(X254,AD254,Z254)","v":0.77140952874201663},{"$f":"beta_1(Y254,AE254,Z254)","v":0},{"$f":"k_tHole(W254,U254)","v":2.5360521386688735},{"$f":"K_t1Mu(Z254,AH254,D254,W254,U254,SIGN(X254),mu_millScale)","v":5.7726463216371489},{"$f":"K_t1Mu(Z254,AI254,D254,W254,U254,SIGN(Y254),mu_millScale)","v":1.2680260693344367},{"$f":"Sigma_hMax(AK254,X254,AF254)","v":561.6983764772491},{"$f":"Sigma_hMin(X254,Y254,AG254,AE254,AK254,AL254,AJ254,AI254,Z254,IF(L254=1,mu_redLead,mu_millScale))","v":51.722235810633002},509.97614066661612,9.2081868092648733E-2,163.02163425559476,{"$f":"tau_n(N254,W254,U254,D254)","v":190.36941446333523},{"$f":"tau_hMax(X254,Z254,AH254,W254,U254)","v":146.85278029805508},{"$f":"tau_hMin(X254,Y254,AS254,AE254,Z254,AI254,IF(L254=1,mu_redLead,mu_millScale),W254,U254)","v":34.48366904323894},112.36911125481615]
[243,"Wilson1938","R; L",1,2,14.3,76.2,null,9.5,9.5,45,null,431,89.271000000000001,0,2276000,1,"B1-6","Rivet row drilled out",243,0.66433566433566427,0.75263157894736843,0.18766404199475065,89.271000000000001,0,{"$f":"IF(OR(X255>=1.6*D255*AD255,D255=1),calcLoadFraction(G255,F255,I255,J255,K255,D255,1),\"Condition for spring model not fulfilled\")","v":1},{"$f":"IF(L255>2,L255,IF(L255=2,1,sigma_cl0(I255+J255)))","v":140.91415548460122},{"$f":"Sigma_cl(AA255,U255,V255,X255)","v":133.14862146052801},{"$f":"Sigma_cl(AA255,U255,V255,Y255)","v":140.91415548460122},{"$f":"sigma_Slip(AB255,W255,U255,IF(L255=1,mu_redLead,mu_millScale))","v":24.000943401410542},{"$f":"sigma_Slip(AC255,W255,U255,IF(L255=1,mu_redLead,mu_millScale))","v":25.400733654956362},{"$f":"Sigma_p(AB255,V255)","v":-38.950476911074624},{"$f":"Sigma_p(AC255,V255)","v":-41.2221583628912},{"$f":"beta_1(X255,AD255,Z255)","v":0.73114512662106912},{"$f":"beta_1(Y255,AE255,Z255)","v":0},{"$f":"k_tHole(W255,U255)","v":2.5360521386688735},{"$f":"K_t1Mu(Z255,AH255,D255,W255,U255,SIGN(X255),mu_millScale)","v":5.6109665533968887},{"$f":"K_t1Mu(Z255,AI255,D255,W255,U255,SIGN(Y255),mu_millScale)","v":1.2680260693344367},{"$f":"Sigma_hMax(AK255,X255,AF255)","v":461.946118277219},{"$f":"Sigma_hMin(X255,Y255,AG255,AE255,AK255,AL255,AJ255,AI255,Z255,IF(L255=1,mu_redLead,mu_millScale))","v":46.870707101457647},415.07541117576136,0.10146358037655381,132.83622844490731,{"$f":"tau_n(N255,W255,U255,D255)","v":163.43034637890099},{"$f":"tau_hMax(X255,Z255,AH255,W255,U255)","v":119.49130129692675},{"$f":"tau_hMin(X255,Y255,AS255,AE255,Z255,AI255,IF(L255=1,mu_redLead,mu_millScale),W255,U255)","v":31.241601316523177},88.249699980403577]
[244,"Wilson1938","R; L",1,2,14.3,76.2,null,9.5,12.7,50.8,null,423,103.005,0,679000,1,"B31-1",null,244,0.66433566433566427,0.64414414414414423,0.18766404199475065,103.005,0,{"$f":"IF(OR(X256>=1.6*D256*AD256,D256=1),calcLoadFraction(G256,F256,I256,J256,K256,D256,1),\"Condition for spring model not fulfilled\")","v":1},{"$f":"IF(L256>2,L256,IF(L256=2,1,sigma_cl0(I256+J256)))","v":154.34483468612157},{"$f":"Sigma_cl(AA256,U256,V256,X256)","v":146.17563603136225},{"$f":"Sigma_cl(AA256,U256,V256,Y256)","v":154.34483468612157},{"$f":"sigma_Slip(AB256,W256,U256,IF(L256=1,mu_redLead,mu_millScale))","v":26.349151260976189},{"$f":"sigma_Slip(AC256,W256,U256,IF(L256=1,mu_redLead,mu_millScale))","v":27.821704806007688},{"$f":"Sigma_p(AB256,V256)","v":-36.524349302722484},{"$f":"Sigma_p(AC256,V256)","v":-38.565555849111263},{"$f":"beta_1(X256,AD256,Z256)","v":0.74419541516454357},{"$f":"beta_1(Y256,AE256,Z256)","v":0},{"$f":"k_tHole(W256,U256)","v":2.5360521386688735},{"$f":"K_t1Mu(Z256,AH256,D256,W256,U256,SIGN(X256),mu_millScale)","v":5.6655673967017899},{"$f":"K_t1Mu(Z256,AI256,D256,W256,U256,SIGN(Y256),mu_millScale)","v":1.2680260693344367},{"$f":"Sigma_hMax(AK256,X256,AF256)","v":547.05742039454537},{"$f":"Sigma_hMin(X256,Y256,AG256,AE256,AK256,AL256,AJ256,AI256,Z256,IF(L256=1,mu_redLead,mu_millScale))","v":59.739555167727566},487.31786522681779,0.10920161749134592,156.10500656442738,{"$f":"tau_n(N256,W256,U256,D256)","v":188.57347659103959},{"$f":"tau_hMax(X256,Z256,AH256,W256,U256)","v":140.33551670069005},{"$f":"tau_hMin(X256,Y256,AS256,AE256,Z256,AI256,IF(L256=1,mu_redLead,mu_millScale),W256,U256)","v":35.384195566564117},104.95132113412593]
[245,"Wilson1938","R; L",1,2,14.3,76.2,null,9.5,12.7,50.8,null,423,117.72,0,517000,1,"B31-2",null,245,0.66433566433566427,0.64414414414414423,0.18766404199475065,117.72,0,{"$f":"IF(OR(X257>=1.6*D257*AD257,D257=1),calcLoadFraction(G257,F257,I257,J257,K257,D257,1),\"Condition for spring model not fulfilled\")","v":1},{"$f":"IF(L257>2,L257,IF(L257=2,1,sigma_cl0(I257+J257)))","v":154.34483468612157},{"$f":"Sigma_cl(AA257,U257,V257,X257)","v":145.00860765211092},{"$f":"Sigma_cl(AA257,U257,V257,Y257)","v":154.34483468612157},{"$f":"sigma_Slip(AB257,W257,U257,IF(L257=1,mu_redLead,mu_millScale))","v":26.138786468828833},{"$f":"sigma_Slip(AC257,W257,U257,IF(L257=1,mu_redLead,mu_millScale))","v":27.821704806007688},{"$f":"Sigma_p(AB257,V257)","v":-36.232748367524088},{"$f":"Sigma_p(AC257,V257)","v":-38.565555849111263},{"$f":"beta_1(X257,AD257,Z257)","v":0.77795798106669356},{"$f":"beta_1(Y257,AE257,Z257)","v":0},{"$f":"k_tHole(W257,U257)","v":2.5360521386688735},{"$f":"K_t1Mu(Z257,AH257,D257,W257,U257,SIGN(X257),mu_millScale)","v":5.7969926877800235},{"$f":"K_t1Mu(Z257,AI257,D257,W257,U257,SIGN(Y257),mu_millScale)","v":1.2680260693344367},{"$f":"Sigma_hMax(AK257,X257,AF257)","v":646.18923083794027},{"$f":"Sigma_hMin(X257,Y257,AG257,AE257,AK257,AL257,AJ257,AI257,Z257,IF(L257=1,mu_redLead,mu_millScale))","v":64.183484584942917},582.00574625299737,9.9326143986821852E-2,186.21015655426947,{"$f":"tau_n(N257,W257,U257,D257)","v":215.51254467547383},{"$f":"tau_hMax(X257,Z257,AH257,W257,U257)","v":167.65970415027724},{"$f":"tau_hMin(X257,Y257,AS257,AE257,Z257,AI257,IF(L257=1,mu_redLead,mu_millScale),W257,U257)","v":38.447790341079184},129.21191380919805]
[246,"Wilson1938","R; L",1,2,14.3,76.2,null,9.5,12.7,50.8,null,423,87.308999999999997,0,1714000,1,"B31-3",null,246,0.66433566433566427,0.64414414414414423,0.18766404199475065,87.308999999999997,0,{"$f":"IF(OR(X258>=1.6*D258*AD258,D258=1),calcLoadFraction(G258,F258,I258,J258,K258,D258,1),\"Condition for spring model not fulfilled\")","v":1},{"$f":"IF(L258>2,L258,IF(L258=2,1,sigma_cl0(I258+J258)))","v":154.34483468612157},{"$f":"Sigma_cl(AA258,U258,V258,X258)","v":147.42046630256368},{"$f":"Sigma_cl(AA258,U258,V258,Y258)","v":154.34483468612157},{"$f":"sigma_Slip(AB258,W258,U258,IF(L258=1,mu_redLead,mu_millScale))","v":26.573540372600036},{"$f":"sigma_Slip(AC258,W258,U258,IF(L258=1,mu_redLead,mu_millScale))","v":27.821704806007688},{"$f":"Sigma_p(AB258,V258)","v":-36.835390300267449},{"$f":"Sigma_p(AC258,V258)","v":-38.565555849111263},{"$f":"beta_1(X258,AD258,Z258)","v":0.69563801701313688},{"$f":"beta_1(Y258,AE258,Z258)","v":0},{"$f":"k_tHole(W258,U258)","v":2.5360521386688735},{"$f":"K_t1Mu(Z258,AH258,D258,W258,U258,SIGN(X258),mu_millScale)","v":5.4523869062250263},{"$f":"K_t1Mu(Z258,AI258,D258,W258,U258,SIGN(Y258),mu_millScale)","v":1.2680260693344367},{"$f":"Sigma_hMax(AK258,X258,AF258)","v":439.20705809533337},{"$f":"Sigma_hMin(X258,Y258,AG258,AE258,AK258,AL258,AJ258,AI258,Z258,IF(L258=1,mu_redLead,mu_millScale))","v":53.259808355496588},385.94724973983676,0.12126355297308571,123.82064258714759,{"$f":"tau_n(N258,W258,U258,D258)","v":159.83847063430974},{"$f":"tau_hMax(X258,Z258,AH258,W258,U258)","v":111.18971675446375},{"$f":"tau_hMin(X258,Y258,AS258,AE258,Z258,AI258,IF(L258=1,mu_redLead,mu_millScale),W258,U258)","v":31.412754173886768},79.776962580576978]
[247,"Wilson1938","R; L",1,2,14.3,76.2,null,9.5,12.7,57.2,null,423,102.73,0,2087000,0,"B32-2",null,247,0.66433566433566427,0.64414414414414423,0.18766404199475065,102.73,0,{"$f":"IF(OR(X259>=1.6*D259*AD259,D259=1),calcLoadFraction(G259,F259,I259,J259,K259,D259,1),\"Condition for spring model not fulfilled\")","v":1},{"$f":"IF(L259>2,L259,IF(L259=2,1,sigma_cl0(I259+J259)))","v":154.34483468612157},{"$f":"Sigma_cl(AA259,U259,V259,X259)","v":146.19744593991095},{"$f":"Sigma_cl(AA259,U259,V259,Y259)","v":154.34483468612157},{"$f":"sigma_Slip(AB259,W259,U259,IF(L259=1,mu_redLead,mu_millScale))","v":26.353082645131167},{"$f":"sigma_Slip(AC259,W259,U259,IF(L259=1,mu_redLead,mu_millScale))","v":27.821704806007688},{"$f":"Sigma_p(AB259,V259)","v":-36.529798861484267},{"$f":"Sigma_p(AC259,V259)","v":-38.565555849111263},{"$f":"beta_1(X259,AD259,Z259)","v":0.74347237763913987},{"$f":"beta_1(Y259,AE259,Z259)","v":0},{"$f":"k_tHole(W259,U259)","v":2.5360521386688735},{"$f":"K_t1Mu(Z259,AH259,D259,W259,U259,SIGN(X259),mu_millScale)","v":5.6625962212635157},{"$f":"K_t1Mu(Z259,AI259,D259,W259,U259,SIGN(Y259),mu_millScale)","v":1.2680260693344367},{"$f":"Sigma_hMax(AK259,X259,AF259)","v":545.18871094891676},{"$f":"Sigma_hMin(X259,Y259,AG259,AE259,AK259,AL259,AJ259,AI259,Z259,IF(L259=1,mu_redLead,mu_millScale))","v":59.643715758029494},485.54499519088728,0.10940012982700591,155.5409388502184,{"$f":"tau_n(N259,W259,U259,D259)","v":188.07002815589047},{"$f":"tau_hMax(X259,Z259,AH259,W259,U259)","v":139.82487099571989},{"$f":"tau_hMin(X259,Y259,AS259,AE259,Z259,AI259,IF(L259=1,mu_redLead,mu_millScale),W259,U259)","v":35.321528363277281},104.50334263244261]
[248,"Wilson1938","R; L",1,2,14.3,76.2,null,9.5,12.7,57.2,null,423,117.72,0,225000,1,"B32-1",null,248,0.66433566433566427,0.64414414414414423,0.18766404199475065,117.72,0,{"$f":"IF(OR(X260>=1.6*D260*AD260,D260=1),calcLoadFraction(G260,F260,I260,J260,K260,D260,1),\"Condition for spring model not fulfilled\")","v":1},{"$f":"IF(L260>2,L260,IF(L260=2,1,sigma_cl0(I260+J260)))","v":154.34483468612157},{"$f":"Sigma_cl(AA260,U260,V260,X260)","v":145.00860765211092},{"$f":"Sigma_cl(AA260,U260,V260,Y260)","v":154.34483468612157},{"$f":"sigma_Slip(AB260,W260,U260,IF(L260=1,mu_redLead,mu_millScale))","v":26.138786468828833},{"$f":"sigma_Slip(AC260,W260,U260,IF(L260=1,mu_redLead,mu_millScale))","v":27.821704806007688},{"$f":"Sigma_p(AB260,V260)","v":-36.232748367524088},{"$f":"Sigma_p(AC260,V260)","v":-38.565555849111263},{"$f":"beta_1(X260,AD260,Z260)","v":0.77795798106669356},{"$f":"beta_1(Y260,AE260,Z260)","v":0},{"$f":"k_tHole(W260,U260)","v":2.5360521386688735},{"$f":"K_t1Mu(Z260,AH260,D260,W260,U260,SIGN(X260),mu_millScale)","v":5.7969926877800235},{"$f":"K_t1Mu(Z260,AI260,D260,W260,U260,SIGN(Y260),mu_millScale)","v":1.2680260693344367},{"$f":"Sigma_hMax(AK260,X260,AF260)","v":646.18923083794027},{"$f":"Sigma_hMin(X260,Y260,AG260,AE260,AK260,AL260,AJ260,AI260,Z260,IF(L260=1,mu_redLead,mu_millScale))","v":64.183484584942917},582.00574625299737,9.9326143986821852E-2,186.21015655426947,{"$f":"tau_n(N260,W260,U260,D260)","v":215.51254467547383},{"$f":"tau_hMax(X260,Z260,AH260,W260,U260)","v":167.65970415027724},{"$f":"tau_hMin(X260,Y260,AS260,AE260,Z260,AI260,IF(L260=1,mu_redLead,mu_millScale),W260,U260)","v":38.447790341079184},129.21191380919805]
[249,"Wilson1938","R; L",1,2,14.3,76.2,null,9.5,12.7,57.2,null,423,111.834,0,1389000,1,"B32-3",null,249,0.66433566433566427,0.64414414414414423,0.18766404199475065,111.834,0,{"$f":"IF(OR(X261>=1.6*D261*AD261,D261=1),calcLoadFraction(G261,F261,I261,J261,K261,D261,1),\"Condition for spring model not fulfilled\")","v":1},{"$f":"IF(L261>2,L261,IF(L261=2,1,sigma_cl0(I261+J261)))","v":154.34483468612157},{"$f":"Sigma_cl(AA261,U261,V261,X261)","v":145.47541900381145},{"$f":"Sigma_cl(AA261,U261,V261,Y261)","v":154.34483468612157},{"$f":"sigma_Slip(AB261,W261,U261,IF(L261=1,mu_redLead,mu_millScale))","v":26.222932385687773},{"$f":"sigma_Slip(AC261,W261,U261,IF(L261=1,mu_redLead,mu_millScale))","v":27.821704806007688},{"$f":"Sigma_p(AB261,V261)","v":-36.349388741603448},{"$f":"Sigma_p(AC261,V261)","v":-38.565555849111263},{"$f":"beta_1(X261,AD261,Z261)","v":0.76551914099748042},{"$f":"beta_1(Y261,AE261,Z261)","v":0},{"$f":"k_tHole(W261,U261)","v":2.5360521386688735},{"$f":"K_t1Mu(Z261,AH261,D261,W261,U261,SIGN(X261),mu_millScale)","v":5.7502683128205323},{"$f":"K_t1Mu(Z261,AI261,D261,W261,U261,SIGN(Y261),mu_millScale)","v":1.2680260693344367},{"$f":"Sigma_hMax(AK261,X261,AF261)","v":606.72611775436803},{"$f":"Sigma_hMin(X261,Y261,AG261,AE261,AK261,AL261,AJ261,AI261,Z261,IF(L261=1,mu_redLead,mu_millScale))","v":62.553995845808664},544.17212190855935,0.1031008786589496,174.18592452314564,{"$f":"tau_n(N261,W261,U261,D261)","v":204.73691744170014},{"$f":"tau_hMax(X261,Z261,AH261,W261,U261)","v":156.73002917044238},{"$f":"tau_hMin(X261,Y261,AS261,AE261,Z261,AI261,IF(L261=1,mu_redLead,mu_millScale),W261,U261)","v":37.286491114344813},119.44353805609757]
[250,"Wilson1938","R; L",1,2,14.3,76.2,null,9.5,12.7,63.5,null,423,117.72,0,109000,1,"B33-1",null,250,0.66433566433566427,0.64414414414414423,0.18766404199475065,117.72,0,{"$f":"IF(OR(X262>=1.6*D262*AD262,D262=1),calcLoadFraction(G262,F262,I262,J262,K262,D262,1),\"Condition for spring model not fulfilled\")","v":1},{"$f":"IF(L262>2,L262,IF(L262=2,1,sigma_cl0(I262+J262)))","v":154.34483468612157},{"$f":"Sigma_cl(AA262,U262,V262,X262)","v":145.00860765211092},{"$f":"Sigma_cl(AA262,U262,V262,Y262)","v":154.34483468612157},{"$f":"sigma_Slip(AB262,W262,U262,IF(L262=1,mu_redLead,mu_millScale))","v":26.138786468828833},{"$f":"sigma_Slip(AC262,W262,U262,IF(L262=1,mu_redLead,mu_millScale))","v":27.821704806007688},{"$f":"Sigma_p(AB262,V262)","v":-36.232748367524088},{"$f":"Sigma_p(AC262,V262)","v":-38.565555849111263},{"$f":"beta_1(X262,AD262,Z262)","v":0.77795798106669356},{"$f":"beta_1(Y262,AE262,Z262)","v":0},{"$f":"k_tHole(W262,U262)","v":2.5360521386688735},{"$f":"K_t1Mu(Z262,AH262,D262,W262,U262,SIGN(X262),mu_millScale)","v":5.7969926877800235},{"$f":"K_t1Mu(Z262,AI262,D262,W262,U262,SIGN(Y262),mu_millScale)","v":1.2680260693344367},{"$f":"Sigma_hMax(AK262,X262,AF262)","v":646.18923083794027},{"$f":"Sigma_hMin(X262,Y262,AG262,AE262,AK262,AL262,AJ262,AI262,Z262,IF(L262=1,mu_redLead,mu_millScale))","v":64.183484584942917},582.00574625299737,9.9326143986821852E-2,186.21015655426947,{"$f":"tau_n(N262,W262,U262,D262)","v":215.51254467547383},{"$f":"tau_hMax(X262,Z262,AH262,W262,U262)","v":167.65970415027724},{"$f":"tau_hMin(X262,Y262,AS262,AE262,Z262,AI262,IF(L262=1,mu_redLead,mu_millScale),W262,U262)","v":38.447790341079184},129.21191380919805]
[251,"Wilson1938","R; L",1,2,14.3,76.2,null,9.5,12.7,63.5,null,423,103.005,0,2089000,1,"B33-2",null,251,0.66433566433566427,0.64414414414414423,0.18766404199475065,103.005,0,{"$f":"IF(OR(X263>=1.6*D263*AD263,D263=1),calcLoadFraction(G263,F263,I263,J263,K263,D263,1),\"Condition for spring model not fulfilled\")","v":1},{"$f":"IF(L263>2,L263,IF(L263=2,1,sigma_cl0(I263+J263)))","v":154.34483468612157},{"$f":"Sigma_cl(AA263,U263,V263,X263)","v":146.17563603136225},{"$f":"Sigma_cl(AA263,U263,V263,Y263)","v":154.34483468612157},{"$f":"sigma_Slip(AB263,W263,U263,IF(L263=1,mu_redLead,mu_millScale))","v":26.349151260976189},{"$f":"sigma_Slip(AC263,W263,U263,IF(L263=1,mu_redLead,mu_millScale))","v":27.821704806007688},{"$f":"Sigma_p(AB263,V263)","v":-36.524349302722484},{"$f":"Sigma_p(AC263,V263)","v":-38.565555849111263},{"$f":"beta_1(X263,AD263,Z263)","v":0.74419541516454357},{"$f":"beta_1(Y263,AE263,Z263)","v":0},{"$f":"k_tHole(W263,U263)","v":2.5360521386688735},{"$f":"K_t1Mu(Z263,AH263,D263,W263,U263,SIGN(X263),mu_millScale)","v":5.6655673967017899},{"$f":"K_t1Mu(Z263,AI263,D263,W263,U263,SIGN(Y263),mu_millScale)","v":1.2680260693344367},{"$f":"Sigma_hMax(AK263,X263,AF263)","v":547.05742039454537},{"$f":"Sigma_hMin(X263,Y263,AG263,AE263,AK263,AL263,AJ263,AI263,Z263,IF(L263=1,mu_redLead,mu_millScale))","v":59.739555167727566},487.31786522681779,0.10920161749134592,156.10500656442738,{"$f":"tau_n(N263,W263,U263,D263)","v":188.57347659103959},{"$f":"tau_hMax(X263,Z263,AH263,W263,U263)","v":140.33551670069005},{"$f":"tau_hMin(X263,Y263,AS263,AE263,Z263,AI263,IF(L263=1,mu_redLead,mu_millScale),W263,U263)","v":35.384195566564117},104.95132113412593]
[252,"Wilson1938","R; L",1,2,14.3,76.2,null,9.5,12.7,63.5,null,423,111.834,0,186000,1,"B33-3",null,252,0.66433566433566427,0.64414414414414423,0.18766404199475065,111.834,0,{"$f":"IF(OR(X264>=1.6*D264*AD264,D264=1),calcLoadFraction(G264,F264,I264,J264,K264,D264,1),\"Condition for spring model not fulfilled\")","v":1},{"$f":"IF(L264>2,L264,IF(L264=2,1,sigma_cl0(I264+J264)))","v":154.34483468612157},{"$f":"Sigma_cl(AA264,U264,V264,X264)","v":145.47541900381145},{"$f":"Sigma_cl(AA264,U264,V264,Y264)","v":154.34483468612157},{"$f":"sigma_Slip(AB264,W264,U264,IF(L264=1,mu_redLead,mu_millScale))","v":26.222932385687773},{"$f":"sigma_Slip(AC264,W264,U264,IF(L264=1,mu_redLead,mu_millScale))","v":27.821704806007688},{"$f":"Sigma_p(AB264,V264)","v":-36.349388741603448},{"$f":"Sigma_p(AC264,V264)","v":-38.565555849111263},{"$f":"beta_1(X264,AD264,Z264)","v":0.76551914099748042},{"$f":"beta_1(Y264,AE264,Z264)","v":0},{"$f":"k_tHole(W264,U264)","v":2.5360521386688735},{"$f":"K_t1Mu(Z264,AH264,D264,W264,U264,SIGN(X264),mu_millScale)","v":5.7502683128205323},{"$f":"K_t1Mu(Z264,AI264,D264,W264,U264,SIGN(Y264),mu_millScale)","v":1.2680260693344367},{"$f":"Sigma_hMax(AK264,X264,AF264)","v":606.72611775436803},{"$f":"Sigma_hMin(X264,Y264,AG264,AE264,AK264,AL264,AJ264,AI264,Z264,IF(L264=1,mu_redLead,mu_millScale))","v":62.553995845808664},544.17212190855935,0.1031008786589496,174.18592452314564,{"$f":"tau_n(N264,W264,U264,D264)","v":204.73691744170014},{"$f":"tau_hMax(X264,Z264,AH264,W264,U264)","v":156.73002917044238},{"$f":"tau_hMin(X264,Y264,AS264,AE264,Z264,AI264,IF(L264=1,mu_redLead,mu_millScale),W264,U264)","v":37.286491114344813},119.44353805609757]
[253,"Wilson1938","R; L",2,2,14.3,51.6,61.9,6.35,9.5,103,null,443,206.99100000000001,0,520000,1,"B17-1",null,253,0.44405594405594401,0.90220820189274453,0.27713178294573643,206.99100000000001,0,{"$f":"IF(OR(X265>=1.6*D265*AD265,D265=1),calcLoadFraction(G265,F265,I265,J265,K265,D265,1),\"Condition for spring model not fulfilled\")","v":0.52766483467335756},{"$f":"IF(L265>2,L265,IF(L265=2,1,sigma_cl0(I265+J265)))","v":124.29180090438807},{"$f":"Sigma_cl(AA265,U265,V265,X265)","v":110.93494619266573},{"$f":"Sigma_cl(AA265,U265,V265,Y265)","v":124.29180090438807},{"$f":"sigma_Slip(AB265,W265,U265,IF(L265=1,mu_redLead,mu_millScale))","v":49.646851617768007},{"$f":"sigma_Slip(AC265,W265,U265,IF(L265=1,mu_redLead,mu_millScale))","v":55.624461079093969},{"$f":"Sigma_p(AB265,V265)","v":-38.643769030043579},{"$f":"Sigma_p(AC265,V265)","v":-43.296578862855057},{"$f":"beta_1(X265,AD265,Z265)","v":0.54544954410355517},{"$f":"beta_1(Y265,AE265,Z265)","v":0},{"$f":"k_tHole(W265,U265)","v":2.3777264443638551},{"$f":"K_t1Mu(Z265,AH265,D265,W265,U265,SIGN(X265),mu_millScale)","v":2.8864018139074492},{"$f":"K_t1Mu(Z265,AI265,D265,W265,U265,SIGN(Y265),mu_millScale)","v":1.7504051287819931},{"$f":"Sigma_hMax(AK265,X265,AF265)","v":558.81542883247323},{"$f":"Sigma_hMin(X265,Y265,AG265,AE265,AK265,AL265,AJ265,AI265,Z265,IF(L265=1,mu_redLead,mu_millScale))","v":57.583220923688863},501.23220790878435,0.10304515221420575,160.44004113960546,{"$f":"tau_n(N265,W265,U265,D265)","v":76.315380036292794},{"$f":"tau_hMax(X265,Z265,AH265,W265,U265)","v":43.929352536190081},{"$f":"tau_hMin(X265,Y265,AS265,AE265,Z265,AI265,IF(L265=1,mu_redLead,mu_millScale),W265,U265)","v":16.70478192435613},27.224570611833951]
[254,"Wilson1938","R; L",2,2,14.3,51.6,61.9,6.35,9.5,103,null,443,193.25700000000001,0,760000,2,"B17-2",null,254,0.44405594405594401,0.90220820189274453,0.27713178294573643,193.25700000000001,0,{"$f":"IF(OR(X266>=1.6*D266*AD266,D266=1),calcLoadFraction(G266,F266,I266,J266,K266,D266,1),\"Condition for spring model not fulfilled\")","v":0.52766483467335756},{"$f":"IF(L266>2,L266,IF(L266=2,1,sigma_cl0(I266+J266)))","v":124.29180090438807},{"$f":"Sigma_cl(AA266,U266,V266,X266)","v":111.82118299818285},{"$f":"Sigma_cl(AA266,U266,V266,Y266)","v":124.29180090438807},{"$f":"sigma_Slip(AB266,W266,U266,IF(L266=1,mu_redLead,mu_millScale))","v":50.04347025501238},{"$f":"sigma_Slip(AC266,W266,U266,IF(L266=1,mu_redLead,mu_millScale))","v":55.624461079093969},{"$f":"Sigma_p(AB266,V266)","v":-38.952486270135331},{"$f":"Sigma_p(AC266,V266)","v":-43.296578862855057},{"$f":"beta_1(X266,AD266,Z266)","v":0.50925709179151468},{"$f":"beta_1(Y266,AE266,Z266)","v":0},{"$f":"k_tHole(W266,U266)","v":2.3777264443638551},{"$f":"K_t1Mu(Z266,AH266,D266,W266,U266,SIGN(X266),mu_millScale)","v":2.8127073029241672},{"$f":"K_t1Mu(Z266,AI266,D266,W266,U266,SIGN(Y266),mu_millScale)","v":1.7504051287819931},{"$f":"Sigma_hMax(AK266,X266,AF266)","v":504.62288897108044},{"$f":"Sigma_hMin(X266,Y266,AG266,AE266,AK266,AL266,AJ266,AI266,Z266,IF(L266=1,mu_redLead,mu_millScale))","v":51.505056152344956},453.11783281873551,0.10206642876894288,145.02162608669937,{"$f":"tau_n(N266,W266,U266,D266)","v":71.251800318244918},{"$f":"tau_hMax(X266,Z266,AH266,W266,U266)","v":38.293148480811247},{"$f":"tau_hMin(X266,Y266,AS266,AE266,Z266,AI266,IF(L266=1,mu_redLead,mu_millScale),W266,U266)","v":15.155983829069905},23.137164651741344]
[255,"Wilson1938","R; L",2,2,14.3,51.6,61.9,6.35,9.5,103,null,443,172.65600000000001,0,715000,1,"B17-3",null,255,0.44405594405594401,0.90220820189274453,0.27713178294573643,172.65600000000001,0,{"$f":"IF(OR(X267>=1.6*D267*AD267,D267=1),calcLoadFraction(G267,F267,I267,J267,K267,D267,1),\"Condition for spring model not fulfilled\")","v":0.52766483467335756},{"$f":"IF(L267>2,L267,IF(L267=2,1,sigma_cl0(I267+J267)))","v":124.29180090438807},{"$f":"Sigma_cl(AA267,U267,V267,X267)","v":113.15053820645853},{"$f":"Sigma_cl(AA267,U267,V267,Y267)","v":124.29180090438807},{"$f":"sigma_Slip(AB267,W267,U267,IF(L267=1,mu_redLead,mu_millScale))","v":50.638398210878947},{"$f":"sigma_Slip(AC267,W267,U267,IF(L267=1,mu_redLead,mu_millScale))","v":55.624461079093969},{"$f":"Sigma_p(AB267,V267)","v":-39.415562130272967},{"$f":"Sigma_p(AC267,V267)","v":-43.296578862855057},{"$f":"beta_1(X267,AD267,Z267)","v":0.44417236930991905},{"$f":"beta_1(Y267,AE267,Z267)","v":0},{"$f":"k_tHole(W267,U267)","v":2.3777264443638551},{"$f":"K_t1Mu(Z267,AH267,D267,W267,U267,SIGN(X267),mu_millScale)","v":2.6746947671327561},{"$f":"K_t1Mu(Z267,AI267,D267,W267,U267,SIGN(Y267),mu_millScale)","v":1.7504051287819931},{"$f":"Sigma_hMax(AK267,X267,AF267)","v":422.38653758380019},{"$f":"Sigma_hMin(X267,Y267,AG267,AE267,AK267,AL267,AJ267,AI267,Z267,IF(L267=1,mu_redLead,mu_millScale))","v":40.846579951358528},381.53995763244166,9.6704265682839602E-2,122.03310621125871,{"$f":"tau_n(N267,W267,U267,D267)","v":63.656430741173132},{"$f":"tau_hMax(X267,Z267,AH267,W267,U267)","v":29.83884239774299},{"$f":"tau_hMin(X267,Y267,AS267,AE267,Z267,AI267,IF(L267=1,mu_redLead,mu_millScale),W267,U267)","v":12.585470270665972},17.253372127077018]
[256,"Wilson1938","R; L",2,2,14.3,52.4,53.975000000000001,9.5,50.8,101.6,null,447,227.59200000000001,0,125000,1,"B27-1",null,{"$f":"A268","v":256},0.66433566433566427,0.23714759535655061,0.27290076335877866,227.59200000000001,0,{"$f":"IF(OR(X268>=1.6*D268*AD268,D268=1),calcLoadFraction(G268,F268,I268,J268,K268,D268,1),\"Condition for spring model not fulfilled\")","v":0.54096019684460861},{"$f":"IF(L268>2,L268,IF(L268=2,1,sigma_cl0(I268+J268)))","v":217.17964123480996},{"$f":"Sigma_cl(AA268,U268,V268,X268)","v":208.13622212675168},{"$f":"Sigma_cl(AA268,U268,V268,Y268)","v":217.17964123480996},{"$f":"sigma_Slip(AB268,W268,U268,IF(L268=1,mu_redLead,mu_millScale))","v":60.954388563056114},{"$f":"sigma_Slip(AC268,W268,U268,IF(L268=1,mu_redLead,mu_millScale))","v":63.6028275354684},{"$f":"Sigma_p(AB268,V268)","v":-15.925532365299798},{"$f":"Sigma_p(AC268,V268)","v":-16.617489114714836},{"$f":"beta_1(X268,AD268,Z268)","v":0.50491168594594771},{"$f":"beta_1(Y268,AE268,Z268)","v":0},{"$f":"k_tHole(W268,U268)","v":2.3843979528075154},{"$f":"K_t1Mu(Z268,AH268,D268,W268,U268,SIGN(X268),mu_millScale)","v":2.8349074122011078},{"$f":"K_t1Mu(Z268,AI268,D268,W268,U268,SIGN(Y268),mu_millScale)","v":1.7394657598541978},{"$f":"Sigma_hMax(AK268,X268,AF268)","v":629.27671539237474},{"$f":"Sigma_hMin(X268,Y268,AG268,AE268,AK268,AL268,AJ268,AI268,Z268,IF(L268=1,mu_redLead,mu_millScale))","v":93.993343301749718},535.28337209062499,0.14936726721747803,{"$f":"AO268/3.16*(1-0.9*AP268)/(1-AP268)","v":172.36794506987343},{"$f":"tau_n(N268,W268,U268,D268)","v":128.22822326975282},{"$f":"tau_hMax(X268,Z268,AH268,W268,U268)","v":70.047776500251743},{"$f":"tau_hMin(X268,Y268,AS268,AE268,Z268,AI268,IF(L268=1,mu_redLead,mu_millScale),W268,U268)","v":26.861259353922431},{"$f":"(AS268-AT268)","v":43.186517146329308}]
[257,"Wilson1938","R; L",2,2,14.3,52.4,53.975000000000001,9.5,50.8,101.6,null,447,206.99100000000001,0,510000,1,"B27-2",null,257,0.66433566433566427,0.23714759535655061,0.27290076335877866,206.99100000000001,0,{"$f":"IF(OR(X269>=1.6*D269*AD269,D269=1),calcLoadFraction(G269,F269,I269,J269,K269,D269,1),\"Condition for spring model not fulfilled\")","v":0.54096019684460861},{"$f":"IF(L269>2,L269,IF(L269=2,1,sigma_cl0(I269+J269)))","v":217.17964123480996},{"$f":"Sigma_cl(AA269,U269,V269,X269)","v":208.95480747705005},{"$f":"Sigma_cl(AA269,U269,V269,Y269)","v":217.17964123480996},{"$f":"sigma_Slip(AB269,W269,U269,IF(L269=1,mu_redLead,mu_millScale))","v":61.194117952800319},{"$f":"sigma_Slip(AC269,W269,U269,IF(L269=1,mu_redLead,mu_millScale))","v":63.6028275354684},{"$f":"Sigma_p(AB269,V269)","v":-15.988166381410641},{"$f":"Sigma_p(AC269,V269)","v":-16.617489114714836},{"$f":"beta_1(X269,AD269,Z269)","v":0.45349655350567469},{"$f":"beta_1(Y269,AE269,Z269)","v":0},{"$f":"k_tHole(W269,U269)","v":2.3843979528075154},{"$f":"K_t1Mu(Z269,AH269,D269,W269,U269,SIGN(X269),mu_millScale)","v":2.721675408155301},{"$f":"K_t1Mu(Z269,AI269,D269,W269,U269,SIGN(Y269),mu_millScale)","v":1.7394657598541978},{"$f":"Sigma_hMax(AK269,X269,AF269)","v":547.37414802806325},{"$f":"Sigma_hMin(X269,Y269,AG269,AE269,AK269,AL269,AJ269,AI269,Z269,IF(L269=1,mu_redLead,mu_millScale))","v":84.0003260495142},463.37382197854902,0.15346052851076117,149.29552360237355,{"$f":"tau_n(N269,W269,U269,D269)","v":116.6213582324045},{"$f":"tau_hMax(X269,Z269,AH269,W269,U269)","v":57.219939343947793},{"$f":"tau_hMin(X269,Y269,AS269,AE269,Z269,AI269,IF(L269=1,mu_redLead,mu_millScale),W269,U269)","v":23.17746006005509},34.042479283892703]
[258,"Wilson1938","R; L",2,2,14.3,52.4,53.975000000000001,9.5,50.8,101.6,null,447,186.39,0,1520000,1,"B27-3",null,258,0.66433566433566427,0.23714759535655061,0.27290076335877866,186.39,0,{"$f":"IF(OR(X270>=1.6*D270*AD270,D270=1),calcLoadFraction(G270,F270,I270,J270,K270,D270,1),\"Condition for spring model not fulfilled\")","v":"Condition for spring model not fulfilled"},{"$f":"IF(L270>2,L270,IF(L270=2,1,sigma_cl0(I270+J270)))","v":217.17964123480996},{"$f":"Sigma_cl(AA270,U270,V270,X270)","v":209.77339282734843},{"$f":"Sigma_cl(AA270,U270,V270,Y270)","v":217.17964123480996},{"$f":"sigma_Slip(AB270,W270,U270,IF(L270=1,mu_redLead,mu_millScale))","v":61.433847342544532},{"$f":"sigma_Slip(AC270,W270,U270,IF(L270=1,mu_redLead,mu_millScale))","v":63.6028275354684},{"$f":"Sigma_p(AB270,V270)","v":-16.050800397521485},{"$f":"Sigma_p(AC270,V270)","v":-16.617489114714836},{"$f":"beta_1(X270,AD270,Z270)","v":{"$error":"#VALUE!"}},{"$f":"beta_1(Y270,AE270,Z270)","v":{"$error":"#VALUE!"}},{"$f":"k_tHole(W270,U270)","v":2.3843979528075154},{"$f":"K_t1Mu(Z270,AH270,D270,W270,U270,SIGN(X270),mu_millScale)","v":{"$error":"#VALUE!"}},{"$f":"K_t1Mu(Z270,AI270,D270,W270,U270,SIGN(Y270),mu_millScale)","v":{"$error":"#VALUE!"}},{"$f":"Sigma_hMax(AK270,X270,AF270)","v":{"$error":"#VALUE!"}},{"$f":"Sigma_hMin(X270,Y270,AG270,AE270,AK270,AL270,AJ270,AI270,Z270,IF(L270=1,mu_redLead,mu_millScale))","v":{"$error":"#VALUE!"}},{"$error":"#VALUE!"},{"$error":"#VALUE!"},{"$error":"#VALUE!"},{"$f":"tau_n(N270,W270,U270,D270)","v":105.01449319505618},{"$f":"tau_hMax(X270,Z270,AH270,W270,U270)","v":{"$error":"#VALUE!"}},{"$f":"tau_hMin(X270,Y270,AS270,AE270,Z270,AI270,IF(L270=1,mu_redLead,mu_millScale),W270,U270)","v":{"$error":"#VALUE!"}},{"$error":"#VALUE!"}]
[259,"Wilson1938","R; L",3,2,14.3,46,50.8,9.5,9.5,76.2,null,439,413.98200000000003,-1,66000,1,"B12-3","Also failed in spec. head",259,0.66433566433566427,0.75263157894736843,0.31086956521739134,206.99100000000001,-206.99100000000001,{"$f":"IF(OR(X271>=1.6*D271*AD271,D271=1),calcLoadFraction(G271,F271,I271,J271,K271,D271,1),\"Condition for spring model not fulfilled\")","v":"Condition for spring model not fulfilled"},{"$f":"IF(L271>2,L271,IF(L271=2,1,sigma_cl0(I271+J271)))","v":140.91415548460122},{"$f":"Sigma_cl(AA271,U271,V271,X271)","v":122.90835681339847},{"$f":"Sigma_cl(AA271,U271,V271,Y271)","v":158.91995415580399},{"$f":"sigma_Slip(AB271,W271,U271,IF(L271=1,mu_redLead,mu_millScale))","v":43.261785309552849},{"$f":"sigma_Slip(AC271,W271,U271,IF(L271=1,mu_redLead,mu_millScale))","v":55.937294390245235},{"$f":"Sigma_p(AB271,V271)","v":-35.954853018569239},{"$f":"Sigma_p(AC271,V271)","v":-46.489463707213169},{"$f":"beta_1(X271,AD271,Z271)","v":{"$error":"#VALUE!"}},{"$f":"beta_1(Y271,AE271,Z271)","v":{"$error":"#VALUE!"}},{"$f":"k_tHole(W271,U271)","v":2.327268564559875},{"$f":"K_t1Mu(Z271,AH271,D271,W271,U271,SIGN(X271),mu_millScale)","v":{"$error":"#VALUE!"}},{"$f":"K_t1Mu(Z271,AI271,D271,W271,U271,SIGN(Y271),mu_millScale)","v":{"$error":"#VALUE!"}},{"$f":"Sigma_hMax(AK271,X271,AF271)","v":{"$error":"#VALUE!"}},{"$f":"Sigma_hMin(X271,Y271,AG271,AE271,AK271,AL271,AJ271,AI271,Z271,IF(L271=1,mu_redLead,mu_millScale))","v":{"$error":"#VALUE!"}},{"$error":"#VALUE!"},{"$error":"#VALUE!"},{"$error":"#VALUE!"},{"$f":"tau_n(N271,W271,U271,D271)","v":129.37522505572085},{"$f":"tau_hMax(X271,Z271,AH271,W271,U271)","v":{"$error":"#VALUE!"}},{"$f":"tau_hMin(X271,Y271,AS271,AE271,Z271,AI271,IF(L271=1,mu_redLead,mu_millScale),W271,U271)","v":{"$error":"#VALUE!"}},{"$error":"#VALUE!"}]
[260,"Wilson1938","R; L",3,2,14.3,46,50.8,9.5,9.5,76.2,null,439,386.51400000000001,-1,75000,1,"B12-5",null,260,0.66433566433566427,0.75263157894736843,0.31086956521739134,193.25700000000001,-193.25700000000001,{"$f":"IF(OR(X272>=1.6*D272*AD272,D272=1),calcLoadFraction(G272,F272,I272,J272,K272,D272,1),\"Condition for spring model not fulfilled\")","v":"Condition for spring model not fulfilled"},{"$f":"IF(L272>2,L272,IF(L272=2,1,sigma_cl0(I272+J272)))","v":140.91415548460122},{"$f":"Sigma_cl(AA272,U272,V272,X272)","v":124.10305435556359},{"$f":"Sigma_cl(AA272,U272,V272,Y272)","v":157.72525661363886},{"$f":"sigma_Slip(AB272,W272,U272,IF(L272=1,mu_redLead,mu_millScale))","v":43.682299828817527},{"$f":"sigma_Slip(AC272,W272,U272,IF(L272=1,mu_redLead,mu_millScale))","v":55.51677987098055},{"$f":"Sigma_p(AB272,V272)","v":-36.30434247269487},{"$f":"Sigma_p(AC272,V272)","v":-46.139974253087537},{"$f":"beta_1(X272,AD272,Z272)","v":{"$error":"#VALUE!"}},{"$f":"beta_1(Y272,AE272,Z272)","v":{"$error":"#VALUE!"}},{"$f":"k_tHole(W272,U272)","v":2.327268564559875},{"$f":"K_t1Mu(Z272,AH272,D272,W272,U272,SIGN(X272),mu_millScale)","v":{"$error":"#VALUE!"}},{"$f":"K_t1Mu(Z272,AI272,D272,W272,U272,SIGN(Y272),mu_millScale)","v":{"$error":"#VALUE!"}},{"$f":"Sigma_hMax(AK272,X272,AF272)","v":{"$error":"#VALUE!"}},{"$f":"Sigma_hMin(X272,Y272,AG272,AE272,AK272,AL272,AJ272,AI272,Z272,IF(L272=1,mu_redLead,mu_millScale))","v":{"$error":"#VALUE!"}},{"$error":"#VALUE!"},{"$error":"#VALUE!"},{"$error":"#VALUE!"},{"$f":"tau_n(N272,W272,U272,D272)","v":120.79108690036495},{"$f":"tau_hMax(X272,Z272,AH272,W272,U272)","v":{"$error":"#VALUE!"}},{"$f":"tau_hMin(X272,Y272,AS272,AE272,Z272,AI272,IF(L272=1,mu_redLead,mu_millScale),W272,U272)","v":{"$error":"#VALUE!"}},{"$error":"#VALUE!"}]
[261,"Wilson1938","R; L",3,2,14.3,46,50.8,9.5,9.5,76.2,null,439,275.661,0,165000,1,"B12-6","Also failed in spec. head",261,0.66433566433566427,0.75263157894736843,0.31086956521739134,275.661,0,{"$f":"IF(OR(X273>=1.6*D273*AD273,D273=1),calcLoadFraction(G273,F273,I273,J273,K273,D273,1),\"Condition for spring model not fulfilled\")","v":0.36339560467984705},{"$f":"IF(L273>2,L273,IF(L273=2,1,sigma_cl0(I273+J273)))","v":140.91415548460122},{"$f":"Sigma_cl(AA273,U273,V273,X273)","v":116.9348691025729},{"$f":"Sigma_cl(AA273,U273,V273,Y273)","v":140.91415548460122},{"$f":"sigma_Slip(AB273,W273,U273,IF(L273=1,mu_redLead,mu_millScale))","v":41.159212713229465},{"$f":"sigma_Slip(AC273,W273,U273,IF(L273=1,mu_redLead,mu_millScale))","v":49.599539849899038},{"$f":"Sigma_p(AB273,V273)","v":-34.207405747941095},{"$f":"Sigma_p(AC273,V273)","v":-41.2221583628912},{"$f":"beta_1(X273,AD273,Z273)","v":0.58912278189497436},{"$f":"beta_1(Y273,AE273,Z273)","v":0},{"$f":"k_tHole(W273,U273)","v":2.327268564559875},{"$f":"K_t1Mu(Z273,AH273,D273,W273,U273,SIGN(X273),mu_millScale)","v":2.6520844346925441},{"$f":"K_t1Mu(Z273,AI273,D273,W273,U273,SIGN(Y273),mu_millScale)","v":1.9044089809245572},{"$f":"Sigma_hMax(AK273,X273,AF273)","v":696.86884160384034},{"$f":"Sigma_hMin(X273,Y273,AG273,AE273,AK273,AL273,AJ273,AI273,Z273,IF(L273=1,mu_redLead,mu_millScale))","v":46.154456705171128},650.71438489866921,6.6231195814332677E-2,207.38285777505894,{"$f":"tau_n(N273,W273,U273,D273)","v":86.147957916250121},{"$f":"tau_hMax(X273,Z273,AH273,W273,U273)","v":55.328860972880129},{"$f":"tau_hMin(X273,Y273,AS273,AE273,Z273,AI273,IF(L273=1,mu_redLead,mu_millScale),W273,U273)","v":20.691387441726981},34.637473531153148]
[262,"Wilson1938","R; L",3,2,14.3,42.9,50.8,9.5,9.5,76.2,null,439,207.97200000000001,0,424000,1,"B12-2",null,262,0.66433566433566427,0.75263157894736843,0.33333333333333337,207.97200000000001,0,{"$f":"IF(OR(X274>=1.6*D274*AD274,D274=1),calcLoadFraction(G274,F274,I274,J274,K274,D274,1),\"Condition for spring model not fulfilled\")","v":"Condition for spring model not fulfilled"},{"$f":"IF(L274>2,L274,IF(L274=2,1,sigma_cl0(I274+J274)))","v":140.91415548460122},{"$f":"Sigma_cl(AA274,U274,V274,X274)","v":122.82302127467239},{"$f":"Sigma_cl(AA274,U274,V274,Y274)","v":140.91415548460122},{"$f":"sigma_Slip(AB274,W274,U274,IF(L274=1,mu_redLead,mu_millScale))","v":47.917707317979172},{"$f":"sigma_Slip(AC274,W274,U274,IF(L274=1,mu_redLead,mu_millScale))","v":54.975713749713258},{"$f":"Sigma_p(AB274,V274)","v":-35.929889486131692},{"$f":"Sigma_p(AC274,V274)","v":-41.2221583628912},{"$f":"beta_1(X274,AD274,Z274)","v":{"$error":"#VALUE!"}},{"$f":"beta_1(Y274,AE274,Z274)","v":{"$error":"#VALUE!"}},{"$f":"k_tHole(W274,U274)","v":2.2962962962962963},{"$f":"K_t1Mu(Z274,AH274,D274,W274,U274,SIGN(X274),mu_millScale)","v":{"$error":"#VALUE!"}},{"$f":"K_t1Mu(Z274,AI274,D274,W274,U274,SIGN(Y274),mu_millScale)","v":{"$error":"#VALUE!"}},{"$f":"Sigma_hMax(AK274,X274,AF274)","v":{"$error":"#VALUE!"}},{"$f":"Sigma_hMin(X274,Y274,AG274,AE274,AK274,AL274,AJ274,AI274,Z274,IF(L274=1,mu_redLead,mu_millScale))","v":{"$error":"#VALUE!"}},{"$error":"#VALUE!"},{"$error":"#VALUE!"},{"$error":"#VALUE!"},{"$f":"tau_n(N274,W274,U274,D274)","v":58.638290292422035},{"$f":"tau_hMax(X274,Z274,AH274,W274,U274)","v":{"$error":"#VALUE!"}},{"$f":"tau_hMin(X274,Y274,AS274,AE274,Z274,AI274,IF(L274=1,mu_redLead,mu_millScale),W274,U274)","v":{"$error":"#VALUE!"}},{"$error":"#VALUE!"}]
[263,"Wilson1938","R; L",2,2,14.3,46,50.8,9.5,9.5,152.4,null,439,206.99100000000001,0,1028000,1,"B12-4","Rivet row drilled out",263,0.66433566433566427,0.75263157894736843,0.31086956521739134,206.99100000000001,0,{"$f":"IF(OR(X275>=1.6*D275*AD275,D275=1),calcLoadFraction(G275,F275,I275,J275,K275,D275,1),\"Condition for spring model not fulfilled\")","v":0.49999999999999994},{"$f":"IF(L275>2,L275,IF(L275=2,1,sigma_cl0(I275+J275)))","v":140.91415548460122},{"$f":"Sigma_cl(AA275,U275,V275,X275)","v":122.90835681339847},{"$f":"Sigma_cl(AA275,U275,V275,Y275)","v":140.91415548460122},{"$f":"sigma_Slip(AB275,W275,U275,IF(L275=1,mu_redLead,mu_millScale))","v":43.261785309552849},{"$f":"sigma_Slip(AC275,W275,U275,IF(L275=1,mu_redLead,mu_millScale))","v":49.599539849899038},{"$f":"Sigma_p(AB275,V275)","v":-35.954853018569239},{"$f":"Sigma_p(AC275,V275)","v":-41.2221583628912},{"$f":"beta_1(X275,AD275,Z275)","v":0.5819935619466271},{"$f":"beta_1(Y275,AE275,Z275)","v":0},{"$f":"k_tHole(W275,U275)","v":2.327268564559875},{"$f":"K_t1Mu(Z275,AH275,D275,W275,U275,SIGN(X275),mu_millScale)","v":2.7627353132480454},{"$f":"K_t1Mu(Z275,AI275,D275,W275,U275,SIGN(Y275),mu_millScale)","v":1.7454514234199063},{"$f":"Sigma_hMax(AK275,X275,AF275)","v":535.90649220595697},{"$f":"Sigma_hMin(X275,Y275,AG275,AE275,AK275,AL275,AJ275,AI275,Z275,IF(L275=1,mu_redLead,mu_millScale))","v":46.293776195028677},489.6127160109283,8.6384055555044997E-2,156.4057258324149,{"$f":"tau_n(N275,W275,U275,D275)","v":97.031418791790628},{"$f":"tau_hMax(X275,Z275,AH275,W275,U275)","v":56.47166104336911},{"$f":"tau_hMin(X275,Y275,AS275,AE275,Z275,AI275,IF(L275=1,mu_redLead,mu_millScale),W275,U275)","v":20.710485098672873},35.761175944696234]
[264,"Wilson1938","R; L",2,2,14.3,44.5,50.8,9.5,9.5,152,null,439,138.321,0.5,1244000,1,"B12-7","Rivet row drilled out",264,0.66433566433566427,0.75263157894736843,0.32134831460674157,276.642,138.321,{"$f":"IF(OR(X276>=1.6*D276*AD276,D276=1),calcLoadFraction(G276,F276,I276,J276,K276,D276,1),\"Condition for spring model not fulfilled\")","v":0.49999999999999989},{"$f":"IF(L276>2,L276,IF(L276=2,1,sigma_cl0(I276+J276)))","v":140.91415548460122},{"$f":"Sigma_cl(AA276,U276,V276,X276)","v":116.84953356384683},{"$f":"Sigma_cl(AA276,U276,V276,Y276)","v":128.88184452422402},{"$f":"sigma_Slip(AB276,W276,U276,IF(L276=1,mu_redLead,mu_millScale))","v":43.172015827508375},{"$f":"sigma_Slip(AC276,W276,U276,IF(L276=1,mu_redLead,mu_millScale))","v":47.617554490605158},{"$f":"Sigma_p(AB276,V276)","v":-34.182442215503556},{"$f":"Sigma_p(AC276,V276)","v":-37.702300289197375},{"$f":"beta_1(X276,AD276,Z276)","v":0.68788531150361565},{"$f":"beta_1(Y276,AE276,Z276)","v":0.31149204400481245},{"$f":"k_tHole(W276,U276)","v":2.3125653241490052},{"$f":"K_t1Mu(Z276,AH276,D276,W276,U276,SIGN(X276),mu_millScale)","v":2.8703342080248908},{"$f":"K_t1Mu(Z276,AI276,D276,W276,U276,SIGN(Y276),mu_millScale)","v":2.2486939197494169},{"$f":"Sigma_hMax(AK276,X276,AF276)","v":759.87255376091832},{"$f":"Sigma_hMin(X276,Y276,AG276,AE276,AK276,AL276,AJ276,AI276,Z276,IF(L276=1,mu_redLead,mu_millScale))","v":396.08541319824235},363.78714056267597,0.52125242744701672,127.65686135522157,{"$f":"tau_n(N276,W276,U276,D276)","v":61.7727192876348},{"$f":"tau_hMax(X276,Z276,AH276,W276,U276)","v":84.985092499200121},{"$f":"tau_hMin(X276,Y276,AS276,AE276,Z276,AI276,IF(L276=1,mu_redLead,mu_millScale),W276,U276)","v":56.176598665952206},28.808493833247915]
[265,"Wilson1938","R; L",2,2,14.3,44.5,50.8,9.5,9.5,152,null,439,154.99799999999999,0.5,889000,1,"B12-8","Rivet row drilled out",265,0.66433566433566427,0.75263157894736843,0.32134831460674157,309.99599999999998,154.99799999999999,{"$f":"IF(OR(X277>=1.6*D277*AD277,D277=1),calcLoadFraction(G277,F277,I277,J277,K277,D277,1),\"Condition for spring model not fulfilled\")","v":0.49999999999999989},{"$f":"IF(L277>2,L277,IF(L277=2,1,sigma_cl0(I277+J277)))","v":140.91415548460122},{"$f":"Sigma_cl(AA277,U277,V277,X277)","v":113.94812524716014},{"$f":"Sigma_cl(AA277,U277,V277,Y277)","v":127.43114036588068},{"$f":"sigma_Slip(AB277,W277,U277,IF(L277=1,mu_redLead,mu_millScale))","v":42.10004196548504},{"$f":"sigma_Slip(AC277,W277,U277,IF(L277=1,mu_redLead,mu_millScale))","v":47.081567559593495},{"$f":"Sigma_p(AB277,V277)","v":-33.333682112627031},{"$f":"Sigma_p(AC277,V277)","v":-37.277920237759119},{"$f":"beta_1(X277,AD277,Z277)","v":0.7283833212977906},{"$f":"beta_1(Y277,AE277,Z277)","v":0.39248806359316241},{"$f":"k_tHole(W277,U277)","v":2.3125653241490052},{"$f":"K_t1Mu(Z277,AH277,D277,W277,U277,SIGN(X277),mu_millScale)","v":2.9205161766695706},{"$f":"K_t1Mu(Z277,AI277,D277,W277,U277,SIGN(Y277),mu_millScale)","v":2.3952103917444907},{"$f":"Sigma_hMax(AK277,X277,AF277)","v":872.01465059023315},{"$f":"Sigma_hMin(X277,Y277,AG277,AE277,AK277,AL277,AJ277,AI277,Z277,IF(L277=1,mu_redLead,mu_millScale))","v":447.69342044508534},424.32123014514781,0.51340126010733755,148.44638360432162,{"$f":"tau_n(N277,W277,U277,D277)","v":69.220493953519849},{"$f":"tau_hMax(X277,Z277,AH277,W277,U277)","v":100.8381065754768},{"$f":"tau_hMin(X277,Y277,AS277,AE277,Z277,AI277,IF(L277=1,mu_redLead,mu_millScale),W277,U277)","v":65.563256172526991},35.274850402949809]
[266,"Wilson1938","R; L",2,2,14.3,44.5,50.8,9.5,9.5,152,null,439,124.587,0.5,2765000,1,"B12-9","Rivet row drilled out",266,0.66433566433566427,0.75263157894736843,0.32134831460674157,249.17400000000001,124.587,{"$f":"IF(OR(X278>=1.6*D278*AD278,D278=1),calcLoadFraction(G278,F278,I278,J278,K278,D278,1),\"Condition for spring model not fulfilled\")","v":0.49999999999999989},{"$f":"IF(L278>2,L278,IF(L278=2,1,sigma_cl0(I278+J278)))","v":140.91415548460122},{"$f":"Sigma_cl(AA278,U278,V278,X278)","v":119.23892864817705},{"$f":"Sigma_cl(AA278,U278,V278,Y278)","v":130.07654206638915},{"$f":"sigma_Slip(AB278,W278,U278,IF(L278=1,mu_redLead,mu_millScale))","v":44.054817831527593},{"$f":"sigma_Slip(AC278,W278,U278,IF(L278=1,mu_redLead,mu_millScale))","v":48.058955492614778},{"$f":"Sigma_p(AB278,V278)","v":-34.881421123754812},{"$f":"Sigma_p(AC278,V278)","v":-38.051789743323013},{"$f":"beta_1(X278,AD278,Z278)","v":0.6463931402832751},{"$f":"beta_1(Y278,AE278,Z278)","v":0.22850770156413128},{"$f":"k_tHole(W278,U278)","v":2.3125653241490052},{"$f":"K_t1Mu(Z278,AH278,D278,W278,U278,SIGN(X278),mu_millScale)","v":2.8140058185041341},{"$f":"K_t1Mu(Z278,AI278,D278,W278,U278,SIGN(Y278),mu_millScale)","v":2.0998296076412331},{"$f":"Sigma_hMax(AK278,X278,AF278)","v":666.29566469619431},{"$f":"Sigma_hMin(X278,Y278,AG278,AE278,AK278,AL278,AJ278,AI278,Z278,IF(L278=1,mu_redLead,mu_millScale))","v":351.76241956874088},314.53324512745343,0.52793742809227384,110.66755920390112,{"$f":"tau_n(N278,W278,U278,D278)","v":55.639257798082411},{"$f":"tau_hMax(X278,Z278,AH278,W278,U278)","v":71.929669142266363},{"$f":"tau_hMin(X278,Y278,AS278,AE278,Z278,AI278,IF(L278=1,mu_redLead,mu_millScale),W278,U278)","v":48.296408919598683},23.63326022266768]
[267,"Wilson1938","R; L",2,2,14.3,44.5,50.8,9.5,9.5,152.4,null,439,193.25700000000001,0,594000,1,"B12-10","Rivet row drilled out",267,0.66433566433566427,0.75263157894736843,0.32134831460674157,193.25700000000001,0,{"$f":"IF(OR(X279>=1.6*D279*AD279,D279=1),calcLoadFraction(G279,F279,I279,J279,K279,D279,1),\"Condition for spring model not fulfilled\")","v":0.49999999999999994},{"$f":"IF(L279>2,L279,IF(L279=2,1,sigma_cl0(I279+J279)))","v":140.91415548460122},{"$f":"Sigma_cl(AA279,U279,V279,X279)","v":124.10305435556359},{"$f":"Sigma_cl(AA279,U279,V279,Y279)","v":140.91415548460122},{"$f":"sigma_Slip(AB279,W279,U279,IF(L279=1,mu_redLead,mu_millScale))","v":45.851950482566728},{"$f":"sigma_Slip(AC279,W279,U279,IF(L279=1,mu_redLead,mu_millScale))","v":52.063093153701949},{"$f":"Sigma_p(AB279,V279)","v":-36.30434247269487},{"$f":"Sigma_p(AC279,V279)","v":-41.2221583628912},{"$f":"beta_1(X279,AD279,Z279)","v":0.52548212501936042},{"$f":"beta_1(Y279,AE279,Z279)","v":0},{"$f":"k_tHole(W279,U279)","v":2.3125653241490052},{"$f":"K_t1Mu(Z279,AH279,D279,W279,U279,SIGN(X279),mu_millScale)","v":2.6269102851566495},{"$f":"K_t1Mu(Z279,AI279,D279,W279,U279,SIGN(Y279),mu_millScale)","v":1.734423993111754},{"$f":"Sigma_hMax(AK279,X279,AF279)","v":471.36445850582373},{"$f":"Sigma_hMin(X279,Y279,AG279,AE279,AK279,AL279,AJ279,AI279,Z279,IF(L279=1,mu_redLead,mu_millScale))","v":40.572836250902064},430.79162225492166,8.6075298039045484E-2,137.61041325316833,{"$f":"tau_n(N279,W279,U279,D279)","v":86.306565245844368},{"$f":"tau_hMax(X279,Z279,AH279,W279,U279)","v":45.352557308508374},{"$f":"tau_hMin(X279,Y279,AS279,AE279,Z279,AI279,IF(L279=1,mu_redLead,mu_millScale),W279,U279)","v":17.822907044306877},27.529650264201496]
[268,"Wilson1938","R; L",2,2,14.3,44.5,50.8,9.5,9.5,152.4,null,439,345.31200000000001,-1,171000,1,"B12-11","Rivet row drilled out",268,0.66433566433566427,0.75263157894736843,0.32134831460674157,172.65600000000001,-172.65600000000001,{"$f":"IF(OR(X280>=1.6*D280*AD280,D280=1),calcLoadFraction(G280,F280,I280,J280,K280,D280,1),\"Condition for spring model not fulfilled\")","v":0.49999999999999994},{"$f":"IF(L280>2,L280,IF(L280=2,1,sigma_cl0(I280+J280)))","v":140.91415548460122},{"$f":"Sigma_cl(AA280,U280,V280,X280)","v":125.89510066881125},{"$f":"Sigma_cl(AA280,U280,V280,Y280)","v":155.93321030039121},{"$f":"sigma_Slip(AB280,W280,U280,IF(L280=1,mu_redLead,mu_millScale))","v":46.514051985581141},{"$f":"sigma_Slip(AC280,W280,U280,IF(L280=1,mu_redLead,mu_millScale))","v":57.612134321822765},{"$f":"Sigma_p(AB280,V280)","v":-36.82857665388331},{"$f":"Sigma_p(AC280,V280)","v":-45.615740071899097},{"$f":"beta_1(X280,AD280,Z280)","v":0.46119391176001828},{"$f":"beta_1(Y280,AE280,Z280)","v":0.33263675375518059},{"$f":"k_tHole(W280,U280)","v":2.3125653241490052},{"$f":"K_t1Mu(Z280,AH280,D280,W280,U280,SIGN(X280),mu_millScale)","v":2.517185231004889},{"$f":"K_t1Mu(Z280,AI280,D280,W280,U280,SIGN(Y280),mu_millScale)","v":1.2395340621501532},{"$f":"Sigma_hMax(AK280,X280,AF280)","v":397.77855659049681},{"$f":"Sigma_hMin(X280,Y280,AG280,AE280,AK280,AL280,AJ280,AI280,Z280,IF(L280=1,mu_redLead,mu_millScale))","v":-276.16188595935751},673.94044254985431,-0.69426036518016565,204.53299175756916,{"$f":"tau_n(N280,W280,U280,D280)","v":154.21274602303157},{"$f":"tau_hMax(X280,Z280,AH280,W280,U280)","v":35.560989790808058},{"$f":"tau_hMin(X280,Y280,AS280,AE280,Z280,AI280,IF(L280=1,mu_redLead,mu_millScale),W280,U280)","v":-25.648413612386673},61.209403403194727]
[269,"Wilson1938","R; L",2,2,14.3,44.5,50.8,9.5,9.5,152.4,null,439,275.661,-1,521000,1,"B12-12","Rivet row drilled out",269,0.66433566433566427,0.75263157894736843,0.32134831460674157,137.8305,-137.8305,{"$f":"IF(OR(X281>=1.6*D281*AD281,D281=1),calcLoadFraction(G281,F281,I281,J281,K281,D281,1),\"Condition for spring model not fulfilled\")","v":"Condition for spring model not fulfilled"},{"$f":"IF(L281>2,L281,IF(L281=2,1,sigma_cl0(I281+J281)))","v":140.91415548460122},{"$f":"Sigma_cl(AA281,U281,V281,X281)","v":128.92451229358707},{"$f":"Sigma_cl(AA281,U281,V281,Y281)","v":152.90379867561538},{"$f":"sigma_Slip(AB281,W281,U281,IF(L281=1,mu_redLead,mu_millScale))","v":47.633318812105507},{"$f":"sigma_Slip(AC281,W281,U281,IF(L281=1,mu_redLead,mu_millScale))","v":56.492867495298391},{"$f":"Sigma_p(AB281,V281)","v":-37.714782055416151},{"$f":"Sigma_p(AC281,V281)","v":-44.729534670366249},{"$f":"beta_1(X281,AD281,Z281)","v":{"$error":"#VALUE!"}},{"$f":"beta_1(Y281,AE281,Z281)","v":{"$error":"#VALUE!"}},{"$f":"k_tHole(W281,U281)","v":2.3125653241490052},{"$f":"K_t1Mu(Z281,AH281,D281,W281,U281,SIGN(X281),mu_millScale)","v":{"$error":"#VALUE!"}},{"$f":"K_t1Mu(Z281,AI281,D281,W281,U281,SIGN(Y281),mu_millScale)","v":{"$error":"#VALUE!"}},{"$f":"Sigma_hMax(AK281,X281,AF281)","v":{"$error":"#VALUE!"}},{"$f":"Sigma_hMin(X281,Y281,AG281,AE281,AK281,AL281,AJ281,AI281,Z281,IF(L281=1,mu_redLead,mu_millScale))","v":{"$error":"#VALUE!"}},{"$error":"#VALUE!"},{"$error":"#VALUE!"},{"$error":"#VALUE!"},{"$f":"tau_n(N281,W281,U281,D281)","v":123.10733418315871},{"$f":"tau_hMax(X281,Z281,AH281,W281,U281)","v":{"$error":"#VALUE!"}},{"$f":"tau_hMin(X281,Y281,AS281,AE281,Z281,AI281,IF(L281=1,mu_redLead,mu_millScale),W281,U281)","v":{"$error":"#VALUE!"}},{"$error":"#VALUE!"}]
[270,"Wilson1938","R; L",2,2,14.3,57.15,76.199999999999989,{"$f":"[1]dataShear!$T$24/2","v":19.049999999999997},19.049999999999997,101.6,null,431,256.71726057009505,-1,2200,3,"B5-1","Mismatch Δτn:Δσnet; large deform.",{"$f":"A282","v":270},{"$f":"I282/F282","v":1.3321678321678319},{"$f":"F282/(J282+I282)","v":0.3753280839895014},{"$f":"F282/G282","v":0.25021872265966755},{"$f":"N282/(1-O282)","v":128.35863028504752},{"$f":"X282*O282","v":-128.35863028504752},{"$f":"IF(OR(X282>=1.6*D282*AD282,D282=1),calcLoadFraction(G282,F282,I282,J282,K282,D282,1),\"Condition for spring model not fulfilled\")","v":0.49999999999999978},{"$f":"IF(L282>2,L282,IF(L282=2,1,sigma_cl0(I282+J282)))","v":193.40166577022526},{"$f":"Sigma_cl(AA282,U282,V282,X282)","v":179.0190569563652},{"$f":"Sigma_cl(AA282,U282,V282,Y282)","v":207.78427458408532},{"$f":"sigma_Slip(AB282,W282,U282,IF(L282=1,mu_redLead,mu_millScale))","v":23.246595107990409},{"$f":"sigma_Slip(AC282,W282,U282,IF(L282=1,mu_redLead,mu_millScale))","v":26.98191456924658},{"$f":"Sigma_p(AB282,V282)","v":-24.485683772377804},{"$f":"Sigma_p(AC282,V282)","v":-28.420103014948499},{"$f":"beta_1(X282,AD282,Z282)","v":0.63778680005596144},{"$f":"beta_1(Y282,AE282,Z282)","v":0.57958550181896551},{"$f":"k_tHole(W282,U282)","v":2.4215060131404518},{"$f":"K_t1Mu(Z282,AH282,D282,W282,U282,SIGN(X282),mu_millScale)","v":3.4024220658611131},{"$f":"K_t1Mu(Z282,AI282,D282,W282,U282,SIGN(Y282),mu_millScale)","v":0.55962122862414998},{"$f":"Sigma_hMax(AK282,X282,AF282)","v":412.24455225317644},{"$f":"Sigma_hMin(X282,Y282,AG282,AE282,AK282,AL282,AJ282,AI282,Z282,IF(L282=1,mu_redLead,mu_millScale))","v":-157.86952044841959},{"$f":"(AM282-AN282)","v":570.114072701596},{"$f":"AN282/AM282","v":-0.38295113806977704},175.41997489137788,{"$f":"tau_n(N282,W282,U282,D282)","v":326.19622258232312},{"$f":"tau_hMax(X282,Z282,AH282,W282,U282)","v":104.02182249556095},{"$f":"tau_hMin(X282,Y282,AS282,AE282,Z282,AI282,IF(L282=1,mu_redLead,mu_millScale),W282,U282)","v":-94.529300678413307},198.55112317397425]
[271,"Wilson1938","R; L",2,2,14.3,57.15,76.199999999999989,{"$f":"[1]dataShear!$T$24/2","v":19.049999999999997},19.049999999999997,101.6,null,431,171.14484038006336,-1,9500,3,"B5-2","Mismatch Δτn:Δσnet; large deform.",271,1.3321678321678319,0.3753280839895014,0.25021872265966755,85.572420190031679,-85.572420190031679,{"$f":"IF(OR(X283>=1.6*D283*AD283,D283=1),calcLoadFraction(G283,F283,I283,J283,K283,D283,1),\"Condition for spring model not fulfilled\")","v":0.49999999999999978},{"$f":"IF(L283>2,L283,IF(L283=2,1,sigma_cl0(I283+J283)))","v":193.40166577022526},{"$f":"Sigma_cl(AA283,U283,V283,X283)","v":183.81325989431855},{"$f":"Sigma_cl(AA283,U283,V283,Y283)","v":202.99007164613198},{"$f":"sigma_Slip(AB283,W283,U283,IF(L283=1,mu_redLead,mu_millScale))","v":23.869148351533102},{"$f":"sigma_Slip(AC283,W283,U283,IF(L283=1,mu_redLead,mu_millScale))","v":26.359361325703887},{"$f":"Sigma_p(AB283,V283)","v":-25.14142031280625},{"$f":"Sigma_p(AC283,V283)","v":-27.764366474520049},{"$f":"beta_1(X283,AD283,Z283)","v":0.44212987552469324},{"$f":"beta_1(Y283,AE283,Z283)","v":0.38392857728769725},{"$f":"k_tHole(W283,U283)","v":2.4215060131404518},{"$f":"K_t1Mu(Z283,AH283,D283,W283,U283,SIGN(X283),mu_millScale)","v":2.9297552350317941},{"$f":"K_t1Mu(Z283,AI283,D283,W283,U283,SIGN(Y283),mu_millScale)","v":0.98545346314918847},{"$f":"Sigma_hMax(AK283,X283,AF283)","v":225.56482571327945},{"$f":"Sigma_hMin(X283,Y283,AG283,AE283,AK283,AL283,AJ283,AI283,Z283,IF(L283=1,mu_redLead,mu_millScale))","v":-139.46545260132251},365.03027831460196,-0.61829432918144867,111.10244716913598,{"$f":"tau_n(N283,W283,U283,D283)","v":217.46414838821539},{"$f":"tau_hMax(X283,Z283,AH283,W283,U283)","v":48.073698428982524},{"$f":"tau_hMin(X283,Y283,AS283,AE283,Z283,AI283,IF(L283=1,mu_redLead,mu_millScale),W283,U283)","v":-41.745350550884091},89.819048979866608]
[272,"Wilson1938","R; L",2,2,14.3,57.15,76.199999999999989,{"$f":"[1]dataShear!$T$24/2","v":19.049999999999997},19.049999999999997,101.6,null,431,128.35863028504752,-1,1375000,3,"B5-3","Mismatch Δτn:Δσnet; large deform.",272,1.3321678321678319,0.3753280839895014,0.25021872265966755,64.179315142523762,-64.179315142523762,{"$f":"IF(OR(X284>=1.6*D284*AD284,D284=1),calcLoadFraction(G284,F284,I284,J284,K284,D284,1),\"Condition for spring model not fulfilled\")","v":"Condition for spring model not fulfilled"},{"$f":"IF(L284>2,L284,IF(L284=2,1,sigma_cl0(I284+J284)))","v":193.40166577022526},{"$f":"Sigma_cl(AA284,U284,V284,X284)","v":186.21036136329522},{"$f":"Sigma_cl(AA284,U284,V284,Y284)","v":200.59297017715531},{"$f":"sigma_Slip(AB284,W284,U284,IF(L284=1,mu_redLead,mu_millScale))","v":24.180424973304447},{"$f":"sigma_Slip(AC284,W284,U284,IF(L284=1,mu_redLead,mu_millScale))","v":26.048084703932538},{"$f":"Sigma_p(AB284,V284)","v":-25.469288583020475},{"$f":"Sigma_p(AC284,V284)","v":-27.436498204305828},{"$f":"beta_1(X284,AD284,Z284)","v":{"$error":"#VALUE!"}},{"$f":"beta_1(Y284,AE284,Z284)","v":{"$error":"#VALUE!"}},{"$f":"k_tHole(W284,U284)","v":2.4215060131404518},{"$f":"K_t1Mu(Z284,AH284,D284,W284,U284,SIGN(X284),mu_millScale)","v":{"$error":"#VALUE!"}},{"$f":"K_t1Mu(Z284,AI284,D284,W284,U284,SIGN(Y284),mu_millScale)","v":{"$error":"#VALUE!"}},{"$f":"Sigma_hMax(AK284,X284,AF284)","v":{"$error":"#VALUE!"}},{"$f":"Sigma_hMin(X284,Y284,AG284,AE284,AK284,AL284,AJ284,AI284,Z284,IF(L284=1,mu_redLead,mu_millScale))","v":{"$error":"#VALUE!"}},{"$error":"#VALUE!"},{"$error":"#VALUE!"},{"$error":"#VALUE!"},{"$f":"tau_n(N284,W284,U284,D284)","v":163.09811129116156},{"$f":"tau_hMax(X284,Z284,AH284,W284,U284)","v":{"$error":"#VALUE!"}},{"$f":"tau_hMin(X284,Y284,AS284,AE284,Z284,AI284,IF(L284=1,mu_redLead,mu_millScale),W284,U284)","v":{"$error":"#VALUE!"}},{"$error":"#VALUE!"}]
[273,"Wilson1938","R; L",2,1,14.3,95.25,7,{"$f":"[1]dataShear!$T$24/2","v":19.049999999999997},15.875,101.6,null,431,203.8637069233107,-1,6000,3,"B43-1 L",null,273,1.3321678321678319,0.40944881889763785,0.15013123359580052,101.93185346165535,-101.93185346165535,{"$f":"IF(OR(X285>=1.6*D285*AD285,D285=1),calcLoadFraction(G285,F285,I285,J285,K285,D285,1),\"Condition for spring model not fulfilled\")","v":0.49511657990506569},{"$f":"IF(L285>2,L285,IF(L285=2,1,sigma_cl0(I285+J285)))","v":187.94256513007929},{"$f":"Sigma_cl(AA285,U285,V285,X285)","v":175.81540558252823},{"$f":"Sigma_cl(AA285,U285,V285,Y285)","v":200.06972467763035},{"$f":"sigma_Slip(AB285,W285,U285,IF(L285=1,mu_redLead,mu_millScale))","v":12.08512053880585},{"$f":"sigma_Slip(AC285,W285,U285,IF(L285=1,mu_redLead,mu_millScale))","v":13.752303052646367},{"$f":"Sigma_p(AB285,V285)","v":-26.654658196578765},{"$f":"Sigma_p(AC285,V285)","v":-30.331756816740558},{"$f":"beta_1(X285,AD285,Z285)","v":0.76053965959658787},{"$f":"beta_1(Y285,AE285,Z285)","v":0.72750531037376132},{"$f":"k_tHole(W285,U285)","v":2.6138405950955965},{"$f":"K_t1Mu(Z285,AH285,D285,W285,U285,SIGN(X285),mu_millScale)","v":5.0259600506975621},{"$f":"K_t1Mu(Z285,AI285,D285,W285,U285,SIGN(Y285),mu_millScale)","v":0},{"$f":"Sigma_hMax(AK285,X285,AF285)","v":485.65076519525905},{"$f":"Sigma_hMin(X285,Y285,AG285,AE285,AK285,AL285,AJ285,AI285,Z285,IF(L285=1,mu_redLead,mu_millScale))","v":-88.356231050920627},574.00699624617971,-0.18193368029677959,178.85170036110367,{"$f":"tau_n(N285,W285,U285,D285)","v":489.36150311418373},{"$f":"tau_hMax(X285,Z285,AH285,W285,U285)","v":184.27190991686246},{"$f":"tau_hMin(X285,Y285,AS285,AE285,Z285,AI285,IF(L285=1,mu_redLead,mu_millScale),W285,U285)","v":-176.26798461547878},360.53989453234124]
[274,"Wilson1938","R; L",2,1,14.3,95.25,null,{"$f":"[1]dataShear!$T$24/2","v":19.049999999999997},15.875,101.6,null,431,203.8637069233107,-1,6000,3,"B43-1 U",null,274,1.3321678321678319,0.40944881889763785,0.15013123359580052,101.93185346165535,-101.93185346165535,{"$f":"IF(OR(X286>=1.6*D286*AD286,D286=1),calcLoadFraction(G286,F286,I286,J286,K286,D286,1),\"Condition for spring model not fulfilled\")","v":0.49511657990506569},{"$f":"IF(L286>2,L286,IF(L286=2,1,sigma_cl0(I286+J286)))","v":187.94256513007929},{"$f":"Sigma_cl(AA286,U286,V286,X286)","v":175.81540558252823},{"$f":"Sigma_cl(AA286,U286,V286,Y286)","v":200.06972467763035},{"$f":"sigma_Slip(AB286,W286,U286,IF(L286=1,mu_redLead,mu_millScale))","v":12.08512053880585},{"$f":"sigma_Slip(AC286,W286,U286,IF(L286=1,mu_redLead,mu_millScale))","v":13.752303052646367},{"$f":"Sigma_p(AB286,V286)","v":-26.654658196578765},{"$f":"Sigma_p(AC286,V286)","v":-30.331756816740558},{"$f":"beta_1(X286,AD286,Z286)","v":0.76053965959658787},{"$f":"beta_1(Y286,AE286,Z286)","v":0.72750531037376132},{"$f":"k_tHole(W286,U286)","v":2.6138405950955965},{"$f":"K_t1Mu(Z286,AH286,D286,W286,U286,SIGN(X286),mu_millScale)","v":5.0259600506975621},{"$f":"K_t1Mu(Z286,AI286,D286,W286,U286,SIGN(Y286),mu_millScale)","v":0},{"$f":"Sigma_hMax(AK286,X286,AF286)","v":485.65076519525905},{"$f":"Sigma_hMin(X286,Y286,AG286,AE286,AK286,AL286,AJ286,AI286,Z286,IF(L286=1,mu_redLead,mu_millScale))","v":-88.356231050920627},574.00699624617971,-0.18193368029677959,178.85170036110367,{"$f":"tau_n(N286,W286,U286,D286)","v":489.36150311418373},{"$f":"tau_hMax(X286,Z286,AH286,W286,U286)","v":184.27190991686246},{"$f":"tau_hMin(X286,Y286,AS286,AE286,Z286,AI286,IF(L286=1,mu_redLead,mu_millScale),W286,U286)","v":-176.26798461547878},360.53989453234124]
[275,"Wilson1938","R; L",2,1,14.3,95.25,null,{"$f":"[1]dataShear!$T$24/2","v":19.049999999999997},15.875,101.6,null,431,149.50005174376116,-1,148000,3,"B43-2-L",null,275,1.3321678321678319,0.40944881889763785,0.15013123359580052,74.750025871880581,-74.750025871880581,{"$f":"IF(OR(X287>=1.6*D287*AD287,D287=1),calcLoadFraction(G287,F287,I287,J287,K287,D287,1),\"Condition for spring model not fulfilled\")","v":0.49511657990506569},{"$f":"IF(L287>2,L287,IF(L287=2,1,sigma_cl0(I287+J287)))","v":187.94256513007929},{"$f":"Sigma_cl(AA287,U287,V287,X287)","v":179.04931479520852},{"$f":"Sigma_cl(AA287,U287,V287,Y287)","v":196.83581546495006},{"$f":"sigma_Slip(AB287,W287,U287,IF(L287=1,mu_redLead,mu_millScale))","v":12.307411540651252},{"$f":"sigma_Slip(AC287,W287,U287,IF(L287=1,mu_redLead,mu_millScale))","v":13.530012050800964},{"$f":"Sigma_p(AB287,V287)","v":-27.144938012600338},{"$f":"Sigma_p(AC287,V287)","v":-29.841477000718985},{"$f":"beta_1(X287,AD287,Z287)","v":0.6674569268639241},{"$f":"beta_1(Y287,AE287,Z287)","v":0.63442257764109744},{"$f":"k_tHole(W287,U287)","v":2.6138405950955965},{"$f":"K_t1Mu(Z287,AH287,D287,W287,U287,SIGN(X287),mu_millScale)","v":4.7420246779921813},{"$f":"K_t1Mu(Z287,AI287,D287,W287,U287,SIGN(Y287),mu_millScale)","v":0},{"$f":"Sigma_hMax(AK287,X287,AF287)","v":327.3215293524114},{"$f":"Sigma_hMin(X287,Y287,AG287,AE287,AK287,AL287,AJ287,AI287,Z287,IF(L287=1,mu_redLead,mu_millScale))","v":-84.25380673207421},411.57533608448563,-0.25740380383400374,127.57909981369563,{"$f":"tau_n(N287,W287,U287,D287)","v":358.8651022837347},{"$f":"tau_hMax(X287,Z287,AH287,W287,U287)","v":118.59378820758548},{"$f":"tau_hMin(X287,Y287,AS287,AE287,Z287,AI287,IF(L287=1,mu_redLead,mu_millScale),W287,U287)","v":-112.72424298657076},231.31803119415622]
[276,"Wilson1938","R; L",2,1,14.3,95.25,null,{"$f":"[1]dataShear!$T$24/2","v":19.049999999999997},15.875,101.6,null,431,149.50005174376116,-1,170000,3,"B43-2-U",null,276,1.3321678321678319,0.40944881889763785,0.15013123359580052,74.750025871880581,-74.750025871880581,{"$f":"IF(OR(X288>=1.6*D288*AD288,D288=1),calcLoadFraction(G288,F288,I288,J288,K288,D288,1),\"Condition for spring model not fulfilled\")","v":0.49511657990506569},{"$f":"IF(L288>2,L288,IF(L288=2,1,sigma_cl0(I288+J288)))","v":187.94256513007929},{"$f":"Sigma_cl(AA288,U288,V288,X288)","v":179.04931479520852},{"$f":"Sigma_cl(AA288,U288,V288,Y288)","v":196.83581546495006},{"$f":"sigma_Slip(AB288,W288,U288,IF(L288=1,mu_redLead,mu_millScale))","v":12.307411540651252},{"$f":"sigma_Slip(AC288,W288,U288,IF(L288=1,mu_redLead,mu_millScale))","v":13.530012050800964},{"$f":"Sigma_p(AB288,V288)","v":-27.144938012600338},{"$f":"Sigma_p(AC288,V288)","v":-29.841477000718985},{"$f":"beta_1(X288,AD288,Z288)","v":0.6674569268639241},{"$f":"beta_1(Y288,AE288,Z288)","v":0.63442257764109744},{"$f":"k_tHole(W288,U288)","v":2.6138405950955965},{"$f":"K_t1Mu(Z288,AH288,D288,W288,U288,SIGN(X288),mu_millScale)","v":4.7420246779921813},{"$f":"K_t1Mu(Z288,AI288,D288,W288,U288,SIGN(Y288),mu_millScale)","v":0},{"$f":"Sigma_hMax(AK288,X288,AF288)","v":327.3215293524114},{"$f":"Sigma_hMin(X288,Y288,AG288,AE288,AK288,AL288,AJ288,AI288,Z288,IF(L288=1,mu_redLead,mu_millScale))","v":-84.25380673207421},411.57533608448563,-0.25740380383400374,127.57909981369563,{"$f":"tau_n(N288,W288,U288,D288)","v":358.8651022837347},{"$f":"tau_hMax(X288,Z288,AH288,W288,U288)","v":118.59378820758548},{"$f":"tau_hMin(X288,Y288,AS288,AE288,Z288,AI288,IF(L288=1,mu_redLead,mu_millScale),W288,U288)","v":-112.72424298657076},231.31803119415622]
[277,"Wilson1938","R; L",2,1,14.3,95.25,null,{"$f":"[1]dataShear!$T$24/2","v":19.049999999999997},15.875,101.6,null,431,149.50005174376116,-1,81000,3,"B43-2-L",null,277,1.3321678321678319,0.40944881889763785,0.15013123359580052,74.750025871880581,-74.750025871880581,{"$f":"IF(OR(X289>=1.6*D289*AD289,D289=1),calcLoadFraction(G289,F289,I289,J289,K289,D289,1),\"Condition for spring model not fulfilled\")","v":0.49511657990506569},{"$f":"IF(L289>2,L289,IF(L289=2,1,sigma_cl0(I289+J289)))","v":187.94256513007929},{"$f":"Sigma_cl(AA289,U289,V289,X289)","v":179.04931479520852},{"$f":"Sigma_cl(AA289,U289,V289,Y289)","v":196.83581546495006},{"$f":"sigma_Slip(AB289,W289,U289,IF(L289=1,mu_redLead,mu_millScale))","v":12.307411540651252},{"$f":"sigma_Slip(AC289,W289,U289,IF(L289=1,mu_redLead,mu_millScale))","v":13.530012050800964},{"$f":"Sigma_p(AB289,V289)","v":-27.144938012600338},{"$f":"Sigma_p(AC289,V289)","v":-29.841477000718985},{"$f":"beta_1(X289,AD289,Z289)","v":0.6674569268639241},{"$f":"beta_1(Y289,AE289,Z289)","v":0.63442257764109744},{"$f":"k_tHole(W289,U289)","v":2.6138405950955965},{"$f":"K_t1Mu(Z289,AH289,D289,W289,U289,SIGN(X289),mu_millScale)","v":4.7420246779921813},{"$f":"K_t1Mu(Z289,AI289,D289,W289,U289,SIGN(Y289),mu_millScale)","v":0},{"$f":"Sigma_hMax(AK289,X289,AF289)","v":327.3215293524114},{"$f":"Sigma_hMin(X289,Y289,AG289,AE289,AK289,AL289,AJ289,AI289,Z289,IF(L289=1,mu_redLead,mu_millScale))","v":-84.25380673207421},411.57533608448563,-0.25740380383400374,127.57909981369563,{"$f":"tau_n(N289,W289,U289,D289)","v":358.8651022837347},{"$f":"tau_hMax(X289,Z289,AH289,W289,U289)","v":118.59378820758548},{"$f":"tau_hMin(X289,Y289,AS289,AE289,Z289,AI289,IF(L289=1,mu_redLead,mu_millScale),W289,U289)","v":-112.72424298657076},231.31803119415622]
[278,"Wilson1938","R; L",2,1,14.3,95.25,null,{"$f":"[1]dataShear!$T$24/2","v":19.049999999999997},15.875,101.6,null,431,149.50005174376116,-1,78000,3,"B43-2-U",null,278,1.3321678321678319,0.40944881889763785,0.15013123359580052,74.750025871880581,-74.750025871880581,{"$f":"IF(OR(X290>=1.6*D290*AD290,D290=1),calcLoadFraction(G290,F290,I290,J290,K290,D290,1),\"Condition for spring model not fulfilled\")","v":0.49511657990506569},{"$f":"IF(L290>2,L290,IF(L290=2,1,sigma_cl0(I290+J290)))","v":187.94256513007929},{"$f":"Sigma_cl(AA290,U290,V290,X290)","v":179.04931479520852},{"$f":"Sigma_cl(AA290,U290,V290,Y290)","v":196.83581546495006},{"$f":"sigma_Slip(AB290,W290,U290,IF(L290=1,mu_redLead,mu_millScale))","v":12.307411540651252},{"$f":"sigma_Slip(AC290,W290,U290,IF(L290=1,mu_redLead,mu_millScale))","v":13.530012050800964},{"$f":"Sigma_p(AB290,V290)","v":-27.144938012600338},{"$f":"Sigma_p(AC290,V290)","v":-29.841477000718985},{"$f":"beta_1(X290,AD290,Z290)","v":0.6674569268639241},{"$f":"beta_1(Y290,AE290,Z290)","v":0.63442257764109744},{"$f":"k_tHole(W290,U290)","v":2.6138405950955965},{"$f":"K_t1Mu(Z290,AH290,D290,W290,U290,SIGN(X290),mu_millScale)","v":4.7420246779921813},{"$f":"K_t1Mu(Z290,AI290,D290,W290,U290,SIGN(Y290),mu_millScale)","v":0},{"$f":"Sigma_hMax(AK290,X290,AF290)","v":327.3215293524114},{"$f":"Sigma_hMin(X290,Y290,AG290,AE290,AK290,AL290,AJ290,AI290,Z290,IF(L290=1,mu_redLead,mu_millScale))","v":-84.25380673207421},411.57533608448563,-0.25740380383400374,127.57909981369563,{"$f":"tau_n(N290,W290,U290,D290)","v":358.8651022837347},{"$f":"tau_hMax(X290,Z290,AH290,W290,U290)","v":118.59378820758548},{"$f":"tau_hMin(X290,Y290,AS290,AE290,Z290,AI290,IF(L290=1,mu_redLead,mu_millScale),W290,U290)","v":-112.72424298657076},231.31803119415622]
[279,"Wilson1938","R; L",1,2,14.3,57.15,null,{"$f":"[1]dataShear!$T$24/2","v":19.049999999999997},47.625,101.6,null,431,171.14484038006336,-1,6000,3,"B3-3","Rivet failed in flexure",279,1.3321678321678319,0.21447319085114364,0.25021872265966755,85.572420190031679,-85.572420190031679,{"$f":"IF(OR(X291>=1.6*D291*AD291,D291=1),calcLoadFraction(G291,F291,I291,J291,K291,D291,1),\"Condition for spring model not fulfilled\")","v":1},{"$f":"IF(L291>2,L291,IF(L291=2,1,sigma_cl0(I291+J291)))","v":221.35158575617785},{"$f":"Sigma_cl(AA291,U291,V291,X291)","v":215.05797559497449},{"$f":"Sigma_cl(AA291,U291,V291,Y291)","v":227.64519591738122},{"$f":"sigma_Slip(AB291,W291,U291,IF(L291=1,mu_redLead,mu_millScale))","v":27.926444080302687},{"$f":"sigma_Slip(AC291,W291,U291,IF(L291=1,mu_redLead,mu_millScale))","v":29.560962881512658},{"$f":"Sigma_p(AB291,V291)","v":-14.367882738804967},{"$f":"Sigma_p(AC291,V291)","v":-15.20882669868138},{"$f":"beta_1(X291,AD291,Z291)","v":0.67365134679741323},{"$f":"beta_1(Y291,AE291,Z291)","v":0.65455034676048329},{"$f":"k_tHole(W291,U291)","v":2.4215060131404518},{"$f":"K_t1Mu(Z291,AH291,D291,W291,U291,SIGN(X291),mu_millScale)","v":4.928404169376063},{"$f":"K_t1Mu(Z291,AI291,D291,W291,U291,SIGN(Y291),mu_millScale)","v":0},{"$f":"Sigma_hMax(AK291,X291,AF291)","v":407.36758970934756},{"$f":"Sigma_hMin(X291,Y291,AG291,AE291,AK291,AL291,AJ291,AI291,Z291,IF(L291=1,mu_redLead,mu_millScale))","v":-44.136205218568456},451.50379492791603,-0.10834491091954362,141.48423240698077,{"$f":"tau_n(N291,W291,U291,D291)","v":434.92829677643078},{"$f":"tau_hMax(X291,Z291,AH291,W291,U291)","v":146.49501644187382},{"$f":"tau_hMin(X291,Y291,AS291,AE291,Z291,AI291,IF(L291=1,mu_redLead,mu_millScale),W291,U291)","v":-142.34123373547956},288.83625017735335]
[280,"Wilson1938","R; L",1,2,14.3,57.15,null,{"$f":"[1]dataShear!$T$24/2","v":19.049999999999997},19.049999999999997,101.6,null,431,85.572420190031679,-1,1786000,3,"B2-1","Double plies, rivet drilled out",280,1.3321678321678319,0.3753280839895014,0.25021872265966755,42.786210095015839,-42.786210095015839,{"$f":"IF(OR(X292>=1.6*D292*AD292,D292=1),calcLoadFraction(G292,F292,I292,J292,K292,D292,1),\"Condition for spring model not fulfilled\")","v":1},{"$f":"IF(L292>2,L292,IF(L292=2,1,sigma_cl0(I292+J292)))","v":193.40166577022526},{"$f":"Sigma_cl(AA292,U292,V292,X292)","v":188.60746283227192},{"$f":"Sigma_cl(AA292,U292,V292,Y292)","v":198.19586870817861},{"$f":"sigma_Slip(AB292,W292,U292,IF(L292=1,mu_redLead,mu_millScale))","v":24.491701595075799},{"$f":"sigma_Slip(AC292,W292,U292,IF(L292=1,mu_redLead,mu_millScale))","v":25.736808082161186},{"$f":"Sigma_p(AB292,V292)","v":-25.797156853234704},{"$f":"Sigma_p(AC292,V292)","v":-27.108629934091599},{"$f":"beta_1(X292,AD292,Z292)","v":0.42757955096544448},{"$f":"beta_1(Y292,AE292,Z292)","v":0.39847890184694662},{"$f":"k_tHole(W292,U292)","v":2.4215060131404518},{"$f":"K_t1Mu(Z292,AH292,D292,W292,U292,SIGN(X292),mu_millScale)","v":3.6186041367051969},{"$f":"K_t1Mu(Z292,AI292,D292,W292,U292,SIGN(Y292),mu_millScale)","v":0},{"$f":"Sigma_hMax(AK292,X292,AF292)","v":129.02919999052727},{"$f":"Sigma_hMin(X292,Y292,AG292,AE292,AK292,AL292,AJ292,AI292,Z292,IF(L292=1,mu_redLead,mu_millScale))","v":-43.153130694484069},172.18233068501135,-0.33444468924593945,53.122473928975616,{"$f":"tau_n(N292,W292,U292,D292)","v":217.46414838821539},{"$f":"tau_hMax(X292,Z292,AH292,W292,U292)","v":46.491611459457957},{"$f":"tau_hMin(X292,Y292,AS292,AE292,Z292,AI292,IF(L292=1,mu_redLead,mu_millScale),W292,U292)","v":-43.327437520408758},89.819048979866722]
[281,"Wilson1938","R; L",1,2,14.3,57.15,null,{"$f":"[1]dataShear!$T$24/2","v":19.049999999999997},19.049999999999997,101.6,null,431,106.96552523753958,-1,469000,3,"B2-2","Double plies, rivet drilled out",281,1.3321678321678319,0.3753280839895014,0.25021872265966755,53.48276261876979,-53.48276261876979,{"$f":"IF(OR(X293>=1.6*D293*AD293,D293=1),calcLoadFraction(G293,F293,I293,J293,K293,D293,1),\"Condition for spring model not fulfilled\")","v":1},{"$f":"IF(L293>2,L293,IF(L293=2,1,sigma_cl0(I293+J293)))","v":193.40166577022526},{"$f":"Sigma_cl(AA293,U293,V293,X293)","v":187.40891209778357},{"$f":"Sigma_cl(AA293,U293,V293,Y293)","v":199.39441944266696},{"$f":"sigma_Slip(AB293,W293,U293,IF(L293=1,mu_redLead,mu_millScale))","v":24.336063284190125},{"$f":"sigma_Slip(AC293,W293,U293,IF(L293=1,mu_redLead,mu_millScale))","v":25.89244639304686},{"$f":"Sigma_p(AB293,V293)","v":-25.633222718127588},{"$f":"Sigma_p(AC293,V293)","v":-27.272564069198712},{"$f":"beta_1(X293,AD293,Z293)","v":0.54497370568420533},{"$f":"beta_1(Y293,AE293,Z293)","v":0.51587305656570737},{"$f":"k_tHole(W293,U293)","v":2.4215060131404518},{"$f":"K_t1Mu(Z293,AH293,D293,W293,U293,SIGN(X293),mu_millScale)","v":4.2876360342575985},{"$f":"K_t1Mu(Z293,AI293,D293,W293,U293,SIGN(Y293),mu_millScale)","v":0},{"$f":"Sigma_hMax(AK293,X293,AF293)","v":203.68139749775506},{"$f":"Sigma_hMin(X293,Y293,AG293,AE293,AK293,AL293,AJ293,AI293,Z293,IF(L293=1,mu_redLead,mu_millScale))","v":-47.633831857557496},251.31522935531257,-0.23386441983776407,78.022736129606571,{"$f":"tau_n(N293,W293,U293,D293)","v":271.83018548526923},{"$f":"tau_hMax(X293,Z293,AH293,W293,U293)","v":74.070151750366023},{"$f":"tau_hMin(X293,Y293,AS293,AE293,Z293,AI293,IF(L293=1,mu_redLead,mu_millScale),W293,U293)","v":-70.114934326554504},144.18508607692053]
[282,"Wilson1938","R; L",1,2,14.3,57.15,null,{"$f":"[1]dataShear!$T$24/2","v":19.049999999999997},19.049999999999997,101.6,null,431,96.268972713785644,-1,2219000,3,"B2-3","Double plies, rivet drilled out",282,1.3321678321678319,0.3753280839895014,0.25021872265966755,48.134486356892822,-48.134486356892822,{"$f":"IF(OR(X294>=1.6*D294*AD294,D294=1),calcLoadFraction(G294,F294,I294,J294,K294,D294,1),\"Condition for spring model not fulfilled\")","v":1},{"$f":"IF(L294>2,L294,IF(L294=2,1,sigma_cl0(I294+J294)))","v":193.40166577022526},{"$f":"Sigma_cl(AA294,U294,V294,X294)","v":188.00818746502773},{"$f":"Sigma_cl(AA294,U294,V294,Y294)","v":198.7951440754228},{"$f":"sigma_Slip(AB294,W294,U294,IF(L294=1,mu_redLead,mu_millScale))","v":24.41388243963296},{"$f":"sigma_Slip(AC294,W294,U294,IF(L294=1,mu_redLead,mu_millScale))","v":25.814627237604025},{"$f":"Sigma_p(AB294,V294)","v":-25.715189785681144},{"$f":"Sigma_p(AC294,V294)","v":-27.190597001645155},{"$f":"beta_1(X294,AD294,Z294)","v":0.49279852580920058},{"$f":"beta_1(Y294,AE294,Z294)","v":0.46369787669070267},{"$f":"k_tHole(W294,U294)","v":2.4215060131404518},{"$f":"K_t1Mu(Z294,AH294,D294,W294,U294,SIGN(X294),mu_millScale)","v":3.9974523997982492},{"$f":"K_t1Mu(Z294,AI294,D294,W294,U294,SIGN(Y294),mu_millScale)","v":0},{"$f":"Sigma_hMax(AK294,X294,AF294)","v":166.70012821473614},{"$f":"Sigma_hMin(X294,Y294,AG294,AE294,AK294,AL294,AJ294,AI294,Z294,IF(L294=1,mu_redLead,mu_millScale))","v":-45.588612014718748},212.2887402294549,-0.27347676635253337,65.73730348986804,{"$f":"tau_n(N294,W294,U294,D294)","v":244.64716693674234},{"$f":"tau_hMax(X294,Z294,AH294,W294,U294)","v":60.280881604912004},{"$f":"tau_hMin(X294,Y294,AS294,AE294,Z294,AI294,IF(L294=1,mu_redLead,mu_millScale),W294,U294)","v":-56.721185923481649},117.00206752839365]
[283,"Wilson1938","R; L",1,1,14.3,57.15,null,{"$f":"[1]dataShear!$T$24/2","v":19.049999999999997},28.5,101.6,null,431,85.572420190031679,-1,51000,3,"B3-1",null,283,1.3321678321678319,0.30073606729758151,0.25021872265966755,42.786210095015839,-42.786210095015839,{"$f":"IF(OR(X295>=1.6*D295*AD295,D295=1),calcLoadFraction(G295,F295,I295,J295,K295,D295,1),\"Condition for spring model not fulfilled\")","v":1},{"$f":"IF(L295>2,L295,IF(L295=2,1,sigma_cl0(I295+J295)))","v":205.89449870409914},{"$f":"Sigma_cl(AA295,U295,V295,X295)","v":201.80648419181043},{"$f":"Sigma_cl(AA295,U295,V295,Y295)","v":209.98251321638784},{"$f":"sigma_Slip(AB295,W295,U295,IF(L295=1,mu_redLead,mu_millScale))","v":26.205666077872163},{"$f":"sigma_Slip(AC295,W295,U295,IF(L295=1,mu_redLead,mu_millScale))","v":27.267367773529376},{"$f":"Sigma_p(AB295,V295)","v":-21.021126949492565},{"$f":"Sigma_p(AC295,V295)","v":-21.872781170399666},{"$f":"beta_1(X295,AD295,Z295)","v":0.38752074512612983},{"$f":"beta_1(Y295,AE295,Z295)","v":0.36270663578343554},{"$f":"k_tHole(W295,U295)","v":2.4215060131404518},{"$f":"K_t1Mu(Z295,AH295,D295,W295,U295,SIGN(X295),mu_millScale)","v":3.3800334075616973},{"$f":"K_t1Mu(Z295,AI295,D295,W295,U295,SIGN(Y295),mu_millScale)","v":0},{"$f":"Sigma_hMax(AK295,X295,AF295)","v":123.59769255461451},{"$f":"Sigma_hMin(X295,Y295,AG295,AE295,AK295,AL295,AJ295,AI295,Z295,IF(L295=1,mu_redLead,mu_millScale))","v":-37.462511098344216},161.06020365295873,-0.30310040846264613,49.782896374406427,{"$f":"tau_n(N295,W295,U295,D295)","v":217.46414838821539},{"$f":"tau_hMax(X295,Z295,AH295,W295,U295)","v":42.135934410810243},{"$f":"tau_hMin(X295,Y295,AS295,AE295,Z295,AI295,IF(L295=1,mu_redLead,mu_millScale),W295,U295)","v":-39.43784483269971},81.573779243509961]
[284,"Wilson1938","R; L",1,1,14.3,57.15,null,{"$f":"[1]dataShear!$T$24/2","v":19.049999999999997},28.5,101.6,null,431,71.310350158359725,-1,6000,3,"B6-1","Large deformation from start of test",284,1.3321678321678319,0.30073606729758151,0.25021872265966755,35.655175079179863,-35.655175079179863,{"$f":"IF(OR(X296>=1.6*D296*AD296,D296=1),calcLoadFraction(G296,F296,I296,J296,K296,D296,1),\"Condition for spring model not fulfilled\")","v":1},{"$f":"IF(L296>2,L296,IF(L296=2,1,sigma_cl0(I296+J296)))","v":205.89449870409914},{"$f":"Sigma_cl(AA296,U296,V296,X296)","v":202.48781994385857},{"$f":"Sigma_cl(AA296,U296,V296,Y296)","v":209.3011774643397},{"$f":"sigma_Slip(AB296,W296,U296,IF(L296=1,mu_redLead,mu_millScale))","v":26.294141219176932},{"$f":"sigma_Slip(AC296,W296,U296,IF(L296=1,mu_redLead,mu_millScale))","v":27.17889263222461},{"$f":"Sigma_p(AB296,V296)","v":-21.092098134568158},{"$f":"Sigma_p(AC296,V296)","v":-21.801809985324073},{"$f":"beta_1(X296,AD296,Z296)","v":0.26254348321708626},{"$f":"beta_1(Y296,AE296,Z296)","v":0.23772937387439197},{"$f":"k_tHole(W296,U296)","v":2.4215060131404518},{"$f":"K_t1Mu(Z296,AH296,D296,W296,U296,SIGN(X296),mu_millScale)","v":2.6284846153739618},{"$f":"K_t1Mu(Z296,AI296,D296,W296,U296,SIGN(Y296),mu_millScale)","v":0.19796124852831615},{"$f":"Sigma_hMax(AK296,X296,AF296)","v":72.626981019521196},{"$f":"Sigma_hMin(X296,Y296,AG296,AE296,AK296,AL296,AJ296,AI296,Z296,IF(L296=1,mu_redLead,mu_millScale))","v":-34.843144569804572},107.47012558932576,-0.47975482500696515,32.906902257071295,{"$f":"tau_n(N296,W296,U296,D296)","v":181.22012365684614},{"$f":"tau_hMax(X296,Z296,AH296,W296,U296)","v":23.789081246949738},{"$f":"tau_hMin(X296,Y296,AS296,AE296,Z296,AI296,IF(L296=1,mu_redLead,mu_millScale),W296,U296)","v":-21.540673265190961},45.329754512140696]
[285,"Wilson1938","R; L",1,1,14.3,57.15,null,{"$f":"[1]dataShear!$T$24/2","v":19.049999999999997},28.5,101.6,null,431,57.048280126687786,-1,3512000,3,"B6-3","Rivet head popped of",285,1.3321678321678319,0.30073606729758151,0.25021872265966755,28.524140063343893,-28.524140063343893,{"$f":"IF(OR(X297>=1.6*D297*AD297,D297=1),calcLoadFraction(G297,F297,I297,J297,K297,D297,1),\"Condition for spring model not fulfilled\")","v":1},{"$f":"IF(L297>2,L297,IF(L297=2,1,sigma_cl0(I297+J297)))","v":205.89449870409914},{"$f":"Sigma_cl(AA297,U297,V297,X297)","v":203.16915569590668},{"$f":"Sigma_cl(AA297,U297,V297,Y297)","v":208.61984171229159},{"$f":"sigma_Slip(AB297,W297,U297,IF(L297=1,mu_redLead,mu_millScale))","v":26.382616360481702},{"$f":"sigma_Slip(AC297,W297,U297,IF(L297=1,mu_redLead,mu_millScale))","v":27.09041749091984},{"$f":"Sigma_p(AB297,V297)","v":-21.16306931964375},{"$f":"Sigma_p(AC297,V297)","v":-21.730838800248481},{"$f":"beta_1(X297,AD297,Z297)","v":7.5077590353521059E-2},{"$f":"beta_1(Y297,AE297,Z297)","v":5.0263481010826901E-2},{"$f":"k_tHole(W297,U297)","v":2.4215060131404518},{"$f":"K_t1Mu(Z297,AH297,D297,W297,U297,SIGN(X297),mu_millScale)","v":1.5739948425524408},{"$f":"K_t1Mu(Z297,AI297,D297,W297,U297,SIGN(Y297),mu_millScale)","v":1.0047398814972348},{"$f":"Sigma_hMax(AK297,X297,AF297)","v":23.733780028302991},{"$f":"Sigma_hMin(X297,Y297,AG297,AE297,AK297,AL297,AJ297,AI297,Z297,IF(L297=1,mu_redLead,mu_millScale))","v":-29.396918852912073},53.130698881215068,-1.2386109089178243,15.883230062001227,{"$f":"tau_n(N297,W297,U297,D297)","v":144.97609892547692},{"$f":"tau_hMax(X297,Z297,AH297,W297,U297)","v":5.4422280830892502},{"$f":"tau_hMin(X297,Y297,AS297,AE297,Z297,AI297,IF(L297=1,mu_redLead,mu_millScale),W297,U297)","v":-3.6435016976822356},9.0857297807714854]
[286,"Wilson1938","B; L",1,1,14.3,101.6,null,28.574999999999999,28.5,101.6,2,431,56.915390986254323,-1,32900,3,"B6-3a","Bolt shaft radius = 12.7 mm",286,1.9982517482517481,0.25054752518615858,0.14074803149606302,28.457695493127162,-28.457695493127162,{"$f":"IF(OR(X298>=1.6*D298*AD298,D298=1),calcLoadFraction(G298,F298,I298,J298,K298,D298,1),\"Condition for spring model not fulfilled\")","v":0.99999999999999989},{"$f":"IF(L298>2,L298,IF(L298=2,1,sigma_cl0(I298+J298)))","v":1},{"$f":"Sigma_cl(AA298,U298,V298,X298)","v":0},{"$f":"Sigma_cl(AA298,U298,V298,Y298)","v":4.5506632061642902},{"$f":"sigma_Slip(AB298,W298,U298,IF(L298=1,mu_redLead,mu_millScale))","v":0},{"$f":"sigma_Slip(AC298,W298,U298,IF(L298=1,mu_redLead,mu_millScale))","v":0.19336599605855948},{"$f":"Sigma_p(AB298,V298)","v":0},{"$f":"Sigma_p(AC298,V298)","v":-0.37452426188431159},{"$f":"beta_1(X298,AD298,Z298)","v":1},{"$f":"beta_1(Y298,AE298,Z298)","v":0.99320514213439171},{"$f":"k_tHole(W298,U298)","v":2.6343977109398611},{"$f":"K_t1Mu(Z298,AH298,D298,W298,U298,SIGN(X298),mu_millScale)","v":12.330410611052395},{"$f":"K_t1Mu(Z298,AI298,D298,W298,U298,SIGN(Y298),mu_millScale)","v":0},{"$f":"Sigma_hMax(AK298,X298,AF298)","v":350.89507047455305},{"$f":"Sigma_hMin(X298,Y298,AG298,AE298,AK298,AL298,AJ298,AI298,Z298,IF(L298=1,mu_redLead,mu_millScale))","v":-0.96757253524490872},351.86264300979798,-2.7574412314665935E-3,111.31831827730173,{"$f":"tau_n(N298,W298,U298,D298)","v":442.01626810623151},{"$f":"tau_hMax(X298,Z298,AH298,W298,U298)","v":221.00813405311573},{"$f":"tau_hMin(X298,Y298,AS298,AE298,Z298,AI298,IF(L298=1,mu_redLead,mu_millScale),W298,U298)","v":-219.5064151950815},440.51454924819723]
[287,"Wilson1938","B; L",1,1,14.3,101.6,null,28.574999999999999,28.5,101.6,206.84234476481998,431,56.915390986254309,-1,1806000,3,"B6-3b","Bolt shaft radius = 13.1 mm",287,1.9982517482517481,0.25054752518615858,0.14074803149606302,28.457695493127154,-28.457695493127154,{"$f":"IF(OR(X299>=1.6*D299*AD299,D299=1),calcLoadFraction(G299,F299,I299,J299,K299,D299,1),\"Condition for spring model not fulfilled\")","v":0.99999999999999989},{"$f":"IF(L299>2,L299,IF(L299=2,1,sigma_cl0(I299+J299)))","v":206.84234476481998},{"$f":"Sigma_cl(AA299,U299,V299,X299)","v":203.29168155865568},{"$f":"Sigma_cl(AA299,U299,V299,Y299)","v":210.39300797098429},{"$f":"sigma_Slip(AB299,W299,U299,IF(L299=1,mu_redLead,mu_millScale))","v":8.638235069068692},{"$f":"sigma_Slip(AC299,W299,U299,IF(L299=1,mu_redLead,mu_millScale))","v":8.9399834061455419},{"$f":"Sigma_p(AB299,V299)","v":-16.731114462577803},{"$f":"Sigma_p(AC299,V299)","v":-17.315560929495909},{"$f":"beta_1(X299,AD299,Z299)","v":0.69645345768932976},{"$f":"beta_1(Y299,AE299,Z299)","v":0.68585005738413896},{"$f":"k_tHole(W299,U299)","v":2.6343977109398611},{"$f":"K_t1Mu(Z299,AH299,D299,W299,U299,SIGN(X299),mu_millScale)","v":10.608912623624617},{"$f":"K_t1Mu(Z299,AI299,D299,W299,U299,SIGN(Y299),mu_millScale)","v":0},{"$f":"Sigma_hMax(AK299,X299,AF299)","v":285.17409049372424},{"$f":"Sigma_hMin(X299,Y299,AG299,AE299,AK299,AL299,AJ299,AI299,Z299,IF(L299=1,mu_redLead,mu_millScale))","v":-36.505134140349526},321.67922463407376,-0.12800999584901943,100.64199722153126,{"$f":"tau_n(N299,W299,U299,D299)","v":442.01626810623139},{"$f":"tau_hMax(X299,Z299,AH299,W299,U299)","v":153.92187913875932},{"$f":"tau_hMin(X299,Y299,AS299,AE299,Z299,AI299,IF(L299=1,mu_redLead,mu_millScale),W299,U299)","v":-151.57844142269084},305.50032056145017]
[288,"Wilson1938","B; L",1,1,14.3,101.6,null,28.574999999999999,28.5,101.6,262.00030336877199,431,71.144238732817897,-1,578200,3,"B6-3c","Bolt shaft radius = 13.1 mm",288,1.9982517482517481,0.25054752518615858,0.14074803149606302,35.572119366408948,-35.572119366408948,{"$f":"IF(OR(X300>=1.6*D300*AD300,D300=1),calcLoadFraction(G300,F300,I300,J300,K300,D300,1),\"Condition for spring model not fulfilled\")","v":0.99999999999999989},{"$f":"IF(L300>2,L300,IF(L300=2,1,sigma_cl0(I300+J300)))","v":262.00030336877199},{"$f":"Sigma_cl(AA300,U300,V300,X300)","v":257.56197436106663},{"$f":"Sigma_cl(AA300,U300,V300,Y300)","v":266.43863237647736},{"$f":"sigma_Slip(AB300,W300,U300,IF(L300=1,mu_redLead,mu_millScale))","v":10.944278990295984},{"$f":"sigma_Slip(AC300,W300,U300,IF(L300=1,mu_redLead,mu_millScale))","v":11.321464411642047},{"$f":"Sigma_p(AB300,V300)","v":-21.197615373156204},{"$f":"Sigma_p(AC300,V300)","v":-21.928173456803833},{"$f":"beta_1(X300,AD300,Z300)","v":0.69233548112315291},{"$f":"beta_1(Y300,AE300,Z300)","v":0.68173208081796211},{"$f":"k_tHole(W300,U300)","v":2.6343977109398611},{"$f":"K_t1Mu(Z300,AH300,D300,W300,U300,SIGN(X300),mu_millScale)","v":10.566180303205105},{"$f":"K_t1Mu(Z300,AI300,D300,W300,U300,SIGN(Y300),mu_millScale)","v":0},{"$f":"Sigma_hMax(AK300,X300,AF300)","v":354.66381161945486},{"$f":"Sigma_hMin(X300,Y300,AG300,AE300,AK300,AL300,AJ300,AI300,Z300,IF(L300=1,mu_redLead,mu_millScale))","v":-46.071336359581309},400.73514797903619,-0.12990143017189096,125.35696656426518,{"$f":"tau_n(N300,W300,U300,D300)","v":552.52033513278934},{"$f":"tau_hMax(X300,Z300,AH300,W300,U300)","v":191.26471602724266},{"$f":"tau_hMin(X300,Y300,AS300,AE300,Z300,AI300,IF(L300=1,mu_redLead,mu_millScale),W300,U300)","v":-188.33541888215709},379.60013490939974]
[289,"Wilson1938","B; L",1,1,13.5,171.45,null,28.574999999999999,12.7,171.5,218.56341096815979,null,63.10832330878074,0,3104000,3,"B39-1","Bolt shaft radius = 13.1 mm",289,2.1166666666666667,0.32707450030284679,7.874015748031496E-2,63.10832330878074,0,{"$f":"IF(OR(X301>=1.6*D301*AD301,D301=1),calcLoadFraction(G301,F301,I301,J301,K301,D301,1),\"Condition for spring model not fulfilled\")","v":1},{"$f":"IF(L301>2,L301,IF(L301=2,1,sigma_cl0(I301+J301)))","v":218.56341096815979},{"$f":"Sigma_cl(AA301,U301,V301,X301)","v":208.37499778495308},{"$f":"Sigma_cl(AA301,U301,V301,Y301)","v":218.56341096815979},{"$f":"sigma_Slip(AB301,W301,U301,IF(L301=1,mu_redLead,mu_millScale))","v":4.3615523920387487},{"$f":"sigma_Slip(AC301,W301,U301,IF(L301=1,mu_redLead,mu_millScale))","v":4.5748087729033786},{"$f":"Sigma_p(AB301,V301)","v":-24.107073170523915},{"$f":"Sigma_p(AC301,V301)","v":-25.285778987968346},{"$f":"beta_1(X301,AD301,Z301)","v":0.93088784231046284},{"$f":"beta_1(Y301,AE301,Z301)","v":0},{"$f":"k_tHole(W301,U301)","v":2.7818913748063716},{"$f":"K_t1Mu(Z301,AH301,D301,W301,U301,SIGN(X301),mu_millScale)","v":22.028194674336138},{"$f":"K_t1Mu(Z301,AI301,D301,W301,U301,SIGN(Y301),mu_millScale)","v":1.3909456874031858},{"$f":"Sigma_hMax(AK301,X301,AF301)","v":1366.0553582462433},{"$f":"Sigma_hMin(X301,Y301,AG301,AE301,AK301,AL301,AJ301,AI301,Z301,IF(L301=1,mu_redLead,mu_millScale))","v":46.397965120604823},1319.6573931256385,3.3964923046874936E-2,419.08138912585412,{"$f":"tau_n(N301,W301,U301,D301)","v":994.95879694470318},{"$f":"tau_hMax(X301,Z301,AH301,W301,U301)","v":926.19504767566877},{"$f":"tau_hMin(X301,Y301,AS301,AE301,Z301,AI301,IF(L301=1,mu_redLead,mu_millScale),W301,U301)","v":84.198969699520418},841.9960779761484]
[290,"Wilson1938","B; L",1,1,13.5,171.45,null,28.574999999999999,12.7,171.5,206.84234476481998,null,94.596472072680726,0,153000,3,"B39-2","Bolt shaft radius = 13.1 mm",290,2.1166666666666667,0.32707450030284679,7.874015748031496E-2,94.596472072680726,0,{"$f":"IF(OR(X302>=1.6*D302*AD302,D302=1),calcLoadFraction(G302,F302,I302,J302,K302,D302,1),\"Condition for spring model not fulfilled\")","v":1},{"$f":"IF(L302>2,L302,IF(L302=2,1,sigma_cl0(I302+J302)))","v":206.84234476481998},{"$f":"Sigma_cl(AA302,U302,V302,X302)","v":191.57038232597563},{"$f":"Sigma_cl(AA302,U302,V302,Y302)","v":206.84234476481998},{"$f":"sigma_Slip(AB302,W302,U302,IF(L302=1,mu_redLead,mu_millScale))","v":4.0098105250608524},{"$f":"sigma_Slip(AC302,W302,U302,IF(L302=1,mu_redLead,mu_millScale))","v":4.3294720248296956},{"$f":"Sigma_p(AB302,V302)","v":-22.162933524316607},{"$f":"Sigma_p(AC302,V302)","v":-23.929759294607265},{"$f":"beta_1(X302,AD302,Z302)","v":0.9576114157621014},{"$f":"beta_1(Y302,AE302,Z302)","v":0},{"$f":"k_tHole(W302,U302)","v":2.7818913748063716},{"$f":"K_t1Mu(Z302,AH302,D302,W302,U302,SIGN(X302),mu_millScale)","v":22.147035445997709},{"$f":"K_t1Mu(Z302,AI302,D302,W302,U302,SIGN(Y302),mu_millScale)","v":1.3909456874031858},{"$f":"Sigma_hMax(AK302,X302,AF302)","v":2072.8684865356759},{"$f":"Sigma_hMin(X302,Y302,AG302,AE302,AK302,AL302,AJ302,AI302,Z302,IF(L302=1,mu_redLead,mu_millScale))","v":45.597390212568236},2027.2710963231077,2.1997242231596572E-2,642.98444156467235,{"$f":"tau_n(N302,W302,U302,D302)","v":1491.397443537405},{"$f":"tau_hMax(X302,Z302,AH302,W302,U302)","v":1428.1792173698332},{"$f":"tau_hMin(X302,Y302,AS302,AE302,Z302,AI302,IF(L302=1,mu_redLead,mu_millScale),W302,U302)","v":88.182767076127234},1339.9964502937059]
[291,"Wilson1938","B; L",1,1,13.5,171.45,null,28.574999999999999,12.7,171.5,221.32130889835739,null,78.819391245485548,0,194000,3,"B39-3","Bolt shaft radius = 13.1 mm",291,2.1166666666666667,0.32707450030284679,7.874015748031496E-2,78.819391245485548,0,{"$f":"IF(OR(X303>=1.6*D303*AD303,D303=1),calcLoadFraction(G303,F303,I303,J303,K303,D303,1),\"Condition for spring model not fulfilled\")","v":1},{"$f":"IF(L303>2,L303,IF(L303=2,1,sigma_cl0(I303+J303)))","v":221.32130889835739},{"$f":"Sigma_cl(AA303,U303,V303,X303)","v":208.59644975531469},{"$f":"Sigma_cl(AA303,U303,V303,Y303)","v":221.32130889835739},{"$f":"sigma_Slip(AB303,W303,U303,IF(L303=1,mu_redLead,mu_millScale))","v":4.3661876620150881},{"$f":"sigma_Slip(AC303,W303,U303,IF(L303=1,mu_redLead,mu_millScale))","v":4.6325350665677743},{"$f":"Sigma_p(AB303,V303)","v":-24.132693129300222},{"$f":"Sigma_p(AC303,V303)","v":-25.604842445229774},{"$f":"beta_1(X303,AD303,Z303)","v":0.94460515879377382},{"$f":"beta_1(Y303,AE303,Z303)","v":0},{"$f":"k_tHole(W303,U303)","v":2.7818913748063716},{"$f":"K_t1Mu(Z303,AH303,D303,W303,U303,SIGN(X303),mu_millScale)","v":22.096008269859034},{"$f":"K_t1Mu(Z303,AI303,D303,W303,U303,SIGN(Y303),mu_millScale)","v":1.3909456874031858},{"$f":"Sigma_hMax(AK303,X303,AF303)","v":1717.4612276562032},{"$f":"Sigma_hMin(X303,Y303,AG303,AE303,AK303,AL303,AJ303,AI303,Z303,IF(L303=1,mu_redLead,mu_millScale))","v":47.924350889504623},1669.5368767666985,2.7904182125209519E-2,529.85104805558501,{"$f":"tau_n(N303,W303,U303,D303)","v":1242.6577443012295},{"$f":"tau_hMax(X303,Z303,AH303,W303,U303)","v":1173.8209158819757},{"$f":"tau_hMin(X303,Y303,AS303,AE303,Z303,AI303,IF(L303=1,mu_redLead,mu_millScale),W303,U303)","v":89.557535704201555},1084.263380177774]
[292,"Wilson1938","B; L",1,1,13.5,171.45,null,28.574999999999999,12.7,171.5,133.7580496145836,null,63.10832330878074,0,281000,3,"B40-1","Bolt shaft radius = 13.1 mm",292,2.1166666666666667,0.32707450030284679,7.874015748031496E-2,63.10832330878074,0,{"$f":"IF(OR(X304>=1.6*D304*AD304,D304=1),calcLoadFraction(G304,F304,I304,J304,K304,D304,1),\"Condition for spring model not fulfilled\")","v":1},{"$f":"IF(L304>2,L304,IF(L304=2,1,sigma_cl0(I304+J304)))","v":133.7580496145836},{"$f":"Sigma_cl(AA304,U304,V304,X304)","v":123.56963643137688},{"$f":"Sigma_cl(AA304,U304,V304,Y304)","v":133.7580496145836},{"$f":"sigma_Slip(AB304,W304,U304,IF(L304=1,mu_redLead,mu_millScale))","v":2.5864688618585729},{"$f":"sigma_Slip(AC304,W304,U304,IF(L304=1,mu_redLead,mu_millScale))","v":2.7997252427232029},{"$f":"Sigma_p(AB304,V304)","v":-14.295871859734934},{"$f":"Sigma_p(AC304,V304)","v":-15.474577677179367},{"$f":"beta_1(X304,AD304,Z304)","v":0.9590154083288932},{"$f":"beta_1(Y304,AE304,Z304)","v":0},{"$f":"k_tHole(W304,U304)","v":2.7818913748063716},{"$f":"K_t1Mu(Z304,AH304,D304,W304,U304,SIGN(X304),mu_millScale)","v":22.151759345734426},{"$f":"K_t1Mu(Z304,AI304,D304,W304,U304,SIGN(Y304),mu_millScale)","v":1.3909456874031858},{"$f":"Sigma_hMax(AK304,X304,AF304)","v":1383.6645187891786},{"$f":"Sigma_hMin(X304,Y304,AG304,AE304,AK304,AL304,AJ304,AI304,Z304,IF(L304=1,mu_redLead,mu_millScale))","v":29.541731177119335},1354.1227876120593,2.1350356806844193E-2,429.45473440815545,{"$f":"tau_n(N304,W304,U304,D304)","v":994.95879694470318},{"$f":"tau_hMax(X304,Z304,AH304,W304,U304)","v":954.18081692234898},{"$f":"tau_hMin(X304,Y304,AS304,AE304,Z304,AI304,IF(L304=1,mu_redLead,mu_millScale),W304,U304)","v":57.37308138981853},896.8077355325305]
[293,"Wilson1938","B; L",1,1,13.5,171.45,null,28.574999999999999,12.7,171.5,142.0317434051764,null,50.433848334632287,0,1108000,3,"B40-2","Bolt shaft radius = 13.1 mm",293,2.1166666666666667,0.32707450030284679,7.874015748031496E-2,50.433848334632287,0,{"$f":"IF(OR(X305>=1.6*D305*AD305,D305=1),calcLoadFraction(G305,F305,I305,J305,K305,D305,1),\"Condition for spring model not fulfilled\")","v":1},{"$f":"IF(L305>2,L305,IF(L305=2,1,sigma_cl0(I305+J305)))","v":142.0317434051764},{"$f":"Sigma_cl(AA305,U305,V305,X305)","v":133.88953872738358},{"$f":"Sigma_cl(AA305,U305,V305,Y305)","v":142.0317434051764},{"$f":"sigma_Slip(AB305,W305,U305,IF(L305=1,mu_redLead,mu_millScale))","v":2.802477476247168},{"$f":"sigma_Slip(AC305,W305,U305,IF(L305=1,mu_redLead,mu_millScale))","v":2.9729041237163911},{"$f":"Sigma_p(AB305,V305)","v":-15.489789759708902},{"$f":"Sigma_p(AC305,V305)","v":-16.431768048963658},{"$f":"beta_1(X305,AD305,Z305)","v":0.94443260689423258},{"$f":"beta_1(Y305,AE305,Z305)","v":0},{"$f":"k_tHole(W305,U305)","v":2.7818913748063716},{"$f":"K_t1Mu(Z305,AH305,D305,W305,U305,SIGN(X305),mu_millScale)","v":22.095243831201074},{"$f":"K_t1Mu(Z305,AI305,D305,W305,U305,SIGN(Y305),mu_millScale)","v":1.3909456874031858},{"$f":"Sigma_hMax(AK305,X305,AF305)","v":1098.8583865398057},{"$f":"Sigma_hMin(X305,Y305,AG305,AE305,AK305,AL305,AJ305,AI305,Z305,IF(L305=1,mu_redLead,mu_millScale))","v":30.747710519696316},1068.1106760201094,2.7981504164988683E-2,338.98273641521484,{"$f":"tau_n(N305,W305,U305,D305)","v":795.13443605204282},{"$f":"tau_hMax(X305,Z305,AH305,W305,U305)","v":750.9508882720063},{"$f":"tau_hMin(X305,Y305,AS305,AE305,Z305,AI305,IF(L305=1,mu_redLead,mu_millScale),W305,U305)","v":57.435703884585536},693.51518438742073]
[294,"Wilson1938","B; L",1,1,13.5,171.45,null,28.574999999999999,12.7,171.5,140.17016230229302,null,44.096610847558075,0,4153000,3,"B40-3","Bolt shaft radius = 13.1 mm",294,2.1166666666666667,0.32707450030284679,7.874015748031496E-2,44.096610847558075,0,{"$f":"IF(OR(X306>=1.6*D306*AD306,D306=1),calcLoadFraction(G306,F306,I306,J306,K306,D306,1),\"Condition for spring model not fulfilled\")","v":1},{"$f":"IF(L306>2,L306,IF(L306=2,1,sigma_cl0(I306+J306)))","v":140.17016230229302},{"$f":"Sigma_cl(AA306,U306,V306,X306)","v":133.05106187720716},{"$f":"Sigma_cl(AA306,U306,V306,Y306)","v":140.17016230229302},{"$f":"sigma_Slip(AB306,W306,U306,IF(L306=1,mu_redLead,mu_millScale))","v":2.7849270947214042},{"$f":"sigma_Slip(AC306,W306,U306,IF(L306=1,mu_redLead,mu_millScale))","v":2.9339388754929239},{"$f":"Sigma_p(AB306,V306)","v":-15.392785690152275},{"$f":"Sigma_p(AC306,V306)","v":-16.216400215312191},{"$f":"beta_1(X306,AD306,Z306)","v":0.93684487217512258},{"$f":"beta_1(Y306,AE306,Z306)","v":0},{"$f":"k_tHole(W306,U306)","v":2.7818913748063716},{"$f":"K_t1Mu(Z306,AH306,D306,W306,U306,SIGN(X306),mu_millScale)","v":22.059389246936075},{"$f":"K_t1Mu(Z306,AI306,D306,W306,U306,SIGN(Y306),mu_millScale)","v":1.3909456874031858},{"$f":"Sigma_hMax(AK306,X306,AF306)","v":957.35151746679503},{"$f":"Sigma_hMin(X306,Y306,AG306,AE306,AK306,AL306,AJ306,AI306,Z306,IF(L306=1,mu_redLead,mu_millScale))","v":30.017183814618821},927.33433365217616,3.1354401457518916E-2,294.4101430486196,{"$f":"tau_n(N306,W306,U306,D306)","v":695.22225560571292},{"$f":"tau_hMax(X306,Z306,AH306,W306,U306)","v":651.31540518623456},{"$f":"tau_hMin(X306,Y306,AS306,AE306,Z306,AI306,IF(L306=1,mu_redLead,mu_millScale),W306,U306)","v":55.132101405057334},596.18330378117719]
[295,"Wilson1938","B; L",1,1,13.5,171.45,null,28.574999999999999,12.7,171.5,65.017443704408421,null,63.10832330878074,0,198000,3,"B41-1","Bolt shaft radius = 13.1 mm",295,2.1166666666666667,0.32707450030284679,7.874015748031496E-2,63.10832330878074,0,{"$f":"IF(OR(X307>=1.6*D307*AD307,D307=1),calcLoadFraction(G307,F307,I307,J307,K307,D307,1),\"Condition for spring model not fulfilled\")","v":1},{"$f":"IF(L307>2,L307,IF(L307=2,1,sigma_cl0(I307+J307)))","v":65.017443704408421},{"$f":"Sigma_cl(AA307,U307,V307,X307)","v":54.829030521201709},{"$f":"Sigma_cl(AA307,U307,V307,Y307)","v":65.017443704408421},{"$f":"sigma_Slip(AB307,W307,U307,IF(L307=1,mu_redLead,mu_millScale))","v":1.1476409922735045},{"$f":"sigma_Slip(AC307,W307,U307,IF(L307=1,mu_redLead,mu_millScale))","v":1.3608973731381344},{"$f":"Sigma_p(AB307,V307)","v":-6.3432151874937865},{"$f":"Sigma_p(AC307,V307)","v":-7.5219210049382177},{"$f":"beta_1(X307,AD307,Z307)","v":0.98181474436171834},{"$f":"beta_1(Y307,AE307,Z307)","v":0},{"$f":"k_tHole(W307,U307)","v":2.7818913748063716},{"$f":"K_t1Mu(Z307,AH307,D307,W307,U307,SIGN(X307),mu_millScale)","v":22.206649635065396},{"$f":"K_t1Mu(Z307,AI307,D307,W307,U307,SIGN(Y307),mu_millScale)","v":1.3909456874031858},{"$f":"Sigma_hMax(AK307,X307,AF307)","v":1395.081209587031},{"$f":"Sigma_hMin(X307,Y307,AG307,AE307,AK307,AL307,AJ307,AI307,Z307,IF(L307=1,mu_redLead,mu_millScale))","v":14.783061068884068},1380.2981485181469,1.0596559517320227E-2,437.27102994463132,{"$f":"tau_n(N307,W307,U307,D307)","v":994.95879694470318},{"$f":"tau_hMax(X307,Z307,AH307,W307,U307)","v":976.8652168727067},{"$f":"tau_hMin(X307,Y307,AS307,AE307,Z307,AI307,IF(L307=1,mu_redLead,mu_millScale),W307,U307)","v":31.522131489995143},945.34308538271159]
[296,"Wilson1938","B; L",1,1,13.5,171.45,null,28.574999999999999,12.7,171.5,71.843241081647477,null,50.433848334632287,0,401000,3,"B41-2","Bolt shaft radius = 13.1 mm",296,2.1166666666666667,0.32707450030284679,7.874015748031496E-2,50.433848334632287,0,{"$f":"IF(OR(X308>=1.6*D308*AD308,D308=1),calcLoadFraction(G308,F308,I308,J308,K308,D308,1),\"Condition for spring model not fulfilled\")","v":1},{"$f":"IF(L308>2,L308,IF(L308=2,1,sigma_cl0(I308+J308)))","v":71.843241081647477},{"$f":"Sigma_cl(AA308,U308,V308,X308)","v":63.701036403854665},{"$f":"Sigma_cl(AA308,U308,V308,Y308)","v":71.843241081647477},{"$f":"sigma_Slip(AB308,W308,U308,IF(L308=1,mu_redLead,mu_millScale))","v":1.3333433024882912},{"$f":"sigma_Slip(AC308,W308,U308,IF(L308=1,mu_redLead,mu_millScale))","v":1.5037699499575143},{"$f":"Sigma_p(AB308,V308)","v":-7.3696247724055022},{"$f":"Sigma_p(AC308,V308)","v":-8.3116030616602572},{"$f":"beta_1(X308,AD308,Z308)","v":0.97356253098828671},{"$f":"beta_1(Y308,AE308,Z308)","v":0},{"$f":"k_tHole(W308,U308)","v":2.7818913748063716},{"$f":"K_t1Mu(Z308,AH308,D308,W308,U308,SIGN(X308),mu_millScale)","v":22.191569010567203},{"$f":"K_t1Mu(Z308,AI308,D308,W308,U308,SIGN(Y308),mu_millScale)","v":1.3909456874031858},{"$f":"Sigma_hMax(AK308,X308,AF308)","v":1111.8366010140667},{"$f":"Sigma_hMin(X308,Y308,AG308,AE308,AK308,AL308,AJ308,AI308,Z308,IF(L308=1,mu_redLead,mu_millScale))","v":16.169205564002766},1095.6673954500639,1.4542789425402445E-2,347.24187215394431,{"$f":"tau_n(N308,W308,U308,D308)","v":795.13443605204282},{"$f":"tau_hMax(X308,Z308,AH308,W308,U308)","v":774.1130940387709},{"$f":"tau_hMin(X308,Y308,AS308,AE308,Z308,AI308,IF(L308=1,mu_redLead,mu_millScale),W308,U308)","v":33.091530538369042},741.02156350040184]
[297,"Wilson1938","B; L",1,1,13.5,171.45,null,28.574999999999999,12.7,171.5,71.119292874970611,null,37.75937336048387,0,3704000,3,"B41-3","Bolt shaft radius = 13.1 mm",297,2.1166666666666667,0.32707450030284679,7.874015748031496E-2,37.75937336048387,0,{"$f":"IF(OR(X309>=1.6*D309*AD309,D309=1),calcLoadFraction(G309,F309,I309,J309,K309,D309,1),\"Condition for spring model not fulfilled\")","v":1},{"$f":"IF(L309>2,L309,IF(L309=2,1,sigma_cl0(I309+J309)))","v":71.119292874970611},{"$f":"Sigma_cl(AA309,U309,V309,X309)","v":65.023296702591693},{"$f":"Sigma_cl(AA309,U309,V309,Y309)","v":71.119292874970611},{"$f":"sigma_Slip(AB309,W309,U309,IF(L309=1,mu_redLead,mu_millScale))","v":1.3610198837967942},{"$f":"sigma_Slip(AC309,W309,U309,IF(L309=1,mu_redLead,mu_millScale))","v":1.4886167978706104},{"$f":"Sigma_p(AB309,V309)","v":-7.5225981430640534},{"$f":"Sigma_p(AC309,V309)","v":-8.2278489041291323},{"$f":"beta_1(X309,AD309,Z309)","v":0.96395544304182934},{"$f":"beta_1(Y309,AE309,Z309)","v":0},{"$f":"k_tHole(W309,U309)","v":2.7818913748063716},{"$f":"K_t1Mu(Z309,AH309,D309,W309,U309,SIGN(X309),mu_millScale)","v":22.167153061341999},{"$f":"K_t1Mu(Z309,AI309,D309,W309,U309,SIGN(Y309),mu_millScale)","v":1.3909456874031858},{"$f":"Sigma_hMax(AK309,X309,AF309)","v":829.49521063914153},{"$f":"Sigma_hMin(X309,Y309,AG309,AE309,AK309,AL309,AJ309,AI309,Z309,IF(L309=1,mu_redLead,mu_millScale))","v":15.810195671704852},813.6850149674367,1.906002044246018E-2,257.99558054892628,{"$f":"tau_n(N309,W309,U309,D309)","v":595.31007515938302},{"$f":"tau_hMax(X309,Z309,AH309,W309,U309)","v":573.85238724752787},{"$f":"tau_hMin(X309,Y309,AS309,AE309,Z309,AI309,IF(L309=1,mu_redLead,mu_millScale),W309,U309)","v":31.194604354458175},542.65778289306968]
[298,"Wilson1949","R; L",1,3,10.31875,38,null,6.35,9.5,76,null,466,168.48,0,849600,1,"44RA-1",null,{"$f":"A310","v":298},0.61538461538461542,0.65102523659305989,0.27154605263157894,168.48,0,{"$f":"IF(OR(X310>=1.6*D310*AD310,D310=1),calcLoadFraction(G310,F310,I310,J310,K310,D310,1),\"Condition for spring model not fulfilled\")","v":0.99999999999999989},{"$f":"IF(L310>2,L310,IF(L310=2,1,sigma_cl0(I310+J310)))","v":124.29180090438807},{"$f":"Sigma_cl(AA310,U310,V310,X310)","v":111.83481587505354},{"$f":"Sigma_cl(AA310,U310,V310,Y310)","v":124.29180090438807},{"$f":"sigma_Slip(AB310,W310,U310,IF(L310=1,mu_redLead,mu_millScale))","v":35.116045506347824},{"$f":"sigma_Slip(AC310,W310,U310,IF(L310=1,mu_redLead,mu_millScale))","v":39.027529150678504},{"$f":"Sigma_p(AB310,V310)","v":-28.252511840139139},{"$f":"Sigma_p(AC310,V310)","v":-31.399484580961754},{"$f":"beta_1(X310,AD310,Z310)","v":0.79157142980562778},{"$f":"beta_1(Y310,AE310,Z310)","v":0},{"$f":"k_tHole(W310,U310)","v":2.3865505566728378},{"$f":"K_t1Mu(Z310,AH310,D310,W310,U310,SIGN(X310),mu_millScale)","v":4.499292423401223},{"$f":"K_t1Mu(Z310,AI310,D310,W310,U310,SIGN(Y310),mu_millScale)","v":1.1932752783364191},{"$f":"Sigma_hMax(AK310,X310,AF310)","v":729.78827565449888},{"$f":"Sigma_hMin(X310,Y310,AG310,AE310,AK310,AL310,AJ310,AI310,Z310,IF(L310=1,mu_redLead,mu_millScale))","v":80.804164562515439},648.98411109198344,0.11072274967701766,207.93181251526426,{"$f":"tau_n(N310,W310,U310,D310)","v":177.0654052098092},{"$f":"tau_hMax(X310,Z310,AH310,W310,U310)","v":140.15991597104153},{"$f":"tau_hMin(X310,Y310,AS310,AE310,Z310,AI310,IF(L310=1,mu_redLead,mu_millScale),W310,U310)","v":31.679909650737681},108.48000632030384]
[299,"Wilson1949","R; L",1,3,10.31875,38,null,6.35,9.5,76,null,466,186.46,0,122500,1,"44RA-2",null,299,0.61538461538461542,0.65102523659305989,0.27154605263157894,186.46,0,{"$f":"IF(OR(X311>=1.6*D311*AD311,D311=1),calcLoadFraction(G311,F311,I311,J311,K311,D311,1),\"Condition for spring model not fulfilled\")","v":0.99999999999999989},{"$f":"IF(L311>2,L311,IF(L311=2,1,sigma_cl0(I311+J311)))","v":124.29180090438807},{"$f":"Sigma_cl(AA311,U311,V311,X311)","v":110.50542015551748},{"$f":"Sigma_cl(AA311,U311,V311,Y311)","v":124.29180090438807},{"$f":"sigma_Slip(AB311,W311,U311,IF(L311=1,mu_redLead,mu_millScale))","v":34.698616280771695},{"$f":"sigma_Slip(AC311,W311,U311,IF(L311=1,mu_redLead,mu_millScale))","v":39.027529150678504},{"$f":"Sigma_p(AB311,V311)","v":-27.916670375989149},{"$f":"Sigma_p(AC311,V311)","v":-31.399484580961754},{"$f":"beta_1(X311,AD311,Z311)","v":0.81390852579227879},{"$f":"beta_1(Y311,AE311,Z311)","v":0},{"$f":"k_tHole(W311,U311)","v":2.3865505566728378},{"$f":"K_t1Mu(Z311,AH311,D311,W311,U311,SIGN(X311),mu_millScale)","v":4.5531202769777952},{"$f":"K_t1Mu(Z311,AI311,D311,W311,U311,SIGN(Y311),mu_millScale)","v":1.1932752783364191},{"$f":"Sigma_hMax(AK311,X311,AF311)","v":821.05813646929062},{"$f":"Sigma_hMin(X311,Y311,AG311,AE311,AK311,AL311,AJ311,AI311,Z311,IF(L311=1,mu_redLead,mu_millScale))","v":83.790647781360335},737.26748868793027,0.10205202781580898,235.96409919812226,{"$f":"tau_n(N311,W311,U311,D311)","v":195.96163019599376},{"$f":"tau_hMax(X311,Z311,AH311,W311,U311)","v":159.49484154467297},{"$f":"tau_hMin(X311,Y311,AS311,AE311,Z311,AI311,IF(L311=1,mu_redLead,mu_millScale),W311,U311)","v":33.480183708604734},126.01465783606824]
[300,"Wilson1949","R; L",1,3,10.31875,38,null,6.35,9.5,76,null,466,175.1,0,192500,1,"44RA-3",null,300,0.61538461538461542,0.65102523659305989,0.27154605263157894,175.1,0,{"$f":"IF(OR(X312>=1.6*D312*AD312,D312=1),calcLoadFraction(G312,F312,I312,J312,K312,D312,1),\"Condition for spring model not fulfilled\")","v":0.99999999999999989},{"$f":"IF(L312>2,L312,IF(L312=2,1,sigma_cl0(I312+J312)))","v":124.29180090438807},{"$f":"Sigma_cl(AA312,U312,V312,X312)","v":111.3453498203634},{"$f":"Sigma_cl(AA312,U312,V312,Y312)","v":124.29180090438807},{"$f":"sigma_Slip(AB312,W312,U312,IF(L312=1,mu_redLead,mu_millScale))","v":34.962353544539482},{"$f":"sigma_Slip(AC312,W312,U312,IF(L312=1,mu_redLead,mu_millScale))","v":39.027529150678504},{"$f":"Sigma_p(AB312,V312)","v":-28.128859421191809},{"$f":"Sigma_p(AC312,V312)","v":-31.399484580961754},{"$f":"beta_1(X312,AD312,Z312)","v":0.80032922019109376},{"$f":"beta_1(Y312,AE312,Z312)","v":0},{"$f":"k_tHole(W312,U312)","v":2.3865505566728378},{"$f":"K_t1Mu(Z312,AH312,D312,W312,U312,SIGN(X312),mu_millScale)","v":4.5209962820392047},{"$f":"K_t1Mu(Z312,AI312,D312,W312,U312,SIGN(Y312),mu_millScale)","v":1.1932752783364191},{"$f":"Sigma_hMax(AK312,X312,AF312)","v":763.49758956387291},{"$f":"Sigma_hMin(X312,Y312,AG312,AE312,AK312,AL312,AJ312,AI312,Z312,IF(L312=1,mu_redLead,mu_millScale))","v":81.979900332330189},681.5176892315427,0.107374144270919,218.26445546353659,{"$f":"tau_n(N312,W312,U312,D312)","v":184.02274722363245},{"$f":"tau_hMax(X312,Z312,AH312,W312,U312)","v":147.27878178291249},{"$f":"tau_hMin(X312,Y312,AS312,AE312,Z312,AI312,IF(L312=1,mu_redLead,mu_millScale),W312,U312)","v":32.371430677011048},114.90735110590144]
[301,"Wilson1949","R; L",1,3,10.31875,38,null,12.7,15.9,76,null,466,110.739547,0,38600,3,"44SA-1","Rivet may have yielded",301,{"$f":"I313/F313","v":1.2307692307692308},{"$f":"F313/(J313+I313)","v":0.36079545454545453},{"$f":"F313/G313","v":0.27154605263157894},{"$f":"N313/(1-O313)","v":110.739547},{"$f":"X313*O313","v":0},{"$f":"IF(OR(X313>=1.6*D313*AD313,D313=1),calcLoadFraction(G313,F313,I313,J313,K313,D313,1),\"Condition for spring model not fulfilled\")","v":1},{"$f":"IF(L313>2,L313,IF(L313=2,1,sigma_cl0(I313+J313)))","v":174.19047883441149},{"$f":"Sigma_cl(AA313,U313,V313,X313)","v":163.03966909190859},{"$f":"Sigma_cl(AA313,U313,V313,Y313)","v":174.19047883441149},{"$f":"sigma_Slip(AB313,W313,U313,IF(L313=1,mu_redLead,mu_millScale))","v":25.597164864865977},{"$f":"sigma_Slip(AC313,W313,U313,IF(L313=1,mu_redLead,mu_millScale))","v":27.347837673179264},{"$f":"Sigma_p(AB313,V313)","v":-21.266355070080621},{"$f":"Sigma_p(AC313,V313)","v":-22.720829803890972},{"$f":"beta_1(X313,AD313,Z313)","v":0.76885254131601266},{"$f":"beta_1(Y313,AE313,Z313)","v":0},{"$f":"k_tHole(W313,U313)","v":2.3865505566728378},{"$f":"K_t1Mu(Z313,AH313,D313,W313,U313,SIGN(X313),mu_millScale)","v":4.8593553573857831},{"$f":"K_t1Mu(Z313,AI313,D313,W313,U313,SIGN(Y313),mu_millScale)","v":1.1932752783364189},{"$f":"Sigma_hMax(AK313,X313,AF313)","v":516.85645591884406},{"$f":"Sigma_hMin(X313,Y313,AG313,AE313,AK313,AL313,AJ313,AI313,Z313,IF(L313=1,mu_redLead,mu_millScale))","v":61.37315648937841},{"$f":"(AM313-AN313)","v":455.48329942946566},{"$f":"AN313/AM313","v":0.11874313610008408},146.08247312607708,{"$f":"tau_n(N313,W313,U313,D313)","v":232.76522747276488},{"$f":"tau_hMax(X313,Z313,AH313,W313,U313)","v":178.96213667243504},{"$f":"tau_hMin(X313,Y313,AS313,AE313,Z313,AI313,IF(L313=1,mu_redLead,mu_millScale),W313,U313)","v":42.353134417892498},136.60900225454253]
[302,"Wilson1949","R; L",1,3,10.31875,38,null,12.7,15.9,76,null,466,88.970234379999994,0,203200,3,"44SA-2","Rivet may have yielded",302,1.2307692307692308,0.36079545454545453,0.27154605263157894,88.970234379999994,0,{"$f":"IF(OR(X314>=1.6*D314*AD314,D314=1),calcLoadFraction(G314,F314,I314,J314,K314,D314,1),\"Condition for spring model not fulfilled\")","v":1},{"$f":"IF(L314>2,L314,IF(L314=2,1,sigma_cl0(I314+J314)))","v":174.19047883441149},{"$f":"Sigma_cl(AA314,U314,V314,X314)","v":165.23170861010064},{"$f":"Sigma_cl(AA314,U314,V314,Y314)","v":174.19047883441149},{"$f":"sigma_Slip(AB314,W314,U314,IF(L314=1,mu_redLead,mu_millScale))","v":25.941314219743735},{"$f":"sigma_Slip(AC314,W314,U314,IF(L314=1,mu_redLead,mu_millScale))","v":27.347837673179264},{"$f":"Sigma_p(AB314,V314)","v":-21.552277453149504},{"$f":"Sigma_p(AC314,V314)","v":-22.720829803890972},{"$f":"beta_1(X314,AD314,Z314)","v":0.70842704416236546},{"$f":"beta_1(Y314,AE314,Z314)","v":0},{"$f":"k_tHole(W314,U314)","v":2.3865505566728378},{"$f":"K_t1Mu(Z314,AH314,D314,W314,U314,SIGN(X314),mu_millScale)","v":4.6539506418577394},{"$f":"K_t1Mu(Z314,AI314,D314,W314,U314,SIGN(Y314),mu_millScale)","v":1.1932752783364189},{"$f":"Sigma_hMax(AK314,X314,AF314)","v":392.51080194588496},{"$f":"Sigma_hMin(X314,Y314,AG314,AE314,AK314,AL314,AJ314,AI314,Z314,IF(L314=1,mu_redLead,mu_millScale))","v":54.852344298927306},337.65845764695769,0.13974734969584288,108.58977597368686,{"$f":"tau_n(N314,W314,U314,D314)","v":187.00796061379864},{"$f":"tau_hMax(X314,Z314,AH314,W314,U314)","v":132.48149677246545},{"$f":"tau_hMin(X314,Y314,AS314,AE314,Z314,AI314,IF(L314=1,mu_redLead,mu_millScale),W314,U314)","v":36.525038846139836},95.956457926325612]
[303,"Wilson1949","R; L",1,3,10.31875,38,null,12.7,15.9,76,null,466,73.826364699999999,0,3022800,0,"44SA-3",null,303,1.2307692307692308,0.36079545454545453,0.27154605263157894,73.826364699999999,0,{"$f":"IF(OR(X315>=1.6*D315*AD315,D315=1),calcLoadFraction(G315,F315,I315,J315,K315,D315,1),\"Condition for spring model not fulfilled\")","v":1},{"$f":"IF(L315>2,L315,IF(L315=2,1,sigma_cl0(I315+J315)))","v":174.19047883441149},{"$f":"Sigma_cl(AA315,U315,V315,X315)","v":166.75660566938643},{"$f":"Sigma_cl(AA315,U315,V315,Y315)","v":174.19047883441149},{"$f":"sigma_Slip(AB315,W315,U315,IF(L315=1,mu_redLead,mu_millScale))","v":26.180722467110108},{"$f":"sigma_Slip(AC315,W315,U315,IF(L315=1,mu_redLead,mu_millScale))","v":27.347837673179264},{"$f":"Sigma_p(AB315,V315)","v":-21.751179980912934},{"$f":"Sigma_p(AC315,V315)","v":-22.720829803890972},{"$f":"beta_1(X315,AD315,Z315)","v":0.64537435137842958},{"$f":"beta_1(Y315,AE315,Z315)","v":0},{"$f":"k_tHole(W315,U315)","v":2.3865505566728378},{"$f":"K_t1Mu(Z315,AH315,D315,W315,U315,SIGN(X315),mu_millScale)","v":4.4042271848327665},{"$f":"K_t1Mu(Z315,AI315,D315,W315,U315,SIGN(Y315),mu_millScale)","v":1.1932752783364189},{"$f":"Sigma_hMax(AK315,X315,AF315)","v":303.39690238820521},{"$f":"Sigma_hMin(X315,Y315,AG315,AE315,AK315,AL315,AJ315,AI315,Z315,IF(L315=1,mu_redLead,mu_millScale))","v":47.973124390546523},255.42377799765868,0.15812002038558556,82.348446340732067,{"$f":"tau_n(N315,W315,U315,D315)","v":155.17681838524044},{"$f":"tau_hMax(X315,Z315,AH315,W315,U315)","v":100.14713851434293},{"$f":"tau_hMin(X315,Y315,AS315,AE315,Z315,AI315,IF(L315=1,mu_redLead,mu_millScale),W315,U315)","v":31.259922467231807},68.887216047111124]
[304,"Steinhardt1965","R; S",2,1,6.5,35,null,5,6,39,null,null,141.26400000000001,0.2,622710,1,"151 N","Grade St37",304,0.76923076923076927,0.59090909090909094,0.18571428571428572,176.58,35.316000000000003,{"$f":"IF(OR(X316>=1.6*D316*AD316,D316=1),calcLoadFraction(G316,F316,I316,J316,K316,D316,1),\"Condition for spring model not fulfilled\")","v":0.50695458084384815},{"$f":"IF(L316>2,L316,IF(L316=2,1,sigma_cl0(I316+J316)))","v":89.016410028378033},{"$f":"Sigma_cl(AA316,U316,V316,X316)","v":73.63252574812401},{"$f":"Sigma_cl(AA316,U316,V316,Y316)","v":85.939633172327234},{"$f":"sigma_Slip(AB316,W316,U316,IF(L316=1,mu_redLead,mu_millScale))","v":11.316584345074943},{"$f":"sigma_Slip(AC316,W316,U316,IF(L316=1,mu_redLead,mu_millScale))","v":13.208063929604096},{"$f":"Sigma_p(AB316,V316)","v":-16.80736189786926},{"$f":"Sigma_p(AC316,V316)","v":-19.616582501031949},{"$f":"beta_1(X316,AD316,Z316)","v":0.87358319776034576},{"$f":"beta_1(Y316,AE316,Z316)","v":0.26226803298464074},{"$f":"k_tHole(W316,U316)","v":2.5399212827988338},{"$f":"K_t1Mu(Z316,AH316,D316,W316,U316,SIGN(X316),mu_millScale)","v":4.244272249400411},{"$f":"K_t1Mu(Z316,AI316,D316,W316,U316,SIGN(Y316),mu_millScale)","v":2.6538004573625615},{"$f":"Sigma_hMax(AK316,X316,AF316)","v":732.64623190125542},{"$f":"Sigma_hMin(X316,Y316,AG316,AE316,AK316,AL316,AJ316,AI316,Z316,IF(L316=1,mu_redLead,mu_millScale))","v":166.73058910784752},565.91564279340787,0.22757312035192331,184.36351319752933,{"$f":"tau_n(N316,W316,U316,D316)","v":151.65955486370987},{"$f":"tau_hMax(X316,Z316,AH316,W316,U316)","v":167.91253167036066},{"$f":"tau_hMin(X316,Y316,AS316,AE316,Z316,AI316,IF(L316=1,mu_redLead,mu_millScale),W316,U316)","v":57.994787925882854},109.9177437444778]
[305,"Steinhardt1965","R; S",2,1,6.5,35,null,5,6,39,null,null,133.416,0.2,1018800,1,"152 N","Grade St37",305,0.76923076923076927,0.59090909090909094,0.18571428571428572,166.76999999999998,33.353999999999999,{"$f":"IF(OR(X317>=1.6*D317*AD317,D317=1),calcLoadFraction(G317,F317,I317,J317,K317,D317,1),\"Condition for spring model not fulfilled\")","v":0.50695458084384815},{"$f":"IF(L317>2,L317,IF(L317=2,1,sigma_cl0(I317+J317)))","v":89.016410028378033},{"$f":"Sigma_cl(AA317,U317,V317,X317)","v":74.4871859859159},{"$f":"Sigma_cl(AA317,U317,V317,Y317)","v":86.110565219885601},{"$f":"sigma_Slip(AB317,W317,U317,IF(L317=1,mu_redLead,mu_millScale))","v":11.447937094000579},{"$f":"sigma_Slip(AC317,W317,U317,IF(L317=1,mu_redLead,mu_millScale))","v":13.234334479389224},{"$f":"Sigma_p(AB317,V317)","v":-17.002446661977782},{"$f":"Sigma_p(AC317,V317)","v":-19.65559945385365},{"$f":"beta_1(X317,AD317,Z317)","v":0.86459326886658538},{"$f":"beta_1(Y317,AE317,Z317)","v":0.21731838851583876},{"$f":"k_tHole(W317,U317)","v":2.5399212827988338},{"$f":"K_t1Mu(Z317,AH317,D317,W317,U317,SIGN(X317),mu_millScale)","v":4.233996227394762},{"$f":"K_t1Mu(Z317,AI317,D317,W317,U317,SIGN(Y317),mu_millScale)","v":2.5116354951564479},{"$f":"Sigma_hMax(AK317,X317,AF317)","v":689.10110418064664},{"$f":"Sigma_hMin(X317,Y317,AG317,AE317,AK317,AL317,AJ317,AI317,Z317,IF(L317=1,mu_redLead,mu_millScale))","v":159.20577620916151},529.89532797148513,0.23103398796387067,172.7265524026586,{"$f":"tau_n(N317,W317,U317,D317)","v":143.23402403794819},{"$f":"tau_hMax(X317,Z317,AH317,W317,U317)","v":156.95209017148701},{"$f":"tau_hMin(X317,Y317,AS317,AE317,Z317,AI317,IF(L317=1,mu_redLead,mu_millScale),W317,U317)","v":55.07160223207363},101.88048793941338]
[306,"Steinhardt1965","R; S",2,1,6.5,35,null,5,6,39,null,null,125.568,0.2,353420,1,"153 N","Grade St37",306,0.76923076923076927,0.59090909090909094,0.18571428571428572,156.95999999999998,31.391999999999996,{"$f":"IF(OR(X318>=1.6*D318*AD318,D318=1),calcLoadFraction(G318,F318,I318,J318,K318,D318,1),\"Condition for spring model not fulfilled\")","v":0.50695458084384815},{"$f":"IF(L318>2,L318,IF(L318=2,1,sigma_cl0(I318+J318)))","v":89.016410028378033},{"$f":"Sigma_cl(AA318,U318,V318,X318)","v":75.34184622370779},{"$f":"Sigma_cl(AA318,U318,V318,Y318)","v":86.281497267443982},{"$f":"sigma_Slip(AB318,W318,U318,IF(L318=1,mu_redLead,mu_millScale))","v":11.579289842926215},{"$f":"sigma_Slip(AC318,W318,U318,IF(L318=1,mu_redLead,mu_millScale))","v":13.26060502917435},{"$f":"Sigma_p(AB318,V318)","v":-17.1975314260863},{"$f":"Sigma_p(AC318,V318)","v":-19.694616406675355},{"$f":"beta_1(X318,AD318,Z318)","v":0.85447959886110492},{"$f":"beta_1(Y318,AE318,Z318)","v":0.16675003848843667},{"$f":"k_tHole(W318,U318)","v":2.5399212827988338},{"$f":"K_t1Mu(Z318,AH318,D318,W318,U318,SIGN(X318),mu_millScale)","v":4.2216908392553085},{"$f":"K_t1Mu(Z318,AI318,D318,W318,U318,SIGN(Y318),mu_millScale)","v":2.3558350022679795},{"$f":"Sigma_hMax(AK318,X318,AF318)","v":645.43906270342688},{"$f":"Sigma_hMin(X318,Y318,AG318,AE318,AK318,AL318,AJ318,AI318,Z318,IF(L318=1,mu_redLead,mu_millScale))","v":151.46743574930426},493.9716269541226,0.23467348740078056,161.11340839526994,{"$f":"tau_n(N318,W318,U318,D318)","v":134.80849321218653},{"$f":"tau_hMax(X318,Z318,AH318,W318,U318)","v":145.99164867261337},{"$f":"tau_hMin(X318,Y318,AS318,AE318,Z318,AI318,IF(L318=1,mu_redLead,mu_millScale),W318,U318)","v":52.111657876963065},93.879990795650301]
[307,"Steinhardt1965","R; S",2,1,8.5,50,null,6,8,51,null,null,164.80799999999999,0.2,69430,1,"351 N","Grade St37",307,0.70588235294117652,0.6071428571428571,0.17,206.01,41.201999999999998,{"$f":"IF(OR(X319>=1.6*D319*AD319,D319=1),calcLoadFraction(G319,F319,I319,J319,K319,D319,1),\"Condition for spring model not fulfilled\")","v":0.51018380545530628},{"$f":"IF(L319>2,L319,IF(L319=2,1,sigma_cl0(I319+J319)))","v":112.45880410439175},{"$f":"Sigma_cl(AA319,U319,V319,X319)","v":95.712301445618223},{"$f":"Sigma_cl(AA319,U319,V319,Y319)","v":109.10950357263704},{"$f":"sigma_Slip(AB319,W319,U319,IF(L319=1,mu_redLead,mu_millScale))","v":14.395941769290344},{"$f":"sigma_Slip(AC319,W319,U319,IF(L319=1,mu_redLead,mu_millScale))","v":16.410994576285667},{"$f":"Sigma_p(AB319,V319)","v":-22.482299015994343},{"$f":"Sigma_p(AC319,V319)","v":-25.629228926236738},{"$f":"beta_1(X319,AD319,Z319)","v":0.86303010895134924},{"$f":"beta_1(Y319,AE319,Z319)","v":0.21928965289755625},{"$f":"k_tHole(W319,U319)","v":2.571787},{"$f":"K_t1Mu(Z319,AH319,D319,W319,U319,SIGN(X319),mu_millScale)","v":4.4701852718323787},{"$f":"K_t1Mu(Z319,AI319,D319,W319,U319,SIGN(Y319),mu_millScale)","v":2.5955691423235341},{"$f":"Sigma_hMax(AK319,X319,AF319)","v":898.420568834194},{"$f":"Sigma_hMin(X319,Y319,AG319,AE319,AK319,AL319,AJ319,AI319,Z319,IF(L319=1,mu_redLead,mu_millScale))","v":208.66337952557814},689.75718930861581,0.23225579062191701,224.88086305733341,{"$f":"tau_n(N319,W319,U319,D319)","v":180.7964551995727},{"$f":"tau_hMax(X319,Z319,AH319,W319,U319)","v":199.0134993393155},{"$f":"tau_hMin(X319,Y319,AS319,AE319,Z319,AI319,IF(L319=1,mu_redLead,mu_millScale),W319,U319)","v":69.782621676689971},129.23087766262552]
[308,"Steinhardt1965","R; S",2,1,8.5,50,null,6,8,51,null,null,141.26400000000001,0.2,320970,1,"352 N","Grade St37",308,0.70588235294117652,0.6071428571428571,0.17,176.58,35.316000000000003,{"$f":"IF(OR(X320>=1.6*D320*AD320,D320=1),calcLoadFraction(G320,F320,I320,J320,K320,D320,1),\"Condition for spring model not fulfilled\")","v":0.51018380545530628},{"$f":"IF(L320>2,L320,IF(L320=2,1,sigma_cl0(I320+J320)))","v":112.45880410439175},{"$f":"Sigma_cl(AA320,U320,V320,X320)","v":98.104658968300143},{"$f":"Sigma_cl(AA320,U320,V320,Y320)","v":109.58797507717343},{"$f":"sigma_Slip(AB320,W320,U320,IF(L320=1,mu_redLead,mu_millScale))","v":14.755772627682365},{"$f":"sigma_Slip(AC320,W320,U320,IF(L320=1,mu_redLead,mu_millScale))","v":16.482960747964075},{"$f":"Sigma_p(AB320,V320)","v":-23.044250785680482},{"$f":"Sigma_p(AC320,V320)","v":-25.741619280173968},{"$f":"beta_1(X320,AD320,Z320)","v":0.83620758994910793},{"$f":"beta_1(Y320,AE320,Z320)","v":8.5177057886349286E-2},{"$f":"k_tHole(W320,U320)","v":2.571787},{"$f":"K_t1Mu(Z320,AH320,D320,W320,U320,SIGN(X320),mu_millScale)","v":4.4323077294925382},{"$f":"K_t1Mu(Z320,AI320,D320,W320,U320,SIGN(Y320),mu_millScale)","v":2.1587731858663233},{"$f":"Sigma_hMax(AK320,X320,AF320)","v":759.612648088112},{"$f":"Sigma_hMin(X320,Y320,AG320,AE320,AK320,AL320,AJ320,AI320,Z320,IF(L320=1,mu_redLead,mu_millScale))","v":183.41970919794173},576.19293889017024,0.2414647908504359,188.14395880062165,{"$f":"tau_n(N320,W320,U320,D320)","v":154.96839017106234},{"$f":"tau_hMax(X320,Z320,AH320,W320,U320)","v":165.28137009734914},{"$f":"tau_hMin(X320,Y320,AS320,AE320,Z320,AI320,IF(L320=1,mu_redLead,mu_millScale),W320,U320)","v":60.574553516236016},104.70681658111312]
[309,"Steinhardt1965","R; S",2,1,8.5,50,null,6,8,51,null,null,125.568,0.2,1295620,1,"353 N","Grade St37",309,0.70588235294117652,0.6071428571428571,0.17,156.95999999999998,31.391999999999996,{"$f":"IF(OR(X321>=1.6*D321*AD321,D321=1),calcLoadFraction(G321,F321,I321,J321,K321,D321,1),\"Condition for spring model not fulfilled\")","v":0.51018380545530628},{"$f":"IF(L321>2,L321,IF(L321=2,1,sigma_cl0(I321+J321)))","v":112.45880410439175},{"$f":"Sigma_cl(AA321,U321,V321,X321)","v":99.699563983421442},{"$f":"Sigma_cl(AA321,U321,V321,Y321)","v":109.90695608019769},{"$f":"sigma_Slip(AB321,W321,U321,IF(L321=1,mu_redLead,mu_millScale))","v":14.99565986661038},{"$f":"sigma_Slip(AC321,W321,U321,IF(L321=1,mu_redLead,mu_millScale))","v":16.530938195749677},{"$f":"Sigma_p(AB321,V321)","v":-23.418885298804579},{"$f":"Sigma_p(AC321,V321)","v":-25.816546182798788},{"$f":"beta_1(X321,AD321,Z321)","v":0.81273788582214668},{"$f":"beta_1(Y321,AE321,Z321)","v":0},{"$f":"k_tHole(W321,U321)","v":2.571787},{"$f":"K_t1Mu(Z321,AH321,D321,W321,U321,SIGN(X321),mu_millScale)","v":4.3944409875042814},{"$f":"K_t1Mu(Z321,AI321,D321,W321,U321,SIGN(Y321),mu_millScale)","v":1.9157449607597572},{"$f":"Sigma_hMax(AK321,X321,AF321)","v":666.33257209986732},{"$f":"Sigma_hMin(X321,Y321,AG321,AE321,AK321,AL321,AJ321,AI321,Z321,IF(L321=1,mu_redLead,mu_millScale))","v":164.90615115199995},501.42642094786737,0.24748325094227039,163.89779622248966,{"$f":"tau_n(N321,W321,U321,D321)","v":137.74968015205542},{"$f":"tau_hMax(X321,Z321,AH321,W321,U321)","v":142.79328393603816},{"$f":"tau_hMin(X321,Y321,AS321,AE321,Z321,AI321,IF(L321=1,mu_redLead,mu_millScale),W321,U321)","v":54.2214239117272},88.571860024310965]
[310,"Steinhardt1969","R; S",2,2,8.5,25,null,7,5,48,null,null,312,8.6956521999999994E-2,15420,1,"21a","Likely grade St37",310,0.82352941176470584,0.70833333333333337,0.34,{"$f":"N322/(1-O322)","v":341.71428581191839},{"$f":"X322*O322","v":29.714285811918366},{"$f":"IF(OR(X322>=1.6*D322*AD322,D322=1),calcLoadFraction(G322,F322,I322,J322,K322,D322,1),\"Condition for spring model not fulfilled\")","v":0.47666453512374773},{"$f":"IF(L322>2,L322,IF(L322=2,1,sigma_cl0(I322+J322)))","v":97.488051910432219},{"$f":"Sigma_cl(AA322,U322,V322,X322)","v":61.930501647078174},{"$f":"Sigma_cl(AA322,U322,V322,Y322)","v":94.396091008690775},{"$f":"sigma_Slip(AB322,W322,U322,IF(L322=1,mu_redLead,mu_millScale))","v":20.081413684972592},{"$f":"sigma_Slip(AC322,W322,U322,IF(L322=1,mu_redLead,mu_millScale))","v":30.608616164491771},{"$f":"Sigma_p(AB322,V322)","v":-17.051603304926594},{"$f":"Sigma_p(AC322,V322)","v":-25.99049990889074},{"$f":"beta_1(X322,AD322,Z322)","v":0.87671270988949002},{"$f":"beta_1(Y322,AE322,Z322)","v":0},{"$f":"k_tHole(W322,U322)","v":2.287496},{"$f":"K_t1Mu(Z322,AH322,D322,W322,U322,SIGN(X322),mu_millScale)","v":2.9472772312272966},{"$f":"K_t1Mu(Z322,AI322,D322,W322,U322,SIGN(Y322),mu_millScale)","v":1.7423118912812838},{"$f":"Sigma_hMax(AK322,X322,AF322)","v":990.07513085363735},{"$f":"Sigma_hMin(X322,Y322,AG322,AE322,AK322,AL322,AJ322,AI322,Z322,IF(L322=1,mu_redLead,mu_millScale))","v":129.03800638769624},{"$f":"(AM322-AN322)","v":861.03712446594113},{"$f":"AN322/AM322","v":0.13033152976627177},276.56358389389578,{"$f":"tau_n(N322,W322,U322,D322)","v":158.76283785625006},{"$f":"tau_hMax(X322,Z322,AH322,W322,U322)","v":145.33075630749849},{"$f":"tau_hMin(X322,Y322,AS322,AE322,Z322,AI322,IF(L322=1,mu_redLead,mu_millScale),W322,U322)","v":39.502716802808386},105.82803950469011]
[311,"Steinhardt1969","R; S",2,2,8.5,25,null,7,5,48,null,null,297,9.0909090999999997E-2,23200,1,"21b","Likely grade St37",311,{"$f":"I323/F323","v":0.82352941176470584},{"$f":"F323/(J323+I323)","v":0.70833333333333337},{"$f":"F323/G323","v":0.34},{"$f":"N323/(1-O323)","v":326.70000003267},{"$f":"X323*O323","v":29.700000032670001},{"$f":"IF(OR(X323>=1.6*D323*AD323,D323=1),calcLoadFraction(G323,F323,I323,J323,K323,D323,1),\"Condition for spring model not fulfilled\")","v":0.47666453512374773},{"$f":"IF(L323>2,L323,IF(L323=2,1,sigma_cl0(I323+J323)))","v":97.488051910432219},{"$f":"Sigma_cl(AA323,U323,V323,X323)","v":63.492833815882591},{"$f":"Sigma_cl(AA323,U323,V323,Y323)","v":94.39757753510996},{"$f":"sigma_Slip(AB323,W323,U323,IF(L323=1,mu_redLead,mu_millScale))","v":20.588011205753087},{"$f":"sigma_Slip(AC323,W323,U323,IF(L323=1,mu_redLead,mu_millScale))","v":30.609098181449223},{"$f":"Sigma_p(AB323,V323)","v":-17.481767241346692},{"$f":"Sigma_p(AC323,V323)","v":-25.990909200889483},{"$f":"beta_1(X323,AD323,Z323)","v":0.86779361787664888},{"$f":"beta_1(Y323,AE323,Z323)","v":0},{"$f":"k_tHole(W323,U323)","v":2.287496},{"$f":"K_t1Mu(Z323,AH323,D323,W323,U323,SIGN(X323),mu_millScale)","v":2.942166124897621},{"$f":"K_t1Mu(Z323,AI323,D323,W323,U323,SIGN(Y323),mu_millScale)","v":1.7423118912812838},{"$f":"Sigma_hMax(AK323,X323,AF323)","v":943.7239058588267},{"$f":"Sigma_hMin(X323,Y323,AG323,AE323,AK323,AL323,AJ323,AI323,Z323,IF(L323=1,mu_redLead,mu_millScale))","v":127.97845967425498},{"$f":"(AM323-AN323)","v":815.74544618457173},{"$f":"AN323/AM323","v":0.13561006442640597},262.19724435189784,{"$f":"tau_n(N323,W323,U323,D323)","v":151.13000911316109},{"$f":"tau_hMax(X323,Z323,AH323,W323,U323)","v":137.53165903838712},{"$f":"tau_hMin(X323,Y323,AS323,AE323,Z323,AI323,IF(L323=1,mu_redLead,mu_millScale),W323,U323)","v":38.653077588520915},98.878581449866203]
[312,"Steinhardt1969","R; S",2,2,8.5,25,null,7,5,48,null,null,282,9.5238094999999995E-2,128550,1,"21c","Likely grade St37",312,0.82352941176470584,0.70833333333333337,0.34,311.68421044429363,29.684210444293626,{"$f":"IF(OR(X324>=1.6*D324*AD324,D324=1),calcLoadFraction(G324,F324,I324,J324,K324,D324,1),\"Condition for spring model not fulfilled\")","v":0.47666453512374773},{"$f":"IF(L324>2,L324,IF(L324=2,1,sigma_cl0(I324+J324)))","v":97.488051910432219},{"$f":"Sigma_cl(AA324,U324,V324,X324)","v":65.055322465615305},{"$f":"Sigma_cl(AA324,U324,V324,Y324)","v":94.399220542457442},{"$f":"sigma_Slip(AB324,W324,U324,IF(L324=1,mu_redLead,mu_millScale))","v":21.094659466607876},{"$f":"sigma_Slip(AC324,W324,U324,IF(L324=1,mu_redLead,mu_millScale))","v":30.609630938480972},{"$f":"Sigma_p(AB324,V324)","v":-17.91197426236393},{"$f":"Sigma_p(AC324,V324)","v":-25.991361577485367},{"$f":"beta_1(X324,AD324,Z324)","v":0.85801421193798288},{"$f":"beta_1(Y324,AE324,Z324)","v":0},{"$f":"k_tHole(W324,U324)","v":2.287496},{"$f":"K_t1Mu(Z324,AH324,D324,W324,U324,SIGN(X324),mu_millScale)","v":2.9361985458469415},{"$f":"K_t1Mu(Z324,AI324,D324,W324,U324,SIGN(Y324),mu_millScale)","v":1.7423118912812838},{"$f":"Sigma_hMax(AK324,X324,AF324)","v":897.25475120762314},{"$f":"Sigma_hMin(X324,Y324,AG324,AE324,AK324,AL324,AJ324,AI324,Z324,IF(L324=1,mu_redLead,mu_millScale))","v":126.80542492851994},770.44932627910316,0.14132599995469669,247.82590783922632,{"$f":"tau_n(N324,W324,U324,D324)","v":143.49718037007216},{"$f":"tau_hMax(X324,Z324,AH324,W324,U324)","v":129.73178062298373},{"$f":"tau_hMin(X324,Y324,AS324,AE324,Z324,AI324,IF(L324=1,mu_redLead,mu_millScale),W324,U324)","v":37.749043391705726},91.982737231278008]
[313,"Steinhardt1969","R; S",2,2,8.5,25,null,7,5,48,null,null,238,0.111111111,154630,1,"21d","Likely grade St37",313,0.82352941176470584,0.70833333333333337,0.34,267.74999996653128,29.749999966531252,{"$f":"IF(OR(X325>=1.6*D325*AD325,D325=1),calcLoadFraction(G325,F325,I325,J325,K325,D325,1),\"Condition for spring model not fulfilled\")","v":0.47666453512374773},{"$f":"IF(L325>2,L325,IF(L325=2,1,sigma_cl0(I325+J325)))","v":97.488051910432219},{"$f":"Sigma_cl(AA325,U325,V325,X325)","v":69.626957197338669},{"$f":"Sigma_cl(AA325,U325,V325,Y325)","v":94.392374723184162},{"$f":"sigma_Slip(AB325,W325,U325,IF(L325=1,mu_redLead,mu_millScale))","v":22.577045138009215},{"$f":"sigma_Slip(AC325,W325,U325,IF(L325=1,mu_redLead,mu_millScale))","v":30.607411132001399},{"$f":"Sigma_p(AB325,V325)","v":-19.170702995817507},{"$f":"Sigma_p(AC325,V325)","v":-25.989476687302975},{"$f":"beta_1(X325,AD325,Z325)","v":0.82310124306596177},{"$f":"beta_1(Y325,AE325,Z325)","v":0},{"$f":"k_tHole(W325,U325)","v":2.287496},{"$f":"K_t1Mu(Z325,AH325,D325,W325,U325,SIGN(X325),mu_millScale)","v":2.9118962818754204},{"$f":"K_t1Mu(Z325,AI325,D325,W325,U325,SIGN(Y325),mu_millScale)","v":1.7423118912812838},{"$f":"Sigma_hMax(AK325,X325,AF325)","v":760.48952637886885},{"$f":"Sigma_hMin(X325,Y325,AG325,AE325,AK325,AL325,AJ325,AI325,Z325,IF(L325=1,mu_redLead,mu_millScale))","v":122.85454384414346},637.6349825347254,0.16154666117379041,205.67102434149993,{"$f":"tau_n(N325,W325,U325,D325)","v":121.10754939034459},{"$f":"tau_hMax(X325,Z325,AH325,W325,U325)","v":106.91037000142342},{"$f":"tau_hMin(X325,Y325,AS325,AE325,Z325,AI325,IF(L325=1,mu_redLead,mu_millScale),W325,U325)","v":34.767832869163144},72.142537132260273]
[314,"Steinhardt1969","R; S",2,2,8.5,25,null,7,5,48,null,null,223,0.117647059,214450,1,"21e","Likely grade St37",314,0.82352941176470584,0.70833333333333337,0.34,252.73333338388002,29.733333383880002,{"$f":"IF(OR(X326>=1.6*D326*AD326,D326=1),calcLoadFraction(G326,F326,I326,J326,K326,D326,1),\"Condition for spring model not fulfilled\")","v":0.47666453512374773},{"$f":"IF(L326>2,L326,IF(L326=2,1,sigma_cl0(I326+J326)))","v":97.488051910432219},{"$f":"Sigma_cl(AA326,U326,V326,X326)","v":71.18953710391753},{"$f":"Sigma_cl(AA326,U326,V326,Y326)","v":94.394108987377805},{"$f":"sigma_Slip(AB326,W326,U326,IF(L326=1,mu_redLead,mu_millScale))","v":23.083722989557288},{"$f":"sigma_Slip(AC326,W326,U326,IF(L326=1,mu_redLead,mu_millScale))","v":30.607973479726439},{"$f":"Sigma_p(AB326,V326)","v":-19.60093514299226},{"$f":"Sigma_p(AC326,V326)","v":-25.989954190056373},{"$f":"beta_1(X326,AD326,Z326)","v":0.80838456567710215},{"$f":"beta_1(Y326,AE326,Z326)","v":0},{"$f":"k_tHole(W326,U326)","v":2.287496},{"$f":"K_t1Mu(Z326,AH326,D326,W326,U326,SIGN(X326),mu_millScale)","v":2.9003028971073674},{"$f":"K_t1Mu(Z326,AI326,D326,W326,U326,SIGN(Y326),mu_millScale)","v":1.7423118912812838},{"$f":"Sigma_hMax(AK326,X326,AF326)","v":713.40228386587717},{"$f":"Sigma_hMin(X326,Y326,AG326,AE326,AK326,AL326,AJ326,AI326,Z326,IF(L326=1,mu_redLead,mu_millScale))","v":121.03614050035623},592.36614336552088,0.16966043316327756,191.28789791631533,{"$f":"tau_n(N326,W326,U326,D326)","v":113.47472064725565},{"$f":"tau_hMax(X326,Z326,AH326,W326,U326)","v":99.1100360356359},{"$f":"tau_hMin(X326,Y326,AS326,AE326,Z326,AI326,IF(L326=1,mu_redLead,mu_millScale),W326,U326)","v":33.581714210431969},65.528321825203932]
[315,"Steinhardt1969","R; S",4,1,8.5,50,null,7,5,48,null,null,248,8.6956521999999994E-2,25610,1,"11a","Likely grade St37",315,0.82352941176470584,0.70833333333333337,0.17,271.61904769665307,23.619047696653059,{"$f":"IF(OR(X327>=1.6*D327*AD327,D327=1),calcLoadFraction(G327,F327,I327,J327,K327,D327,1),\"Condition for spring model not fulfilled\")","v":0.25960729010542349},{"$f":"IF(L327>2,L327,IF(L327=2,1,sigma_cl0(I327+J327)))","v":97.488051910432219},{"$f":"Sigma_cl(AA327,U327,V327,X327)","v":69.224358111355926},{"$f":"Sigma_cl(AA327,U327,V327,Y327)","v":95.030339398791583},{"$f":"sigma_Slip(AB327,W327,U327,IF(L327=1,mu_redLead,mu_millScale))","v":8.9245118369103924},{"$f":"sigma_Slip(AC327,W327,U327,IF(L327=1,mu_redLead,mu_millScale))","v":12.251459052402552},{"$f":"Sigma_p(AB327,V327)","v":-19.059853580383656},{"$f":"Sigma_p(AC327,V327)","v":-26.165130368150031},{"$f":"beta_1(X327,AD327,Z327)","v":0.87343682421437652},{"$f":"beta_1(Y327,AE327,Z327)","v":0},{"$f":"k_tHole(W327,U327)","v":2.571787},{"$f":"K_t1Mu(Z327,AH327,D327,W327,U327,SIGN(X327),mu_millScale)","v":3.5615359292018232},{"$f":"K_t1Mu(Z327,AI327,D327,W327,U327,SIGN(Y327),mu_millScale)","v":2.2379596731008218},{"$f":"Sigma_hMax(AK327,X327,AF327)","v":948.32114384682995},{"$f":"Sigma_hMin(X327,Y327,AG327,AE327,AK327,AL327,AJ327,AI327,Z327,IF(L327=1,mu_redLead,mu_millScale))","v":105.34149891052363},842.97964493630639,0.11108209449302131,270.09930216055653,{"$f":"tau_n(N327,W327,U327,D327)","v":158.70115843206347},{"$f":"tau_hMax(X327,Z327,AH327,W327,U327)","v":157.65110217467173},{"$f":"tau_hMin(X327,Y327,AS327,AE327,Z327,AI327,IF(L327=1,mu_redLead,mu_millScale),W327,U327)","v":41.318391014846767},116.33271115982497]
[316,"Steinhardt1969","R; S",4,1,8.5,50,null,7,5,48,null,null,236,9.0909090999999997E-2,42720,1,"11b","Likely grade St37",316,0.82352941176470584,0.70833333333333337,0.17,259.60000002596001,23.60000002596,{"$f":"IF(OR(X328>=1.6*D328*AD328,D328=1),calcLoadFraction(G328,F328,I328,J328,K328,D328,1),\"Condition for spring model not fulfilled\")","v":0.25960729010542349},{"$f":"IF(L328>2,L328,IF(L328=2,1,sigma_cl0(I328+J328)))","v":97.488051910432219},{"$f":"Sigma_cl(AA328,U328,V328,X328)","v":70.475016656850698},{"$f":"Sigma_cl(AA328,U328,V328,Y328)","v":95.032321430378161},{"$f":"sigma_Slip(AB328,W328,U328,IF(L328=1,mu_redLead,mu_millScale))","v":9.085748680381684},{"$f":"sigma_Slip(AC328,W328,U328,IF(L328=1,mu_redLead,mu_millScale))","v":12.251714578995188},{"$f":"Sigma_p(AB328,V328)","v":-19.404203017583789},{"$f":"Sigma_p(AC328,V328)","v":-26.165676089813076},{"$f":"beta_1(X328,AD328,Z328)","v":0.86518471080307069},{"$f":"beta_1(Y328,AE328,Z328)","v":0},{"$f":"k_tHole(W328,U328)","v":2.571787},{"$f":"K_t1Mu(Z328,AH328,D328,W328,U328,SIGN(X328),mu_millScale)","v":3.5562267299123489},{"$f":"K_t1Mu(Z328,AI328,D328,W328,U328,SIGN(Y328),mu_millScale)","v":2.2379596731008218},{"$f":"Sigma_hMax(AK328,X328,AF328)","v":903.79225615998166},{"$f":"Sigma_hMin(X328,Y328,AG328,AE328,AK328,AL328,AJ328,AI328,Z328,IF(L328=1,mu_redLead,mu_millScale))","v":104.54270913254545},799.24954702743617,0.11567117157733224,256.23538542426917,{"$f":"tau_n(N328,W328,U328,D328)","v":151.0220701208346},{"$f":"tau_hMax(X328,Z328,AH328,W328,U328)","v":149.25153814928703},{"$f":"tau_hMin(X328,Y328,AS328,AE328,Z328,AI328,IF(L328=1,mu_redLead,mu_millScale),W328,U328)","v":40.468662062375905},108.78287608691113]
[317,"Steinhardt1969","R; S",4,1,8.5,50,null,7,5,48,null,null,225,9.5238094999999995E-2,65660,1,"11c","Likely grade St37",317,0.82352941176470584,0.70833333333333337,0.17,248.68421046087258,23.684210460872574,{"$f":"IF(OR(X329>=1.6*D329*AD329,D329=1),calcLoadFraction(G329,F329,I329,J329,K329,D329,1),\"Condition for spring model not fulfilled\")","v":0.25960729010542349},{"$f":"IF(L329>2,L329,IF(L329=2,1,sigma_cl0(I329+J329)))","v":97.488051910432219},{"$f":"Sigma_cl(AA329,U329,V329,X329)","v":71.610874161908086},{"$f":"Sigma_cl(AA329,U329,V329,Y329)","v":95.023558797686391},{"$f":"sigma_Slip(AB329,W329,U329,IF(L329=1,mu_redLead,mu_millScale))","v":9.2321851952948535},{"$f":"sigma_Slip(AC329,W329,U329,IF(L329=1,mu_redLead,mu_millScale))","v":12.250584886769593},{"$f":"Sigma_p(AB329,V329)","v":-19.71694376845862},{"$f":"Sigma_p(AC329,V329)","v":-26.163263434778916},{"$f":"beta_1(X329,AD329,Z329)","v":0.85699888882651709},{"$f":"beta_1(Y329,AE329,Z329)","v":0},{"$f":"k_tHole(W329,U329)","v":2.571787},{"$f":"K_t1Mu(Z329,AH329,D329,W329,U329,SIGN(X329),mu_millScale)","v":3.5506672126403926},{"$f":"K_t1Mu(Z329,AI329,D329,W329,U329,SIGN(Y329),mu_millScale)","v":2.2379596731008218},{"$f":"Sigma_hMax(AK329,X329,AF329)","v":863.27792861632463},{"$f":"Sigma_hMin(X329,Y329,AG329,AE329,AK329,AL329,AJ329,AI329,Z329,IF(L329=1,mu_redLead,mu_millScale))","v":104.08664744765176},759.19128116867284,0.12057142201525234,243.54428668146772,{"$f":"tau_n(N329,W329,U329,D329)","v":143.98290583554146},{"$f":"tau_hMax(X329,Z329,AH329,W329,U329)","v":141.62299087568334},{"$f":"tau_hMin(X329,Y329,AS329,AE329,Z329,AI329,IF(L329=1,mu_redLead,mu_millScale),W329,U329)","v":39.698896699902043},101.92409417578131]
[318,"Steinhardt1969","R; S",4,1,8.5,50,null,7,5,48,null,null,189,0.111111111,251740,1,"11d","Likely grade St37",318,0.82352941176470584,0.70833333333333337,0.17,212.62499997342189,23.624999973421875,{"$f":"IF(OR(X330>=1.6*D330*AD330,D330=1),calcLoadFraction(G330,F330,I330,J330,K330,D330,1),\"Condition for spring model not fulfilled\")","v":0.25960729010542349},{"$f":"IF(L330>2,L330,IF(L330=2,1,sigma_cl0(I330+J330)))","v":97.488051910432219},{"$f":"Sigma_cl(AA330,U330,V330,X330)","v":75.363064932387331},{"$f":"Sigma_cl(AA330,U330,V330,Y330)","v":95.029720026441126},{"$f":"sigma_Slip(AB330,W330,U330,IF(L330=1,mu_redLead,mu_millScale))","v":9.715923461117713},{"$f":"sigma_Slip(AC330,W330,U330,IF(L330=1,mu_redLead,mu_millScale))","v":12.251379201956496},{"$f":"Sigma_p(AB330,V330)","v":-20.750051313868557},{"$f":"Sigma_p(AC330,V330)","v":-26.164959833577612},{"$f":"beta_1(X330,AD330,Z330)","v":0.82398370528440568},{"$f":"beta_1(Y330,AE330,Z330)","v":0},{"$f":"k_tHole(W330,U330)","v":2.571787},{"$f":"K_t1Mu(Z330,AH330,D330,W330,U330,SIGN(X330),mu_millScale)","v":3.5253746307672675},{"$f":"K_t1Mu(Z330,AI330,D330,W330,U330,SIGN(Y330),mu_millScale)","v":2.2379596731008218},{"$f":"Sigma_hMax(AK330,X330,AF330)","v":728.8327294593239},{"$f":"Sigma_hMin(X330,Y330,AG330,AE330,AK330,AL330,AJ330,AI330,Z330,IF(L330=1,mu_redLead,mu_millScale))","v":100.84946824043969},627.98326121888419,0.13837121216448897,201.92031900092661,{"$f":"tau_n(N330,W330,U330,D330)","v":120.94564090185483},{"$f":"tau_hMax(X330,Z330,AH330,W330,U330)","v":116.4228539353245},{"$f":"tau_hMin(X330,Y330,AS330,AE330,Z330,AI330,IF(L330=1,mu_redLead,mu_millScale),W330,U330)","v":36.610560979060125},79.812292956264372]
[319,"Hansen1959","R; L",2,1,10.3,40.5,null,7.1,9.5,89,null,484,206.84,0,775000,1,"I/A 0-30",null,319,0.68932038834951448,0.62048192771084332,0.25432098765432098,206.84,0,{"$f":"IF(OR(X331>=1.6*D331*AD331,D331=1),calcLoadFraction(G331,F331,I331,J331,K331,D331,1),\"Condition for spring model not fulfilled\")","v":0.51936989540577805},{"$f":"IF(L331>2,L331,IF(L331=2,1,sigma_cl0(I331+J331)))","v":128.61690531326869},{"$f":"Sigma_cl(AA331,U331,V331,X331)","v":111.97792455078751},{"$f":"Sigma_cl(AA331,U331,V331,Y331)","v":128.61690531326869},{"$f":"sigma_Slip(AB331,W331,U331,IF(L331=1,mu_redLead,mu_millScale))","v":28.719401777652102},{"$f":"sigma_Slip(AC331,W331,U331,IF(L331=1,mu_redLead,mu_millScale))","v":32.986864097616674},{"$f":"Sigma_p(AB331,V331)","v":-26.910098648748018},{"$f":"Sigma_p(AC331,V331)","v":-30.908713693000866},{"$f":"beta_1(X331,AD331,Z331)","v":0.73265991146608822},{"$f":"beta_1(Y331,AE331,Z331)","v":0},{"$f":"k_tHole(W331,U331)","v":2.4146252622586513},{"$f":"K_t1Mu(Z331,AH331,D331,W331,U331,SIGN(X331),mu_millScale)","v":3.3579023590485844},{"$f":"K_t1Mu(Z331,AI331,D331,W331,U331,SIGN(Y331),mu_millScale)","v":1.7875834273069386},{"$f":"Sigma_hMax(AK331,X331,AF331)","v":667.63842529686121},{"$f":"Sigma_hMin(X331,Y331,AG331,AE331,AK331,AL331,AJ331,AI331,Z331,IF(L331=1,mu_redLead,mu_millScale))","v":54.169118461643677},613.46930683521759,8.113541163775545E-2,195.85006920296897,{"$f":"tau_n(N331,W331,U331,D331)","v":133.06857243794713},{"$f":"tau_hMax(X331,Z331,AH331,W331,U331)","v":101.27090599602573},{"$f":"tau_hMin(X331,Y331,AS331,AE331,Z331,AI331,IF(L331=1,mu_redLead,mu_millScale),W331,U331)","v":27.900679630245047},73.370226365780681]
[320,"Hansen1959","R; L",2,1,10.3,40.5,null,7.1,9.5,89,null,484,206.84,0,612000,1,"I/A 0-30",null,320,0.68932038834951448,0.62048192771084332,0.25432098765432098,206.84,0,{"$f":"IF(OR(X332>=1.6*D332*AD332,D332=1),calcLoadFraction(G332,F332,I332,J332,K332,D332,1),\"Condition for spring model not fulfilled\")","v":0.51936989540577805},{"$f":"IF(L332>2,L332,IF(L332=2,1,sigma_cl0(I332+J332)))","v":128.61690531326869},{"$f":"Sigma_cl(AA332,U332,V332,X332)","v":111.97792455078751},{"$f":"Sigma_cl(AA332,U332,V332,Y332)","v":128.61690531326869},{"$f":"sigma_Slip(AB332,W332,U332,IF(L332=1,mu_redLead,mu_millScale))","v":28.719401777652102},{"$f":"sigma_Slip(AC332,W332,U332,IF(L332=1,mu_redLead,mu_millScale))","v":32.986864097616674},{"$f":"Sigma_p(AB332,V332)","v":-26.910098648748018},{"$f":"Sigma_p(AC332,V332)","v":-30.908713693000866},{"$f":"beta_1(X332,AD332,Z332)","v":0.73265991146608822},{"$f":"beta_1(Y332,AE332,Z332)","v":0},{"$f":"k_tHole(W332,U332)","v":2.4146252622586513},{"$f":"K_t1Mu(Z332,AH332,D332,W332,U332,SIGN(X332),mu_millScale)","v":3.3579023590485844},{"$f":"K_t1Mu(Z332,AI332,D332,W332,U332,SIGN(Y332),mu_millScale)","v":1.7875834273069386},{"$f":"Sigma_hMax(AK332,X332,AF332)","v":667.63842529686121},{"$f":"Sigma_hMin(X332,Y332,AG332,AE332,AK332,AL332,AJ332,AI332,Z332,IF(L332=1,mu_redLead,mu_millScale))","v":54.169118461643677},613.46930683521759,8.113541163775545E-2,{"$f":"AO332/3.16*(1-0.9*AP332)/(1-AP332)","v":195.85006920296897},{"$f":"tau_n(N332,W332,U332,D332)","v":133.06857243794713},{"$f":"tau_hMax(X332,Z332,AH332,W332,U332)","v":101.27090599602573},{"$f":"tau_hMin(X332,Y332,AS332,AE332,Z332,AI332,IF(L332=1,mu_redLead,mu_millScale),W332,U332)","v":27.900679630245047},{"$f":"(AS332-AT332)","v":73.370226365780681}]
[321,"Hansen1959","R; L",2,1,10.3,40.5,null,7.1,9.5,89,null,484,186.16,0,1282000,1,"I/A 0-27",null,321,0.68932038834951448,0.62048192771084332,0.25432098765432098,186.16,0,{"$f":"IF(OR(X333>=1.6*D333*AD333,D333=1),calcLoadFraction(G333,F333,I333,J333,K333,D333,1),\"Condition for spring model not fulfilled\")","v":0.51936989540577805},{"$f":"IF(L333>2,L333,IF(L333=2,1,sigma_cl0(I333+J333)))","v":128.61690531326869},{"$f":"Sigma_cl(AA333,U333,V333,X333)","v":113.64150085212241},{"$f":"Sigma_cl(AA333,U333,V333,Y333)","v":128.61690531326869},{"$f":"sigma_Slip(AB333,W333,U333,IF(L333=1,mu_redLead,mu_millScale))","v":29.146065482819708},{"$f":"sigma_Slip(AC333,W333,U333,IF(L333=1,mu_redLead,mu_millScale))","v":32.986864097616674},{"$f":"Sigma_p(AB333,V333)","v":-27.309882825479544},{"$f":"Sigma_p(AC333,V333)","v":-30.908713693000866},{"$f":"beta_1(X333,AD333,Z333)","v":0.69854895528105521},{"$f":"beta_1(Y333,AE333,Z333)","v":0},{"$f":"k_tHole(W333,U333)","v":2.4146252622586513},{"$f":"K_t1Mu(Z333,AH333,D333,W333,U333,SIGN(X333),mu_millScale)","v":3.3032072863205126},{"$f":"K_t1Mu(Z333,AI333,D333,W333,U333,SIGN(Y333),mu_millScale)","v":1.7875834273069386},{"$f":"Sigma_hMax(AK333,X333,AF333)","v":587.61518559594708},{"$f":"Sigma_hMin(X333,Y333,AG333,AE333,AK333,AL333,AJ333,AI333,Z333,IF(L333=1,mu_redLead,mu_millScale))","v":50.361466253885411},537.25371934206169,8.5704841345803306E-2,171.61071707830703,{"$f":"tau_n(N333,W333,U333,D333)","v":119.76428855660528},{"$f":"tau_hMax(X333,Z333,AH333,W333,U333)","v":86.902236760782628},{"$f":"tau_hMin(X333,Y333,AS333,AE333,Z333,AI333,IF(L333=1,mu_redLead,mu_millScale),W333,U333)","v":25.699168363172713},61.203068397609911]
[322,"Hansen1959","R; L",2,1,10.3,40.5,null,7.1,9.5,89,null,484,186.16,0,1082000,1,"I/A 0-27",null,322,0.68932038834951448,0.62048192771084332,0.25432098765432098,186.16,0,{"$f":"IF(OR(X334>=1.6*D334*AD334,D334=1),calcLoadFraction(G334,F334,I334,J334,K334,D334,1),\"Condition for spring model not fulfilled\")","v":0.51936989540577805},{"$f":"IF(L334>2,L334,IF(L334=2,1,sigma_cl0(I334+J334)))","v":128.61690531326869},{"$f":"Sigma_cl(AA334,U334,V334,X334)","v":113.64150085212241},{"$f":"Sigma_cl(AA334,U334,V334,Y334)","v":128.61690531326869},{"$f":"sigma_Slip(AB334,W334,U334,IF(L334=1,mu_redLead,mu_millScale))","v":29.146065482819708},{"$f":"sigma_Slip(AC334,W334,U334,IF(L334=1,mu_redLead,mu_millScale))","v":32.986864097616674},{"$f":"Sigma_p(AB334,V334)","v":-27.309882825479544},{"$f":"Sigma_p(AC334,V334)","v":-30.908713693000866},{"$f":"beta_1(X334,AD334,Z334)","v":0.69854895528105521},{"$f":"beta_1(Y334,AE334,Z334)","v":0},{"$f":"k_tHole(W334,U334)","v":2.4146252622586513},{"$f":"K_t1Mu(Z334,AH334,D334,W334,U334,SIGN(X334),mu_millScale)","v":3.3032072863205126},{"$f":"K_t1Mu(Z334,AI334,D334,W334,U334,SIGN(Y334),mu_millScale)","v":1.7875834273069386},{"$f":"Sigma_hMax(AK334,X334,AF334)","v":587.61518559594708},{"$f":"Sigma_hMin(X334,Y334,AG334,AE334,AK334,AL334,AJ334,AI334,Z334,IF(L334=1,mu_redLead,mu_millScale))","v":50.361466253885411},537.25371934206169,8.5704841345803306E-2,171.61071707830703,{"$f":"tau_n(N334,W334,U334,D334)","v":119.76428855660528},{"$f":"tau_hMax(X334,Z334,AH334,W334,U334)","v":86.902236760782628},{"$f":"tau_hMin(X334,Y334,AS334,AE334,Z334,AI334,IF(L334=1,mu_redLead,mu_millScale),W334,U334)","v":25.699168363172713},61.203068397609911]
[323,"Hansen1959","R; L",2,1,10.3,40.5,null,7.1,9.5,89,null,484,186.16,0,681000,1,"I/A 0-27",null,323,0.68932038834951448,0.62048192771084332,0.25432098765432098,186.16,0,{"$f":"IF(OR(X335>=1.6*D335*AD335,D335=1),calcLoadFraction(G335,F335,I335,J335,K335,D335,1),\"Condition for spring model not fulfilled\")","v":0.51936989540577805},{"$f":"IF(L335>2,L335,IF(L335=2,1,sigma_cl0(I335+J335)))","v":128.61690531326869},{"$f":"Sigma_cl(AA335,U335,V335,X335)","v":113.64150085212241},{"$f":"Sigma_cl(AA335,U335,V335,Y335)","v":128.61690531326869},{"$f":"sigma_Slip(AB335,W335,U335,IF(L335=1,mu_redLead,mu_millScale))","v":29.146065482819708},{"$f":"sigma_Slip(AC335,W335,U335,IF(L335=1,mu_redLead,mu_millScale))","v":32.986864097616674},{"$f":"Sigma_p(AB335,V335)","v":-27.309882825479544},{"$f":"Sigma_p(AC335,V335)","v":-30.908713693000866},{"$f":"beta_1(X335,AD335,Z335)","v":0.69854895528105521},{"$f":"beta_1(Y335,AE335,Z335)","v":0},{"$f":"k_tHole(W335,U335)","v":2.4146252622586513},{"$f":"K_t1Mu(Z335,AH335,D335,W335,U335,SIGN(X335),mu_millScale)","v":3.3032072863205126},{"$f":"K_t1Mu(Z335,AI335,D335,W335,U335,SIGN(Y335),mu_millScale)","v":1.7875834273069386},{"$f":"Sigma_hMax(AK335,X335,AF335)","v":587.61518559594708},{"$f":"Sigma_hMin(X335,Y335,AG335,AE335,AK335,AL335,AJ335,AI335,Z335,IF(L335=1,mu_redLead,mu_millScale))","v":50.361466253885411},537.25371934206169,8.5704841345803306E-2,171.61071707830703,{"$f":"tau_n(N335,W335,U335,D335)","v":119.76428855660528},{"$f":"tau_hMax(X335,Z335,AH335,W335,U335)","v":86.902236760782628},{"$f":"tau_hMin(X335,Y335,AS335,AE335,Z335,AI335,IF(L335=1,mu_redLead,mu_millScale),W335,U335)","v":25.699168363172713},61.203068397609911]
[324,"Hansen1959","R; L",2,2,10.3,40.5,42.9,7.1,9.5,89,null,484,206.84,0,1557000,1,"I/C 0-30",null,324,0.68932038834951448,0.62048192771084332,0.25432098765432098,206.84,0,{"$f":"IF(OR(X336>=1.6*D336*AD336,D336=1),calcLoadFraction(G336,F336,I336,J336,K336,D336,1),\"Condition for spring model not fulfilled\")","v":0.51936989540577805},{"$f":"IF(L336>2,L336,IF(L336=2,1,sigma_cl0(I336+J336)))","v":128.61690531326869},{"$f":"Sigma_cl(AA336,U336,V336,X336)","v":111.97792455078751},{"$f":"Sigma_cl(AA336,U336,V336,Y336)","v":128.61690531326869},{"$f":"sigma_Slip(AB336,W336,U336,IF(L336=1,mu_redLead,mu_millScale))","v":28.719401777652102},{"$f":"sigma_Slip(AC336,W336,U336,IF(L336=1,mu_redLead,mu_millScale))","v":32.986864097616674},{"$f":"Sigma_p(AB336,V336)","v":-26.910098648748018},{"$f":"Sigma_p(AC336,V336)","v":-30.908713693000866},{"$f":"beta_1(X336,AD336,Z336)","v":0.73265991146608822},{"$f":"beta_1(Y336,AE336,Z336)","v":0},{"$f":"k_tHole(W336,U336)","v":2.4146252622586513},{"$f":"K_t1Mu(Z336,AH336,D336,W336,U336,SIGN(X336),mu_millScale)","v":3.3579023590485844},{"$f":"K_t1Mu(Z336,AI336,D336,W336,U336,SIGN(Y336),mu_millScale)","v":1.7875834273069386},{"$f":"Sigma_hMax(AK336,X336,AF336)","v":667.63842529686121},{"$f":"Sigma_hMin(X336,Y336,AG336,AE336,AK336,AL336,AJ336,AI336,Z336,IF(L336=1,mu_redLead,mu_millScale))","v":54.169118461643677},613.46930683521759,8.113541163775545E-2,195.85006920296897,{"$f":"tau_n(N336,W336,U336,D336)","v":133.06857243794713},{"$f":"tau_hMax(X336,Z336,AH336,W336,U336)","v":101.27090599602573},{"$f":"tau_hMin(X336,Y336,AS336,AE336,Z336,AI336,IF(L336=1,mu_redLead,mu_millScale),W336,U336)","v":27.900679630245047},73.370226365780681]
[325,"Hansen1959","R; L",2,2,10.3,40.5,42.9,7.1,9.5,89,null,484,206.84,0,1015000,1,"I/C 0-30",null,325,0.68932038834951448,0.62048192771084332,0.25432098765432098,206.84,0,{"$f":"IF(OR(X337>=1.6*D337*AD337,D337=1),calcLoadFraction(G337,F337,I337,J337,K337,D337,1),\"Condition for spring model not fulfilled\")","v":0.51936989540577805},{"$f":"IF(L337>2,L337,IF(L337=2,1,sigma_cl0(I337+J337)))","v":128.61690531326869},{"$f":"Sigma_cl(AA337,U337,V337,X337)","v":111.97792455078751},{"$f":"Sigma_cl(AA337,U337,V337,Y337)","v":128.61690531326869},{"$f":"sigma_Slip(AB337,W337,U337,IF(L337=1,mu_redLead,mu_millScale))","v":28.719401777652102},{"$f":"sigma_Slip(AC337,W337,U337,IF(L337=1,mu_redLead,mu_millScale))","v":32.986864097616674},{"$f":"Sigma_p(AB337,V337)","v":-26.910098648748018},{"$f":"Sigma_p(AC337,V337)","v":-30.908713693000866},{"$f":"beta_1(X337,AD337,Z337)","v":0.73265991146608822},{"$f":"beta_1(Y337,AE337,Z337)","v":0},{"$f":"k_tHole(W337,U337)","v":2.4146252622586513},{"$f":"K_t1Mu(Z337,AH337,D337,W337,U337,SIGN(X337),mu_millScale)","v":3.3579023590485844},{"$f":"K_t1Mu(Z337,AI337,D337,W337,U337,SIGN(Y337),mu_millScale)","v":1.7875834273069386},{"$f":"Sigma_hMax(AK337,X337,AF337)","v":667.63842529686121},{"$f":"Sigma_hMin(X337,Y337,AG337,AE337,AK337,AL337,AJ337,AI337,Z337,IF(L337=1,mu_redLead,mu_millScale))","v":54.169118461643677},613.46930683521759,8.113541163775545E-2,195.85006920296897,{"$f":"tau_n(N337,W337,U337,D337)","v":133.06857243794713},{"$f":"tau_hMax(X337,Z337,AH337,W337,U337)","v":101.27090599602573},{"$f":"tau_hMin(X337,Y337,AS337,AE337,Z337,AI337,IF(L337=1,mu_redLead,mu_millScale),W337,U337)","v":27.900679630245047},73.370226365780681]
[326,"Hansen1959","R; L",2,2,10.3,40.5,42.9,7.1,9.5,89,null,484,186.16,0,1820000,1,"I/C 0-27",null,326,0.68932038834951448,0.62048192771084332,0.25432098765432098,186.16,0,{"$f":"IF(OR(X338>=1.6*D338*AD338,D338=1),calcLoadFraction(G338,F338,I338,J338,K338,D338,1),\"Condition for spring model not fulfilled\")","v":0.51936989540577805},{"$f":"IF(L338>2,L338,IF(L338=2,1,sigma_cl0(I338+J338)))","v":128.61690531326869},{"$f":"Sigma_cl(AA338,U338,V338,X338)","v":113.64150085212241},{"$f":"Sigma_cl(AA338,U338,V338,Y338)","v":128.61690531326869},{"$f":"sigma_Slip(AB338,W338,U338,IF(L338=1,mu_redLead,mu_millScale))","v":29.146065482819708},{"$f":"sigma_Slip(AC338,W338,U338,IF(L338=1,mu_redLead,mu_millScale))","v":32.986864097616674},{"$f":"Sigma_p(AB338,V338)","v":-27.309882825479544},{"$f":"Sigma_p(AC338,V338)","v":-30.908713693000866},{"$f":"beta_1(X338,AD338,Z338)","v":0.69854895528105521},{"$f":"beta_1(Y338,AE338,Z338)","v":0},{"$f":"k_tHole(W338,U338)","v":2.4146252622586513},{"$f":"K_t1Mu(Z338,AH338,D338,W338,U338,SIGN(X338),mu_millScale)","v":3.3032072863205126},{"$f":"K_t1Mu(Z338,AI338,D338,W338,U338,SIGN(Y338),mu_millScale)","v":1.7875834273069386},{"$f":"Sigma_hMax(AK338,X338,AF338)","v":587.61518559594708},{"$f":"Sigma_hMin(X338,Y338,AG338,AE338,AK338,AL338,AJ338,AI338,Z338,IF(L338=1,mu_redLead,mu_millScale))","v":50.361466253885411},537.25371934206169,8.5704841345803306E-2,171.61071707830703,{"$f":"tau_n(N338,W338,U338,D338)","v":119.76428855660528},{"$f":"tau_hMax(X338,Z338,AH338,W338,U338)","v":86.902236760782628},{"$f":"tau_hMin(X338,Y338,AS338,AE338,Z338,AI338,IF(L338=1,mu_redLead,mu_millScale),W338,U338)","v":25.699168363172713},61.203068397609911]
[327,"Hansen1959","R; L",2,2,10.3,40.5,42.9,7.1,9.5,89,null,484,186.16,0,781000,1,"I/C 0-27",null,327,{"$f":"I339/F339","v":0.68932038834951448},{"$f":"F339/(J339+I339)","v":0.62048192771084332},{"$f":"F339/G339","v":0.25432098765432098},186.16,0,{"$f":"IF(OR(X339>=1.6*D339*AD339,D339=1),calcLoadFraction(G339,F339,I339,J339,K339,D339,1),\"Condition for spring model not fulfilled\")","v":0.51936989540577805},{"$f":"IF(L339>2,L339,IF(L339=2,1,sigma_cl0(I339+J339)))","v":128.61690531326869},{"$f":"Sigma_cl(AA339,U339,V339,X339)","v":113.64150085212241},{"$f":"Sigma_cl(AA339,U339,V339,Y339)","v":128.61690531326869},{"$f":"sigma_Slip(AB339,W339,U339,IF(L339=1,mu_redLead,mu_millScale))","v":29.146065482819708},{"$f":"sigma_Slip(AC339,W339,U339,IF(L339=1,mu_redLead,mu_millScale))","v":32.986864097616674},{"$f":"Sigma_p(AB339,V339)","v":-27.309882825479544},{"$f":"Sigma_p(AC339,V339)","v":-30.908713693000866},{"$f":"beta_1(X339,AD339,Z339)","v":0.69854895528105521},{"$f":"beta_1(Y339,AE339,Z339)","v":0},{"$f":"k_tHole(W339,U339)","v":2.4146252622586513},{"$f":"K_t1Mu(Z339,AH339,D339,W339,U339,SIGN(X339),mu_millScale)","v":3.3032072863205126},{"$f":"K_t1Mu(Z339,AI339,D339,W339,U339,SIGN(Y339),mu_millScale)","v":1.7875834273069386},{"$f":"Sigma_hMax(AK339,X339,AF339)","v":587.61518559594708},{"$f":"Sigma_hMin(X339,Y339,AG339,AE339,AK339,AL339,AJ339,AI339,Z339,IF(L339=1,mu_redLead,mu_millScale))","v":50.361466253885411},537.25371934206169,8.5704841345803306E-2,171.61071707830703,{"$f":"tau_n(N339,W339,U339,D339)","v":119.76428855660528},{"$f":"tau_hMax(X339,Z339,AH339,W339,U339)","v":86.902236760782628},{"$f":"tau_hMin(X339,Y339,AS339,AE339,Z339,AI339,IF(L339=1,mu_redLead,mu_millScale),W339,U339)","v":25.699168363172713},61.203068397609911]
[328,"Hansen1959","R; L",2,2,10.3,40.5,42.9,7.1,9.5,89,null,397,206.84,0,319000,1,"K/C 0-30",null,328,0.68932038834951448,0.62048192771084332,0.25432098765432098,206.84,0,{"$f":"IF(OR(X340>=1.6*D340*AD340,D340=1),calcLoadFraction(G340,F340,I340,J340,K340,D340,1),\"Condition for spring model not fulfilled\")","v":0.51936989540577805},{"$f":"IF(L340>2,L340,IF(L340=2,1,sigma_cl0(I340+J340)))","v":128.61690531326869},{"$f":"Sigma_cl(AA340,U340,V340,X340)","v":111.97792455078751},{"$f":"Sigma_cl(AA340,U340,V340,Y340)","v":128.61690531326869},{"$f":"sigma_Slip(AB340,W340,U340,IF(L340=1,mu_redLead,mu_millScale))","v":28.719401777652102},{"$f":"sigma_Slip(AC340,W340,U340,IF(L340=1,mu_redLead,mu_millScale))","v":32.986864097616674},{"$f":"Sigma_p(AB340,V340)","v":-26.910098648748018},{"$f":"Sigma_p(AC340,V340)","v":-30.908713693000866},{"$f":"beta_1(X340,AD340,Z340)","v":0.73265991146608822},{"$f":"beta_1(Y340,AE340,Z340)","v":0},{"$f":"k_tHole(W340,U340)","v":2.4146252622586513},{"$f":"K_t1Mu(Z340,AH340,D340,W340,U340,SIGN(X340),mu_millScale)","v":3.3579023590485844},{"$f":"K_t1Mu(Z340,AI340,D340,W340,U340,SIGN(Y340),mu_millScale)","v":1.7875834273069386},{"$f":"Sigma_hMax(AK340,X340,AF340)","v":667.63842529686121},{"$f":"Sigma_hMin(X340,Y340,AG340,AE340,AK340,AL340,AJ340,AI340,Z340,IF(L340=1,mu_redLead,mu_millScale))","v":54.169118461643677},{"$f":"(AM340-AN340)","v":613.46930683521759},{"$f":"AN340/AM340","v":8.113541163775545E-2},195.85006920296897,{"$f":"tau_n(N340,W340,U340,D340)","v":133.06857243794713},{"$f":"tau_hMax(X340,Z340,AH340,W340,U340)","v":101.27090599602573},{"$f":"tau_hMin(X340,Y340,AS340,AE340,Z340,AI340,IF(L340=1,mu_redLead,mu_millScale),W340,U340)","v":27.900679630245047},73.370226365780681]
[329,"Hansen1959","R; L",2,2,10.3,40.5,42.9,7.1,9.5,89,null,397,206.84,0,232000,1,"K/C 0-30",null,329,0.68932038834951448,0.62048192771084332,0.25432098765432098,206.84,0,{"$f":"IF(OR(X341>=1.6*D341*AD341,D341=1),calcLoadFraction(G341,F341,I341,J341,K341,D341,1),\"Condition for spring model not fulfilled\")","v":0.51936989540577805},{"$f":"IF(L341>2,L341,IF(L341=2,1,sigma_cl0(I341+J341)))","v":128.61690531326869},{"$f":"Sigma_cl(AA341,U341,V341,X341)","v":111.97792455078751},{"$f":"Sigma_cl(AA341,U341,V341,Y341)","v":128.61690531326869},{"$f":"sigma_Slip(AB341,W341,U341,IF(L341=1,mu_redLead,mu_millScale))","v":28.719401777652102},{"$f":"sigma_Slip(AC341,W341,U341,IF(L341=1,mu_redLead,mu_millScale))","v":32.986864097616674},{"$f":"Sigma_p(AB341,V341)","v":-26.910098648748018},{"$f":"Sigma_p(AC341,V341)","v":-30.908713693000866},{"$f":"beta_1(X341,AD341,Z341)","v":0.73265991146608822},{"$f":"beta_1(Y341,AE341,Z341)","v":0},{"$f":"k_tHole(W341,U341)","v":2.4146252622586513},{"$f":"K_t1Mu(Z341,AH341,D341,W341,U341,SIGN(X341),mu_millScale)","v":3.3579023590485844},{"$f":"K_t1Mu(Z341,AI341,D341,W341,U341,SIGN(Y341),mu_millScale)","v":1.7875834273069386},{"$f":"Sigma_hMax(AK341,X341,AF341)","v":667.63842529686121},{"$f":"Sigma_hMin(X341,Y341,AG341,AE341,AK341,AL341,AJ341,AI341,Z341,IF(L341=1,mu_redLead,mu_millScale))","v":54.169118461643677},613.46930683521759,8.113541163775545E-2,195.85006920296897,{"$f":"tau_n(N341,W341,U341,D341)","v":133.06857243794713},{"$f":"tau_hMax(X341,Z341,AH341,W341,U341)","v":101.27090599602573},{"$f":"tau_hMin(X341,Y341,AS341,AE341,Z341,AI341,IF(L341=1,mu_redLead,mu_millScale),W341,U341)","v":27.900679630245047},73.370226365780681]
[330,"Hansen1959","R; L",2,2,10.3,40.5,42.9,7.1,9.5,89,null,397,206.84,0,182000,1,"K/C 0-30",null,330,0.68932038834951448,0.62048192771084332,0.25432098765432098,206.84,0,{"$f":"IF(OR(X342>=1.6*D342*AD342,D342=1),calcLoadFraction(G342,F342,I342,J342,K342,D342,1),\"Condition for spring model not fulfilled\")","v":0.51936989540577805},{"$f":"IF(L342>2,L342,IF(L342=2,1,sigma_cl0(I342+J342)))","v":128.61690531326869},{"$f":"Sigma_cl(AA342,U342,V342,X342)","v":111.97792455078751},{"$f":"Sigma_cl(AA342,U342,V342,Y342)","v":128.61690531326869},{"$f":"sigma_Slip(AB342,W342,U342,IF(L342=1,mu_redLead,mu_millScale))","v":28.719401777652102},{"$f":"sigma_Slip(AC342,W342,U342,IF(L342=1,mu_redLead,mu_millScale))","v":32.986864097616674},{"$f":"Sigma_p(AB342,V342)","v":-26.910098648748018},{"$f":"Sigma_p(AC342,V342)","v":-30.908713693000866},{"$f":"beta_1(X342,AD342,Z342)","v":0.73265991146608822},{"$f":"beta_1(Y342,AE342,Z342)","v":0},{"$f":"k_tHole(W342,U342)","v":2.4146252622586513},{"$f":"K_t1Mu(Z342,AH342,D342,W342,U342,SIGN(X342),mu_millScale)","v":3.3579023590485844},{"$f":"K_t1Mu(Z342,AI342,D342,W342,U342,SIGN(Y342),mu_millScale)","v":1.7875834273069386},{"$f":"Sigma_hMax(AK342,X342,AF342)","v":667.63842529686121},{"$f":"Sigma_hMin(X342,Y342,AG342,AE342,AK342,AL342,AJ342,AI342,Z342,IF(L342=1,mu_redLead,mu_millScale))","v":54.169118461643677},613.46930683521759,8.113541163775545E-2,195.85006920296897,{"$f":"tau_n(N342,W342,U342,D342)","v":133.06857243794713},{"$f":"tau_hMax(X342,Z342,AH342,W342,U342)","v":101.27090599602573},{"$f":"tau_hMin(X342,Y342,AS342,AE342,Z342,AI342,IF(L342=1,mu_redLead,mu_millScale),W342,U342)","v":27.900679630245047},73.370226365780681]
[331,"Hansen1959","R; L",2,2,10.3,40.5,42.9,7.1,9.5,89,null,397,206.84,0,181000,1,"K/C 0-30",null,331,0.68932038834951448,0.62048192771084332,0.25432098765432098,{"$f":"N343/(1-O343)","v":206.84},{"$f":"X343*O343","v":0},{"$f":"IF(OR(X343>=1.6*D343*AD343,D343=1),calcLoadFraction(G343,F343,I343,J343,K343,D343,1),\"Condition for spring model not fulfilled\")","v":0.51936989540577805},{"$f":"IF(L343>2,L343,IF(L343=2,1,sigma_cl0(I343+J343)))","v":128.61690531326869},{"$f":"Sigma_cl(AA343,U343,V343,X343)","v":111.97792455078751},{"$f":"Sigma_cl(AA343,U343,V343,Y343)","v":128.61690531326869},{"$f":"sigma_Slip(AB343,W343,U343,IF(L343=1,mu_redLead,mu_millScale))","v":28.719401777652102},{"$f":"sigma_Slip(AC343,W343,U343,IF(L343=1,mu_redLead,mu_millScale))","v":32.986864097616674},{"$f":"Sigma_p(AB343,V343)","v":-26.910098648748018},{"$f":"Sigma_p(AC343,V343)","v":-30.908713693000866},{"$f":"beta_1(X343,AD343,Z343)","v":0.73265991146608822},{"$f":"beta_1(Y343,AE343,Z343)","v":0},{"$f":"k_tHole(W343,U343)","v":2.4146252622586513},{"$f":"K_t1Mu(Z343,AH343,D343,W343,U343,SIGN(X343),mu_millScale)","v":3.3579023590485844},{"$f":"K_t1Mu(Z343,AI343,D343,W343,U343,SIGN(Y343),mu_millScale)","v":1.7875834273069386},{"$f":"Sigma_hMax(AK343,X343,AF343)","v":667.63842529686121},{"$f":"Sigma_hMin(X343,Y343,AG343,AE343,AK343,AL343,AJ343,AI343,Z343,IF(L343=1,mu_redLead,mu_millScale))","v":54.169118461643677},613.46930683521759,8.113541163775545E-2,195.85006920296897,{"$f":"tau_n(N343,W343,U343,D343)","v":133.06857243794713},{"$f":"tau_hMax(X343,Z343,AH343,W343,U343)","v":101.27090599602573},{"$f":"tau_hMin(X343,Y343,AS343,AE343,Z343,AI343,IF(L343=1,mu_redLead,mu_millScale),W343,U343)","v":27.900679630245047},73.370226365780681]
[332,"Hansen1959","R; L",2,2,10.3,40.5,42.9,7.1,9.5,89,null,397,206.84,0,179000,1,"K/C 0-30",null,332,0.68932038834951448,0.62048192771084332,0.25432098765432098,206.84,0,{"$f":"IF(OR(X344>=1.6*D344*AD344,D344=1),calcLoadFraction(G344,F344,I344,J344,K344,D344,1),\"Condition for spring model not fulfilled\")","v":0.51936989540577805},{"$f":"IF(L344>2,L344,IF(L344=2,1,sigma_cl0(I344+J344)))","v":128.61690531326869},{"$f":"Sigma_cl(AA344,U344,V344,X344)","v":111.97792455078751},{"$f":"Sigma_cl(AA344,U344,V344,Y344)","v":128.61690531326869},{"$f":"sigma_Slip(AB344,W344,U344,IF(L344=1,mu_redLead,mu_millScale))","v":28.719401777652102},{"$f":"sigma_Slip(AC344,W344,U344,IF(L344=1,mu_redLead,mu_millScale))","v":32.986864097616674},{"$f":"Sigma_p(AB344,V344)","v":-26.910098648748018},{"$f":"Sigma_p(AC344,V344)","v":-30.908713693000866},{"$f":"beta_1(X344,AD344,Z344)","v":0.73265991146608822},{"$f":"beta_1(Y344,AE344,Z344)","v":0},{"$f":"k_tHole(W344,U344)","v":2.4146252622586513},{"$f":"K_t1Mu(Z344,AH344,D344,W344,U344,SIGN(X344),mu_millScale)","v":3.3579023590485844},{"$f":"K_t1Mu(Z344,AI344,D344,W344,U344,SIGN(Y344),mu_millScale)","v":1.7875834273069386},{"$f":"Sigma_hMax(AK344,X344,AF344)","v":667.63842529686121},{"$f":"Sigma_hMin(X344,Y344,AG344,AE344,AK344,AL344,AJ344,AI344,Z344,IF(L344=1,mu_redLead,mu_millScale))","v":54.169118461643677},613.46930683521759,8.113541163775545E-2,195.85006920296897,{"$f":"tau_n(N344,W344,U344,D344)","v":133.06857243794713},{"$f":"tau_hMax(X344,Z344,AH344,W344,U344)","v":101.27090599602573},{"$f":"tau_hMin(X344,Y344,AS344,AE344,Z344,AI344,IF(L344=1,mu_redLead,mu_millScale),W344,U344)","v":27.900679630245047},73.370226365780681]
[333,"Hansen1959","R; L",2,2,10.3,40.5,42.9,7.1,9.5,89,null,397,206.84,0,153000,1,"K/C 0-30",null,333,0.68932038834951448,0.62048192771084332,0.25432098765432098,206.84,0,{"$f":"IF(OR(X345>=1.6*D345*AD345,D345=1),calcLoadFraction(G345,F345,I345,J345,K345,D345,1),\"Condition for spring model not fulfilled\")","v":0.51936989540577805},{"$f":"IF(L345>2,L345,IF(L345=2,1,sigma_cl0(I345+J345)))","v":128.61690531326869},{"$f":"Sigma_cl(AA345,U345,V345,X345)","v":111.97792455078751},{"$f":"Sigma_cl(AA345,U345,V345,Y345)","v":128.61690531326869},{"$f":"sigma_Slip(AB345,W345,U345,IF(L345=1,mu_redLead,mu_millScale))","v":28.719401777652102},{"$f":"sigma_Slip(AC345,W345,U345,IF(L345=1,mu_redLead,mu_millScale))","v":32.986864097616674},{"$f":"Sigma_p(AB345,V345)","v":-26.910098648748018},{"$f":"Sigma_p(AC345,V345)","v":-30.908713693000866},{"$f":"beta_1(X345,AD345,Z345)","v":0.73265991146608822},{"$f":"beta_1(Y345,AE345,Z345)","v":0},{"$f":"k_tHole(W345,U345)","v":2.4146252622586513},{"$f":"K_t1Mu(Z345,AH345,D345,W345,U345,SIGN(X345),mu_millScale)","v":3.3579023590485844},{"$f":"K_t1Mu(Z345,AI345,D345,W345,U345,SIGN(Y345),mu_millScale)","v":1.7875834273069386},{"$f":"Sigma_hMax(AK345,X345,AF345)","v":667.63842529686121},{"$f":"Sigma_hMin(X345,Y345,AG345,AE345,AK345,AL345,AJ345,AI345,Z345,IF(L345=1,mu_redLead,mu_millScale))","v":54.169118461643677},613.46930683521759,8.113541163775545E-2,195.85006920296897,{"$f":"tau_n(N345,W345,U345,D345)","v":133.06857243794713},{"$f":"tau_hMax(X345,Z345,AH345,W345,U345)","v":101.27090599602573},{"$f":"tau_hMin(X345,Y345,AS345,AE345,Z345,AI345,IF(L345=1,mu_redLead,mu_millScale),W345,U345)","v":27.900679630245047},73.370226365780681]
[334,"Hansen1959","R; L",2,2,10.3,40.5,42.9,7.1,9.5,89,null,397,206.84,0,153000,1,"K/C 0-30",null,334,0.68932038834951448,0.62048192771084332,0.25432098765432098,206.84,0,{"$f":"IF(OR(X346>=1.6*D346*AD346,D346=1),calcLoadFraction(G346,F346,I346,J346,K346,D346,1),\"Condition for spring model not fulfilled\")","v":0.51936989540577805},{"$f":"IF(L346>2,L346,IF(L346=2,1,sigma_cl0(I346+J346)))","v":128.61690531326869},{"$f":"Sigma_cl(AA346,U346,V346,X346)","v":111.97792455078751},{"$f":"Sigma_cl(AA346,U346,V346,Y346)","v":128.61690531326869},{"$f":"sigma_Slip(AB346,W346,U346,IF(L346=1,mu_redLead,mu_millScale))","v":28.719401777652102},{"$f":"sigma_Slip(AC346,W346,U346,IF(L346=1,mu_redLead,mu_millScale))","v":32.986864097616674},{"$f":"Sigma_p(AB346,V346)","v":-26.910098648748018},{"$f":"Sigma_p(AC346,V346)","v":-30.908713693000866},{"$f":"beta_1(X346,AD346,Z346)","v":0.73265991146608822},{"$f":"beta_1(Y346,AE346,Z346)","v":0},{"$f":"k_tHole(W346,U346)","v":2.4146252622586513},{"$f":"K_t1Mu(Z346,AH346,D346,W346,U346,SIGN(X346),mu_millScale)","v":3.3579023590485844},{"$f":"K_t1Mu(Z346,AI346,D346,W346,U346,SIGN(Y346),mu_millScale)","v":1.7875834273069386},{"$f":"Sigma_hMax(AK346,X346,AF346)","v":667.63842529686121},{"$f":"Sigma_hMin(X346,Y346,AG346,AE346,AK346,AL346,AJ346,AI346,Z346,IF(L346=1,mu_redLead,mu_millScale))","v":54.169118461643677},613.46930683521759,8.113541163775545E-2,195.85006920296897,{"$f":"tau_n(N346,W346,U346,D346)","v":133.06857243794713},{"$f":"tau_hMax(X346,Z346,AH346,W346,U346)","v":101.27090599602573},{"$f":"tau_hMin(X346,Y346,AS346,AE346,Z346,AI346,IF(L346=1,mu_redLead,mu_millScale),W346,U346)","v":27.900679630245047},73.370226365780681]
[335,"Hansen1959","R; L",2,2,10.3,40.5,42.9,7.1,9.5,89,null,397,206.84,0,149000,1,"K/C 0-30",null,335,0.68932038834951448,0.62048192771084332,0.25432098765432098,206.84,0,{"$f":"IF(OR(X347>=1.6*D347*AD347,D347=1),calcLoadFraction(G347,F347,I347,J347,K347,D347,1),\"Condition for spring model not fulfilled\")","v":0.51936989540577805},{"$f":"IF(L347>2,L347,IF(L347=2,1,sigma_cl0(I347+J347)))","v":128.61690531326869},{"$f":"Sigma_cl(AA347,U347,V347,X347)","v":111.97792455078751},{"$f":"Sigma_cl(AA347,U347,V347,Y347)","v":128.61690531326869},{"$f":"sigma_Slip(AB347,W347,U347,IF(L347=1,mu_redLead,mu_millScale))","v":28.719401777652102},{"$f":"sigma_Slip(AC347,W347,U347,IF(L347=1,mu_redLead,mu_millScale))","v":32.986864097616674},{"$f":"Sigma_p(AB347,V347)","v":-26.910098648748018},{"$f":"Sigma_p(AC347,V347)","v":-30.908713693000866},{"$f":"beta_1(X347,AD347,Z347)","v":0.73265991146608822},{"$f":"beta_1(Y347,AE347,Z347)","v":0},{"$f":"k_tHole(W347,U347)","v":2.4146252622586513},{"$f":"K_t1Mu(Z347,AH347,D347,W347,U347,SIGN(X347),mu_millScale)","v":3.3579023590485844},{"$f":"K_t1Mu(Z347,AI347,D347,W347,U347,SIGN(Y347),mu_millScale)","v":1.7875834273069386},{"$f":"Sigma_hMax(AK347,X347,AF347)","v":667.63842529686121},{"$f":"Sigma_hMin(X347,Y347,AG347,AE347,AK347,AL347,AJ347,AI347,Z347,IF(L347=1,mu_redLead,mu_millScale))","v":54.169118461643677},613.46930683521759,8.113541163775545E-2,195.85006920296897,{"$f":"tau_n(N347,W347,U347,D347)","v":133.06857243794713},{"$f":"tau_hMax(X347,Z347,AH347,W347,U347)","v":101.27090599602573},{"$f":"tau_hMin(X347,Y347,AS347,AE347,Z347,AI347,IF(L347=1,mu_redLead,mu_millScale),W347,U347)","v":27.900679630245047},73.370226365780681]
[336,"Hansen1959","R; L",2,2,10.3,40.5,42.9,7.1,9.5,89,null,419,206.84,0,2300000,1,"Q/C 0-30",null,336,0.68932038834951448,0.62048192771084332,0.25432098765432098,206.84,0,{"$f":"IF(OR(X348>=1.6*D348*AD348,D348=1),calcLoadFraction(G348,F348,I348,J348,K348,D348,1),\"Condition for spring model not fulfilled\")","v":0.51936989540577805},{"$f":"IF(L348>2,L348,IF(L348=2,1,sigma_cl0(I348+J348)))","v":128.61690531326869},{"$f":"Sigma_cl(AA348,U348,V348,X348)","v":111.97792455078751},{"$f":"Sigma_cl(AA348,U348,V348,Y348)","v":128.61690531326869},{"$f":"sigma_Slip(AB348,W348,U348,IF(L348=1,mu_redLead,mu_millScale))","v":28.719401777652102},{"$f":"sigma_Slip(AC348,W348,U348,IF(L348=1,mu_redLead,mu_millScale))","v":32.986864097616674},{"$f":"Sigma_p(AB348,V348)","v":-26.910098648748018},{"$f":"Sigma_p(AC348,V348)","v":-30.908713693000866},{"$f":"beta_1(X348,AD348,Z348)","v":0.73265991146608822},{"$f":"beta_1(Y348,AE348,Z348)","v":0},{"$f":"k_tHole(W348,U348)","v":2.4146252622586513},{"$f":"K_t1Mu(Z348,AH348,D348,W348,U348,SIGN(X348),mu_millScale)","v":3.3579023590485844},{"$f":"K_t1Mu(Z348,AI348,D348,W348,U348,SIGN(Y348),mu_millScale)","v":1.7875834273069386},{"$f":"Sigma_hMax(AK348,X348,AF348)","v":667.63842529686121},{"$f":"Sigma_hMin(X348,Y348,AG348,AE348,AK348,AL348,AJ348,AI348,Z348,IF(L348=1,mu_redLead,mu_millScale))","v":54.169118461643677},613.46930683521759,8.113541163775545E-2,195.85006920296897,{"$f":"tau_n(N348,W348,U348,D348)","v":133.06857243794713},{"$f":"tau_hMax(X348,Z348,AH348,W348,U348)","v":101.27090599602573},{"$f":"tau_hMin(X348,Y348,AS348,AE348,Z348,AI348,IF(L348=1,mu_redLead,mu_millScale),W348,U348)","v":27.900679630245047},73.370226365780681]
[337,"Hansen1959","R; L",2,2,10.3,40.5,42.9,7.1,9.5,89,null,419,206.84,0,1790000,1,"Q/C 0-30",null,337,0.68932038834951448,0.62048192771084332,0.25432098765432098,206.84,0,{"$f":"IF(OR(X349>=1.6*D349*AD349,D349=1),calcLoadFraction(G349,F349,I349,J349,K349,D349,1),\"Condition for spring model not fulfilled\")","v":0.51936989540577805},{"$f":"IF(L349>2,L349,IF(L349=2,1,sigma_cl0(I349+J349)))","v":128.61690531326869},{"$f":"Sigma_cl(AA349,U349,V349,X349)","v":111.97792455078751},{"$f":"Sigma_cl(AA349,U349,V349,Y349)","v":128.61690531326869},{"$f":"sigma_Slip(AB349,W349,U349,IF(L349=1,mu_redLead,mu_millScale))","v":28.719401777652102},{"$f":"sigma_Slip(AC349,W349,U349,IF(L349=1,mu_redLead,mu_millScale))","v":32.986864097616674},{"$f":"Sigma_p(AB349,V349)","v":-26.910098648748018},{"$f":"Sigma_p(AC349,V349)","v":-30.908713693000866},{"$f":"beta_1(X349,AD349,Z349)","v":0.73265991146608822},{"$f":"beta_1(Y349,AE349,Z349)","v":0},{"$f":"k_tHole(W349,U349)","v":2.4146252622586513},{"$f":"K_t1Mu(Z349,AH349,D349,W349,U349,SIGN(X349),mu_millScale)","v":3.3579023590485844},{"$f":"K_t1Mu(Z349,AI349,D349,W349,U349,SIGN(Y349),mu_millScale)","v":1.7875834273069386},{"$f":"Sigma_hMax(AK349,X349,AF349)","v":667.63842529686121},{"$f":"Sigma_hMin(X349,Y349,AG349,AE349,AK349,AL349,AJ349,AI349,Z349,IF(L349=1,mu_redLead,mu_millScale))","v":54.169118461643677},613.46930683521759,8.113541163775545E-2,195.85006920296897,{"$f":"tau_n(N349,W349,U349,D349)","v":133.06857243794713},{"$f":"tau_hMax(X349,Z349,AH349,W349,U349)","v":101.27090599602573},{"$f":"tau_hMin(X349,Y349,AS349,AE349,Z349,AI349,IF(L349=1,mu_redLead,mu_millScale),W349,U349)","v":27.900679630245047},73.370226365780681]
[338,"Hansen1959","R; L",2,2,10.3,40.5,42.9,7.1,9.5,89,null,419,206.84,0,5000000,0,"Q/C 0-30",null,338,0.68932038834951448,0.62048192771084332,0.25432098765432098,206.84,0,{"$f":"IF(OR(X350>=1.6*D350*AD350,D350=1),calcLoadFraction(G350,F350,I350,J350,K350,D350,1),\"Condition for spring model not fulfilled\")","v":0.51936989540577805},{"$f":"IF(L350>2,L350,IF(L350=2,1,sigma_cl0(I350+J350)))","v":128.61690531326869},{"$f":"Sigma_cl(AA350,U350,V350,X350)","v":111.97792455078751},{"$f":"Sigma_cl(AA350,U350,V350,Y350)","v":128.61690531326869},{"$f":"sigma_Slip(AB350,W350,U350,IF(L350=1,mu_redLead,mu_millScale))","v":28.719401777652102},{"$f":"sigma_Slip(AC350,W350,U350,IF(L350=1,mu_redLead,mu_millScale))","v":32.986864097616674},{"$f":"Sigma_p(AB350,V350)","v":-26.910098648748018},{"$f":"Sigma_p(AC350,V350)","v":-30.908713693000866},{"$f":"beta_1(X350,AD350,Z350)","v":0.73265991146608822},{"$f":"beta_1(Y350,AE350,Z350)","v":0},{"$f":"k_tHole(W350,U350)","v":2.4146252622586513},{"$f":"K_t1Mu(Z350,AH350,D350,W350,U350,SIGN(X350),mu_millScale)","v":3.3579023590485844},{"$f":"K_t1Mu(Z350,AI350,D350,W350,U350,SIGN(Y350),mu_millScale)","v":1.7875834273069386},{"$f":"Sigma_hMax(AK350,X350,AF350)","v":667.63842529686121},{"$f":"Sigma_hMin(X350,Y350,AG350,AE350,AK350,AL350,AJ350,AI350,Z350,IF(L350=1,mu_redLead,mu_millScale))","v":54.169118461643677},613.46930683521759,8.113541163775545E-2,195.85006920296897,{"$f":"tau_n(N350,W350,U350,D350)","v":133.06857243794713},{"$f":"tau_hMax(X350,Z350,AH350,W350,U350)","v":101.27090599602573},{"$f":"tau_hMin(X350,Y350,AS350,AE350,Z350,AI350,IF(L350=1,mu_redLead,mu_millScale),W350,U350)","v":27.900679630245047},73.370226365780681]
[339,"Hansen1959","R; L",2,2,10.3,40.5,42.9,7.1,9.5,89,null,419,206.84,0,3000000,0,"Q/C 0-30",null,339,0.68932038834951448,0.62048192771084332,0.25432098765432098,206.84,0,{"$f":"IF(OR(X351>=1.6*D351*AD351,D351=1),calcLoadFraction(G351,F351,I351,J351,K351,D351,1),\"Condition for spring model not fulfilled\")","v":0.51936989540577805},{"$f":"IF(L351>2,L351,IF(L351=2,1,sigma_cl0(I351+J351)))","v":128.61690531326869},{"$f":"Sigma_cl(AA351,U351,V351,X351)","v":111.97792455078751},{"$f":"Sigma_cl(AA351,U351,V351,Y351)","v":128.61690531326869},{"$f":"sigma_Slip(AB351,W351,U351,IF(L351=1,mu_redLead,mu_millScale))","v":28.719401777652102},{"$f":"sigma_Slip(AC351,W351,U351,IF(L351=1,mu_redLead,mu_millScale))","v":32.986864097616674},{"$f":"Sigma_p(AB351,V351)","v":-26.910098648748018},{"$f":"Sigma_p(AC351,V351)","v":-30.908713693000866},{"$f":"beta_1(X351,AD351,Z351)","v":0.73265991146608822},{"$f":"beta_1(Y351,AE351,Z351)","v":0},{"$f":"k_tHole(W351,U351)","v":2.4146252622586513},{"$f":"K_t1Mu(Z351,AH351,D351,W351,U351,SIGN(X351),mu_millScale)","v":3.3579023590485844},{"$f":"K_t1Mu(Z351,AI351,D351,W351,U351,SIGN(Y351),mu_millScale)","v":1.7875834273069386},{"$f":"Sigma_hMax(AK351,X351,AF351)","v":667.63842529686121},{"$f":"Sigma_hMin(X351,Y351,AG351,AE351,AK351,AL351,AJ351,AI351,Z351,IF(L351=1,mu_redLead,mu_millScale))","v":54.169118461643677},613.46930683521759,8.113541163775545E-2,195.85006920296897,{"$f":"tau_n(N351,W351,U351,D351)","v":133.06857243794713},{"$f":"tau_hMax(X351,Z351,AH351,W351,U351)","v":101.27090599602573},{"$f":"tau_hMin(X351,Y351,AS351,AE351,Z351,AI351,IF(L351=1,mu_redLead,mu_millScale),W351,U351)","v":27.900679630245047},73.370226365780681]
[340,"Hansen1959","R; L",2,2,10.3,40.5,42.9,7.1,9.5,89,null,419,206.84,0,1490000,1,"Q/C 0-30",null,340,0.68932038834951448,0.62048192771084332,0.25432098765432098,206.84,0,{"$f":"IF(OR(X352>=1.6*D352*AD352,D352=1),calcLoadFraction(G352,F352,I352,J352,K352,D352,1),\"Condition for spring model not fulfilled\")","v":0.51936989540577805},{"$f":"IF(L352>2,L352,IF(L352=2,1,sigma_cl0(I352+J352)))","v":128.61690531326869},{"$f":"Sigma_cl(AA352,U352,V352,X352)","v":111.97792455078751},{"$f":"Sigma_cl(AA352,U352,V352,Y352)","v":128.61690531326869},{"$f":"sigma_Slip(AB352,W352,U352,IF(L352=1,mu_redLead,mu_millScale))","v":28.719401777652102},{"$f":"sigma_Slip(AC352,W352,U352,IF(L352=1,mu_redLead,mu_millScale))","v":32.986864097616674},{"$f":"Sigma_p(AB352,V352)","v":-26.910098648748018},{"$f":"Sigma_p(AC352,V352)","v":-30.908713693000866},{"$f":"beta_1(X352,AD352,Z352)","v":0.73265991146608822},{"$f":"beta_1(Y352,AE352,Z352)","v":0},{"$f":"k_tHole(W352,U352)","v":2.4146252622586513},{"$f":"K_t1Mu(Z352,AH352,D352,W352,U352,SIGN(X352),mu_millScale)","v":3.3579023590485844},{"$f":"K_t1Mu(Z352,AI352,D352,W352,U352,SIGN(Y352),mu_millScale)","v":1.7875834273069386},{"$f":"Sigma_hMax(AK352,X352,AF352)","v":667.63842529686121},{"$f":"Sigma_hMin(X352,Y352,AG352,AE352,AK352,AL352,AJ352,AI352,Z352,IF(L352=1,mu_redLead,mu_millScale))","v":54.169118461643677},613.46930683521759,8.113541163775545E-2,195.85006920296897,{"$f":"tau_n(N352,W352,U352,D352)","v":133.06857243794713},{"$f":"tau_hMax(X352,Z352,AH352,W352,U352)","v":101.27090599602573},{"$f":"tau_hMin(X352,Y352,AS352,AE352,Z352,AI352,IF(L352=1,mu_redLead,mu_millScale),W352,U352)","v":27.900679630245047},73.370226365780681]
[341,"Lenzen1949","R; L",3,3,10.3,36.5,38.1,9.5,9.5,76,null,432,275.79000000000002,-1,228348,2,"A-7",null,341,0.92233009708737856,0.54210526315789476,0.28219178082191781,137.89500000000001,-137.89500000000001,{"$f":"IF(OR(X353>=1.6*D353*AD353,D353=1),calcLoadFraction(G353,F353,I353,J353,K353,D353,1),\"Condition for spring model not fulfilled\")","v":0.36336278396993826},{"$f":"IF(L353>2,L353,IF(L353=2,1,sigma_cl0(I353+J353)))","v":140.91415548460122},{"$f":"Sigma_cl(AA353,U353,V353,X353)","v":127.26336347841669},{"$f":"Sigma_cl(AA353,U353,V353,Y353)","v":154.56494749078576},{"$f":"sigma_Slip(AB353,W353,U353,IF(L353=1,mu_redLead,mu_millScale))","v":28.118151575464129},{"$f":"sigma_Slip(AC353,W353,U353,IF(L353=1,mu_redLead,mu_millScale))","v":34.150288842056604},{"$f":"Sigma_p(AB353,V353)","v":-26.480757048048758},{"$f":"Sigma_p(AC353,V353)","v":-32.161626966130477},{"$f":"beta_1(X353,AD353,Z353)","v":0.43882566027284603},{"$f":"beta_1(Y353,AE353,Z353)","v":0.3184379228841121},{"$f":"k_tHole(W353,U353)","v":2.3698497083675005},{"$f":"K_t1Mu(Z353,AH353,D353,W353,U353,SIGN(X353),mu_millScale)","v":2.5737190342373593},{"$f":"K_t1Mu(Z353,AI353,D353,W353,U353,SIGN(Y353),mu_millScale)","v":1.5401271277138693},{"$f":"Sigma_hMax(AK353,X353,AF353)","v":328.42222917811193},{"$f":"Sigma_hMin(X353,Y353,AG353,AE353,AK353,AL353,AJ353,AI353,Z353,IF(L353=1,mu_redLead,mu_millScale))","v":-258.14564874186709},586.56787791997908,-0.78601758896736551,177.45358007778239,{"$f":"tau_n(N353,W353,U353,D353)","v":137.30546693820691},{"$f":"tau_hMax(X353,Z353,AH353,W353,U353)","v":32.840635133561243},{"$f":"tau_hMin(X353,Y353,AS353,AE353,Z353,AI353,IF(L353=1,mu_redLead,mu_millScale),W353,U353)","v":-23.831112409479459},56.671747543040702]
[342,"Lenzen1949","R; L",3,3,10.3,36.5,38.1,9.5,9.5,76,null,432,283.37,-1.0147058819999999,200931,1,"A-8",null,342,0.92233009708737856,0.54210526315789476,0.28219178082191781,140.65080294434759,-142.71919705565242,{"$f":"IF(OR(X354>=1.6*D354*AD354,D354=1),calcLoadFraction(G354,F354,I354,J354,K354,D354,1),\"Condition for spring model not fulfilled\")","v":0.36336278396993826},{"$f":"IF(L354>2,L354,IF(L354=2,1,sigma_cl0(I354+J354)))","v":140.91415548460122},{"$f":"Sigma_cl(AA354,U354,V354,X354)","v":126.99055523443889},{"$f":"Sigma_cl(AA354,U354,V354,Y354)","v":155.04251455705761},{"$f":"sigma_Slip(AB354,W354,U354,IF(L354=1,mu_redLead,mu_millScale))","v":28.057876070043392},{"$f":"sigma_Slip(AC354,W354,U354,IF(L354=1,mu_redLead,mu_millScale))","v":34.255804701372696},{"$f":"Sigma_p(AB354,V354)","v":-26.423991545141817},{"$f":"Sigma_p(AC354,V354)","v":-32.260998357161171},{"$f":"beta_1(X354,AD354,Z354)","v":0.45100026790000308},{"$f":"beta_1(Y354,AE354,Z354)","v":0.33944142306758235},{"$f":"k_tHole(W354,U354)","v":2.3698497083675005},{"$f":"K_t1Mu(Z354,AH354,D354,W354,U354,SIGN(X354),mu_millScale)","v":2.5920220937078096},{"$f":"K_t1Mu(Z354,AI354,D354,W354,U354,SIGN(Y354),mu_millScale)","v":1.5127488510049494},{"$f":"Sigma_hMax(AK354,X354,AF354)","v":338.14599718435056},{"$f":"Sigma_hMin(X354,Y354,AG354,AE354,AK354,AL354,AJ354,AI354,Z354,IF(L354=1,mu_redLead,mu_millScale))","v":-264.77126321705282},602.91726040140338,-0.78300871641755598,182.41776394927152,{"$f":"tau_n(N354,W354,U354,D354)","v":141.07926381043436},{"$f":"tau_hMax(X354,Z354,AH354,W354,U354)","v":34.426274654270991},{"$f":"tau_hMin(X354,Y354,AS354,AE354,Z354,AI354,IF(L354=1,mu_redLead,mu_millScale),W354,U354)","v":-26.291674490301514},60.717949144572501]
[343,"Lenzen1949","R; L",3,3,10.3,36.5,38.1,9.5,9.5,76,null,432,280.61,-1.0248756219999999,197744,1,"A-9",null,343,0.92233009708737856,0.54210526315789476,0.28219178082191781,138.58135134386049,-142.02864865613955,{"$f":"IF(OR(X355>=1.6*D355*AD355,D355=1),calcLoadFraction(G355,F355,I355,J355,K355,D355,1),\"Condition for spring model not fulfilled\")","v":0.36336278396993826},{"$f":"IF(L355>2,L355,IF(L355=2,1,sigma_cl0(I355+J355)))","v":140.91415548460122},{"$f":"Sigma_cl(AA355,U355,V355,X355)","v":127.1954187419273},{"$f":"Sigma_cl(AA355,U355,V355,Y355)","v":154.97415433680342},{"$f":"sigma_Slip(AB355,W355,U355,IF(L355=1,mu_redLead,mu_millScale))","v":28.103139553566027},{"$f":"sigma_Slip(AC355,W355,U355,IF(L355=1,mu_redLead,mu_millScale))","v":34.240700880584832},{"$f":"Sigma_p(AB355,V355)","v":-26.466619215993308},{"$f":"Sigma_p(AC355,V355)","v":-32.246774071908725},{"$f":"beta_1(X355,AD355,Z355)","v":0.44190310828981683},{"$f":"beta_1(Y355,AE355,Z355)","v":0.33652242825688372},{"$f":"k_tHole(W355,U355)","v":2.3698497083675005},{"$f":"K_t1Mu(Z355,AH355,D355,W355,U355,SIGN(X355),mu_millScale)","v":2.5783563811177994},{"$f":"K_t1Mu(Z355,AI355,D355,W355,U355,SIGN(Y355),mu_millScale)","v":1.5165539177516303},{"$f":"Sigma_hMax(AK355,X355,AF355)","v":330.84549232537711},{"$f":"Sigma_hMin(X355,Y355,AG355,AE355,AK355,AL355,AJ355,AI355,Z355,IF(L355=1,mu_redLead,mu_millScale))","v":-263.59184652910631},594.43733885448341,-0.79672189177016572,179.77156778530787,{"$f":"tau_n(N355,W355,U355,D355)","v":139.70516363004546},{"$f":"tau_hMax(X355,Z355,AH355,W355,U355)","v":33.235549370135978},{"$f":"tau_hMin(X355,Y355,AS355,AE355,Z355,AI355,IF(L355=1,mu_redLead,mu_millScale),W355,U355)","v":-25.939463088650143},59.175012458786121]
[344,"Lenzen1949","R; L",3,3,10.3,36.5,38.1,9.5,9.5,76,null,432,250.28,-0.98360655699999999,236219,1,"A-10",null,344,0.92233009708737856,0.54210526315789476,0.28219178082191781,126.17421490001659,-124.10578509998342,{"$f":"IF(OR(X356>=1.6*D356*AD356,D356=1),calcLoadFraction(G356,F356,I356,J356,K356,D356,1),\"Condition for spring model not fulfilled\")","v":"Condition for spring model not fulfilled"},{"$f":"IF(L356>2,L356,IF(L356=2,1,sigma_cl0(I356+J356)))","v":140.91415548460122},{"$f":"Sigma_cl(AA356,U356,V356,X356)","v":128.4236521005499},{"$f":"Sigma_cl(AA356,U356,V356,Y356)","v":153.19989651338477},{"$f":"sigma_Slip(AB356,W356,U356,IF(L356=1,mu_redLead,mu_millScale))","v":28.374511068539764},{"$f":"sigma_Slip(AC356,W356,U356,IF(L356=1,mu_redLead,mu_millScale))","v":33.848688214494167},{"$f":"Sigma_p(AB356,V356)","v":-26.722188048051642},{"$f":"Sigma_p(AC356,V356)","v":-31.877589342868326},{"$f":"beta_1(X356,AD356,Z356)","v":{"$error":"#VALUE!"}},{"$f":"beta_1(Y356,AE356,Z356)","v":{"$error":"#VALUE!"}},{"$f":"k_tHole(W356,U356)","v":2.3698497083675005},{"$f":"K_t1Mu(Z356,AH356,D356,W356,U356,SIGN(X356),mu_millScale)","v":{"$error":"#VALUE!"}},{"$f":"K_t1Mu(Z356,AI356,D356,W356,U356,SIGN(Y356),mu_millScale)","v":{"$error":"#VALUE!"}},{"$f":"Sigma_hMax(AK356,X356,AF356)","v":{"$error":"#VALUE!"}},{"$f":"Sigma_hMin(X356,Y356,AG356,AE356,AK356,AL356,AJ356,AI356,Z356,IF(L356=1,mu_redLead,mu_millScale))","v":{"$error":"#VALUE!"}},{"$error":"#VALUE!"},{"$error":"#VALUE!"},{"$error":"#VALUE!"},{"$f":"tau_n(N356,W356,U356,D356)","v":124.60499751729368},{"$f":"tau_hMax(X356,Z356,AH356,W356,U356)","v":{"$error":"#VALUE!"}},{"$f":"tau_hMin(X356,Y356,AS356,AE356,Z356,AI356,IF(L356=1,mu_redLead,mu_millScale),W356,U356)","v":{"$error":"#VALUE!"}},{"$error":"#VALUE!"}]
[345,"Lenzen1949","R; L",3,3,10.3,36.5,38.1,9.5,9.5,76,null,432,248.21,-1,489995,1,"A-11",null,345,0.92233009708737856,0.54210526315789476,0.28219178082191781,124.105,-124.105,{"$f":"IF(OR(X357>=1.6*D357*AD357,D357=1),calcLoadFraction(G357,F357,I357,J357,K357,D357,1),\"Condition for spring model not fulfilled\")","v":"Condition for spring model not fulfilled"},{"$f":"IF(L357>2,L357,IF(L357=2,1,sigma_cl0(I357+J357)))","v":140.91415548460122},{"$f":"Sigma_cl(AA357,U357,V357,X357)","v":128.62849217608726},{"$f":"Sigma_cl(AA357,U357,V357,Y357)","v":153.19981879311518},{"$f":"sigma_Slip(AB357,W357,U357,IF(L357=1,mu_redLead,mu_millScale))","v":28.419769374899602},{"$f":"sigma_Slip(AC357,W357,U357,IF(L357=1,mu_redLead,mu_millScale))","v":33.848671042621127},{"$f":"Sigma_p(AB357,V357)","v":-26.76481084322025},{"$f":"Sigma_p(AC357,V357)","v":-31.877573170958986},{"$f":"beta_1(X357,AD357,Z357)","v":{"$error":"#VALUE!"}},{"$f":"beta_1(Y357,AE357,Z357)","v":{"$error":"#VALUE!"}},{"$f":"k_tHole(W357,U357)","v":2.3698497083675005},{"$f":"K_t1Mu(Z357,AH357,D357,W357,U357,SIGN(X357),mu_millScale)","v":{"$error":"#VALUE!"}},{"$f":"K_t1Mu(Z357,AI357,D357,W357,U357,SIGN(Y357),mu_millScale)","v":{"$error":"#VALUE!"}},{"$f":"Sigma_hMax(AK357,X357,AF357)","v":{"$error":"#VALUE!"}},{"$f":"Sigma_hMin(X357,Y357,AG357,AE357,AK357,AL357,AJ357,AI357,Z357,IF(L357=1,mu_redLead,mu_millScale))","v":{"$error":"#VALUE!"}},{"$error":"#VALUE!"},{"$error":"#VALUE!"},{"$error":"#VALUE!"},{"$f":"tau_n(N357,W357,U357,D357)","v":123.57442238200201},{"$f":"tau_hMax(X357,Z357,AH357,W357,U357)","v":{"$error":"#VALUE!"}},{"$f":"tau_hMin(X357,Y357,AS357,AE357,Z357,AI357,IF(L357=1,mu_redLead,mu_millScale),W357,U357)","v":{"$error":"#VALUE!"}},{"$error":"#VALUE!"}]
[346,"Lenzen1949","R; L",3,3,10.3,36.5,38.1,9.5,9.5,76,null,432,248.21,-1,562927,1,"A-12",null,346,0.92233009708737856,0.54210526315789476,0.28219178082191781,124.105,-124.105,{"$f":"IF(OR(X358>=1.6*D358*AD358,D358=1),calcLoadFraction(G358,F358,I358,J358,K358,D358,1),\"Condition for spring model not fulfilled\")","v":"Condition for spring model not fulfilled"},{"$f":"IF(L358>2,L358,IF(L358=2,1,sigma_cl0(I358+J358)))","v":140.91415548460122},{"$f":"Sigma_cl(AA358,U358,V358,X358)","v":128.62849217608726},{"$f":"Sigma_cl(AA358,U358,V358,Y358)","v":153.19981879311518},{"$f":"sigma_Slip(AB358,W358,U358,IF(L358=1,mu_redLead,mu_millScale))","v":28.419769374899602},{"$f":"sigma_Slip(AC358,W358,U358,IF(L358=1,mu_redLead,mu_millScale))","v":33.848671042621127},{"$f":"Sigma_p(AB358,V358)","v":-26.76481084322025},{"$f":"Sigma_p(AC358,V358)","v":-31.877573170958986},{"$f":"beta_1(X358,AD358,Z358)","v":{"$error":"#VALUE!"}},{"$f":"beta_1(Y358,AE358,Z358)","v":{"$error":"#VALUE!"}},{"$f":"k_tHole(W358,U358)","v":2.3698497083675005},{"$f":"K_t1Mu(Z358,AH358,D358,W358,U358,SIGN(X358),mu_millScale)","v":{"$error":"#VALUE!"}},{"$f":"K_t1Mu(Z358,AI358,D358,W358,U358,SIGN(Y358),mu_millScale)","v":{"$error":"#VALUE!"}},{"$f":"Sigma_hMax(AK358,X358,AF358)","v":{"$error":"#VALUE!"}},{"$f":"Sigma_hMin(X358,Y358,AG358,AE358,AK358,AL358,AJ358,AI358,Z358,IF(L358=1,mu_redLead,mu_millScale))","v":{"$error":"#VALUE!"}},{"$error":"#VALUE!"},{"$error":"#VALUE!"},{"$error":"#VALUE!"},{"$f":"tau_n(N358,W358,U358,D358)","v":123.57442238200201},{"$f":"tau_hMax(X358,Z358,AH358,W358,U358)","v":{"$error":"#VALUE!"}},{"$f":"tau_hMin(X358,Y358,AS358,AE358,Z358,AI358,IF(L358=1,mu_redLead,mu_millScale),W358,U358)","v":{"$error":"#VALUE!"}},{"$error":"#VALUE!"}]
[347,"ORE1986","R; S",2,2,10,50,60,6,13,100,1,null,92.213999999999999,0.25,1360000,1,"exp 3",null,347,0.6,0.52631578947368418,0.2,122.952,30.738,{"$f":"IF(OR(X359>=1.6*D359*AD359,D359=1),calcLoadFraction(G359,F359,I359,J359,K359,D359,1),\"Condition for spring model not fulfilled\")","v":0.54214076788141241},{"$f":"IF(L359>2,L359,IF(L359=2,1,sigma_cl0(I359+J359)))","v":140.91415548460122},{"$f":"Sigma_cl(AA359,U359,V359,X359)","v":133.14302237964949},{"$f":"Sigma_cl(AA359,U359,V359,Y359)","v":138.97137220836331},{"$f":"sigma_Slip(AB359,W359,U359,IF(L359=1,mu_redLead,mu_millScale))","v":5.2285142729765326},{"$f":"sigma_Slip(AC359,W359,U359,IF(L359=1,mu_redLead,mu_millScale))","v":5.4573930359990266},{"$f":"Sigma_p(AB359,V359)","v":-26.825037555169867},{"$f":"Sigma_p(AC359,V359)","v":-27.999306399646787},{"$f":"beta_1(X359,AD359,Z359)","v":0.92156125548736512},{"$f":"beta_1(Y359,AE359,Z359)","v":0.6725103647372741},{"$f":"k_tHole(W359,U359)","v":2.512},{"$f":"K_t1Mu(Z359,AH359,D359,W359,U359,SIGN(X359),mu_millScale)","v":4.1789877077196245},{"$f":"K_t1Mu(Z359,AI359,D359,W359,U359,SIGN(Y359),mu_millScale)","v":3.7808801662072153},{"$f":"Sigma_hMax(AK359,X359,AF359)","v":486.98985908437339},{"$f":"Sigma_hMin(X359,Y359,AG359,AE359,AK359,AL359,AJ359,AI359,Z359,IF(L359=1,mu_redLead,mu_millScale))","v":113.36167645983167},373.62818262454175,0.23278036358492468,121.8241614780142,{"$f":"tau_n(N359,W359,U359,D359)","v":70.446306683184048},{"$f":"tau_hMax(X359,Z359,AH359,W359,U359)","v":93.85625812290337},{"$f":"tau_hMin(X359,Y359,AS359,AE359,Z359,AI359,IF(L359=1,mu_redLead,mu_millScale),W359,U359)","v":29.479657680707938},64.376600442195439]
[348,"ORE1986","R; S",2,2,10,50,60,6,13,100,1,null,92.213999999999999,0.25,1110000,1,"exp 4",null,348,0.6,0.52631578947368418,0.2,122.952,30.738,{"$f":"IF(OR(X360>=1.6*D360*AD360,D360=1),calcLoadFraction(G360,F360,I360,J360,K360,D360,1),\"Condition for spring model not fulfilled\")","v":0.54214076788141241},{"$f":"IF(L360>2,L360,IF(L360=2,1,sigma_cl0(I360+J360)))","v":140.91415548460122},{"$f":"Sigma_cl(AA360,U360,V360,X360)","v":133.14302237964949},{"$f":"Sigma_cl(AA360,U360,V360,Y360)","v":138.97137220836331},{"$f":"sigma_Slip(AB360,W360,U360,IF(L360=1,mu_redLead,mu_millScale))","v":5.2285142729765326},{"$f":"sigma_Slip(AC360,W360,U360,IF(L360=1,mu_redLead,mu_millScale))","v":5.4573930359990266},{"$f":"Sigma_p(AB360,V360)","v":-26.825037555169867},{"$f":"Sigma_p(AC360,V360)","v":-27.999306399646787},{"$f":"beta_1(X360,AD360,Z360)","v":0.92156125548736512},{"$f":"beta_1(Y360,AE360,Z360)","v":0.6725103647372741},{"$f":"k_tHole(W360,U360)","v":2.512},{"$f":"K_t1Mu(Z360,AH360,D360,W360,U360,SIGN(X360),mu_millScale)","v":4.1789877077196245},{"$f":"K_t1Mu(Z360,AI360,D360,W360,U360,SIGN(Y360),mu_millScale)","v":3.7808801662072153},{"$f":"Sigma_hMax(AK360,X360,AF360)","v":486.98985908437339},{"$f":"Sigma_hMin(X360,Y360,AG360,AE360,AK360,AL360,AJ360,AI360,Z360,IF(L360=1,mu_redLead,mu_millScale))","v":113.36167645983167},373.62818262454175,0.23278036358492468,121.8241614780142,{"$f":"tau_n(N360,W360,U360,D360)","v":70.446306683184048},{"$f":"tau_hMax(X360,Z360,AH360,W360,U360)","v":93.85625812290337},{"$f":"tau_hMin(X360,Y360,AS360,AE360,Z360,AI360,IF(L360=1,mu_redLead,mu_millScale),W360,U360)","v":29.479657680707938},64.376600442195439]
[349,"ORE1986","R; S",2,2,10,50,60,6,13,100,1,null,92.213999999999999,0.25,1610000,1,"exp 5 ",null,349,0.6,0.52631578947368418,0.2,122.952,30.738,{"$f":"IF(OR(X361>=1.6*D361*AD361,D361=1),calcLoadFraction(G361,F361,I361,J361,K361,D361,1),\"Condition for spring model not fulfilled\")","v":0.54214076788141241},{"$f":"IF(L361>2,L361,IF(L361=2,1,sigma_cl0(I361+J361)))","v":140.91415548460122},{"$f":"Sigma_cl(AA361,U361,V361,X361)","v":133.14302237964949},{"$f":"Sigma_cl(AA361,U361,V361,Y361)","v":138.97137220836331},{"$f":"sigma_Slip(AB361,W361,U361,IF(L361=1,mu_redLead,mu_millScale))","v":5.2285142729765326},{"$f":"sigma_Slip(AC361,W361,U361,IF(L361=1,mu_redLead,mu_millScale))","v":5.4573930359990266},{"$f":"Sigma_p(AB361,V361)","v":-26.825037555169867},{"$f":"Sigma_p(AC361,V361)","v":-27.999306399646787},{"$f":"beta_1(X361,AD361,Z361)","v":0.92156125548736512},{"$f":"beta_1(Y361,AE361,Z361)","v":0.6725103647372741},{"$f":"k_tHole(W361,U361)","v":2.512},{"$f":"K_t1Mu(Z361,AH361,D361,W361,U361,SIGN(X361),mu_millScale)","v":4.1789877077196245},{"$f":"K_t1Mu(Z361,AI361,D361,W361,U361,SIGN(Y361),mu_millScale)","v":3.7808801662072153},{"$f":"Sigma_hMax(AK361,X361,AF361)","v":486.98985908437339},{"$f":"Sigma_hMin(X361,Y361,AG361,AE361,AK361,AL361,AJ361,AI361,Z361,IF(L361=1,mu_redLead,mu_millScale))","v":113.36167645983167},373.62818262454175,0.23278036358492468,121.8241614780142,{"$f":"tau_n(N361,W361,U361,D361)","v":70.446306683184048},{"$f":"tau_hMax(X361,Z361,AH361,W361,U361)","v":93.85625812290337},{"$f":"tau_hMin(X361,Y361,AS361,AE361,Z361,AI361,IF(L361=1,mu_redLead,mu_millScale),W361,U361)","v":29.479657680707938},64.376600442195439]
[350,"Parola1965","R; L",2,2,11.9,73,null,4.75,6.4,146,null,459,206.8427188,0,56900,1,"1FR 1",null,350,0.39915966386554619,1.0672645739910314,0.16301369863013698,206.8427188,0,{"$f":"IF(OR(X362>=1.6*D362*AD362,D362=1),calcLoadFraction(G362,F362,I362,J362,K362,D362,1),\"Condition for spring model not fulfilled\")","v":0.52013911268269919},{"$f":"IF(L362>2,L362,IF(L362=2,1,sigma_cl0(I362+J362)))","v":90.332439933688875},{"$f":"Sigma_cl(AA362,U362,V362,X362)","v":77.150285869977139},{"$f":"Sigma_cl(AA362,U362,V362,Y362)","v":90.332439933688875},{"$f":"sigma_Slip(AB362,W362,U362,IF(L362=1,mu_redLead,mu_millScale))","v":19.513288265481528},{"$f":"sigma_Slip(AC362,W362,U362,IF(L362=1,mu_redLead,mu_millScale))","v":22.847393503130363},{"$f":"Sigma_p(AB362,V362)","v":-31.324063218434326},{"$f":"Sigma_p(AC362,V362)","v":-36.676196688720452},{"$f":"beta_1(X362,AD362,Z362)","v":0.81862780445804517},{"$f":"beta_1(Y362,AE362,Z362)","v":0},{"$f":"k_tHole(W362,U362)","v":2.5863474629643437},{"$f":"K_t1Mu(Z362,AH362,D362,W362,U362,SIGN(X362),mu_millScale)","v":4.5644531528888788},{"$f":"K_t1Mu(Z362,AI362,D362,W362,U362,SIGN(Y362),mu_millScale)","v":1.9137172257266317},{"$f":"Sigma_hMax(AK362,X362,AF362)","v":912.79983676033339},{"$f":"Sigma_hMin(X362,Y362,AG362,AE362,AK362,AL362,AJ362,AI362,Z362,IF(L362=1,mu_redLead,mu_millScale))","v":57.76716407145485},855.03267268887851,6.3285686242538539E-2,272.40803452405822,{"$f":"tau_n(N362,W362,U362,D362)","v":134.93706546489477},{"$f":"tau_hMax(X362,Z362,AH362,W362,U362)","v":114.91249666074286},{"$f":"tau_hMin(X362,Y362,AS362,AE362,Z362,AI362,IF(L362=1,mu_redLead,mu_millScale),W362,U362)","v":24.379956965926684},90.53253969481618]
[351,"Parola1965","R; L",2,2,11.9,73,null,4.75,6.4,146,null,459,193.05320420000001,0,71400,1,"1FR 2",null,351,0.39915966386554619,1.0672645739910314,0.16301369863013698,193.05320420000001,0,{"$f":"IF(OR(X363>=1.6*D363*AD363,D363=1),calcLoadFraction(G363,F363,I363,J363,K363,D363,1),\"Condition for spring model not fulfilled\")","v":0.52013911268269919},{"$f":"IF(L363>2,L363,IF(L363=2,1,sigma_cl0(I363+J363)))","v":90.332439933688875},{"$f":"Sigma_cl(AA363,U363,V363,X363)","v":78.029096141740993},{"$f":"Sigma_cl(AA363,U363,V363,Y363)","v":90.332439933688875},{"$f":"sigma_Slip(AB363,W363,U363,IF(L363=1,mu_redLead,mu_millScale))","v":19.735561948206367},{"$f":"sigma_Slip(AC363,W363,U363,IF(L363=1,mu_redLead,mu_millScale))","v":22.847393503130363},{"$f":"Sigma_p(AB363,V363)","v":-31.680872116798405},{"$f":"Sigma_p(AC363,V363)","v":-36.676196688720452},{"$f":"beta_1(X363,AD363,Z363)","v":0.80345908649815867},{"$f":"beta_1(Y363,AE363,Z363)","v":0},{"$f":"k_tHole(W363,U363)","v":2.5863474629643437},{"$f":"K_t1Mu(Z363,AH363,D363,W363,U363,SIGN(X363),mu_millScale)","v":4.5367122530079547},{"$f":"K_t1Mu(Z363,AI363,D363,W363,U363,SIGN(Y363),mu_millScale)","v":1.9137172257266317},{"$f":"Sigma_hMax(AK363,X363,AF363)","v":844.14596485978836},{"$f":"Sigma_hMin(X363,Y363,AG363,AE363,AK363,AL363,AJ363,AI363,Z363,IF(L363=1,mu_redLead,mu_millScale))","v":56.068669745249537},788.07729511453886,6.6420586106293214E-2,251.16587407881764,{"$f":"tau_n(N363,W363,U363,D363)","v":125.94126109187025},{"$f":"tau_hMax(X363,Z363,AH363,W363,U363)","v":105.26434986215655},{"$f":"tau_hMin(X363,Y363,AS363,AE363,Z363,AI363,IF(L363=1,mu_redLead,mu_millScale),W363,U363)","v":23.485954126527282},81.77839573562926]
[352,"Parola1965","R; L",2,2,11.9,73,null,4.75,6.4,146,null,459,193.05320420000001,0,80900,1,"1FR 3",null,352,0.39915966386554619,1.0672645739910314,0.16301369863013698,193.05320420000001,0,{"$f":"IF(OR(X364>=1.6*D364*AD364,D364=1),calcLoadFraction(G364,F364,I364,J364,K364,D364,1),\"Condition for spring model not fulfilled\")","v":0.52013911268269919},{"$f":"IF(L364>2,L364,IF(L364=2,1,sigma_cl0(I364+J364)))","v":90.332439933688875},{"$f":"Sigma_cl(AA364,U364,V364,X364)","v":78.029096141740993},{"$f":"Sigma_cl(AA364,U364,V364,Y364)","v":90.332439933688875},{"$f":"sigma_Slip(AB364,W364,U364,IF(L364=1,mu_redLead,mu_millScale))","v":19.735561948206367},{"$f":"sigma_Slip(AC364,W364,U364,IF(L364=1,mu_redLead,mu_millScale))","v":22.847393503130363},{"$f":"Sigma_p(AB364,V364)","v":-31.680872116798405},{"$f":"Sigma_p(AC364,V364)","v":-36.676196688720452},{"$f":"beta_1(X364,AD364,Z364)","v":0.80345908649815867},{"$f":"beta_1(Y364,AE364,Z364)","v":0},{"$f":"k_tHole(W364,U364)","v":2.5863474629643437},{"$f":"K_t1Mu(Z364,AH364,D364,W364,U364,SIGN(X364),mu_millScale)","v":4.5367122530079547},{"$f":"K_t1Mu(Z364,AI364,D364,W364,U364,SIGN(Y364),mu_millScale)","v":1.9137172257266317},{"$f":"Sigma_hMax(AK364,X364,AF364)","v":844.14596485978836},{"$f":"Sigma_hMin(X364,Y364,AG364,AE364,AK364,AL364,AJ364,AI364,Z364,IF(L364=1,mu_redLead,mu_millScale))","v":56.068669745249537},788.07729511453886,6.6420586106293214E-2,251.16587407881764,{"$f":"tau_n(N364,W364,U364,D364)","v":125.94126109187025},{"$f":"tau_hMax(X364,Z364,AH364,W364,U364)","v":105.26434986215655},{"$f":"tau_hMin(X364,Y364,AS364,AE364,Z364,AI364,IF(L364=1,mu_redLead,mu_millScale),W364,U364)","v":23.485954126527282},81.77839573562926]
[353,"Parola1965","R; L",2,2,11.9,73,null,4.75,6.4,146,null,459,124.1056313,0,417200,1,"1FR 4",null,353,0.39915966386554619,1.0672645739910314,0.16301369863013698,124.1056313,0,{"$f":"IF(OR(X365>=1.6*D365*AD365,D365=1),calcLoadFraction(G365,F365,I365,J365,K365,D365,1),\"Condition for spring model not fulfilled\")","v":0.52013911268269919},{"$f":"IF(L365>2,L365,IF(L365=2,1,sigma_cl0(I365+J365)))","v":90.332439933688875},{"$f":"Sigma_cl(AA365,U365,V365,X365)","v":82.423147494187219},{"$f":"Sigma_cl(AA365,U365,V365,Y365)","v":90.332439933688875},{"$f":"sigma_Slip(AB365,W365,U365,IF(L365=1,mu_redLead,mu_millScale))","v":20.846930360218675},{"$f":"sigma_Slip(AC365,W365,U365,IF(L365=1,mu_redLead,mu_millScale))","v":22.847393503130363},{"$f":"Sigma_p(AB365,V365)","v":-33.464916606031267},{"$f":"Sigma_p(AC365,V365)","v":-36.676196688720452},{"$f":"beta_1(X365,AD365,Z365)","v":0.67705310370281135},{"$f":"beta_1(Y365,AE365,Z365)","v":0},{"$f":"k_tHole(W365,U365)","v":2.5863474629643437},{"$f":"K_t1Mu(Z365,AH365,D365,W365,U365,SIGN(X365),mu_millScale)","v":4.239988922958263},{"$f":"K_t1Mu(Z365,AI365,D365,W365,U365,SIGN(Y365),mu_millScale)","v":1.9137172257266317},{"$f":"Sigma_hMax(AK365,X365,AF365)","v":492.74158538271104},{"$f":"Sigma_hMin(X365,Y365,AG365,AE365,AK365,AL365,AJ365,AI365,Z365,IF(L365=1,mu_redLead,mu_millScale))","v":41.395713761872827},451.34587162083824,8.4011000877307507E-2,144.14096297374223,{"$f":"tau_n(N365,W365,U365,D365)","v":80.962239291984176},{"$f":"tau_hMax(X365,Z365,AH365,W365,U365)","v":57.023615939192254},{"$f":"tau_hMin(X365,Y365,AS365,AE365,Z365,AI365,IF(L365=1,mu_redLead,mu_millScale),W365,U365)","v":17.277306422216441},39.746309516975813]
[354,"Parola1965","R; L",2,2,11.9,73,null,4.75,6.4,146,null,459,137.89514589999999,0,315700,1,"1FR 5",null,354,0.39915966386554619,1.0672645739910314,0.16301369863013698,137.89514589999999,0,{"$f":"IF(OR(X366>=1.6*D366*AD366,D366=1),calcLoadFraction(G366,F366,I366,J366,K366,D366,1),\"Condition for spring model not fulfilled\")","v":0.52013911268269919},{"$f":"IF(L366>2,L366,IF(L366=2,1,sigma_cl0(I366+J366)))","v":90.332439933688875},{"$f":"Sigma_cl(AA366,U366,V366,X366)","v":81.54433722242338},{"$f":"Sigma_cl(AA366,U366,V366,Y366)","v":90.332439933688875},{"$f":"sigma_Slip(AB366,W366,U366,IF(L366=1,mu_redLead,mu_millScale))","v":20.624656677493839},{"$f":"sigma_Slip(AC366,W366,U366,IF(L366=1,mu_redLead,mu_millScale))","v":22.847393503130363},{"$f":"Sigma_p(AB366,V366)","v":-33.108107707667187},{"$f":"Sigma_p(AC366,V366)","v":-36.676196688720452},{"$f":"beta_1(X366,AD366,Z366)","v":0.71244677892584252},{"$f":"beta_1(Y366,AE366,Z366)","v":0},{"$f":"k_tHole(W366,U366)","v":2.5863474629643437},{"$f":"K_t1Mu(Z366,AH366,D366,W366,U366,SIGN(X366),mu_millScale)","v":4.3339059641311195},{"$f":"K_t1Mu(Z366,AI366,D366,W366,U366,SIGN(Y366),mu_millScale)","v":1.9137172257266317},{"$f":"Sigma_hMax(AK366,X366,AF366)","v":564.5164875330737},{"$f":"Sigma_hMin(X366,Y366,AG366,AE366,AK366,AL366,AJ366,AI366,Z366,IF(L366=1,mu_redLead,mu_millScale))","v":45.565885893997752},518.9506016390759,8.071666089527306E-2,165.66683235078344,{"$f":"tau_n(N366,W366,U366,D366)","v":89.958043665008688},{"$f":"tau_hMax(X366,Z366,AH366,W366,U366)","v":66.67176273777855},{"$f":"tau_hMin(X366,Y366,AS366,AE366,Z366,AI366,IF(L366=1,mu_redLead,mu_millScale),W366,U366)","v":18.831185527708573},47.840577210069981]
[355,"Parola1965","R; L",2,2,11.9,73,null,4.75,6.4,146,null,459,124.1056313,0,685600,1,"1FR 6",null,355,0.39915966386554619,1.0672645739910314,0.16301369863013698,124.1056313,0,{"$f":"IF(OR(X367>=1.6*D367*AD367,D367=1),calcLoadFraction(G367,F367,I367,J367,K367,D367,1),\"Condition for spring model not fulfilled\")","v":0.52013911268269919},{"$f":"IF(L367>2,L367,IF(L367=2,1,sigma_cl0(I367+J367)))","v":90.332439933688875},{"$f":"Sigma_cl(AA367,U367,V367,X367)","v":82.423147494187219},{"$f":"Sigma_cl(AA367,U367,V367,Y367)","v":90.332439933688875},{"$f":"sigma_Slip(AB367,W367,U367,IF(L367=1,mu_redLead,mu_millScale))","v":20.846930360218675},{"$f":"sigma_Slip(AC367,W367,U367,IF(L367=1,mu_redLead,mu_millScale))","v":22.847393503130363},{"$f":"Sigma_p(AB367,V367)","v":-33.464916606031267},{"$f":"Sigma_p(AC367,V367)","v":-36.676196688720452},{"$f":"beta_1(X367,AD367,Z367)","v":0.67705310370281135},{"$f":"beta_1(Y367,AE367,Z367)","v":0},{"$f":"k_tHole(W367,U367)","v":2.5863474629643437},{"$f":"K_t1Mu(Z367,AH367,D367,W367,U367,SIGN(X367),mu_millScale)","v":4.239988922958263},{"$f":"K_t1Mu(Z367,AI367,D367,W367,U367,SIGN(Y367),mu_millScale)","v":1.9137172257266317},{"$f":"Sigma_hMax(AK367,X367,AF367)","v":492.74158538271104},{"$f":"Sigma_hMin(X367,Y367,AG367,AE367,AK367,AL367,AJ367,AI367,Z367,IF(L367=1,mu_redLead,mu_millScale))","v":41.395713761872827},451.34587162083824,8.4011000877307507E-2,144.14096297374223,{"$f":"tau_n(N367,W367,U367,D367)","v":80.962239291984176},{"$f":"tau_hMax(X367,Z367,AH367,W367,U367)","v":57.023615939192254},{"$f":"tau_hMin(X367,Y367,AS367,AE367,Z367,AI367,IF(L367=1,mu_redLead,mu_millScale),W367,U367)","v":17.277306422216441},39.746309516975813]
[356,"Parola1965","R; L",2,2,11.9,73,null,4.75,6.4,146,null,459,220.63223339999999,-1,66500,0,"1FR 8",null,356,0.39915966386554619,1.0672645739910314,0.16301369863013698,110.31611669999999,-110.31611669999999,{"$f":"IF(OR(X368>=1.6*D368*AD368,D368=1),calcLoadFraction(G368,F368,I368,J368,K368,D368,1),\"Condition for spring model not fulfilled\")","v":0.52013911268269919},{"$f":"IF(L368>2,L368,IF(L368=2,1,sigma_cl0(I368+J368)))","v":90.332439933688875},{"$f":"Sigma_cl(AA368,U368,V368,X368)","v":83.301957765951073},{"$f":"Sigma_cl(AA368,U368,V368,Y368)","v":97.362922101426676},{"$f":"sigma_Slip(AB368,W368,U368,IF(L368=1,mu_redLead,mu_millScale))","v":21.069204042943522},{"$f":"sigma_Slip(AC368,W368,U368,IF(L368=1,mu_redLead,mu_millScale))","v":24.625582963317203},{"$f":"Sigma_p(AB368,V368)","v":-33.821725504395346},{"$f":"Sigma_p(AC368,V368)","v":-39.530667873045552},{"$f":"beta_1(X368,AD368,Z368)","v":0.63281100966600112},{"$f":"beta_1(Y368,AE368,Z368)","v":0.57083129831309476},{"$f":"k_tHole(W368,U368)","v":2.5863474629643437},{"$f":"K_t1Mu(Z368,AH368,D368,W368,U368,SIGN(X368),mu_millScale)","v":4.112437508259231},{"$f":"K_t1Mu(Z368,AI368,D368,W368,U368,SIGN(Y368),mu_millScale)","v":0.21024764763884257},{"$f":"Sigma_hMax(AK368,X368,AF368)","v":419.8464105781872},{"$f":"Sigma_hMin(X368,Y368,AG368,AE368,AK368,AL368,AJ368,AI368,Z368,IF(L368=1,mu_redLead,mu_millScale))","v":-137.23867665220411},557.08508723039131,-0.32687828976126593,171.94975302695281,{"$f":"tau_n(N368,W368,U368,D368)","v":143.9328698379193},{"$f":"tau_hMax(X368,Z368,AH368,W368,U368)","v":47.375469140605922},{"$f":"tau_hMin(X368,Y368,AS368,AE368,Z368,AI368,IF(L368=1,mu_redLead,mu_millScale),W368,U368)","v":-42.735350909898983},90.110820050504913]
[357,"Parola1965","R; L",2,2,11.9,73,null,4.75,6.4,146,null,459,165.474175,-1,390400,0,"1FR 9",null,357,0.39915966386554619,1.0672645739910314,0.16301369863013698,82.737087500000001,-82.737087500000001,{"$f":"IF(OR(X369>=1.6*D369*AD369,D369=1),calcLoadFraction(G369,F369,I369,J369,K369,D369,1),\"Condition for spring model not fulfilled\")","v":0.52013911268269919},{"$f":"IF(L369>2,L369,IF(L369=2,1,sigma_cl0(I369+J369)))","v":90.332439933688875},{"$f":"Sigma_cl(AA369,U369,V369,X369)","v":85.059578309478781},{"$f":"Sigma_cl(AA369,U369,V369,Y369)","v":95.605301557898969},{"$f":"sigma_Slip(AB369,W369,U369,IF(L369=1,mu_redLead,mu_millScale))","v":21.513751408393208},{"$f":"sigma_Slip(AC369,W369,U369,IF(L369=1,mu_redLead,mu_millScale))","v":24.181035597867517},{"$f":"Sigma_p(AB369,V369)","v":-34.535343301123504},{"$f":"Sigma_p(AC369,V369)","v":-38.817050076317393},{"$f":"beta_1(X369,AD369,Z369)","v":0.50008472750209787},{"$f":"beta_1(Y369,AE369,Z369)","v":0.4381050161491914},{"$f":"k_tHole(W369,U369)","v":2.5863474629643437},{"$f":"K_t1Mu(Z369,AH369,D369,W369,U369,SIGN(X369),mu_millScale)","v":3.6761458154707705},{"$f":"K_t1Mu(Z369,AI369,D369,W369,U369,SIGN(Y369),mu_millScale)","v":0.60597869555357875},{"$f":"Sigma_hMax(AK369,X369,AF369)","v":269.61825469624051},{"$f":"Sigma_hMin(X369,Y369,AG369,AE369,AK369,AL369,AJ369,AI369,Z369,IF(L369=1,mu_redLead,mu_millScale))","v":-138.39035866435401},408.0086133605945,-0.51328259957868383,124.73720806777186,{"$f":"tau_n(N369,W369,U369,D369)","v":107.94965234582119},{"$f":"tau_hMax(X369,Z369,AH369,W369,U369)","v":28.079175543433298},{"$f":"tau_hMin(X369,Y369,AS369,AE369,Z369,AI369,IF(L369=1,mu_redLead,mu_millScale),W369,U369)","v":-24.599086871454638},52.678262414887939]
[358,"Parola1965","R; L",2,2,11.9,73,null,4.75,6.4,146,null,459,165.474175,-1,1907300,1,"1FR 10",null,358,0.39915966386554619,1.0672645739910314,0.16301369863013698,82.737087500000001,-82.737087500000001,{"$f":"IF(OR(X370>=1.6*D370*AD370,D370=1),calcLoadFraction(G370,F370,I370,J370,K370,D370,1),\"Condition for spring model not fulfilled\")","v":0.52013911268269919},{"$f":"IF(L370>2,L370,IF(L370=2,1,sigma_cl0(I370+J370)))","v":90.332439933688875},{"$f":"Sigma_cl(AA370,U370,V370,X370)","v":85.059578309478781},{"$f":"Sigma_cl(AA370,U370,V370,Y370)","v":95.605301557898969},{"$f":"sigma_Slip(AB370,W370,U370,IF(L370=1,mu_redLead,mu_millScale))","v":21.513751408393208},{"$f":"sigma_Slip(AC370,W370,U370,IF(L370=1,mu_redLead,mu_millScale))","v":24.181035597867517},{"$f":"Sigma_p(AB370,V370)","v":-34.535343301123504},{"$f":"Sigma_p(AC370,V370)","v":-38.817050076317393},{"$f":"beta_1(X370,AD370,Z370)","v":0.50008472750209787},{"$f":"beta_1(Y370,AE370,Z370)","v":0.4381050161491914},{"$f":"k_tHole(W370,U370)","v":2.5863474629643437},{"$f":"K_t1Mu(Z370,AH370,D370,W370,U370,SIGN(X370),mu_millScale)","v":3.6761458154707705},{"$f":"K_t1Mu(Z370,AI370,D370,W370,U370,SIGN(Y370),mu_millScale)","v":0.60597869555357875},{"$f":"Sigma_hMax(AK370,X370,AF370)","v":269.61825469624051},{"$f":"Sigma_hMin(X370,Y370,AG370,AE370,AK370,AL370,AJ370,AI370,Z370,IF(L370=1,mu_redLead,mu_millScale))","v":-138.39035866435401},408.0086133605945,-0.51328259957868383,124.73720806777186,{"$f":"tau_n(N370,W370,U370,D370)","v":107.94965234582119},{"$f":"tau_hMax(X370,Z370,AH370,W370,U370)","v":28.079175543433298},{"$f":"tau_hMin(X370,Y370,AS370,AE370,Z370,AI370,IF(L370=1,mu_redLead,mu_millScale),W370,U370)","v":-24.599086871454638},52.678262414887939]
[359,"Parola1965","R; L",2,2,11.9,73,null,4.75,6.4,146,null,459,193.05320420000001,-1,945200,1,"1FR 11",null,{"$f":"A371","v":359},0.39915966386554619,1.0672645739910314,0.16301369863013698,96.526602100000005,-96.526602100000005,{"$f":"IF(OR(X371>=1.6*D371*AD371,D371=1),calcLoadFraction(G371,F371,I371,J371,K371,D371,1),\"Condition for spring model not fulfilled\")","v":0.52013911268269919},{"$f":"IF(L371>2,L371,IF(L371=2,1,sigma_cl0(I371+J371)))","v":90.332439933688875},{"$f":"Sigma_cl(AA371,U371,V371,X371)","v":84.180768037714927},{"$f":"Sigma_cl(AA371,U371,V371,Y371)","v":96.484111829662822},{"$f":"sigma_Slip(AB371,W371,U371,IF(L371=1,mu_redLead,mu_millScale))","v":21.291477725668365},{"$f":"sigma_Slip(AC371,W371,U371,IF(L371=1,mu_redLead,mu_millScale))","v":24.40330928059236},{"$f":"Sigma_p(AB371,V371)","v":-34.178534402759425},{"$f":"Sigma_p(AC371,V371)","v":-39.173858974681472},{"$f":"beta_1(X371,AD371,Z371)","v":0.57592831731986416},{"$f":"beta_1(Y371,AE371,Z371)","v":0.51394860596695779},{"$f":"k_tHole(W371,U371)","v":2.5863474629643437},{"$f":"K_t1Mu(Z371,AH371,D371,W371,U371,SIGN(X371),mu_millScale)","v":3.9340771037152322},{"$f":"K_t1Mu(Z371,AI371,D371,W371,U371,SIGN(Y371),mu_millScale)","v":0.3783293329592578},{"$f":"Sigma_hMax(AK371,X371,AF371)","v":345.56456081828122},{"$f":"Sigma_hMin(X371,Y371,AG371,AE371,AK371,AL371,AJ371,AI371,Z371,IF(L371=1,mu_redLead,mu_millScale))","v":-139.31885995347932},484.88342077176054,-0.4031630431765878,149.03529581532041,{"$f":"tau_n(N371,W371,U371,D371)","v":125.94126109187025},{"$f":"tau_hMax(X371,Z371,AH371,W371,U371)","v":37.727322342019612},{"$f":"tau_hMin(X371,Y371,AS371,AE371,Z371,AI371,IF(L371=1,mu_redLead,mu_millScale),W371,U371)","v":-33.667218890676814},71.394541232696426]
[360,"Parola1965","R; L",2,2,11.9,73,null,4.75,6.4,146,null,459,103.4213594,0.5,951400,1,"1FR 15",null,360,0.39915966386554619,1.0672645739910314,0.16301369863013698,206.8427188,103.4213594,{"$f":"IF(OR(X372>=1.6*D372*AD372,D372=1),calcLoadFraction(G372,F372,I372,J372,K372,D372,1),\"Condition for spring model not fulfilled\")","v":0.52013911268269919},{"$f":"IF(L372>2,L372,IF(L372=2,1,sigma_cl0(I372+J372)))","v":90.332439933688875},{"$f":"Sigma_cl(AA372,U372,V372,X372)","v":77.150285869977139},{"$f":"Sigma_cl(AA372,U372,V372,Y372)","v":83.741362901833},{"$f":"sigma_Slip(AB372,W372,U372,IF(L372=1,mu_redLead,mu_millScale))","v":19.513288265481528},{"$f":"sigma_Slip(AC372,W372,U372,IF(L372=1,mu_redLead,mu_millScale))","v":21.180340884305945},{"$f":"Sigma_p(AB372,V372)","v":-31.324063218434326},{"$f":"Sigma_p(AC372,V372)","v":-34.000129953577385},{"$f":"beta_1(X372,AD372,Z372)","v":0.81862780445804517},{"$f":"beta_1(Y372,AE372,Z372)","v":0.60626575323963727},{"$f":"k_tHole(W372,U372)","v":2.5863474629643437},{"$f":"K_t1Mu(Z372,AH372,D372,W372,U372,SIGN(X372),mu_millScale)","v":4.5644531528888788},{"$f":"K_t1Mu(Z372,AI372,D372,W372,U372,SIGN(Y372),mu_millScale)","v":4.0310531312962938},{"$f":"Sigma_hMax(AK372,X372,AF372)","v":912.79983676033339},{"$f":"Sigma_hMin(X372,Y372,AG372,AE372,AK372,AL372,AJ372,AI372,Z372,IF(L372=1,mu_redLead,mu_millScale))","v":447.43712211916193},465.36271464117146,0.49018098393530052,161.42608444717968,{"$f":"tau_n(N372,W372,U372,D372)","v":67.468532732447386},{"$f":"tau_hMax(X372,Z372,AH372,W372,U372)","v":114.91249666074286},{"$f":"tau_hMin(X372,Y372,AS372,AE372,Z372,AI372,IF(L372=1,mu_redLead,mu_millScale),W372,U372)","v":71.008420878662548},43.904075782080312]
[361,"Parola1965","R; L",2,2,11.9,73,null,4.75,6.4,146,null,459,282.68504899999999,-1,221200,1,"1FR 16",null,361,0.39915966386554619,1.0672645739910314,0.16301369863013698,141.3425245,-141.3425245,{"$f":"IF(OR(X373>=1.6*D373*AD373,D373=1),calcLoadFraction(G373,F373,I373,J373,K373,D373,1),\"Condition for spring model not fulfilled\")","v":0.52013911268269919},{"$f":"IF(L373>2,L373,IF(L373=2,1,sigma_cl0(I373+J373)))","v":90.332439933688875},{"$f":"Sigma_cl(AA373,U373,V373,X373)","v":81.324634657668923},{"$f":"Sigma_cl(AA373,U373,V373,Y373)","v":99.340245209708826},{"$f":"sigma_Slip(AB373,W373,U373,IF(L373=1,mu_redLead,mu_millScale))","v":20.569088257618578},{"$f":"sigma_Slip(AC373,W373,U373,IF(L373=1,mu_redLead,mu_millScale))","v":25.125698748642147},{"$f":"Sigma_p(AB373,V373)","v":-33.018905484369938},{"$f":"Sigma_p(AC373,V373)","v":-40.333487893070966},{"$f":"beta_1(X373,AD373,Z373)","v":0.72021612215678366},{"$f":"beta_1(Y373,AE373,Z373)","v":0.65823641080387729},{"$f":"k_tHole(W373,U373)","v":2.5863474629643437},{"$f":"K_t1Mu(Z373,AH373,D373,W373,U373,SIGN(X373),mu_millScale)","v":4.3534726813175322},{"$f":"K_t1Mu(Z373,AI373,D373,W373,U373,SIGN(Y373),mu_millScale)","v":0},{"$f":"Sigma_hMax(AK373,X373,AF373)","v":582.31191363483401},{"$f":"Sigma_hMin(X373,Y373,AG373,AE373,AK373,AL373,AJ373,AI373,Z373,IF(L373=1,mu_redLead,mu_millScale))","v":-130.20298137598451},712.51489501081846,-0.22359662979115072,221.35904964342407,{"$f":"tau_n(N373,W373,U373,D373)","v":184.41398945129311},{"$f":"tau_hMax(X373,Z373,AH373,W373,U373)","v":69.0837994024415},{"$f":"tau_hMin(X373,Y373,AS373,AE373,Z373,AI373,IF(L373=1,mu_redLead,mu_millScale),W373,U373)","v":-63.138647920268333},132.22244732270983]
[362,"Parola1965","R; L",2,2,11.9,73,null,4.75,6.4,146,null,459,193.05320420000001,-1,929300,0,"1FR 17",null,362,0.39915966386554619,1.0672645739910314,0.16301369863013698,96.526602100000005,-96.526602100000005,{"$f":"IF(OR(X374>=1.6*D374*AD374,D374=1),calcLoadFraction(G374,F374,I374,J374,K374,D374,1),\"Condition for spring model not fulfilled\")","v":0.52013911268269919},{"$f":"IF(L374>2,L374,IF(L374=2,1,sigma_cl0(I374+J374)))","v":90.332439933688875},{"$f":"Sigma_cl(AA374,U374,V374,X374)","v":84.180768037714927},{"$f":"Sigma_cl(AA374,U374,V374,Y374)","v":96.484111829662822},{"$f":"sigma_Slip(AB374,W374,U374,IF(L374=1,mu_redLead,mu_millScale))","v":21.291477725668365},{"$f":"sigma_Slip(AC374,W374,U374,IF(L374=1,mu_redLead,mu_millScale))","v":24.40330928059236},{"$f":"Sigma_p(AB374,V374)","v":-34.178534402759425},{"$f":"Sigma_p(AC374,V374)","v":-39.173858974681472},{"$f":"beta_1(X374,AD374,Z374)","v":0.57592831731986416},{"$f":"beta_1(Y374,AE374,Z374)","v":0.51394860596695779},{"$f":"k_tHole(W374,U374)","v":2.5863474629643437},{"$f":"K_t1Mu(Z374,AH374,D374,W374,U374,SIGN(X374),mu_millScale)","v":3.9340771037152322},{"$f":"K_t1Mu(Z374,AI374,D374,W374,U374,SIGN(Y374),mu_millScale)","v":0.3783293329592578},{"$f":"Sigma_hMax(AK374,X374,AF374)","v":345.56456081828122},{"$f":"Sigma_hMin(X374,Y374,AG374,AE374,AK374,AL374,AJ374,AI374,Z374,IF(L374=1,mu_redLead,mu_millScale))","v":-139.31885995347932},484.88342077176054,-0.4031630431765878,149.03529581532041,{"$f":"tau_n(N374,W374,U374,D374)","v":125.94126109187025},{"$f":"tau_hMax(X374,Z374,AH374,W374,U374)","v":37.727322342019612},{"$f":"tau_hMin(X374,Y374,AS374,AE374,Z374,AI374,IF(L374=1,mu_redLead,mu_millScale),W374,U374)","v":-33.667218890676814},71.394541232696426]
[363,"Parola1965","R; L",2,2,11.9,73,null,4.75,6.4,146,null,459,131.00038860000001,0.5,232000,0,"1FR 18",null,363,0.39915966386554619,1.0672645739910314,0.16301369863013698,262.00077720000002,131.00038860000001,{"$f":"IF(OR(X375>=1.6*D375*AD375,D375=1),calcLoadFraction(G375,F375,I375,J375,K375,D375,1),\"Condition for spring model not fulfilled\")","v":0.52013911268269919},{"$f":"IF(L375>2,L375,IF(L375=2,1,sigma_cl0(I375+J375)))","v":90.332439933688875},{"$f":"Sigma_cl(AA375,U375,V375,X375)","v":73.635044782921725},{"$f":"Sigma_cl(AA375,U375,V375,Y375)","v":81.983742358305292},{"$f":"sigma_Slip(AB375,W375,U375,IF(L375=1,mu_redLead,mu_millScale))","v":18.624193534582155},{"$f":"sigma_Slip(AC375,W375,U375,IF(L375=1,mu_redLead,mu_millScale))","v":20.735793518856255},{"$f":"Sigma_p(AB375,V375)","v":-29.896827624978005},{"$f":"Sigma_p(AC375,V375)","v":-33.286512156849227},{"$f":"beta_1(X375,AD375,Z375)","v":0.86333560474868021},{"$f":"beta_1(Y375,AE375,Z375)","v":0.69568135382090723},{"$f":"k_tHole(W375,U375)","v":2.5863474629643437},{"$f":"K_t1Mu(Z375,AH375,D375,W375,U375,SIGN(X375),mu_millScale)","v":4.6350047170592452},{"$f":"K_t1Mu(Z375,AI375,D375,W375,U375,SIGN(Y375),mu_millScale)","v":4.2903744801453767},{"$f":"Sigma_hMax(AK375,X375,AF375)","v":1184.4780105702105},{"$f":"Sigma_hMin(X375,Y375,AG375,AE375,AK375,AL375,AJ375,AI375,Z375,IF(L375=1,mu_redLead,mu_millScale))","v":563.44680369299249},621.03120687721798,0.47569207588897988,214.35945798940418,{"$f":"tau_n(N375,W375,U375,D375)","v":85.460141478496439},{"$f":"tau_hMax(X375,Z375,AH375,W375,U375)","v":153.50508385508815},{"$f":"tau_hMin(X375,Y375,AS375,AE375,Z375,AI375,IF(L375=1,mu_redLead,mu_millScale),W375,U375)","v":92.50205977884994},61.003024076238205]
[364,"Parola1965","R; L",2,2,11.9,73,null,4.75,6.4,146,null,459,289.57980629999997,-1,103800,1,"1FR 20",null,364,0.39915966386554619,1.0672645739910314,0.16301369863013698,144.78990314999999,-144.78990314999999,{"$f":"IF(OR(X376>=1.6*D376*AD376,D376=1),calcLoadFraction(G376,F376,I376,J376,K376,D376,1),\"Condition for spring model not fulfilled\")","v":0.52013911268269919},{"$f":"IF(L376>2,L376,IF(L376=2,1,sigma_cl0(I376+J376)))","v":90.332439933688875},{"$f":"Sigma_cl(AA376,U376,V376,X376)","v":81.104932089727967},{"$f":"Sigma_cl(AA376,U376,V376,Y376)","v":99.559947777649782},{"$f":"sigma_Slip(AB376,W376,U376,IF(L376=1,mu_redLead,mu_millScale))","v":20.51351983693737},{"$f":"sigma_Slip(AC376,W376,U376,IF(L376=1,mu_redLead,mu_millScale))","v":25.181267169323359},{"$f":"Sigma_p(AB376,V376)","v":-32.929703259778918},{"$f":"Sigma_p(AC376,V376)","v":-40.422690117661979},{"$f":"beta_1(X376,AD376,Z376)","v":0.7276154967720605},{"$f":"beta_1(Y376,AE376,Z376)","v":0.66563578541915402},{"$f":"k_tHole(W376,U376)","v":2.5863474629643437},{"$f":"K_t1Mu(Z376,AH376,D376,W376,U376,SIGN(X376),mu_millScale)","v":4.3717404830202824},{"$f":"K_t1Mu(Z376,AI376,D376,W376,U376,SIGN(Y376),mu_millScale)","v":0},{"$f":"Sigma_hMax(AK376,X376,AF376)","v":600.05417787366196},{"$f":"Sigma_hMin(X376,Y376,AG376,AE376,AK376,AL376,AJ376,AI376,Z376,IF(L376=1,mu_redLead,mu_millScale))","v":-130.80074501600075},730.8549228896627,-0.2179815587310853,227.14393936331092,{"$f":"tau_n(N376,W376,U376,D376)","v":188.91189163780535},{"$f":"tau_hMax(X376,Z376,AH376,W376,U376)","v":71.495836102088077},{"$f":"tau_hMin(X376,Y376,AS376,AE376,Z376,AI376,IF(L376=1,mu_redLead,mu_millScale),W376,U376)","v":-65.405680925073867},136.90151702716196]
[365,"Parola1965","R; L",2,2,11.9,73,null,4.75,6.4,146,null,459,165.474175,-1,1836400,0,"1FR 21",null,365,0.39915966386554619,1.0672645739910314,0.16301369863013698,82.737087500000001,-82.737087500000001,{"$f":"IF(OR(X377>=1.6*D377*AD377,D377=1),calcLoadFraction(G377,F377,I377,J377,K377,D377,1),\"Condition for spring model not fulfilled\")","v":0.52013911268269919},{"$f":"IF(L377>2,L377,IF(L377=2,1,sigma_cl0(I377+J377)))","v":90.332439933688875},{"$f":"Sigma_cl(AA377,U377,V377,X377)","v":85.059578309478781},{"$f":"Sigma_cl(AA377,U377,V377,Y377)","v":95.605301557898969},{"$f":"sigma_Slip(AB377,W377,U377,IF(L377=1,mu_redLead,mu_millScale))","v":21.513751408393208},{"$f":"sigma_Slip(AC377,W377,U377,IF(L377=1,mu_redLead,mu_millScale))","v":24.181035597867517},{"$f":"Sigma_p(AB377,V377)","v":-34.535343301123504},{"$f":"Sigma_p(AC377,V377)","v":-38.817050076317393},{"$f":"beta_1(X377,AD377,Z377)","v":0.50008472750209787},{"$f":"beta_1(Y377,AE377,Z377)","v":0.4381050161491914},{"$f":"k_tHole(W377,U377)","v":2.5863474629643437},{"$f":"K_t1Mu(Z377,AH377,D377,W377,U377,SIGN(X377),mu_millScale)","v":3.6761458154707705},{"$f":"K_t1Mu(Z377,AI377,D377,W377,U377,SIGN(Y377),mu_millScale)","v":0.60597869555357875},{"$f":"Sigma_hMax(AK377,X377,AF377)","v":269.61825469624051},{"$f":"Sigma_hMin(X377,Y377,AG377,AE377,AK377,AL377,AJ377,AI377,Z377,IF(L377=1,mu_redLead,mu_millScale))","v":-138.39035866435401},408.0086133605945,-0.51328259957868383,124.73720806777186,{"$f":"tau_n(N377,W377,U377,D377)","v":107.94965234582119},{"$f":"tau_hMax(X377,Z377,AH377,W377,U377)","v":28.079175543433298},{"$f":"tau_hMin(X377,Y377,AS377,AE377,Z377,AI377,IF(L377=1,mu_redLead,mu_millScale),W377,U377)","v":-24.599086871454638},52.678262414887939]
[366,"Parola1965","R; L",2,2,11.9,73,null,4.75,6.4,146,null,459,131.00038860000001,0.5,193100,0,"1FR 22",null,366,0.39915966386554619,1.0672645739910314,0.16301369863013698,262.00077720000002,131.00038860000001,{"$f":"IF(OR(X378>=1.6*D378*AD378,D378=1),calcLoadFraction(G378,F378,I378,J378,K378,D378,1),\"Condition for spring model not fulfilled\")","v":0.52013911268269919},{"$f":"IF(L378>2,L378,IF(L378=2,1,sigma_cl0(I378+J378)))","v":90.332439933688875},{"$f":"Sigma_cl(AA378,U378,V378,X378)","v":73.635044782921725},{"$f":"Sigma_cl(AA378,U378,V378,Y378)","v":81.983742358305292},{"$f":"sigma_Slip(AB378,W378,U378,IF(L378=1,mu_redLead,mu_millScale))","v":18.624193534582155},{"$f":"sigma_Slip(AC378,W378,U378,IF(L378=1,mu_redLead,mu_millScale))","v":20.735793518856255},{"$f":"Sigma_p(AB378,V378)","v":-29.896827624978005},{"$f":"Sigma_p(AC378,V378)","v":-33.286512156849227},{"$f":"beta_1(X378,AD378,Z378)","v":0.86333560474868021},{"$f":"beta_1(Y378,AE378,Z378)","v":0.69568135382090723},{"$f":"k_tHole(W378,U378)","v":2.5863474629643437},{"$f":"K_t1Mu(Z378,AH378,D378,W378,U378,SIGN(X378),mu_millScale)","v":4.6350047170592452},{"$f":"K_t1Mu(Z378,AI378,D378,W378,U378,SIGN(Y378),mu_millScale)","v":4.2903744801453767},{"$f":"Sigma_hMax(AK378,X378,AF378)","v":1184.4780105702105},{"$f":"Sigma_hMin(X378,Y378,AG378,AE378,AK378,AL378,AJ378,AI378,Z378,IF(L378=1,mu_redLead,mu_millScale))","v":563.44680369299249},621.03120687721798,0.47569207588897988,214.35945798940418,{"$f":"tau_n(N378,W378,U378,D378)","v":85.460141478496439},{"$f":"tau_hMax(X378,Z378,AH378,W378,U378)","v":153.50508385508815},{"$f":"tau_hMin(X378,Y378,AS378,AE378,Z378,AI378,IF(L378=1,mu_redLead,mu_millScale),W378,U378)","v":92.50205977884994},61.003024076238205]
[367,"Parola1965","R; L",2,2,11.9,64.5,null,5.55,7.9,129,null,475,151.68466050000001,0,1470500,1,"2FR 1",null,367,0.46638655462184869,0.88475836431226773,0.18449612403100776,151.68466050000001,0,{"$f":"IF(OR(X379>=1.6*D379*AD379,D379=1),calcLoadFraction(G379,F379,I379,J379,K379,D379,1),\"Condition for spring model not fulfilled\")","v":0.5232883250511724},{"$f":"IF(L379>2,L379,IF(L379=2,1,sigma_cl0(I379+J379)))","v":108.5853519270334},{"$f":"Sigma_cl(AA379,U379,V379,X379)","v":98.418350593618129},{"$f":"Sigma_cl(AA379,U379,V379,Y379)","v":108.5853519270334},{"$f":"sigma_Slip(AB379,W379,U379,IF(L379=1,mu_redLead,mu_millScale))","v":24.747144583241131},{"$f":"sigma_Slip(AC379,W379,U379,IF(L379=1,mu_redLead,mu_millScale))","v":27.303621606666763},{"$f":"Sigma_p(AB379,V379)","v":-33.660332321801462},{"$f":"Sigma_p(AC379,V379)","v":-37.137576570813984},{"$f":"beta_1(X379,AD379,Z379)","v":0.68822421141133561},{"$f":"beta_1(Y379,AE379,Z379)","v":0},{"$f":"k_tHole(W379,U379)","v":2.5423480569379171},{"$f":"K_t1Mu(Z379,AH379,D379,W379,U379,SIGN(X379),mu_millScale)","v":3.9609072834343344},{"$f":"K_t1Mu(Z379,AI379,D379,W379,U379,SIGN(Y379),mu_millScale)","v":1.8771575287318445},{"$f":"Sigma_hMax(AK379,X379,AF379)","v":567.1485442379128},{"$f":"Sigma_hMin(X379,Y379,AG379,AE379,AK379,AL379,AJ379,AI379,Z379,IF(L379=1,mu_redLead,mu_millScale))","v":48.374888131759121},518.77365610615368,8.5294917219193939E-2,165.69972940485113,{"$f":"tau_n(N379,W379,U379,D379)","v":99.535177389070668},{"$f":"tau_hMax(X379,Z379,AH379,W379,U379)","v":71.693136823302254},{"$f":"tau_hMin(X379,Y379,AS379,AE379,Z379,AI379,IF(L379=1,mu_redLead,mu_millScale),W379,U379)","v":21.316966878686934},50.37616994461532]
[368,"Parola1965","R; L",2,2,11.9,64.5,null,5.55,7.9,129,null,475,206.8427188,0,878100,1,"2FR 2",null,368,0.46638655462184869,0.88475836431226773,0.18449612403100776,206.8427188,0,{"$f":"IF(OR(X380>=1.6*D380*AD380,D380=1),calcLoadFraction(G380,F380,I380,J380,K380,D380,1),\"Condition for spring model not fulfilled\")","v":0.5232883250511724},{"$f":"IF(L380>2,L380,IF(L380=2,1,sigma_cl0(I380+J380)))","v":108.5853519270334},{"$f":"Sigma_cl(AA380,U380,V380,X380)","v":94.721259203914315},{"$f":"Sigma_cl(AA380,U380,V380,Y380)","v":108.5853519270334},{"$f":"sigma_Slip(AB380,W380,U380,IF(L380=1,mu_redLead,mu_millScale))","v":23.817516575795242},{"$f":"sigma_Slip(AC380,W380,U380,IF(L380=1,mu_redLead,mu_millScale))","v":27.303621606666763},{"$f":"Sigma_p(AB380,V380)","v":-32.395879869073909},{"$f":"Sigma_p(AC380,V380)","v":-37.137576570813984},{"$f":"beta_1(X380,AD380,Z380)","v":0.77995313118667187},{"$f":"beta_1(Y380,AE380,Z380)","v":0},{"$f":"k_tHole(W380,U380)","v":2.5423480569379171},{"$f":"K_t1Mu(Z380,AH380,D380,W380,U380,SIGN(X380),mu_millScale)","v":4.1551384039180439},{"$f":"K_t1Mu(Z380,AI380,D380,W380,U380,SIGN(Y380),mu_millScale)","v":1.8771575287318445},{"$f":"Sigma_hMax(AK380,X380,AF380)","v":827.06424458762683},{"$f":"Sigma_hMin(X380,Y380,AG380,AE380,AK380,AL380,AJ380,AI380,Z380,IF(L380=1,mu_redLead,mu_millScale))","v":59.713500190626121},767.35074439700065,7.2199349181633635E-2,244.72218177723519,{"$f":"tau_n(N380,W380,U380,D380)","v":135.72978730697469},{"$f":"tau_hMax(X380,Z380,AH380,W380,U380)","v":110.79361058154558},{"$f":"tau_hMin(X380,Y380,AS380,AE380,Z380,AI380,IF(L380=1,mu_redLead,mu_millScale),W380,U380)","v":26.619811627126385},84.173798954419198]
[369,"Parola1965","R; L",2,2,11.9,64.5,null,5.55,7.9,129,null,475,220.63223339999999,-1,1104900,1,"2FR 3",null,369,0.46638655462184869,0.88475836431226773,0.18449612403100776,110.31611669999999,-110.31611669999999,{"$f":"IF(OR(X381>=1.6*D381*AD381,D381=1),calcLoadFraction(G381,F381,I381,J381,K381,D381,1),\"Condition for spring model not fulfilled\")","v":0.5232883250511724},{"$f":"IF(L381>2,L381,IF(L381=2,1,sigma_cl0(I381+J381)))","v":108.5853519270334},{"$f":"Sigma_cl(AA381,U381,V381,X381)","v":101.19116914092304},{"$f":"Sigma_cl(AA381,U381,V381,Y381)","v":115.97953471314376},{"$f":"sigma_Slip(AB381,W381,U381,IF(L381=1,mu_redLead,mu_millScale))","v":25.444365590089593},{"$f":"sigma_Slip(AC381,W381,U381,IF(L381=1,mu_redLead,mu_millScale))","v":29.162877623243933},{"$f":"Sigma_p(AB381,V381)","v":-34.608671663066445},{"$f":"Sigma_p(AC381,V381)","v":-39.666481478561522},{"$f":"beta_1(X381,AD381,Z381)","v":0.55923041775120208},{"$f":"beta_1(Y381,AE381,Z381)","v":0.4948150960314518},{"$f":"k_tHole(W381,U381)","v":2.5423480569379171},{"$f":"K_t1Mu(Z381,AH381,D381,W381,U381,SIGN(X381),mu_millScale)","v":3.6148490141901313},{"$f":"K_t1Mu(Z381,AI381,D381,W381,U381,SIGN(Y381),mu_millScale)","v":0.56139041124963718},{"$f":"Sigma_hMax(AK381,X381,AF381)","v":364.16743403921203},{"$f":"Sigma_hMin(X381,Y381,AG381,AE381,AK381,AL381,AJ381,AI381,Z381,IF(L381=1,mu_redLead,mu_millScale))","v":-162.13264863866291},526.30008267787491,-0.44521457297910155,161.41987905506602,{"$f":"tau_n(N381,W381,U381,D381)","v":144.77843980285562},{"$f":"tau_hMax(X381,Z381,AH381,W381,U381)","v":42.367781451453695},{"$f":"tau_hMin(X381,Y381,AS381,AE381,Z381,AI381,IF(L381=1,mu_redLead,mu_millScale),W381,U381)","v":-37.487620812620861},79.855402264074556]
[370,"Parola1965","R; L",2,2,11.9,64.5,null,5.55,7.9,129,null,475,220.63223339999999,-1,1354400,1,"2FR 5",null,370,0.46638655462184869,0.88475836431226773,0.18449612403100776,110.31611669999999,-110.31611669999999,{"$f":"IF(OR(X382>=1.6*D382*AD382,D382=1),calcLoadFraction(G382,F382,I382,J382,K382,D382,1),\"Condition for spring model not fulfilled\")","v":0.5232883250511724},{"$f":"IF(L382>2,L382,IF(L382=2,1,sigma_cl0(I382+J382)))","v":108.5853519270334},{"$f":"Sigma_cl(AA382,U382,V382,X382)","v":101.19116914092304},{"$f":"Sigma_cl(AA382,U382,V382,Y382)","v":115.97953471314376},{"$f":"sigma_Slip(AB382,W382,U382,IF(L382=1,mu_redLead,mu_millScale))","v":25.444365590089593},{"$f":"sigma_Slip(AC382,W382,U382,IF(L382=1,mu_redLead,mu_millScale))","v":29.162877623243933},{"$f":"Sigma_p(AB382,V382)","v":-34.608671663066445},{"$f":"Sigma_p(AC382,V382)","v":-39.666481478561522},{"$f":"beta_1(X382,AD382,Z382)","v":0.55923041775120208},{"$f":"beta_1(Y382,AE382,Z382)","v":0.4948150960314518},{"$f":"k_tHole(W382,U382)","v":2.5423480569379171},{"$f":"K_t1Mu(Z382,AH382,D382,W382,U382,SIGN(X382),mu_millScale)","v":3.6148490141901313},{"$f":"K_t1Mu(Z382,AI382,D382,W382,U382,SIGN(Y382),mu_millScale)","v":0.56139041124963718},{"$f":"Sigma_hMax(AK382,X382,AF382)","v":364.16743403921203},{"$f":"Sigma_hMin(X382,Y382,AG382,AE382,AK382,AL382,AJ382,AI382,Z382,IF(L382=1,mu_redLead,mu_millScale))","v":-162.13264863866291},526.30008267787491,-0.44521457297910155,161.41987905506602,{"$f":"tau_n(N382,W382,U382,D382)","v":144.77843980285562},{"$f":"tau_hMax(X382,Z382,AH382,W382,U382)","v":42.367781451453695},{"$f":"tau_hMin(X382,Y382,AS382,AE382,Z382,AI382,IF(L382=1,mu_redLead,mu_millScale),W382,U382)","v":-37.487620812620861},79.855402264074556]
[371,"Parola1965","R; L",2,2,11.9,64.5,null,5.55,7.9,129,null,475,206.8427188,0,1526900,1,"2FR 6",null,371,0.46638655462184869,0.88475836431226773,0.18449612403100776,206.8427188,0,{"$f":"IF(OR(X383>=1.6*D383*AD383,D383=1),calcLoadFraction(G383,F383,I383,J383,K383,D383,1),\"Condition for spring model not fulfilled\")","v":0.5232883250511724},{"$f":"IF(L383>2,L383,IF(L383=2,1,sigma_cl0(I383+J383)))","v":108.5853519270334},{"$f":"Sigma_cl(AA383,U383,V383,X383)","v":94.721259203914315},{"$f":"Sigma_cl(AA383,U383,V383,Y383)","v":108.5853519270334},{"$f":"sigma_Slip(AB383,W383,U383,IF(L383=1,mu_redLead,mu_millScale))","v":23.817516575795242},{"$f":"sigma_Slip(AC383,W383,U383,IF(L383=1,mu_redLead,mu_millScale))","v":27.303621606666763},{"$f":"Sigma_p(AB383,V383)","v":-32.395879869073909},{"$f":"Sigma_p(AC383,V383)","v":-37.137576570813984},{"$f":"beta_1(X383,AD383,Z383)","v":0.77995313118667187},{"$f":"beta_1(Y383,AE383,Z383)","v":0},{"$f":"k_tHole(W383,U383)","v":2.5423480569379171},{"$f":"K_t1Mu(Z383,AH383,D383,W383,U383,SIGN(X383),mu_millScale)","v":4.1551384039180439},{"$f":"K_t1Mu(Z383,AI383,D383,W383,U383,SIGN(Y383),mu_millScale)","v":1.8771575287318445},{"$f":"Sigma_hMax(AK383,X383,AF383)","v":827.06424458762683},{"$f":"Sigma_hMin(X383,Y383,AG383,AE383,AK383,AL383,AJ383,AI383,Z383,IF(L383=1,mu_redLead,mu_millScale))","v":59.713500190626121},767.35074439700065,7.2199349181633635E-2,244.72218177723519,{"$f":"tau_n(N383,W383,U383,D383)","v":135.72978730697469},{"$f":"tau_hMax(X383,Z383,AH383,W383,U383)","v":110.79361058154558},{"$f":"tau_hMin(X383,Y383,AS383,AE383,Z383,AI383,IF(L383=1,mu_redLead,mu_millScale),W383,U383)","v":26.619811627126385},84.173798954419198]
[372,"Parola1965","R; L",2,2,11.9,64.5,null,5.55,7.9,129,null,475,206.8427188,0,82700,1,"2FR 7",null,372,0.46638655462184869,0.88475836431226773,0.18449612403100776,206.8427188,0,{"$f":"IF(OR(X384>=1.6*D384*AD384,D384=1),calcLoadFraction(G384,F384,I384,J384,K384,D384,1),\"Condition for spring model not fulfilled\")","v":0.5232883250511724},{"$f":"IF(L384>2,L384,IF(L384=2,1,sigma_cl0(I384+J384)))","v":108.5853519270334},{"$f":"Sigma_cl(AA384,U384,V384,X384)","v":94.721259203914315},{"$f":"Sigma_cl(AA384,U384,V384,Y384)","v":108.5853519270334},{"$f":"sigma_Slip(AB384,W384,U384,IF(L384=1,mu_redLead,mu_millScale))","v":23.817516575795242},{"$f":"sigma_Slip(AC384,W384,U384,IF(L384=1,mu_redLead,mu_millScale))","v":27.303621606666763},{"$f":"Sigma_p(AB384,V384)","v":-32.395879869073909},{"$f":"Sigma_p(AC384,V384)","v":-37.137576570813984},{"$f":"beta_1(X384,AD384,Z384)","v":0.77995313118667187},{"$f":"beta_1(Y384,AE384,Z384)","v":0},{"$f":"k_tHole(W384,U384)","v":2.5423480569379171},{"$f":"K_t1Mu(Z384,AH384,D384,W384,U384,SIGN(X384),mu_millScale)","v":4.1551384039180439},{"$f":"K_t1Mu(Z384,AI384,D384,W384,U384,SIGN(Y384),mu_millScale)","v":1.8771575287318445},{"$f":"Sigma_hMax(AK384,X384,AF384)","v":827.06424458762683},{"$f":"Sigma_hMin(X384,Y384,AG384,AE384,AK384,AL384,AJ384,AI384,Z384,IF(L384=1,mu_redLead,mu_millScale))","v":59.713500190626121},767.35074439700065,7.2199349181633635E-2,244.72218177723519,{"$f":"tau_n(N384,W384,U384,D384)","v":135.72978730697469},{"$f":"tau_hMax(X384,Z384,AH384,W384,U384)","v":110.79361058154558},{"$f":"tau_hMin(X384,Y384,AS384,AE384,Z384,AI384,IF(L384=1,mu_redLead,mu_millScale),W384,U384)","v":26.619811627126385},84.173798954419198]
[373,"Parola1965","R; L",2,2,11.9,64.5,null,5.55,7.9,129,null,475,151.68466050000001,0,3979200,0,"2FR 8",null,373,0.46638655462184869,0.88475836431226773,0.18449612403100776,151.68466050000001,0,{"$f":"IF(OR(X385>=1.6*D385*AD385,D385=1),calcLoadFraction(G385,F385,I385,J385,K385,D385,1),\"Condition for spring model not fulfilled\")","v":0.5232883250511724},{"$f":"IF(L385>2,L385,IF(L385=2,1,sigma_cl0(I385+J385)))","v":108.5853519270334},{"$f":"Sigma_cl(AA385,U385,V385,X385)","v":98.418350593618129},{"$f":"Sigma_cl(AA385,U385,V385,Y385)","v":108.5853519270334},{"$f":"sigma_Slip(AB385,W385,U385,IF(L385=1,mu_redLead,mu_millScale))","v":24.747144583241131},{"$f":"sigma_Slip(AC385,W385,U385,IF(L385=1,mu_redLead,mu_millScale))","v":27.303621606666763},{"$f":"Sigma_p(AB385,V385)","v":-33.660332321801462},{"$f":"Sigma_p(AC385,V385)","v":-37.137576570813984},{"$f":"beta_1(X385,AD385,Z385)","v":0.68822421141133561},{"$f":"beta_1(Y385,AE385,Z385)","v":0},{"$f":"k_tHole(W385,U385)","v":2.5423480569379171},{"$f":"K_t1Mu(Z385,AH385,D385,W385,U385,SIGN(X385),mu_millScale)","v":3.9609072834343344},{"$f":"K_t1Mu(Z385,AI385,D385,W385,U385,SIGN(Y385),mu_millScale)","v":1.8771575287318445},{"$f":"Sigma_hMax(AK385,X385,AF385)","v":567.1485442379128},{"$f":"Sigma_hMin(X385,Y385,AG385,AE385,AK385,AL385,AJ385,AI385,Z385,IF(L385=1,mu_redLead,mu_millScale))","v":48.374888131759121},518.77365610615368,8.5294917219193939E-2,165.69972940485113,{"$f":"tau_n(N385,W385,U385,D385)","v":99.535177389070668},{"$f":"tau_hMax(X385,Z385,AH385,W385,U385)","v":71.693136823302254},{"$f":"tau_hMin(X385,Y385,AS385,AE385,Z385,AI385,IF(L385=1,mu_redLead,mu_millScale),W385,U385)","v":21.316966878686934},50.37616994461532]
[374,"Parola1965","R; L",2,2,11.9,64.5,null,5.55,7.9,129,null,475,131.00038860000001,0,5035600,0,"2FR 9",null,374,0.46638655462184869,0.88475836431226773,0.18449612403100776,131.00038860000001,0,{"$f":"IF(OR(X386>=1.6*D386*AD386,D386=1),calcLoadFraction(G386,F386,I386,J386,K386,D386,1),\"Condition for spring model not fulfilled\")","v":0.5232883250511724},{"$f":"IF(L386>2,L386,IF(L386=2,1,sigma_cl0(I386+J386)))","v":108.5853519270334},{"$f":"Sigma_cl(AA386,U386,V386,X386)","v":99.80475986727059},{"$f":"Sigma_cl(AA386,U386,V386,Y386)","v":108.5853519270334},{"$f":"sigma_Slip(AB386,W386,U386,IF(L386=1,mu_redLead,mu_millScale))","v":25.095755086665363},{"$f":"sigma_Slip(AC386,W386,U386,IF(L386=1,mu_redLead,mu_millScale))","v":27.303621606666763},{"$f":"Sigma_p(AB386,V386)","v":-34.134501992433961},{"$f":"Sigma_p(AC386,V386)","v":-37.137576570813984},{"$f":"beta_1(X386,AD386,Z386)","v":0.63391103514115843},{"$f":"beta_1(Y386,AE386,Z386)","v":0},{"$f":"k_tHole(W386,U386)","v":2.5423480569379171},{"$f":"K_t1Mu(Z386,AH386,D386,W386,U386,SIGN(X386),mu_millScale)","v":3.8241102620425531},{"$f":"K_t1Mu(Z386,AI386,D386,W386,U386,SIGN(Y386),mu_millScale)","v":1.8771575287318445},{"$f":"Sigma_hMax(AK386,X386,AF386)","v":466.82542838438837},{"$f":"Sigma_hMin(X386,Y386,AG386,AE386,AK386,AL386,AJ386,AI386,Z386,IF(L386=1,mu_redLead,mu_millScale))","v":41.570828502253264},425.2545998821351,8.9050051635198108E-2,135.88977301656973,{"$f":"tau_n(N386,W386,U386,D386)","v":85.962198645249245},{"$f":"tau_hMax(X386,Z386,AH386,W386,U386)","v":57.030459137377974},{"$f":"tau_hMin(X386,Y386,AS386,AE386,Z386,AI386,IF(L386=1,mu_redLead,mu_millScale),W386,U386)","v":18.651225830804336},38.379233306573639]
[375,"Parola1965","R; L",2,2,11.9,64.5,null,5.55,7.9,129,null,475,144.7899032,0,989300,1,"2FR 10",null,375,0.46638655462184869,0.88475836431226773,0.18449612403100776,144.7899032,0,{"$f":"IF(OR(X387>=1.6*D387*AD387,D387=1),calcLoadFraction(G387,F387,I387,J387,K387,D387,1),\"Condition for spring model not fulfilled\")","v":0.5232883250511724},{"$f":"IF(L387>2,L387,IF(L387=2,1,sigma_cl0(I387+J387)))","v":108.5853519270334},{"$f":"Sigma_cl(AA387,U387,V387,X387)","v":98.880487018168949},{"$f":"Sigma_cl(AA387,U387,V387,Y387)","v":108.5853519270334},{"$f":"sigma_Slip(AB387,W387,U387,IF(L387=1,mu_redLead,mu_millScale))","v":24.863348084382544},{"$f":"sigma_Slip(AC387,W387,U387,IF(L387=1,mu_redLead,mu_millScale))","v":27.303621606666763},{"$f":"Sigma_p(AB387,V387)","v":-33.818388878678959},{"$f":"Sigma_p(AC387,V387)","v":-37.137576570813984},{"$f":"beta_1(X387,AD387,Z387)","v":0.67184404714056822},{"$f":"beta_1(Y387,AE387,Z387)","v":0},{"$f":"k_tHole(W387,U387)","v":2.5423480569379171},{"$f":"K_t1Mu(Z387,AH387,D387,W387,U387,SIGN(X387),mu_millScale)","v":3.9211906300018557},{"$f":"K_t1Mu(Z387,AI387,D387,W387,U387,SIGN(Y387),mu_millScale)","v":1.8771575287318445},{"$f":"Sigma_hMax(AK387,X387,AF387)","v":533.93042286803677},{"$f":"Sigma_hMin(X387,Y387,AG387,AE387,AK387,AL387,AJ387,AI387,Z387,IF(L387=1,mu_redLead,mu_millScale))","v":46.324341510952245},487.60608135708452,8.6761007664853562E-2,155.77168212284167,{"$f":"tau_n(N387,W387,U387,D387)","v":95.010851141130189},{"$f":"tau_hMax(X387,Z387,AH387,W387,U387)","v":66.805577594660818},{"$f":"tau_hMin(X387,Y387,AS387,AE387,Z387,AI387,IF(L387=1,mu_redLead,mu_millScale),W387,U387)","v":20.481379163183394},46.324198431477427]
[376,"Parola1965","R; L",2,2,11.9,64.5,null,5.55,7.9,129,null,475,206.8427188,0,92000,1,"2FR 11",null,376,0.46638655462184869,0.88475836431226773,0.18449612403100776,206.8427188,0,{"$f":"IF(OR(X388>=1.6*D388*AD388,D388=1),calcLoadFraction(G388,F388,I388,J388,K388,D388,1),\"Condition for spring model not fulfilled\")","v":0.5232883250511724},{"$f":"IF(L388>2,L388,IF(L388=2,1,sigma_cl0(I388+J388)))","v":108.5853519270334},{"$f":"Sigma_cl(AA388,U388,V388,X388)","v":94.721259203914315},{"$f":"Sigma_cl(AA388,U388,V388,Y388)","v":108.5853519270334},{"$f":"sigma_Slip(AB388,W388,U388,IF(L388=1,mu_redLead,mu_millScale))","v":23.817516575795242},{"$f":"sigma_Slip(AC388,W388,U388,IF(L388=1,mu_redLead,mu_millScale))","v":27.303621606666763},{"$f":"Sigma_p(AB388,V388)","v":-32.395879869073909},{"$f":"Sigma_p(AC388,V388)","v":-37.137576570813984},{"$f":"beta_1(X388,AD388,Z388)","v":0.77995313118667187},{"$f":"beta_1(Y388,AE388,Z388)","v":0},{"$f":"k_tHole(W388,U388)","v":2.5423480569379171},{"$f":"K_t1Mu(Z388,AH388,D388,W388,U388,SIGN(X388),mu_millScale)","v":4.1551384039180439},{"$f":"K_t1Mu(Z388,AI388,D388,W388,U388,SIGN(Y388),mu_millScale)","v":1.8771575287318445},{"$f":"Sigma_hMax(AK388,X388,AF388)","v":827.06424458762683},{"$f":"Sigma_hMin(X388,Y388,AG388,AE388,AK388,AL388,AJ388,AI388,Z388,IF(L388=1,mu_redLead,mu_millScale))","v":59.713500190626121},767.35074439700065,7.2199349181633635E-2,244.72218177723519,{"$f":"tau_n(N388,W388,U388,D388)","v":135.72978730697469},{"$f":"tau_hMax(X388,Z388,AH388,W388,U388)","v":110.79361058154558},{"$f":"tau_hMin(X388,Y388,AS388,AE388,Z388,AI388,IF(L388=1,mu_redLead,mu_millScale),W388,U388)","v":26.619811627126385},84.173798954419198]
[377,"Parola1965","R; L",2,2,11.9,64.5,null,5.55,7.9,129,null,475,220.63223339999999,-1,914700,1,"2FR 12",null,377,0.46638655462184869,0.88475836431226773,0.18449612403100776,110.31611669999999,-110.31611669999999,{"$f":"IF(OR(X389>=1.6*D389*AD389,D389=1),calcLoadFraction(G389,F389,I389,J389,K389,D389,1),\"Condition for spring model not fulfilled\")","v":0.5232883250511724},{"$f":"IF(L389>2,L389,IF(L389=2,1,sigma_cl0(I389+J389)))","v":108.5853519270334},{"$f":"Sigma_cl(AA389,U389,V389,X389)","v":101.19116914092304},{"$f":"Sigma_cl(AA389,U389,V389,Y389)","v":115.97953471314376},{"$f":"sigma_Slip(AB389,W389,U389,IF(L389=1,mu_redLead,mu_millScale))","v":25.444365590089593},{"$f":"sigma_Slip(AC389,W389,U389,IF(L389=1,mu_redLead,mu_millScale))","v":29.162877623243933},{"$f":"Sigma_p(AB389,V389)","v":-34.608671663066445},{"$f":"Sigma_p(AC389,V389)","v":-39.666481478561522},{"$f":"beta_1(X389,AD389,Z389)","v":0.55923041775120208},{"$f":"beta_1(Y389,AE389,Z389)","v":0.4948150960314518},{"$f":"k_tHole(W389,U389)","v":2.5423480569379171},{"$f":"K_t1Mu(Z389,AH389,D389,W389,U389,SIGN(X389),mu_millScale)","v":3.6148490141901313},{"$f":"K_t1Mu(Z389,AI389,D389,W389,U389,SIGN(Y389),mu_millScale)","v":0.56139041124963718},{"$f":"Sigma_hMax(AK389,X389,AF389)","v":364.16743403921203},{"$f":"Sigma_hMin(X389,Y389,AG389,AE389,AK389,AL389,AJ389,AI389,Z389,IF(L389=1,mu_redLead,mu_millScale))","v":-162.13264863866291},526.30008267787491,-0.44521457297910155,161.41987905506602,{"$f":"tau_n(N389,W389,U389,D389)","v":144.77843980285562},{"$f":"tau_hMax(X389,Z389,AH389,W389,U389)","v":42.367781451453695},{"$f":"tau_hMin(X389,Y389,AS389,AE389,Z389,AI389,IF(L389=1,mu_redLead,mu_millScale),W389,U389)","v":-37.487620812620861},79.855402264074556]
[378,"Parola1965","R; L",2,2,11.9,64.5,null,5.55,7.9,129,null,475,120.6582526,0.5,2505000,1,"2FR 13",null,378,0.46638655462184869,0.88475836431226773,0.18449612403100776,241.31650519999999,120.6582526,{"$f":"IF(OR(X390>=1.6*D390*AD390,D390=1),calcLoadFraction(G390,F390,I390,J390,K390,D390,1),\"Condition for spring model not fulfilled\")","v":0.5232883250511724},{"$f":"IF(L390>2,L390,IF(L390=2,1,sigma_cl0(I390+J390)))","v":108.5853519270334},{"$f":"Sigma_cl(AA390,U390,V390,X390)","v":92.410577087862947},{"$f":"Sigma_cl(AA390,U390,V390,Y390)","v":100.49796450744817},{"$f":"sigma_Slip(AB390,W390,U390,IF(L390=1,mu_redLead,mu_millScale))","v":23.236499071773583},{"$f":"sigma_Slip(AC390,W390,U390,IF(L390=1,mu_redLead,mu_millScale))","v":25.270060339220169},{"$f":"Sigma_p(AB390,V390)","v":-31.605597086978836},{"$f":"Sigma_p(AC390,V390)","v":-34.371586828896412},{"$f":"beta_1(X390,AD390,Z390)","v":0.81598949250882513},{"$f":"beta_1(Y390,AE390,Z390)","v":0.59977132415777512},{"$f":"k_tHole(W390,U390)","v":2.5423480569379171},{"$f":"K_t1Mu(Z390,AH390,D390,W390,U390,SIGN(X390),mu_millScale)","v":4.2167044972857237},{"$f":"K_t1Mu(Z390,AI390,D390,W390,U390,SIGN(Y390),mu_millScale)","v":3.7311836939283154},{"$f":"Sigma_hMax(AK390,X390,AF390)","v":985.9547956591349},{"$f":"Sigma_hMin(X390,Y390,AG390,AE390,AK390,AL390,AJ390,AI390,Z390,IF(L390=1,mu_redLead,mu_millScale))","v":484.59712283335068},501.35767282578422,0.49150034562120637,173.9928433889618,{"$f":"tau_n(N390,W390,U390,D390)","v":79.175709240528619},{"$f":"tau_hMax(X390,Z390,AH390,W390,U390)","v":135.23140665386464},{"$f":"tau_hMin(X390,Y390,AS390,AE390,Z390,AI390,IF(L390=1,mu_redLead,mu_millScale),W390,U390)","v":83.708549158124697},51.522857495739942]
[379,"Parola1965","R; L",2,2,11.9,64.5,null,5.55,7.9,129,null,475,179.26368959999999,-1,2686200,1,"2FR 14",null,379,0.46638655462184869,0.88475836431226773,0.18449612403100776,89.631844799999996,-89.631844799999996,{"$f":"IF(OR(X391>=1.6*D391*AD391,D391=1),calcLoadFraction(G391,F391,I391,J391,K391,D391,1),\"Condition for spring model not fulfilled\")","v":0.5232883250511724},{"$f":"IF(L391>2,L391,IF(L391=2,1,sigma_cl0(I391+J391)))","v":108.5853519270334},{"$f":"Sigma_cl(AA391,U391,V391,X391)","v":102.5775784145755},{"$f":"Sigma_cl(AA391,U391,V391,Y391)","v":114.5931254394913},{"$f":"sigma_Slip(AB391,W391,U391,IF(L391=1,mu_redLead,mu_millScale))","v":25.792976093513822},{"$f":"sigma_Slip(AC391,W391,U391,IF(L391=1,mu_redLead,mu_millScale))","v":28.8142671198197},{"$f":"Sigma_p(AB391,V391)","v":-35.082841333698944},{"$f":"Sigma_p(AC391,V391)","v":-39.19231180792903},{"$f":"beta_1(X391,AD391,Z391)","v":0.45008182306588784},{"$f":"beta_1(Y391,AE391,Z391)","v":0.38566650134613756},{"$f":"k_tHole(W391,U391)","v":2.5423480569379171},{"$f":"K_t1Mu(Z391,AH391,D391,W391,U391,SIGN(X391),mu_millScale)","v":3.2768329968130718},{"$f":"K_t1Mu(Z391,AI391,D391,W391,U391,SIGN(Y391),mu_millScale)","v":0.85497504161077709},{"$f":"Sigma_hMax(AK391,X391,AF391)","v":258.62574527216918},{"$f":"Sigma_hMin(X391,Y391,AG391,AE391,AK391,AL391,AJ391,AI391,Z391,IF(L391=1,mu_redLead,mu_millScale))","v":-154.94173985668584},413.56748512885503,-0.59909634941266299,125.97256681746403,{"$f":"tau_n(N391,W391,U391,D391)","v":117.63248231521277},{"$f":"tau_hMax(X391,Z391,AH391,W391,U391)","v":27.705103765529429},{"$f":"tau_hMin(X391,Y391,AS391,AE391,Z391,AI391,IF(L391=1,mu_redLead,mu_millScale),W391,U391)","v":-23.739973247307212},51.445077012836641]
[380,"Parola1965","R; L",2,2,11.9,64.5,null,5.55,7.9,129,null,475,206.8427188,0,1045600,0,"2FR 15",null,380,0.46638655462184869,0.88475836431226773,0.18449612403100776,206.8427188,0,{"$f":"IF(OR(X392>=1.6*D392*AD392,D392=1),calcLoadFraction(G392,F392,I392,J392,K392,D392,1),\"Condition for spring model not fulfilled\")","v":0.5232883250511724},{"$f":"IF(L392>2,L392,IF(L392=2,1,sigma_cl0(I392+J392)))","v":108.5853519270334},{"$f":"Sigma_cl(AA392,U392,V392,X392)","v":94.721259203914315},{"$f":"Sigma_cl(AA392,U392,V392,Y392)","v":108.5853519270334},{"$f":"sigma_Slip(AB392,W392,U392,IF(L392=1,mu_redLead,mu_millScale))","v":23.817516575795242},{"$f":"sigma_Slip(AC392,W392,U392,IF(L392=1,mu_redLead,mu_millScale))","v":27.303621606666763},{"$f":"Sigma_p(AB392,V392)","v":-32.395879869073909},{"$f":"Sigma_p(AC392,V392)","v":-37.137576570813984},{"$f":"beta_1(X392,AD392,Z392)","v":0.77995313118667187},{"$f":"beta_1(Y392,AE392,Z392)","v":0},{"$f":"k_tHole(W392,U392)","v":2.5423480569379171},{"$f":"K_t1Mu(Z392,AH392,D392,W392,U392,SIGN(X392),mu_millScale)","v":4.1551384039180439},{"$f":"K_t1Mu(Z392,AI392,D392,W392,U392,SIGN(Y392),mu_millScale)","v":1.8771575287318445},{"$f":"Sigma_hMax(AK392,X392,AF392)","v":827.06424458762683},{"$f":"Sigma_hMin(X392,Y392,AG392,AE392,AK392,AL392,AJ392,AI392,Z392,IF(L392=1,mu_redLead,mu_millScale))","v":59.713500190626121},767.35074439700065,7.2199349181633635E-2,244.72218177723519,{"$f":"tau_n(N392,W392,U392,D392)","v":135.72978730697469},{"$f":"tau_hMax(X392,Z392,AH392,W392,U392)","v":110.79361058154558},{"$f":"tau_hMin(X392,Y392,AS392,AE392,Z392,AI392,IF(L392=1,mu_redLead,mu_millScale),W392,U392)","v":26.619811627126385},84.173798954419198]
[381,"Parola1965","R; L",2,2,11.9,64.5,null,5.55,7.9,129,null,475,151.68466050000001,0,331000,1,"2FR 16",null,381,0.46638655462184869,0.88475836431226773,0.18449612403100776,151.68466050000001,0,{"$f":"IF(OR(X393>=1.6*D393*AD393,D393=1),calcLoadFraction(G393,F393,I393,J393,K393,D393,1),\"Condition for spring model not fulfilled\")","v":0.5232883250511724},{"$f":"IF(L393>2,L393,IF(L393=2,1,sigma_cl0(I393+J393)))","v":108.5853519270334},{"$f":"Sigma_cl(AA393,U393,V393,X393)","v":98.418350593618129},{"$f":"Sigma_cl(AA393,U393,V393,Y393)","v":108.5853519270334},{"$f":"sigma_Slip(AB393,W393,U393,IF(L393=1,mu_redLead,mu_millScale))","v":24.747144583241131},{"$f":"sigma_Slip(AC393,W393,U393,IF(L393=1,mu_redLead,mu_millScale))","v":27.303621606666763},{"$f":"Sigma_p(AB393,V393)","v":-33.660332321801462},{"$f":"Sigma_p(AC393,V393)","v":-37.137576570813984},{"$f":"beta_1(X393,AD393,Z393)","v":0.68822421141133561},{"$f":"beta_1(Y393,AE393,Z393)","v":0},{"$f":"k_tHole(W393,U393)","v":2.5423480569379171},{"$f":"K_t1Mu(Z393,AH393,D393,W393,U393,SIGN(X393),mu_millScale)","v":3.9609072834343344},{"$f":"K_t1Mu(Z393,AI393,D393,W393,U393,SIGN(Y393),mu_millScale)","v":1.8771575287318445},{"$f":"Sigma_hMax(AK393,X393,AF393)","v":567.1485442379128},{"$f":"Sigma_hMin(X393,Y393,AG393,AE393,AK393,AL393,AJ393,AI393,Z393,IF(L393=1,mu_redLead,mu_millScale))","v":48.374888131759121},518.77365610615368,8.5294917219193939E-2,165.69972940485113,{"$f":"tau_n(N393,W393,U393,D393)","v":99.535177389070668},{"$f":"tau_hMax(X393,Z393,AH393,W393,U393)","v":71.693136823302254},{"$f":"tau_hMin(X393,Y393,AS393,AE393,Z393,AI393,IF(L393=1,mu_redLead,mu_millScale),W393,U393)","v":21.316966878686934},50.37616994461532]
[382,"Parola1965","R; L",2,2,11.9,64.5,null,5.55,7.9,129,null,475,117.210874,0,4663600,0,"2FR 17",null,382,0.46638655462184869,0.88475836431226773,0.18449612403100776,117.210874,0,{"$f":"IF(OR(X394>=1.6*D394*AD394,D394=1),calcLoadFraction(G394,F394,I394,J394,K394,D394,1),\"Condition for spring model not fulfilled\")","v":0.5232883250511724},{"$f":"IF(L394>2,L394,IF(L394=2,1,sigma_cl0(I394+J394)))","v":108.5853519270334},{"$f":"Sigma_cl(AA394,U394,V394,X394)","v":100.72903271637222},{"$f":"Sigma_cl(AA394,U394,V394,Y394)","v":108.5853519270334},{"$f":"sigma_Slip(AB394,W394,U394,IF(L394=1,mu_redLead,mu_millScale))","v":25.328162088948179},{"$f":"sigma_Slip(AC394,W394,U394,IF(L394=1,mu_redLead,mu_millScale))","v":27.303621606666763},{"$f":"Sigma_p(AB394,V394)","v":-34.450615106188948},{"$f":"Sigma_p(AC394,V394)","v":-37.137576570813984},{"$f":"beta_1(X394,AD394,Z394)","v":0.58705260854603747},{"$f":"beta_1(Y394,AE394,Z394)","v":0},{"$f":"k_tHole(W394,U394)","v":2.5423480569379171},{"$f":"K_t1Mu(Z394,AH394,D394,W394,U394,SIGN(X394),mu_millScale)","v":3.6953446483929993},{"$f":"K_t1Mu(Z394,AI394,D394,W394,U394,SIGN(Y394),mu_millScale)","v":1.8771575287318445},{"$f":"Sigma_hMax(AK394,X394,AF394)","v":398.68396086317722},{"$f":"Sigma_hMin(X394,Y394,AG394,AE394,AK394,AL394,AJ394,AI394,Z394,IF(L394=1,mu_redLead,mu_millScale))","v":35.719366569571072},362.96459429360613,8.9593186774397135E-2,115.99257308562126,{"$f":"tau_n(N394,W394,U394,D394)","v":76.913546149368287},{"$f":"tau_hMax(X394,Z394,AH394,W394,U394)","v":47.255340680095131},{"$f":"tau_hMin(X394,Y394,AS394,AE394,Z394,AI394,IF(L394=1,mu_redLead,mu_millScale),W394,U394)","v":16.569221549930486},30.686119130164645]
[383,"Parola1965","R; L",2,2,11.9,64.5,null,5.55,7.9,129,null,475,124.1056313,0.5,3386600,0,"2FR 20",null,383,0.46638655462184869,0.88475836431226773,0.18449612403100776,248.2112626,124.1056313,{"$f":"IF(OR(X395>=1.6*D395*AD395,D395=1),calcLoadFraction(G395,F395,I395,J395,K395,D395,1),\"Condition for spring model not fulfilled\")","v":0.5232883250511724},{"$f":"IF(L395>2,L395,IF(L395=2,1,sigma_cl0(I395+J395)))","v":108.5853519270334},{"$f":"Sigma_cl(AA395,U395,V395,X395)","v":91.948440656609407},{"$f":"Sigma_cl(AA395,U395,V395,Y395)","v":100.2668962918214},{"$f":"sigma_Slip(AB395,W395,U395,IF(L395=1,mu_redLead,mu_millScale))","v":23.120295568946784},{"$f":"sigma_Slip(AC395,W395,U395,IF(L395=1,mu_redLead,mu_millScale))","v":25.21195858780677},{"$f":"Sigma_p(AB395,V395)","v":-31.447540527808922},{"$f":"Sigma_p(AC395,V395)","v":-34.292558549311451},{"$f":"beta_1(X395,AD395,Z395)","v":0.82199555283274872},{"$f":"beta_1(Y395,AE395,Z395)","v":0.61178344480562241},{"$f":"k_tHole(W395,U395)","v":2.5423480569379171},{"$f":"K_t1Mu(Z395,AH395,D395,W395,U395,SIGN(X395),mu_millScale)","v":4.226072974058007},{"$f":"K_t1Mu(Z395,AI395,D395,W395,U395,SIGN(Y395),mu_millScale)","v":3.7644402783254924},{"$f":"Sigma_hMax(AK395,X395,AF395)","v":1017.511368202866},{"$f":"Sigma_hMin(X395,Y395,AG395,AE395,AK395,AL395,AJ395,AI395,Z395,IF(L395=1,mu_redLead,mu_millScale))","v":498.2297563324085},519.28161187045748,0.48965522342259876,180.09638845053743,{"$f":"tau_n(N395,W395,U395,D395)","v":81.437872397308766},{"$f":"tau_hMax(X395,Z395,AH395,W395,U395)","v":140.11896595339414},{"$f":"tau_hMin(X395,Y395,AS395,AE395,Z395,AI395,IF(L395=1,mu_redLead,mu_millScale),W395,U395)","v":86.456619774729347},53.662346178664791]
[384,"Parola1965","R; L",2,2,11.9,64.5,null,5.55,7.9,129,null,475,127.55300990000001,0.5,227400,1,"2FR 22",null,384,0.46638655462184869,0.88475836431226773,0.18449612403100776,255.10601980000001,127.55300990000001,{"$f":"IF(OR(X396>=1.6*D396*AD396,D396=1),calcLoadFraction(G396,F396,I396,J396,K396,D396,1),\"Condition for spring model not fulfilled\")","v":0.5232883250511724},{"$f":"IF(L396>2,L396,IF(L396=2,1,sigma_cl0(I396+J396)))","v":108.5853519270334},{"$f":"Sigma_cl(AA396,U396,V396,X396)","v":91.486304238761306},{"$f":"Sigma_cl(AA396,U396,V396,Y396)","v":100.03582808289735},{"$f":"sigma_Slip(AB396,W396,U396,IF(L396=1,mu_redLead,mu_millScale))","v":23.00409206949076},{"$f":"sigma_Slip(AC396,W396,U396,IF(L396=1,mu_redLead,mu_millScale))","v":25.153856838078759},{"$f":"Sigma_p(AB396,V396)","v":-31.289483973223842},{"$f":"Sigma_p(AC396,V396)","v":-34.213530272018915},{"$f":"beta_1(X396,AD396,Z396)","v":0.82767696108208566},{"$f":"beta_1(Y396,AE396,Z396)","v":0.62314626130429607},{"$f":"k_tHole(W396,U396)","v":2.5423480569379171},{"$f":"K_t1Mu(Z396,AH396,D396,W396,U396,SIGN(X396),mu_millScale)","v":4.2346924397397663},{"$f":"K_t1Mu(Z396,AI396,D396,W396,U396,SIGN(Y396),mu_millScale)","v":3.7953465462580969},{"$f":"Sigma_hMax(AK396,X396,AF396)","v":1049.0060494059394},{"$f":"Sigma_hMin(X396,Y396,AG396,AE396,AK396,AL396,AJ396,AI396,Z396,IF(L396=1,mu_redLead,mu_millScale))","v":511.79106964620155},537.21497975973784,0.48788190490992206,{"$f":"AO396/3.16*(1-0.9*AP396)/(1-AP396)","v":186.2006603558095},{"$f":"tau_n(N396,W396,U396,D396)","v":83.700035488469112},{"$f":"tau_hMax(X396,Z396,AH396,W396,U396)","v":145.00652511114751},{"$f":"tau_hMin(X396,Y396,AS396,AE396,Z396,AI396,IF(L396=1,mu_redLead,mu_millScale),W396,U396)","v":89.198080178267418},{"$f":"(AS396-AT396)","v":55.808444932880093}]
[385,"Parola1965","R; L",2,2,11.9,64.5,null,5.55,7.9,129,null,475,103.4213594,0.5,3045200,0,"2FR 23",null,385,0.46638655462184869,0.88475836431226773,0.18449612403100776,206.8427188,103.4213594,{"$f":"IF(OR(X397>=1.6*D397*AD397,D397=1),calcLoadFraction(G397,F397,I397,J397,K397,D397,1),\"Condition for spring model not fulfilled\")","v":0.5232883250511724},{"$f":"IF(L397>2,L397,IF(L397=2,1,sigma_cl0(I397+J397)))","v":108.5853519270334},{"$f":"Sigma_cl(AA397,U397,V397,X397)","v":94.721259203914315},{"$f":"Sigma_cl(AA397,U397,V397,Y397)","v":101.65330556547386},{"$f":"sigma_Slip(AB397,W397,U397,IF(L397=1,mu_redLead,mu_millScale))","v":23.817516575795242},{"$f":"sigma_Slip(AC397,W397,U397,IF(L397=1,mu_redLead,mu_millScale))","v":25.560569091231002},{"$f":"Sigma_p(AB397,V397)","v":-32.395879869073909},{"$f":"Sigma_p(AC397,V397)","v":-34.766728219943943},{"$f":"beta_1(X397,AD397,Z397)","v":0.77995313118667187},{"$f":"beta_1(Y397,AE397,Z397)","v":0.52769860151346859},{"$f":"k_tHole(W397,U397)","v":2.5423480569379171},{"$f":"K_t1Mu(Z397,AH397,D397,W397,U397,SIGN(X397),mu_millScale)","v":4.1551384039180439},{"$f":"K_t1Mu(Z397,AI397,D397,W397,U397,SIGN(Y397),mu_millScale)","v":3.5204762158786074},{"$f":"Sigma_hMax(AK397,X397,AF397)","v":827.06424458762683},{"$f":"Sigma_hMin(X397,Y397,AG397,AE397,AK397,AL397,AJ397,AI397,Z397,IF(L397=1,mu_redLead,mu_millScale))","v":415.11712098380178},411.94712360382505,0.5019164154421627,143.49963155133074,{"$f":"tau_n(N397,W397,U397,D397)","v":67.864893653487343},{"$f":"tau_hMax(X397,Z397,AH397,W397,U397)","v":110.79361058154558},{"$f":"tau_hMin(X397,Y397,AS397,AE397,Z397,AI397,IF(L397=1,mu_redLead,mu_millScale),W397,U397)","v":69.850825263245426},40.942785318300153]
[386,"Parola1965","R; L",2,2,11.9,64.5,null,5.55,7.9,129,null,475,120.6582526,0.5,604900,1,"2FR 24",null,386,0.46638655462184869,0.88475836431226773,0.18449612403100776,241.31650519999999,120.6582526,{"$f":"IF(OR(X398>=1.6*D398*AD398,D398=1),calcLoadFraction(G398,F398,I398,J398,K398,D398,1),\"Condition for spring model not fulfilled\")","v":0.5232883250511724},{"$f":"IF(L398>2,L398,IF(L398=2,1,sigma_cl0(I398+J398)))","v":108.5853519270334},{"$f":"Sigma_cl(AA398,U398,V398,X398)","v":92.410577087862947},{"$f":"Sigma_cl(AA398,U398,V398,Y398)","v":100.49796450744817},{"$f":"sigma_Slip(AB398,W398,U398,IF(L398=1,mu_redLead,mu_millScale))","v":23.236499071773583},{"$f":"sigma_Slip(AC398,W398,U398,IF(L398=1,mu_redLead,mu_millScale))","v":25.270060339220169},{"$f":"Sigma_p(AB398,V398)","v":-31.605597086978836},{"$f":"Sigma_p(AC398,V398)","v":-34.371586828896412},{"$f":"beta_1(X398,AD398,Z398)","v":0.81598949250882513},{"$f":"beta_1(Y398,AE398,Z398)","v":0.59977132415777512},{"$f":"k_tHole(W398,U398)","v":2.5423480569379171},{"$f":"K_t1Mu(Z398,AH398,D398,W398,U398,SIGN(X398),mu_millScale)","v":4.2167044972857237},{"$f":"K_t1Mu(Z398,AI398,D398,W398,U398,SIGN(Y398),mu_millScale)","v":3.7311836939283154},{"$f":"Sigma_hMax(AK398,X398,AF398)","v":985.9547956591349},{"$f":"Sigma_hMin(X398,Y398,AG398,AE398,AK398,AL398,AJ398,AI398,Z398,IF(L398=1,mu_redLead,mu_millScale))","v":484.59712283335068},501.35767282578422,0.49150034562120637,173.9928433889618,{"$f":"tau_n(N398,W398,U398,D398)","v":79.175709240528619},{"$f":"tau_hMax(X398,Z398,AH398,W398,U398)","v":135.23140665386464},{"$f":"tau_hMin(X398,Y398,AS398,AE398,Z398,AI398,IF(L398=1,mu_redLead,mu_millScale),W398,U398)","v":83.708549158124697},51.522857495739942]
[387,"Parola1965","R; L",2,2,11.9,64.5,null,5.55,7.9,129,null,475,127.55300990000001,0.5,271700,1,"2FR 25",null,387,0.46638655462184869,0.88475836431226773,0.18449612403100776,255.10601980000001,127.55300990000001,{"$f":"IF(OR(X399>=1.6*D399*AD399,D399=1),calcLoadFraction(G399,F399,I399,J399,K399,D399,1),\"Condition for spring model not fulfilled\")","v":0.5232883250511724},{"$f":"IF(L399>2,L399,IF(L399=2,1,sigma_cl0(I399+J399)))","v":108.5853519270334},{"$f":"Sigma_cl(AA399,U399,V399,X399)","v":91.486304238761306},{"$f":"Sigma_cl(AA399,U399,V399,Y399)","v":100.03582808289735},{"$f":"sigma_Slip(AB399,W399,U399,IF(L399=1,mu_redLead,mu_millScale))","v":23.00409206949076},{"$f":"sigma_Slip(AC399,W399,U399,IF(L399=1,mu_redLead,mu_millScale))","v":25.153856838078759},{"$f":"Sigma_p(AB399,V399)","v":-31.289483973223842},{"$f":"Sigma_p(AC399,V399)","v":-34.213530272018915},{"$f":"beta_1(X399,AD399,Z399)","v":0.82767696108208566},{"$f":"beta_1(Y399,AE399,Z399)","v":0.62314626130429607},{"$f":"k_tHole(W399,U399)","v":2.5423480569379171},{"$f":"K_t1Mu(Z399,AH399,D399,W399,U399,SIGN(X399),mu_millScale)","v":4.2346924397397663},{"$f":"K_t1Mu(Z399,AI399,D399,W399,U399,SIGN(Y399),mu_millScale)","v":3.7953465462580969},{"$f":"Sigma_hMax(AK399,X399,AF399)","v":1049.0060494059394},{"$f":"Sigma_hMin(X399,Y399,AG399,AE399,AK399,AL399,AJ399,AI399,Z399,IF(L399=1,mu_redLead,mu_millScale))","v":511.79106964620155},537.21497975973784,0.48788190490992206,186.2006603558095,{"$f":"tau_n(N399,W399,U399,D399)","v":83.700035488469112},{"$f":"tau_hMax(X399,Z399,AH399,W399,U399)","v":145.00652511114751},{"$f":"tau_hMin(X399,Y399,AS399,AE399,Z399,AI399,IF(L399=1,mu_redLead,mu_millScale),W399,U399)","v":89.198080178267418},55.808444932880093]
[388,"Parola1965","R; L",2,2,11.9,64.5,null,5.55,7.9,129,null,475,120.6582526,0.5,1320100,0,"2FR 26",null,388,0.46638655462184869,0.88475836431226773,0.18449612403100776,241.31650519999999,120.6582526,{"$f":"IF(OR(X400>=1.6*D400*AD400,D400=1),calcLoadFraction(G400,F400,I400,J400,K400,D400,1),\"Condition for spring model not fulfilled\")","v":0.5232883250511724},{"$f":"IF(L400>2,L400,IF(L400=2,1,sigma_cl0(I400+J400)))","v":108.5853519270334},{"$f":"Sigma_cl(AA400,U400,V400,X400)","v":92.410577087862947},{"$f":"Sigma_cl(AA400,U400,V400,Y400)","v":100.49796450744817},{"$f":"sigma_Slip(AB400,W400,U400,IF(L400=1,mu_redLead,mu_millScale))","v":23.236499071773583},{"$f":"sigma_Slip(AC400,W400,U400,IF(L400=1,mu_redLead,mu_millScale))","v":25.270060339220169},{"$f":"Sigma_p(AB400,V400)","v":-31.605597086978836},{"$f":"Sigma_p(AC400,V400)","v":-34.371586828896412},{"$f":"beta_1(X400,AD400,Z400)","v":0.81598949250882513},{"$f":"beta_1(Y400,AE400,Z400)","v":0.59977132415777512},{"$f":"k_tHole(W400,U400)","v":2.5423480569379171},{"$f":"K_t1Mu(Z400,AH400,D400,W400,U400,SIGN(X400),mu_millScale)","v":4.2167044972857237},{"$f":"K_t1Mu(Z400,AI400,D400,W400,U400,SIGN(Y400),mu_millScale)","v":3.7311836939283154},{"$f":"Sigma_hMax(AK400,X400,AF400)","v":985.9547956591349},{"$f":"Sigma_hMin(X400,Y400,AG400,AE400,AK400,AL400,AJ400,AI400,Z400,IF(L400=1,mu_redLead,mu_millScale))","v":484.59712283335068},501.35767282578422,0.49150034562120637,173.9928433889618,{"$f":"tau_n(N400,W400,U400,D400)","v":79.175709240528619},{"$f":"tau_hMax(X400,Z400,AH400,W400,U400)","v":135.23140665386464},{"$f":"tau_hMin(X400,Y400,AS400,AE400,Z400,AI400,IF(L400=1,mu_redLead,mu_millScale),W400,U400)","v":83.708549158124697},51.522857495739942]
[389,"Parola1965","R; L",2,2,11.9,64.5,null,5.55,7.9,129,null,475,358.52737919999998,-1,42500,1,"2FR 29",null,389,0.46638655462184869,0.88475836431226773,0.18449612403100776,179.26368959999999,-179.26368959999999,{"$f":"IF(OR(X401>=1.6*D401*AD401,D401=1),calcLoadFraction(G401,F401,I401,J401,K401,D401,1),\"Condition for spring model not fulfilled\")","v":0.5232883250511724},{"$f":"IF(L401>2,L401,IF(L401=2,1,sigma_cl0(I401+J401)))","v":108.5853519270334},{"$f":"Sigma_cl(AA401,U401,V401,X401)","v":96.569804902117582},{"$f":"Sigma_cl(AA401,U401,V401,Y401)","v":120.60089895194922},{"$f":"sigma_Slip(AB401,W401,U401,IF(L401=1,mu_redLead,mu_millScale))","v":24.282330580360881},{"$f":"sigma_Slip(AC401,W401,U401,IF(L401=1,mu_redLead,mu_millScale))","v":30.324912632972644},{"$f":"Sigma_p(AB401,V401)","v":-33.02810609658389},{"$f":"Sigma_p(AC401,V401)","v":-41.247047045044077},{"$f":"beta_1(X401,AD401,Z401)","v":0.74114474196288149},{"$f":"beta_1(Y401,AE401,Z401)","v":0.6767294202431311},{"$f":"k_tHole(W401,U401)","v":2.5423480569379171},{"$f":"K_t1Mu(Z401,AH401,D401,W401,U401,SIGN(X401),mu_millScale)","v":4.0791550333969013},{"$f":"K_t1Mu(Z401,AI401,D401,W401,U401,SIGN(Y401),mu_millScale)","v":9.1708140430137544E-2},{"$f":"Sigma_hMax(AK401,X401,AF401)","v":698.21627564055586},{"$f":"Sigma_hMin(X401,Y401,AG401,AE401,AK401,AL401,AJ401,AI401,Z401,IF(L401=1,mu_redLead,mu_millScale))","v":-156.03969986095342},854.25597550150928,-0.22348333217784111,265.39620427702971,{"$f":"tau_n(N401,W401,U401,D401)","v":235.26496463042554},{"$f":"tau_hMax(X401,Z401,AH401,W401,U401)","v":91.243373666979878},{"$f":"tau_hMin(X401,Y401,AS401,AE401,Z401,AI401,IF(L401=1,mu_redLead,mu_millScale),W401,U401)","v":-83.313112630535443},174.55648629751533]
[390,"Parola1965","R; L",2,2,11.9,64.5,null,5.55,7.9,129,null,475,365.42213650000002,-1,26600,0,"2FR 30",null,390,0.46638655462184869,0.88475836431226773,0.18449612403100776,182.71106825000001,-182.71106825000001,{"$f":"IF(OR(X402>=1.6*D402*AD402,D402=1),calcLoadFraction(G402,F402,I402,J402,K402,D402,1),\"Condition for spring model not fulfilled\")","v":0.5232883250511724},{"$f":"IF(L402>2,L402,IF(L402=2,1,sigma_cl0(I402+J402)))","v":108.5853519270334},{"$f":"Sigma_cl(AA402,U402,V402,X402)","v":96.338736689842179},{"$f":"Sigma_cl(AA402,U402,V402,Y402)","v":120.83196716422462},{"$f":"sigma_Slip(AB402,W402,U402,IF(L402=1,mu_redLead,mu_millScale))","v":24.224228829790174},{"$f":"sigma_Slip(AC402,W402,U402,IF(L402=1,mu_redLead,mu_millScale))","v":30.383014383543347},{"$f":"Sigma_p(AB402,V402)","v":-32.949077818145149},{"$f":"Sigma_p(AC402,V402)","v":-41.326075323482826},{"$f":"beta_1(X402,AD402,Z402)","v":0.74663649515562869},{"$f":"beta_1(Y402,AE402,Z402)","v":0.68222117343587829},{"$f":"k_tHole(W402,U402)","v":2.5423480569379171},{"$f":"K_t1Mu(Z402,AH402,D402,W402,U402,SIGN(X402),mu_millScale)","v":4.0904856168674888},{"$f":"K_t1Mu(Z402,AI402,D402,W402,U402,SIGN(Y402),mu_millScale)","v":7.8113546149858382E-2},{"$f":"Sigma_hMax(AK402,X402,AF402)","v":714.42791890097396},{"$f":"Sigma_hMin(X402,Y402,AG402,AE402,AK402,AL402,AJ402,AI402,Z402,IF(L402=1,mu_redLead,mu_millScale))","v":-155.17299292620763},869.60091182718156,-0.21719894872657683,270.27962421979765,{"$f":"tau_n(N402,W402,U402,D402)","v":239.78929087836602},{"$f":"tau_hMax(X402,Z402,AH402,W402,U402)","v":93.68715328130061},{"$f":"tau_hMin(X402,Y402,AS402,AE402,Z402,AI402,IF(L402=1,mu_redLead,mu_millScale),W402,U402)","v":-85.604387224754404},179.29154050605501]
[391,"Parola1965","R; L",2,2,11.9,64.5,null,5.55,7.9,129,null,475,258.55339850000001,-1,441000,1,"2FR 31",null,391,{"$f":"I403/F403","v":0.46638655462184869},{"$f":"F403/(J403+I403)","v":0.88475836431226773},{"$f":"F403/G403","v":0.18449612403100776},129.27669925000001,-129.27669925000001,{"$f":"IF(OR(X403>=1.6*D403*AD403,D403=1),calcLoadFraction(G403,F403,I403,J403,K403,D403,1),\"Condition for spring model not fulfilled\")","v":0.5232883250511724},{"$f":"IF(L403>2,L403,IF(L403=2,1,sigma_cl0(I403+J403)))","v":108.5853519270334},{"$f":"Sigma_cl(AA403,U403,V403,X403)","v":99.920293975083965},{"$f":"Sigma_cl(AA403,U403,V403,Y403)","v":117.25040987898284},{"$f":"sigma_Slip(AB403,W403,U403,IF(L403=1,mu_redLead,mu_millScale))","v":25.124805962372058},{"$f":"sigma_Slip(AC403,W403,U403,IF(L403=1,mu_redLead,mu_millScale))","v":29.482437250961464},{"$f":"Sigma_p(AB403,V403)","v":-34.174016132226434},{"$f":"Sigma_p(AC403,V403)","v":-40.10113700940154},{"$f":"beta_1(X403,AD403,Z403)","v":0.62860041338274997},{"$f":"beta_1(Y403,AE403,Z403)","v":0.56418509166299957},{"$f":"k_tHole(W403,U403)","v":2.5423480569379171},{"$f":"K_t1Mu(Z403,AH403,D403,W403,U403,SIGN(X403),mu_millScale)","v":3.8099841108521431},{"$f":"K_t1Mu(Z403,AI403,D403,W403,U403,SIGN(Y403),mu_millScale)","v":0.37846405897658325},{"$f":"Sigma_hMax(AK403,X403,AF403)","v":458.36815391368475},{"$f":"Sigma_hMin(X403,Y403,AG403,AE403,AK403,AL403,AJ403,AI403,Z403,IF(L403=1,mu_redLead,mu_millScale))","v":-163.56689342467945},621.93504733836426,-0.35684611164212932,191.63872088477734,{"$f":"tau_n(N403,W403,U403,D403)","v":169.66223413371836},{"$f":"tau_hMax(X403,Z403,AH403,W403,U403)","v":55.808569312495614},{"$f":"tau_hMin(X403,Y403,AS403,AE403,Z403,AI403,IF(L403=1,mu_redLead,mu_millScale),W403,U403)","v":-50.089631064208987},105.89820037670461]
[392,"Parola1965","R; L",2,2,11.9,52.5,null,7.15,9.5,105,null,438,206.8427188,0,153900,1,"3FR 1",null,392,0.60084033613445376,0.71471471471471482,0.22666666666666668,206.8427188,0,{"$f":"IF(OR(X404>=1.6*D404*AD404,D404=1),calcLoadFraction(G404,F404,I404,J404,K404,D404,1),\"Condition for spring model not fulfilled\")","v":0.51832504748893504},{"$f":"IF(L404>2,L404,IF(L404=2,1,sigma_cl0(I404+J404)))","v":128.89641602662022},{"$f":"Sigma_cl(AA404,U404,V404,X404)","v":113.10975043112909},{"$f":"Sigma_cl(AA404,U404,V404,Y404)","v":128.89641602662022},{"$f":"sigma_Slip(AB404,W404,U404,IF(L404=1,mu_redLead,mu_millScale))","v":28.601954362499924},{"$f":"sigma_Slip(AC404,W404,U404,IF(L404=1,mu_redLead,mu_millScale))","v":32.593913386167074},{"$f":"Sigma_p(AB404,V404)","v":-31.425412622404497},{"$f":"Sigma_p(AC404,V404)","v":-35.811440160961354},{"$f":"beta_1(X404,AD404,Z404)","v":0.73321999548369143},{"$f":"beta_1(Y404,AE404,Z404)","v":0},{"$f":"k_tHole(W404,U404)","v":2.4624877037037036},{"$f":"K_t1Mu(Z404,AH404,D404,W404,U404,SIGN(X404),mu_millScale)","v":3.5794840057441975},{"$f":"K_t1Mu(Z404,AI404,D404,W404,U404,SIGN(Y404),mu_millScale)","v":1.8243031757221333},{"$f":"Sigma_hMax(AK404,X404,AF404)","v":708.96479102684009},{"$f":"Sigma_hMin(X404,Y404,AG404,AE404,AK404,AL404,AJ404,AI404,Z404,IF(L404=1,mu_redLead,mu_millScale))","v":56.106948791495256},{"$f":"(AM404-AN404)","v":652.85784223534483},{"$f":"AN404/AM404","v":7.913925980757365E-2},208.37611934002985,{"$f":"tau_n(N404,W404,U404,D404)","v":134.96728653218813},{"$f":"tau_hMax(X404,Z404,AH404,W404,U404)","v":102.58763276022563},{"$f":"tau_hMin(X404,Y404,AS404,AE404,Z404,AI404,IF(L404=1,mu_redLead,mu_millScale),W404,U404)","v":28.071746025549416},74.515886734676215]
[393,"Parola1965","R; L",2,2,11.9,52.5,null,7.15,9.5,105,null,438,206.8427188,0,243700,1,"3FR 2",null,393,0.60084033613445376,0.71471471471471482,0.22666666666666668,206.8427188,0,{"$f":"IF(OR(X405>=1.6*D405*AD405,D405=1),calcLoadFraction(G405,F405,I405,J405,K405,D405,1),\"Condition for spring model not fulfilled\")","v":0.51832504748893504},{"$f":"IF(L405>2,L405,IF(L405=2,1,sigma_cl0(I405+J405)))","v":128.89641602662022},{"$f":"Sigma_cl(AA405,U405,V405,X405)","v":113.10975043112909},{"$f":"Sigma_cl(AA405,U405,V405,Y405)","v":128.89641602662022},{"$f":"sigma_Slip(AB405,W405,U405,IF(L405=1,mu_redLead,mu_millScale))","v":28.601954362499924},{"$f":"sigma_Slip(AC405,W405,U405,IF(L405=1,mu_redLead,mu_millScale))","v":32.593913386167074},{"$f":"Sigma_p(AB405,V405)","v":-31.425412622404497},{"$f":"Sigma_p(AC405,V405)","v":-35.811440160961354},{"$f":"beta_1(X405,AD405,Z405)","v":0.73321999548369143},{"$f":"beta_1(Y405,AE405,Z405)","v":0},{"$f":"k_tHole(W405,U405)","v":2.4624877037037036},{"$f":"K_t1Mu(Z405,AH405,D405,W405,U405,SIGN(X405),mu_millScale)","v":3.5794840057441975},{"$f":"K_t1Mu(Z405,AI405,D405,W405,U405,SIGN(Y405),mu_millScale)","v":1.8243031757221333},{"$f":"Sigma_hMax(AK405,X405,AF405)","v":708.96479102684009},{"$f":"Sigma_hMin(X405,Y405,AG405,AE405,AK405,AL405,AJ405,AI405,Z405,IF(L405=1,mu_redLead,mu_millScale))","v":56.106948791495256},652.85784223534483,7.913925980757365E-2,208.37611934002985,{"$f":"tau_n(N405,W405,U405,D405)","v":134.96728653218813},{"$f":"tau_hMax(X405,Z405,AH405,W405,U405)","v":102.58763276022563},{"$f":"tau_hMin(X405,Y405,AS405,AE405,Z405,AI405,IF(L405=1,mu_redLead,mu_millScale),W405,U405)","v":28.071746025549416},74.515886734676215]
[394,"Parola1965","R; L",2,2,11.9,52.5,null,7.15,9.5,105,null,438,206.8427188,0,114700,1,"3FR 3",null,394,0.60084033613445376,0.71471471471471482,0.22666666666666668,206.8427188,0,{"$f":"IF(OR(X406>=1.6*D406*AD406,D406=1),calcLoadFraction(G406,F406,I406,J406,K406,D406,1),\"Condition for spring model not fulfilled\")","v":0.51832504748893504},{"$f":"IF(L406>2,L406,IF(L406=2,1,sigma_cl0(I406+J406)))","v":128.89641602662022},{"$f":"Sigma_cl(AA406,U406,V406,X406)","v":113.10975043112909},{"$f":"Sigma_cl(AA406,U406,V406,Y406)","v":128.89641602662022},{"$f":"sigma_Slip(AB406,W406,U406,IF(L406=1,mu_redLead,mu_millScale))","v":28.601954362499924},{"$f":"sigma_Slip(AC406,W406,U406,IF(L406=1,mu_redLead,mu_millScale))","v":32.593913386167074},{"$f":"Sigma_p(AB406,V406)","v":-31.425412622404497},{"$f":"Sigma_p(AC406,V406)","v":-35.811440160961354},{"$f":"beta_1(X406,AD406,Z406)","v":0.73321999548369143},{"$f":"beta_1(Y406,AE406,Z406)","v":0},{"$f":"k_tHole(W406,U406)","v":2.4624877037037036},{"$f":"K_t1Mu(Z406,AH406,D406,W406,U406,SIGN(X406),mu_millScale)","v":3.5794840057441975},{"$f":"K_t1Mu(Z406,AI406,D406,W406,U406,SIGN(Y406),mu_millScale)","v":1.8243031757221333},{"$f":"Sigma_hMax(AK406,X406,AF406)","v":708.96479102684009},{"$f":"Sigma_hMin(X406,Y406,AG406,AE406,AK406,AL406,AJ406,AI406,Z406,IF(L406=1,mu_redLead,mu_millScale))","v":56.106948791495256},652.85784223534483,7.913925980757365E-2,208.37611934002985,{"$f":"tau_n(N406,W406,U406,D406)","v":134.96728653218813},{"$f":"tau_hMax(X406,Z406,AH406,W406,U406)","v":102.58763276022563},{"$f":"tau_hMin(X406,Y406,AS406,AE406,Z406,AI406,IF(L406=1,mu_redLead,mu_millScale),W406,U406)","v":28.071746025549416},74.515886734676215]
[395,"Parola1965","R; L",2,2,11.9,52.5,null,7.15,9.5,105,null,438,165.474175,0,668300,1,"3FR 4",null,395,0.60084033613445376,0.71471471471471482,0.22666666666666668,{"$f":"N407/(1-O407)","v":165.474175},{"$f":"X407*O407","v":0},{"$f":"IF(OR(X407>=1.6*D407*AD407,D407=1),calcLoadFraction(G407,F407,I407,J407,K407,D407,1),\"Condition for spring model not fulfilled\")","v":0.51832504748893504},{"$f":"IF(L407>2,L407,IF(L407=2,1,sigma_cl0(I407+J407)))","v":128.89641602662022},{"$f":"Sigma_cl(AA407,U407,V407,X407)","v":116.2670835532802},{"$f":"Sigma_cl(AA407,U407,V407,Y407)","v":128.89641602662022},{"$f":"sigma_Slip(AB407,W407,U407,IF(L407=1,mu_redLead,mu_millScale))","v":29.400346168005335},{"$f":"sigma_Slip(AC407,W407,U407,IF(L407=1,mu_redLead,mu_millScale))","v":32.593913386167074},{"$f":"Sigma_p(AB407,V407)","v":-32.302618130964056},{"$f":"Sigma_p(AC407,V407)","v":-35.811440160961354},{"$f":"beta_1(X407,AD407,Z407)","v":0.65721640967386941},{"$f":"beta_1(Y407,AE407,Z407)","v":0},{"$f":"k_tHole(W407,U407)","v":2.4624877037037036},{"$f":"K_t1Mu(Z407,AH407,D407,W407,U407,SIGN(X407),mu_millScale)","v":3.4365940795925338},{"$f":"K_t1Mu(Z407,AI407,D407,W407,U407,SIGN(Y407),mu_millScale)","v":1.8243031757221333},{"$f":"Sigma_hMax(AK407,X407,AF407)","v":536.36495199949479},{"$f":"Sigma_hMin(X407,Y407,AG407,AE407,AK407,AL407,AJ407,AI407,Z407,IF(L407=1,mu_redLead,mu_millScale))","v":46.785161345978857},489.57979065351594,8.7226358045152289E-2,156.41085657851704,{"$f":"tau_n(N407,W407,U407,D407)","v":107.97382919965004},{"$f":"tau_hMax(X407,Z407,AH407,W407,U407)","v":73.562942722359068},{"$f":"tau_hMin(X407,Y407,AS407,AE407,Z407,AI407,IF(L407=1,mu_redLead,mu_millScale),W407,U407)","v":23.34464759834427},50.218295124014801]
[396,"Parola1965","R; L",2,2,11.9,52.5,null,7.15,9.5,105,null,438,165.474175,0,1317000,1,"3FR 5",null,396,0.60084033613445376,0.71471471471471482,0.22666666666666668,165.474175,0,{"$f":"IF(OR(X408>=1.6*D408*AD408,D408=1),calcLoadFraction(G408,F408,I408,J408,K408,D408,1),\"Condition for spring model not fulfilled\")","v":0.51832504748893504},{"$f":"IF(L408>2,L408,IF(L408=2,1,sigma_cl0(I408+J408)))","v":128.89641602662022},{"$f":"Sigma_cl(AA408,U408,V408,X408)","v":116.2670835532802},{"$f":"Sigma_cl(AA408,U408,V408,Y408)","v":128.89641602662022},{"$f":"sigma_Slip(AB408,W408,U408,IF(L408=1,mu_redLead,mu_millScale))","v":29.400346168005335},{"$f":"sigma_Slip(AC408,W408,U408,IF(L408=1,mu_redLead,mu_millScale))","v":32.593913386167074},{"$f":"Sigma_p(AB408,V408)","v":-32.302618130964056},{"$f":"Sigma_p(AC408,V408)","v":-35.811440160961354},{"$f":"beta_1(X408,AD408,Z408)","v":0.65721640967386941},{"$f":"beta_1(Y408,AE408,Z408)","v":0},{"$f":"k_tHole(W408,U408)","v":2.4624877037037036},{"$f":"K_t1Mu(Z408,AH408,D408,W408,U408,SIGN(X408),mu_millScale)","v":3.4365940795925338},{"$f":"K_t1Mu(Z408,AI408,D408,W408,U408,SIGN(Y408),mu_millScale)","v":1.8243031757221333},{"$f":"Sigma_hMax(AK408,X408,AF408)","v":536.36495199949479},{"$f":"Sigma_hMin(X408,Y408,AG408,AE408,AK408,AL408,AJ408,AI408,Z408,IF(L408=1,mu_redLead,mu_millScale))","v":46.785161345978857},489.57979065351594,8.7226358045152289E-2,156.41085657851704,{"$f":"tau_n(N408,W408,U408,D408)","v":107.97382919965004},{"$f":"tau_hMax(X408,Z408,AH408,W408,U408)","v":73.562942722359068},{"$f":"tau_hMin(X408,Y408,AS408,AE408,Z408,AI408,IF(L408=1,mu_redLead,mu_millScale),W408,U408)","v":23.34464759834427},50.218295124014801]
[397,"Parola1965","R; L",2,2,11.9,52.5,null,7.15,9.5,105,null,438,165.474175,0,1160900,1,"3FR 6",null,397,0.60084033613445376,0.71471471471471482,0.22666666666666668,165.474175,0,{"$f":"IF(OR(X409>=1.6*D409*AD409,D409=1),calcLoadFraction(G409,F409,I409,J409,K409,D409,1),\"Condition for spring model not fulfilled\")","v":0.51832504748893504},{"$f":"IF(L409>2,L409,IF(L409=2,1,sigma_cl0(I409+J409)))","v":128.89641602662022},{"$f":"Sigma_cl(AA409,U409,V409,X409)","v":116.2670835532802},{"$f":"Sigma_cl(AA409,U409,V409,Y409)","v":128.89641602662022},{"$f":"sigma_Slip(AB409,W409,U409,IF(L409=1,mu_redLead,mu_millScale))","v":29.400346168005335},{"$f":"sigma_Slip(AC409,W409,U409,IF(L409=1,mu_redLead,mu_millScale))","v":32.593913386167074},{"$f":"Sigma_p(AB409,V409)","v":-32.302618130964056},{"$f":"Sigma_p(AC409,V409)","v":-35.811440160961354},{"$f":"beta_1(X409,AD409,Z409)","v":0.65721640967386941},{"$f":"beta_1(Y409,AE409,Z409)","v":0},{"$f":"k_tHole(W409,U409)","v":2.4624877037037036},{"$f":"K_t1Mu(Z409,AH409,D409,W409,U409,SIGN(X409),mu_millScale)","v":3.4365940795925338},{"$f":"K_t1Mu(Z409,AI409,D409,W409,U409,SIGN(Y409),mu_millScale)","v":1.8243031757221333},{"$f":"Sigma_hMax(AK409,X409,AF409)","v":536.36495199949479},{"$f":"Sigma_hMin(X409,Y409,AG409,AE409,AK409,AL409,AJ409,AI409,Z409,IF(L409=1,mu_redLead,mu_millScale))","v":46.785161345978857},489.57979065351594,8.7226358045152289E-2,156.41085657851704,{"$f":"tau_n(N409,W409,U409,D409)","v":107.97382919965004},{"$f":"tau_hMax(X409,Z409,AH409,W409,U409)","v":73.562942722359068},{"$f":"tau_hMin(X409,Y409,AS409,AE409,Z409,AI409,IF(L409=1,mu_redLead,mu_millScale),W409,U409)","v":23.34464759834427},50.218295124014801]
[398,"Parola1965","R; L",2,2,11.9,52.5,null,7.15,9.5,105,null,438,220.63223339999999,-1,1632600,1,"3FR 8",null,398,0.60084033613445376,0.71471471471471482,0.22666666666666668,110.31611669999999,-110.31611669999999,{"$f":"IF(OR(X410>=1.6*D410*AD410,D410=1),calcLoadFraction(G410,F410,I410,J410,K410,D410,1),\"Condition for spring model not fulfilled\")","v":0.51832504748893504},{"$f":"IF(L410>2,L410,IF(L410=2,1,sigma_cl0(I410+J410)))","v":128.89641602662022},{"$f":"Sigma_cl(AA410,U410,V410,X410)","v":120.47686104184947},{"$f":"Sigma_cl(AA410,U410,V410,Y410)","v":137.31597101139096},{"$f":"sigma_Slip(AB410,W410,U410,IF(L410=1,mu_redLead,mu_millScale))","v":30.464868573415931},{"$f":"sigma_Slip(AC410,W410,U410,IF(L410=1,mu_redLead,mu_millScale))","v":34.722958198918214},{"$f":"Sigma_p(AB410,V410)","v":-33.472225473589667},{"$f":"Sigma_p(AC410,V410)","v":-38.150654848333041},{"$f":"beta_1(X410,AD410,Z410)","v":0.46720744550527787},{"$f":"beta_1(Y410,AE410,Z410)","v":0.39273876879421155},{"$f":"k_tHole(W410,U410)","v":2.4624877037037036},{"$f":"K_t1Mu(Z410,AH410,D410,W410,U410,SIGN(X410),mu_millScale)","v":2.9925768460713993},{"$f":"K_t1Mu(Z410,AI410,D410,W410,U410,SIGN(Y410),mu_millScale)","v":0.97820130713761477},{"$f":"Sigma_hMax(AK410,X410,AF410)","v":296.65723111134076},{"$f":"Sigma_hMin(X410,Y410,AG410,AE410,AK410,AL410,AJ410,AI410,Z410,IF(L410=1,mu_redLead,mu_millScale))","v":-180.77729221610159},477.43452332744232,-0.6093810406672765,145.36607408412408,{"$f":"tau_n(N410,W410,U410,D410)","v":143.96510564303415},{"$f":"tau_hMax(X410,Z410,AH410,W410,U410)","v":34.863356075364898},{"$f":"tau_hMin(X410,Y410,AS410,AE410,Z410,AI410,IF(L410=1,mu_redLead,mu_millScale),W410,U410)","v":-29.306449785416206},64.169805860781111]
[399,"Parola1965","R; L",2,2,11.9,52.5,null,7.15,9.5,105,null,438,220.63223339999999,-1,954700,0,"3FR 9",null,399,0.60084033613445376,0.71471471471471482,0.22666666666666668,110.31611669999999,-110.31611669999999,{"$f":"IF(OR(X411>=1.6*D411*AD411,D411=1),calcLoadFraction(G411,F411,I411,J411,K411,D411,1),\"Condition for spring model not fulfilled\")","v":0.51832504748893504},{"$f":"IF(L411>2,L411,IF(L411=2,1,sigma_cl0(I411+J411)))","v":128.89641602662022},{"$f":"Sigma_cl(AA411,U411,V411,X411)","v":120.47686104184947},{"$f":"Sigma_cl(AA411,U411,V411,Y411)","v":137.31597101139096},{"$f":"sigma_Slip(AB411,W411,U411,IF(L411=1,mu_redLead,mu_millScale))","v":30.464868573415931},{"$f":"sigma_Slip(AC411,W411,U411,IF(L411=1,mu_redLead,mu_millScale))","v":34.722958198918214},{"$f":"Sigma_p(AB411,V411)","v":-33.472225473589667},{"$f":"Sigma_p(AC411,V411)","v":-38.150654848333041},{"$f":"beta_1(X411,AD411,Z411)","v":0.46720744550527787},{"$f":"beta_1(Y411,AE411,Z411)","v":0.39273876879421155},{"$f":"k_tHole(W411,U411)","v":2.4624877037037036},{"$f":"K_t1Mu(Z411,AH411,D411,W411,U411,SIGN(X411),mu_millScale)","v":2.9925768460713993},{"$f":"K_t1Mu(Z411,AI411,D411,W411,U411,SIGN(Y411),mu_millScale)","v":0.97820130713761477},{"$f":"Sigma_hMax(AK411,X411,AF411)","v":296.65723111134076},{"$f":"Sigma_hMin(X411,Y411,AG411,AE411,AK411,AL411,AJ411,AI411,Z411,IF(L411=1,mu_redLead,mu_millScale))","v":-180.77729221610159},477.43452332744232,-0.6093810406672765,145.36607408412408,{"$f":"tau_n(N411,W411,U411,D411)","v":143.96510564303415},{"$f":"tau_hMax(X411,Z411,AH411,W411,U411)","v":34.863356075364898},{"$f":"tau_hMin(X411,Y411,AS411,AE411,Z411,AI411,IF(L411=1,mu_redLead,mu_millScale),W411,U411)","v":-29.306449785416206},64.169805860781111]
[400,"Parola1965","R; L",2,2,11.9,52.5,null,7.15,9.5,105,null,438,220.63223339999999,-1,695900,1,"3FR 10",null,400,0.60084033613445376,0.71471471471471482,0.22666666666666668,110.31611669999999,-110.31611669999999,{"$f":"IF(OR(X412>=1.6*D412*AD412,D412=1),calcLoadFraction(G412,F412,I412,J412,K412,D412,1),\"Condition for spring model not fulfilled\")","v":0.51832504748893504},{"$f":"IF(L412>2,L412,IF(L412=2,1,sigma_cl0(I412+J412)))","v":128.89641602662022},{"$f":"Sigma_cl(AA412,U412,V412,X412)","v":120.47686104184947},{"$f":"Sigma_cl(AA412,U412,V412,Y412)","v":137.31597101139096},{"$f":"sigma_Slip(AB412,W412,U412,IF(L412=1,mu_redLead,mu_millScale))","v":30.464868573415931},{"$f":"sigma_Slip(AC412,W412,U412,IF(L412=1,mu_redLead,mu_millScale))","v":34.722958198918214},{"$f":"Sigma_p(AB412,V412)","v":-33.472225473589667},{"$f":"Sigma_p(AC412,V412)","v":-38.150654848333041},{"$f":"beta_1(X412,AD412,Z412)","v":0.46720744550527787},{"$f":"beta_1(Y412,AE412,Z412)","v":0.39273876879421155},{"$f":"k_tHole(W412,U412)","v":2.4624877037037036},{"$f":"K_t1Mu(Z412,AH412,D412,W412,U412,SIGN(X412),mu_millScale)","v":2.9925768460713993},{"$f":"K_t1Mu(Z412,AI412,D412,W412,U412,SIGN(Y412),mu_millScale)","v":0.97820130713761477},{"$f":"Sigma_hMax(AK412,X412,AF412)","v":296.65723111134076},{"$f":"Sigma_hMin(X412,Y412,AG412,AE412,AK412,AL412,AJ412,AI412,Z412,IF(L412=1,mu_redLead,mu_millScale))","v":-180.77729221610159},477.43452332744232,-0.6093810406672765,145.36607408412408,{"$f":"tau_n(N412,W412,U412,D412)","v":143.96510564303415},{"$f":"tau_hMax(X412,Z412,AH412,W412,U412)","v":34.863356075364898},{"$f":"tau_hMin(X412,Y412,AS412,AE412,Z412,AI412,IF(L412=1,mu_redLead,mu_millScale),W412,U412)","v":-29.306449785416206},64.169805860781111]
[401,"Parola1965","R; L",2,2,11.9,52.5,null,7.15,9.5,105,null,438,151.68466050000001,0,5104000,0,"3FR 11",null,401,0.60084033613445376,0.71471471471471482,0.22666666666666668,151.68466050000001,0,{"$f":"IF(OR(X413>=1.6*D413*AD413,D413=1),calcLoadFraction(G413,F413,I413,J413,K413,D413,1),\"Condition for spring model not fulfilled\")","v":0.51832504748893504},{"$f":"IF(L413>2,L413,IF(L413=2,1,sigma_cl0(I413+J413)))","v":128.89641602662022},{"$f":"Sigma_cl(AA413,U413,V413,X413)","v":117.31952791969836},{"$f":"Sigma_cl(AA413,U413,V413,Y413)","v":128.89641602662022},{"$f":"sigma_Slip(AB413,W413,U413,IF(L413=1,mu_redLead,mu_millScale))","v":29.66647676791052},{"$f":"sigma_Slip(AC413,W413,U413,IF(L413=1,mu_redLead,mu_millScale))","v":32.593913386167074},{"$f":"Sigma_p(AB413,V413)","v":-32.595019965030112},{"$f":"Sigma_p(AC413,V413)","v":-35.811440160961354},{"$f":"beta_1(X413,AD413,Z413)","v":0.62266932547601961},{"$f":"beta_1(Y413,AE413,Z413)","v":0},{"$f":"k_tHole(W413,U413)","v":2.4624877037037036},{"$f":"K_t1Mu(Z413,AH413,D413,W413,U413,SIGN(X413),mu_millScale)","v":3.3638972458210383},{"$f":"K_t1Mu(Z413,AI413,D413,W413,U413,SIGN(Y413),mu_millScale)","v":1.8243031757221333},{"$f":"Sigma_hMax(AK413,X413,AF413)","v":477.65659172421914},{"$f":"Sigma_hMin(X413,Y413,AG413,AE413,AK413,AL413,AJ413,AI413,Z413,IF(L413=1,mu_redLead,mu_millScale))","v":42.537272502517524},435.11931922170163,8.9054088731338896E-2,139.04210331390931,{"$f":"tau_n(N413,W413,U413,D413)","v":98.976010154055174},{"$f":"tau_hMax(X413,Z413,AH413,W413,U413)","v":63.888046113231475},{"$f":"tau_hMin(X413,Y413,AS413,AE413,Z413,AI413,IF(L413=1,mu_redLead,mu_millScale),W413,U413)","v":21.430024637486859},42.458021475744616]
[402,"Parola1965","R; L",2,2,11.9,52.5,null,7.15,9.5,105,null,438,134.44776719999999,0.5,4877500,0,"3FR 12",null,402,0.60084033613445376,0.71471471471471482,0.22666666666666668,268.89553439999997,134.44776719999999,{"$f":"IF(OR(X414>=1.6*D414*AD414,D414=1),calcLoadFraction(G414,F414,I414,J414,K414,D414,1),\"Condition for spring model not fulfilled\")","v":0.51832504748893504},{"$f":"IF(L414>2,L414,IF(L414=2,1,sigma_cl0(I414+J414)))","v":128.89641602662022},{"$f":"Sigma_cl(AA414,U414,V414,X414)","v":108.37375075553463},{"$f":"Sigma_cl(AA414,U414,V414,Y414)","v":118.63508339107743},{"$f":"sigma_Slip(AB414,W414,U414,IF(L414=1,mu_redLead,mu_millScale))","v":27.404366656171756},{"$f":"sigma_Slip(AC414,W414,U414,IF(L414=1,mu_redLead,mu_millScale))","v":29.999140021169413},{"$f":"Sigma_p(AB414,V414)","v":-30.109604361685623},{"$f":"Sigma_p(AC414,V414)","v":-32.96052226132349},{"$f":"beta_1(X414,AD414,Z414)","v":0.80337715149625166},{"$f":"beta_1(Y414,AE414,Z414)","v":0.56951996463697019},{"$f":"k_tHole(W414,U414)","v":2.4624877037037036},{"$f":"K_t1Mu(Z414,AH414,D414,W414,U414,SIGN(X414),mu_millScale)","v":3.6868727089350855},{"$f":"K_t1Mu(Z414,AI414,D414,W414,U414,SIGN(Y414),mu_millScale)","v":3.2441292367652568},{"$f":"Sigma_hMax(AK414,X414,AF414)","v":961.27400297218969},{"$f":"Sigma_hMin(X414,Y414,AG414,AE414,AK414,AL414,AJ414,AI414,Z414,IF(L414=1,mu_redLead,mu_millScale))","v":475.73605938859617},485.53794358359352,0.4949016179753688,168.70618655773831,{"$f":"tau_n(N414,W414,U414,D414)","v":87.728736232872038},{"$f":"tau_hMax(X414,Z414,AH414,W414,U414)","v":146.12466774686419},{"$f":"tau_hMin(X414,Y414,AS414,AE414,Z414,AI414,IF(L414=1,mu_redLead,mu_millScale),W414,U414)","v":91.166736342645493},54.957931404218698]
[403,"Parola1965","R; L",2,2,11.9,52.5,null,7.15,9.5,105,null,438,220.63223339999999,-1,2535200,1,"3FR 13",null,403,0.60084033613445376,0.71471471471471482,0.22666666666666668,110.31611669999999,-110.31611669999999,{"$f":"IF(OR(X415>=1.6*D415*AD415,D415=1),calcLoadFraction(G415,F415,I415,J415,K415,D415,1),\"Condition for spring model not fulfilled\")","v":0.51832504748893504},{"$f":"IF(L415>2,L415,IF(L415=2,1,sigma_cl0(I415+J415)))","v":128.89641602662022},{"$f":"Sigma_cl(AA415,U415,V415,X415)","v":120.47686104184947},{"$f":"Sigma_cl(AA415,U415,V415,Y415)","v":137.31597101139096},{"$f":"sigma_Slip(AB415,W415,U415,IF(L415=1,mu_redLead,mu_millScale))","v":30.464868573415931},{"$f":"sigma_Slip(AC415,W415,U415,IF(L415=1,mu_redLead,mu_millScale))","v":34.722958198918214},{"$f":"Sigma_p(AB415,V415)","v":-33.472225473589667},{"$f":"Sigma_p(AC415,V415)","v":-38.150654848333041},{"$f":"beta_1(X415,AD415,Z415)","v":0.46720744550527787},{"$f":"beta_1(Y415,AE415,Z415)","v":0.39273876879421155},{"$f":"k_tHole(W415,U415)","v":2.4624877037037036},{"$f":"K_t1Mu(Z415,AH415,D415,W415,U415,SIGN(X415),mu_millScale)","v":2.9925768460713993},{"$f":"K_t1Mu(Z415,AI415,D415,W415,U415,SIGN(Y415),mu_millScale)","v":0.97820130713761477},{"$f":"Sigma_hMax(AK415,X415,AF415)","v":296.65723111134076},{"$f":"Sigma_hMin(X415,Y415,AG415,AE415,AK415,AL415,AJ415,AI415,Z415,IF(L415=1,mu_redLead,mu_millScale))","v":-180.77729221610159},477.43452332744232,-0.6093810406672765,145.36607408412408,{"$f":"tau_n(N415,W415,U415,D415)","v":143.96510564303415},{"$f":"tau_hMax(X415,Z415,AH415,W415,U415)","v":34.863356075364898},{"$f":"tau_hMin(X415,Y415,AS415,AE415,Z415,AI415,IF(L415=1,mu_redLead,mu_millScale),W415,U415)","v":-29.306449785416206},64.169805860781111]
[404,"Parola1965","R; L",2,2,11.9,52.5,null,7.15,9.5,105,null,438,141.3425245,0.5,792700,1,"3FR 15",null,404,0.60084033613445376,0.71471471471471482,0.22666666666666668,282.68504899999999,141.3425245,{"$f":"IF(OR(X416>=1.6*D416*AD416,D416=1),calcLoadFraction(G416,F416,I416,J416,K416,D416,1),\"Condition for spring model not fulfilled\")","v":0.51832504748893504},{"$f":"IF(L416>2,L416,IF(L416=2,1,sigma_cl0(I416+J416)))","v":128.89641602662022},{"$f":"Sigma_cl(AA416,U416,V416,X416)","v":107.32130638148426},{"$f":"Sigma_cl(AA416,U416,V416,Y416)","v":118.10886120405225},{"$f":"sigma_Slip(AB416,W416,U416,IF(L416=1,mu_redLead,mu_millScale))","v":27.138236054336623},{"$f":"sigma_Slip(AC416,W416,U416,IF(L416=1,mu_redLead,mu_millScale))","v":29.866074720251849},{"$f":"Sigma_p(AB416,V416)","v":-29.817202525499106},{"$f":"Sigma_p(AC416,V416)","v":-32.814321343230233},{"$f":"beta_1(X416,AD416,Z416)","v":0.81478481916003032},{"$f":"beta_1(Y416,AE416,Z416)","v":0.5923352999645275},{"$f":"k_tHole(W416,U416)","v":2.4624877037037036},{"$f":"K_t1Mu(Z416,AH416,D416,W416,U416,SIGN(X416),mu_millScale)","v":3.7018167461469722},{"$f":"K_t1Mu(Z416,AI416,D416,W416,U416,SIGN(Y416),mu_millScale)","v":3.2966289267935509},{"$f":"Sigma_hMax(AK416,X416,AF416)","v":1016.6310457480782},{"$f":"Sigma_hMin(X416,Y416,AG416,AE416,AK416,AL416,AJ416,AI416,Z416,IF(L416=1,mu_redLead,mu_millScale))","v":499.73071736443808},516.90032838364016,0.49155563314192907,179.39031649369747,{"$f":"tau_n(N416,W416,U416,D416)","v":92.227645788295064},{"$f":"tau_hMax(X416,Z416,AH416,W416,U416)","v":155.79956442615304},{"$f":"tau_hMin(X416,Y416,AS416,AE416,Z416,AI416,IF(L416=1,mu_redLead,mu_millScale),W416,U416)","v":96.629581833258044},59.169982592894996]
[405,"Parola1965","R; L",2,2,11.9,52.5,null,7.15,9.5,105,null,438,131.00038860000001,0.5,1340400,1,"3FR 17",null,405,0.60084033613445376,0.71471471471471482,0.22666666666666668,262.00077720000002,131.00038860000001,{"$f":"IF(OR(X417>=1.6*D417*AD417,D417=1),calcLoadFraction(G417,F417,I417,J417,K417,D417,1),\"Condition for spring model not fulfilled\")","v":0.51832504748893504},{"$f":"IF(L417>2,L417,IF(L417=2,1,sigma_cl0(I417+J417)))","v":128.89641602662022},{"$f":"Sigma_cl(AA417,U417,V417,X417)","v":108.8999729349276},{"$f":"Sigma_cl(AA417,U417,V417,Y417)","v":118.89819448077391},{"$f":"sigma_Slip(AB417,W417,U417,IF(L417=1,mu_redLead,mu_millScale))","v":27.537431955159377},{"$f":"sigma_Slip(AC417,W417,U417,IF(L417=1,mu_redLead,mu_millScale))","v":30.065672670663226},{"$f":"Sigma_p(AB417,V417)","v":-30.255805277658418},{"$f":"Sigma_p(AC417,V417)","v":-33.033622719309889},{"$f":"beta_1(X417,AD417,Z417)","v":0.79722301508451521},{"$f":"beta_1(Y417,AE417,Z417)","v":0.55721169181349728},{"$f":"k_tHole(W417,U417)","v":2.4624877037037036},{"$f":"K_t1Mu(Z417,AH417,D417,W417,U417,SIGN(X417),mu_millScale)","v":3.6785045207384219},{"$f":"K_t1Mu(Z417,AI417,D417,W417,U417,SIGN(Y417),mu_millScale)","v":3.2151846437488261},{"$f":"Sigma_hMax(AK417,X417,AF417)","v":933.51523808952174},{"$f":"Sigma_hMin(X417,Y417,AG417,AE417,AK417,AL417,AJ417,AI417,Z417,IF(L417=1,mu_redLead,mu_millScale))","v":463.64126916481428},469.87396892470747,0.49666170432705059,163.36648602569269,{"$f":"tau_n(N417,W417,U417,D417)","v":85.479281487786125},{"$f":"tau_hMax(X417,Z417,AH417,W417,U417)","v":141.28721947738106},{"$f":"tau_hMin(X417,Y417,AS417,AE417,Z417,AI417,IF(L417=1,mu_redLead,mu_millScale),W417,U417)","v":88.42494817838174},52.862271298999318]
[406,"Parola1965","R; L",2,2,11.9,52.5,null,7.15,9.5,105,null,438,127.55300990000001,0.5,3581400,0,"3FR 18",null,406,0.60084033613445376,0.71471471471471482,0.22666666666666668,255.10601980000001,127.55300990000001,{"$f":"IF(OR(X418>=1.6*D418*AD418,D418=1),calcLoadFraction(G418,F418,I418,J418,K418,D418,1),\"Condition for spring model not fulfilled\")","v":0.51832504748893504},{"$f":"IF(L418>2,L418,IF(L418=2,1,sigma_cl0(I418+J418)))","v":128.89641602662022},{"$f":"Sigma_cl(AA418,U418,V418,X418)","v":109.426195129585},{"$f":"Sigma_cl(AA418,U418,V418,Y418)","v":119.16130557810261},{"$f":"sigma_Slip(AB418,W418,U418,IF(L418=1,mu_redLead,mu_millScale))","v":27.670497258006893},{"$f":"sigma_Slip(AC418,W418,U418,IF(L418=1,mu_redLead,mu_millScale))","v":30.132205322086985},{"$f":"Sigma_p(AB418,V418)","v":-30.402006197872144},{"$f":"Sigma_p(AC418,V418)","v":-33.106723179416754},{"$f":"beta_1(X418,AD418,Z418)","v":0.79073622246196562},{"$f":"beta_1(Y418,AE418,Z418)","v":0.54423810656839799},{"$f":"k_tHole(W418,U418)","v":2.4624877037037036},{"$f":"K_t1Mu(Z418,AH418,D418,W418,U418,SIGN(X418),mu_millScale)","v":3.6694555748318121},{"$f":"K_t1Mu(Z418,AI418,D418,W418,U418,SIGN(Y418),mu_millScale)","v":3.1842348508188119},{"$f":"Sigma_hMax(AK418,X418,AF418)","v":905.69820033039252},{"$f":"Sigma_hMin(X418,Y418,AG418,AE418,AK418,AL418,AJ418,AI418,Z418,IF(L418=1,mu_redLead,mu_millScale))","v":451.47465728051384},454.22354304987869,0.49848244935875874,158.02880024618042,{"$f":"tau_n(N418,W418,U418,D418)","v":83.22982667744904},{"$f":"tau_hMax(X418,Z418,AH418,W418,U418)","v":136.44977106757537},{"$f":"tau_hMin(X418,Y418,AS418,AE418,Z418,AI418,IF(L418=1,mu_redLead,mu_millScale),W418,U418)","v":85.675658730124752},50.774112337450617]
[407,"Parola1965","R; L",2,2,11.9,52.5,null,7.15,9.5,105,null,438,155.13203909999999,0.5,431000,1,"3FR 21",null,407,0.60084033613445376,0.71471471471471482,0.22666666666666668,310.26407819999997,155.13203909999999,{"$f":"IF(OR(X419>=1.6*D419*AD419,D419=1),calcLoadFraction(G419,F419,I419,J419,K419,D419,1),\"Condition for spring model not fulfilled\")","v":0.51832504748893504},{"$f":"IF(L419>2,L419,IF(L419=2,1,sigma_cl0(I419+J419)))","v":128.89641602662022},{"$f":"Sigma_cl(AA419,U419,V419,X419)","v":105.21641763338353},{"$f":"Sigma_cl(AA419,U419,V419,Y419)","v":117.05641683000187},{"$f":"sigma_Slip(AB419,W419,U419,IF(L419=1,mu_redLead,mu_millScale))","v":26.60597485066635},{"$f":"sigma_Slip(AC419,W419,U419,IF(L419=1,mu_redLead,mu_millScale))","v":29.599944118416708},{"$f":"Sigma_p(AB419,V419)","v":-29.232398853126067},{"$f":"Sigma_p(AC419,V419)","v":-32.521919507043712},{"$f":"beta_1(X419,AD419,Z419)","v":0.83455810977430533},{"$f":"beta_1(Y419,AE419,Z419)","v":0.63188188119307753},{"$f":"k_tHole(W419,U419)","v":2.4624877037037036},{"$f":"K_t1Mu(Z419,AH419,D419,W419,U419,SIGN(X419),mu_millScale)","v":3.7259264605113755},{"$f":"K_t1Mu(Z419,AI419,D419,W419,U419,SIGN(Y419),mu_millScale)","v":3.3837091328713425},{"$f":"Sigma_hMax(AK419,X419,AF419)","v":1126.7887398584244},{"$f":"Sigma_hMin(X419,Y419,AG419,AE419,AK419,AL419,AJ419,AI419,Z419,IF(L419=1,mu_redLead,mu_millScale))","v":547.06018163064175},579.72855822778263,0.48550377038678721,200.77043556672373,{"$f":"tau_n(N419,W419,U419,D419)","v":101.22546489914109},{"$f":"tau_hMax(X419,Z419,AH419,W419,U419)","v":175.14935778473077},{"$f":"tau_hMin(X419,Y419,AS419,AE419,Z419,AI419,IF(L419=1,mu_redLead,mu_millScale),W419,U419)","v":107.48294498635227},67.666412798378502]
[408,"Parola1965","R; L",2,2,11.9,52.5,null,7.15,9.5,105,null,438,330.94835010000003,-1,330600,1,"3FR 25",null,408,0.60084033613445376,0.71471471471471482,0.22666666666666668,165.47417505000001,-165.47417505000001,{"$f":"IF(OR(X420>=1.6*D420*AD420,D420=1),calcLoadFraction(G420,F420,I420,J420,K420,D420,1),\"Condition for spring model not fulfilled\")","v":0.51832504748893504},{"$f":"IF(L420>2,L420,IF(L420=2,1,sigma_cl0(I420+J420)))","v":128.89641602662022},{"$f":"Sigma_cl(AA420,U420,V420,X420)","v":116.26708354946409},{"$f":"Sigma_cl(AA420,U420,V420,Y420)","v":141.52574850377633},{"$f":"sigma_Slip(AB420,W420,U420,IF(L420=1,mu_redLead,mu_millScale))","v":29.400346167040357},{"$f":"sigma_Slip(AC420,W420,U420,IF(L420=1,mu_redLead,mu_millScale))","v":35.78748060529378},{"$f":"Sigma_p(AB420,V420)","v":-32.30261812990382},{"$f":"Sigma_p(AC420,V420)","v":-39.320262192018888},{"$f":"beta_1(X420,AD420,Z420)","v":0.65721640978869644},{"$f":"beta_1(Y420,AE420,Z420)","v":0.58274773307763006},{"$f":"k_tHole(W420,U420)","v":2.4624877037037036},{"$f":"K_t1Mu(Z420,AH420,D420,W420,U420,SIGN(X420),mu_millScale)","v":3.4365940798267194},{"$f":"K_t1Mu(Z420,AI420,D420,W420,U420,SIGN(Y420),mu_millScale)","v":0.56712079379618818},{"$f":"Sigma_hMax(AK420,X420,AF420)","v":536.36495221113648},{"$f":"Sigma_hMin(X420,Y420,AG420,AE420,AK420,AL420,AJ420,AI420,Z420,IF(L420=1,mu_redLead,mu_millScale))","v":-205.48933043382206},741.85428264495852,-0.3831147609229556,228.2611865827773,{"$f":"tau_n(N420,W420,U420,D420)","v":215.94765846455127},{"$f":"tau_hMax(X420,Z420,AH420,W420,U420)","v":73.562942757439714},{"$f":"tau_hMin(X420,Y420,AS420,AE420,Z420,AI420,IF(L420=1,mu_redLead,mu_millScale),W420,U420)","v":-65.227583322516665},138.79052607995638]
[409,"Parola1965","R; L",2,2,11.9,52.5,null,7.15,9.5,105,null,438,220.63223339999999,-1,778800,1,"3FR 27",null,409,0.60084033613445376,0.71471471471471482,0.22666666666666668,110.31611669999999,-110.31611669999999,{"$f":"IF(OR(X421>=1.6*D421*AD421,D421=1),calcLoadFraction(G421,F421,I421,J421,K421,D421,1),\"Condition for spring model not fulfilled\")","v":0.51832504748893504},{"$f":"IF(L421>2,L421,IF(L421=2,1,sigma_cl0(I421+J421)))","v":128.89641602662022},{"$f":"Sigma_cl(AA421,U421,V421,X421)","v":120.47686104184947},{"$f":"Sigma_cl(AA421,U421,V421,Y421)","v":137.31597101139096},{"$f":"sigma_Slip(AB421,W421,U421,IF(L421=1,mu_redLead,mu_millScale))","v":30.464868573415931},{"$f":"sigma_Slip(AC421,W421,U421,IF(L421=1,mu_redLead,mu_millScale))","v":34.722958198918214},{"$f":"Sigma_p(AB421,V421)","v":-33.472225473589667},{"$f":"Sigma_p(AC421,V421)","v":-38.150654848333041},{"$f":"beta_1(X421,AD421,Z421)","v":0.46720744550527787},{"$f":"beta_1(Y421,AE421,Z421)","v":0.39273876879421155},{"$f":"k_tHole(W421,U421)","v":2.4624877037037036},{"$f":"K_t1Mu(Z421,AH421,D421,W421,U421,SIGN(X421),mu_millScale)","v":2.9925768460713993},{"$f":"K_t1Mu(Z421,AI421,D421,W421,U421,SIGN(Y421),mu_millScale)","v":0.97820130713761477},{"$f":"Sigma_hMax(AK421,X421,AF421)","v":296.65723111134076},{"$f":"Sigma_hMin(X421,Y421,AG421,AE421,AK421,AL421,AJ421,AI421,Z421,IF(L421=1,mu_redLead,mu_millScale))","v":-180.77729221610159},477.43452332744232,-0.6093810406672765,145.36607408412408,{"$f":"tau_n(N421,W421,U421,D421)","v":143.96510564303415},{"$f":"tau_hMax(X421,Z421,AH421,W421,U421)","v":34.863356075364898},{"$f":"tau_hMin(X421,Y421,AS421,AE421,Z421,AI421,IF(L421=1,mu_redLead,mu_millScale),W421,U421)","v":-29.306449785416206},64.169805860781111]
[410,"Parola1965","R; L",2,2,11.9,52.5,null,7.15,9.5,105,null,438,330.94835010000003,-1,159200,1,"3FR 29",null,410,0.60084033613445376,0.71471471471471482,0.22666666666666668,165.47417505000001,-165.47417505000001,{"$f":"IF(OR(X422>=1.6*D422*AD422,D422=1),calcLoadFraction(G422,F422,I422,J422,K422,D422,1),\"Condition for spring model not fulfilled\")","v":0.51832504748893504},{"$f":"IF(L422>2,L422,IF(L422=2,1,sigma_cl0(I422+J422)))","v":128.89641602662022},{"$f":"Sigma_cl(AA422,U422,V422,X422)","v":116.26708354946409},{"$f":"Sigma_cl(AA422,U422,V422,Y422)","v":141.52574850377633},{"$f":"sigma_Slip(AB422,W422,U422,IF(L422=1,mu_redLead,mu_millScale))","v":29.400346167040357},{"$f":"sigma_Slip(AC422,W422,U422,IF(L422=1,mu_redLead,mu_millScale))","v":35.78748060529378},{"$f":"Sigma_p(AB422,V422)","v":-32.30261812990382},{"$f":"Sigma_p(AC422,V422)","v":-39.320262192018888},{"$f":"beta_1(X422,AD422,Z422)","v":0.65721640978869644},{"$f":"beta_1(Y422,AE422,Z422)","v":0.58274773307763006},{"$f":"k_tHole(W422,U422)","v":2.4624877037037036},{"$f":"K_t1Mu(Z422,AH422,D422,W422,U422,SIGN(X422),mu_millScale)","v":3.4365940798267194},{"$f":"K_t1Mu(Z422,AI422,D422,W422,U422,SIGN(Y422),mu_millScale)","v":0.56712079379618818},{"$f":"Sigma_hMax(AK422,X422,AF422)","v":536.36495221113648},{"$f":"Sigma_hMin(X422,Y422,AG422,AE422,AK422,AL422,AJ422,AI422,Z422,IF(L422=1,mu_redLead,mu_millScale))","v":-205.48933043382206},741.85428264495852,-0.3831147609229556,228.2611865827773,{"$f":"tau_n(N422,W422,U422,D422)","v":215.94765846455127},{"$f":"tau_hMax(X422,Z422,AH422,W422,U422)","v":73.562942757439714},{"$f":"tau_hMin(X422,Y422,AS422,AE422,Z422,AI422,IF(L422=1,mu_redLead,mu_millScale),W422,U422)","v":-65.227583322516665},138.79052607995638]
[411,"Parola1965","R; L",2,2,11.9,52.5,null,7.15,9.5,105,null,438,275.79029170000001,-1,461800,1,"3FR 30",null,411,0.60084033613445376,0.71471471471471482,0.22666666666666668,137.89514585000001,-137.89514585000001,{"$f":"IF(OR(X423>=1.6*D423*AD423,D423=1),calcLoadFraction(G423,F423,I423,J423,K423,D423,1),\"Condition for spring model not fulfilled\")","v":0.51832504748893504},{"$f":"IF(L423>2,L423,IF(L423=2,1,sigma_cl0(I423+J423)))","v":128.89641602662022},{"$f":"Sigma_cl(AA423,U423,V423,X423)","v":118.37197229756484},{"$f":"Sigma_cl(AA423,U423,V423,Y423)","v":139.42085975567559},{"$f":"sigma_Slip(AB423,W423,U423,IF(L423=1,mu_redLead,mu_millScale))","v":29.932607370710631},{"$f":"sigma_Slip(AC423,W423,U423,IF(L423=1,mu_redLead,mu_millScale))","v":35.255219401623513},{"$f":"Sigma_p(AB423,V423)","v":-32.887421802276862},{"$f":"Sigma_p(AC423,V423)","v":-38.735458519645846},{"$f":"beta_1(X423,AD423,Z423)","v":0.58121282399265362},{"$f":"beta_1(Y423,AE423,Z423)","v":0.50674414728158723},{"$f":"k_tHole(W423,U423)","v":2.4624877037037036},{"$f":"K_t1Mu(Z423,AH423,D423,W423,U423,SIGN(X423),mu_millScale)","v":3.2712288138446697},{"$f":"K_t1Mu(Z423,AI423,D423,W423,U423,SIGN(Y423),mu_millScale)","v":0.72888638317012444},{"$f":"Sigma_hMax(AK423,X423,AF423)","v":418.19915259155636},{"$f":"Sigma_hMin(X423,Y423,AG423,AE423,AK423,AL423,AJ423,AI423,Z423,IF(L423=1,mu_redLead,mu_millScale))","v":-196.22660795218812},614.42576054374445,-0.46921809079760923,188.22882903434359,{"$f":"tau_n(N423,W423,U423,D423)","v":179.95638202116712},{"$f":"tau_hMax(X423,Z423,AH423,W423,U423)","v":54.213149398861987},{"$f":"tau_hMin(X423,Y423,AS423,AE423,Z423,AI423,IF(L423=1,mu_redLead,mu_millScale),W423,U423)","v":-47.267016537685436},101.48016593654742]
[412,"Parola1965","R; L",2,2,11.9,52.5,null,7.15,9.5,105,null,438,275.79029170000001,-1,681200,1,"3FR 31",null,412,0.60084033613445376,0.71471471471471482,0.22666666666666668,137.89514585000001,-137.89514585000001,{"$f":"IF(OR(X424>=1.6*D424*AD424,D424=1),calcLoadFraction(G424,F424,I424,J424,K424,D424,1),\"Condition for spring model not fulfilled\")","v":0.51832504748893504},{"$f":"IF(L424>2,L424,IF(L424=2,1,sigma_cl0(I424+J424)))","v":128.89641602662022},{"$f":"Sigma_cl(AA424,U424,V424,X424)","v":118.37197229756484},{"$f":"Sigma_cl(AA424,U424,V424,Y424)","v":139.42085975567559},{"$f":"sigma_Slip(AB424,W424,U424,IF(L424=1,mu_redLead,mu_millScale))","v":29.932607370710631},{"$f":"sigma_Slip(AC424,W424,U424,IF(L424=1,mu_redLead,mu_millScale))","v":35.255219401623513},{"$f":"Sigma_p(AB424,V424)","v":-32.887421802276862},{"$f":"Sigma_p(AC424,V424)","v":-38.735458519645846},{"$f":"beta_1(X424,AD424,Z424)","v":0.58121282399265362},{"$f":"beta_1(Y424,AE424,Z424)","v":0.50674414728158723},{"$f":"k_tHole(W424,U424)","v":2.4624877037037036},{"$f":"K_t1Mu(Z424,AH424,D424,W424,U424,SIGN(X424),mu_millScale)","v":3.2712288138446697},{"$f":"K_t1Mu(Z424,AI424,D424,W424,U424,SIGN(Y424),mu_millScale)","v":0.72888638317012444},{"$f":"Sigma_hMax(AK424,X424,AF424)","v":418.19915259155636},{"$f":"Sigma_hMin(X424,Y424,AG424,AE424,AK424,AL424,AJ424,AI424,Z424,IF(L424=1,mu_redLead,mu_millScale))","v":-196.22660795218812},614.42576054374445,-0.46921809079760923,188.22882903434359,{"$f":"tau_n(N424,W424,U424,D424)","v":179.95638202116712},{"$f":"tau_hMax(X424,Z424,AH424,W424,U424)","v":54.213149398861987},{"$f":"tau_hMin(X424,Y424,AS424,AE424,Z424,AI424,IF(L424=1,mu_redLead,mu_millScale),W424,U424)","v":-47.267016537685436},101.48016593654742]
[413,"Parola1965","R; L",2,2,11.9,42.5,null,9.5500000000000007,12.2,85,null,448,206.8427188,0,563700,1,"4FR 1",null,413,0.80252100840336138,0.54712643678160922,0.28000000000000003,206.8427188,0,{"$f":"IF(OR(X425>=1.6*D425*AD425,D425=1),calcLoadFraction(G425,F425,I425,J425,K425,D425,1),\"Condition for spring model not fulfilled\")","v":0.51467514807732706},{"$f":"IF(L425>2,L425,IF(L425=2,1,sigma_cl0(I425+J425)))","v":152.62832048828119},{"$f":"Sigma_cl(AA425,U425,V425,X425)","v":134.70818927770759},{"$f":"Sigma_cl(AA425,U425,V425,Y425)","v":152.62832048828119},{"$f":"sigma_Slip(AB425,W425,U425,IF(L425=1,mu_redLead,mu_millScale))","v":33.837396546727234},{"$f":"sigma_Slip(AC425,W425,U425,IF(L425=1,mu_redLead,mu_millScale))","v":38.3387604889854},{"$f":"Sigma_p(AB425,V425)","v":-28.31172900096503},{"$f":"Sigma_p(AC425,V425)","v":-32.07801745911933},{"$f":"beta_1(X425,AD425,Z425)","v":0.68214905628442934},{"$f":"beta_1(Y425,AE425,Z425)","v":0},{"$f":"k_tHole(W425,U425)","v":2.3732479999999998},{"$f":"K_t1Mu(Z425,AH425,D425,W425,U425,SIGN(X425),mu_millScale)","v":3.1134667349451011},{"$f":"K_t1Mu(Z425,AI425,D425,W425,U425,SIGN(Y425),mu_millScale)","v":1.7625221170878898},{"$f":"Sigma_hMax(AK425,X425,AF425)","v":615.68619534843867},{"$f":"Sigma_hMin(X425,Y425,AG425,AE425,AK425,AL425,AJ425,AI425,Z425,IF(L425=1,mu_redLead,mu_millScale))","v":54.210697123022712},561.475498225416,8.8049232762711135E-2,179.39764808155641,{"$f":"tau_n(N425,W425,U425,D425)","v":135.86926915602101},{"$f":"tau_hMax(X425,Z425,AH425,W425,U425)","v":95.403369982423129},{"$f":"tau_hMin(X425,Y425,AS425,AE425,Z425,AI425,IF(L425=1,mu_redLead,mu_millScale),W425,U425)","v":29.236771153955569},66.166598828467556]
[414,"Parola1965","R; L",2,2,11.9,42.5,null,9.5500000000000007,12.2,85,null,448,206.8427188,0,266400,1,"4FR 2",null,414,0.80252100840336138,0.54712643678160922,0.28000000000000003,206.8427188,0,{"$f":"IF(OR(X426>=1.6*D426*AD426,D426=1),calcLoadFraction(G426,F426,I426,J426,K426,D426,1),\"Condition for spring model not fulfilled\")","v":0.51467514807732706},{"$f":"IF(L426>2,L426,IF(L426=2,1,sigma_cl0(I426+J426)))","v":152.62832048828119},{"$f":"Sigma_cl(AA426,U426,V426,X426)","v":134.70818927770759},{"$f":"Sigma_cl(AA426,U426,V426,Y426)","v":152.62832048828119},{"$f":"sigma_Slip(AB426,W426,U426,IF(L426=1,mu_redLead,mu_millScale))","v":33.837396546727234},{"$f":"sigma_Slip(AC426,W426,U426,IF(L426=1,mu_redLead,mu_millScale))","v":38.3387604889854},{"$f":"Sigma_p(AB426,V426)","v":-28.31172900096503},{"$f":"Sigma_p(AC426,V426)","v":-32.07801745911933},{"$f":"beta_1(X426,AD426,Z426)","v":0.68214905628442934},{"$f":"beta_1(Y426,AE426,Z426)","v":0},{"$f":"k_tHole(W426,U426)","v":2.3732479999999998},{"$f":"K_t1Mu(Z426,AH426,D426,W426,U426,SIGN(X426),mu_millScale)","v":3.1134667349451011},{"$f":"K_t1Mu(Z426,AI426,D426,W426,U426,SIGN(Y426),mu_millScale)","v":1.7625221170878898},{"$f":"Sigma_hMax(AK426,X426,AF426)","v":615.68619534843867},{"$f":"Sigma_hMin(X426,Y426,AG426,AE426,AK426,AL426,AJ426,AI426,Z426,IF(L426=1,mu_redLead,mu_millScale))","v":54.210697123022712},561.475498225416,8.8049232762711135E-2,179.39764808155641,{"$f":"tau_n(N426,W426,U426,D426)","v":135.86926915602101},{"$f":"tau_hMax(X426,Z426,AH426,W426,U426)","v":95.403369982423129},{"$f":"tau_hMin(X426,Y426,AS426,AE426,Z426,AI426,IF(L426=1,mu_redLead,mu_millScale),W426,U426)","v":29.236771153955569},66.166598828467556]
[415,"Parola1965","R; L",2,2,11.9,42.5,null,9.5500000000000007,12.2,85,null,448,206.8427188,0,1758600,0,"4FR 3",null,415,0.80252100840336138,0.54712643678160922,0.28000000000000003,206.8427188,0,{"$f":"IF(OR(X427>=1.6*D427*AD427,D427=1),calcLoadFraction(G427,F427,I427,J427,K427,D427,1),\"Condition for spring model not fulfilled\")","v":0.51467514807732706},{"$f":"IF(L427>2,L427,IF(L427=2,1,sigma_cl0(I427+J427)))","v":152.62832048828119},{"$f":"Sigma_cl(AA427,U427,V427,X427)","v":134.70818927770759},{"$f":"Sigma_cl(AA427,U427,V427,Y427)","v":152.62832048828119},{"$f":"sigma_Slip(AB427,W427,U427,IF(L427=1,mu_redLead,mu_millScale))","v":33.837396546727234},{"$f":"sigma_Slip(AC427,W427,U427,IF(L427=1,mu_redLead,mu_millScale))","v":38.3387604889854},{"$f":"Sigma_p(AB427,V427)","v":-28.31172900096503},{"$f":"Sigma_p(AC427,V427)","v":-32.07801745911933},{"$f":"beta_1(X427,AD427,Z427)","v":0.68214905628442934},{"$f":"beta_1(Y427,AE427,Z427)","v":0},{"$f":"k_tHole(W427,U427)","v":2.3732479999999998},{"$f":"K_t1Mu(Z427,AH427,D427,W427,U427,SIGN(X427),mu_millScale)","v":3.1134667349451011},{"$f":"K_t1Mu(Z427,AI427,D427,W427,U427,SIGN(Y427),mu_millScale)","v":1.7625221170878898},{"$f":"Sigma_hMax(AK427,X427,AF427)","v":615.68619534843867},{"$f":"Sigma_hMin(X427,Y427,AG427,AE427,AK427,AL427,AJ427,AI427,Z427,IF(L427=1,mu_redLead,mu_millScale))","v":54.210697123022712},561.475498225416,8.8049232762711135E-2,179.39764808155641,{"$f":"tau_n(N427,W427,U427,D427)","v":135.86926915602101},{"$f":"tau_hMax(X427,Z427,AH427,W427,U427)","v":95.403369982423129},{"$f":"tau_hMin(X427,Y427,AS427,AE427,Z427,AI427,IF(L427=1,mu_redLead,mu_millScale),W427,U427)","v":29.236771153955569},66.166598828467556]
[416,"Parola1965","R; L",2,2,11.9,42.5,null,9.5500000000000007,12.2,85,null,448,165.474175,0,3730600,0,"4FR 4",null,416,0.80252100840336138,0.54712643678160922,0.28000000000000003,165.474175,0,{"$f":"IF(OR(X428>=1.6*D428*AD428,D428=1),calcLoadFraction(G428,F428,I428,J428,K428,D428,1),\"Condition for spring model not fulfilled\")","v":0.51467514807732706},{"$f":"IF(L428>2,L428,IF(L428=2,1,sigma_cl0(I428+J428)))","v":152.62832048828119},{"$f":"Sigma_cl(AA428,U428,V428,X428)","v":138.29221552328778},{"$f":"Sigma_cl(AA428,U428,V428,Y428)","v":152.62832048828119},{"$f":"sigma_Slip(AB428,W428,U428,IF(L428=1,mu_redLead,mu_millScale))","v":34.737669336049358},{"$f":"sigma_Slip(AC428,W428,U428,IF(L428=1,mu_redLead,mu_millScale))","v":38.3387604889854},{"$f":"Sigma_p(AB428,V428)","v":-29.064986693324233},{"$f":"Sigma_p(AC428,V428)","v":-32.07801745911933},{"$f":"beta_1(X428,AD428,Z428)","v":0.59211545100831309},{"$f":"beta_1(Y428,AE428,Z428)","v":0},{"$f":"k_tHole(W428,U428)","v":2.3732479999999998},{"$f":"K_t1Mu(Z428,AH428,D428,W428,U428,SIGN(X428),mu_millScale)","v":2.9589584265282221},{"$f":"K_t1Mu(Z428,AI428,D428,W428,U428,SIGN(Y428),mu_millScale)","v":1.7625221170878898},{"$f":"Sigma_hMax(AK428,X428,AF428)","v":460.5662177957314},{"$f":"Sigma_hMin(X428,Y428,AG428,AE428,AK428,AL428,AJ428,AI428,Z428,IF(L428=1,mu_redLead,mu_millScale))","v":43.401403034263545},417.16481476146788,9.4234881668009723E-2,133.38764400787792,{"$f":"tau_n(N428,W428,U428,D428)","v":108.69541529854192},{"$f":"tau_hMax(X428,Z428,AH428,W428,U428)","v":66.24922680552227},{"$f":"tau_hMin(X428,Y428,AS428,AE428,Z428,AI428,IF(L428=1,mu_redLead,mu_millScale),W428,U428)","v":23.389553892535854},42.859672912986412]
[417,"Parola1965","R; L",2,2,11.9,42.5,null,9.5500000000000007,12.2,85,null,448,275.79029170000001,-1,168500,1,"4FR 5",null,417,0.80252100840336138,0.54712643678160922,0.28000000000000003,137.89514585000001,-137.89514585000001,{"$f":"IF(OR(X429>=1.6*D429*AD429,D429=1),calcLoadFraction(G429,F429,I429,J429,K429,D429,1),\"Condition for spring model not fulfilled\")","v":0.51467514807732706},{"$f":"IF(L429>2,L429,IF(L429=2,1,sigma_cl0(I429+J429)))","v":152.62832048828119},{"$f":"Sigma_cl(AA429,U429,V429,X429)","v":140.68156634934275},{"$f":"Sigma_cl(AA429,U429,V429,Y429)","v":164.57507462721964},{"$f":"sigma_Slip(AB429,W429,U429,IF(L429=1,mu_redLead,mu_millScale))","v":35.337851194509327},{"$f":"sigma_Slip(AC429,W429,U429,IF(L429=1,mu_redLead,mu_millScale))","v":41.339669783461474},{"$f":"Sigma_p(AB429,V429)","v":-29.567158487319944},{"$f":"Sigma_p(AC429,V429)","v":-34.588876430918724},{"$f":"beta_1(X429,AD429,Z429)","v":0.5020818458845433},{"$f":"beta_1(Y429,AE429,Z429)","v":0.41751489197730579},{"$f":"k_tHole(W429,U429)","v":2.3732479999999998},{"$f":"K_t1Mu(Z429,AH429,D429,W429,U429,SIGN(X429),mu_millScale)","v":2.7839655836758435},{"$f":"K_t1Mu(Z429,AI429,D429,W429,U429,SIGN(Y429),mu_millScale)","v":1.0209885880419602},{"$f":"Sigma_hMax(AK429,X429,AF429)","v":354.3281817150409},{"$f":"Sigma_hMin(X429,Y429,AG429,AE429,AK429,AL429,AJ429,AI429,Z429,IF(L429=1,mu_redLead,mu_millScale))","v":-208.69486327390365},563.02304498894455,-0.58898748122084454,171.56758185492222,{"$f":"tau_n(N429,W429,U429,D429)","v":181.15902551946562},{"$f":"tau_hMax(X429,Z429,AH429,W429,U429)","v":46.813131389492128},{"$f":"tau_hMin(X429,Y429,AS429,AE429,Z429,AI429,IF(L429=1,mu_redLead,mu_millScale),W429,U429)","v":-38.928273657792751},85.741405047284871]
[418,"Parola1965","R; L",2,2,11.9,42.5,null,9.5500000000000007,12.2,85,null,448,165.474175,0,1005200,1,"4FR 6",null,418,0.80252100840336138,0.54712643678160922,0.28000000000000003,165.474175,0,{"$f":"IF(OR(X430>=1.6*D430*AD430,D430=1),calcLoadFraction(G430,F430,I430,J430,K430,D430,1),\"Condition for spring model not fulfilled\")","v":0.51467514807732706},{"$f":"IF(L430>2,L430,IF(L430=2,1,sigma_cl0(I430+J430)))","v":152.62832048828119},{"$f":"Sigma_cl(AA430,U430,V430,X430)","v":138.29221552328778},{"$f":"Sigma_cl(AA430,U430,V430,Y430)","v":152.62832048828119},{"$f":"sigma_Slip(AB430,W430,U430,IF(L430=1,mu_redLead,mu_millScale))","v":34.737669336049358},{"$f":"sigma_Slip(AC430,W430,U430,IF(L430=1,mu_redLead,mu_millScale))","v":38.3387604889854},{"$f":"Sigma_p(AB430,V430)","v":-29.064986693324233},{"$f":"Sigma_p(AC430,V430)","v":-32.07801745911933},{"$f":"beta_1(X430,AD430,Z430)","v":0.59211545100831309},{"$f":"beta_1(Y430,AE430,Z430)","v":0},{"$f":"k_tHole(W430,U430)","v":2.3732479999999998},{"$f":"K_t1Mu(Z430,AH430,D430,W430,U430,SIGN(X430),mu_millScale)","v":2.9589584265282221},{"$f":"K_t1Mu(Z430,AI430,D430,W430,U430,SIGN(Y430),mu_millScale)","v":1.7625221170878898},{"$f":"Sigma_hMax(AK430,X430,AF430)","v":460.5662177957314},{"$f":"Sigma_hMin(X430,Y430,AG430,AE430,AK430,AL430,AJ430,AI430,Z430,IF(L430=1,mu_redLead,mu_millScale))","v":43.401403034263545},417.16481476146788,9.4234881668009723E-2,133.38764400787792,{"$f":"tau_n(N430,W430,U430,D430)","v":108.69541529854192},{"$f":"tau_hMax(X430,Z430,AH430,W430,U430)","v":66.24922680552227},{"$f":"tau_hMin(X430,Y430,AS430,AE430,Z430,AI430,IF(L430=1,mu_redLead,mu_millScale),W430,U430)","v":23.389553892535854},42.859672912986412]
[419,"Parola1965","R; L",2,2,11.9,42.5,null,9.5500000000000007,12.2,85,null,448,172.36893230000001,0,1419400,1,"4FR 8",null,419,0.80252100840336138,0.54712643678160922,0.28000000000000003,172.36893230000001,0,{"$f":"IF(OR(X431>=1.6*D431*AD431,D431=1),calcLoadFraction(G431,F431,I431,J431,K431,D431,1),\"Condition for spring model not fulfilled\")","v":0.51467514807732706},{"$f":"IF(L431>2,L431,IF(L431=2,1,sigma_cl0(I431+J431)))","v":152.62832048828119},{"$f":"Sigma_cl(AA431,U431,V431,X431)","v":137.69487781569109},{"$f":"Sigma_cl(AA431,U431,V431,Y431)","v":152.62832048828119},{"$f":"sigma_Slip(AB431,W431,U431,IF(L431=1,mu_redLead,mu_millScale))","v":34.587623871162336},{"$f":"sigma_Slip(AC431,W431,U431,IF(L431=1,mu_redLead,mu_millScale))","v":38.3387604889854},{"$f":"Sigma_p(AB431,V431)","v":-28.9394437445977},{"$f":"Sigma_p(AC431,V431)","v":-32.07801745911933},{"$f":"beta_1(X431,AD431,Z431)","v":0.61012217206701858},{"$f":"beta_1(Y431,AE431,Z431)","v":0},{"$f":"k_tHole(W431,U431)","v":2.3732479999999998},{"$f":"K_t1Mu(Z431,AH431,D431,W431,U431,SIGN(X431),mu_millScale)","v":2.9917269096014394},{"$f":"K_t1Mu(Z431,AI431,D431,W431,U431,SIGN(Y431),mu_millScale)","v":1.7625221170878898},{"$f":"Sigma_hMax(AK431,X431,AF431)","v":486.74132939658108},{"$f":"Sigma_hMin(X431,Y431,AG431,AE431,AK431,AL431,AJ431,AI431,Z431,IF(L431=1,mu_redLead,mu_millScale))","v":45.553830941884236},441.18749845469682,9.358940404415185E-2,141.05787390787506,{"$f":"tau_n(N431,W431,U431,D431)","v":113.2243909414551},{"$f":"tau_hMax(X431,Z431,AH431,W431,U431)","v":71.108250668339082},{"$f":"tau_hMin(X431,Y431,AS431,AE431,Z431,AI431,IF(L431=1,mu_redLead,mu_millScale),W431,U431)","v":24.480033269562643},46.628217398776442]
[420,"Parola1965","R; L",2,2,11.9,42.5,null,9.5500000000000007,12.2,85,null,448,220.63223339999999,-1,391500,1,"4FR 9",null,420,0.80252100840336138,0.54712643678160922,0.28000000000000003,110.31611669999999,-110.31611669999999,{"$f":"IF(OR(X432>=1.6*D432*AD432,D432=1),calcLoadFraction(G432,F432,I432,J432,K432,D432,1),\"Condition for spring model not fulfilled\")","v":"Condition for spring model not fulfilled"},{"$f":"IF(L432>2,L432,IF(L432=2,1,sigma_cl0(I432+J432)))","v":152.62832048828119},{"$f":"Sigma_cl(AA432,U432,V432,X432)","v":143.07091717539771},{"$f":"Sigma_cl(AA432,U432,V432,Y432)","v":162.18572380116467},{"$f":"sigma_Slip(AB432,W432,U432,IF(L432=1,mu_redLead,mu_millScale))","v":35.938033052969296},{"$f":"sigma_Slip(AC432,W432,U432,IF(L432=1,mu_redLead,mu_millScale))","v":40.739487925001505},{"$f":"Sigma_p(AB432,V432)","v":-30.069330281315651},{"$f":"Sigma_p(AC432,V432)","v":-34.086704636923017},{"$f":"beta_1(X432,AD432,Z432)","v":{"$error":"#VALUE!"}},{"$f":"beta_1(Y432,AE432,Z432)","v":{"$error":"#VALUE!"}},{"$f":"k_tHole(W432,U432)","v":2.3732479999999998},{"$f":"K_t1Mu(Z432,AH432,D432,W432,U432,SIGN(X432),mu_millScale)","v":{"$error":"#VALUE!"}},{"$f":"K_t1Mu(Z432,AI432,D432,W432,U432,SIGN(Y432),mu_millScale)","v":{"$error":"#VALUE!"}},{"$f":"Sigma_hMax(AK432,X432,AF432)","v":{"$error":"#VALUE!"}},{"$f":"Sigma_hMin(X432,Y432,AG432,AE432,AK432,AL432,AJ432,AI432,Z432,IF(L432=1,mu_redLead,mu_millScale))","v":{"$error":"#VALUE!"}},{"$error":"#VALUE!"},{"$error":"#VALUE!"},{"$error":"#VALUE!"},{"$f":"tau_n(N432,W432,U432,D432)","v":144.92722044184737},{"$f":"tau_hMax(X432,Z432,AH432,W432,U432)","v":{"$error":"#VALUE!"}},{"$f":"tau_hMin(X432,Y432,AS432,AE432,Z432,AI432,IF(L432=1,mu_redLead,mu_millScale),W432,U432)","v":{"$error":"#VALUE!"}},{"$error":"#VALUE!"}]
[421,"Parola1965","R; L",2,2,11.9,42.5,null,9.5500000000000007,12.2,85,null,448,220.63223339999999,-1,1142800,0,"4FR 10",null,421,0.80252100840336138,0.54712643678160922,0.28000000000000003,110.31611669999999,-110.31611669999999,{"$f":"IF(OR(X433>=1.6*D433*AD433,D433=1),calcLoadFraction(G433,F433,I433,J433,K433,D433,1),\"Condition for spring model not fulfilled\")","v":"Condition for spring model not fulfilled"},{"$f":"IF(L433>2,L433,IF(L433=2,1,sigma_cl0(I433+J433)))","v":152.62832048828119},{"$f":"Sigma_cl(AA433,U433,V433,X433)","v":143.07091717539771},{"$f":"Sigma_cl(AA433,U433,V433,Y433)","v":162.18572380116467},{"$f":"sigma_Slip(AB433,W433,U433,IF(L433=1,mu_redLead,mu_millScale))","v":35.938033052969296},{"$f":"sigma_Slip(AC433,W433,U433,IF(L433=1,mu_redLead,mu_millScale))","v":40.739487925001505},{"$f":"Sigma_p(AB433,V433)","v":-30.069330281315651},{"$f":"Sigma_p(AC433,V433)","v":-34.086704636923017},{"$f":"beta_1(X433,AD433,Z433)","v":{"$error":"#VALUE!"}},{"$f":"beta_1(Y433,AE433,Z433)","v":{"$error":"#VALUE!"}},{"$f":"k_tHole(W433,U433)","v":2.3732479999999998},{"$f":"K_t1Mu(Z433,AH433,D433,W433,U433,SIGN(X433),mu_millScale)","v":{"$error":"#VALUE!"}},{"$f":"K_t1Mu(Z433,AI433,D433,W433,U433,SIGN(Y433),mu_millScale)","v":{"$error":"#VALUE!"}},{"$f":"Sigma_hMax(AK433,X433,AF433)","v":{"$error":"#VALUE!"}},{"$f":"Sigma_hMin(X433,Y433,AG433,AE433,AK433,AL433,AJ433,AI433,Z433,IF(L433=1,mu_redLead,mu_millScale))","v":{"$error":"#VALUE!"}},{"$error":"#VALUE!"},{"$error":"#VALUE!"},{"$error":"#VALUE!"},{"$f":"tau_n(N433,W433,U433,D433)","v":144.92722044184737},{"$f":"tau_hMax(X433,Z433,AH433,W433,U433)","v":{"$error":"#VALUE!"}},{"$f":"tau_hMin(X433,Y433,AS433,AE433,Z433,AI433,IF(L433=1,mu_redLead,mu_millScale),W433,U433)","v":{"$error":"#VALUE!"}},{"$error":"#VALUE!"}]
[422,"Parola1965","R; L",2,2,11.9,42.5,null,9.5500000000000007,12.2,85,null,448,220.63223339999999,-1,1012400,1,"4FR 11",null,422,0.80252100840336138,0.54712643678160922,0.28000000000000003,110.31611669999999,-110.31611669999999,{"$f":"IF(OR(X434>=1.6*D434*AD434,D434=1),calcLoadFraction(G434,F434,I434,J434,K434,D434,1),\"Condition for spring model not fulfilled\")","v":"Condition for spring model not fulfilled"},{"$f":"IF(L434>2,L434,IF(L434=2,1,sigma_cl0(I434+J434)))","v":152.62832048828119},{"$f":"Sigma_cl(AA434,U434,V434,X434)","v":143.07091717539771},{"$f":"Sigma_cl(AA434,U434,V434,Y434)","v":162.18572380116467},{"$f":"sigma_Slip(AB434,W434,U434,IF(L434=1,mu_redLead,mu_millScale))","v":35.938033052969296},{"$f":"sigma_Slip(AC434,W434,U434,IF(L434=1,mu_redLead,mu_millScale))","v":40.739487925001505},{"$f":"Sigma_p(AB434,V434)","v":-30.069330281315651},{"$f":"Sigma_p(AC434,V434)","v":-34.086704636923017},{"$f":"beta_1(X434,AD434,Z434)","v":{"$error":"#VALUE!"}},{"$f":"beta_1(Y434,AE434,Z434)","v":{"$error":"#VALUE!"}},{"$f":"k_tHole(W434,U434)","v":2.3732479999999998},{"$f":"K_t1Mu(Z434,AH434,D434,W434,U434,SIGN(X434),mu_millScale)","v":{"$error":"#VALUE!"}},{"$f":"K_t1Mu(Z434,AI434,D434,W434,U434,SIGN(Y434),mu_millScale)","v":{"$error":"#VALUE!"}},{"$f":"Sigma_hMax(AK434,X434,AF434)","v":{"$error":"#VALUE!"}},{"$f":"Sigma_hMin(X434,Y434,AG434,AE434,AK434,AL434,AJ434,AI434,Z434,IF(L434=1,mu_redLead,mu_millScale))","v":{"$error":"#VALUE!"}},{"$error":"#VALUE!"},{"$error":"#VALUE!"},{"$error":"#VALUE!"},{"$f":"tau_n(N434,W434,U434,D434)","v":144.92722044184737},{"$f":"tau_hMax(X434,Z434,AH434,W434,U434)","v":{"$error":"#VALUE!"}},{"$f":"tau_hMin(X434,Y434,AS434,AE434,Z434,AI434,IF(L434=1,mu_redLead,mu_millScale),W434,U434)","v":{"$error":"#VALUE!"}},{"$error":"#VALUE!"}]
[423,"Parola1965","R; L",2,2,11.9,42.5,null,9.5500000000000007,12.2,85,null,448,141.3425245,0.5,842300,1,"4FR 12",null,{"$f":"A435","v":423},0.80252100840336138,0.54712643678160922,0.28000000000000003,282.68504899999999,141.3425245,{"$f":"IF(OR(X435>=1.6*D435*AD435,D435=1),calcLoadFraction(G435,F435,I435,J435,K435,D435,1),\"Condition for spring model not fulfilled\")","v":0.51467514807732706},{"$f":"IF(L435>2,L435,IF(L435=2,1,sigma_cl0(I435+J435)))","v":152.62832048828119},{"$f":"Sigma_cl(AA435,U435,V435,X435)","v":128.13747450280758},{"$f":"Sigma_cl(AA435,U435,V435,Y435)","v":140.3828974955444},{"$f":"sigma_Slip(AB435,W435,U435,IF(L435=1,mu_redLead,mu_millScale))","v":32.186896435146224},{"$f":"sigma_Slip(AC435,W435,U435,IF(L435=1,mu_redLead,mu_millScale))","v":35.262828462065819},{"$f":"Sigma_p(AB435,V435)","v":-26.930756566794013},{"$f":"Sigma_p(AC435,V435)","v":-29.504387012956677},{"$f":"beta_1(X435,AD435,Z435)","v":0.7787704861952075},{"$f":"beta_1(Y435,AE435,Z435)","v":0.51525749543679611},{"$f":"k_tHole(W435,U435)","v":2.3732479999999998},{"$f":"K_t1Mu(Z435,AH435,D435,W435,U435,SIGN(X435),mu_millScale)","v":3.248371363388507},{"$f":"K_t1Mu(Z435,AI435,D435,W435,U435,SIGN(Y435),mu_millScale)","v":2.8105787547915333},{"$f":"Sigma_hMax(AK435,X435,AF435)","v":891.33526146288284},{"$f":"Sigma_hMin(X435,Y435,AG435,AE435,AK435,AL435,AJ435,AI435,Z435,IF(L435=1,mu_redLead,mu_millScale))","v":448.02546561656322},443.30979584631962,0.50264528397681929,154.46593114176454,{"$f":"tau_n(N435,W435,U435,D435)","v":92.844000581189391},{"$f":"tau_hMax(X435,Z435,AH435,W435,U435)","v":148.85263240293386},{"$f":"tau_hMin(X435,Y435,AS435,AE435,Z435,AI435,IF(L435=1,mu_redLead,mu_millScale),W435,U435)","v":94.129466870881373},54.723165532052491]
[424,"Parola1965","R; L",2,2,11.9,42.5,null,9.5500000000000007,12.2,85,null,448,141.3425245,0.5,845700,1,"4FR 14",null,424,0.80252100840336138,0.54712643678160922,0.28000000000000003,282.68504899999999,141.3425245,{"$f":"IF(OR(X436>=1.6*D436*AD436,D436=1),calcLoadFraction(G436,F436,I436,J436,K436,D436,1),\"Condition for spring model not fulfilled\")","v":0.51467514807732706},{"$f":"IF(L436>2,L436,IF(L436=2,1,sigma_cl0(I436+J436)))","v":152.62832048828119},{"$f":"Sigma_cl(AA436,U436,V436,X436)","v":128.13747450280758},{"$f":"Sigma_cl(AA436,U436,V436,Y436)","v":140.3828974955444},{"$f":"sigma_Slip(AB436,W436,U436,IF(L436=1,mu_redLead,mu_millScale))","v":32.186896435146224},{"$f":"sigma_Slip(AC436,W436,U436,IF(L436=1,mu_redLead,mu_millScale))","v":35.262828462065819},{"$f":"Sigma_p(AB436,V436)","v":-26.930756566794013},{"$f":"Sigma_p(AC436,V436)","v":-29.504387012956677},{"$f":"beta_1(X436,AD436,Z436)","v":0.7787704861952075},{"$f":"beta_1(Y436,AE436,Z436)","v":0.51525749543679611},{"$f":"k_tHole(W436,U436)","v":2.3732479999999998},{"$f":"K_t1Mu(Z436,AH436,D436,W436,U436,SIGN(X436),mu_millScale)","v":3.248371363388507},{"$f":"K_t1Mu(Z436,AI436,D436,W436,U436,SIGN(Y436),mu_millScale)","v":2.8105787547915333},{"$f":"Sigma_hMax(AK436,X436,AF436)","v":891.33526146288284},{"$f":"Sigma_hMin(X436,Y436,AG436,AE436,AK436,AL436,AJ436,AI436,Z436,IF(L436=1,mu_redLead,mu_millScale))","v":448.02546561656322},443.30979584631962,0.50264528397681929,154.46593114176454,{"$f":"tau_n(N436,W436,U436,D436)","v":92.844000581189391},{"$f":"tau_hMax(X436,Z436,AH436,W436,U436)","v":148.85263240293386},{"$f":"tau_hMin(X436,Y436,AS436,AE436,Z436,AI436,IF(L436=1,mu_redLead,mu_millScale),W436,U436)","v":94.129466870881373},54.723165532052491]
[425,"Parola1965","R; L",2,2,11.9,42.5,null,9.5500000000000007,12.2,85,null,448,358.52737919999998,-1,52200,1,"4FR 16",null,425,0.80252100840336138,0.54712643678160922,0.28000000000000003,179.26368959999999,-179.26368959999999,{"$f":"IF(OR(X437>=1.6*D437*AD437,D437=1),calcLoadFraction(G437,F437,I437,J437,K437,D437,1),\"Condition for spring model not fulfilled\")","v":0.51467514807732706},{"$f":"IF(L437>2,L437,IF(L437=2,1,sigma_cl0(I437+J437)))","v":152.62832048828119},{"$f":"Sigma_cl(AA437,U437,V437,X437)","v":137.09754010809439},{"$f":"Sigma_cl(AA437,U437,V437,Y437)","v":168.15910086846799},{"$f":"sigma_Slip(AB437,W437,U437,IF(L437=1,mu_redLead,mu_millScale))","v":34.437578406275314},{"$f":"sigma_Slip(AC437,W437,U437,IF(L437=1,mu_redLead,mu_millScale))","v":42.239942571695494},{"$f":"Sigma_p(AB437,V437)","v":-28.813900795871167},{"$f":"Sigma_p(AC437,V437)","v":-35.342134122367497},{"$f":"beta_1(X437,AD437,Z437)","v":0.62674376073504745},{"$f":"beta_1(Y437,AE437,Z437)","v":0.54217680682780978},{"$f":"k_tHole(W437,U437)","v":2.3732479999999998},{"$f":"K_t1Mu(Z437,AH437,D437,W437,U437,SIGN(X437),mu_millScale)","v":3.0211981713760698},{"$f":"K_t1Mu(Z437,AI437,D437,W437,U437,SIGN(Y437),mu_millScale)","v":0.79791708615014112},{"$f":"Sigma_hMax(AK437,X437,AF437)","v":512.7772304177762},{"$f":"Sigma_hMin(X437,Y437,AG437,AE437,AK437,AL437,AJ437,AI437,Z437,IF(L437=1,mu_redLead,mu_millScale))","v":-235.97503429303546},748.75226471081169,-0.46019015723607493,229.4793548359203,{"$f":"tau_n(N437,W437,U437,D437)","v":235.50673316873653},{"$f":"tau_hMax(X437,Z437,AH437,W437,U437)","v":75.96727453115588},{"$f":"tau_hMin(X437,Y437,AS437,AE437,Z437,AI437,IF(L437=1,mu_redLead,mu_millScale),W437,U437)","v":-65.716959480232589},141.68423401138847]
[426,"Parola1965","R; L",2,2,11.9,42.5,null,9.5500000000000007,12.2,85,null,448,358.52737919999998,-1,66200,1,"4FR 19",null,426,0.80252100840336138,0.54712643678160922,0.28000000000000003,179.26368959999999,-179.26368959999999,{"$f":"IF(OR(X438>=1.6*D438*AD438,D438=1),calcLoadFraction(G438,F438,I438,J438,K438,D438,1),\"Condition for spring model not fulfilled\")","v":0.51467514807732706},{"$f":"IF(L438>2,L438,IF(L438=2,1,sigma_cl0(I438+J438)))","v":152.62832048828119},{"$f":"Sigma_cl(AA438,U438,V438,X438)","v":137.09754010809439},{"$f":"Sigma_cl(AA438,U438,V438,Y438)","v":168.15910086846799},{"$f":"sigma_Slip(AB438,W438,U438,IF(L438=1,mu_redLead,mu_millScale))","v":34.437578406275314},{"$f":"sigma_Slip(AC438,W438,U438,IF(L438=1,mu_redLead,mu_millScale))","v":42.239942571695494},{"$f":"Sigma_p(AB438,V438)","v":-28.813900795871167},{"$f":"Sigma_p(AC438,V438)","v":-35.342134122367497},{"$f":"beta_1(X438,AD438,Z438)","v":0.62674376073504745},{"$f":"beta_1(Y438,AE438,Z438)","v":0.54217680682780978},{"$f":"k_tHole(W438,U438)","v":2.3732479999999998},{"$f":"K_t1Mu(Z438,AH438,D438,W438,U438,SIGN(X438),mu_millScale)","v":3.0211981713760698},{"$f":"K_t1Mu(Z438,AI438,D438,W438,U438,SIGN(Y438),mu_millScale)","v":0.79791708615014112},{"$f":"Sigma_hMax(AK438,X438,AF438)","v":512.7772304177762},{"$f":"Sigma_hMin(X438,Y438,AG438,AE438,AK438,AL438,AJ438,AI438,Z438,IF(L438=1,mu_redLead,mu_millScale))","v":-235.97503429303546},748.75226471081169,-0.46019015723607493,229.4793548359203,{"$f":"tau_n(N438,W438,U438,D438)","v":235.50673316873653},{"$f":"tau_hMax(X438,Z438,AH438,W438,U438)","v":75.96727453115588},{"$f":"tau_hMin(X438,Y438,AS438,AE438,Z438,AI438,IF(L438=1,mu_redLead,mu_millScale),W438,U438)","v":-65.716959480232589},141.68423401138847]
[427,"Parola1965","R; L",2,2,11.9,42.5,null,9.5500000000000007,12.2,85,null,448,134.44776719999999,0.5,1351800,1,"4FR 21",null,427,0.80252100840336138,0.54712643678160922,0.28000000000000003,268.89553439999997,134.44776719999999,{"$f":"IF(OR(X439>=1.6*D439*AD439,D439=1),calcLoadFraction(G439,F439,I439,J439,K439,D439,1),\"Condition for spring model not fulfilled\")","v":0.51467514807732706},{"$f":"IF(L439>2,L439,IF(L439=2,1,sigma_cl0(I439+J439)))","v":152.62832048828119},{"$f":"Sigma_cl(AA439,U439,V439,X439)","v":129.33214991800099},{"$f":"Sigma_cl(AA439,U439,V439,Y439)","v":140.98023520314109},{"$f":"sigma_Slip(AB439,W439,U439,IF(L439=1,mu_redLead,mu_millScale))","v":32.486987364920267},{"$f":"sigma_Slip(AC439,W439,U439,IF(L439=1,mu_redLead,mu_millScale))","v":35.412873926952841},{"$f":"Sigma_p(AB439,V439)","v":-27.181842464247083},{"$f":"Sigma_p(AC439,V439)","v":-29.629929961683207},{"$f":"beta_1(X439,AD439,Z439)","v":0.76525699947457126},{"$f":"beta_1(Y439,AE439,Z439)","v":0.48823052199552358},{"$f":"k_tHole(W439,U439)","v":2.3732479999999998},{"$f":"K_t1Mu(Z439,AH439,D439,W439,U439,SIGN(X439),mu_millScale)","v":3.2317448536127391},{"$f":"K_t1Mu(Z439,AI439,D439,W439,U439,SIGN(Y439),mu_millScale)","v":2.7556795987573688},{"$f":"Sigma_hMax(AK439,X439,AF439)","v":841.81991699240007},{"$f":"Sigma_hMin(X439,Y439,AG439,AE439,AK439,AL439,AJ439,AI439,Z439,IF(L439=1,mu_redLead,mu_millScale))","v":426.13213976429961},415.68777722810046,0.50620344228342451,145.03195924194,{"$f":"tau_n(N439,W439,U439,D439)","v":88.315024938276196},{"$f":"tau_hMax(X439,Z439,AH439,W439,U439)","v":139.13458467730021},{"$f":"tau_hMin(X439,Y439,AS439,AE439,Z439,AI439,IF(L439=1,mu_redLead,mu_millScale),W439,U439)","v":88.551363489206992},50.583221188093219]
[428,"Parola1965","R; L",2,2,11.9,42.5,null,9.5500000000000007,12.2,85,null,448,158.57941769999999,0.5,256700,1,"4FR 26",null,428,0.80252100840336138,0.54712643678160922,0.28000000000000003,317.15883539999999,158.57941769999999,{"$f":"IF(OR(X440>=1.6*D440*AD440,D440=1),calcLoadFraction(G440,F440,I440,J440,K440,D440,1),\"Condition for spring model not fulfilled\")","v":0.51467514807732706},{"$f":"IF(L440>2,L440,IF(L440=2,1,sigma_cl0(I440+J440)))","v":152.62832048828119},{"$f":"Sigma_cl(AA440,U440,V440,X440)","v":125.15078597348776},{"$f":"Sigma_cl(AA440,U440,V440,Y440)","v":138.88955323088447},{"$f":"sigma_Slip(AB440,W440,U440,IF(L440=1,mu_redLead,mu_millScale))","v":31.436669112887351},{"$f":"sigma_Slip(AC440,W440,U440,IF(L440=1,mu_redLead,mu_millScale))","v":34.887714800936372},{"$f":"Sigma_p(AB440,V440)","v":-26.303041824982195},{"$f":"Sigma_p(AC440,V440)","v":-29.190529642050766},{"$f":"beta_1(X440,AD440,Z440)","v":0.80741320253502991},{"$f":"beta_1(Y440,AE440,Z440)","v":0.57254292811644114},{"$f":"k_tHole(W440,U440)","v":2.3732479999999998},{"$f":"K_t1Mu(Z440,AH440,D440,W440,U440,SIGN(X440),mu_millScale)","v":3.2809564823692683},{"$f":"K_t1Mu(Z440,AI440,D440,W440,U440,SIGN(Y440),mu_millScale)","v":2.9224130294696304},{"$f":"Sigma_hMax(AK440,X440,AF440)","v":1014.2812951213356},{"$f":"Sigma_hMin(X440,Y440,AG440,AE440,AK440,AL440,AJ440,AI440,Z440,IF(L440=1,mu_redLead,mu_millScale))","v":501.67610955368622},512.60518556764941,0.49461240384372085,178.09265712753734,{"$f":"tau_n(N440,W440,U440,D440)","v":104.16643965562872},{"$f":"tau_hMax(X440,Z440,AH440,W440,U440)","v":173.1477516465437},{"$f":"tau_hMin(X440,Y440,AS440,AE440,Z440,AI440,IF(L440=1,mu_redLead,mu_millScale),W440,U440)","v":107.94265348566623},65.205098160877469]
[429,"Parola1965","R; L",2,2,11.9,42.5,null,9.5500000000000007,12.2,85,null,448,137.89514589999999,0.5,979700,1,"4FR 27",null,429,0.80252100840336138,0.54712643678160922,0.28000000000000003,275.79029179999998,137.89514589999999,{"$f":"IF(OR(X441>=1.6*D441*AD441,D441=1),calcLoadFraction(G441,F441,I441,J441,K441,D441,1),\"Condition for spring model not fulfilled\")","v":0.51467514807732706},{"$f":"IF(L441>2,L441,IF(L441=2,1,sigma_cl0(I441+J441)))","v":152.62832048828119},{"$f":"Sigma_cl(AA441,U441,V441,X441)","v":128.73481220174062},{"$f":"Sigma_cl(AA441,U441,V441,Y441)","v":140.68156634501091},{"$f":"sigma_Slip(AB441,W441,U441,IF(L441=1,mu_redLead,mu_millScale))","v":32.336941897857024},{"$f":"sigma_Slip(AC441,W441,U441,IF(L441=1,mu_redLead,mu_millScale))","v":35.337851193421209},{"$f":"Sigma_p(AB441,V441)","v":-27.056299513699699},{"$f":"Sigma_p(AC441,V441)","v":-29.567158486409514},{"$f":"beta_1(X441,AD441,Z441)","v":0.77218266151701809},{"$f":"beta_1(Y441,AE441,Z441)","v":0.50208184608041739},{"$f":"k_tHole(W441,U441)","v":2.3732479999999998},{"$f":"K_t1Mu(Z441,AH441,D441,W441,U441,SIGN(X441),mu_millScale)","v":3.2403636771887143},{"$f":"K_t1Mu(Z441,AI441,D441,W441,U441,SIGN(Y441),mu_millScale)","v":2.7839655840736661},{"$f":"Sigma_hMax(AK441,X441,AF441)","v":866.60454455629679},{"$f":"Sigma_hMin(X441,Y441,AG441,AE441,AK441,AL441,AJ441,AI441,Z441,IF(L441=1,mu_redLead,mu_millScale))","v":437.11412814386063},429.49041641243616,0.50439861051924662,149.74741431228554,{"$f":"tau_n(N441,W441,U441,D441)","v":90.579512792576409},{"$f":"tau_hMax(X441,Z441,AH441,W441,U441)","v":143.99360861059122},{"$f":"tau_hMin(X441,Y441,AS441,AE441,Z441,AI441,IF(L441=1,mu_redLead,mu_millScale),W441,U441)","v":91.344627432926558},52.648981177664666]
[430,"Parola1965","R; L",2,2,11.9,42.5,null,9.5500000000000007,12.2,85,null,448,158.57941769999999,0.5,510900,0,"4FR 31",null,430,0.80252100840336138,0.54712643678160922,0.28000000000000003,317.15883539999999,158.57941769999999,{"$f":"IF(OR(X442>=1.6*D442*AD442,D442=1),calcLoadFraction(G442,F442,I442,J442,K442,D442,1),\"Condition for spring model not fulfilled\")","v":0.51467514807732706},{"$f":"IF(L442>2,L442,IF(L442=2,1,sigma_cl0(I442+J442)))","v":152.62832048828119},{"$f":"Sigma_cl(AA442,U442,V442,X442)","v":125.15078597348776},{"$f":"Sigma_cl(AA442,U442,V442,Y442)","v":138.88955323088447},{"$f":"sigma_Slip(AB442,W442,U442,IF(L442=1,mu_redLead,mu_millScale))","v":31.436669112887351},{"$f":"sigma_Slip(AC442,W442,U442,IF(L442=1,mu_redLead,mu_millScale))","v":34.887714800936372},{"$f":"Sigma_p(AB442,V442)","v":-26.303041824982195},{"$f":"Sigma_p(AC442,V442)","v":-29.190529642050766},{"$f":"beta_1(X442,AD442,Z442)","v":0.80741320253502991},{"$f":"beta_1(Y442,AE442,Z442)","v":0.57254292811644114},{"$f":"k_tHole(W442,U442)","v":2.3732479999999998},{"$f":"K_t1Mu(Z442,AH442,D442,W442,U442,SIGN(X442),mu_millScale)","v":3.2809564823692683},{"$f":"K_t1Mu(Z442,AI442,D442,W442,U442,SIGN(Y442),mu_millScale)","v":2.9224130294696304},{"$f":"Sigma_hMax(AK442,X442,AF442)","v":1014.2812951213356},{"$f":"Sigma_hMin(X442,Y442,AG442,AE442,AK442,AL442,AJ442,AI442,Z442,IF(L442=1,mu_redLead,mu_millScale))","v":501.67610955368622},512.60518556764941,0.49461240384372085,178.09265712753734,{"$f":"tau_n(N442,W442,U442,D442)","v":104.16643965562872},{"$f":"tau_hMax(X442,Z442,AH442,W442,U442)","v":173.1477516465437},{"$f":"tau_hMin(X442,Y442,AS442,AE442,Z442,AI442,IF(L442=1,mu_redLead,mu_millScale),W442,U442)","v":107.94265348566623},65.205098160877469]
[431,"Baron1954","R; L",2,2,10.3,45.2,46,7.15,10,76,null,434,186.39,0,586940,1,"C1C",null,431,0.69417475728155342,0.60058309037900881,0.22787610619469026,186.39,0,{"$f":"IF(OR(X443>=1.6*D443*AD443,D443=1),calcLoadFraction(G443,F443,I443,J443,K443,D443,1),\"Condition for spring model not fulfilled\")","v":0.51793186660228685},{"$f":"IF(L443>2,L443,IF(L443=2,1,sigma_cl0(I443+J443)))","v":131.63347701793899},{"$f":"Sigma_cl(AA443,U443,V443,X443)","v":116.83215548708326},{"$f":"Sigma_cl(AA443,U443,V443,Y443)","v":131.63347701793899},{"$f":"sigma_Slip(AB443,W443,U443,IF(L443=1,mu_redLead,mu_millScale))","v":25.747744310949653},{"$f":"sigma_Slip(AC443,W443,U443,IF(L443=1,mu_redLead,mu_millScale))","v":29.009694248034918},{"$f":"Sigma_p(AB443,V443)","v":-27.130583816422174},{"$f":"Sigma_p(AC443,V443)","v":-30.567723983121333},{"$f":"beta_1(X443,AD443,Z443)","v":0.73328714587628419},{"$f":"beta_1(Y443,AE443,Z443)","v":0},{"$f":"k_tHole(W443,U443)","v":2.4603211997287402},{"$f":"K_t1Mu(Z443,AH443,D443,W443,U443,SIGN(X443),mu_millScale)","v":3.5747886026523736},{"$f":"K_t1Mu(Z443,AI443,D443,W443,U443,SIGN(Y443),mu_millScale)","v":1.8231818240203981},{"$f":"Sigma_hMax(AK443,X443,AF443)","v":639.17426383195368},{"$f":"Sigma_hMin(X443,Y443,AG443,AE443,AK443,AL443,AJ443,AI443,Z443,IF(L443=1,mu_redLead,mu_millScale))","v":51.322514518881881},587.85174931307176,8.029502660384831E-2,187.65316479903794,{"$f":"tau_n(N443,W443,U443,D443)","v":139.54997213391445},{"$f":"tau_hMax(X443,Z443,AH443,W443,U443)","v":106.00014379249338},{"$f":"tau_hMin(X443,Y443,AS443,AE443,Z443,AI443,IF(L443=1,mu_redLead,mu_millScale),W443,U443)","v":28.776115722224603},77.224028070268773]
[432,"Baron1954","R; L",2,2,10.3,45.2,46,7.15,10,76,null,434,186.39,0,586940,1,"C1C",null,432,0.69417475728155342,0.60058309037900881,0.22787610619469026,186.39,0,{"$f":"IF(OR(X444>=1.6*D444*AD444,D444=1),calcLoadFraction(G444,F444,I444,J444,K444,D444,1),\"Condition for spring model not fulfilled\")","v":0.51793186660228685},{"$f":"IF(L444>2,L444,IF(L444=2,1,sigma_cl0(I444+J444)))","v":131.63347701793899},{"$f":"Sigma_cl(AA444,U444,V444,X444)","v":116.83215548708326},{"$f":"Sigma_cl(AA444,U444,V444,Y444)","v":131.63347701793899},{"$f":"sigma_Slip(AB444,W444,U444,IF(L444=1,mu_redLead,mu_millScale))","v":25.747744310949653},{"$f":"sigma_Slip(AC444,W444,U444,IF(L444=1,mu_redLead,mu_millScale))","v":29.009694248034918},{"$f":"Sigma_p(AB444,V444)","v":-27.130583816422174},{"$f":"Sigma_p(AC444,V444)","v":-30.567723983121333},{"$f":"beta_1(X444,AD444,Z444)","v":0.73328714587628419},{"$f":"beta_1(Y444,AE444,Z444)","v":0},{"$f":"k_tHole(W444,U444)","v":2.4603211997287402},{"$f":"K_t1Mu(Z444,AH444,D444,W444,U444,SIGN(X444),mu_millScale)","v":3.5747886026523736},{"$f":"K_t1Mu(Z444,AI444,D444,W444,U444,SIGN(Y444),mu_millScale)","v":1.8231818240203981},{"$f":"Sigma_hMax(AK444,X444,AF444)","v":639.17426383195368},{"$f":"Sigma_hMin(X444,Y444,AG444,AE444,AK444,AL444,AJ444,AI444,Z444,IF(L444=1,mu_redLead,mu_millScale))","v":51.322514518881881},587.85174931307176,8.029502660384831E-2,187.65316479903794,{"$f":"tau_n(N444,W444,U444,D444)","v":139.54997213391445},{"$f":"tau_hMax(X444,Z444,AH444,W444,U444)","v":106.00014379249338},{"$f":"tau_hMin(X444,Y444,AS444,AE444,Z444,AI444,IF(L444=1,mu_redLead,mu_millScale),W444,U444)","v":28.776115722224603},77.224028070268773]
[433,"Baron1954","R; L",2,2,10.3,45.2,46,7.15,10,76,null,434,186.39,0,586940,1,"C1C",null,433,0.69417475728155342,0.60058309037900881,0.22787610619469026,186.39,0,{"$f":"IF(OR(X445>=1.6*D445*AD445,D445=1),calcLoadFraction(G445,F445,I445,J445,K445,D445,1),\"Condition for spring model not fulfilled\")","v":0.51793186660228685},{"$f":"IF(L445>2,L445,IF(L445=2,1,sigma_cl0(I445+J445)))","v":131.63347701793899},{"$f":"Sigma_cl(AA445,U445,V445,X445)","v":116.83215548708326},{"$f":"Sigma_cl(AA445,U445,V445,Y445)","v":131.63347701793899},{"$f":"sigma_Slip(AB445,W445,U445,IF(L445=1,mu_redLead,mu_millScale))","v":25.747744310949653},{"$f":"sigma_Slip(AC445,W445,U445,IF(L445=1,mu_redLead,mu_millScale))","v":29.009694248034918},{"$f":"Sigma_p(AB445,V445)","v":-27.130583816422174},{"$f":"Sigma_p(AC445,V445)","v":-30.567723983121333},{"$f":"beta_1(X445,AD445,Z445)","v":0.73328714587628419},{"$f":"beta_1(Y445,AE445,Z445)","v":0},{"$f":"k_tHole(W445,U445)","v":2.4603211997287402},{"$f":"K_t1Mu(Z445,AH445,D445,W445,U445,SIGN(X445),mu_millScale)","v":3.5747886026523736},{"$f":"K_t1Mu(Z445,AI445,D445,W445,U445,SIGN(Y445),mu_millScale)","v":1.8231818240203981},{"$f":"Sigma_hMax(AK445,X445,AF445)","v":639.17426383195368},{"$f":"Sigma_hMin(X445,Y445,AG445,AE445,AK445,AL445,AJ445,AI445,Z445,IF(L445=1,mu_redLead,mu_millScale))","v":51.322514518881881},587.85174931307176,8.029502660384831E-2,187.65316479903794,{"$f":"tau_n(N445,W445,U445,D445)","v":139.54997213391445},{"$f":"tau_hMax(X445,Z445,AH445,W445,U445)","v":106.00014379249338},{"$f":"tau_hMin(X445,Y445,AS445,AE445,Z445,AI445,IF(L445=1,mu_redLead,mu_millScale),W445,U445)","v":28.776115722224603},77.224028070268773]
[434,"Baron1954","R; L",2,2,10.3,45.2,46,7.15,44,76,null,443,186.39,0,361329,1,"D4C",null,434,0.69417475728155342,0.20136852394916913,0.22787610619469026,186.39,0,{"$f":"IF(OR(X446>=1.6*D446*AD446,D446=1),calcLoadFraction(G446,F446,I446,J446,K446,D446,1),\"Condition for spring model not fulfilled\")","v":0.52824520884126924},{"$f":"IF(L446>2,L446,IF(L446=2,1,sigma_cl0(I446+J446)))","v":209.58423195912371},{"$f":"Sigma_cl(AA446,U446,V446,X446)","v":202.79744250834952},{"$f":"Sigma_cl(AA446,U446,V446,Y446)","v":209.58423195912371},{"$f":"sigma_Slip(AB446,W446,U446,IF(L446=1,mu_redLead,mu_millScale))","v":44.692975789501581},{"$f":"sigma_Slip(AC446,W446,U446,IF(L446=1,mu_redLead,mu_millScale))","v":46.18866435864814},{"$f":"Sigma_p(AB446,V446)","v":-12.424187093798562},{"$f":"Sigma_p(AC446,V446)","v":-12.839973115849434},{"$f":"beta_1(X446,AD446,Z446)","v":0.54607814088880535},{"$f":"beta_1(Y446,AE446,Z446)","v":0},{"$f":"k_tHole(W446,U446)","v":2.4603211997287402},{"$f":"K_t1Mu(Z446,AH446,D446,W446,U446,SIGN(X446),mu_millScale)","v":3.1990859074367513},{"$f":"K_t1Mu(Z446,AI446,D446,W446,U446,SIGN(Y446),mu_millScale)","v":1.8104947567450849},{"$f":"Sigma_hMax(AK446,X446,AF446)","v":583.85343519333742},{"$f":"Sigma_hMin(X446,Y446,AG446,AE446,AK446,AL446,AJ446,AI446,Z446,IF(L446=1,mu_redLead,mu_millScale))","v":86.045094725406116},497.80834046793132,0.14737447711841092,160.25723099382023,{"$f":"tau_n(N446,W446,U446,D446)","v":139.54997213391445},{"$f":"tau_hMax(X446,Z446,AH446,W446,U446)","v":80.510052319590542},{"$f":"tau_hMin(X446,Y446,AS446,AE446,Z446,AI446,IF(L446=1,mu_redLead,mu_millScale),W446,U446)","v":29.147934236499427},51.362118083091119]
[435,"Baron1954","R; L",2,2,10.3,45.2,46,7.15,44,76,null,443,186.39,0,361329,1,"D4C",null,435,0.69417475728155342,0.20136852394916913,0.22787610619469026,186.39,0,{"$f":"IF(OR(X447>=1.6*D447*AD447,D447=1),calcLoadFraction(G447,F447,I447,J447,K447,D447,1),\"Condition for spring model not fulfilled\")","v":0.52824520884126924},{"$f":"IF(L447>2,L447,IF(L447=2,1,sigma_cl0(I447+J447)))","v":209.58423195912371},{"$f":"Sigma_cl(AA447,U447,V447,X447)","v":202.79744250834952},{"$f":"Sigma_cl(AA447,U447,V447,Y447)","v":209.58423195912371},{"$f":"sigma_Slip(AB447,W447,U447,IF(L447=1,mu_redLead,mu_millScale))","v":44.692975789501581},{"$f":"sigma_Slip(AC447,W447,U447,IF(L447=1,mu_redLead,mu_millScale))","v":46.18866435864814},{"$f":"Sigma_p(AB447,V447)","v":-12.424187093798562},{"$f":"Sigma_p(AC447,V447)","v":-12.839973115849434},{"$f":"beta_1(X447,AD447,Z447)","v":0.54607814088880535},{"$f":"beta_1(Y447,AE447,Z447)","v":0},{"$f":"k_tHole(W447,U447)","v":2.4603211997287402},{"$f":"K_t1Mu(Z447,AH447,D447,W447,U447,SIGN(X447),mu_millScale)","v":3.1990859074367513},{"$f":"K_t1Mu(Z447,AI447,D447,W447,U447,SIGN(Y447),mu_millScale)","v":1.8104947567450849},{"$f":"Sigma_hMax(AK447,X447,AF447)","v":583.85343519333742},{"$f":"Sigma_hMin(X447,Y447,AG447,AE447,AK447,AL447,AJ447,AI447,Z447,IF(L447=1,mu_redLead,mu_millScale))","v":86.045094725406116},497.80834046793132,0.14737447711841092,160.25723099382023,{"$f":"tau_n(N447,W447,U447,D447)","v":139.54997213391445},{"$f":"tau_hMax(X447,Z447,AH447,W447,U447)","v":80.510052319590542},{"$f":"tau_hMin(X447,Y447,AS447,AE447,Z447,AI447,IF(L447=1,mu_redLead,mu_millScale),W447,U447)","v":29.147934236499427},51.362118083091119]
[436,"Baron1954","R; L",2,3,10.3,41.3,44.5,7.15,8,76,null,454,165.78899999999999,0,443446,1,"A1H",null,436,0.69417475728155342,0.67986798679867988,0.2493946731234867,165.78899999999999,0,{"$f":"IF(OR(X448>=1.6*D448*AD448,D448=1),calcLoadFraction(G448,F448,I448,J448,K448,D448,1),\"Condition for spring model not fulfilled\")","v":0.5068960524206928},{"$f":"IF(L448>2,L448,IF(L448=2,1,sigma_cl0(I448+J448)))","v":120.01906654856765},{"$f":"Sigma_cl(AA448,U448,V448,X448)","v":105.8274461718361},{"$f":"Sigma_cl(AA448,U448,V448,Y448)","v":120.01906654856765},{"$f":"sigma_Slip(AB448,W448,U448,IF(L448=1,mu_redLead,mu_millScale))","v":26.256621726736416},{"$f":"sigma_Slip(AC448,W448,U448,IF(L448=1,mu_redLead,mu_millScale))","v":29.777674359115366},{"$f":"Sigma_p(AB448,V448)","v":-27.951126250644428},{"$f":"Sigma_p(AC448,V448)","v":-31.69941449911213},{"$f":"beta_1(X448,AD448,Z448)","v":0.68756172858844899},{"$f":"beta_1(Y448,AE448,Z448)","v":0},{"$f":"k_tHole(W448,U448)","v":2.422897313772332},{"$f":"K_t1Mu(Z448,AH448,D448,W448,U448,SIGN(X448),mu_millScale)","v":3.2995655828790791},{"$f":"K_t1Mu(Z448,AI448,D448,W448,U448,SIGN(Y448),mu_millScale)","v":1.8088187718863842},{"$f":"Sigma_hMax(AK448,X448,AF448)","v":519.08055216929517},{"$f":"Sigma_hMin(X448,Y448,AG448,AE448,AK448,AL448,AJ448,AI448,Z448,IF(L448=1,mu_redLead,mu_millScale))","v":41.566232715337073},477.51431945395808,8.0076651960138315E-2,152.42751352072526,{"$f":"tau_n(N448,W448,U448,D448)","v":110.25521098018062},{"$f":"tau_hMax(X448,Z448,AH448,W448,U448)","v":76.852805172622439},{"$f":"tau_hMin(X448,Y448,AS448,AE448,Z448,AI448,IF(L448=1,mu_redLead,mu_millScale),W448,U448)","v":23.302546422974068},53.550258749648371]
[437,"Baron1953","R; S",2,3,10.3,41.3,44.5,7.15,8,76,null,454,144.78990329999999,0,610000,1,"A1H",null,437,0.69417475728155342,0.67986798679867988,0.2493946731234867,144.78990329999999,0,{"$f":"IF(OR(X449>=1.6*D449*AD449,D449=1),calcLoadFraction(G449,F449,I449,J449,K449,D449,1),\"Condition for spring model not fulfilled\")","v":0.5068960524206928},{"$f":"IF(L449>2,L449,IF(L449=2,1,sigma_cl0(I449+J449)))","v":120.01906654856765},{"$f":"Sigma_cl(AA449,U449,V449,X449)","v":107.62497923265845},{"$f":"Sigma_cl(AA449,U449,V449,Y449)","v":120.01906654856765},{"$f":"sigma_Slip(AB449,W449,U449,IF(L449=1,mu_redLead,mu_millScale))","v":26.702603816700858},{"$f":"sigma_Slip(AC449,W449,U449,IF(L449=1,mu_redLead,mu_millScale))","v":29.777674359115366},{"$f":"Sigma_p(AB449,V449)","v":-28.425890362793282},{"$f":"Sigma_p(AC449,V449)","v":-31.69941449911213},{"$f":"beta_1(X449,AD449,Z449)","v":0.63617174362354434},{"$f":"beta_1(Y449,AE449,Z449)","v":0},{"$f":"k_tHole(W449,U449)","v":2.422897313772332},{"$f":"K_t1Mu(Z449,AH449,D449,W449,U449,SIGN(X449),mu_millScale)","v":3.2070331532719383},{"$f":"K_t1Mu(Z449,AI449,D449,W449,U449,SIGN(Y449),mu_millScale)","v":1.8088187718863842},{"$f":"Sigma_hMax(AK449,X449,AF449)","v":435.92012977934473},{"$f":"Sigma_hMin(X449,Y449,AG449,AE449,AK449,AL449,AJ449,AI449,Z449,IF(L449=1,mu_redLead,mu_millScale))","v":36.275472240507305},399.64465753883741,8.3215868601592968E-2,127.61778631736965,{"$f":"tau_n(N449,W449,U449,D449)","v":96.290111745299455},{"$f":"tau_hMax(X449,Z449,AH449,W449,U449)","v":62.101911914902075},{"$f":"tau_hMin(X449,Y449,AS449,AE449,Z449,AI449,IF(L449=1,mu_redLead,mu_millScale),W449,U449)","v":20.549491025139528},41.552420889762544]
[438,"Baron1953","R; S",2,3,10.3,41.3,44.5,7.15,8,76,null,454,144.78990329999999,0,750000,1,"A1H",null,438,0.69417475728155342,0.67986798679867988,0.2493946731234867,144.78990329999999,0,{"$f":"IF(OR(X450>=1.6*D450*AD450,D450=1),calcLoadFraction(G450,F450,I450,J450,K450,D450,1),\"Condition for spring model not fulfilled\")","v":0.5068960524206928},{"$f":"IF(L450>2,L450,IF(L450=2,1,sigma_cl0(I450+J450)))","v":120.01906654856765},{"$f":"Sigma_cl(AA450,U450,V450,X450)","v":107.62497923265845},{"$f":"Sigma_cl(AA450,U450,V450,Y450)","v":120.01906654856765},{"$f":"sigma_Slip(AB450,W450,U450,IF(L450=1,mu_redLead,mu_millScale))","v":26.702603816700858},{"$f":"sigma_Slip(AC450,W450,U450,IF(L450=1,mu_redLead,mu_millScale))","v":29.777674359115366},{"$f":"Sigma_p(AB450,V450)","v":-28.425890362793282},{"$f":"Sigma_p(AC450,V450)","v":-31.69941449911213},{"$f":"beta_1(X450,AD450,Z450)","v":0.63617174362354434},{"$f":"beta_1(Y450,AE450,Z450)","v":0},{"$f":"k_tHole(W450,U450)","v":2.422897313772332},{"$f":"K_t1Mu(Z450,AH450,D450,W450,U450,SIGN(X450),mu_millScale)","v":3.2070331532719383},{"$f":"K_t1Mu(Z450,AI450,D450,W450,U450,SIGN(Y450),mu_millScale)","v":1.8088187718863842},{"$f":"Sigma_hMax(AK450,X450,AF450)","v":435.92012977934473},{"$f":"Sigma_hMin(X450,Y450,AG450,AE450,AK450,AL450,AJ450,AI450,Z450,IF(L450=1,mu_redLead,mu_millScale))","v":36.275472240507305},399.64465753883741,8.3215868601592968E-2,127.61778631736965,{"$f":"tau_n(N450,W450,U450,D450)","v":96.290111745299455},{"$f":"tau_hMax(X450,Z450,AH450,W450,U450)","v":62.101911914902075},{"$f":"tau_hMin(X450,Y450,AS450,AE450,Z450,AI450,IF(L450=1,mu_redLead,mu_millScale),W450,U450)","v":20.549491025139528},41.552420889762544]
[439,"Baron1953","R; S",2,3,10.3,41.3,44.5,7.15,8,76,null,454,155.1320393,0,550000,1,"A1H",null,439,0.69417475728155342,0.67986798679867988,0.2493946731234867,155.1320393,0,{"$f":"IF(OR(X451>=1.6*D451*AD451,D451=1),calcLoadFraction(G451,F451,I451,J451,K451,D451,1),\"Condition for spring model not fulfilled\")","v":0.5068960524206928},{"$f":"IF(L451>2,L451,IF(L451=2,1,sigma_cl0(I451+J451)))","v":120.01906654856765},{"$f":"Sigma_cl(AA451,U451,V451,X451)","v":106.73968727724206},{"$f":"Sigma_cl(AA451,U451,V451,Y451)","v":120.01906654856765},{"$f":"sigma_Slip(AB451,W451,U451,IF(L451=1,mu_redLead,mu_millScale))","v":26.482955919752204},{"$f":"sigma_Slip(AC451,W451,U451,IF(L451=1,mu_redLead,mu_millScale))","v":29.777674359115366},{"$f":"Sigma_p(AB451,V451)","v":-28.192067209068643},{"$f":"Sigma_p(AC451,V451)","v":-31.69941449911213},{"$f":"beta_1(X451,AD451,Z451)","v":0.66322019044488079},{"$f":"beta_1(Y451,AE451,Z451)","v":0},{"$f":"k_tHole(W451,U451)","v":2.422897313772332},{"$f":"K_t1Mu(Z451,AH451,D451,W451,U451,SIGN(X451),mu_millScale)","v":3.2568961454417633},{"$f":"K_t1Mu(Z451,AI451,D451,W451,U451,SIGN(Y451),mu_millScale)","v":1.8088187718863842},{"$f":"Sigma_hMax(AK451,X451,AF451)","v":477.05687362162149},{"$f":"Sigma_hMin(X451,Y451,AG451,AE451,AK451,AL451,AJ451,AI451,Z451,IF(L451=1,mu_redLead,mu_millScale))","v":39.060396763862975},437.99647685775852,8.1877861788956841E-2,139.84256852346354,{"$f":"tau_n(N451,W451,U451,D451)","v":103.16797690321538},{"$f":"tau_hMax(X451,Z451,AH451,W451,U451)","v":69.366783655448288},{"$f":"tau_hMin(X451,Y451,AS451,AE451,Z451,AI451,IF(L451=1,mu_redLead,mu_millScale),W451,U451)","v":21.962925062853124},47.403858592595164]
[440,"Baron1953","R; S",2,3,10.3,41.3,44.5,7.15,8,76,null,454,165.47417519999999,0,335000,1,"A1H",null,440,0.69417475728155342,0.67986798679867988,0.2493946731234867,165.47417519999999,0,{"$f":"IF(OR(X452>=1.6*D452*AD452,D452=1),calcLoadFraction(G452,F452,I452,J452,K452,D452,1),\"Condition for spring model not fulfilled\")","v":0.5068960524206928},{"$f":"IF(L452>2,L452,IF(L452=2,1,sigma_cl0(I452+J452)))","v":120.01906654856765},{"$f":"Sigma_cl(AA452,U452,V452,X452)","v":105.8543953303857},{"$f":"Sigma_cl(AA452,U452,V452,Y452)","v":120.01906654856765},{"$f":"sigma_Slip(AB452,W452,U452,IF(L452=1,mu_redLead,mu_millScale))","v":26.263308024927355},{"$f":"sigma_Slip(AC452,W452,U452,IF(L452=1,mu_redLead,mu_millScale))","v":29.777674359115366},{"$f":"Sigma_p(AB452,V452)","v":-27.958244057604876},{"$f":"Sigma_p(AC452,V452)","v":-31.69941449911213},{"$f":"beta_1(X452,AD452,Z452)","v":0.68688758118470594},{"$f":"beta_1(Y452,AE452,Z452)","v":0},{"$f":"k_tHole(W452,U452)","v":2.422897313772332},{"$f":"K_t1Mu(Z452,AH452,D452,W452,U452,SIGN(X452),mu_millScale)","v":3.2984133870067072},{"$f":"K_t1Mu(Z452,AI452,D452,W452,U452,SIGN(Y452),mu_millScale)","v":1.8088187718863842},{"$f":"Sigma_hMax(AK452,X452,AF452)","v":517.84399062596833},{"$f":"Sigma_hMin(X452,Y452,AG452,AE452,AK452,AL452,AJ452,AI452,Z452,IF(L452=1,mu_redLead,mu_millScale))","v":41.496888003453464},476.34710262251485,8.0133956856952501E-2,152.05594665280387,{"$f":"tau_n(N452,W452,U452,D452)","v":110.04584199462793},{"$f":"tau_hMax(X452,Z452,AH452,W452,U452)","v":76.631655325749136},{"$f":"tau_hMin(X452,Y452,AS452,AE452,Z452,AI452,IF(L452=1,mu_redLead,mu_millScale),W452,U452)","v":23.26452538359738},53.367129942151756]
[441,"Baron1953","R; S",2,3,10.3,41.3,44.5,7.15,8,76,null,454,155.1320393,0,931823,1,"A1H",null,441,0.69417475728155342,0.67986798679867988,0.2493946731234867,155.1320393,0,{"$f":"IF(OR(X453>=1.6*D453*AD453,D453=1),calcLoadFraction(G453,F453,I453,J453,K453,D453,1),\"Condition for spring model not fulfilled\")","v":0.5068960524206928},{"$f":"IF(L453>2,L453,IF(L453=2,1,sigma_cl0(I453+J453)))","v":120.01906654856765},{"$f":"Sigma_cl(AA453,U453,V453,X453)","v":106.73968727724206},{"$f":"Sigma_cl(AA453,U453,V453,Y453)","v":120.01906654856765},{"$f":"sigma_Slip(AB453,W453,U453,IF(L453=1,mu_redLead,mu_millScale))","v":26.482955919752204},{"$f":"sigma_Slip(AC453,W453,U453,IF(L453=1,mu_redLead,mu_millScale))","v":29.777674359115366},{"$f":"Sigma_p(AB453,V453)","v":-28.192067209068643},{"$f":"Sigma_p(AC453,V453)","v":-31.69941449911213},{"$f":"beta_1(X453,AD453,Z453)","v":0.66322019044488079},{"$f":"beta_1(Y453,AE453,Z453)","v":0},{"$f":"k_tHole(W453,U453)","v":2.422897313772332},{"$f":"K_t1Mu(Z453,AH453,D453,W453,U453,SIGN(X453),mu_millScale)","v":3.2568961454417633},{"$f":"K_t1Mu(Z453,AI453,D453,W453,U453,SIGN(Y453),mu_millScale)","v":1.8088187718863842},{"$f":"Sigma_hMax(AK453,X453,AF453)","v":477.05687362162149},{"$f":"Sigma_hMin(X453,Y453,AG453,AE453,AK453,AL453,AJ453,AI453,Z453,IF(L453=1,mu_redLead,mu_millScale))","v":39.060396763862975},437.99647685775852,8.1877861788956841E-2,139.84256852346354,{"$f":"tau_n(N453,W453,U453,D453)","v":103.16797690321538},{"$f":"tau_hMax(X453,Z453,AH453,W453,U453)","v":69.366783655448288},{"$f":"tau_hMin(X453,Y453,AS453,AE453,Z453,AI453,IF(L453=1,mu_redLead,mu_millScale),W453,U453)","v":21.962925062853124},47.403858592595164]
[442,"Baron1953","R; S",2,3,10.3,41.3,44.5,7.15,8,76,null,454,165.47417519999999,0,443446,1,"A1H",null,442,0.69417475728155342,0.67986798679867988,0.2493946731234867,165.47417519999999,0,{"$f":"IF(OR(X454>=1.6*D454*AD454,D454=1),calcLoadFraction(G454,F454,I454,J454,K454,D454,1),\"Condition for spring model not fulfilled\")","v":0.5068960524206928},{"$f":"IF(L454>2,L454,IF(L454=2,1,sigma_cl0(I454+J454)))","v":120.01906654856765},{"$f":"Sigma_cl(AA454,U454,V454,X454)","v":105.8543953303857},{"$f":"Sigma_cl(AA454,U454,V454,Y454)","v":120.01906654856765},{"$f":"sigma_Slip(AB454,W454,U454,IF(L454=1,mu_redLead,mu_millScale))","v":26.263308024927355},{"$f":"sigma_Slip(AC454,W454,U454,IF(L454=1,mu_redLead,mu_millScale))","v":29.777674359115366},{"$f":"Sigma_p(AB454,V454)","v":-27.958244057604876},{"$f":"Sigma_p(AC454,V454)","v":-31.69941449911213},{"$f":"beta_1(X454,AD454,Z454)","v":0.68688758118470594},{"$f":"beta_1(Y454,AE454,Z454)","v":0},{"$f":"k_tHole(W454,U454)","v":2.422897313772332},{"$f":"K_t1Mu(Z454,AH454,D454,W454,U454,SIGN(X454),mu_millScale)","v":3.2984133870067072},{"$f":"K_t1Mu(Z454,AI454,D454,W454,U454,SIGN(Y454),mu_millScale)","v":1.8088187718863842},{"$f":"Sigma_hMax(AK454,X454,AF454)","v":517.84399062596833},{"$f":"Sigma_hMin(X454,Y454,AG454,AE454,AK454,AL454,AJ454,AI454,Z454,IF(L454=1,mu_redLead,mu_millScale))","v":41.496888003453464},476.34710262251485,8.0133956856952501E-2,152.05594665280387,{"$f":"tau_n(N454,W454,U454,D454)","v":110.04584199462793},{"$f":"tau_hMax(X454,Z454,AH454,W454,U454)","v":76.631655325749136},{"$f":"tau_hMin(X454,Y454,AS454,AE454,Z454,AI454,IF(L454=1,mu_redLead,mu_millScale),W454,U454)","v":23.26452538359738},53.367129942151756]
[443,"Baron1953","R; S",2,3,10.3,41.3,44.5,7.15,19,76,null,454,155.1320393,0,1449279,1,"A2H",null,443,0.69417475728155342,0.39388145315487577,0.2493946731234867,155.1320393,0,{"$f":"IF(OR(X455>=1.6*D455*AD455,D455=1),calcLoadFraction(G455,F455,I455,J455,K455,D455,1),\"Condition for spring model not fulfilled\")","v":0.54174825360633005},{"$f":"IF(L455>2,L455,IF(L455=2,1,sigma_cl0(I455+J455)))","v":167.47579152348317},{"$f":"Sigma_cl(AA455,U455,V455,X455)","v":158.11009945390867},{"$f":"Sigma_cl(AA455,U455,V455,Y455)","v":167.47579152348317},{"$f":"sigma_Slip(AB455,W455,U455,IF(L455=1,mu_redLead,mu_millScale))","v":39.228359208414666},{"$f":"sigma_Slip(AC455,W455,U455,IF(L455=1,mu_redLead,mu_millScale))","v":41.552061071923838},{"$f":"Sigma_p(AB455,V455)","v":-22.902500666957923},{"$f":"Sigma_p(AC455,V455)","v":-24.259136135601604},{"$f":"beta_1(X455,AD455,Z455)","v":0.53323194929169937},{"$f":"beta_1(Y455,AE455,Z455)","v":0},{"$f":"k_tHole(W455,U455)","v":2.422897313772332},{"$f":"K_t1Mu(Z455,AH455,D455,W455,U455,SIGN(X455),mu_millScale)","v":3.0368815338741024},{"$f":"K_t1Mu(Z455,AI455,D455,W455,U455,SIGN(Y455),mu_millScale)","v":1.7665971195705175},{"$f":"Sigma_hMax(AK455,X455,AF455)","v":448.21512479544361},{"$f":"Sigma_hMin(X455,Y455,AG455,AE455,AK455,AL455,AJ455,AI455,Z455,IF(L455=1,mu_redLead,mu_millScale))","v":56.588294716547665},391.62683007889598,0.1262525327372061,125.72330998435149,{"$f":"tau_n(N455,W455,U455,D455)","v":103.16797690321538},{"$f":"tau_hMax(X455,Z455,AH455,W455,U455)","v":59.60580981104038},{"$f":"tau_hMin(X455,Y455,AS455,AE455,Z455,AI455,IF(L455=1,mu_redLead,mu_millScale),W455,U455)","v":22.271624954877662},37.334184856162722]
[444,"Baron1953","R; S",2,3,10.3,41.3,44.5,7.15,19,76,null,454,165.47417519999999,0,1004400,1,"A2H",null,444,0.69417475728155342,0.39388145315487577,0.2493946731234867,165.47417519999999,0,{"$f":"IF(OR(X456>=1.6*D456*AD456,D456=1),calcLoadFraction(G456,F456,I456,J456,K456,D456,1),\"Condition for spring model not fulfilled\")","v":0.54174825360633005},{"$f":"IF(L456>2,L456,IF(L456=2,1,sigma_cl0(I456+J456)))","v":167.47579152348317},{"$f":"Sigma_cl(AA456,U456,V456,X456)","v":157.48571998582358},{"$f":"Sigma_cl(AA456,U456,V456,Y456)","v":167.47579152348317},{"$f":"sigma_Slip(AB456,W456,U456,IF(L456=1,mu_redLead,mu_millScale))","v":39.073445751646261},{"$f":"sigma_Slip(AC456,W456,U456,IF(L456=1,mu_redLead,mu_millScale))","v":41.552061071923838},{"$f":"Sigma_p(AB456,V456)","v":-22.812058302848083},{"$f":"Sigma_p(AC456,V456)","v":-24.259136135601604},{"$f":"beta_1(X456,AD456,Z456)","v":0.5641330225953306},{"$f":"beta_1(Y456,AE456,Z456)","v":0},{"$f":"k_tHole(W456,U456)","v":2.422897313772332},{"$f":"K_t1Mu(Z456,AH456,D456,W456,U456,SIGN(X456),mu_millScale)","v":3.1072576370706617},{"$f":"K_t1Mu(Z456,AI456,D456,W456,U456,SIGN(Y456),mu_millScale)","v":1.7665971195705175},{"$f":"Sigma_hMax(AK456,X456,AF456)","v":491.35883632532057},{"$f":"Sigma_hMin(X456,Y456,AG456,AE456,AK456,AL456,AJ456,AI456,Z456,IF(L456=1,mu_redLead,mu_millScale))","v":60.982717227858167},430.37611909746238,0.12411035015453048,138.12480722159751,{"$f":"tau_n(N456,W456,U456,D456)","v":110.04584199462793},{"$f":"tau_hMax(X456,Z456,AH456,W456,U456)","v":67.263997839133864},{"$f":"tau_hMin(X456,Y456,AS456,AE456,Z456,AI456,IF(L456=1,mu_redLead,mu_millScale),W456,U456)","v":24.175562701985275},43.088435137148593]
[445,"Baron1953","R; S",2,3,10.3,41.3,44.5,7.15,19,76,null,454,155.1320393,0,1801104,1,"A2H",null,445,0.69417475728155342,0.39388145315487577,0.2493946731234867,155.1320393,0,{"$f":"IF(OR(X457>=1.6*D457*AD457,D457=1),calcLoadFraction(G457,F457,I457,J457,K457,D457,1),\"Condition for spring model not fulfilled\")","v":0.54174825360633005},{"$f":"IF(L457>2,L457,IF(L457=2,1,sigma_cl0(I457+J457)))","v":167.47579152348317},{"$f":"Sigma_cl(AA457,U457,V457,X457)","v":158.11009945390867},{"$f":"Sigma_cl(AA457,U457,V457,Y457)","v":167.47579152348317},{"$f":"sigma_Slip(AB457,W457,U457,IF(L457=1,mu_redLead,mu_millScale))","v":39.228359208414666},{"$f":"sigma_Slip(AC457,W457,U457,IF(L457=1,mu_redLead,mu_millScale))","v":41.552061071923838},{"$f":"Sigma_p(AB457,V457)","v":-22.902500666957923},{"$f":"Sigma_p(AC457,V457)","v":-24.259136135601604},{"$f":"beta_1(X457,AD457,Z457)","v":0.53323194929169937},{"$f":"beta_1(Y457,AE457,Z457)","v":0},{"$f":"k_tHole(W457,U457)","v":2.422897313772332},{"$f":"K_t1Mu(Z457,AH457,D457,W457,U457,SIGN(X457),mu_millScale)","v":3.0368815338741024},{"$f":"K_t1Mu(Z457,AI457,D457,W457,U457,SIGN(Y457),mu_millScale)","v":1.7665971195705175},{"$f":"Sigma_hMax(AK457,X457,AF457)","v":448.21512479544361},{"$f":"Sigma_hMin(X457,Y457,AG457,AE457,AK457,AL457,AJ457,AI457,Z457,IF(L457=1,mu_redLead,mu_millScale))","v":56.588294716547665},391.62683007889598,0.1262525327372061,125.72330998435149,{"$f":"tau_n(N457,W457,U457,D457)","v":103.16797690321538},{"$f":"tau_hMax(X457,Z457,AH457,W457,U457)","v":59.60580981104038},{"$f":"tau_hMin(X457,Y457,AS457,AE457,Z457,AI457,IF(L457=1,mu_redLead,mu_millScale),W457,U457)","v":22.271624954877662},37.334184856162722]
[446,"Baron1953","R; S",2,3,10.3,41.3,44.5,7.15,19,76,null,454,155.1320393,0,2183470,1,"A2H",null,446,{"$f":"I458/F458","v":0.69417475728155342},{"$f":"F458/(J458+I458)","v":0.39388145315487577},{"$f":"F458/G458","v":0.2493946731234867},{"$f":"N458/(1-O458)","v":155.1320393},{"$f":"X458*O458","v":0},{"$f":"IF(OR(X458>=1.6*D458*AD458,D458=1),calcLoadFraction(G458,F458,I458,J458,K458,D458,1),\"Condition for spring model not fulfilled\")","v":0.54174825360633005},{"$f":"IF(L458>2,L458,IF(L458=2,1,sigma_cl0(I458+J458)))","v":167.47579152348317},{"$f":"Sigma_cl(AA458,U458,V458,X458)","v":158.11009945390867},{"$f":"Sigma_cl(AA458,U458,V458,Y458)","v":167.47579152348317},{"$f":"sigma_Slip(AB458,W458,U458,IF(L458=1,mu_redLead,mu_millScale))","v":39.228359208414666},{"$f":"sigma_Slip(AC458,W458,U458,IF(L458=1,mu_redLead,mu_millScale))","v":41.552061071923838},{"$f":"Sigma_p(AB458,V458)","v":-22.902500666957923},{"$f":"Sigma_p(AC458,V458)","v":-24.259136135601604},{"$f":"beta_1(X458,AD458,Z458)","v":0.53323194929169937},{"$f":"beta_1(Y458,AE458,Z458)","v":0},{"$f":"k_tHole(W458,U458)","v":2.422897313772332},{"$f":"K_t1Mu(Z458,AH458,D458,W458,U458,SIGN(X458),mu_millScale)","v":3.0368815338741024},{"$f":"K_t1Mu(Z458,AI458,D458,W458,U458,SIGN(Y458),mu_millScale)","v":1.7665971195705175},{"$f":"Sigma_hMax(AK458,X458,AF458)","v":448.21512479544361},{"$f":"Sigma_hMin(X458,Y458,AG458,AE458,AK458,AL458,AJ458,AI458,Z458,IF(L458=1,mu_redLead,mu_millScale))","v":56.588294716547665},{"$f":"(AM458-AN458)","v":391.62683007889598},{"$f":"AN458/AM458","v":0.1262525327372061},125.72330998435149,{"$f":"tau_n(N458,W458,U458,D458)","v":103.16797690321538},{"$f":"tau_hMax(X458,Z458,AH458,W458,U458)","v":59.60580981104038},{"$f":"tau_hMin(X458,Y458,AS458,AE458,Z458,AI458,IF(L458=1,mu_redLead,mu_millScale),W458,U458)","v":22.271624954877662},37.334184856162722]
[447,"Baron1953","R; S",2,3,10.3,41.3,44.5,7.15,19,76,null,454,193.0532044,0,261806,1,"A2H",null,447,0.69417475728155342,0.39388145315487577,0.2493946731234867,193.0532044,0,{"$f":"IF(OR(X459>=1.6*D459*AD459,D459=1),calcLoadFraction(G459,F459,I459,J459,K459,D459,1),\"Condition for spring model not fulfilled\")","v":0.54174825360633005},{"$f":"IF(L459>2,L459,IF(L459=2,1,sigma_cl0(I459+J459)))","v":167.47579152348317},{"$f":"Sigma_cl(AA459,U459,V459,X459)","v":155.82070806288033},{"$f":"Sigma_cl(AA459,U459,V459,Y459)","v":167.47579152348317},{"$f":"sigma_Slip(AB459,W459,U459,IF(L459=1,mu_redLead,mu_millScale))","v":38.660343198266673},{"$f":"sigma_Slip(AC459,W459,U459,IF(L459=1,mu_redLead,mu_millScale))","v":41.552061071923838},{"$f":"Sigma_p(AB459,V459)","v":-22.570878664055829},{"$f":"Sigma_p(AC459,V459)","v":-24.259136135601604},{"$f":"beta_1(X459,AD459,Z459)","v":0.63034960858744116},{"$f":"beta_1(Y459,AE459,Z459)","v":0},{"$f":"k_tHole(W459,U459)","v":2.422897313772332},{"$f":"K_t1Mu(Z459,AH459,D459,W459,U459,SIGN(X459),mu_millScale)","v":3.2491370009707858},{"$f":"K_t1Mu(Z459,AI459,D459,W459,U459,SIGN(Y459),mu_millScale)","v":1.7665971195705175},{"$f":"Sigma_hMax(AK459,X459,AF459)","v":604.68543090796027},{"$f":"Sigma_hMin(X459,Y459,AG459,AE459,AK459,AL459,AJ459,AI459,Z459,IF(L459=1,mu_redLead,mu_millScale))","v":70.532151054852065},534.15327985310819,0.11664271611264904,171.2678781514536,{"$f":"tau_n(N459,W459,U459,D459)","v":128.38681566039926},{"$f":"tau_hMax(X459,Z459,AH459,W459,U459)","v":87.685832679447742},{"$f":"tau_hMin(X459,Y459,AS459,AE459,Z459,AI459,IF(L459=1,mu_redLead,mu_millScale),W459,U459)","v":28.631019963737835},59.054812715709907]
[448,"Baron1953","R; S",2,3,10.3,41.3,44.5,7.15,19,76,null,454,193.0532044,0,650148,1,"A2H",null,448,0.69417475728155342,0.39388145315487577,0.2493946731234867,193.0532044,0,{"$f":"IF(OR(X460>=1.6*D460*AD460,D460=1),calcLoadFraction(G460,F460,I460,J460,K460,D460,1),\"Condition for spring model not fulfilled\")","v":0.54174825360633005},{"$f":"IF(L460>2,L460,IF(L460=2,1,sigma_cl0(I460+J460)))","v":167.47579152348317},{"$f":"Sigma_cl(AA460,U460,V460,X460)","v":155.82070806288033},{"$f":"Sigma_cl(AA460,U460,V460,Y460)","v":167.47579152348317},{"$f":"sigma_Slip(AB460,W460,U460,IF(L460=1,mu_redLead,mu_millScale))","v":38.660343198266673},{"$f":"sigma_Slip(AC460,W460,U460,IF(L460=1,mu_redLead,mu_millScale))","v":41.552061071923838},{"$f":"Sigma_p(AB460,V460)","v":-22.570878664055829},{"$f":"Sigma_p(AC460,V460)","v":-24.259136135601604},{"$f":"beta_1(X460,AD460,Z460)","v":0.63034960858744116},{"$f":"beta_1(Y460,AE460,Z460)","v":0},{"$f":"k_tHole(W460,U460)","v":2.422897313772332},{"$f":"K_t1Mu(Z460,AH460,D460,W460,U460,SIGN(X460),mu_millScale)","v":3.2491370009707858},{"$f":"K_t1Mu(Z460,AI460,D460,W460,U460,SIGN(Y460),mu_millScale)","v":1.7665971195705175},{"$f":"Sigma_hMax(AK460,X460,AF460)","v":604.68543090796027},{"$f":"Sigma_hMin(X460,Y460,AG460,AE460,AK460,AL460,AJ460,AI460,Z460,IF(L460=1,mu_redLead,mu_millScale))","v":70.532151054852065},534.15327985310819,0.11664271611264904,{"$f":"AO460/3.16*(1-0.9*AP460)/(1-AP460)","v":171.2678781514536},{"$f":"tau_n(N460,W460,U460,D460)","v":128.38681566039926},{"$f":"tau_hMax(X460,Z460,AH460,W460,U460)","v":87.685832679447742},{"$f":"tau_hMin(X460,Y460,AS460,AE460,Z460,AI460,IF(L460=1,mu_redLead,mu_millScale),W460,U460)","v":28.631019963737835},{"$f":"(AS460-AT460)","v":59.054812715709907}]
[449,"Baron1953","R; S",2,3,10.3,41.3,44.5,7.15,19,76,null,454,165.47417519999999,0,787834,1,"A2H",null,449,0.69417475728155342,0.39388145315487577,0.2493946731234867,165.47417519999999,0,{"$f":"IF(OR(X461>=1.6*D461*AD461,D461=1),calcLoadFraction(G461,F461,I461,J461,K461,D461,1),\"Condition for spring model not fulfilled\")","v":0.54174825360633005},{"$f":"IF(L461>2,L461,IF(L461=2,1,sigma_cl0(I461+J461)))","v":167.47579152348317},{"$f":"Sigma_cl(AA461,U461,V461,X461)","v":157.48571998582358},{"$f":"Sigma_cl(AA461,U461,V461,Y461)","v":167.47579152348317},{"$f":"sigma_Slip(AB461,W461,U461,IF(L461=1,mu_redLead,mu_millScale))","v":39.073445751646261},{"$f":"sigma_Slip(AC461,W461,U461,IF(L461=1,mu_redLead,mu_millScale))","v":41.552061071923838},{"$f":"Sigma_p(AB461,V461)","v":-22.812058302848083},{"$f":"Sigma_p(AC461,V461)","v":-24.259136135601604},{"$f":"beta_1(X461,AD461,Z461)","v":0.5641330225953306},{"$f":"beta_1(Y461,AE461,Z461)","v":0},{"$f":"k_tHole(W461,U461)","v":2.422897313772332},{"$f":"K_t1Mu(Z461,AH461,D461,W461,U461,SIGN(X461),mu_millScale)","v":3.1072576370706617},{"$f":"K_t1Mu(Z461,AI461,D461,W461,U461,SIGN(Y461),mu_millScale)","v":1.7665971195705175},{"$f":"Sigma_hMax(AK461,X461,AF461)","v":491.35883632532057},{"$f":"Sigma_hMin(X461,Y461,AG461,AE461,AK461,AL461,AJ461,AI461,Z461,IF(L461=1,mu_redLead,mu_millScale))","v":60.982717227858167},430.37611909746238,0.12411035015453048,138.12480722159751,{"$f":"tau_n(N461,W461,U461,D461)","v":110.04584199462793},{"$f":"tau_hMax(X461,Z461,AH461,W461,U461)","v":67.263997839133864},{"$f":"tau_hMin(X461,Y461,AS461,AE461,Z461,AI461,IF(L461=1,mu_redLead,mu_millScale),W461,U461)","v":24.175562701985275},43.088435137148593]
[450,"Baron1953","R; S",2,3,10.3,41.3,44.5,7.15,19,76,null,454,165.47417519999999,0,812817,1,"A2H",null,450,0.69417475728155342,0.39388145315487577,0.2493946731234867,165.47417519999999,0,{"$f":"IF(OR(X462>=1.6*D462*AD462,D462=1),calcLoadFraction(G462,F462,I462,J462,K462,D462,1),\"Condition for spring model not fulfilled\")","v":0.54174825360633005},{"$f":"IF(L462>2,L462,IF(L462=2,1,sigma_cl0(I462+J462)))","v":167.47579152348317},{"$f":"Sigma_cl(AA462,U462,V462,X462)","v":157.48571998582358},{"$f":"Sigma_cl(AA462,U462,V462,Y462)","v":167.47579152348317},{"$f":"sigma_Slip(AB462,W462,U462,IF(L462=1,mu_redLead,mu_millScale))","v":39.073445751646261},{"$f":"sigma_Slip(AC462,W462,U462,IF(L462=1,mu_redLead,mu_millScale))","v":41.552061071923838},{"$f":"Sigma_p(AB462,V462)","v":-22.812058302848083},{"$f":"Sigma_p(AC462,V462)","v":-24.259136135601604},{"$f":"beta_1(X462,AD462,Z462)","v":0.5641330225953306},{"$f":"beta_1(Y462,AE462,Z462)","v":0},{"$f":"k_tHole(W462,U462)","v":2.422897313772332},{"$f":"K_t1Mu(Z462,AH462,D462,W462,U462,SIGN(X462),mu_millScale)","v":3.1072576370706617},{"$f":"K_t1Mu(Z462,AI462,D462,W462,U462,SIGN(Y462),mu_millScale)","v":1.7665971195705175},{"$f":"Sigma_hMax(AK462,X462,AF462)","v":491.35883632532057},{"$f":"Sigma_hMin(X462,Y462,AG462,AE462,AK462,AL462,AJ462,AI462,Z462,IF(L462=1,mu_redLead,mu_millScale))","v":60.982717227858167},430.37611909746238,0.12411035015453048,138.12480722159751,{"$f":"tau_n(N462,W462,U462,D462)","v":110.04584199462793},{"$f":"tau_hMax(X462,Z462,AH462,W462,U462)","v":67.263997839133864},{"$f":"tau_hMin(X462,Y462,AS462,AE462,Z462,AI462,IF(L462=1,mu_redLead,mu_millScale),W462,U462)","v":24.175562701985275},43.088435137148593]
[451,"Baron1953","R; S",2,3,10.3,41.3,44.5,7.15,32,76,null,454,155.1320393,0,870000,1,"A3H",null,451,0.69417475728155342,0.26309067688378035,0.2493946731234867,155.1320393,0,{"$f":"IF(OR(X463>=1.6*D463*AD463,D463=1),calcLoadFraction(G463,F463,I463,J463,K463,D463,1),\"Condition for spring model not fulfilled\")","v":0.5399805282760789},{"$f":"IF(L463>2,L463,IF(L463=2,1,sigma_cl0(I463+J463)))","v":195.04229179033334},{"$f":"Sigma_cl(AA463,U463,V463,X463)","v":188.05978490292796},{"$f":"Sigma_cl(AA463,U463,V463,Y463)","v":195.04229179033334},{"$f":"sigma_Slip(AB463,W463,U463,IF(L463=1,mu_redLead,mu_millScale))","v":46.659111722207442},{"$f":"sigma_Slip(AC463,W463,U463,IF(L463=1,mu_redLead,mu_millScale))","v":48.391526598299635},{"$f":"Sigma_p(AB463,V463)","v":-16.500784480529969},{"$f":"Sigma_p(AC463,V463)","v":-17.113445190220585},{"$f":"beta_1(X463,AD463,Z463)","v":0.44299785760311311},{"$f":"beta_1(Y463,AE463,Z463)","v":0},{"$f":"k_tHole(W463,U463)","v":2.422897313772332},{"$f":"K_t1Mu(Z463,AH463,D463,W463,U463,SIGN(X463),mu_millScale)","v":2.8188140744768844},{"$f":"K_t1Mu(Z463,AI463,D463,W463,U463,SIGN(Y463),mu_millScale)","v":1.7687386280475939},{"$f":"Sigma_hMax(AK463,X463,AF463)","v":420.78759130061121},{"$f":"Sigma_hMin(X463,Y463,AG463,AE463,AK463,AL463,AJ463,AI463,Z463,IF(L463=1,mu_redLead,mu_millScale))","v":62.806659278317042},357.98093202229416,0.14925977043236496,115.27265757915374,{"$f":"tau_n(N463,W463,U463,D463)","v":103.16797690321538},{"$f":"tau_hMax(X463,Z463,AH463,W463,U463)","v":49.357668320778863},{"$f":"tau_hMin(X463,Y463,AS463,AE463,Z463,AI463,IF(L463=1,mu_redLead,mu_millScale),W463,U463)","v":20.184633586828962},29.173034733949901]
[452,"Baron1953","R; S",2,3,10.3,41.3,44.5,7.15,32,76,null,454,165.47417519999999,0,1200000,1,"A3H",null,452,0.69417475728155342,0.26309067688378035,0.2493946731234867,165.47417519999999,0,{"$f":"IF(OR(X464>=1.6*D464*AD464,D464=1),calcLoadFraction(G464,F464,I464,J464,K464,D464,1),\"Condition for spring model not fulfilled\")","v":0.5399805282760789},{"$f":"IF(L464>2,L464,IF(L464=2,1,sigma_cl0(I464+J464)))","v":195.04229179033334},{"$f":"Sigma_cl(AA464,U464,V464,X464)","v":187.59428444616813},{"$f":"Sigma_cl(AA464,U464,V464,Y464)","v":195.04229179033334},{"$f":"sigma_Slip(AB464,W464,U464,IF(L464=1,mu_redLead,mu_millScale))","v":46.543617397730223},{"$f":"sigma_Slip(AC464,W464,U464,IF(L464=1,mu_redLead,mu_millScale))","v":48.391526598299635},{"$f":"Sigma_p(AB464,V464)","v":-16.459940433427889},{"$f":"Sigma_p(AC464,V464)","v":-17.113445190220585},{"$f":"beta_1(X464,AD464,Z464)","v":0.47910305611620363},{"$f":"beta_1(Y464,AE464,Z464)","v":0},{"$f":"k_tHole(W464,U464)","v":2.422897313772332},{"$f":"K_t1Mu(Z464,AH464,D464,W464,U464,SIGN(X464),mu_millScale)","v":2.9069592408043041},{"$f":"K_t1Mu(Z464,AI464,D464,W464,U464,SIGN(Y464),mu_millScale)","v":1.7687386280475939},{"$f":"Sigma_hMax(AK464,X464,AF464)","v":464.56674227868251},{"$f":"Sigma_hMin(X464,Y464,AG464,AE464,AK464,AL464,AJ464,AI464,Z464,IF(L464=1,mu_redLead,mu_millScale))","v":68.558852184808387},396.00789009387415,0.14757589372095337,127.48853649125158,{"$f":"tau_n(N464,W464,U464,D464)","v":110.04584199462793},{"$f":"tau_hMax(X464,Z464,AH464,W464,U464)","v":56.939109922454726},{"$f":"tau_hMin(X464,Y464,AS464,AE464,Z464,AI464,IF(L464=1,mu_redLead,mu_millScale),W464,U464)","v":22.44293589902108},34.496174023433646]
[453,"Baron1953","R; S",2,3,10.3,41.3,44.5,7.15,32,76,null,454,155.1320393,0,1480000,1,"A3H",null,453,0.69417475728155342,0.26309067688378035,0.2493946731234867,155.1320393,0,{"$f":"IF(OR(X465>=1.6*D465*AD465,D465=1),calcLoadFraction(G465,F465,I465,J465,K465,D465,1),\"Condition for spring model not fulfilled\")","v":0.5399805282760789},{"$f":"IF(L465>2,L465,IF(L465=2,1,sigma_cl0(I465+J465)))","v":195.04229179033334},{"$f":"Sigma_cl(AA465,U465,V465,X465)","v":188.05978490292796},{"$f":"Sigma_cl(AA465,U465,V465,Y465)","v":195.04229179033334},{"$f":"sigma_Slip(AB465,W465,U465,IF(L465=1,mu_redLead,mu_millScale))","v":46.659111722207442},{"$f":"sigma_Slip(AC465,W465,U465,IF(L465=1,mu_redLead,mu_millScale))","v":48.391526598299635},{"$f":"Sigma_p(AB465,V465)","v":-16.500784480529969},{"$f":"Sigma_p(AC465,V465)","v":-17.113445190220585},{"$f":"beta_1(X465,AD465,Z465)","v":0.44299785760311311},{"$f":"beta_1(Y465,AE465,Z465)","v":0},{"$f":"k_tHole(W465,U465)","v":2.422897313772332},{"$f":"K_t1Mu(Z465,AH465,D465,W465,U465,SIGN(X465),mu_millScale)","v":2.8188140744768844},{"$f":"K_t1Mu(Z465,AI465,D465,W465,U465,SIGN(Y465),mu_millScale)","v":1.7687386280475939},{"$f":"Sigma_hMax(AK465,X465,AF465)","v":420.78759130061121},{"$f":"Sigma_hMin(X465,Y465,AG465,AE465,AK465,AL465,AJ465,AI465,Z465,IF(L465=1,mu_redLead,mu_millScale))","v":62.806659278317042},357.98093202229416,0.14925977043236496,115.27265757915374,{"$f":"tau_n(N465,W465,U465,D465)","v":103.16797690321538},{"$f":"tau_hMax(X465,Z465,AH465,W465,U465)","v":49.357668320778863},{"$f":"tau_hMin(X465,Y465,AS465,AE465,Z465,AI465,IF(L465=1,mu_redLead,mu_millScale),W465,U465)","v":20.184633586828962},29.173034733949901]
[454,"Baron1953","R; S",2,3,10.3,41.3,44.5,7.15,32,76,null,454,155.1320393,0,1640000,1,"A3H",null,454,0.69417475728155342,0.26309067688378035,0.2493946731234867,155.1320393,0,{"$f":"IF(OR(X466>=1.6*D466*AD466,D466=1),calcLoadFraction(G466,F466,I466,J466,K466,D466,1),\"Condition for spring model not fulfilled\")","v":0.5399805282760789},{"$f":"IF(L466>2,L466,IF(L466=2,1,sigma_cl0(I466+J466)))","v":195.04229179033334},{"$f":"Sigma_cl(AA466,U466,V466,X466)","v":188.05978490292796},{"$f":"Sigma_cl(AA466,U466,V466,Y466)","v":195.04229179033334},{"$f":"sigma_Slip(AB466,W466,U466,IF(L466=1,mu_redLead,mu_millScale))","v":46.659111722207442},{"$f":"sigma_Slip(AC466,W466,U466,IF(L466=1,mu_redLead,mu_millScale))","v":48.391526598299635},{"$f":"Sigma_p(AB466,V466)","v":-16.500784480529969},{"$f":"Sigma_p(AC466,V466)","v":-17.113445190220585},{"$f":"beta_1(X466,AD466,Z466)","v":0.44299785760311311},{"$f":"beta_1(Y466,AE466,Z466)","v":0},{"$f":"k_tHole(W466,U466)","v":2.422897313772332},{"$f":"K_t1Mu(Z466,AH466,D466,W466,U466,SIGN(X466),mu_millScale)","v":2.8188140744768844},{"$f":"K_t1Mu(Z466,AI466,D466,W466,U466,SIGN(Y466),mu_millScale)","v":1.7687386280475939},{"$f":"Sigma_hMax(AK466,X466,AF466)","v":420.78759130061121},{"$f":"Sigma_hMin(X466,Y466,AG466,AE466,AK466,AL466,AJ466,AI466,Z466,IF(L466=1,mu_redLead,mu_millScale))","v":62.806659278317042},357.98093202229416,0.14925977043236496,115.27265757915374,{"$f":"tau_n(N466,W466,U466,D466)","v":103.16797690321538},{"$f":"tau_hMax(X466,Z466,AH466,W466,U466)","v":49.357668320778863},{"$f":"tau_hMin(X466,Y466,AS466,AE466,Z466,AI466,IF(L466=1,mu_redLead,mu_millScale),W466,U466)","v":20.184633586828962},29.173034733949901]
[455,"Baron1953","R; S",2,3,10.3,41.3,44.5,7.15,32,76,null,454,193.0532044,0,190000,1,"A3H",null,455,0.69417475728155342,0.26309067688378035,0.2493946731234867,193.0532044,0,{"$f":"IF(OR(X467>=1.6*D467*AD467,D467=1),calcLoadFraction(G467,F467,I467,J467,K467,D467,1),\"Condition for spring model not fulfilled\")","v":0.5399805282760789},{"$f":"IF(L467>2,L467,IF(L467=2,1,sigma_cl0(I467+J467)))","v":195.04229179033334},{"$f":"Sigma_cl(AA467,U467,V467,X467)","v":186.35294988880725},{"$f":"Sigma_cl(AA467,U467,V467,Y467)","v":195.04229179033334},{"$f":"sigma_Slip(AB467,W467,U467,IF(L467=1,mu_redLead,mu_millScale))","v":46.235632530968651},{"$f":"sigma_Slip(AC467,W467,U467,IF(L467=1,mu_redLead,mu_millScale))","v":48.391526598299635},{"$f":"Sigma_p(AB467,V467)","v":-16.351022973962436},{"$f":"Sigma_p(AC467,V467)","v":-17.113445190220585},{"$f":"beta_1(X467,AD467,Z467)","v":0.55647133904323531},{"$f":"beta_1(Y467,AE467,Z467)","v":0},{"$f":"k_tHole(W467,U467)","v":2.422897313772332},{"$f":"K_t1Mu(Z467,AH467,D467,W467,U467,SIGN(X467),mu_millScale)","v":3.0878536300619532},{"$f":"K_t1Mu(Z467,AI467,D467,W467,U467,SIGN(Y467),mu_millScale)","v":1.7687386280475939},{"$f":"Sigma_hMax(AK467,X467,AF467)","v":579.76901502766975},{"$f":"Sigma_hMin(X467,Y467,AG467,AE467,AK467,AL467,AJ467,AI467,Z467,IF(L467=1,mu_redLead,mu_millScale))","v":81.264841035482007},498.50417399218776,0.14016761663540023,160.3261576252329,{"$f":"tau_n(N467,W467,U467,D467)","v":128.38681566039926},{"$f":"tau_hMax(X467,Z467,AH467,W467,U467)","v":77.156287624665524},{"$f":"tau_hMin(X467,Y467,AS467,AE467,Z467,AI467,IF(L467=1,mu_redLead,mu_millScale),W467,U467)","v":27.756202739368707},49.40008488529682]
[456,"Baron1953","R; S",2,3,10.3,41.3,44.5,7.15,32,76,null,454,155.1320393,0,1750000,1,"A3H",null,456,{"$f":"I468/F468","v":0.69417475728155342},{"$f":"F468/(J468+I468)","v":0.26309067688378035},{"$f":"F468/G468","v":0.2493946731234867},155.1320393,0,{"$f":"IF(OR(X468>=1.6*D468*AD468,D468=1),calcLoadFraction(G468,F468,I468,J468,K468,D468,1),\"Condition for spring model not fulfilled\")","v":0.5399805282760789},{"$f":"IF(L468>2,L468,IF(L468=2,1,sigma_cl0(I468+J468)))","v":195.04229179033334},{"$f":"Sigma_cl(AA468,U468,V468,X468)","v":188.05978490292796},{"$f":"Sigma_cl(AA468,U468,V468,Y468)","v":195.04229179033334},{"$f":"sigma_Slip(AB468,W468,U468,IF(L468=1,mu_redLead,mu_millScale))","v":46.659111722207442},{"$f":"sigma_Slip(AC468,W468,U468,IF(L468=1,mu_redLead,mu_millScale))","v":48.391526598299635},{"$f":"Sigma_p(AB468,V468)","v":-16.500784480529969},{"$f":"Sigma_p(AC468,V468)","v":-17.113445190220585},{"$f":"beta_1(X468,AD468,Z468)","v":0.44299785760311311},{"$f":"beta_1(Y468,AE468,Z468)","v":0},{"$f":"k_tHole(W468,U468)","v":2.422897313772332},{"$f":"K_t1Mu(Z468,AH468,D468,W468,U468,SIGN(X468),mu_millScale)","v":2.8188140744768844},{"$f":"K_t1Mu(Z468,AI468,D468,W468,U468,SIGN(Y468),mu_millScale)","v":1.7687386280475939},{"$f":"Sigma_hMax(AK468,X468,AF468)","v":420.78759130061121},{"$f":"Sigma_hMin(X468,Y468,AG468,AE468,AK468,AL468,AJ468,AI468,Z468,IF(L468=1,mu_redLead,mu_millScale))","v":62.806659278317042},357.98093202229416,0.14925977043236496,115.27265757915374,{"$f":"tau_n(N468,W468,U468,D468)","v":103.16797690321538},{"$f":"tau_hMax(X468,Z468,AH468,W468,U468)","v":49.357668320778863},{"$f":"tau_hMin(X468,Y468,AS468,AE468,Z468,AI468,IF(L468=1,mu_redLead,mu_millScale),W468,U468)","v":20.184633586828962},29.173034733949901]
[457,"Baron1953","R; S",2,3,10.3,41.3,44.5,7.15,32,76,null,454,193.0532044,0,340000,1,"A3H",null,457,0.69417475728155342,0.26309067688378035,0.2493946731234867,193.0532044,0,{"$f":"IF(OR(X469>=1.6*D469*AD469,D469=1),calcLoadFraction(G469,F469,I469,J469,K469,D469,1),\"Condition for spring model not fulfilled\")","v":0.5399805282760789},{"$f":"IF(L469>2,L469,IF(L469=2,1,sigma_cl0(I469+J469)))","v":195.04229179033334},{"$f":"Sigma_cl(AA469,U469,V469,X469)","v":186.35294988880725},{"$f":"Sigma_cl(AA469,U469,V469,Y469)","v":195.04229179033334},{"$f":"sigma_Slip(AB469,W469,U469,IF(L469=1,mu_redLead,mu_millScale))","v":46.235632530968651},{"$f":"sigma_Slip(AC469,W469,U469,IF(L469=1,mu_redLead,mu_millScale))","v":48.391526598299635},{"$f":"Sigma_p(AB469,V469)","v":-16.351022973962436},{"$f":"Sigma_p(AC469,V469)","v":-17.113445190220585},{"$f":"beta_1(X469,AD469,Z469)","v":0.55647133904323531},{"$f":"beta_1(Y469,AE469,Z469)","v":0},{"$f":"k_tHole(W469,U469)","v":2.422897313772332},{"$f":"K_t1Mu(Z469,AH469,D469,W469,U469,SIGN(X469),mu_millScale)","v":3.0878536300619532},{"$f":"K_t1Mu(Z469,AI469,D469,W469,U469,SIGN(Y469),mu_millScale)","v":1.7687386280475939},{"$f":"Sigma_hMax(AK469,X469,AF469)","v":579.76901502766975},{"$f":"Sigma_hMin(X469,Y469,AG469,AE469,AK469,AL469,AJ469,AI469,Z469,IF(L469=1,mu_redLead,mu_millScale))","v":81.264841035482007},{"$f":"(AM469-AN469)","v":498.50417399218776},{"$f":"AN469/AM469","v":0.14016761663540023},160.3261576252329,{"$f":"tau_n(N469,W469,U469,D469)","v":128.38681566039926},{"$f":"tau_hMax(X469,Z469,AH469,W469,U469)","v":77.156287624665524},{"$f":"tau_hMin(X469,Y469,AS469,AE469,Z469,AI469,IF(L469=1,mu_redLead,mu_millScale),W469,U469)","v":27.756202739368707},49.40008488529682]
[458,"Baron1953","R; S",2,3,10.3,41.3,44.5,7.15,32,76,null,454,165.47417519999999,0,900000,1,"A3H",null,458,0.69417475728155342,0.26309067688378035,0.2493946731234867,165.47417519999999,0,{"$f":"IF(OR(X470>=1.6*D470*AD470,D470=1),calcLoadFraction(G470,F470,I470,J470,K470,D470,1),\"Condition for spring model not fulfilled\")","v":0.5399805282760789},{"$f":"IF(L470>2,L470,IF(L470=2,1,sigma_cl0(I470+J470)))","v":195.04229179033334},{"$f":"Sigma_cl(AA470,U470,V470,X470)","v":187.59428444616813},{"$f":"Sigma_cl(AA470,U470,V470,Y470)","v":195.04229179033334},{"$f":"sigma_Slip(AB470,W470,U470,IF(L470=1,mu_redLead,mu_millScale))","v":46.543617397730223},{"$f":"sigma_Slip(AC470,W470,U470,IF(L470=1,mu_redLead,mu_millScale))","v":48.391526598299635},{"$f":"Sigma_p(AB470,V470)","v":-16.459940433427889},{"$f":"Sigma_p(AC470,V470)","v":-17.113445190220585},{"$f":"beta_1(X470,AD470,Z470)","v":0.47910305611620363},{"$f":"beta_1(Y470,AE470,Z470)","v":0},{"$f":"k_tHole(W470,U470)","v":2.422897313772332},{"$f":"K_t1Mu(Z470,AH470,D470,W470,U470,SIGN(X470),mu_millScale)","v":2.9069592408043041},{"$f":"K_t1Mu(Z470,AI470,D470,W470,U470,SIGN(Y470),mu_millScale)","v":1.7687386280475939},{"$f":"Sigma_hMax(AK470,X470,AF470)","v":464.56674227868251},{"$f":"Sigma_hMin(X470,Y470,AG470,AE470,AK470,AL470,AJ470,AI470,Z470,IF(L470=1,mu_redLead,mu_millScale))","v":68.558852184808387},396.00789009387415,0.14757589372095337,127.48853649125158,{"$f":"tau_n(N470,W470,U470,D470)","v":110.04584199462793},{"$f":"tau_hMax(X470,Z470,AH470,W470,U470)","v":56.939109922454726},{"$f":"tau_hMin(X470,Y470,AS470,AE470,Z470,AI470,IF(L470=1,mu_redLead,mu_millScale),W470,U470)","v":22.44293589902108},34.496174023433646]
[459,"Baron1953","R; S",2,3,10.3,41.3,44.5,7.15,32,76,null,454,193.0532044,0,210000,1,"A3H",null,459,0.69417475728155342,0.26309067688378035,0.2493946731234867,193.0532044,0,{"$f":"IF(OR(X471>=1.6*D471*AD471,D471=1),calcLoadFraction(G471,F471,I471,J471,K471,D471,1),\"Condition for spring model not fulfilled\")","v":0.5399805282760789},{"$f":"IF(L471>2,L471,IF(L471=2,1,sigma_cl0(I471+J471)))","v":195.04229179033334},{"$f":"Sigma_cl(AA471,U471,V471,X471)","v":186.35294988880725},{"$f":"Sigma_cl(AA471,U471,V471,Y471)","v":195.04229179033334},{"$f":"sigma_Slip(AB471,W471,U471,IF(L471=1,mu_redLead,mu_millScale))","v":46.235632530968651},{"$f":"sigma_Slip(AC471,W471,U471,IF(L471=1,mu_redLead,mu_millScale))","v":48.391526598299635},{"$f":"Sigma_p(AB471,V471)","v":-16.351022973962436},{"$f":"Sigma_p(AC471,V471)","v":-17.113445190220585},{"$f":"beta_1(X471,AD471,Z471)","v":0.55647133904323531},{"$f":"beta_1(Y471,AE471,Z471)","v":0},{"$f":"k_tHole(W471,U471)","v":2.422897313772332},{"$f":"K_t1Mu(Z471,AH471,D471,W471,U471,SIGN(X471),mu_millScale)","v":3.0878536300619532},{"$f":"K_t1Mu(Z471,AI471,D471,W471,U471,SIGN(Y471),mu_millScale)","v":1.7687386280475939},{"$f":"Sigma_hMax(AK471,X471,AF471)","v":579.76901502766975},{"$f":"Sigma_hMin(X471,Y471,AG471,AE471,AK471,AL471,AJ471,AI471,Z471,IF(L471=1,mu_redLead,mu_millScale))","v":81.264841035482007},498.50417399218776,0.14016761663540023,160.3261576252329,{"$f":"tau_n(N471,W471,U471,D471)","v":128.38681566039926},{"$f":"tau_hMax(X471,Z471,AH471,W471,U471)","v":77.156287624665524},{"$f":"tau_hMin(X471,Y471,AS471,AE471,Z471,AI471,IF(L471=1,mu_redLead,mu_millScale),W471,U471)","v":27.756202739368707},49.40008488529682]
[460,"Baron1953","R; S",2,3,10.3,41.3,44.5,7.15,32,76,null,454,165.47417519999999,0,920000,1,"A3H",null,460,0.69417475728155342,0.26309067688378035,0.2493946731234867,{"$f":"N472/(1-O472)","v":165.47417519999999},{"$f":"X472*O472","v":0},{"$f":"IF(OR(X472>=1.6*D472*AD472,D472=1),calcLoadFraction(G472,F472,I472,J472,K472,D472,1),\"Condition for spring model not fulfilled\")","v":0.5399805282760789},{"$f":"IF(L472>2,L472,IF(L472=2,1,sigma_cl0(I472+J472)))","v":195.04229179033334},{"$f":"Sigma_cl(AA472,U472,V472,X472)","v":187.59428444616813},{"$f":"Sigma_cl(AA472,U472,V472,Y472)","v":195.04229179033334},{"$f":"sigma_Slip(AB472,W472,U472,IF(L472=1,mu_redLead,mu_millScale))","v":46.543617397730223},{"$f":"sigma_Slip(AC472,W472,U472,IF(L472=1,mu_redLead,mu_millScale))","v":48.391526598299635},{"$f":"Sigma_p(AB472,V472)","v":-16.459940433427889},{"$f":"Sigma_p(AC472,V472)","v":-17.113445190220585},{"$f":"beta_1(X472,AD472,Z472)","v":0.47910305611620363},{"$f":"beta_1(Y472,AE472,Z472)","v":0},{"$f":"k_tHole(W472,U472)","v":2.422897313772332},{"$f":"K_t1Mu(Z472,AH472,D472,W472,U472,SIGN(X472),mu_millScale)","v":2.9069592408043041},{"$f":"K_t1Mu(Z472,AI472,D472,W472,U472,SIGN(Y472),mu_millScale)","v":1.7687386280475939},{"$f":"Sigma_hMax(AK472,X472,AF472)","v":464.56674227868251},{"$f":"Sigma_hMin(X472,Y472,AG472,AE472,AK472,AL472,AJ472,AI472,Z472,IF(L472=1,mu_redLead,mu_millScale))","v":68.558852184808387},396.00789009387415,0.14757589372095337,127.48853649125158,{"$f":"tau_n(N472,W472,U472,D472)","v":110.04584199462793},{"$f":"tau_hMax(X472,Z472,AH472,W472,U472)","v":56.939109922454726},{"$f":"tau_hMin(X472,Y472,AS472,AE472,Z472,AI472,IF(L472=1,mu_redLead,mu_millScale),W472,U472)","v":22.44293589902108},34.496174023433646]
[461,"Baron1953","R; S",2,3,10.3,41.3,44.5,7.15,8,76,null,454,144.78990329999999,0,1100000,0,"A1H",null,461,0.69417475728155342,0.67986798679867988,0.2493946731234867,144.78990329999999,0,{"$f":"IF(OR(X473>=1.6*D473*AD473,D473=1),calcLoadFraction(G473,F473,I473,J473,K473,D473,1),\"Condition for spring model not fulfilled\")","v":0.5068960524206928},{"$f":"IF(L473>2,L473,IF(L473=2,1,sigma_cl0(I473+J473)))","v":120.01906654856765},{"$f":"Sigma_cl(AA473,U473,V473,X473)","v":107.62497923265845},{"$f":"Sigma_cl(AA473,U473,V473,Y473)","v":120.01906654856765},{"$f":"sigma_Slip(AB473,W473,U473,IF(L473=1,mu_redLead,mu_millScale))","v":26.702603816700858},{"$f":"sigma_Slip(AC473,W473,U473,IF(L473=1,mu_redLead,mu_millScale))","v":29.777674359115366},{"$f":"Sigma_p(AB473,V473)","v":-28.425890362793282},{"$f":"Sigma_p(AC473,V473)","v":-31.69941449911213},{"$f":"beta_1(X473,AD473,Z473)","v":0.63617174362354434},{"$f":"beta_1(Y473,AE473,Z473)","v":0},{"$f":"k_tHole(W473,U473)","v":2.422897313772332},{"$f":"K_t1Mu(Z473,AH473,D473,W473,U473,SIGN(X473),mu_millScale)","v":3.2070331532719383},{"$f":"K_t1Mu(Z473,AI473,D473,W473,U473,SIGN(Y473),mu_millScale)","v":1.8088187718863842},{"$f":"Sigma_hMax(AK473,X473,AF473)","v":435.92012977934473},{"$f":"Sigma_hMin(X473,Y473,AG473,AE473,AK473,AL473,AJ473,AI473,Z473,IF(L473=1,mu_redLead,mu_millScale))","v":36.275472240507305},399.64465753883741,8.3215868601592968E-2,127.61778631736965,{"$f":"tau_n(N473,W473,U473,D473)","v":96.290111745299455},{"$f":"tau_hMax(X473,Z473,AH473,W473,U473)","v":62.101911914902075},{"$f":"tau_hMin(X473,Y473,AS473,AE473,Z473,AI473,IF(L473=1,mu_redLead,mu_millScale),W473,U473)","v":20.549491025139528},41.552420889762544]
[462,"Baron1953","R; S",2,3,10.3,41.3,44.5,7.15,8,76,null,454,144.78990329999999,0,1200000,0,"A1H",null,462,0.69417475728155342,0.67986798679867988,0.2493946731234867,144.78990329999999,0,{"$f":"IF(OR(X474>=1.6*D474*AD474,D474=1),calcLoadFraction(G474,F474,I474,J474,K474,D474,1),\"Condition for spring model not fulfilled\")","v":0.5068960524206928},{"$f":"IF(L474>2,L474,IF(L474=2,1,sigma_cl0(I474+J474)))","v":120.01906654856765},{"$f":"Sigma_cl(AA474,U474,V474,X474)","v":107.62497923265845},{"$f":"Sigma_cl(AA474,U474,V474,Y474)","v":120.01906654856765},{"$f":"sigma_Slip(AB474,W474,U474,IF(L474=1,mu_redLead,mu_millScale))","v":26.702603816700858},{"$f":"sigma_Slip(AC474,W474,U474,IF(L474=1,mu_redLead,mu_millScale))","v":29.777674359115366},{"$f":"Sigma_p(AB474,V474)","v":-28.425890362793282},{"$f":"Sigma_p(AC474,V474)","v":-31.69941449911213},{"$f":"beta_1(X474,AD474,Z474)","v":0.63617174362354434},{"$f":"beta_1(Y474,AE474,Z474)","v":0},{"$f":"k_tHole(W474,U474)","v":2.422897313772332},{"$f":"K_t1Mu(Z474,AH474,D474,W474,U474,SIGN(X474),mu_millScale)","v":3.2070331532719383},{"$f":"K_t1Mu(Z474,AI474,D474,W474,U474,SIGN(Y474),mu_millScale)","v":1.8088187718863842},{"$f":"Sigma_hMax(AK474,X474,AF474)","v":435.92012977934473},{"$f":"Sigma_hMin(X474,Y474,AG474,AE474,AK474,AL474,AJ474,AI474,Z474,IF(L474=1,mu_redLead,mu_millScale))","v":36.275472240507305},399.64465753883741,8.3215868601592968E-2,127.61778631736965,{"$f":"tau_n(N474,W474,U474,D474)","v":96.290111745299455},{"$f":"tau_hMax(X474,Z474,AH474,W474,U474)","v":62.101911914902075},{"$f":"tau_hMin(X474,Y474,AS474,AE474,Z474,AI474,IF(L474=1,mu_redLead,mu_millScale),W474,U474)","v":20.549491025139528},41.552420889762544]
[463,"Baron1953","R; S",2,3,10.3,41.3,44.5,7.15,8,76,null,454,155.1320393,0,700000,0,"A1H",null,463,0.69417475728155342,0.67986798679867988,0.2493946731234867,155.1320393,0,{"$f":"IF(OR(X475>=1.6*D475*AD475,D475=1),calcLoadFraction(G475,F475,I475,J475,K475,D475,1),\"Condition for spring model not fulfilled\")","v":0.5068960524206928},{"$f":"IF(L475>2,L475,IF(L475=2,1,sigma_cl0(I475+J475)))","v":120.01906654856765},{"$f":"Sigma_cl(AA475,U475,V475,X475)","v":106.73968727724206},{"$f":"Sigma_cl(AA475,U475,V475,Y475)","v":120.01906654856765},{"$f":"sigma_Slip(AB475,W475,U475,IF(L475=1,mu_redLead,mu_millScale))","v":26.482955919752204},{"$f":"sigma_Slip(AC475,W475,U475,IF(L475=1,mu_redLead,mu_millScale))","v":29.777674359115366},{"$f":"Sigma_p(AB475,V475)","v":-28.192067209068643},{"$f":"Sigma_p(AC475,V475)","v":-31.69941449911213},{"$f":"beta_1(X475,AD475,Z475)","v":0.66322019044488079},{"$f":"beta_1(Y475,AE475,Z475)","v":0},{"$f":"k_tHole(W475,U475)","v":2.422897313772332},{"$f":"K_t1Mu(Z475,AH475,D475,W475,U475,SIGN(X475),mu_millScale)","v":3.2568961454417633},{"$f":"K_t1Mu(Z475,AI475,D475,W475,U475,SIGN(Y475),mu_millScale)","v":1.8088187718863842},{"$f":"Sigma_hMax(AK475,X475,AF475)","v":477.05687362162149},{"$f":"Sigma_hMin(X475,Y475,AG475,AE475,AK475,AL475,AJ475,AI475,Z475,IF(L475=1,mu_redLead,mu_millScale))","v":39.060396763862975},437.99647685775852,8.1877861788956841E-2,139.84256852346354,{"$f":"tau_n(N475,W475,U475,D475)","v":103.16797690321538},{"$f":"tau_hMax(X475,Z475,AH475,W475,U475)","v":69.366783655448288},{"$f":"tau_hMin(X475,Y475,AS475,AE475,Z475,AI475,IF(L475=1,mu_redLead,mu_millScale),W475,U475)","v":21.962925062853124},47.403858592595164]
[464,"Baron1953","R; S",2,3,10.3,41.3,44.5,7.15,8,76,null,454,165.47417519999999,0,355000,0,"A1H",null,464,0.69417475728155342,0.67986798679867988,0.2493946731234867,165.47417519999999,0,{"$f":"IF(OR(X476>=1.6*D476*AD476,D476=1),calcLoadFraction(G476,F476,I476,J476,K476,D476,1),\"Condition for spring model not fulfilled\")","v":0.5068960524206928},{"$f":"IF(L476>2,L476,IF(L476=2,1,sigma_cl0(I476+J476)))","v":120.01906654856765},{"$f":"Sigma_cl(AA476,U476,V476,X476)","v":105.8543953303857},{"$f":"Sigma_cl(AA476,U476,V476,Y476)","v":120.01906654856765},{"$f":"sigma_Slip(AB476,W476,U476,IF(L476=1,mu_redLead,mu_millScale))","v":26.263308024927355},{"$f":"sigma_Slip(AC476,W476,U476,IF(L476=1,mu_redLead,mu_millScale))","v":29.777674359115366},{"$f":"Sigma_p(AB476,V476)","v":-27.958244057604876},{"$f":"Sigma_p(AC476,V476)","v":-31.69941449911213},{"$f":"beta_1(X476,AD476,Z476)","v":0.68688758118470594},{"$f":"beta_1(Y476,AE476,Z476)","v":0},{"$f":"k_tHole(W476,U476)","v":2.422897313772332},{"$f":"K_t1Mu(Z476,AH476,D476,W476,U476,SIGN(X476),mu_millScale)","v":3.2984133870067072},{"$f":"K_t1Mu(Z476,AI476,D476,W476,U476,SIGN(Y476),mu_millScale)","v":1.8088187718863842},{"$f":"Sigma_hMax(AK476,X476,AF476)","v":517.84399062596833},{"$f":"Sigma_hMin(X476,Y476,AG476,AE476,AK476,AL476,AJ476,AI476,Z476,IF(L476=1,mu_redLead,mu_millScale))","v":41.496888003453464},476.34710262251485,8.0133956856952501E-2,152.05594665280387,{"$f":"tau_n(N476,W476,U476,D476)","v":110.04584199462793},{"$f":"tau_hMax(X476,Z476,AH476,W476,U476)","v":76.631655325749136},{"$f":"tau_hMin(X476,Y476,AS476,AE476,Z476,AI476,IF(L476=1,mu_redLead,mu_millScale),W476,U476)","v":23.26452538359738},53.367129942151756]
[465,"Baron1953","R; S",2,3,10.3,41.3,44.5,7.15,8,76,null,454,155.1320393,0,1600000,0,"A1H",null,465,0.69417475728155342,0.67986798679867988,0.2493946731234867,155.1320393,0,{"$f":"IF(OR(X477>=1.6*D477*AD477,D477=1),calcLoadFraction(G477,F477,I477,J477,K477,D477,1),\"Condition for spring model not fulfilled\")","v":0.5068960524206928},{"$f":"IF(L477>2,L477,IF(L477=2,1,sigma_cl0(I477+J477)))","v":120.01906654856765},{"$f":"Sigma_cl(AA477,U477,V477,X477)","v":106.73968727724206},{"$f":"Sigma_cl(AA477,U477,V477,Y477)","v":120.01906654856765},{"$f":"sigma_Slip(AB477,W477,U477,IF(L477=1,mu_redLead,mu_millScale))","v":26.482955919752204},{"$f":"sigma_Slip(AC477,W477,U477,IF(L477=1,mu_redLead,mu_millScale))","v":29.777674359115366},{"$f":"Sigma_p(AB477,V477)","v":-28.192067209068643},{"$f":"Sigma_p(AC477,V477)","v":-31.69941449911213},{"$f":"beta_1(X477,AD477,Z477)","v":0.66322019044488079},{"$f":"beta_1(Y477,AE477,Z477)","v":0},{"$f":"k_tHole(W477,U477)","v":2.422897313772332},{"$f":"K_t1Mu(Z477,AH477,D477,W477,U477,SIGN(X477),mu_millScale)","v":3.2568961454417633},{"$f":"K_t1Mu(Z477,AI477,D477,W477,U477,SIGN(Y477),mu_millScale)","v":1.8088187718863842},{"$f":"Sigma_hMax(AK477,X477,AF477)","v":477.05687362162149},{"$f":"Sigma_hMin(X477,Y477,AG477,AE477,AK477,AL477,AJ477,AI477,Z477,IF(L477=1,mu_redLead,mu_millScale))","v":39.060396763862975},437.99647685775852,8.1877861788956841E-2,139.84256852346354,{"$f":"tau_n(N477,W477,U477,D477)","v":103.16797690321538},{"$f":"tau_hMax(X477,Z477,AH477,W477,U477)","v":69.366783655448288},{"$f":"tau_hMin(X477,Y477,AS477,AE477,Z477,AI477,IF(L477=1,mu_redLead,mu_millScale),W477,U477)","v":21.962925062853124},47.403858592595164]
[466,"Baron1953","R; S",2,3,10.3,41.3,44.5,7.15,8,76,null,454,165.47417519999999,0,600000,0,"A1H",null,466,0.69417475728155342,0.67986798679867988,0.2493946731234867,165.47417519999999,0,{"$f":"IF(OR(X478>=1.6*D478*AD478,D478=1),calcLoadFraction(G478,F478,I478,J478,K478,D478,1),\"Condition for spring model not fulfilled\")","v":0.5068960524206928},{"$f":"IF(L478>2,L478,IF(L478=2,1,sigma_cl0(I478+J478)))","v":120.01906654856765},{"$f":"Sigma_cl(AA478,U478,V478,X478)","v":105.8543953303857},{"$f":"Sigma_cl(AA478,U478,V478,Y478)","v":120.01906654856765},{"$f":"sigma_Slip(AB478,W478,U478,IF(L478=1,mu_redLead,mu_millScale))","v":26.263308024927355},{"$f":"sigma_Slip(AC478,W478,U478,IF(L478=1,mu_redLead,mu_millScale))","v":29.777674359115366},{"$f":"Sigma_p(AB478,V478)","v":-27.958244057604876},{"$f":"Sigma_p(AC478,V478)","v":-31.69941449911213},{"$f":"beta_1(X478,AD478,Z478)","v":0.68688758118470594},{"$f":"beta_1(Y478,AE478,Z478)","v":0},{"$f":"k_tHole(W478,U478)","v":2.422897313772332},{"$f":"K_t1Mu(Z478,AH478,D478,W478,U478,SIGN(X478),mu_millScale)","v":3.2984133870067072},{"$f":"K_t1Mu(Z478,AI478,D478,W478,U478,SIGN(Y478),mu_millScale)","v":1.8088187718863842},{"$f":"Sigma_hMax(AK478,X478,AF478)","v":517.84399062596833},{"$f":"Sigma_hMin(X478,Y478,AG478,AE478,AK478,AL478,AJ478,AI478,Z478,IF(L478=1,mu_redLead,mu_millScale))","v":41.496888003453464},476.34710262251485,8.0133956856952501E-2,152.05594665280387,{"$f":"tau_n(N478,W478,U478,D478)","v":110.04584199462793},{"$f":"tau_hMax(X478,Z478,AH478,W478,U478)","v":76.631655325749136},{"$f":"tau_hMin(X478,Y478,AS478,AE478,Z478,AI478,IF(L478=1,mu_redLead,mu_millScale),W478,U478)","v":23.26452538359738},53.367129942151756]
[467,"Baron1953","R; S",2,3,10.3,41.3,44.5,7.15,19,76,null,454,165.47417519999999,0,1100000,0,"A2H",null,467,0.69417475728155342,0.39388145315487577,0.2493946731234867,165.47417519999999,0,{"$f":"IF(OR(X479>=1.6*D479*AD479,D479=1),calcLoadFraction(G479,F479,I479,J479,K479,D479,1),\"Condition for spring model not fulfilled\")","v":0.54174825360633005},{"$f":"IF(L479>2,L479,IF(L479=2,1,sigma_cl0(I479+J479)))","v":167.47579152348317},{"$f":"Sigma_cl(AA479,U479,V479,X479)","v":157.48571998582358},{"$f":"Sigma_cl(AA479,U479,V479,Y479)","v":167.47579152348317},{"$f":"sigma_Slip(AB479,W479,U479,IF(L479=1,mu_redLead,mu_millScale))","v":39.073445751646261},{"$f":"sigma_Slip(AC479,W479,U479,IF(L479=1,mu_redLead,mu_millScale))","v":41.552061071923838},{"$f":"Sigma_p(AB479,V479)","v":-22.812058302848083},{"$f":"Sigma_p(AC479,V479)","v":-24.259136135601604},{"$f":"beta_1(X479,AD479,Z479)","v":0.5641330225953306},{"$f":"beta_1(Y479,AE479,Z479)","v":0},{"$f":"k_tHole(W479,U479)","v":2.422897313772332},{"$f":"K_t1Mu(Z479,AH479,D479,W479,U479,SIGN(X479),mu_millScale)","v":3.1072576370706617},{"$f":"K_t1Mu(Z479,AI479,D479,W479,U479,SIGN(Y479),mu_millScale)","v":1.7665971195705175},{"$f":"Sigma_hMax(AK479,X479,AF479)","v":491.35883632532057},{"$f":"Sigma_hMin(X479,Y479,AG479,AE479,AK479,AL479,AJ479,AI479,Z479,IF(L479=1,mu_redLead,mu_millScale))","v":60.982717227858167},430.37611909746238,0.12411035015453048,138.12480722159751,{"$f":"tau_n(N479,W479,U479,D479)","v":110.04584199462793},{"$f":"tau_hMax(X479,Z479,AH479,W479,U479)","v":67.263997839133864},{"$f":"tau_hMin(X479,Y479,AS479,AE479,Z479,AI479,IF(L479=1,mu_redLead,mu_millScale),W479,U479)","v":24.175562701985275},43.088435137148593]
[468,"Baron1953","R; S",2,3,10.3,41.3,44.5,7.15,19,76,null,454,155.1320393,0,2200000,0,"A2H",null,468,0.69417475728155342,0.39388145315487577,0.2493946731234867,155.1320393,0,{"$f":"IF(OR(X480>=1.6*D480*AD480,D480=1),calcLoadFraction(G480,F480,I480,J480,K480,D480,1),\"Condition for spring model not fulfilled\")","v":0.54174825360633005},{"$f":"IF(L480>2,L480,IF(L480=2,1,sigma_cl0(I480+J480)))","v":167.47579152348317},{"$f":"Sigma_cl(AA480,U480,V480,X480)","v":158.11009945390867},{"$f":"Sigma_cl(AA480,U480,V480,Y480)","v":167.47579152348317},{"$f":"sigma_Slip(AB480,W480,U480,IF(L480=1,mu_redLead,mu_millScale))","v":39.228359208414666},{"$f":"sigma_Slip(AC480,W480,U480,IF(L480=1,mu_redLead,mu_millScale))","v":41.552061071923838},{"$f":"Sigma_p(AB480,V480)","v":-22.902500666957923},{"$f":"Sigma_p(AC480,V480)","v":-24.259136135601604},{"$f":"beta_1(X480,AD480,Z480)","v":0.53323194929169937},{"$f":"beta_1(Y480,AE480,Z480)","v":0},{"$f":"k_tHole(W480,U480)","v":2.422897313772332},{"$f":"K_t1Mu(Z480,AH480,D480,W480,U480,SIGN(X480),mu_millScale)","v":3.0368815338741024},{"$f":"K_t1Mu(Z480,AI480,D480,W480,U480,SIGN(Y480),mu_millScale)","v":1.7665971195705175},{"$f":"Sigma_hMax(AK480,X480,AF480)","v":448.21512479544361},{"$f":"Sigma_hMin(X480,Y480,AG480,AE480,AK480,AL480,AJ480,AI480,Z480,IF(L480=1,mu_redLead,mu_millScale))","v":56.588294716547665},391.62683007889598,0.1262525327372061,125.72330998435149,{"$f":"tau_n(N480,W480,U480,D480)","v":103.16797690321538},{"$f":"tau_hMax(X480,Z480,AH480,W480,U480)","v":59.60580981104038},{"$f":"tau_hMin(X480,Y480,AS480,AE480,Z480,AI480,IF(L480=1,mu_redLead,mu_millScale),W480,U480)","v":22.271624954877662},37.334184856162722]
[469,"Baron1953","R; S",2,3,10.3,41.3,44.5,7.15,19,76,null,454,155.1320393,0,3000000,0,"A2H",null,469,0.69417475728155342,0.39388145315487577,0.2493946731234867,155.1320393,0,{"$f":"IF(OR(X481>=1.6*D481*AD481,D481=1),calcLoadFraction(G481,F481,I481,J481,K481,D481,1),\"Condition for spring model not fulfilled\")","v":0.54174825360633005},{"$f":"IF(L481>2,L481,IF(L481=2,1,sigma_cl0(I481+J481)))","v":167.47579152348317},{"$f":"Sigma_cl(AA481,U481,V481,X481)","v":158.11009945390867},{"$f":"Sigma_cl(AA481,U481,V481,Y481)","v":167.47579152348317},{"$f":"sigma_Slip(AB481,W481,U481,IF(L481=1,mu_redLead,mu_millScale))","v":39.228359208414666},{"$f":"sigma_Slip(AC481,W481,U481,IF(L481=1,mu_redLead,mu_millScale))","v":41.552061071923838},{"$f":"Sigma_p(AB481,V481)","v":-22.902500666957923},{"$f":"Sigma_p(AC481,V481)","v":-24.259136135601604},{"$f":"beta_1(X481,AD481,Z481)","v":0.53323194929169937},{"$f":"beta_1(Y481,AE481,Z481)","v":0},{"$f":"k_tHole(W481,U481)","v":2.422897313772332},{"$f":"K_t1Mu(Z481,AH481,D481,W481,U481,SIGN(X481),mu_millScale)","v":3.0368815338741024},{"$f":"K_t1Mu(Z481,AI481,D481,W481,U481,SIGN(Y481),mu_millScale)","v":1.7665971195705175},{"$f":"Sigma_hMax(AK481,X481,AF481)","v":448.21512479544361},{"$f":"Sigma_hMin(X481,Y481,AG481,AE481,AK481,AL481,AJ481,AI481,Z481,IF(L481=1,mu_redLead,mu_millScale))","v":56.588294716547665},391.62683007889598,0.1262525327372061,125.72330998435149,{"$f":"tau_n(N481,W481,U481,D481)","v":103.16797690321538},{"$f":"tau_hMax(X481,Z481,AH481,W481,U481)","v":59.60580981104038},{"$f":"tau_hMin(X481,Y481,AS481,AE481,Z481,AI481,IF(L481=1,mu_redLead,mu_millScale),W481,U481)","v":22.271624954877662},37.334184856162722]
[470,"Baron1953","R; S",2,3,10.3,41.3,44.5,7.15,19,76,null,454,193.0532044,0,280000,0,"A2H",null,470,0.69417475728155342,0.39388145315487577,0.2493946731234867,193.0532044,0,{"$f":"IF(OR(X482>=1.6*D482*AD482,D482=1),calcLoadFraction(G482,F482,I482,J482,K482,D482,1),\"Condition for spring model not fulfilled\")","v":0.54174825360633005},{"$f":"IF(L482>2,L482,IF(L482=2,1,sigma_cl0(I482+J482)))","v":167.47579152348317},{"$f":"Sigma_cl(AA482,U482,V482,X482)","v":155.82070806288033},{"$f":"Sigma_cl(AA482,U482,V482,Y482)","v":167.47579152348317},{"$f":"sigma_Slip(AB482,W482,U482,IF(L482=1,mu_redLead,mu_millScale))","v":38.660343198266673},{"$f":"sigma_Slip(AC482,W482,U482,IF(L482=1,mu_redLead,mu_millScale))","v":41.552061071923838},{"$f":"Sigma_p(AB482,V482)","v":-22.570878664055829},{"$f":"Sigma_p(AC482,V482)","v":-24.259136135601604},{"$f":"beta_1(X482,AD482,Z482)","v":0.63034960858744116},{"$f":"beta_1(Y482,AE482,Z482)","v":0},{"$f":"k_tHole(W482,U482)","v":2.422897313772332},{"$f":"K_t1Mu(Z482,AH482,D482,W482,U482,SIGN(X482),mu_millScale)","v":3.2491370009707858},{"$f":"K_t1Mu(Z482,AI482,D482,W482,U482,SIGN(Y482),mu_millScale)","v":1.7665971195705175},{"$f":"Sigma_hMax(AK482,X482,AF482)","v":604.68543090796027},{"$f":"Sigma_hMin(X482,Y482,AG482,AE482,AK482,AL482,AJ482,AI482,Z482,IF(L482=1,mu_redLead,mu_millScale))","v":70.532151054852065},534.15327985310819,0.11664271611264904,171.2678781514536,{"$f":"tau_n(N482,W482,U482,D482)","v":128.38681566039926},{"$f":"tau_hMax(X482,Z482,AH482,W482,U482)","v":87.685832679447742},{"$f":"tau_hMin(X482,Y482,AS482,AE482,Z482,AI482,IF(L482=1,mu_redLead,mu_millScale),W482,U482)","v":28.631019963737835},59.054812715709907]
[471,"Baron1953","R; S",2,3,10.3,41.3,44.5,7.15,19,76,null,454,193.0532044,0,1030000,0,"A2H",null,471,0.69417475728155342,0.39388145315487577,0.2493946731234867,193.0532044,0,{"$f":"IF(OR(X483>=1.6*D483*AD483,D483=1),calcLoadFraction(G483,F483,I483,J483,K483,D483,1),\"Condition for spring model not fulfilled\")","v":0.54174825360633005},{"$f":"IF(L483>2,L483,IF(L483=2,1,sigma_cl0(I483+J483)))","v":167.47579152348317},{"$f":"Sigma_cl(AA483,U483,V483,X483)","v":155.82070806288033},{"$f":"Sigma_cl(AA483,U483,V483,Y483)","v":167.47579152348317},{"$f":"sigma_Slip(AB483,W483,U483,IF(L483=1,mu_redLead,mu_millScale))","v":38.660343198266673},{"$f":"sigma_Slip(AC483,W483,U483,IF(L483=1,mu_redLead,mu_millScale))","v":41.552061071923838},{"$f":"Sigma_p(AB483,V483)","v":-22.570878664055829},{"$f":"Sigma_p(AC483,V483)","v":-24.259136135601604},{"$f":"beta_1(X483,AD483,Z483)","v":0.63034960858744116},{"$f":"beta_1(Y483,AE483,Z483)","v":0},{"$f":"k_tHole(W483,U483)","v":2.422897313772332},{"$f":"K_t1Mu(Z483,AH483,D483,W483,U483,SIGN(X483),mu_millScale)","v":3.2491370009707858},{"$f":"K_t1Mu(Z483,AI483,D483,W483,U483,SIGN(Y483),mu_millScale)","v":1.7665971195705175},{"$f":"Sigma_hMax(AK483,X483,AF483)","v":604.68543090796027},{"$f":"Sigma_hMin(X483,Y483,AG483,AE483,AK483,AL483,AJ483,AI483,Z483,IF(L483=1,mu_redLead,mu_millScale))","v":70.532151054852065},534.15327985310819,0.11664271611264904,171.2678781514536,{"$f":"tau_n(N483,W483,U483,D483)","v":128.38681566039926},{"$f":"tau_hMax(X483,Z483,AH483,W483,U483)","v":87.685832679447742},{"$f":"tau_hMin(X483,Y483,AS483,AE483,Z483,AI483,IF(L483=1,mu_redLead,mu_millScale),W483,U483)","v":28.631019963737835},59.054812715709907]
[472,"Baron1953","R; S",2,3,10.3,41.3,44.5,7.15,32,76,null,454,165.47417519999999,0,1300000,0,"A3H",null,472,0.69417475728155342,0.26309067688378035,0.2493946731234867,165.47417519999999,0,{"$f":"IF(OR(X484>=1.6*D484*AD484,D484=1),calcLoadFraction(G484,F484,I484,J484,K484,D484,1),\"Condition for spring model not fulfilled\")","v":0.5399805282760789},{"$f":"IF(L484>2,L484,IF(L484=2,1,sigma_cl0(I484+J484)))","v":195.04229179033334},{"$f":"Sigma_cl(AA484,U484,V484,X484)","v":187.59428444616813},{"$f":"Sigma_cl(AA484,U484,V484,Y484)","v":195.04229179033334},{"$f":"sigma_Slip(AB484,W484,U484,IF(L484=1,mu_redLead,mu_millScale))","v":46.543617397730223},{"$f":"sigma_Slip(AC484,W484,U484,IF(L484=1,mu_redLead,mu_millScale))","v":48.391526598299635},{"$f":"Sigma_p(AB484,V484)","v":-16.459940433427889},{"$f":"Sigma_p(AC484,V484)","v":-17.113445190220585},{"$f":"beta_1(X484,AD484,Z484)","v":0.47910305611620363},{"$f":"beta_1(Y484,AE484,Z484)","v":0},{"$f":"k_tHole(W484,U484)","v":2.422897313772332},{"$f":"K_t1Mu(Z484,AH484,D484,W484,U484,SIGN(X484),mu_millScale)","v":2.9069592408043041},{"$f":"K_t1Mu(Z484,AI484,D484,W484,U484,SIGN(Y484),mu_millScale)","v":1.7687386280475939},{"$f":"Sigma_hMax(AK484,X484,AF484)","v":464.56674227868251},{"$f":"Sigma_hMin(X484,Y484,AG484,AE484,AK484,AL484,AJ484,AI484,Z484,IF(L484=1,mu_redLead,mu_millScale))","v":68.558852184808387},396.00789009387415,0.14757589372095337,127.48853649125158,{"$f":"tau_n(N484,W484,U484,D484)","v":110.04584199462793},{"$f":"tau_hMax(X484,Z484,AH484,W484,U484)","v":56.939109922454726},{"$f":"tau_hMin(X484,Y484,AS484,AE484,Z484,AI484,IF(L484=1,mu_redLead,mu_millScale),W484,U484)","v":22.44293589902108},34.496174023433646]
[473,"Baron1953","R; S",2,3,10.3,41.3,44.5,7.15,32,76,null,454,193.0532044,0,510000,0,"A3H",null,473,0.69417475728155342,0.26309067688378035,0.2493946731234867,193.0532044,0,{"$f":"IF(OR(X485>=1.6*D485*AD485,D485=1),calcLoadFraction(G485,F485,I485,J485,K485,D485,1),\"Condition for spring model not fulfilled\")","v":0.5399805282760789},{"$f":"IF(L485>2,L485,IF(L485=2,1,sigma_cl0(I485+J485)))","v":195.04229179033334},{"$f":"Sigma_cl(AA485,U485,V485,X485)","v":186.35294988880725},{"$f":"Sigma_cl(AA485,U485,V485,Y485)","v":195.04229179033334},{"$f":"sigma_Slip(AB485,W485,U485,IF(L485=1,mu_redLead,mu_millScale))","v":46.235632530968651},{"$f":"sigma_Slip(AC485,W485,U485,IF(L485=1,mu_redLead,mu_millScale))","v":48.391526598299635},{"$f":"Sigma_p(AB485,V485)","v":-16.351022973962436},{"$f":"Sigma_p(AC485,V485)","v":-17.113445190220585},{"$f":"beta_1(X485,AD485,Z485)","v":0.55647133904323531},{"$f":"beta_1(Y485,AE485,Z485)","v":0},{"$f":"k_tHole(W485,U485)","v":2.422897313772332},{"$f":"K_t1Mu(Z485,AH485,D485,W485,U485,SIGN(X485),mu_millScale)","v":3.0878536300619532},{"$f":"K_t1Mu(Z485,AI485,D485,W485,U485,SIGN(Y485),mu_millScale)","v":1.7687386280475939},{"$f":"Sigma_hMax(AK485,X485,AF485)","v":579.76901502766975},{"$f":"Sigma_hMin(X485,Y485,AG485,AE485,AK485,AL485,AJ485,AI485,Z485,IF(L485=1,mu_redLead,mu_millScale))","v":81.264841035482007},498.50417399218776,0.14016761663540023,160.3261576252329,{"$f":"tau_n(N485,W485,U485,D485)","v":128.38681566039926},{"$f":"tau_hMax(X485,Z485,AH485,W485,U485)","v":77.156287624665524},{"$f":"tau_hMin(X485,Y485,AS485,AE485,Z485,AI485,IF(L485=1,mu_redLead,mu_millScale),W485,U485)","v":27.756202739368707},49.40008488529682]
[474,"Baron1953","R; S",2,2,10.3,45.2,46,10.3,12.7,89,null,436,186.15844691639998,0,65242,3,"E2C","Rivet may have yielded",474,1,0.44782608695652176,0.22787610619469026,{"$f":"N486/(1-O486)","v":186.15844691639998},{"$f":"X486*O486","v":0},{"$f":"IF(OR(X486>=1.6*D486*AD486,D486=1),calcLoadFraction(G486,F486,I486,J486,K486,D486,1),\"Condition for spring model not fulfilled\")","v":0.51048993038824375},{"$f":"IF(L486>2,L486,IF(L486=2,1,sigma_cl0(I486+J486)))","v":157.27418690534739},{"$f":"Sigma_cl(AA486,U486,V486,X486)","v":139.61667043204184},{"$f":"Sigma_cl(AA486,U486,V486,Y486)","v":157.27418690534739},{"$f":"sigma_Slip(AB486,W486,U486,IF(L486=1,mu_redLead,mu_millScale))","v":21.359097209727206},{"$f":"sigma_Slip(AC486,W486,U486,IF(L486=1,mu_redLead,mu_millScale))","v":24.060412243731466},{"$f":"Sigma_p(AB486,V486)","v":-23.47775915613926},{"$f":"Sigma_p(AC486,V486)","v":-26.447024343261848},{"$f":"beta_1(X486,AD486,Z486)","v":0.77524313519554666},{"$f":"beta_1(Y486,AE486,Z486)","v":0},{"$f":"k_tHole(W486,U486)","v":2.4603211997287402},{"$f":"K_t1Mu(Z486,AH486,D486,W486,U486,SIGN(X486),mu_millScale)","v":3.7063599614577729},{"$f":"K_t1Mu(Z486,AI486,D486,W486,U486,SIGN(Y486),mu_millScale)","v":1.8323366007376178},{"$f":"Sigma_hMax(AK486,X486,AF486)","v":666.49245498196785},{"$f":"Sigma_hMin(X486,Y486,AG486,AE486,AK486,AL486,AJ486,AI486,Z486,IF(L486=1,mu_redLead,mu_millScale))","v":47.88231073764868},{"$f":"(AM486-AN486)","v":618.61014424431914},{"$f":"AN486/AM486","v":7.1842239742900244E-2},197.27796687281142,{"$f":"tau_n(N486,W486,U486,D486)","v":200.7802893329289},{"$f":"tau_hMax(X486,Z486,AH486,W486,U486)","v":158.91913060722283},{"$f":"tau_hMin(X486,Y486,AS486,AE486,Z486,AI486,IF(L486=1,mu_redLead,mu_millScale),W486,U486)","v":38.282388362289936},120.63674224493289]
[475,"Baron1953","R; S",2,2,10.3,45.2,46,10.3,12.7,89,null,436,186.15844691639998,0,65242,3,"E2C","Rivet may have yielded",475,1,0.44782608695652176,0.22787610619469026,186.15844691639998,0,{"$f":"IF(OR(X487>=1.6*D487*AD487,D487=1),calcLoadFraction(G487,F487,I487,J487,K487,D487,1),\"Condition for spring model not fulfilled\")","v":0.51048993038824375},{"$f":"IF(L487>2,L487,IF(L487=2,1,sigma_cl0(I487+J487)))","v":157.27418690534739},{"$f":"Sigma_cl(AA487,U487,V487,X487)","v":139.61667043204184},{"$f":"Sigma_cl(AA487,U487,V487,Y487)","v":157.27418690534739},{"$f":"sigma_Slip(AB487,W487,U487,IF(L487=1,mu_redLead,mu_millScale))","v":21.359097209727206},{"$f":"sigma_Slip(AC487,W487,U487,IF(L487=1,mu_redLead,mu_millScale))","v":24.060412243731466},{"$f":"Sigma_p(AB487,V487)","v":-23.47775915613926},{"$f":"Sigma_p(AC487,V487)","v":-26.447024343261848},{"$f":"beta_1(X487,AD487,Z487)","v":0.77524313519554666},{"$f":"beta_1(Y487,AE487,Z487)","v":0},{"$f":"k_tHole(W487,U487)","v":2.4603211997287402},{"$f":"K_t1Mu(Z487,AH487,D487,W487,U487,SIGN(X487),mu_millScale)","v":3.7063599614577729},{"$f":"K_t1Mu(Z487,AI487,D487,W487,U487,SIGN(Y487),mu_millScale)","v":1.8323366007376178},{"$f":"Sigma_hMax(AK487,X487,AF487)","v":666.49245498196785},{"$f":"Sigma_hMin(X487,Y487,AG487,AE487,AK487,AL487,AJ487,AI487,Z487,IF(L487=1,mu_redLead,mu_millScale))","v":47.88231073764868},618.61014424431914,7.1842239742900244E-2,197.27796687281142,{"$f":"tau_n(N487,W487,U487,D487)","v":200.7802893329289},{"$f":"tau_hMax(X487,Z487,AH487,W487,U487)","v":158.91913060722283},{"$f":"tau_hMin(X487,Y487,AS487,AE487,Z487,AI487,IF(L487=1,mu_redLead,mu_millScale),W487,U487)","v":38.282388362289936},120.63674224493289]
[476,"Baron1955","R; L",3,4,10.3,47.6,null,8.73,12.7,95,null,476,154.91199370000001,0,2172700,1,"SR1",null,476,{"$f":"I488/F488","v":0.84757281553398056},{"$f":"F488/(J488+I488)","v":0.48063462435837617},{"$f":"F488/G488","v":0.21638655462184875},{"$f":"N488/(1-O488)","v":154.91199370000001},{"$f":"X488*O488","v":0},{"$f":"IF(OR(X488>=1.6*D488*AD488,D488=1),calcLoadFraction(G488,F488,I488,J488,K488,D488,1),\"Condition for spring model not fulfilled\")","v":0.39172811825355375},{"$f":"IF(L488>2,L488,IF(L488=2,1,sigma_cl0(I488+J488)))","v":151.37605281036423},{"$f":"Sigma_cl(AA488,U488,V488,X488)","v":138.32945647838119},{"$f":"Sigma_cl(AA488,U488,V488,Y488)","v":151.37605281036423},{"$f":"sigma_Slip(AB488,W488,U488,IF(L488=1,mu_redLead,mu_millScale))","v":23.361453610257865},{"$f":"sigma_Slip(AC488,W488,U488,IF(L488=1,mu_redLead,mu_millScale))","v":25.564798167091396},{"$f":"Sigma_p(AB488,V488)","v":-25.200878641705394},{"$f":"Sigma_p(AC488,V488)","v":-27.577709283709741},{"$f":"beta_1(X488,AD488,Z488)","v":0.61502717626534742},{"$f":"beta_1(Y488,AE488,Z488)","v":0},{"$f":"k_tHole(W488,U488)","v":2.4811778610356647},{"$f":"K_t1Mu(Z488,AH488,D488,W488,U488,SIGN(X488),mu_millScale)","v":3.2265544983853864},{"$f":"K_t1Mu(Z488,AI488,D488,W488,U488,SIGN(Y488),mu_millScale)","v":1.9952042937577255},{"$f":"Sigma_hMax(AK488,X488,AF488)","v":474.63111148487826},{"$f":"Sigma_hMin(X488,Y488,AG488,AE488,AK488,AL488,AJ488,AI488,Z488,IF(L488=1,mu_redLead,mu_millScale))","v":36.296856577881826},{"$f":"(AM488-AN488)","v":438.33425490699642},{"$f":"AN488/AM488","v":7.6473825039255233E-2},139.8620065078432,{"$f":"tau_n(N488,W488,U488,D488)","v":100.90031841684515},{"$f":"tau_hMax(X488,Z488,AH488,W488,U488)","v":72.927754955979637},{"$f":"tau_hMin(X488,Y488,AS488,AE488,Z488,AI488,IF(L488=1,mu_redLead,mu_millScale),W488,U488)","v":24.710247606560284},48.21750734941935]
[477,"Baron1955","R; L",3,4,10.3,47.6,null,8.73,12.7,95,null,476,166.4343733,0,1385600,1,"SR2",null,477,0.84757281553398056,0.48063462435837617,0.21638655462184875,166.4343733,0,{"$f":"IF(OR(X489>=1.6*D489*AD489,D489=1),calcLoadFraction(G489,F489,I489,J489,K489,D489,1),\"Condition for spring model not fulfilled\")","v":0.39172811825355375},{"$f":"IF(L489>2,L489,IF(L489=2,1,sigma_cl0(I489+J489)))","v":151.37605281036423},{"$f":"Sigma_cl(AA489,U489,V489,X489)","v":137.35904849488961},{"$f":"Sigma_cl(AA489,U489,V489,Y489)","v":151.37605281036423},{"$f":"sigma_Slip(AB489,W489,U489,IF(L489=1,mu_redLead,mu_millScale))","v":23.197568479306703},{"$f":"sigma_Slip(AC489,W489,U489,IF(L489=1,mu_redLead,mu_millScale))","v":25.564798167091396},{"$f":"Sigma_p(AB489,V489)","v":-25.024089587172128},{"$f":"Sigma_p(AC489,V489)","v":-27.577709283709741},{"$f":"beta_1(X489,AD489,Z489)","v":0.64419283114584824},{"$f":"beta_1(Y489,AE489,Z489)","v":0},{"$f":"k_tHole(W489,U489)","v":2.4811778610356647},{"$f":"K_t1Mu(Z489,AH489,D489,W489,U489,SIGN(X489),mu_millScale)","v":3.277063109009124},{"$f":"K_t1Mu(Z489,AI489,D489,W489,U489,SIGN(Y489),mu_millScale)","v":1.9952042937577255},{"$f":"Sigma_hMax(AK489,X489,AF489)","v":520.39185522531102},{"$f":"Sigma_hMin(X489,Y489,AG489,AE489,AK489,AL489,AJ489,AI489,Z489,IF(L489=1,mu_redLead,mu_millScale))","v":39.286927266018772},481.10492795929224,7.5494892688143522E-2,153.49165211578929,{"$f":"tau_n(N489,W489,U489,D489)","v":108.40530071544789},{"$f":"tau_hMax(X489,Z489,AH489,W489,U489)","v":82.06772737060551},{"$f":"tau_hMin(X489,Y489,AS489,AE489,Z489,AI489,IF(L489=1,mu_redLead,mu_millScale),W489,U489)","v":26.572980069706624},55.494747300898887]
[478,"Baron1955","R; L",3,4,10.3,47.6,null,8.73,12.7,95,null,476,166.4343733,0,722100,1,"SR3",null,478,0.84757281553398056,0.48063462435837617,0.21638655462184875,166.4343733,0,{"$f":"IF(OR(X490>=1.6*D490*AD490,D490=1),calcLoadFraction(G490,F490,I490,J490,K490,D490,1),\"Condition for spring model not fulfilled\")","v":0.39172811825355375},{"$f":"IF(L490>2,L490,IF(L490=2,1,sigma_cl0(I490+J490)))","v":151.37605281036423},{"$f":"Sigma_cl(AA490,U490,V490,X490)","v":137.35904849488961},{"$f":"Sigma_cl(AA490,U490,V490,Y490)","v":151.37605281036423},{"$f":"sigma_Slip(AB490,W490,U490,IF(L490=1,mu_redLead,mu_millScale))","v":23.197568479306703},{"$f":"sigma_Slip(AC490,W490,U490,IF(L490=1,mu_redLead,mu_millScale))","v":25.564798167091396},{"$f":"Sigma_p(AB490,V490)","v":-25.024089587172128},{"$f":"Sigma_p(AC490,V490)","v":-27.577709283709741},{"$f":"beta_1(X490,AD490,Z490)","v":0.64419283114584824},{"$f":"beta_1(Y490,AE490,Z490)","v":0},{"$f":"k_tHole(W490,U490)","v":2.4811778610356647},{"$f":"K_t1Mu(Z490,AH490,D490,W490,U490,SIGN(X490),mu_millScale)","v":3.277063109009124},{"$f":"K_t1Mu(Z490,AI490,D490,W490,U490,SIGN(Y490),mu_millScale)","v":1.9952042937577255},{"$f":"Sigma_hMax(AK490,X490,AF490)","v":520.39185522531102},{"$f":"Sigma_hMin(X490,Y490,AG490,AE490,AK490,AL490,AJ490,AI490,Z490,IF(L490=1,mu_redLead,mu_millScale))","v":39.286927266018772},481.10492795929224,7.5494892688143522E-2,153.49165211578929,{"$f":"tau_n(N490,W490,U490,D490)","v":108.40530071544789},{"$f":"tau_hMax(X490,Z490,AH490,W490,U490)","v":82.06772737060551},{"$f":"tau_hMin(X490,Y490,AS490,AE490,Z490,AI490,IF(L490=1,mu_redLead,mu_millScale),W490,U490)","v":26.572980069706624},55.494747300898887]
[479,"Baron1955","R; L",3,4,10.3,47.6,null,8.73,12.7,95,null,476,166.4343733,0,737100,1,"SR4",null,479,0.84757281553398056,0.48063462435837617,0.21638655462184875,166.4343733,0,{"$f":"IF(OR(X491>=1.6*D491*AD491,D491=1),calcLoadFraction(G491,F491,I491,J491,K491,D491,1),\"Condition for spring model not fulfilled\")","v":0.39172811825355375},{"$f":"IF(L491>2,L491,IF(L491=2,1,sigma_cl0(I491+J491)))","v":151.37605281036423},{"$f":"Sigma_cl(AA491,U491,V491,X491)","v":137.35904849488961},{"$f":"Sigma_cl(AA491,U491,V491,Y491)","v":151.37605281036423},{"$f":"sigma_Slip(AB491,W491,U491,IF(L491=1,mu_redLead,mu_millScale))","v":23.197568479306703},{"$f":"sigma_Slip(AC491,W491,U491,IF(L491=1,mu_redLead,mu_millScale))","v":25.564798167091396},{"$f":"Sigma_p(AB491,V491)","v":-25.024089587172128},{"$f":"Sigma_p(AC491,V491)","v":-27.577709283709741},{"$f":"beta_1(X491,AD491,Z491)","v":0.64419283114584824},{"$f":"beta_1(Y491,AE491,Z491)","v":0},{"$f":"k_tHole(W491,U491)","v":2.4811778610356647},{"$f":"K_t1Mu(Z491,AH491,D491,W491,U491,SIGN(X491),mu_millScale)","v":3.277063109009124},{"$f":"K_t1Mu(Z491,AI491,D491,W491,U491,SIGN(Y491),mu_millScale)","v":1.9952042937577255},{"$f":"Sigma_hMax(AK491,X491,AF491)","v":520.39185522531102},{"$f":"Sigma_hMin(X491,Y491,AG491,AE491,AK491,AL491,AJ491,AI491,Z491,IF(L491=1,mu_redLead,mu_millScale))","v":39.286927266018772},481.10492795929224,7.5494892688143522E-2,153.49165211578929,{"$f":"tau_n(N491,W491,U491,D491)","v":108.40530071544789},{"$f":"tau_hMax(X491,Z491,AH491,W491,U491)","v":82.06772737060551},{"$f":"tau_hMin(X491,Y491,AS491,AE491,Z491,AI491,IF(L491=1,mu_redLead,mu_millScale),W491,U491)","v":26.572980069706624},55.494747300898887]
[480,"Baron1955","R; L",3,4,10.3,47.6,null,8.73,12.7,95,null,476,192.89317120000001,0,265700,1,"SR5",null,480,0.84757281553398056,0.48063462435837617,0.21638655462184875,192.89317120000001,0,{"$f":"IF(OR(X492>=1.6*D492*AD492,D492=1),calcLoadFraction(G492,F492,I492,J492,K492,D492,1),\"Condition for spring model not fulfilled\")","v":0.39172811825355375},{"$f":"IF(L492>2,L492,IF(L492=2,1,sigma_cl0(I492+J492)))","v":151.37605281036423},{"$f":"Sigma_cl(AA492,U492,V492,X492)","v":135.13070421123572},{"$f":"Sigma_cl(AA492,U492,V492,Y492)","v":151.37605281036423},{"$f":"sigma_Slip(AB492,W492,U492,IF(L492=1,mu_redLead,mu_millScale))","v":22.821239655818562},{"$f":"sigma_Slip(AC492,W492,U492,IF(L492=1,mu_redLead,mu_millScale))","v":25.564798167091396},{"$f":"Sigma_p(AB492,V492)","v":-24.618129531418742},{"$f":"Sigma_p(AC492,V492)","v":-27.577709283709741},{"$f":"beta_1(X492,AD492,Z492)","v":0.69797865843582196},{"$f":"beta_1(Y492,AE492,Z492)","v":0},{"$f":"k_tHole(W492,U492)","v":2.4811778610356647},{"$f":"K_t1Mu(Z492,AH492,D492,W492,U492,SIGN(X492),mu_millScale)","v":3.3632951182502744},{"$f":"K_t1Mu(Z492,AI492,D492,W492,U492,SIGN(Y492),mu_millScale)","v":1.9952042937577255},{"$f":"Sigma_hMax(AK492,X492,AF492)","v":624.13853150935574},{"$f":"Sigma_hMin(X492,Y492,AG492,AE492,AK492,AL492,AJ492,AI492,Z492,IF(L492=1,mu_redLead,mu_millScale))","v":44.804788520342605},579.3337429890131,7.1786608674825877E-2,184.7513360256479,{"$f":"tau_n(N492,W492,U492,D492)","v":125.63896396690055},{"$f":"tau_hMax(X492,Z492,AH492,W492,U492)","v":103.05581241253219},{"$f":"tau_hMin(X492,Y492,AS492,AE492,Z492,AI492,IF(L492=1,mu_redLead,mu_millScale),W492,U492)","v":30.307105262464678},72.748707150067517]
[481,"Baron1955","R; L",3,4,10.3,47.6,null,8.73,12.7,95,null,476,192.89317120000001,0,559700,1,"SR6",null,481,0.84757281553398056,0.48063462435837617,0.21638655462184875,192.89317120000001,0,{"$f":"IF(OR(X493>=1.6*D493*AD493,D493=1),calcLoadFraction(G493,F493,I493,J493,K493,D493,1),\"Condition for spring model not fulfilled\")","v":0.39172811825355375},{"$f":"IF(L493>2,L493,IF(L493=2,1,sigma_cl0(I493+J493)))","v":151.37605281036423},{"$f":"Sigma_cl(AA493,U493,V493,X493)","v":135.13070421123572},{"$f":"Sigma_cl(AA493,U493,V493,Y493)","v":151.37605281036423},{"$f":"sigma_Slip(AB493,W493,U493,IF(L493=1,mu_redLead,mu_millScale))","v":22.821239655818562},{"$f":"sigma_Slip(AC493,W493,U493,IF(L493=1,mu_redLead,mu_millScale))","v":25.564798167091396},{"$f":"Sigma_p(AB493,V493)","v":-24.618129531418742},{"$f":"Sigma_p(AC493,V493)","v":-27.577709283709741},{"$f":"beta_1(X493,AD493,Z493)","v":0.69797865843582196},{"$f":"beta_1(Y493,AE493,Z493)","v":0},{"$f":"k_tHole(W493,U493)","v":2.4811778610356647},{"$f":"K_t1Mu(Z493,AH493,D493,W493,U493,SIGN(X493),mu_millScale)","v":3.3632951182502744},{"$f":"K_t1Mu(Z493,AI493,D493,W493,U493,SIGN(Y493),mu_millScale)","v":1.9952042937577255},{"$f":"Sigma_hMax(AK493,X493,AF493)","v":624.13853150935574},{"$f":"Sigma_hMin(X493,Y493,AG493,AE493,AK493,AL493,AJ493,AI493,Z493,IF(L493=1,mu_redLead,mu_millScale))","v":44.804788520342605},579.3337429890131,7.1786608674825877E-2,184.7513360256479,{"$f":"tau_n(N493,W493,U493,D493)","v":125.63896396690055},{"$f":"tau_hMax(X493,Z493,AH493,W493,U493)","v":103.05581241253219},{"$f":"tau_hMin(X493,Y493,AS493,AE493,Z493,AI493,IF(L493=1,mu_redLead,mu_millScale),W493,U493)","v":30.307105262464678},72.748707150067517]
[482,"Baron1955","R; L",3,4,10.3,47.6,null,8.73,12.7,95,null,447,166.4343733,0,1060800,1,"SS1",null,482,0.84757281553398056,0.48063462435837617,0.21638655462184875,166.4343733,0,{"$f":"IF(OR(X494>=1.6*D494*AD494,D494=1),calcLoadFraction(G494,F494,I494,J494,K494,D494,1),\"Condition for spring model not fulfilled\")","v":0.39172811825355375},{"$f":"IF(L494>2,L494,IF(L494=2,1,sigma_cl0(I494+J494)))","v":151.37605281036423},{"$f":"Sigma_cl(AA494,U494,V494,X494)","v":137.35904849488961},{"$f":"Sigma_cl(AA494,U494,V494,Y494)","v":151.37605281036423},{"$f":"sigma_Slip(AB494,W494,U494,IF(L494=1,mu_redLead,mu_millScale))","v":23.197568479306703},{"$f":"sigma_Slip(AC494,W494,U494,IF(L494=1,mu_redLead,mu_millScale))","v":25.564798167091396},{"$f":"Sigma_p(AB494,V494)","v":-25.024089587172128},{"$f":"Sigma_p(AC494,V494)","v":-27.577709283709741},{"$f":"beta_1(X494,AD494,Z494)","v":0.64419283114584824},{"$f":"beta_1(Y494,AE494,Z494)","v":0},{"$f":"k_tHole(W494,U494)","v":2.4811778610356647},{"$f":"K_t1Mu(Z494,AH494,D494,W494,U494,SIGN(X494),mu_millScale)","v":3.277063109009124},{"$f":"K_t1Mu(Z494,AI494,D494,W494,U494,SIGN(Y494),mu_millScale)","v":1.9952042937577255},{"$f":"Sigma_hMax(AK494,X494,AF494)","v":520.39185522531102},{"$f":"Sigma_hMin(X494,Y494,AG494,AE494,AK494,AL494,AJ494,AI494,Z494,IF(L494=1,mu_redLead,mu_millScale))","v":39.286927266018772},481.10492795929224,7.5494892688143522E-2,153.49165211578929,{"$f":"tau_n(N494,W494,U494,D494)","v":108.40530071544789},{"$f":"tau_hMax(X494,Z494,AH494,W494,U494)","v":82.06772737060551},{"$f":"tau_hMin(X494,Y494,AS494,AE494,Z494,AI494,IF(L494=1,mu_redLead,mu_millScale),W494,U494)","v":26.572980069706624},55.494747300898887]
[483,"Baron1955","R; L",3,4,10.3,47.6,null,8.73,12.7,95,null,447,166.4343733,0,806000,1,"SS2",null,483,0.84757281553398056,0.48063462435837617,0.21638655462184875,166.4343733,0,{"$f":"IF(OR(X495>=1.6*D495*AD495,D495=1),calcLoadFraction(G495,F495,I495,J495,K495,D495,1),\"Condition for spring model not fulfilled\")","v":0.39172811825355375},{"$f":"IF(L495>2,L495,IF(L495=2,1,sigma_cl0(I495+J495)))","v":151.37605281036423},{"$f":"Sigma_cl(AA495,U495,V495,X495)","v":137.35904849488961},{"$f":"Sigma_cl(AA495,U495,V495,Y495)","v":151.37605281036423},{"$f":"sigma_Slip(AB495,W495,U495,IF(L495=1,mu_redLead,mu_millScale))","v":23.197568479306703},{"$f":"sigma_Slip(AC495,W495,U495,IF(L495=1,mu_redLead,mu_millScale))","v":25.564798167091396},{"$f":"Sigma_p(AB495,V495)","v":-25.024089587172128},{"$f":"Sigma_p(AC495,V495)","v":-27.577709283709741},{"$f":"beta_1(X495,AD495,Z495)","v":0.64419283114584824},{"$f":"beta_1(Y495,AE495,Z495)","v":0},{"$f":"k_tHole(W495,U495)","v":2.4811778610356647},{"$f":"K_t1Mu(Z495,AH495,D495,W495,U495,SIGN(X495),mu_millScale)","v":3.277063109009124},{"$f":"K_t1Mu(Z495,AI495,D495,W495,U495,SIGN(Y495),mu_millScale)","v":1.9952042937577255},{"$f":"Sigma_hMax(AK495,X495,AF495)","v":520.39185522531102},{"$f":"Sigma_hMin(X495,Y495,AG495,AE495,AK495,AL495,AJ495,AI495,Z495,IF(L495=1,mu_redLead,mu_millScale))","v":39.286927266018772},481.10492795929224,7.5494892688143522E-2,153.49165211578929,{"$f":"tau_n(N495,W495,U495,D495)","v":108.40530071544789},{"$f":"tau_hMax(X495,Z495,AH495,W495,U495)","v":82.06772737060551},{"$f":"tau_hMin(X495,Y495,AS495,AE495,Z495,AI495,IF(L495=1,mu_redLead,mu_millScale),W495,U495)","v":26.572980069706624},55.494747300898887]
[484,"Baron1955","R; L",3,4,10.3,47.6,null,8.73,12.7,57,null,447,166.4343733,0,800800,1,"P1S1",null,484,0.84757281553398056,0.48063462435837617,0.21638655462184875,166.4343733,0,{"$f":"IF(OR(X496>=1.6*D496*AD496,D496=1),calcLoadFraction(G496,F496,I496,J496,K496,D496,1),\"Condition for spring model not fulfilled\")","v":0.37381041403737875},{"$f":"IF(L496>2,L496,IF(L496=2,1,sigma_cl0(I496+J496)))","v":151.37605281036423},{"$f":"Sigma_cl(AA496,U496,V496,X496)","v":137.35904849488961},{"$f":"Sigma_cl(AA496,U496,V496,Y496)","v":151.37605281036423},{"$f":"sigma_Slip(AB496,W496,U496,IF(L496=1,mu_redLead,mu_millScale))","v":23.197568479306703},{"$f":"sigma_Slip(AC496,W496,U496,IF(L496=1,mu_redLead,mu_millScale))","v":25.564798167091396},{"$f":"Sigma_p(AB496,V496)","v":-25.024089587172128},{"$f":"Sigma_p(AC496,V496)","v":-27.577709283709741},{"$f":"beta_1(X496,AD496,Z496)","v":0.62713806923949367},{"$f":"beta_1(Y496,AE496,Z496)","v":0},{"$f":"k_tHole(W496,U496)","v":2.4811778610356647},{"$f":"K_t1Mu(Z496,AH496,D496,W496,U496,SIGN(X496),mu_millScale)","v":3.2127577880686027},{"$f":"K_t1Mu(Z496,AI496,D496,W496,U496,SIGN(Y496),mu_millScale)","v":2.017432799268605},{"$f":"Sigma_hMax(AK496,X496,AF496)","v":509.68923943471998},{"$f":"Sigma_hMin(X496,Y496,AG496,AE496,AK496,AL496,AJ496,AI496,Z496,IF(L496=1,mu_redLead,mu_millScale))","v":37.472445240670737},472.21679419404927,7.352018120341372E-2,150.62153123991021,{"$f":"tau_n(N496,W496,U496,D496)","v":108.40530071544789},{"$f":"tau_hMax(X496,Z496,AH496,W496,U496)","v":76.240605029550821},{"$f":"tau_hMin(X496,Y496,AS496,AE496,Z496,AI496,IF(L496=1,mu_redLead,mu_millScale),W496,U496)","v":25.431226104695973},50.809378924854848]
[485,"Baron1955","R; L",3,4,10.3,47.6,null,8.73,12.7,57,null,447,166.4343733,0,2119400,1,"P1S2",null,485,0.84757281553398056,0.48063462435837617,0.21638655462184875,166.4343733,0,{"$f":"IF(OR(X497>=1.6*D497*AD497,D497=1),calcLoadFraction(G497,F497,I497,J497,K497,D497,1),\"Condition for spring model not fulfilled\")","v":0.37381041403737875},{"$f":"IF(L497>2,L497,IF(L497=2,1,sigma_cl0(I497+J497)))","v":151.37605281036423},{"$f":"Sigma_cl(AA497,U497,V497,X497)","v":137.35904849488961},{"$f":"Sigma_cl(AA497,U497,V497,Y497)","v":151.37605281036423},{"$f":"sigma_Slip(AB497,W497,U497,IF(L497=1,mu_redLead,mu_millScale))","v":23.197568479306703},{"$f":"sigma_Slip(AC497,W497,U497,IF(L497=1,mu_redLead,mu_millScale))","v":25.564798167091396},{"$f":"Sigma_p(AB497,V497)","v":-25.024089587172128},{"$f":"Sigma_p(AC497,V497)","v":-27.577709283709741},{"$f":"beta_1(X497,AD497,Z497)","v":0.62713806923949367},{"$f":"beta_1(Y497,AE497,Z497)","v":0},{"$f":"k_tHole(W497,U497)","v":2.4811778610356647},{"$f":"K_t1Mu(Z497,AH497,D497,W497,U497,SIGN(X497),mu_millScale)","v":3.2127577880686027},{"$f":"K_t1Mu(Z497,AI497,D497,W497,U497,SIGN(Y497),mu_millScale)","v":2.017432799268605},{"$f":"Sigma_hMax(AK497,X497,AF497)","v":509.68923943471998},{"$f":"Sigma_hMin(X497,Y497,AG497,AE497,AK497,AL497,AJ497,AI497,Z497,IF(L497=1,mu_redLead,mu_millScale))","v":37.472445240670737},472.21679419404927,7.352018120341372E-2,150.62153123991021,{"$f":"tau_n(N497,W497,U497,D497)","v":108.40530071544789},{"$f":"tau_hMax(X497,Z497,AH497,W497,U497)","v":76.240605029550821},{"$f":"tau_hMin(X497,Y497,AS497,AE497,Z497,AI497,IF(L497=1,mu_redLead,mu_millScale),W497,U497)","v":25.431226104695973},50.809378924854848]
[486,"Baron1955","R; L",3,4,10.3,47.6,null,8.73,12.7,57,null,447,166.4343733,0,1604500,1,"P1S3",null,486,0.84757281553398056,0.48063462435837617,0.21638655462184875,166.4343733,0,{"$f":"IF(OR(X498>=1.6*D498*AD498,D498=1),calcLoadFraction(G498,F498,I498,J498,K498,D498,1),\"Condition for spring model not fulfilled\")","v":0.37381041403737875},{"$f":"IF(L498>2,L498,IF(L498=2,1,sigma_cl0(I498+J498)))","v":151.37605281036423},{"$f":"Sigma_cl(AA498,U498,V498,X498)","v":137.35904849488961},{"$f":"Sigma_cl(AA498,U498,V498,Y498)","v":151.37605281036423},{"$f":"sigma_Slip(AB498,W498,U498,IF(L498=1,mu_redLead,mu_millScale))","v":23.197568479306703},{"$f":"sigma_Slip(AC498,W498,U498,IF(L498=1,mu_redLead,mu_millScale))","v":25.564798167091396},{"$f":"Sigma_p(AB498,V498)","v":-25.024089587172128},{"$f":"Sigma_p(AC498,V498)","v":-27.577709283709741},{"$f":"beta_1(X498,AD498,Z498)","v":0.62713806923949367},{"$f":"beta_1(Y498,AE498,Z498)","v":0},{"$f":"k_tHole(W498,U498)","v":2.4811778610356647},{"$f":"K_t1Mu(Z498,AH498,D498,W498,U498,SIGN(X498),mu_millScale)","v":3.2127577880686027},{"$f":"K_t1Mu(Z498,AI498,D498,W498,U498,SIGN(Y498),mu_millScale)","v":2.017432799268605},{"$f":"Sigma_hMax(AK498,X498,AF498)","v":509.68923943471998},{"$f":"Sigma_hMin(X498,Y498,AG498,AE498,AK498,AL498,AJ498,AI498,Z498,IF(L498=1,mu_redLead,mu_millScale))","v":37.472445240670737},472.21679419404927,7.352018120341372E-2,150.62153123991021,{"$f":"tau_n(N498,W498,U498,D498)","v":108.40530071544789},{"$f":"tau_hMax(X498,Z498,AH498,W498,U498)","v":76.240605029550821},{"$f":"tau_hMin(X498,Y498,AS498,AE498,Z498,AI498,IF(L498=1,mu_redLead,mu_millScale),W498,U498)","v":25.431226104695973},50.809378924854848]
[487,"Baron1955","R; L",3,4,10.3,47.6,null,8.73,12.7,57,null,447,192.89317120000001,0,371900,1,"P1S4",null,487,0.84757281553398056,0.48063462435837617,0.21638655462184875,192.89317120000001,0,{"$f":"IF(OR(X499>=1.6*D499*AD499,D499=1),calcLoadFraction(G499,F499,I499,J499,K499,D499,1),\"Condition for spring model not fulfilled\")","v":0.37381041403737875},{"$f":"IF(L499>2,L499,IF(L499=2,1,sigma_cl0(I499+J499)))","v":151.37605281036423},{"$f":"Sigma_cl(AA499,U499,V499,X499)","v":135.13070421123572},{"$f":"Sigma_cl(AA499,U499,V499,Y499)","v":151.37605281036423},{"$f":"sigma_Slip(AB499,W499,U499,IF(L499=1,mu_redLead,mu_millScale))","v":22.821239655818562},{"$f":"sigma_Slip(AC499,W499,U499,IF(L499=1,mu_redLead,mu_millScale))","v":25.564798167091396},{"$f":"Sigma_p(AB499,V499)","v":-24.618129531418742},{"$f":"Sigma_p(AC499,V499)","v":-27.577709283709741},{"$f":"beta_1(X499,AD499,Z499)","v":0.68350199095437991},{"$f":"beta_1(Y499,AE499,Z499)","v":0},{"$f":"k_tHole(W499,U499)","v":2.4811778610356647},{"$f":"K_t1Mu(Z499,AH499,D499,W499,U499,SIGN(X499),mu_millScale)","v":3.3017005166538382},{"$f":"K_t1Mu(Z499,AI499,D499,W499,U499,SIGN(Y499),mu_millScale)","v":2.017432799268605},{"$f":"Sigma_hMax(AK499,X499,AF499)","v":612.2573534786186},{"$f":"Sigma_hMin(X499,Y499,AG499,AE499,AK499,AL499,AJ499,AI499,Z499,IF(L499=1,mu_redLead,mu_millScale))","v":43.248477193437999},569.00887628518058,7.0637742360653136E-2,181.43472278624188,{"$f":"tau_n(N499,W499,U499,D499)","v":125.63896396690055},{"$f":"tau_hMax(X499,Z499,AH499,W499,U499)","v":96.302327029375419},{"$f":"tau_hMin(X499,Y499,AS499,AE499,Z499,AI499,IF(L499=1,mu_redLead,mu_millScale),W499,U499)","v":29.211236875281863},67.091090154093564]
[488,"Baron1955","R; L",3,4,10.3,47.6,null,8.73,12.7,57,null,447,192.89317120000001,0,464700,1,"P1S5",null,488,0.84757281553398056,0.48063462435837617,0.21638655462184875,192.89317120000001,0,{"$f":"IF(OR(X500>=1.6*D500*AD500,D500=1),calcLoadFraction(G500,F500,I500,J500,K500,D500,1),\"Condition for spring model not fulfilled\")","v":0.37381041403737875},{"$f":"IF(L500>2,L500,IF(L500=2,1,sigma_cl0(I500+J500)))","v":151.37605281036423},{"$f":"Sigma_cl(AA500,U500,V500,X500)","v":135.13070421123572},{"$f":"Sigma_cl(AA500,U500,V500,Y500)","v":151.37605281036423},{"$f":"sigma_Slip(AB500,W500,U500,IF(L500=1,mu_redLead,mu_millScale))","v":22.821239655818562},{"$f":"sigma_Slip(AC500,W500,U500,IF(L500=1,mu_redLead,mu_millScale))","v":25.564798167091396},{"$f":"Sigma_p(AB500,V500)","v":-24.618129531418742},{"$f":"Sigma_p(AC500,V500)","v":-27.577709283709741},{"$f":"beta_1(X500,AD500,Z500)","v":0.68350199095437991},{"$f":"beta_1(Y500,AE500,Z500)","v":0},{"$f":"k_tHole(W500,U500)","v":2.4811778610356647},{"$f":"K_t1Mu(Z500,AH500,D500,W500,U500,SIGN(X500),mu_millScale)","v":3.3017005166538382},{"$f":"K_t1Mu(Z500,AI500,D500,W500,U500,SIGN(Y500),mu_millScale)","v":2.017432799268605},{"$f":"Sigma_hMax(AK500,X500,AF500)","v":612.2573534786186},{"$f":"Sigma_hMin(X500,Y500,AG500,AE500,AK500,AL500,AJ500,AI500,Z500,IF(L500=1,mu_redLead,mu_millScale))","v":43.248477193437999},569.00887628518058,7.0637742360653136E-2,181.43472278624188,{"$f":"tau_n(N500,W500,U500,D500)","v":125.63896396690055},{"$f":"tau_hMax(X500,Z500,AH500,W500,U500)","v":96.302327029375419},{"$f":"tau_hMin(X500,Y500,AS500,AE500,Z500,AI500,IF(L500=1,mu_redLead,mu_millScale),W500,U500)","v":29.211236875281863},67.091090154093564]
[489,"Baron1955","R; L",3,4,10.3,47.6,null,8.73,12.7,152,null,447,166.4343733,0,578900,1,"P2S1",null,{"$f":"A501","v":489},0.84757281553398056,0.48063462435837617,0.21638655462184875,166.4343733,0,{"$f":"IF(OR(X501>=1.6*D501*AD501,D501=1),calcLoadFraction(G501,F501,I501,J501,K501,D501,1),\"Condition for spring model not fulfilled\")","v":0.41302019254984029},{"$f":"IF(L501>2,L501,IF(L501=2,1,sigma_cl0(I501+J501)))","v":151.37605281036423},{"$f":"Sigma_cl(AA501,U501,V501,X501)","v":137.35904849488961},{"$f":"Sigma_cl(AA501,U501,V501,Y501)","v":151.37605281036423},{"$f":"sigma_Slip(AB501,W501,U501,IF(L501=1,mu_redLead,mu_millScale))","v":23.197568479306703},{"$f":"sigma_Slip(AC501,W501,U501,IF(L501=1,mu_redLead,mu_millScale))","v":25.564798167091396},{"$f":"Sigma_p(AB501,V501)","v":-25.024089587172128},{"$f":"Sigma_p(AC501,V501)","v":-27.577709283709741},{"$f":"beta_1(X501,AD501,Z501)","v":0.66253545170302541},{"$f":"beta_1(Y501,AE501,Z501)","v":0},{"$f":"k_tHole(W501,U501)","v":2.4811778610356647},{"$f":"K_t1Mu(Z501,AH501,D501,W501,U501,SIGN(X501),mu_millScale)","v":3.3524438856939001},{"$f":"K_t1Mu(Z501,AI501,D501,W501,U501,SIGN(Y501),mu_millScale)","v":1.9687895820779893},{"$f":"Sigma_hMax(AK501,X501,AF501)","v":532.93780755170894},{"$f":"Sigma_hMin(X501,Y501,AG501,AE501,AK501,AL501,AJ501,AI501,Z501,IF(L501=1,mu_redLead,mu_millScale))","v":41.245504196894622},491.69230335481433,7.7392715646079815E-2,156.90406765015942,{"$f":"tau_n(N501,W501,U501,D501)","v":108.40530071544789},{"$f":"tau_hMax(X501,Z501,AH501,W501,U501)","v":88.992248521439322},{"$f":"tau_hMin(X501,Y501,AS501,AE501,Z501,AI501,IF(L501=1,mu_redLead,mu_millScale),W501,U501)","v":27.849391634162252},61.14285688727707]
[490,"Baron1955","R; L",3,4,10.3,47.6,null,8.73,12.7,152,null,447,166.4343733,0,2332900,1,"P2S2",null,490,0.84757281553398056,0.48063462435837617,0.21638655462184875,166.4343733,0,{"$f":"IF(OR(X502>=1.6*D502*AD502,D502=1),calcLoadFraction(G502,F502,I502,J502,K502,D502,1),\"Condition for spring model not fulfilled\")","v":0.41302019254984029},{"$f":"IF(L502>2,L502,IF(L502=2,1,sigma_cl0(I502+J502)))","v":151.37605281036423},{"$f":"Sigma_cl(AA502,U502,V502,X502)","v":137.35904849488961},{"$f":"Sigma_cl(AA502,U502,V502,Y502)","v":151.37605281036423},{"$f":"sigma_Slip(AB502,W502,U502,IF(L502=1,mu_redLead,mu_millScale))","v":23.197568479306703},{"$f":"sigma_Slip(AC502,W502,U502,IF(L502=1,mu_redLead,mu_millScale))","v":25.564798167091396},{"$f":"Sigma_p(AB502,V502)","v":-25.024089587172128},{"$f":"Sigma_p(AC502,V502)","v":-27.577709283709741},{"$f":"beta_1(X502,AD502,Z502)","v":0.66253545170302541},{"$f":"beta_1(Y502,AE502,Z502)","v":0},{"$f":"k_tHole(W502,U502)","v":2.4811778610356647},{"$f":"K_t1Mu(Z502,AH502,D502,W502,U502,SIGN(X502),mu_millScale)","v":3.3524438856939001},{"$f":"K_t1Mu(Z502,AI502,D502,W502,U502,SIGN(Y502),mu_millScale)","v":1.9687895820779893},{"$f":"Sigma_hMax(AK502,X502,AF502)","v":532.93780755170894},{"$f":"Sigma_hMin(X502,Y502,AG502,AE502,AK502,AL502,AJ502,AI502,Z502,IF(L502=1,mu_redLead,mu_millScale))","v":41.245504196894622},491.69230335481433,7.7392715646079815E-2,156.90406765015942,{"$f":"tau_n(N502,W502,U502,D502)","v":108.40530071544789},{"$f":"tau_hMax(X502,Z502,AH502,W502,U502)","v":88.992248521439322},{"$f":"tau_hMin(X502,Y502,AS502,AE502,Z502,AI502,IF(L502=1,mu_redLead,mu_millScale),W502,U502)","v":27.849391634162252},61.14285688727707]
[491,"Baron1955","R; L",3,4,10.3,47.6,null,8.73,12.7,152,null,447,166.4343733,0,1739800,1,"P2S3",null,491,0.84757281553398056,0.48063462435837617,0.21638655462184875,166.4343733,0,{"$f":"IF(OR(X503>=1.6*D503*AD503,D503=1),calcLoadFraction(G503,F503,I503,J503,K503,D503,1),\"Condition for spring model not fulfilled\")","v":0.41302019254984029},{"$f":"IF(L503>2,L503,IF(L503=2,1,sigma_cl0(I503+J503)))","v":151.37605281036423},{"$f":"Sigma_cl(AA503,U503,V503,X503)","v":137.35904849488961},{"$f":"Sigma_cl(AA503,U503,V503,Y503)","v":151.37605281036423},{"$f":"sigma_Slip(AB503,W503,U503,IF(L503=1,mu_redLead,mu_millScale))","v":23.197568479306703},{"$f":"sigma_Slip(AC503,W503,U503,IF(L503=1,mu_redLead,mu_millScale))","v":25.564798167091396},{"$f":"Sigma_p(AB503,V503)","v":-25.024089587172128},{"$f":"Sigma_p(AC503,V503)","v":-27.577709283709741},{"$f":"beta_1(X503,AD503,Z503)","v":0.66253545170302541},{"$f":"beta_1(Y503,AE503,Z503)","v":0},{"$f":"k_tHole(W503,U503)","v":2.4811778610356647},{"$f":"K_t1Mu(Z503,AH503,D503,W503,U503,SIGN(X503),mu_millScale)","v":3.3524438856939001},{"$f":"K_t1Mu(Z503,AI503,D503,W503,U503,SIGN(Y503),mu_millScale)","v":1.9687895820779893},{"$f":"Sigma_hMax(AK503,X503,AF503)","v":532.93780755170894},{"$f":"Sigma_hMin(X503,Y503,AG503,AE503,AK503,AL503,AJ503,AI503,Z503,IF(L503=1,mu_redLead,mu_millScale))","v":41.245504196894622},491.69230335481433,7.7392715646079815E-2,156.90406765015942,{"$f":"tau_n(N503,W503,U503,D503)","v":108.40530071544789},{"$f":"tau_hMax(X503,Z503,AH503,W503,U503)","v":88.992248521439322},{"$f":"tau_hMin(X503,Y503,AS503,AE503,Z503,AI503,IF(L503=1,mu_redLead,mu_millScale),W503,U503)","v":27.849391634162252},61.14285688727707]
[492,"Baron1955","R; L",3,4,10.3,47.6,null,8.73,12.7,152,null,447,192.89317120000001,0,546200,1,"P2S4",null,492,0.84757281553398056,0.48063462435837617,0.21638655462184875,192.89317120000001,0,{"$f":"IF(OR(X504>=1.6*D504*AD504,D504=1),calcLoadFraction(G504,F504,I504,J504,K504,D504,1),\"Condition for spring model not fulfilled\")","v":0.41302019254984029},{"$f":"IF(L504>2,L504,IF(L504=2,1,sigma_cl0(I504+J504)))","v":151.37605281036423},{"$f":"Sigma_cl(AA504,U504,V504,X504)","v":135.13070421123572},{"$f":"Sigma_cl(AA504,U504,V504,Y504)","v":151.37605281036423},{"$f":"sigma_Slip(AB504,W504,U504,IF(L504=1,mu_redLead,mu_millScale))","v":22.821239655818562},{"$f":"sigma_Slip(AC504,W504,U504,IF(L504=1,mu_redLead,mu_millScale))","v":25.564798167091396},{"$f":"Sigma_p(AB504,V504)","v":-24.618129531418742},{"$f":"Sigma_p(AC504,V504)","v":-27.577709283709741},{"$f":"beta_1(X504,AD504,Z504)","v":0.71354850455871488},{"$f":"beta_1(Y504,AE504,Z504)","v":0},{"$f":"k_tHole(W504,U504)","v":2.4811778610356647},{"$f":"K_t1Mu(Z504,AH504,D504,W504,U504,SIGN(X504),mu_millScale)","v":3.4356152283243429},{"$f":"K_t1Mu(Z504,AI504,D504,W504,U504,SIGN(Y504),mu_millScale)","v":1.9687895820779893},{"$f":"Sigma_hMax(AK504,X504,AF504)","v":638.08858688307589},{"$f":"Sigma_hMin(X504,Y504,AG504,AE504,AK504,AL504,AJ504,AI504,Z504,IF(L504=1,mu_redLead,mu_millScale))","v":46.479963040212624},591.60862384286327,7.2842492399460002E-2,188.68880384395078,{"$f":"tau_n(N504,W504,U504,D504)","v":125.63896396690055},{"$f":"tau_hMax(X504,Z504,AH504,W504,U504)","v":111.08115487840733},{"$f":"tau_hMin(X504,Y504,AS504,AE504,Z504,AI504,IF(L504=1,mu_redLead,mu_millScale),W504,U504)","v":31.530056801347847},79.551098077059493]
[493,"Baron1955","R; L",3,4,10.3,47.6,null,8.73,12.7,152,null,447,192.89317120000001,0,629900,1,"P2S5",null,493,0.84757281553398056,0.48063462435837617,0.21638655462184875,192.89317120000001,0,{"$f":"IF(OR(X505>=1.6*D505*AD505,D505=1),calcLoadFraction(G505,F505,I505,J505,K505,D505,1),\"Condition for spring model not fulfilled\")","v":0.41302019254984029},{"$f":"IF(L505>2,L505,IF(L505=2,1,sigma_cl0(I505+J505)))","v":151.37605281036423},{"$f":"Sigma_cl(AA505,U505,V505,X505)","v":135.13070421123572},{"$f":"Sigma_cl(AA505,U505,V505,Y505)","v":151.37605281036423},{"$f":"sigma_Slip(AB505,W505,U505,IF(L505=1,mu_redLead,mu_millScale))","v":22.821239655818562},{"$f":"sigma_Slip(AC505,W505,U505,IF(L505=1,mu_redLead,mu_millScale))","v":25.564798167091396},{"$f":"Sigma_p(AB505,V505)","v":-24.618129531418742},{"$f":"Sigma_p(AC505,V505)","v":-27.577709283709741},{"$f":"beta_1(X505,AD505,Z505)","v":0.71354850455871488},{"$f":"beta_1(Y505,AE505,Z505)","v":0},{"$f":"k_tHole(W505,U505)","v":2.4811778610356647},{"$f":"K_t1Mu(Z505,AH505,D505,W505,U505,SIGN(X505),mu_millScale)","v":3.4356152283243429},{"$f":"K_t1Mu(Z505,AI505,D505,W505,U505,SIGN(Y505),mu_millScale)","v":1.9687895820779893},{"$f":"Sigma_hMax(AK505,X505,AF505)","v":638.08858688307589},{"$f":"Sigma_hMin(X505,Y505,AG505,AE505,AK505,AL505,AJ505,AI505,Z505,IF(L505=1,mu_redLead,mu_millScale))","v":46.479963040212624},591.60862384286327,7.2842492399460002E-2,188.68880384395078,{"$f":"tau_n(N505,W505,U505,D505)","v":125.63896396690055},{"$f":"tau_hMax(X505,Z505,AH505,W505,U505)","v":111.08115487840733},{"$f":"tau_hMin(X505,Y505,AS505,AE505,Z505,AI505,IF(L505=1,mu_redLead,mu_millScale),W505,U505)","v":31.530056801347847},79.551098077059493]
[494,"Baron1955","R; L",2,2,11.9,45.2,52.4,8.73,14.29,89,null,438,165.47424000000001,0,3000000,0,"A1U1",null,494,0.73361344537815132,0.51694178974804517,0.26327433628318581,165.47424000000001,0,{"$f":"IF(OR(X506>=1.6*D506*AD506,D506=1),calcLoadFraction(G506,F506,I506,J506,K506,D506,1),\"Condition for spring model not fulfilled\")","v":0.52765812931431089},{"$f":"IF(L506>2,L506,IF(L506=2,1,sigma_cl0(I506+J506)))","v":157.34549420162355},{"$f":"Sigma_cl(AA506,U506,V506,X506)","v":144.70325487734874},{"$f":"Sigma_cl(AA506,U506,V506,Y506)","v":157.34549420162355},{"$f":"sigma_Slip(AB506,W506,U506,IF(L506=1,mu_redLead,mu_millScale))","v":36.538234890573115},{"$f":"sigma_Slip(AC506,W506,U506,IF(L506=1,mu_redLead,mu_millScale))","v":39.730458247018859},{"$f":"Sigma_p(AB506,V506)","v":-28.584499236585504},{"$f":"Sigma_p(AC506,V506)","v":-31.081831315395792},{"$f":"beta_1(X506,AD506,Z506)","v":0.58152980166374035},{"$f":"beta_1(Y506,AE506,Z506)","v":0},{"$f":"k_tHole(W506,U506)","v":2.3998686864862844},{"$f":"K_t1Mu(Z506,AH506,D506,W506,U506,SIGN(X506),mu_millScale)","v":3.0420991672168824},{"$f":"K_t1Mu(Z506,AI506,D506,W506,U506,SIGN(Y506),mu_millScale)","v":1.7667135756306118},{"$f":"Sigma_hMax(AK506,X506,AF506)","v":474.80454846326109},{"$f":"Sigma_hMin(X506,Y506,AG506,AE506,AK506,AL506,AJ506,AI506,Z506,IF(L506=1,mu_redLead,mu_millScale))","v":49.27382989411381},425.53071856914727,0.1037770805978841,136.22091821473373,{"$f":"tau_n(N506,W506,U506,D506)","v":108.12971939342358},{"$f":"tau_hMax(X506,Z506,AH506,W506,U506)","v":66.35897680730541},{"$f":"tau_hMin(X506,Y506,AS506,AE506,Z506,AI506,IF(L506=1,mu_redLead,mu_millScale),W506,U506)","v":23.583029254604334},42.775947552701076]
[495,"Baron1955","R; L",2,2,11.9,45.2,52.4,8.73,14.29,89,null,438,186.15852000000001,0,739700,1,"A1U2",null,495,0.73361344537815132,0.51694178974804517,0.26327433628318581,186.15852000000001,0,{"$f":"IF(OR(X507>=1.6*D507*AD507,D507=1),calcLoadFraction(G507,F507,I507,J507,K507,D507,1),\"Condition for spring model not fulfilled\")","v":0.52765812931431089},{"$f":"IF(L507>2,L507,IF(L507=2,1,sigma_cl0(I507+J507)))","v":157.34549420162355},{"$f":"Sigma_cl(AA507,U507,V507,X507)","v":143.12297496181438},{"$f":"Sigma_cl(AA507,U507,V507,Y507)","v":157.34549420162355},{"$f":"sigma_Slip(AB507,W507,U507,IF(L507=1,mu_redLead,mu_millScale))","v":36.139206971017394},{"$f":"sigma_Slip(AC507,W507,U507,IF(L507=1,mu_redLead,mu_millScale))","v":39.730458247018859},{"$f":"Sigma_p(AB507,V507)","v":-28.272332726734213},{"$f":"Sigma_p(AC507,V507)","v":-31.081831315395792},{"$f":"beta_1(X507,AD507,Z507)","v":0.63208875052135649},{"$f":"beta_1(Y507,AE507,Z507)","v":0},{"$f":"k_tHole(W507,U507)","v":2.3998686864862844},{"$f":"K_t1Mu(Z507,AH507,D507,W507,U507,SIGN(X507),mu_millScale)","v":3.1409410647364262},{"$f":"K_t1Mu(Z507,AI507,D507,W507,U507,SIGN(Y507),mu_millScale)","v":1.7667135756306118},{"$f":"Sigma_hMax(AK507,X507,AF507)","v":556.44060729182308},{"$f":"Sigma_hMin(X507,Y507,AG507,AE507,AK507,AL507,AJ507,AI507,Z507,IF(L507=1,mu_redLead,mu_millScale))","v":55.894297236762796},500.5463100550603,0.10044970928487477,160.16953790466349,{"$f":"tau_n(N507,W507,U507,D507)","v":121.64593431760154},{"$f":"tau_hMax(X507,Z507,AH507,W507,U507)","v":81.144350544035561},{"$f":"tau_hMin(X507,Y507,AS507,AE507,Z507,AI507,IF(L507=1,mu_redLead,mu_millScale),W507,U507)","v":26.79798229645062},54.346368247584941]
[496,"Baron1955","R; L",2,2,11.9,45.2,52.4,8.73,14.29,89,null,438,186.15852000000001,0,2790400,1,"A1U3",null,496,0.73361344537815132,0.51694178974804517,0.26327433628318581,186.15852000000001,0,{"$f":"IF(OR(X508>=1.6*D508*AD508,D508=1),calcLoadFraction(G508,F508,I508,J508,K508,D508,1),\"Condition for spring model not fulfilled\")","v":0.52765812931431089},{"$f":"IF(L508>2,L508,IF(L508=2,1,sigma_cl0(I508+J508)))","v":157.34549420162355},{"$f":"Sigma_cl(AA508,U508,V508,X508)","v":143.12297496181438},{"$f":"Sigma_cl(AA508,U508,V508,Y508)","v":157.34549420162355},{"$f":"sigma_Slip(AB508,W508,U508,IF(L508=1,mu_redLead,mu_millScale))","v":36.139206971017394},{"$f":"sigma_Slip(AC508,W508,U508,IF(L508=1,mu_redLead,mu_millScale))","v":39.730458247018859},{"$f":"Sigma_p(AB508,V508)","v":-28.272332726734213},{"$f":"Sigma_p(AC508,V508)","v":-31.081831315395792},{"$f":"beta_1(X508,AD508,Z508)","v":0.63208875052135649},{"$f":"beta_1(Y508,AE508,Z508)","v":0},{"$f":"k_tHole(W508,U508)","v":2.3998686864862844},{"$f":"K_t1Mu(Z508,AH508,D508,W508,U508,SIGN(X508),mu_millScale)","v":3.1409410647364262},{"$f":"K_t1Mu(Z508,AI508,D508,W508,U508,SIGN(Y508),mu_millScale)","v":1.7667135756306118},{"$f":"Sigma_hMax(AK508,X508,AF508)","v":556.44060729182308},{"$f":"Sigma_hMin(X508,Y508,AG508,AE508,AK508,AL508,AJ508,AI508,Z508,IF(L508=1,mu_redLead,mu_millScale))","v":55.894297236762796},500.5463100550603,0.10044970928487477,160.16953790466349,{"$f":"tau_n(N508,W508,U508,D508)","v":121.64593431760154},{"$f":"tau_hMax(X508,Z508,AH508,W508,U508)","v":81.144350544035561},{"$f":"tau_hMin(X508,Y508,AS508,AE508,Z508,AI508,IF(L508=1,mu_redLead,mu_millScale),W508,U508)","v":26.79798229645062},54.346368247584941]
[497,"Baron1955","R; L",2,2,11.9,45.2,52.4,8.73,14.29,89,null,438,186.15852000000001,0,515500,1,"A1U4",null,497,0.73361344537815132,0.51694178974804517,0.26327433628318581,186.15852000000001,0,{"$f":"IF(OR(X509>=1.6*D509*AD509,D509=1),calcLoadFraction(G509,F509,I509,J509,K509,D509,1),\"Condition for spring model not fulfilled\")","v":0.52765812931431089},{"$f":"IF(L509>2,L509,IF(L509=2,1,sigma_cl0(I509+J509)))","v":157.34549420162355},{"$f":"Sigma_cl(AA509,U509,V509,X509)","v":143.12297496181438},{"$f":"Sigma_cl(AA509,U509,V509,Y509)","v":157.34549420162355},{"$f":"sigma_Slip(AB509,W509,U509,IF(L509=1,mu_redLead,mu_millScale))","v":36.139206971017394},{"$f":"sigma_Slip(AC509,W509,U509,IF(L509=1,mu_redLead,mu_millScale))","v":39.730458247018859},{"$f":"Sigma_p(AB509,V509)","v":-28.272332726734213},{"$f":"Sigma_p(AC509,V509)","v":-31.081831315395792},{"$f":"beta_1(X509,AD509,Z509)","v":0.63208875052135649},{"$f":"beta_1(Y509,AE509,Z509)","v":0},{"$f":"k_tHole(W509,U509)","v":2.3998686864862844},{"$f":"K_t1Mu(Z509,AH509,D509,W509,U509,SIGN(X509),mu_millScale)","v":3.1409410647364262},{"$f":"K_t1Mu(Z509,AI509,D509,W509,U509,SIGN(Y509),mu_millScale)","v":1.7667135756306118},{"$f":"Sigma_hMax(AK509,X509,AF509)","v":556.44060729182308},{"$f":"Sigma_hMin(X509,Y509,AG509,AE509,AK509,AL509,AJ509,AI509,Z509,IF(L509=1,mu_redLead,mu_millScale))","v":55.894297236762796},500.5463100550603,0.10044970928487477,160.16953790466349,{"$f":"tau_n(N509,W509,U509,D509)","v":121.64593431760154},{"$f":"tau_hMax(X509,Z509,AH509,W509,U509)","v":81.144350544035561},{"$f":"tau_hMin(X509,Y509,AS509,AE509,Z509,AI509,IF(L509=1,mu_redLead,mu_millScale),W509,U509)","v":26.79798229645062},54.346368247584941]
[498,"Baron1955","R; L",2,2,11.9,45.2,52.4,8.73,14.29,89,null,438,206.84280000000001,0,2285000,1,"A1U5",null,498,0.73361344537815132,0.51694178974804517,0.26327433628318581,206.84280000000001,0,{"$f":"IF(OR(X510>=1.6*D510*AD510,D510=1),calcLoadFraction(G510,F510,I510,J510,K510,D510,1),\"Condition for spring model not fulfilled\")","v":0.52765812931431089},{"$f":"IF(L510>2,L510,IF(L510=2,1,sigma_cl0(I510+J510)))","v":157.34549420162355},{"$f":"Sigma_cl(AA510,U510,V510,X510)","v":141.54269504628004},{"$f":"Sigma_cl(AA510,U510,V510,Y510)","v":157.34549420162355},{"$f":"sigma_Slip(AB510,W510,U510,IF(L510=1,mu_redLead,mu_millScale))","v":35.740179051461681},{"$f":"sigma_Slip(AC510,W510,U510,IF(L510=1,mu_redLead,mu_millScale))","v":39.730458247018859},{"$f":"Sigma_p(AB510,V510)","v":-27.960166216882932},{"$f":"Sigma_p(AC510,V510)","v":-31.081831315395792},{"$f":"beta_1(X510,AD510,Z510)","v":0.67253590960744936},{"$f":"beta_1(Y510,AE510,Z510)","v":0},{"$f":"k_tHole(W510,U510)","v":2.3998686864862844},{"$f":"K_t1Mu(Z510,AH510,D510,W510,U510,SIGN(X510),mu_millScale)","v":3.2142609370587962},{"$f":"K_t1Mu(Z510,AI510,D510,W510,U510,SIGN(Y510),mu_millScale)","v":1.7667135756306118},{"$f":"Sigma_hMax(AK510,X510,AF510)","v":636.88656593498229},{"$f":"Sigma_hMin(X510,Y510,AG510,AE510,AK510,AL510,AJ510,AI510,Z510,IF(L510=1,mu_redLead,mu_millScale))","v":61.219408027609042},575.66715790737328,9.6122938215435272E-2,184.11047427535891,{"$f":"tau_n(N510,W510,U510,D510)","v":135.16214924177947},{"$f":"tau_hMax(X510,Z510,AH510,W510,U510)","v":95.929724280765711},{"$f":"tau_hMin(X510,Y510,AS510,AE510,Z510,AI510,IF(L510=1,mu_redLead,mu_millScale),W510,U510)","v":29.605176692183193},66.324547588582519]
[499,"Baron1955","R; L",2,2,11.9,45.2,52.4,8.73,14.29,89,null,438,206.84280000000001,0,653700,1,"A1U6",null,499,0.73361344537815132,0.51694178974804517,0.26327433628318581,206.84280000000001,0,{"$f":"IF(OR(X511>=1.6*D511*AD511,D511=1),calcLoadFraction(G511,F511,I511,J511,K511,D511,1),\"Condition for spring model not fulfilled\")","v":0.52765812931431089},{"$f":"IF(L511>2,L511,IF(L511=2,1,sigma_cl0(I511+J511)))","v":157.34549420162355},{"$f":"Sigma_cl(AA511,U511,V511,X511)","v":141.54269504628004},{"$f":"Sigma_cl(AA511,U511,V511,Y511)","v":157.34549420162355},{"$f":"sigma_Slip(AB511,W511,U511,IF(L511=1,mu_redLead,mu_millScale))","v":35.740179051461681},{"$f":"sigma_Slip(AC511,W511,U511,IF(L511=1,mu_redLead,mu_millScale))","v":39.730458247018859},{"$f":"Sigma_p(AB511,V511)","v":-27.960166216882932},{"$f":"Sigma_p(AC511,V511)","v":-31.081831315395792},{"$f":"beta_1(X511,AD511,Z511)","v":0.67253590960744936},{"$f":"beta_1(Y511,AE511,Z511)","v":0},{"$f":"k_tHole(W511,U511)","v":2.3998686864862844},{"$f":"K_t1Mu(Z511,AH511,D511,W511,U511,SIGN(X511),mu_millScale)","v":3.2142609370587962},{"$f":"K_t1Mu(Z511,AI511,D511,W511,U511,SIGN(Y511),mu_millScale)","v":1.7667135756306118},{"$f":"Sigma_hMax(AK511,X511,AF511)","v":636.88656593498229},{"$f":"Sigma_hMin(X511,Y511,AG511,AE511,AK511,AL511,AJ511,AI511,Z511,IF(L511=1,mu_redLead,mu_millScale))","v":61.219408027609042},575.66715790737328,9.6122938215435272E-2,184.11047427535891,{"$f":"tau_n(N511,W511,U511,D511)","v":135.16214924177947},{"$f":"tau_hMax(X511,Z511,AH511,W511,U511)","v":95.929724280765711},{"$f":"tau_hMin(X511,Y511,AS511,AE511,Z511,AI511,IF(L511=1,mu_redLead,mu_millScale),W511,U511)","v":29.605176692183193},66.324547588582519]
[500,"Baron1955","R; L",2,2,13.5,50.4,62.7,10.32,12.7,89,null,434,186.15852000000001,0,1330300,1,"A2V1",null,500,0.76444444444444448,0.58644656820156382,0.26785714285714285,186.15852000000001,0,{"$f":"IF(OR(X512>=1.6*D512*AD512,D512=1),calcLoadFraction(G512,F512,I512,J512,K512,D512,1),\"Condition for spring model not fulfilled\")","v":0.5117452505600103},{"$f":"IF(L512>2,L512,IF(L512=2,1,sigma_cl0(I512+J512)))","v":157.34549420162355},{"$f":"Sigma_cl(AA512,U512,V512,X512)","v":141.30328706415099},{"$f":"Sigma_cl(AA512,U512,V512,Y512)","v":157.34549420162355},{"$f":"sigma_Slip(AB512,W512,U512,IF(L512=1,mu_redLead,mu_millScale))","v":35.054805037744373},{"$f":"sigma_Slip(AC512,W512,U512,IF(L512=1,mu_redLead,mu_millScale))","v":39.034588206722631},{"$f":"Sigma_p(AB512,V512)","v":-31.9952018977291},{"$f":"Sigma_p(AC512,V512)","v":-35.627627348777537},{"$f":"beta_1(X512,AD512,Z512)","v":0.6320313514182031},{"$f":"beta_1(Y512,AE512,Z512)","v":0},{"$f":"k_tHole(W512,U512)","v":2.392452851676385},{"$f":"K_t1Mu(Z512,AH512,D512,W512,U512,SIGN(X512),mu_millScale)","v":3.0935715505380847},{"$f":"K_t1Mu(Z512,AI512,D512,W512,U512,SIGN(Y512),mu_millScale)","v":1.7802896596593136},{"$f":"Sigma_hMax(AK512,X512,AF512)","v":543.89949946454601},{"$f":"Sigma_hMin(X512,Y512,AG512,AE512,AK512,AL512,AJ512,AI512,Z512,IF(L512=1,mu_redLead,mu_millScale))","v":48.630189248885088},495.26931021566094,8.9410248210855428E-2,158.26972441156627,{"$f":"tau_n(N512,W512,U512,D512)","v":123.81451774845948},{"$f":"tau_hMax(X512,Z512,AH512,W512,U512)","v":80.092898085134649},{"$f":"tau_hMin(X512,Y512,AS512,AE512,Z512,AI512,IF(L512=1,mu_redLead,mu_millScale),W512,U512)","v":26.668314182635044},53.424583902499606]
[501,"Baron1955","R; L",2,2,13.5,50.4,62.7,10.32,12.7,89,null,434,186.15852000000001,0,2548600,1,"A2V2",null,501,0.76444444444444448,0.58644656820156382,0.26785714285714285,186.15852000000001,0,{"$f":"IF(OR(X513>=1.6*D513*AD513,D513=1),calcLoadFraction(G513,F513,I513,J513,K513,D513,1),\"Condition for spring model not fulfilled\")","v":0.5117452505600103},{"$f":"IF(L513>2,L513,IF(L513=2,1,sigma_cl0(I513+J513)))","v":157.34549420162355},{"$f":"Sigma_cl(AA513,U513,V513,X513)","v":141.30328706415099},{"$f":"Sigma_cl(AA513,U513,V513,Y513)","v":157.34549420162355},{"$f":"sigma_Slip(AB513,W513,U513,IF(L513=1,mu_redLead,mu_millScale))","v":35.054805037744373},{"$f":"sigma_Slip(AC513,W513,U513,IF(L513=1,mu_redLead,mu_millScale))","v":39.034588206722631},{"$f":"Sigma_p(AB513,V513)","v":-31.9952018977291},{"$f":"Sigma_p(AC513,V513)","v":-35.627627348777537},{"$f":"beta_1(X513,AD513,Z513)","v":0.6320313514182031},{"$f":"beta_1(Y513,AE513,Z513)","v":0},{"$f":"k_tHole(W513,U513)","v":2.392452851676385},{"$f":"K_t1Mu(Z513,AH513,D513,W513,U513,SIGN(X513),mu_millScale)","v":3.0935715505380847},{"$f":"K_t1Mu(Z513,AI513,D513,W513,U513,SIGN(Y513),mu_millScale)","v":1.7802896596593136},{"$f":"Sigma_hMax(AK513,X513,AF513)","v":543.89949946454601},{"$f":"Sigma_hMin(X513,Y513,AG513,AE513,AK513,AL513,AJ513,AI513,Z513,IF(L513=1,mu_redLead,mu_millScale))","v":48.630189248885088},495.26931021566094,8.9410248210855428E-2,158.26972441156627,{"$f":"tau_n(N513,W513,U513,D513)","v":123.81451774845948},{"$f":"tau_hMax(X513,Z513,AH513,W513,U513)","v":80.092898085134649},{"$f":"tau_hMin(X513,Y513,AS513,AE513,Z513,AI513,IF(L513=1,mu_redLead,mu_millScale),W513,U513)","v":26.668314182635044},53.424583902499606]
[502,"Baron1955","R; L",2,2,13.5,50.4,62.7,10.32,12.7,89,null,434,186.15852000000001,0,1837100,1,"A2V3",null,502,0.76444444444444448,0.58644656820156382,0.26785714285714285,186.15852000000001,0,{"$f":"IF(OR(X514>=1.6*D514*AD514,D514=1),calcLoadFraction(G514,F514,I514,J514,K514,D514,1),\"Condition for spring model not fulfilled\")","v":0.5117452505600103},{"$f":"IF(L514>2,L514,IF(L514=2,1,sigma_cl0(I514+J514)))","v":157.34549420162355},{"$f":"Sigma_cl(AA514,U514,V514,X514)","v":141.30328706415099},{"$f":"Sigma_cl(AA514,U514,V514,Y514)","v":157.34549420162355},{"$f":"sigma_Slip(AB514,W514,U514,IF(L514=1,mu_redLead,mu_millScale))","v":35.054805037744373},{"$f":"sigma_Slip(AC514,W514,U514,IF(L514=1,mu_redLead,mu_millScale))","v":39.034588206722631},{"$f":"Sigma_p(AB514,V514)","v":-31.9952018977291},{"$f":"Sigma_p(AC514,V514)","v":-35.627627348777537},{"$f":"beta_1(X514,AD514,Z514)","v":0.6320313514182031},{"$f":"beta_1(Y514,AE514,Z514)","v":0},{"$f":"k_tHole(W514,U514)","v":2.392452851676385},{"$f":"K_t1Mu(Z514,AH514,D514,W514,U514,SIGN(X514),mu_millScale)","v":3.0935715505380847},{"$f":"K_t1Mu(Z514,AI514,D514,W514,U514,SIGN(Y514),mu_millScale)","v":1.7802896596593136},{"$f":"Sigma_hMax(AK514,X514,AF514)","v":543.89949946454601},{"$f":"Sigma_hMin(X514,Y514,AG514,AE514,AK514,AL514,AJ514,AI514,Z514,IF(L514=1,mu_redLead,mu_millScale))","v":48.630189248885088},495.26931021566094,8.9410248210855428E-2,158.26972441156627,{"$f":"tau_n(N514,W514,U514,D514)","v":123.81451774845948},{"$f":"tau_hMax(X514,Z514,AH514,W514,U514)","v":80.092898085134649},{"$f":"tau_hMin(X514,Y514,AS514,AE514,Z514,AI514,IF(L514=1,mu_redLead,mu_millScale),W514,U514)","v":26.668314182635044},53.424583902499606]
[503,"Baron1955","R; L",2,2,13.5,50.4,62.7,10.32,12.7,89,null,434,206.84280000000001,0,962600,1,"A2V4",null,503,0.76444444444444448,0.58644656820156382,0.26785714285714285,206.84280000000001,0,{"$f":"IF(OR(X515>=1.6*D515*AD515,D515=1),calcLoadFraction(G515,F515,I515,J515,K515,D515,1),\"Condition for spring model not fulfilled\")","v":0.5117452505600103},{"$f":"IF(L515>2,L515,IF(L515=2,1,sigma_cl0(I515+J515)))","v":157.34549420162355},{"$f":"Sigma_cl(AA515,U515,V515,X515)","v":139.52081960443184},{"$f":"Sigma_cl(AA515,U515,V515,Y515)","v":157.34549420162355},{"$f":"sigma_Slip(AB515,W515,U515,IF(L515=1,mu_redLead,mu_millScale))","v":34.612606907857902},{"$f":"sigma_Slip(AC515,W515,U515,IF(L515=1,mu_redLead,mu_millScale))","v":39.034588206722631},{"$f":"Sigma_p(AB515,V515)","v":-31.591599069834832},{"$f":"Sigma_p(AC515,V515)","v":-35.627627348777537},{"$f":"beta_1(X515,AD515,Z515)","v":0.67300577605102907},{"$f":"beta_1(Y515,AE515,Z515)","v":0},{"$f":"k_tHole(W515,U515)","v":2.392452851676385},{"$f":"K_t1Mu(Z515,AH515,D515,W515,U515,SIGN(X515),mu_millScale)","v":3.1645307223710377},{"$f":"K_t1Mu(Z515,AI515,D515,W515,U515,SIGN(Y515),mu_millScale)","v":1.7802896596593136},{"$f":"Sigma_hMax(AK515,X515,AF515)","v":622.96879623141331},{"$f":"Sigma_hMin(X515,Y515,AG515,AE515,AK515,AL515,AJ515,AI515,Z515,IF(L515=1,mu_redLead,mu_millScale))","v":53.838449053660476},569.13034717775281,8.6422384843913097E-2,181.80828863389834,{"$f":"tau_n(N515,W515,U515,D515)","v":137.57168638717721},{"$f":"tau_hMax(X515,Z515,AH515,W515,U515)","v":94.761443770875786},{"$f":"tau_hMin(X515,Y515,AS515,AE515,Z515,AI515,IF(L515=1,mu_redLead,mu_millScale),W515,U515)","v":29.492383743070736},65.269060027805054]
[504,"Baron1955","R; L",2,2,13.5,50.4,62.7,10.32,12.7,89,null,434,206.84280000000001,0,320500,1,"A2V5","ignored; specimen initially bent",504,0.76444444444444448,0.58644656820156382,0.26785714285714285,206.84280000000001,0,{"$f":"IF(OR(X516>=1.6*D516*AD516,D516=1),calcLoadFraction(G516,F516,I516,J516,K516,D516,1),\"Condition for spring model not fulfilled\")","v":0.5117452505600103},{"$f":"IF(L516>2,L516,IF(L516=2,1,sigma_cl0(I516+J516)))","v":157.34549420162355},{"$f":"Sigma_cl(AA516,U516,V516,X516)","v":139.52081960443184},{"$f":"Sigma_cl(AA516,U516,V516,Y516)","v":157.34549420162355},{"$f":"sigma_Slip(AB516,W516,U516,IF(L516=1,mu_redLead,mu_millScale))","v":34.612606907857902},{"$f":"sigma_Slip(AC516,W516,U516,IF(L516=1,mu_redLead,mu_millScale))","v":39.034588206722631},{"$f":"Sigma_p(AB516,V516)","v":-31.591599069834832},{"$f":"Sigma_p(AC516,V516)","v":-35.627627348777537},{"$f":"beta_1(X516,AD516,Z516)","v":0.67300577605102907},{"$f":"beta_1(Y516,AE516,Z516)","v":0},{"$f":"k_tHole(W516,U516)","v":2.392452851676385},{"$f":"K_t1Mu(Z516,AH516,D516,W516,U516,SIGN(X516),mu_millScale)","v":3.1645307223710377},{"$f":"K_t1Mu(Z516,AI516,D516,W516,U516,SIGN(Y516),mu_millScale)","v":1.7802896596593136},{"$f":"Sigma_hMax(AK516,X516,AF516)","v":622.96879623141331},{"$f":"Sigma_hMin(X516,Y516,AG516,AE516,AK516,AL516,AJ516,AI516,Z516,IF(L516=1,mu_redLead,mu_millScale))","v":53.838449053660476},569.13034717775281,8.6422384843913097E-2,181.80828863389834,{"$f":"tau_n(N516,W516,U516,D516)","v":137.57168638717721},{"$f":"tau_hMax(X516,Z516,AH516,W516,U516)","v":94.761443770875786},{"$f":"tau_hMin(X516,Y516,AS516,AE516,Z516,AI516,IF(L516=1,mu_redLead,mu_millScale),W516,U516)","v":29.492383743070736},65.269060027805054]
[505,"Baron1955","R; L",2,2,13.5,50.4,62.7,10.32,12.7,89,null,434,206.84280000000001,0,657900,1,"A2V6",null,505,0.76444444444444448,0.58644656820156382,0.26785714285714285,206.84280000000001,0,{"$f":"IF(OR(X517>=1.6*D517*AD517,D517=1),calcLoadFraction(G517,F517,I517,J517,K517,D517,1),\"Condition for spring model not fulfilled\")","v":0.5117452505600103},{"$f":"IF(L517>2,L517,IF(L517=2,1,sigma_cl0(I517+J517)))","v":157.34549420162355},{"$f":"Sigma_cl(AA517,U517,V517,X517)","v":139.52081960443184},{"$f":"Sigma_cl(AA517,U517,V517,Y517)","v":157.34549420162355},{"$f":"sigma_Slip(AB517,W517,U517,IF(L517=1,mu_redLead,mu_millScale))","v":34.612606907857902},{"$f":"sigma_Slip(AC517,W517,U517,IF(L517=1,mu_redLead,mu_millScale))","v":39.034588206722631},{"$f":"Sigma_p(AB517,V517)","v":-31.591599069834832},{"$f":"Sigma_p(AC517,V517)","v":-35.627627348777537},{"$f":"beta_1(X517,AD517,Z517)","v":0.67300577605102907},{"$f":"beta_1(Y517,AE517,Z517)","v":0},{"$f":"k_tHole(W517,U517)","v":2.392452851676385},{"$f":"K_t1Mu(Z517,AH517,D517,W517,U517,SIGN(X517),mu_millScale)","v":3.1645307223710377},{"$f":"K_t1Mu(Z517,AI517,D517,W517,U517,SIGN(Y517),mu_millScale)","v":1.7802896596593136},{"$f":"Sigma_hMax(AK517,X517,AF517)","v":622.96879623141331},{"$f":"Sigma_hMin(X517,Y517,AG517,AE517,AK517,AL517,AJ517,AI517,Z517,IF(L517=1,mu_redLead,mu_millScale))","v":53.838449053660476},569.13034717775281,8.6422384843913097E-2,181.80828863389834,{"$f":"tau_n(N517,W517,U517,D517)","v":137.57168638717721},{"$f":"tau_hMax(X517,Z517,AH517,W517,U517)","v":94.761443770875786},{"$f":"tau_hMin(X517,Y517,AS517,AE517,Z517,AI517,IF(L517=1,mu_redLead,mu_millScale),W517,U517)","v":29.492383743070736},65.269060027805054]
[506,"Baron1955","R; L",2,2,13.5,50,57.2,10.32,38.1,89,null,434,186.15852000000001,0,2108700,1,"A3V1",null,506,0.76444444444444448,0.27881040892193309,0.27,186.15852000000001,0,{"$f":"IF(OR(X518>=1.6*D518*AD518,D518=1),calcLoadFraction(G518,F518,I518,J518,K518,D518,1),\"Condition for spring model not fulfilled\")","v":0.53664281459495311},{"$f":"IF(L518>2,L518,IF(L518=2,1,sigma_cl0(I518+J518)))","v":206.83023818095617},{"$f":"Sigma_cl(AA518,U518,V518,X518)","v":197.1859951205488},{"$f":"Sigma_cl(AA518,U518,V518,Y518)","v":206.83023818095617},{"$f":"sigma_Slip(AB518,W518,U518,IF(L518=1,mu_redLead,mu_millScale))","v":49.454391155898378},{"$f":"sigma_Slip(AC518,W518,U518,IF(L518=1,mu_redLead,mu_millScale))","v":51.873174337839693},{"$f":"Sigma_p(AB518,V518)","v":-18.651224059820812},{"$f":"Sigma_p(AC518,V518)","v":-19.563443703498159},{"$f":"beta_1(X518,AD518,Z518)","v":0.50496418191081804},{"$f":"beta_1(Y518,AE518,Z518)","v":0},{"$f":"k_tHole(W518,U518)","v":2.3890169999999999},{"$f":"K_t1Mu(Z518,AH518,D518,W518,U518,SIGN(X518),mu_millScale)","v":2.8548488257038303},{"$f":"K_t1Mu(Z518,AI518,D518,W518,U518,SIGN(Y518),mu_millScale)","v":1.7479925965024043},{"$f":"Sigma_hMax(AK518,X518,AF518)","v":512.80320815694222},{"$f":"Sigma_hMin(X518,Y518,AG518,AE518,AK518,AL518,AJ518,AI518,Z518,IF(L518=1,mu_redLead,mu_millScale))","v":71.635973093153581},441.16723506378867,0.13969486140817894,141.87684568769114,{"$f":"tau_n(N518,W518,U518,D518)","v":122.47235495443823},{"$f":"tau_hMax(X518,Z518,AH518,W518,U518)","v":66.376440155862653},{"$f":"tau_hMin(X518,Y518,AS518,AE518,Z518,AI518,IF(L518=1,mu_redLead,mu_millScale),W518,U518)","v":25.529828413410225},40.846611742452424]
[507,"Baron1955","R; L",2,2,13.5,50,57.2,10.32,38.1,89,null,434,186.15852000000001,0,3000000,0,"A3V2",null,507,0.76444444444444448,0.27881040892193309,0.27,186.15852000000001,0,{"$f":"IF(OR(X519>=1.6*D519*AD519,D519=1),calcLoadFraction(G519,F519,I519,J519,K519,D519,1),\"Condition for spring model not fulfilled\")","v":0.53664281459495311},{"$f":"IF(L519>2,L519,IF(L519=2,1,sigma_cl0(I519+J519)))","v":206.83023818095617},{"$f":"Sigma_cl(AA519,U519,V519,X519)","v":197.1859951205488},{"$f":"Sigma_cl(AA519,U519,V519,Y519)","v":206.83023818095617},{"$f":"sigma_Slip(AB519,W519,U519,IF(L519=1,mu_redLead,mu_millScale))","v":49.454391155898378},{"$f":"sigma_Slip(AC519,W519,U519,IF(L519=1,mu_redLead,mu_millScale))","v":51.873174337839693},{"$f":"Sigma_p(AB519,V519)","v":-18.651224059820812},{"$f":"Sigma_p(AC519,V519)","v":-19.563443703498159},{"$f":"beta_1(X519,AD519,Z519)","v":0.50496418191081804},{"$f":"beta_1(Y519,AE519,Z519)","v":0},{"$f":"k_tHole(W519,U519)","v":2.3890169999999999},{"$f":"K_t1Mu(Z519,AH519,D519,W519,U519,SIGN(X519),mu_millScale)","v":2.8548488257038303},{"$f":"K_t1Mu(Z519,AI519,D519,W519,U519,SIGN(Y519),mu_millScale)","v":1.7479925965024043},{"$f":"Sigma_hMax(AK519,X519,AF519)","v":512.80320815694222},{"$f":"Sigma_hMin(X519,Y519,AG519,AE519,AK519,AL519,AJ519,AI519,Z519,IF(L519=1,mu_redLead,mu_millScale))","v":71.635973093153581},441.16723506378867,0.13969486140817894,141.87684568769114,{"$f":"tau_n(N519,W519,U519,D519)","v":122.47235495443823},{"$f":"tau_hMax(X519,Z519,AH519,W519,U519)","v":66.376440155862653},{"$f":"tau_hMin(X519,Y519,AS519,AE519,Z519,AI519,IF(L519=1,mu_redLead,mu_millScale),W519,U519)","v":25.529828413410225},40.846611742452424]
[508,"Baron1955","R; L",2,2,13.5,50,57.2,10.32,38.1,89,null,434,186.15852000000001,0,519000,1,"A3V3","ignored; specimen initially bent",508,0.76444444444444448,0.27881040892193309,0.27,186.15852000000001,0,{"$f":"IF(OR(X520>=1.6*D520*AD520,D520=1),calcLoadFraction(G520,F520,I520,J520,K520,D520,1),\"Condition for spring model not fulfilled\")","v":0.53664281459495311},{"$f":"IF(L520>2,L520,IF(L520=2,1,sigma_cl0(I520+J520)))","v":206.83023818095617},{"$f":"Sigma_cl(AA520,U520,V520,X520)","v":197.1859951205488},{"$f":"Sigma_cl(AA520,U520,V520,Y520)","v":206.83023818095617},{"$f":"sigma_Slip(AB520,W520,U520,IF(L520=1,mu_redLead,mu_millScale))","v":49.454391155898378},{"$f":"sigma_Slip(AC520,W520,U520,IF(L520=1,mu_redLead,mu_millScale))","v":51.873174337839693},{"$f":"Sigma_p(AB520,V520)","v":-18.651224059820812},{"$f":"Sigma_p(AC520,V520)","v":-19.563443703498159},{"$f":"beta_1(X520,AD520,Z520)","v":0.50496418191081804},{"$f":"beta_1(Y520,AE520,Z520)","v":0},{"$f":"k_tHole(W520,U520)","v":2.3890169999999999},{"$f":"K_t1Mu(Z520,AH520,D520,W520,U520,SIGN(X520),mu_millScale)","v":2.8548488257038303},{"$f":"K_t1Mu(Z520,AI520,D520,W520,U520,SIGN(Y520),mu_millScale)","v":1.7479925965024043},{"$f":"Sigma_hMax(AK520,X520,AF520)","v":512.80320815694222},{"$f":"Sigma_hMin(X520,Y520,AG520,AE520,AK520,AL520,AJ520,AI520,Z520,IF(L520=1,mu_redLead,mu_millScale))","v":71.635973093153581},441.16723506378867,0.13969486140817894,141.87684568769114,{"$f":"tau_n(N520,W520,U520,D520)","v":122.47235495443823},{"$f":"tau_hMax(X520,Z520,AH520,W520,U520)","v":66.376440155862653},{"$f":"tau_hMin(X520,Y520,AS520,AE520,Z520,AI520,IF(L520=1,mu_redLead,mu_millScale),W520,U520)","v":25.529828413410225},40.846611742452424]
[509,"Baron1955","R; L",2,2,13.5,50,57.2,10.32,38.1,89,null,434,206.84280000000001,0,323400,1,"A3V4",null,509,0.76444444444444448,0.27881040892193309,0.27,206.84280000000001,0,{"$f":"IF(OR(X521>=1.6*D521*AD521,D521=1),calcLoadFraction(G521,F521,I521,J521,K521,D521,1),\"Condition for spring model not fulfilled\")","v":0.53664281459495311},{"$f":"IF(L521>2,L521,IF(L521=2,1,sigma_cl0(I521+J521)))","v":206.83023818095617},{"$f":"Sigma_cl(AA521,U521,V521,X521)","v":196.11441255828132},{"$f":"Sigma_cl(AA521,U521,V521,Y521)","v":206.83023818095617},{"$f":"sigma_Slip(AB521,W521,U521,IF(L521=1,mu_redLead,mu_millScale))","v":49.185637469016015},{"$f":"sigma_Slip(AC521,W521,U521,IF(L521=1,mu_redLead,mu_millScale))","v":51.873174337839693},{"$f":"Sigma_p(AB521,V521)","v":-18.54986632163444},{"$f":"Sigma_p(AC521,V521)","v":-19.563443703498159},{"$f":"beta_1(X521,AD521,Z521)","v":0.55688895278559303},{"$f":"beta_1(Y521,AE521,Z521)","v":0},{"$f":"k_tHole(W521,U521)","v":2.3890169999999999},{"$f":"K_t1Mu(Z521,AH521,D521,W521,U521,SIGN(X521),mu_millScale)","v":2.9655289071287974},{"$f":"K_t1Mu(Z521,AI521,D521,W521,U521,SIGN(Y521),mu_millScale)","v":1.7479925965024043},{"$f":"Sigma_hMax(AK521,X521,AF521)","v":594.84843630982596},{"$f":"Sigma_hMin(X521,Y521,AG521,AE521,AK521,AL521,AJ521,AI521,Z521,IF(L521=1,mu_redLead,mu_millScale))","v":80.207353265772113},514.64108304405386,0.13483662117924142,165.39930961095919,{"$f":"tau_n(N521,W521,U521,D521)","v":136.08039439382026},{"$f":"tau_hMax(X521,Z521,AH521,W521,U521)","v":81.335375573149122},{"$f":"tau_hMin(X521,Y521,AS521,AE521,Z521,AI521,IF(L521=1,mu_redLead,mu_millScale),W521,U521)","v":29.378580971946654},51.956794601202468]
[510,"Baron1955","R; L",2,2,13.5,50,57.2,10.32,38.1,89,null,434,206.84280000000001,0,662400,1,"A3V5",null,510,0.76444444444444448,0.27881040892193309,0.27,206.84280000000001,0,{"$f":"IF(OR(X522>=1.6*D522*AD522,D522=1),calcLoadFraction(G522,F522,I522,J522,K522,D522,1),\"Condition for spring model not fulfilled\")","v":0.53664281459495311},{"$f":"IF(L522>2,L522,IF(L522=2,1,sigma_cl0(I522+J522)))","v":206.83023818095617},{"$f":"Sigma_cl(AA522,U522,V522,X522)","v":196.11441255828132},{"$f":"Sigma_cl(AA522,U522,V522,Y522)","v":206.83023818095617},{"$f":"sigma_Slip(AB522,W522,U522,IF(L522=1,mu_redLead,mu_millScale))","v":49.185637469016015},{"$f":"sigma_Slip(AC522,W522,U522,IF(L522=1,mu_redLead,mu_millScale))","v":51.873174337839693},{"$f":"Sigma_p(AB522,V522)","v":-18.54986632163444},{"$f":"Sigma_p(AC522,V522)","v":-19.563443703498159},{"$f":"beta_1(X522,AD522,Z522)","v":0.55688895278559303},{"$f":"beta_1(Y522,AE522,Z522)","v":0},{"$f":"k_tHole(W522,U522)","v":2.3890169999999999},{"$f":"K_t1Mu(Z522,AH522,D522,W522,U522,SIGN(X522),mu_millScale)","v":2.9655289071287974},{"$f":"K_t1Mu(Z522,AI522,D522,W522,U522,SIGN(Y522),mu_millScale)","v":1.7479925965024043},{"$f":"Sigma_hMax(AK522,X522,AF522)","v":594.84843630982596},{"$f":"Sigma_hMin(X522,Y522,AG522,AE522,AK522,AL522,AJ522,AI522,Z522,IF(L522=1,mu_redLead,mu_millScale))","v":80.207353265772113},514.64108304405386,0.13483662117924142,165.39930961095919,{"$f":"tau_n(N522,W522,U522,D522)","v":136.08039439382026},{"$f":"tau_hMax(X522,Z522,AH522,W522,U522)","v":81.335375573149122},{"$f":"tau_hMin(X522,Y522,AS522,AE522,Z522,AI522,IF(L522=1,mu_redLead,mu_millScale),W522,U522)","v":29.378580971946654},51.956794601202468]
[511,"Baron1955","R; L",2,2,13.5,50,57.2,10.32,38.1,89,null,434,206.84280000000001,0,286900,1,"A3V6",null,511,0.76444444444444448,0.27881040892193309,0.27,206.84280000000001,0,{"$f":"IF(OR(X523>=1.6*D523*AD523,D523=1),calcLoadFraction(G523,F523,I523,J523,K523,D523,1),\"Condition for spring model not fulfilled\")","v":0.53664281459495311},{"$f":"IF(L523>2,L523,IF(L523=2,1,sigma_cl0(I523+J523)))","v":206.83023818095617},{"$f":"Sigma_cl(AA523,U523,V523,X523)","v":196.11441255828132},{"$f":"Sigma_cl(AA523,U523,V523,Y523)","v":206.83023818095617},{"$f":"sigma_Slip(AB523,W523,U523,IF(L523=1,mu_redLead,mu_millScale))","v":49.185637469016015},{"$f":"sigma_Slip(AC523,W523,U523,IF(L523=1,mu_redLead,mu_millScale))","v":51.873174337839693},{"$f":"Sigma_p(AB523,V523)","v":-18.54986632163444},{"$f":"Sigma_p(AC523,V523)","v":-19.563443703498159},{"$f":"beta_1(X523,AD523,Z523)","v":0.55688895278559303},{"$f":"beta_1(Y523,AE523,Z523)","v":0},{"$f":"k_tHole(W523,U523)","v":2.3890169999999999},{"$f":"K_t1Mu(Z523,AH523,D523,W523,U523,SIGN(X523),mu_millScale)","v":2.9655289071287974},{"$f":"K_t1Mu(Z523,AI523,D523,W523,U523,SIGN(Y523),mu_millScale)","v":1.7479925965024043},{"$f":"Sigma_hMax(AK523,X523,AF523)","v":594.84843630982596},{"$f":"Sigma_hMin(X523,Y523,AG523,AE523,AK523,AL523,AJ523,AI523,Z523,IF(L523=1,mu_redLead,mu_millScale))","v":80.207353265772113},514.64108304405386,0.13483662117924142,165.39930961095919,{"$f":"tau_n(N523,W523,U523,D523)","v":136.08039439382026},{"$f":"tau_hMax(X523,Z523,AH523,W523,U523)","v":81.335375573149122},{"$f":"tau_hMin(X523,Y523,AS523,AE523,Z523,AI523,IF(L523=1,mu_redLead,mu_millScale),W523,U523)","v":29.378580971946654},51.956794601202468]
[512,"Baron1955","R; L",2,3,10.3,39.700000000000003,41.3,7.14,15.88,89,null,442,186.15852000000001,0,3000000,0,"B1T1",null,512,0.6932038834951455,0.44743701129452657,0.25944584382871538,186.15852000000001,0,{"$f":"IF(OR(X524>=1.6*D524*AD524,D524=1),calcLoadFraction(G524,F524,I524,J524,K524,D524,1),\"Condition for spring model not fulfilled\")","v":0.54410782962148518},{"$f":"IF(L524>2,L524,IF(L524=2,1,sigma_cl0(I524+J524)))","v":157.34549420162355},{"$f":"Sigma_cl(AA524,U524,V524,X524)","v":145.11229255160291},{"$f":"Sigma_cl(AA524,U524,V524,Y524)","v":157.34549420162355},{"$f":"sigma_Slip(AB524,W524,U524,IF(L524=1,mu_redLead,mu_millScale))","v":38.01604459039261},{"$f":"sigma_Slip(AC524,W524,U524,IF(L524=1,mu_redLead,mu_millScale))","v":41.220858815521559},{"$f":"Sigma_p(AB524,V524)","v":-24.377656960933884},{"$f":"Sigma_p(AC524,V524)","v":-26.432732985951443},{"$f":"beta_1(X524,AD524,Z524)","v":0.62468230934521063},{"$f":"beta_1(Y524,AE524,Z524)","v":0},{"$f":"k_tHole(W524,U524)","v":2.4061350496660796},{"$f":"K_t1Mu(Z524,AH524,D524,W524,U524,SIGN(X524),mu_millScale)","v":3.1708490564292169},{"$f":"K_t1Mu(Z524,AI524,D524,W524,U524,SIGN(Y524),mu_millScale)","v":1.7515365898410822},{"$f":"Sigma_hMax(AK524,X524,AF524)","v":565.90291052732562},{"$f":"Sigma_hMin(X524,Y524,AG524,AE524,AK524,AL524,AJ524,AI524,Z524,IF(L524=1,mu_redLead,mu_millScale))","v":63.849087407308723},502.05382312001689,0.1128269288239076,{"$f":"AO524/3.16*(1-0.9*AP524)/(1-AP524)","v":160.89833286732525},{"$f":"tau_n(N524,W524,U524,D524)","v":117.24764726408856},{"$f":"tau_hMax(X524,Z524,AH524,W524,U524)","v":79.703669220148427},{"$f":"tau_hMin(X524,Y524,AS524,AE524,Z524,AI524,IF(L524=1,mu_redLead,mu_millScale),W524,U524)","v":26.424510971055977},{"$f":"(AS524-AT524)","v":53.279158249092447}]
[513,"Baron1955","R; L",2,3,10.3,39.700000000000003,41.3,7.14,15.88,89,null,442,186.15852000000001,0,1752400,1,"B1T2",null,513,0.6932038834951455,0.44743701129452657,0.25944584382871538,186.15852000000001,0,{"$f":"IF(OR(X525>=1.6*D525*AD525,D525=1),calcLoadFraction(G525,F525,I525,J525,K525,D525,1),\"Condition for spring model not fulfilled\")","v":0.54410782962148518},{"$f":"IF(L525>2,L525,IF(L525=2,1,sigma_cl0(I525+J525)))","v":157.34549420162355},{"$f":"Sigma_cl(AA525,U525,V525,X525)","v":145.11229255160291},{"$f":"Sigma_cl(AA525,U525,V525,Y525)","v":157.34549420162355},{"$f":"sigma_Slip(AB525,W525,U525,IF(L525=1,mu_redLead,mu_millScale))","v":38.01604459039261},{"$f":"sigma_Slip(AC525,W525,U525,IF(L525=1,mu_redLead,mu_millScale))","v":41.220858815521559},{"$f":"Sigma_p(AB525,V525)","v":-24.377656960933884},{"$f":"Sigma_p(AC525,V525)","v":-26.432732985951443},{"$f":"beta_1(X525,AD525,Z525)","v":0.62468230934521063},{"$f":"beta_1(Y525,AE525,Z525)","v":0},{"$f":"k_tHole(W525,U525)","v":2.4061350496660796},{"$f":"K_t1Mu(Z525,AH525,D525,W525,U525,SIGN(X525),mu_millScale)","v":3.1708490564292169},{"$f":"K_t1Mu(Z525,AI525,D525,W525,U525,SIGN(Y525),mu_millScale)","v":1.7515365898410822},{"$f":"Sigma_hMax(AK525,X525,AF525)","v":565.90291052732562},{"$f":"Sigma_hMin(X525,Y525,AG525,AE525,AK525,AL525,AJ525,AI525,Z525,IF(L525=1,mu_redLead,mu_millScale))","v":63.849087407308723},502.05382312001689,0.1128269288239076,160.89833286732525,{"$f":"tau_n(N525,W525,U525,D525)","v":117.24764726408856},{"$f":"tau_hMax(X525,Z525,AH525,W525,U525)","v":79.703669220148427},{"$f":"tau_hMin(X525,Y525,AS525,AE525,Z525,AI525,IF(L525=1,mu_redLead,mu_millScale),W525,U525)","v":26.424510971055977},53.279158249092447]
[514,"Baron1955","R; L",2,3,10.3,39.700000000000003,41.3,7.14,15.88,89,null,442,186.15852000000001,0,3000000,0,"B1T3",null,514,0.6932038834951455,0.44743701129452657,0.25944584382871538,186.15852000000001,0,{"$f":"IF(OR(X526>=1.6*D526*AD526,D526=1),calcLoadFraction(G526,F526,I526,J526,K526,D526,1),\"Condition for spring model not fulfilled\")","v":0.54410782962148518},{"$f":"IF(L526>2,L526,IF(L526=2,1,sigma_cl0(I526+J526)))","v":157.34549420162355},{"$f":"Sigma_cl(AA526,U526,V526,X526)","v":145.11229255160291},{"$f":"Sigma_cl(AA526,U526,V526,Y526)","v":157.34549420162355},{"$f":"sigma_Slip(AB526,W526,U526,IF(L526=1,mu_redLead,mu_millScale))","v":38.01604459039261},{"$f":"sigma_Slip(AC526,W526,U526,IF(L526=1,mu_redLead,mu_millScale))","v":41.220858815521559},{"$f":"Sigma_p(AB526,V526)","v":-24.377656960933884},{"$f":"Sigma_p(AC526,V526)","v":-26.432732985951443},{"$f":"beta_1(X526,AD526,Z526)","v":0.62468230934521063},{"$f":"beta_1(Y526,AE526,Z526)","v":0},{"$f":"k_tHole(W526,U526)","v":2.4061350496660796},{"$f":"K_t1Mu(Z526,AH526,D526,W526,U526,SIGN(X526),mu_millScale)","v":3.1708490564292169},{"$f":"K_t1Mu(Z526,AI526,D526,W526,U526,SIGN(Y526),mu_millScale)","v":1.7515365898410822},{"$f":"Sigma_hMax(AK526,X526,AF526)","v":565.90291052732562},{"$f":"Sigma_hMin(X526,Y526,AG526,AE526,AK526,AL526,AJ526,AI526,Z526,IF(L526=1,mu_redLead,mu_millScale))","v":63.849087407308723},502.05382312001689,0.1128269288239076,160.89833286732525,{"$f":"tau_n(N526,W526,U526,D526)","v":117.24764726408856},{"$f":"tau_hMax(X526,Z526,AH526,W526,U526)","v":79.703669220148427},{"$f":"tau_hMin(X526,Y526,AS526,AE526,Z526,AI526,IF(L526=1,mu_redLead,mu_millScale),W526,U526)","v":26.424510971055977},53.279158249092447]
[515,"Baron1955","R; L",2,3,10.3,39.700000000000003,41.3,7.14,15.88,89,null,442,206.84280000000001,0,1421500,1,"B1T4",null,515,0.6932038834951455,0.44743701129452657,0.25944584382871538,206.84280000000001,0,{"$f":"IF(OR(X527>=1.6*D527*AD527,D527=1),calcLoadFraction(G527,F527,I527,J527,K527,D527,1),\"Condition for spring model not fulfilled\")","v":0.54410782962148518},{"$f":"IF(L527>2,L527,IF(L527=2,1,sigma_cl0(I527+J527)))","v":157.34549420162355},{"$f":"Sigma_cl(AA527,U527,V527,X527)","v":143.75304792382283},{"$f":"Sigma_cl(AA527,U527,V527,Y527)","v":157.34549420162355},{"$f":"sigma_Slip(AB527,W527,U527,IF(L527=1,mu_redLead,mu_millScale))","v":37.65995412093384},{"$f":"sigma_Slip(AC527,W527,U527,IF(L527=1,mu_redLead,mu_millScale))","v":41.220858815521559},{"$f":"Sigma_p(AB527,V527)","v":-24.149315180376377},{"$f":"Sigma_p(AC527,V527)","v":-26.432732985951443},{"$f":"beta_1(X527,AD527,Z527)","v":0.66537806742352068},{"$f":"beta_1(Y527,AE527,Z527)","v":0},{"$f":"k_tHole(W527,U527)","v":2.4061350496660796},{"$f":"K_t1Mu(Z527,AH527,D527,W527,U527,SIGN(X527),mu_millScale)","v":3.248855994851314},{"$f":"K_t1Mu(Z527,AI527,D527,W527,U527,SIGN(Y527),mu_millScale)","v":1.7515365898410822},{"$f":"Sigma_hMax(AK527,X527,AF527)","v":647.85315559145499},{"$f":"Sigma_hMin(X527,Y527,AG527,AE527,AK527,AL527,AJ527,AI527,Z527,IF(L527=1,mu_redLead,mu_millScale))","v":69.487950972117829},578.36520461933719,0.10725879834401529,185.22594927738891,{"$f":"tau_n(N527,W527,U527,D527)","v":130.27516362676505},{"$f":"tau_hMax(X527,Z527,AH527,W527,U527)","v":94.328967254224438},{"$f":"tau_hMin(X527,Y527,AS527,AE527,Z527,AI527,IF(L527=1,mu_redLead,mu_millScale),W527,U527)","v":29.227687134076177},65.10128012014826]
[516,"Baron1955","R; L",2,3,10.3,39.700000000000003,41.3,7.14,15.88,89,null,442,206.84280000000001,0,2669500,1,"B1T5",null,516,0.6932038834951455,0.44743701129452657,0.25944584382871538,206.84280000000001,0,{"$f":"IF(OR(X528>=1.6*D528*AD528,D528=1),calcLoadFraction(G528,F528,I528,J528,K528,D528,1),\"Condition for spring model not fulfilled\")","v":0.54410782962148518},{"$f":"IF(L528>2,L528,IF(L528=2,1,sigma_cl0(I528+J528)))","v":157.34549420162355},{"$f":"Sigma_cl(AA528,U528,V528,X528)","v":143.75304792382283},{"$f":"Sigma_cl(AA528,U528,V528,Y528)","v":157.34549420162355},{"$f":"sigma_Slip(AB528,W528,U528,IF(L528=1,mu_redLead,mu_millScale))","v":37.65995412093384},{"$f":"sigma_Slip(AC528,W528,U528,IF(L528=1,mu_redLead,mu_millScale))","v":41.220858815521559},{"$f":"Sigma_p(AB528,V528)","v":-24.149315180376377},{"$f":"Sigma_p(AC528,V528)","v":-26.432732985951443},{"$f":"beta_1(X528,AD528,Z528)","v":0.66537806742352068},{"$f":"beta_1(Y528,AE528,Z528)","v":0},{"$f":"k_tHole(W528,U528)","v":2.4061350496660796},{"$f":"K_t1Mu(Z528,AH528,D528,W528,U528,SIGN(X528),mu_millScale)","v":3.248855994851314},{"$f":"K_t1Mu(Z528,AI528,D528,W528,U528,SIGN(Y528),mu_millScale)","v":1.7515365898410822},{"$f":"Sigma_hMax(AK528,X528,AF528)","v":647.85315559145499},{"$f":"Sigma_hMin(X528,Y528,AG528,AE528,AK528,AL528,AJ528,AI528,Z528,IF(L528=1,mu_redLead,mu_millScale))","v":69.487950972117829},578.36520461933719,0.10725879834401529,185.22594927738891,{"$f":"tau_n(N528,W528,U528,D528)","v":130.27516362676505},{"$f":"tau_hMax(X528,Z528,AH528,W528,U528)","v":94.328967254224438},{"$f":"tau_hMin(X528,Y528,AS528,AE528,Z528,AI528,IF(L528=1,mu_redLead,mu_millScale),W528,U528)","v":29.227687134076177},65.10128012014826]
[517,"Baron1955","R; L",2,3,10.3,39.700000000000003,41.3,7.14,15.88,89,null,442,206.84280000000001,0,2262400,1,"B1T6",null,517,0.6932038834951455,0.44743701129452657,0.25944584382871538,206.84280000000001,0,{"$f":"IF(OR(X529>=1.6*D529*AD529,D529=1),calcLoadFraction(G529,F529,I529,J529,K529,D529,1),\"Condition for spring model not fulfilled\")","v":0.54410782962148518},{"$f":"IF(L529>2,L529,IF(L529=2,1,sigma_cl0(I529+J529)))","v":157.34549420162355},{"$f":"Sigma_cl(AA529,U529,V529,X529)","v":143.75304792382283},{"$f":"Sigma_cl(AA529,U529,V529,Y529)","v":157.34549420162355},{"$f":"sigma_Slip(AB529,W529,U529,IF(L529=1,mu_redLead,mu_millScale))","v":37.65995412093384},{"$f":"sigma_Slip(AC529,W529,U529,IF(L529=1,mu_redLead,mu_millScale))","v":41.220858815521559},{"$f":"Sigma_p(AB529,V529)","v":-24.149315180376377},{"$f":"Sigma_p(AC529,V529)","v":-26.432732985951443},{"$f":"beta_1(X529,AD529,Z529)","v":0.66537806742352068},{"$f":"beta_1(Y529,AE529,Z529)","v":0},{"$f":"k_tHole(W529,U529)","v":2.4061350496660796},{"$f":"K_t1Mu(Z529,AH529,D529,W529,U529,SIGN(X529),mu_millScale)","v":3.248855994851314},{"$f":"K_t1Mu(Z529,AI529,D529,W529,U529,SIGN(Y529),mu_millScale)","v":1.7515365898410822},{"$f":"Sigma_hMax(AK529,X529,AF529)","v":647.85315559145499},{"$f":"Sigma_hMin(X529,Y529,AG529,AE529,AK529,AL529,AJ529,AI529,Z529,IF(L529=1,mu_redLead,mu_millScale))","v":69.487950972117829},578.36520461933719,0.10725879834401529,185.22594927738891,{"$f":"tau_n(N529,W529,U529,D529)","v":130.27516362676505},{"$f":"tau_hMax(X529,Z529,AH529,W529,U529)","v":94.328967254224438},{"$f":"tau_hMin(X529,Y529,AS529,AE529,Z529,AI529,IF(L529=1,mu_redLead,mu_millScale),W529,U529)","v":29.227687134076177},65.10128012014826]
[518,"Baron1955","R; L",2,3,10.3,39.700000000000003,41.3,7.14,15.88,89,null,411,186.15852000000001,0,2364600,1,"B1X1",null,518,0.6932038834951455,0.44743701129452657,0.25944584382871538,186.15852000000001,0,{"$f":"IF(OR(X530>=1.6*D530*AD530,D530=1),calcLoadFraction(G530,F530,I530,J530,K530,D530,1),\"Condition for spring model not fulfilled\")","v":0.54410782962148518},{"$f":"IF(L530>2,L530,IF(L530=2,1,sigma_cl0(I530+J530)))","v":157.34549420162355},{"$f":"Sigma_cl(AA530,U530,V530,X530)","v":145.11229255160291},{"$f":"Sigma_cl(AA530,U530,V530,Y530)","v":157.34549420162355},{"$f":"sigma_Slip(AB530,W530,U530,IF(L530=1,mu_redLead,mu_millScale))","v":38.01604459039261},{"$f":"sigma_Slip(AC530,W530,U530,IF(L530=1,mu_redLead,mu_millScale))","v":41.220858815521559},{"$f":"Sigma_p(AB530,V530)","v":-24.377656960933884},{"$f":"Sigma_p(AC530,V530)","v":-26.432732985951443},{"$f":"beta_1(X530,AD530,Z530)","v":0.62468230934521063},{"$f":"beta_1(Y530,AE530,Z530)","v":0},{"$f":"k_tHole(W530,U530)","v":2.4061350496660796},{"$f":"K_t1Mu(Z530,AH530,D530,W530,U530,SIGN(X530),mu_millScale)","v":3.1708490564292169},{"$f":"K_t1Mu(Z530,AI530,D530,W530,U530,SIGN(Y530),mu_millScale)","v":1.7515365898410822},{"$f":"Sigma_hMax(AK530,X530,AF530)","v":565.90291052732562},{"$f":"Sigma_hMin(X530,Y530,AG530,AE530,AK530,AL530,AJ530,AI530,Z530,IF(L530=1,mu_redLead,mu_millScale))","v":63.849087407308723},502.05382312001689,0.1128269288239076,160.89833286732525,{"$f":"tau_n(N530,W530,U530,D530)","v":117.24764726408856},{"$f":"tau_hMax(X530,Z530,AH530,W530,U530)","v":79.703669220148427},{"$f":"tau_hMin(X530,Y530,AS530,AE530,Z530,AI530,IF(L530=1,mu_redLead,mu_millScale),W530,U530)","v":26.424510971055977},53.279158249092447]
[519,"Baron1955","R; L",2,3,10.3,39.700000000000003,41.3,7.14,15.88,89,null,411,186.15852000000001,0,3000000,0,"B1X2",null,519,0.6932038834951455,0.44743701129452657,0.25944584382871538,186.15852000000001,0,{"$f":"IF(OR(X531>=1.6*D531*AD531,D531=1),calcLoadFraction(G531,F531,I531,J531,K531,D531,1),\"Condition for spring model not fulfilled\")","v":0.54410782962148518},{"$f":"IF(L531>2,L531,IF(L531=2,1,sigma_cl0(I531+J531)))","v":157.34549420162355},{"$f":"Sigma_cl(AA531,U531,V531,X531)","v":145.11229255160291},{"$f":"Sigma_cl(AA531,U531,V531,Y531)","v":157.34549420162355},{"$f":"sigma_Slip(AB531,W531,U531,IF(L531=1,mu_redLead,mu_millScale))","v":38.01604459039261},{"$f":"sigma_Slip(AC531,W531,U531,IF(L531=1,mu_redLead,mu_millScale))","v":41.220858815521559},{"$f":"Sigma_p(AB531,V531)","v":-24.377656960933884},{"$f":"Sigma_p(AC531,V531)","v":-26.432732985951443},{"$f":"beta_1(X531,AD531,Z531)","v":0.62468230934521063},{"$f":"beta_1(Y531,AE531,Z531)","v":0},{"$f":"k_tHole(W531,U531)","v":2.4061350496660796},{"$f":"K_t1Mu(Z531,AH531,D531,W531,U531,SIGN(X531),mu_millScale)","v":3.1708490564292169},{"$f":"K_t1Mu(Z531,AI531,D531,W531,U531,SIGN(Y531),mu_millScale)","v":1.7515365898410822},{"$f":"Sigma_hMax(AK531,X531,AF531)","v":565.90291052732562},{"$f":"Sigma_hMin(X531,Y531,AG531,AE531,AK531,AL531,AJ531,AI531,Z531,IF(L531=1,mu_redLead,mu_millScale))","v":63.849087407308723},502.05382312001689,0.1128269288239076,160.89833286732525,{"$f":"tau_n(N531,W531,U531,D531)","v":117.24764726408856},{"$f":"tau_hMax(X531,Z531,AH531,W531,U531)","v":79.703669220148427},{"$f":"tau_hMin(X531,Y531,AS531,AE531,Z531,AI531,IF(L531=1,mu_redLead,mu_millScale),W531,U531)","v":26.424510971055977},53.279158249092447]
[520,"Baron1955","R; L",2,3,10.3,39.700000000000003,41.3,7.14,15.88,89,null,411,186.15852000000001,0,2367200,1,"B1X3",null,520,0.6932038834951455,0.44743701129452657,0.25944584382871538,186.15852000000001,0,{"$f":"IF(OR(X532>=1.6*D532*AD532,D532=1),calcLoadFraction(G532,F532,I532,J532,K532,D532,1),\"Condition for spring model not fulfilled\")","v":0.54410782962148518},{"$f":"IF(L532>2,L532,IF(L532=2,1,sigma_cl0(I532+J532)))","v":157.34549420162355},{"$f":"Sigma_cl(AA532,U532,V532,X532)","v":145.11229255160291},{"$f":"Sigma_cl(AA532,U532,V532,Y532)","v":157.34549420162355},{"$f":"sigma_Slip(AB532,W532,U532,IF(L532=1,mu_redLead,mu_millScale))","v":38.01604459039261},{"$f":"sigma_Slip(AC532,W532,U532,IF(L532=1,mu_redLead,mu_millScale))","v":41.220858815521559},{"$f":"Sigma_p(AB532,V532)","v":-24.377656960933884},{"$f":"Sigma_p(AC532,V532)","v":-26.432732985951443},{"$f":"beta_1(X532,AD532,Z532)","v":0.62468230934521063},{"$f":"beta_1(Y532,AE532,Z532)","v":0},{"$f":"k_tHole(W532,U532)","v":2.4061350496660796},{"$f":"K_t1Mu(Z532,AH532,D532,W532,U532,SIGN(X532),mu_millScale)","v":3.1708490564292169},{"$f":"K_t1Mu(Z532,AI532,D532,W532,U532,SIGN(Y532),mu_millScale)","v":1.7515365898410822},{"$f":"Sigma_hMax(AK532,X532,AF532)","v":565.90291052732562},{"$f":"Sigma_hMin(X532,Y532,AG532,AE532,AK532,AL532,AJ532,AI532,Z532,IF(L532=1,mu_redLead,mu_millScale))","v":63.849087407308723},502.05382312001689,0.1128269288239076,160.89833286732525,{"$f":"tau_n(N532,W532,U532,D532)","v":117.24764726408856},{"$f":"tau_hMax(X532,Z532,AH532,W532,U532)","v":79.703669220148427},{"$f":"tau_hMin(X532,Y532,AS532,AE532,Z532,AI532,IF(L532=1,mu_redLead,mu_millScale),W532,U532)","v":26.424510971055977},53.279158249092447]
[521,"Baron1955","R; L",2,3,10.3,39.700000000000003,41.3,7.14,15.88,89,null,411,206.84280000000001,0,2206900,1,"B1X4",null,521,0.6932038834951455,0.44743701129452657,0.25944584382871538,206.84280000000001,0,{"$f":"IF(OR(X533>=1.6*D533*AD533,D533=1),calcLoadFraction(G533,F533,I533,J533,K533,D533,1),\"Condition for spring model not fulfilled\")","v":0.54410782962148518},{"$f":"IF(L533>2,L533,IF(L533=2,1,sigma_cl0(I533+J533)))","v":157.34549420162355},{"$f":"Sigma_cl(AA533,U533,V533,X533)","v":143.75304792382283},{"$f":"Sigma_cl(AA533,U533,V533,Y533)","v":157.34549420162355},{"$f":"sigma_Slip(AB533,W533,U533,IF(L533=1,mu_redLead,mu_millScale))","v":37.65995412093384},{"$f":"sigma_Slip(AC533,W533,U533,IF(L533=1,mu_redLead,mu_millScale))","v":41.220858815521559},{"$f":"Sigma_p(AB533,V533)","v":-24.149315180376377},{"$f":"Sigma_p(AC533,V533)","v":-26.432732985951443},{"$f":"beta_1(X533,AD533,Z533)","v":0.66537806742352068},{"$f":"beta_1(Y533,AE533,Z533)","v":0},{"$f":"k_tHole(W533,U533)","v":2.4061350496660796},{"$f":"K_t1Mu(Z533,AH533,D533,W533,U533,SIGN(X533),mu_millScale)","v":3.248855994851314},{"$f":"K_t1Mu(Z533,AI533,D533,W533,U533,SIGN(Y533),mu_millScale)","v":1.7515365898410822},{"$f":"Sigma_hMax(AK533,X533,AF533)","v":647.85315559145499},{"$f":"Sigma_hMin(X533,Y533,AG533,AE533,AK533,AL533,AJ533,AI533,Z533,IF(L533=1,mu_redLead,mu_millScale))","v":69.487950972117829},578.36520461933719,0.10725879834401529,185.22594927738891,{"$f":"tau_n(N533,W533,U533,D533)","v":130.27516362676505},{"$f":"tau_hMax(X533,Z533,AH533,W533,U533)","v":94.328967254224438},{"$f":"tau_hMin(X533,Y533,AS533,AE533,Z533,AI533,IF(L533=1,mu_redLead,mu_millScale),W533,U533)","v":29.227687134076177},65.10128012014826]
[522,"Baron1955","R; L",2,3,10.3,39.700000000000003,41.3,7.14,15.88,89,null,411,206.84280000000001,0,264500,1,"B1X5","ignored; specimen initially bent",522,0.6932038834951455,0.44743701129452657,0.25944584382871538,206.84280000000001,0,{"$f":"IF(OR(X534>=1.6*D534*AD534,D534=1),calcLoadFraction(G534,F534,I534,J534,K534,D534,1),\"Condition for spring model not fulfilled\")","v":0.54410782962148518},{"$f":"IF(L534>2,L534,IF(L534=2,1,sigma_cl0(I534+J534)))","v":157.34549420162355},{"$f":"Sigma_cl(AA534,U534,V534,X534)","v":143.75304792382283},{"$f":"Sigma_cl(AA534,U534,V534,Y534)","v":157.34549420162355},{"$f":"sigma_Slip(AB534,W534,U534,IF(L534=1,mu_redLead,mu_millScale))","v":37.65995412093384},{"$f":"sigma_Slip(AC534,W534,U534,IF(L534=1,mu_redLead,mu_millScale))","v":41.220858815521559},{"$f":"Sigma_p(AB534,V534)","v":-24.149315180376377},{"$f":"Sigma_p(AC534,V534)","v":-26.432732985951443},{"$f":"beta_1(X534,AD534,Z534)","v":0.66537806742352068},{"$f":"beta_1(Y534,AE534,Z534)","v":0},{"$f":"k_tHole(W534,U534)","v":2.4061350496660796},{"$f":"K_t1Mu(Z534,AH534,D534,W534,U534,SIGN(X534),mu_millScale)","v":3.248855994851314},{"$f":"K_t1Mu(Z534,AI534,D534,W534,U534,SIGN(Y534),mu_millScale)","v":1.7515365898410822},{"$f":"Sigma_hMax(AK534,X534,AF534)","v":647.85315559145499},{"$f":"Sigma_hMin(X534,Y534,AG534,AE534,AK534,AL534,AJ534,AI534,Z534,IF(L534=1,mu_redLead,mu_millScale))","v":69.487950972117829},578.36520461933719,0.10725879834401529,185.22594927738891,{"$f":"tau_n(N534,W534,U534,D534)","v":130.27516362676505},{"$f":"tau_hMax(X534,Z534,AH534,W534,U534)","v":94.328967254224438},{"$f":"tau_hMin(X534,Y534,AS534,AE534,Z534,AI534,IF(L534=1,mu_redLead,mu_millScale),W534,U534)","v":29.227687134076177},65.10128012014826]
[523,"Baron1955","R; L",2,3,10.3,39.700000000000003,41.3,7.14,15.88,89,null,411,206.84280000000001,0,1235700,0,"B1X6","failed in grip end",523,0.6932038834951455,0.44743701129452657,0.25944584382871538,206.84280000000001,0,{"$f":"IF(OR(X535>=1.6*D535*AD535,D535=1),calcLoadFraction(G535,F535,I535,J535,K535,D535,1),\"Condition for spring model not fulfilled\")","v":0.54410782962148518},{"$f":"IF(L535>2,L535,IF(L535=2,1,sigma_cl0(I535+J535)))","v":157.34549420162355},{"$f":"Sigma_cl(AA535,U535,V535,X535)","v":143.75304792382283},{"$f":"Sigma_cl(AA535,U535,V535,Y535)","v":157.34549420162355},{"$f":"sigma_Slip(AB535,W535,U535,IF(L535=1,mu_redLead,mu_millScale))","v":37.65995412093384},{"$f":"sigma_Slip(AC535,W535,U535,IF(L535=1,mu_redLead,mu_millScale))","v":41.220858815521559},{"$f":"Sigma_p(AB535,V535)","v":-24.149315180376377},{"$f":"Sigma_p(AC535,V535)","v":-26.432732985951443},{"$f":"beta_1(X535,AD535,Z535)","v":0.66537806742352068},{"$f":"beta_1(Y535,AE535,Z535)","v":0},{"$f":"k_tHole(W535,U535)","v":2.4061350496660796},{"$f":"K_t1Mu(Z535,AH535,D535,W535,U535,SIGN(X535),mu_millScale)","v":3.248855994851314},{"$f":"K_t1Mu(Z535,AI535,D535,W535,U535,SIGN(Y535),mu_millScale)","v":1.7515365898410822},{"$f":"Sigma_hMax(AK535,X535,AF535)","v":647.85315559145499},{"$f":"Sigma_hMin(X535,Y535,AG535,AE535,AK535,AL535,AJ535,AI535,Z535,IF(L535=1,mu_redLead,mu_millScale))","v":69.487950972117829},578.36520461933719,0.10725879834401529,185.22594927738891,{"$f":"tau_n(N535,W535,U535,D535)","v":130.27516362676505},{"$f":"tau_hMax(X535,Z535,AH535,W535,U535)","v":94.328967254224438},{"$f":"tau_hMin(X535,Y535,AS535,AE535,Z535,AI535,IF(L535=1,mu_redLead,mu_millScale),W535,U535)","v":29.227687134076177},65.10128012014826]
[524,"Baron1955","R; L",2,3,11.9,43.3,48.4,8.73,14.29,89,null,438,165.47424000000001,0,3000000,0,"B2U1",null,524,0.73361344537815132,0.51694178974804517,0.27482678983833719,165.47424000000001,0,{"$f":"IF(OR(X536>=1.6*D536*AD536,D536=1),calcLoadFraction(G536,F536,I536,J536,K536,D536,1),\"Condition for spring model not fulfilled\")","v":0.52869951952116911},{"$f":"IF(L536>2,L536,IF(L536=2,1,sigma_cl0(I536+J536)))","v":157.34549420162355},{"$f":"Sigma_cl(AA536,U536,V536,X536)","v":144.70325487734874},{"$f":"Sigma_cl(AA536,U536,V536,Y536)","v":157.34549420162355},{"$f":"sigma_Slip(AB536,W536,U536,IF(L536=1,mu_redLead,mu_millScale))","v":38.749147192868953},{"$f":"sigma_Slip(AC536,W536,U536,IF(L536=1,mu_redLead,mu_millScale))","v":42.13453056132893},{"$f":"Sigma_p(AB536,V536)","v":-28.584499236585504},{"$f":"Sigma_p(AC536,V536)","v":-31.081831315395792},{"$f":"beta_1(X536,AD536,Z536)","v":0.55708250197630671},{"$f":"beta_1(Y536,AE536,Z536)","v":0},{"$f":"k_tHole(W536,U536)","v":2.3813513210326969},{"$f":"K_t1Mu(Z536,AH536,D536,W536,U536,SIGN(X536),mu_millScale)","v":2.9270608488912013},{"$f":"K_t1Mu(Z536,AI536,D536,W536,U536,SIGN(Y536),mu_millScale)","v":1.7518416714121527},{"$f":"Sigma_hMax(AK536,X536,AF536)","v":455.76867016744092},{"$f":"Sigma_hMin(X536,Y536,AG536,AE536,AK536,AL536,AJ536,AI536,Z536,IF(L536=1,mu_redLead,mu_millScale))","v":48.164148534048721},407.60452163339221,0.10567674280102253,130.51295458442948,{"$f":"tau_n(N536,W536,U536,D536)","v":101.96015582442942},{"$f":"tau_hMax(X536,Z536,AH536,W536,U536)","v":60.060496679833648},{"$f":"tau_hMin(X536,Y536,AS536,AE536,Z536,AI536,IF(L536=1,mu_redLead,mu_millScale),W536,U536)","v":22.092087428226098},37.968409251607554]
[525,"Baron1955","R; L",2,3,11.9,43.3,48.4,8.73,14.29,89,null,438,186.15852000000001,0,1282400,1,"B2U2",null,525,0.73361344537815132,0.51694178974804517,0.27482678983833719,186.15852000000001,0,{"$f":"IF(OR(X537>=1.6*D537*AD537,D537=1),calcLoadFraction(G537,F537,I537,J537,K537,D537,1),\"Condition for spring model not fulfilled\")","v":0.52869951952116911},{"$f":"IF(L537>2,L537,IF(L537=2,1,sigma_cl0(I537+J537)))","v":157.34549420162355},{"$f":"Sigma_cl(AA537,U537,V537,X537)","v":143.12297496181438},{"$f":"Sigma_cl(AA537,U537,V537,Y537)","v":157.34549420162355},{"$f":"sigma_Slip(AB537,W537,U537,IF(L537=1,mu_redLead,mu_millScale))","v":38.325974271811454},{"$f":"sigma_Slip(AC537,W537,U537,IF(L537=1,mu_redLead,mu_millScale))","v":42.13453056132893},{"$f":"Sigma_p(AB537,V537)","v":-28.272332726734213},{"$f":"Sigma_p(AC537,V537)","v":-31.081831315395792},{"$f":"beta_1(X537,AD537,Z537)","v":0.61059513733183346},{"$f":"beta_1(Y537,AE537,Z537)","v":0},{"$f":"k_tHole(W537,U537)","v":2.3813513210326969},{"$f":"K_t1Mu(Z537,AH537,D537,W537,U537,SIGN(X537),mu_millScale)","v":3.0306803079736637},{"$f":"K_t1Mu(Z537,AI537,D537,W537,U537,SIGN(Y537),mu_millScale)","v":1.7518416714121527},{"$f":"Sigma_hMax(AK537,X537,AF537)","v":535.9146279987873},{"$f":"Sigma_hMin(X537,Y537,AG537,AE537,AK537,AL537,AJ537,AI537,Z537,IF(L537=1,mu_redLead,mu_millScale))","v":55.259830940934663},480.65479705785265,0.10311312297498942,153.85467726327408,{"$f":"tau_n(N537,W537,U537,D537)","v":114.7051753024831},{"$f":"tau_hMax(X537,Z537,AH537,W537,U537)","v":74.05856040062983},{"$f":"tau_hMin(X537,Y537,AS537,AE537,Z537,AI537,IF(L537=1,mu_redLead,mu_millScale),W537,U537)","v":25.346385274125478},48.712175126504349]
[526,"Baron1955","R; L",2,3,11.9,43.3,48.4,8.73,14.29,89,null,438,186.15852000000001,0,661600,1,"B2U3",null,526,0.73361344537815132,0.51694178974804517,0.27482678983833719,186.15852000000001,0,{"$f":"IF(OR(X538>=1.6*D538*AD538,D538=1),calcLoadFraction(G538,F538,I538,J538,K538,D538,1),\"Condition for spring model not fulfilled\")","v":0.52869951952116911},{"$f":"IF(L538>2,L538,IF(L538=2,1,sigma_cl0(I538+J538)))","v":157.34549420162355},{"$f":"Sigma_cl(AA538,U538,V538,X538)","v":143.12297496181438},{"$f":"Sigma_cl(AA538,U538,V538,Y538)","v":157.34549420162355},{"$f":"sigma_Slip(AB538,W538,U538,IF(L538=1,mu_redLead,mu_millScale))","v":38.325974271811454},{"$f":"sigma_Slip(AC538,W538,U538,IF(L538=1,mu_redLead,mu_millScale))","v":42.13453056132893},{"$f":"Sigma_p(AB538,V538)","v":-28.272332726734213},{"$f":"Sigma_p(AC538,V538)","v":-31.081831315395792},{"$f":"beta_1(X538,AD538,Z538)","v":0.61059513733183346},{"$f":"beta_1(Y538,AE538,Z538)","v":0},{"$f":"k_tHole(W538,U538)","v":2.3813513210326969},{"$f":"K_t1Mu(Z538,AH538,D538,W538,U538,SIGN(X538),mu_millScale)","v":3.0306803079736637},{"$f":"K_t1Mu(Z538,AI538,D538,W538,U538,SIGN(Y538),mu_millScale)","v":1.7518416714121527},{"$f":"Sigma_hMax(AK538,X538,AF538)","v":535.9146279987873},{"$f":"Sigma_hMin(X538,Y538,AG538,AE538,AK538,AL538,AJ538,AI538,Z538,IF(L538=1,mu_redLead,mu_millScale))","v":55.259830940934663},480.65479705785265,0.10311312297498942,153.85467726327408,{"$f":"tau_n(N538,W538,U538,D538)","v":114.7051753024831},{"$f":"tau_hMax(X538,Z538,AH538,W538,U538)","v":74.05856040062983},{"$f":"tau_hMin(X538,Y538,AS538,AE538,Z538,AI538,IF(L538=1,mu_redLead,mu_millScale),W538,U538)","v":25.346385274125478},48.712175126504349]
[527,"Baron1955","R; L",2,3,11.9,43.3,48.4,8.73,14.29,89,null,438,186.15852000000001,0,1110300,1,"B2U4",null,527,0.73361344537815132,0.51694178974804517,0.27482678983833719,186.15852000000001,0,{"$f":"IF(OR(X539>=1.6*D539*AD539,D539=1),calcLoadFraction(G539,F539,I539,J539,K539,D539,1),\"Condition for spring model not fulfilled\")","v":0.52869951952116911},{"$f":"IF(L539>2,L539,IF(L539=2,1,sigma_cl0(I539+J539)))","v":157.34549420162355},{"$f":"Sigma_cl(AA539,U539,V539,X539)","v":143.12297496181438},{"$f":"Sigma_cl(AA539,U539,V539,Y539)","v":157.34549420162355},{"$f":"sigma_Slip(AB539,W539,U539,IF(L539=1,mu_redLead,mu_millScale))","v":38.325974271811454},{"$f":"sigma_Slip(AC539,W539,U539,IF(L539=1,mu_redLead,mu_millScale))","v":42.13453056132893},{"$f":"Sigma_p(AB539,V539)","v":-28.272332726734213},{"$f":"Sigma_p(AC539,V539)","v":-31.081831315395792},{"$f":"beta_1(X539,AD539,Z539)","v":0.61059513733183346},{"$f":"beta_1(Y539,AE539,Z539)","v":0},{"$f":"k_tHole(W539,U539)","v":2.3813513210326969},{"$f":"K_t1Mu(Z539,AH539,D539,W539,U539,SIGN(X539),mu_millScale)","v":3.0306803079736637},{"$f":"K_t1Mu(Z539,AI539,D539,W539,U539,SIGN(Y539),mu_millScale)","v":1.7518416714121527},{"$f":"Sigma_hMax(AK539,X539,AF539)","v":535.9146279987873},{"$f":"Sigma_hMin(X539,Y539,AG539,AE539,AK539,AL539,AJ539,AI539,Z539,IF(L539=1,mu_redLead,mu_millScale))","v":55.259830940934663},480.65479705785265,0.10311312297498942,153.85467726327408,{"$f":"tau_n(N539,W539,U539,D539)","v":114.7051753024831},{"$f":"tau_hMax(X539,Z539,AH539,W539,U539)","v":74.05856040062983},{"$f":"tau_hMin(X539,Y539,AS539,AE539,Z539,AI539,IF(L539=1,mu_redLead,mu_millScale),W539,U539)","v":25.346385274125478},48.712175126504349]
[528,"Baron1955","R; L",2,3,11.9,43.3,48.4,8.73,14.29,89,null,438,206.84280000000001,0,613900,1,"B2U5",null,528,0.73361344537815132,0.51694178974804517,0.27482678983833719,206.84280000000001,0,{"$f":"IF(OR(X540>=1.6*D540*AD540,D540=1),calcLoadFraction(G540,F540,I540,J540,K540,D540,1),\"Condition for spring model not fulfilled\")","v":0.52869951952116911},{"$f":"IF(L540>2,L540,IF(L540=2,1,sigma_cl0(I540+J540)))","v":157.34549420162355},{"$f":"Sigma_cl(AA540,U540,V540,X540)","v":141.54269504628004},{"$f":"Sigma_cl(AA540,U540,V540,Y540)","v":157.34549420162355},{"$f":"sigma_Slip(AB540,W540,U540,IF(L540=1,mu_redLead,mu_millScale))","v":37.902801350753961},{"$f":"sigma_Slip(AC540,W540,U540,IF(L540=1,mu_redLead,mu_millScale))","v":42.13453056132893},{"$f":"Sigma_p(AB540,V540)","v":-27.960166216882932},{"$f":"Sigma_p(AC540,V540)","v":-31.081831315395792},{"$f":"beta_1(X540,AD540,Z540)","v":0.65340524561625479},{"$f":"beta_1(Y540,AE540,Z540)","v":0},{"$f":"k_tHole(W540,U540)","v":2.3813513210326969},{"$f":"K_t1Mu(Z540,AH540,D540,W540,U540,SIGN(X540),mu_millScale)","v":3.1078467927418258},{"$f":"K_t1Mu(Z540,AI540,D540,W540,U540,SIGN(Y540),mu_millScale)","v":1.7518416714121527},{"$f":"Sigma_hMax(AK540,X540,AF540)","v":614.87556636485601},{"$f":"Sigma_hMin(X540,Y540,AG540,AE540,AK540,AL540,AJ540,AI540,Z540,IF(L540=1,mu_redLead,mu_millScale))","v":60.988862550999251},553.8867038138568,9.9188951207746581E-2,177.21062976865718,{"$f":"tau_n(N540,W540,U540,D540)","v":127.45019478053678},{"$f":"tau_hMax(X540,Z540,AH540,W540,U540)","v":88.056624121426012},{"$f":"tau_hMin(X540,Y540,AS540,AE540,Z540,AI540,IF(L540=1,mu_redLead,mu_millScale),W540,U540)","v":28.193085037727361},59.863539083698655]
[529,"Baron1955","R; L",2,3,11.9,43.3,48.4,8.73,14.29,89,null,438,206.84280000000001,0,774700,1,"B2U6",null,529,0.73361344537815132,0.51694178974804517,0.27482678983833719,206.84280000000001,0,{"$f":"IF(OR(X541>=1.6*D541*AD541,D541=1),calcLoadFraction(G541,F541,I541,J541,K541,D541,1),\"Condition for spring model not fulfilled\")","v":0.52869951952116911},{"$f":"IF(L541>2,L541,IF(L541=2,1,sigma_cl0(I541+J541)))","v":157.34549420162355},{"$f":"Sigma_cl(AA541,U541,V541,X541)","v":141.54269504628004},{"$f":"Sigma_cl(AA541,U541,V541,Y541)","v":157.34549420162355},{"$f":"sigma_Slip(AB541,W541,U541,IF(L541=1,mu_redLead,mu_millScale))","v":37.902801350753961},{"$f":"sigma_Slip(AC541,W541,U541,IF(L541=1,mu_redLead,mu_millScale))","v":42.13453056132893},{"$f":"Sigma_p(AB541,V541)","v":-27.960166216882932},{"$f":"Sigma_p(AC541,V541)","v":-31.081831315395792},{"$f":"beta_1(X541,AD541,Z541)","v":0.65340524561625479},{"$f":"beta_1(Y541,AE541,Z541)","v":0},{"$f":"k_tHole(W541,U541)","v":2.3813513210326969},{"$f":"K_t1Mu(Z541,AH541,D541,W541,U541,SIGN(X541),mu_millScale)","v":3.1078467927418258},{"$f":"K_t1Mu(Z541,AI541,D541,W541,U541,SIGN(Y541),mu_millScale)","v":1.7518416714121527},{"$f":"Sigma_hMax(AK541,X541,AF541)","v":614.87556636485601},{"$f":"Sigma_hMin(X541,Y541,AG541,AE541,AK541,AL541,AJ541,AI541,Z541,IF(L541=1,mu_redLead,mu_millScale))","v":60.988862550999251},553.8867038138568,9.9188951207746581E-2,177.21062976865718,{"$f":"tau_n(N541,W541,U541,D541)","v":127.45019478053678},{"$f":"tau_hMax(X541,Z541,AH541,W541,U541)","v":88.056624121426012},{"$f":"tau_hMin(X541,Y541,AS541,AE541,Z541,AI541,IF(L541=1,mu_redLead,mu_millScale),W541,U541)","v":28.193085037727361},59.863539083698655]
[530,"Baron1955","R; L",2,3,13.5,47.2,56.4,10.32,12.7,89,null,434,186.15852000000001,0,1097600,1,"B3V1",null,530,0.76444444444444448,0.58644656820156382,0.28601694915254233,186.15852000000001,0,{"$f":"IF(OR(X542>=1.6*D542*AD542,D542=1),calcLoadFraction(G542,F542,I542,J542,K542,D542,1),\"Condition for spring model not fulfilled\")","v":0.51244025198898446},{"$f":"IF(L542>2,L542,IF(L542=2,1,sigma_cl0(I542+J542)))","v":157.34549420162355},{"$f":"Sigma_cl(AA542,U542,V542,X542)","v":141.30328706415099},{"$f":"Sigma_cl(AA542,U542,V542,Y542)","v":157.34549420162355},{"$f":"sigma_Slip(AB542,W542,U542,IF(L542=1,mu_redLead,mu_millScale))","v":38.383451213435229},{"$f":"sigma_Slip(AC542,W542,U542,IF(L542=1,mu_redLead,mu_millScale))","v":42.741136641782347},{"$f":"Sigma_p(AB542,V542)","v":-31.9952018977291},{"$f":"Sigma_p(AC542,V542)","v":-35.627627348777537},{"$f":"beta_1(X542,AD542,Z542)","v":0.59763715736655221},{"$f":"beta_1(Y542,AE542,Z542)","v":0},{"$f":"k_tHole(W542,U542)","v":2.363968422784827},{"$f":"K_t1Mu(Z542,AH542,D542,W542,U542,SIGN(X542),mu_millScale)","v":2.9291489045907078},{"$f":"K_t1Mu(Z542,AI542,D542,W542,U542,SIGN(Y542),mu_millScale)","v":1.7582721356518975},{"$f":"Sigma_hMax(AK542,X542,AF542)","v":513.29082304049825},{"$f":"Sigma_hMin(X542,Y542,AG542,AE542,AK542,AL542,AJ542,AI542,Z542,IF(L542=1,mu_redLead,mu_millScale))","v":47.554528097373925},465.73629494312434,9.264636335339646E-2,148.88979359267773,{"$f":"tau_n(N542,W542,U542,D542)","v":113.07721539628957},{"$f":"tau_hMax(X542,Z542,AH542,W542,U542)","v":69.260548772604764},{"$f":"tau_hMin(X542,Y542,AS542,AE542,Z542,AI542,IF(L542=1,mu_redLead,mu_millScale),W542,U542)","v":24.381762336625833},44.878786435978931]
[531,"Baron1955","R; L",2,3,13.5,47.2,56.4,10.32,12.7,89,null,434,186.15852000000001,0,1035100,1,"B3V2",null,531,0.76444444444444448,0.58644656820156382,0.28601694915254233,186.15852000000001,0,{"$f":"IF(OR(X543>=1.6*D543*AD543,D543=1),calcLoadFraction(G543,F543,I543,J543,K543,D543,1),\"Condition for spring model not fulfilled\")","v":0.51244025198898446},{"$f":"IF(L543>2,L543,IF(L543=2,1,sigma_cl0(I543+J543)))","v":157.34549420162355},{"$f":"Sigma_cl(AA543,U543,V543,X543)","v":141.30328706415099},{"$f":"Sigma_cl(AA543,U543,V543,Y543)","v":157.34549420162355},{"$f":"sigma_Slip(AB543,W543,U543,IF(L543=1,mu_redLead,mu_millScale))","v":38.383451213435229},{"$f":"sigma_Slip(AC543,W543,U543,IF(L543=1,mu_redLead,mu_millScale))","v":42.741136641782347},{"$f":"Sigma_p(AB543,V543)","v":-31.9952018977291},{"$f":"Sigma_p(AC543,V543)","v":-35.627627348777537},{"$f":"beta_1(X543,AD543,Z543)","v":0.59763715736655221},{"$f":"beta_1(Y543,AE543,Z543)","v":0},{"$f":"k_tHole(W543,U543)","v":2.363968422784827},{"$f":"K_t1Mu(Z543,AH543,D543,W543,U543,SIGN(X543),mu_millScale)","v":2.9291489045907078},{"$f":"K_t1Mu(Z543,AI543,D543,W543,U543,SIGN(Y543),mu_millScale)","v":1.7582721356518975},{"$f":"Sigma_hMax(AK543,X543,AF543)","v":513.29082304049825},{"$f":"Sigma_hMin(X543,Y543,AG543,AE543,AK543,AL543,AJ543,AI543,Z543,IF(L543=1,mu_redLead,mu_millScale))","v":47.554528097373925},465.73629494312434,9.264636335339646E-2,148.88979359267773,{"$f":"tau_n(N543,W543,U543,D543)","v":113.07721539628957},{"$f":"tau_hMax(X543,Z543,AH543,W543,U543)","v":69.260548772604764},{"$f":"tau_hMin(X543,Y543,AS543,AE543,Z543,AI543,IF(L543=1,mu_redLead,mu_millScale),W543,U543)","v":24.381762336625833},44.878786435978931]
[532,"Baron1955","R; L",2,3,13.5,47.2,56.4,10.32,12.7,89,null,434,186.15852000000001,0,1884100,1,"B3V3",null,532,0.76444444444444448,0.58644656820156382,0.28601694915254233,186.15852000000001,0,{"$f":"IF(OR(X544>=1.6*D544*AD544,D544=1),calcLoadFraction(G544,F544,I544,J544,K544,D544,1),\"Condition for spring model not fulfilled\")","v":0.51244025198898446},{"$f":"IF(L544>2,L544,IF(L544=2,1,sigma_cl0(I544+J544)))","v":157.34549420162355},{"$f":"Sigma_cl(AA544,U544,V544,X544)","v":141.30328706415099},{"$f":"Sigma_cl(AA544,U544,V544,Y544)","v":157.34549420162355},{"$f":"sigma_Slip(AB544,W544,U544,IF(L544=1,mu_redLead,mu_millScale))","v":38.383451213435229},{"$f":"sigma_Slip(AC544,W544,U544,IF(L544=1,mu_redLead,mu_millScale))","v":42.741136641782347},{"$f":"Sigma_p(AB544,V544)","v":-31.9952018977291},{"$f":"Sigma_p(AC544,V544)","v":-35.627627348777537},{"$f":"beta_1(X544,AD544,Z544)","v":0.59763715736655221},{"$f":"beta_1(Y544,AE544,Z544)","v":0},{"$f":"k_tHole(W544,U544)","v":2.363968422784827},{"$f":"K_t1Mu(Z544,AH544,D544,W544,U544,SIGN(X544),mu_millScale)","v":2.9291489045907078},{"$f":"K_t1Mu(Z544,AI544,D544,W544,U544,SIGN(Y544),mu_millScale)","v":1.7582721356518975},{"$f":"Sigma_hMax(AK544,X544,AF544)","v":513.29082304049825},{"$f":"Sigma_hMin(X544,Y544,AG544,AE544,AK544,AL544,AJ544,AI544,Z544,IF(L544=1,mu_redLead,mu_millScale))","v":47.554528097373925},465.73629494312434,9.264636335339646E-2,148.88979359267773,{"$f":"tau_n(N544,W544,U544,D544)","v":113.07721539628957},{"$f":"tau_hMax(X544,Z544,AH544,W544,U544)","v":69.260548772604764},{"$f":"tau_hMin(X544,Y544,AS544,AE544,Z544,AI544,IF(L544=1,mu_redLead,mu_millScale),W544,U544)","v":24.381762336625833},44.878786435978931]
[533,"Baron1955","R; L",2,3,13.5,47.2,56.4,10.32,12.7,89,null,434,206.84280000000001,0,608200,1,"B3V4",null,533,0.76444444444444448,0.58644656820156382,0.28601694915254233,206.84280000000001,0,{"$f":"IF(OR(X545>=1.6*D545*AD545,D545=1),calcLoadFraction(G545,F545,I545,J545,K545,D545,1),\"Condition for spring model not fulfilled\")","v":0.51244025198898446},{"$f":"IF(L545>2,L545,IF(L545=2,1,sigma_cl0(I545+J545)))","v":157.34549420162355},{"$f":"Sigma_cl(AA545,U545,V545,X545)","v":139.52081960443184},{"$f":"Sigma_cl(AA545,U545,V545,Y545)","v":157.34549420162355},{"$f":"sigma_Slip(AB545,W545,U545,IF(L545=1,mu_redLead,mu_millScale))","v":37.899263943618884},{"$f":"sigma_Slip(AC545,W545,U545,IF(L545=1,mu_redLead,mu_millScale))","v":42.741136641782347},{"$f":"Sigma_p(AB545,V545)","v":-31.591599069834832},{"$f":"Sigma_p(AC545,V545)","v":-35.627627348777537},{"$f":"beta_1(X545,AD545,Z545)","v":0.64244147978389798},{"$f":"beta_1(Y545,AE545,Z545)","v":0},{"$f":"k_tHole(W545,U545)","v":2.363968422784827},{"$f":"K_t1Mu(Z545,AH545,D545,W545,U545,SIGN(X545),mu_millScale)","v":3.0060141996979604},{"$f":"K_t1Mu(Z545,AI545,D545,W545,U545,SIGN(Y545),mu_millScale)","v":1.7582721356518975},{"$f":"Sigma_hMax(AK545,X545,AF545)","v":590.18079483545046},{"$f":"Sigma_hMin(X545,Y545,AG545,AE545,AK545,AL545,AJ545,AI545,Z545,IF(L545=1,mu_redLead,mu_millScale))","v":53.392482003184817},536.78831283226566,9.0468009922402309E-2,171.55935475714691,{"$f":"tau_n(N545,W545,U545,D545)","v":125.64135044032174},{"$f":"tau_hMax(X545,Z545,AH545,W545,U545)","v":82.725500090287042},{"$f":"tau_hMin(X545,Y545,AS545,AE545,Z545,AI545,IF(L545=1,mu_redLead,mu_millScale),W545,U545)","v":27.267342898840361},55.458157191446681]
[534,"Baron1955","R; L",2,3,13.5,47.2,56.4,10.32,12.7,89,null,434,206.84280000000001,0,421000,1,"B3V5",null,534,0.76444444444444448,0.58644656820156382,0.28601694915254233,206.84280000000001,0,{"$f":"IF(OR(X546>=1.6*D546*AD546,D546=1),calcLoadFraction(G546,F546,I546,J546,K546,D546,1),\"Condition for spring model not fulfilled\")","v":0.51244025198898446},{"$f":"IF(L546>2,L546,IF(L546=2,1,sigma_cl0(I546+J546)))","v":157.34549420162355},{"$f":"Sigma_cl(AA546,U546,V546,X546)","v":139.52081960443184},{"$f":"Sigma_cl(AA546,U546,V546,Y546)","v":157.34549420162355},{"$f":"sigma_Slip(AB546,W546,U546,IF(L546=1,mu_redLead,mu_millScale))","v":37.899263943618884},{"$f":"sigma_Slip(AC546,W546,U546,IF(L546=1,mu_redLead,mu_millScale))","v":42.741136641782347},{"$f":"Sigma_p(AB546,V546)","v":-31.591599069834832},{"$f":"Sigma_p(AC546,V546)","v":-35.627627348777537},{"$f":"beta_1(X546,AD546,Z546)","v":0.64244147978389798},{"$f":"beta_1(Y546,AE546,Z546)","v":0},{"$f":"k_tHole(W546,U546)","v":2.363968422784827},{"$f":"K_t1Mu(Z546,AH546,D546,W546,U546,SIGN(X546),mu_millScale)","v":3.0060141996979604},{"$f":"K_t1Mu(Z546,AI546,D546,W546,U546,SIGN(Y546),mu_millScale)","v":1.7582721356518975},{"$f":"Sigma_hMax(AK546,X546,AF546)","v":590.18079483545046},{"$f":"Sigma_hMin(X546,Y546,AG546,AE546,AK546,AL546,AJ546,AI546,Z546,IF(L546=1,mu_redLead,mu_millScale))","v":53.392482003184817},536.78831283226566,9.0468009922402309E-2,171.55935475714691,{"$f":"tau_n(N546,W546,U546,D546)","v":125.64135044032174},{"$f":"tau_hMax(X546,Z546,AH546,W546,U546)","v":82.725500090287042},{"$f":"tau_hMin(X546,Y546,AS546,AE546,Z546,AI546,IF(L546=1,mu_redLead,mu_millScale),W546,U546)","v":27.267342898840361},55.458157191446681]
[535,"Baron1955","R; L",2,3,13.5,47.2,56.4,10.32,12.7,89,null,434,206.84280000000001,0,347600,1,"B3V6",null,535,0.76444444444444448,0.58644656820156382,0.28601694915254233,206.84280000000001,0,{"$f":"IF(OR(X547>=1.6*D547*AD547,D547=1),calcLoadFraction(G547,F547,I547,J547,K547,D547,1),\"Condition for spring model not fulfilled\")","v":0.51244025198898446},{"$f":"IF(L547>2,L547,IF(L547=2,1,sigma_cl0(I547+J547)))","v":157.34549420162355},{"$f":"Sigma_cl(AA547,U547,V547,X547)","v":139.52081960443184},{"$f":"Sigma_cl(AA547,U547,V547,Y547)","v":157.34549420162355},{"$f":"sigma_Slip(AB547,W547,U547,IF(L547=1,mu_redLead,mu_millScale))","v":37.899263943618884},{"$f":"sigma_Slip(AC547,W547,U547,IF(L547=1,mu_redLead,mu_millScale))","v":42.741136641782347},{"$f":"Sigma_p(AB547,V547)","v":-31.591599069834832},{"$f":"Sigma_p(AC547,V547)","v":-35.627627348777537},{"$f":"beta_1(X547,AD547,Z547)","v":0.64244147978389798},{"$f":"beta_1(Y547,AE547,Z547)","v":0},{"$f":"k_tHole(W547,U547)","v":2.363968422784827},{"$f":"K_t1Mu(Z547,AH547,D547,W547,U547,SIGN(X547),mu_millScale)","v":3.0060141996979604},{"$f":"K_t1Mu(Z547,AI547,D547,W547,U547,SIGN(Y547),mu_millScale)","v":1.7582721356518975},{"$f":"Sigma_hMax(AK547,X547,AF547)","v":590.18079483545046},{"$f":"Sigma_hMin(X547,Y547,AG547,AE547,AK547,AL547,AJ547,AI547,Z547,IF(L547=1,mu_redLead,mu_millScale))","v":53.392482003184817},536.78831283226566,9.0468009922402309E-2,171.55935475714691,{"$f":"tau_n(N547,W547,U547,D547)","v":125.64135044032174},{"$f":"tau_hMax(X547,Z547,AH547,W547,U547)","v":82.725500090287042},{"$f":"tau_hMin(X547,Y547,AS547,AE547,Z547,AI547,IF(L547=1,mu_redLead,mu_millScale),W547,U547)","v":27.267342898840361},55.458157191446681]
[536,"Baron1955","R; L",2,3,13.5,54,65.099999999999994,10.32,12.7,89,null,434,172.369,0,3000000,0,"B4V1",null,536,0.76444444444444448,0.58644656820156382,0.25,172.369,0,{"$f":"IF(OR(X548>=1.6*D548*AD548,D548=1),calcLoadFraction(G548,F548,I548,J548,K548,D548,1),\"Condition for spring model not fulfilled\")","v":0.51105312494214084},{"$f":"IF(L548>2,L548,IF(L548=2,1,sigma_cl0(I548+J548)))","v":157.34549420162355},{"$f":"Sigma_cl(AA548,U548,V548,X548)","v":142.49159870396377},{"$f":"Sigma_cl(AA548,U548,V548,Y548)","v":157.34549420162355},{"$f":"sigma_Slip(AB548,W548,U548,IF(L548=1,mu_redLead,mu_millScale))","v":32.207416787357388},{"$f":"sigma_Slip(AC548,W548,U548,IF(L548=1,mu_redLead,mu_millScale))","v":35.564847032791732},{"$f":"Sigma_p(AB548,V548)","v":-32.264270449658611},{"$f":"Sigma_p(AC548,V548)","v":-35.627627348777537},{"$f":"beta_1(X548,AD548,Z548)","v":0.63437937802751976},{"$f":"beta_1(Y548,AE548,Z548)","v":0},{"$f":"k_tHole(W548,U548)","v":2.421875},{"$f":"K_t1Mu(Z548,AH548,D548,W548,U548,SIGN(X548),mu_millScale)","v":3.2140907221272879},{"$f":"K_t1Mu(Z548,AI548,D548,W548,U548,SIGN(Y548),mu_millScale)","v":1.8030216065153764},{"$f":"Sigma_hMax(AK548,X548,AF548)","v":521.74533323269986},{"$f":"Sigma_hMin(X548,Y548,AG548,AE548,AK548,AL548,AJ548,AI548,Z548,IF(L548=1,mu_redLead,mu_millScale))","v":45.696162177127427},476.04917105557246,8.7583269588626708E-2,152.09455293458396,{"$f":"tau_n(N548,W548,U548,D548)","v":125.82776193949134},{"$f":"tau_hMax(X548,Z548,AH548,W548,U548)","v":81.587114314997592},{"$f":"tau_hMin(X548,Y548,AS548,AE548,Z548,AI548,IF(L548=1,mu_redLead,mu_millScale),W548,U548)","v":26.913066383237879},54.674047931759716]
[537,"Baron1955","R; L",2,3,13.5,54,65.099999999999994,10.32,12.7,89,null,434,186.15852000000001,0,2027500,1,"B4V3",null,537,0.76444444444444448,0.58644656820156382,0.25,186.15852000000001,0,{"$f":"IF(OR(X549>=1.6*D549*AD549,D549=1),calcLoadFraction(G549,F549,I549,J549,K549,D549,1),\"Condition for spring model not fulfilled\")","v":0.51105312494214084},{"$f":"IF(L549>2,L549,IF(L549=2,1,sigma_cl0(I549+J549)))","v":157.34549420162355},{"$f":"Sigma_cl(AA549,U549,V549,X549)","v":141.30328706415099},{"$f":"Sigma_cl(AA549,U549,V549,Y549)","v":157.34549420162355},{"$f":"sigma_Slip(AB549,W549,U549,IF(L549=1,mu_redLead,mu_millScale))","v":31.938822367722647},{"$f":"sigma_Slip(AC549,W549,U549,IF(L549=1,mu_redLead,mu_millScale))","v":35.564847032791732},{"$f":"Sigma_p(AB549,V549)","v":-31.9952018977291},{"$f":"Sigma_p(AC549,V549)","v":-35.627627348777537},{"$f":"beta_1(X549,AD549,Z549)","v":0.6642856285000982},{"$f":"beta_1(Y549,AE549,Z549)","v":0},{"$f":"k_tHole(W549,U549)","v":2.421875},{"$f":"K_t1Mu(Z549,AH549,D549,W549,U549,SIGN(X549),mu_millScale)","v":3.2698991194168623},{"$f":"K_t1Mu(Z549,AI549,D549,W549,U549,SIGN(Y549),mu_millScale)","v":1.8030216065153764},{"$f":"Sigma_hMax(AK549,X549,AF549)","v":576.72437872221724},{"$f":"Sigma_hMin(X549,Y549,AG549,AE549,AK549,AL549,AJ549,AI549,Z549,IF(L549=1,mu_redLead,mu_millScale))","v":49.395793524164795},527.32858519805245,8.5648873788906663E-2,168.43929257926229,{"$f":"tau_n(N549,W549,U549,D549)","v":135.89398289465063},{"$f":"tau_hMax(X549,Z549,AH549,W549,U549)","v":92.268004507120267},{"$f":"tau_hMin(X549,Y549,AS549,AE549,Z549,AI549,IF(L549=1,mu_redLead,mu_millScale),W549,U549)","v":28.971391133201845},63.296613373918419]
[538,"Baron1955","R; L",2,3,13.5,54,65.099999999999994,10.32,12.7,89,null,434,186.15852000000001,0,2021900,1,"B4V4",null,538,0.76444444444444448,0.58644656820156382,0.25,186.15852000000001,0,{"$f":"IF(OR(X550>=1.6*D550*AD550,D550=1),calcLoadFraction(G550,F550,I550,J550,K550,D550,1),\"Condition for spring model not fulfilled\")","v":0.51105312494214084},{"$f":"IF(L550>2,L550,IF(L550=2,1,sigma_cl0(I550+J550)))","v":157.34549420162355},{"$f":"Sigma_cl(AA550,U550,V550,X550)","v":141.30328706415099},{"$f":"Sigma_cl(AA550,U550,V550,Y550)","v":157.34549420162355},{"$f":"sigma_Slip(AB550,W550,U550,IF(L550=1,mu_redLead,mu_millScale))","v":31.938822367722647},{"$f":"sigma_Slip(AC550,W550,U550,IF(L550=1,mu_redLead,mu_millScale))","v":35.564847032791732},{"$f":"Sigma_p(AB550,V550)","v":-31.9952018977291},{"$f":"Sigma_p(AC550,V550)","v":-35.627627348777537},{"$f":"beta_1(X550,AD550,Z550)","v":0.6642856285000982},{"$f":"beta_1(Y550,AE550,Z550)","v":0},{"$f":"k_tHole(W550,U550)","v":2.421875},{"$f":"K_t1Mu(Z550,AH550,D550,W550,U550,SIGN(X550),mu_millScale)","v":3.2698991194168623},{"$f":"K_t1Mu(Z550,AI550,D550,W550,U550,SIGN(Y550),mu_millScale)","v":1.8030216065153764},{"$f":"Sigma_hMax(AK550,X550,AF550)","v":576.72437872221724},{"$f":"Sigma_hMin(X550,Y550,AG550,AE550,AK550,AL550,AJ550,AI550,Z550,IF(L550=1,mu_redLead,mu_millScale))","v":49.395793524164795},527.32858519805245,8.5648873788906663E-2,168.43929257926229,{"$f":"tau_n(N550,W550,U550,D550)","v":135.89398289465063},{"$f":"tau_hMax(X550,Z550,AH550,W550,U550)","v":92.268004507120267},{"$f":"tau_hMin(X550,Y550,AS550,AE550,Z550,AI550,IF(L550=1,mu_redLead,mu_millScale),W550,U550)","v":28.971391133201845},63.296613373918419]
[539,"Baron1955","R; L",2,3,13.5,54,65.099999999999994,10.32,12.7,89,null,434,206.84280000000001,0,676900,1,"B4V5",null,539,0.76444444444444448,0.58644656820156382,0.25,206.84280000000001,0,{"$f":"IF(OR(X551>=1.6*D551*AD551,D551=1),calcLoadFraction(G551,F551,I551,J551,K551,D551,1),\"Condition for spring model not fulfilled\")","v":0.51105312494214084},{"$f":"IF(L551>2,L551,IF(L551=2,1,sigma_cl0(I551+J551)))","v":157.34549420162355},{"$f":"Sigma_cl(AA551,U551,V551,X551)","v":139.52081960443184},{"$f":"Sigma_cl(AA551,U551,V551,Y551)","v":157.34549420162355},{"$f":"sigma_Slip(AB551,W551,U551,IF(L551=1,mu_redLead,mu_millScale))","v":31.53593073827053},{"$f":"sigma_Slip(AC551,W551,U551,IF(L551=1,mu_redLead,mu_millScale))","v":35.564847032791732},{"$f":"Sigma_p(AB551,V551)","v":-31.591599069834832},{"$f":"Sigma_p(AC551,V551)","v":-35.627627348777537},{"$f":"beta_1(X551,AD551,Z551)","v":0.70166844159082131},{"$f":"beta_1(Y551,AE551,Z551)","v":0},{"$f":"k_tHole(W551,U551)","v":2.421875},{"$f":"K_t1Mu(Z551,AH551,D551,W551,U551,SIGN(X551),mu_millScale)","v":3.3351163291777857},{"$f":"K_t1Mu(Z551,AI551,D551,W551,U551,SIGN(Y551),mu_millScale)","v":1.8030216065153764},{"$f":"Sigma_hMax(AK551,X551,AF551)","v":658.25320078302013},{"$f":"Sigma_hMin(X551,Y551,AG551,AE551,AK551,AL551,AJ551,AI551,Z551,IF(L551=1,mu_redLead,mu_millScale))","v":54.017342917124175},604.23585786589592,8.206164869820344E-2,192.92328865747098,{"$f":"tau_n(N551,W551,U551,D551)","v":150.99331432738961},{"$f":"tau_hMax(X551,Z551,AH551,W551,U551)","v":108.28933979530427},{"$f":"tau_hMin(X551,Y551,AS551,AE551,Z551,AI551,IF(L551=1,mu_redLead,mu_millScale),W551,U551)","v":31.728024958099841},76.561314837204435]
[540,"Baron1955","R; L",2,3,13.5,54,65.099999999999994,10.32,12.7,89,null,434,206.84280000000001,0,331300,1,"B4V6",null,540,{"$f":"I552/F552","v":0.76444444444444448},{"$f":"F552/(J552+I552)","v":0.58644656820156382},{"$f":"F552/G552","v":0.25},{"$f":"N552/(1-O552)","v":206.84280000000001},{"$f":"X552*O552","v":0},{"$f":"IF(OR(X552>=1.6*D552*AD552,D552=1),calcLoadFraction(G552,F552,I552,J552,K552,D552,1),\"Condition for spring model not fulfilled\")","v":0.51105312494214084},{"$f":"IF(L552>2,L552,IF(L552=2,1,sigma_cl0(I552+J552)))","v":157.34549420162355},{"$f":"Sigma_cl(AA552,U552,V552,X552)","v":139.52081960443184},{"$f":"Sigma_cl(AA552,U552,V552,Y552)","v":157.34549420162355},{"$f":"sigma_Slip(AB552,W552,U552,IF(L552=1,mu_redLead,mu_millScale))","v":31.53593073827053},{"$f":"sigma_Slip(AC552,W552,U552,IF(L552=1,mu_redLead,mu_millScale))","v":35.564847032791732},{"$f":"Sigma_p(AB552,V552)","v":-31.591599069834832},{"$f":"Sigma_p(AC552,V552)","v":-35.627627348777537},{"$f":"beta_1(X552,AD552,Z552)","v":0.70166844159082131},{"$f":"beta_1(Y552,AE552,Z552)","v":0},{"$f":"k_tHole(W552,U552)","v":2.421875},{"$f":"K_t1Mu(Z552,AH552,D552,W552,U552,SIGN(X552),mu_millScale)","v":3.3351163291777857},{"$f":"K_t1Mu(Z552,AI552,D552,W552,U552,SIGN(Y552),mu_millScale)","v":1.8030216065153764},{"$f":"Sigma_hMax(AK552,X552,AF552)","v":658.25320078302013},{"$f":"Sigma_hMin(X552,Y552,AG552,AE552,AK552,AL552,AJ552,AI552,Z552,IF(L552=1,mu_redLead,mu_millScale))","v":54.017342917124175},{"$f":"(AM552-AN552)","v":604.23585786589592},{"$f":"AN552/AM552","v":8.206164869820344E-2},192.92328865747098,{"$f":"tau_n(N552,W552,U552,D552)","v":150.99331432738961},{"$f":"tau_hMax(X552,Z552,AH552,W552,U552)","v":108.28933979530427},{"$f":"tau_hMin(X552,Y552,AS552,AE552,Z552,AI552,IF(L552=1,mu_redLead,mu_millScale),W552,U552)","v":31.728024958099841},76.561314837204435]
[541,"Baron1955","R; L",3,2,10.3,54.8,71.400000000000006,7.14,15.88,89,null,442,186.15852000000001,0,976400,1,"C1T1",null,541,0.6932038834951455,0.44743701129452657,0.18795620437956206,186.15852000000001,0,{"$f":"IF(OR(X553>=1.6*D553*AD553,D553=1),calcLoadFraction(G553,F553,I553,J553,K553,D553,1),\"Condition for spring model not fulfilled\")","v":0.41095611305009305},{"$f":"IF(L553>2,L553,IF(L553=2,1,sigma_cl0(I553+J553)))","v":157.34549420162355},{"$f":"Sigma_cl(AA553,U553,V553,X553)","v":145.11229255160291},{"$f":"Sigma_cl(AA553,U553,V553,Y553)","v":157.34549420162355},{"$f":"sigma_Slip(AB553,W553,U553,IF(L553=1,mu_redLead,mu_millScale))","v":25.116218223765006},{"$f":"sigma_Slip(AC553,W553,U553,IF(L553=1,mu_redLead,mu_millScale))","v":27.233556161265927},{"$f":"Sigma_p(AB553,V553)","v":-24.377656960933884},{"$f":"Sigma_p(AC553,V553)","v":-26.432732985951443},{"$f":"beta_1(X553,AD553,Z553)","v":0.67169621842203142},{"$f":"beta_1(Y553,AE553,Z553)","v":0},{"$f":"k_tHole(W553,U553)","v":2.5354739618111553},{"$f":"K_t1Mu(Z553,AH553,D553,W553,U553,SIGN(X553),mu_millScale)","v":3.5929582448417574},{"$f":"K_t1Mu(Z553,AI553,D553,W553,U553,SIGN(Y553),mu_millScale)","v":2.014489699768339},{"$f":"Sigma_hMax(AK553,X553,AF553)","v":644.48213232060539},{"$f":"Sigma_hMin(X553,Y553,AG553,AE553,AK553,AL553,AJ553,AI553,Z553,IF(L553=1,mu_redLead,mu_millScale))","v":55.925066476891622},588.55706584371376,8.6775200850829834E-2,188.02201661120344,{"$f":"tau_n(N553,W553,U553,D553)","v":118.31111798757235},{"$f":"tau_hMax(X553,Z553,AH553,W553,U553)","v":97.974974994322082},{"$f":"tau_hMin(X553,Y553,AS553,AE553,Z553,AI553,IF(L553=1,mu_redLead,mu_millScale),W553,U553)","v":29.797428065678481},68.177546928643608]
[542,"Baron1955","R; L",3,2,10.3,54.8,71.400000000000006,7.14,15.88,89,null,442,186.15852000000001,0,943100,1,"C1T2",null,542,0.6932038834951455,0.44743701129452657,0.18795620437956206,186.15852000000001,0,{"$f":"IF(OR(X554>=1.6*D554*AD554,D554=1),calcLoadFraction(G554,F554,I554,J554,K554,D554,1),\"Condition for spring model not fulfilled\")","v":0.41095611305009305},{"$f":"IF(L554>2,L554,IF(L554=2,1,sigma_cl0(I554+J554)))","v":157.34549420162355},{"$f":"Sigma_cl(AA554,U554,V554,X554)","v":145.11229255160291},{"$f":"Sigma_cl(AA554,U554,V554,Y554)","v":157.34549420162355},{"$f":"sigma_Slip(AB554,W554,U554,IF(L554=1,mu_redLead,mu_millScale))","v":25.116218223765006},{"$f":"sigma_Slip(AC554,W554,U554,IF(L554=1,mu_redLead,mu_millScale))","v":27.233556161265927},{"$f":"Sigma_p(AB554,V554)","v":-24.377656960933884},{"$f":"Sigma_p(AC554,V554)","v":-26.432732985951443},{"$f":"beta_1(X554,AD554,Z554)","v":0.67169621842203142},{"$f":"beta_1(Y554,AE554,Z554)","v":0},{"$f":"k_tHole(W554,U554)","v":2.5354739618111553},{"$f":"K_t1Mu(Z554,AH554,D554,W554,U554,SIGN(X554),mu_millScale)","v":3.5929582448417574},{"$f":"K_t1Mu(Z554,AI554,D554,W554,U554,SIGN(Y554),mu_millScale)","v":2.014489699768339},{"$f":"Sigma_hMax(AK554,X554,AF554)","v":644.48213232060539},{"$f":"Sigma_hMin(X554,Y554,AG554,AE554,AK554,AL554,AJ554,AI554,Z554,IF(L554=1,mu_redLead,mu_millScale))","v":55.925066476891622},588.55706584371376,8.6775200850829834E-2,188.02201661120344,{"$f":"tau_n(N554,W554,U554,D554)","v":118.31111798757235},{"$f":"tau_hMax(X554,Z554,AH554,W554,U554)","v":97.974974994322082},{"$f":"tau_hMin(X554,Y554,AS554,AE554,Z554,AI554,IF(L554=1,mu_redLead,mu_millScale),W554,U554)","v":29.797428065678481},68.177546928643608]
[543,"Baron1955","R; L",3,2,10.3,54.8,71.400000000000006,7.14,15.88,89,null,442,186.15852000000001,0,2565100,1,"C1T3",null,543,0.6932038834951455,0.44743701129452657,0.18795620437956206,186.15852000000001,0,{"$f":"IF(OR(X555>=1.6*D555*AD555,D555=1),calcLoadFraction(G555,F555,I555,J555,K555,D555,1),\"Condition for spring model not fulfilled\")","v":0.41095611305009305},{"$f":"IF(L555>2,L555,IF(L555=2,1,sigma_cl0(I555+J555)))","v":157.34549420162355},{"$f":"Sigma_cl(AA555,U555,V555,X555)","v":145.11229255160291},{"$f":"Sigma_cl(AA555,U555,V555,Y555)","v":157.34549420162355},{"$f":"sigma_Slip(AB555,W555,U555,IF(L555=1,mu_redLead,mu_millScale))","v":25.116218223765006},{"$f":"sigma_Slip(AC555,W555,U555,IF(L555=1,mu_redLead,mu_millScale))","v":27.233556161265927},{"$f":"Sigma_p(AB555,V555)","v":-24.377656960933884},{"$f":"Sigma_p(AC555,V555)","v":-26.432732985951443},{"$f":"beta_1(X555,AD555,Z555)","v":0.67169621842203142},{"$f":"beta_1(Y555,AE555,Z555)","v":0},{"$f":"k_tHole(W555,U555)","v":2.5354739618111553},{"$f":"K_t1Mu(Z555,AH555,D555,W555,U555,SIGN(X555),mu_millScale)","v":3.5929582448417574},{"$f":"K_t1Mu(Z555,AI555,D555,W555,U555,SIGN(Y555),mu_millScale)","v":2.014489699768339},{"$f":"Sigma_hMax(AK555,X555,AF555)","v":644.48213232060539},{"$f":"Sigma_hMin(X555,Y555,AG555,AE555,AK555,AL555,AJ555,AI555,Z555,IF(L555=1,mu_redLead,mu_millScale))","v":55.925066476891622},588.55706584371376,8.6775200850829834E-2,188.02201661120344,{"$f":"tau_n(N555,W555,U555,D555)","v":118.31111798757235},{"$f":"tau_hMax(X555,Z555,AH555,W555,U555)","v":97.974974994322082},{"$f":"tau_hMin(X555,Y555,AS555,AE555,Z555,AI555,IF(L555=1,mu_redLead,mu_millScale),W555,U555)","v":29.797428065678481},68.177546928643608]
[544,"Baron1955","R; L",3,2,10.3,54.8,71.400000000000006,7.14,15.88,89,null,442,206.84280000000001,0,846700,1,"C1T4",null,544,0.6932038834951455,0.44743701129452657,0.18795620437956206,206.84280000000001,0,{"$f":"IF(OR(X556>=1.6*D556*AD556,D556=1),calcLoadFraction(G556,F556,I556,J556,K556,D556,1),\"Condition for spring model not fulfilled\")","v":0.41095611305009305},{"$f":"IF(L556>2,L556,IF(L556=2,1,sigma_cl0(I556+J556)))","v":157.34549420162355},{"$f":"Sigma_cl(AA556,U556,V556,X556)","v":143.75304792382283},{"$f":"Sigma_cl(AA556,U556,V556,Y556)","v":157.34549420162355},{"$f":"sigma_Slip(AB556,W556,U556,IF(L556=1,mu_redLead,mu_millScale))","v":24.880958452931573},{"$f":"sigma_Slip(AC556,W556,U556,IF(L556=1,mu_redLead,mu_millScale))","v":27.233556161265927},{"$f":"Sigma_p(AB556,V556)","v":-24.149315180376377},{"$f":"Sigma_p(AC556,V556)","v":-26.432732985951443},{"$f":"beta_1(X556,AD556,Z556)","v":0.70729425071297447},{"$f":"beta_1(Y556,AE556,Z556)","v":0},{"$f":"k_tHole(W556,U556)","v":2.5354739618111553},{"$f":"K_t1Mu(Z556,AH556,D556,W556,U556,SIGN(X556),mu_millScale)","v":3.6582400146929688},{"$f":"K_t1Mu(Z556,AI556,D556,W556,U556,SIGN(Y556),mu_millScale)","v":2.014489699768339},{"$f":"Sigma_hMax(AK556,X556,AF556)","v":732.53129253075849},{"$f":"Sigma_hMin(X556,Y556,AG556,AE556,AK556,AL556,AJ556,AI556,Z556,IF(L556=1,mu_redLead,mu_millScale))","v":60.313921546696101},672.21737098406243,8.2336307215385693E-2,214.63568453757341,{"$f":"tau_n(N556,W556,U556,D556)","v":131.45679776396929},{"$f":"tau_hMax(X556,Z556,AH556,W556,U556)","v":114.63041811441741},{"$f":"tau_hMin(X556,Y556,AS556,AE556,Z556,AI556,IF(L556=1,mu_redLead,mu_millScale),W556,U556)","v":32.502900514971657},82.127517599445753]
[545,"Baron1955","R; L",3,2,10.3,54.8,71.400000000000006,7.14,15.88,89,null,442,206.84280000000001,0,888000,1,"C1T5",null,545,0.6932038834951455,0.44743701129452657,0.18795620437956206,206.84280000000001,0,{"$f":"IF(OR(X557>=1.6*D557*AD557,D557=1),calcLoadFraction(G557,F557,I557,J557,K557,D557,1),\"Condition for spring model not fulfilled\")","v":0.41095611305009305},{"$f":"IF(L557>2,L557,IF(L557=2,1,sigma_cl0(I557+J557)))","v":157.34549420162355},{"$f":"Sigma_cl(AA557,U557,V557,X557)","v":143.75304792382283},{"$f":"Sigma_cl(AA557,U557,V557,Y557)","v":157.34549420162355},{"$f":"sigma_Slip(AB557,W557,U557,IF(L557=1,mu_redLead,mu_millScale))","v":24.880958452931573},{"$f":"sigma_Slip(AC557,W557,U557,IF(L557=1,mu_redLead,mu_millScale))","v":27.233556161265927},{"$f":"Sigma_p(AB557,V557)","v":-24.149315180376377},{"$f":"Sigma_p(AC557,V557)","v":-26.432732985951443},{"$f":"beta_1(X557,AD557,Z557)","v":0.70729425071297447},{"$f":"beta_1(Y557,AE557,Z557)","v":0},{"$f":"k_tHole(W557,U557)","v":2.5354739618111553},{"$f":"K_t1Mu(Z557,AH557,D557,W557,U557,SIGN(X557),mu_millScale)","v":3.6582400146929688},{"$f":"K_t1Mu(Z557,AI557,D557,W557,U557,SIGN(Y557),mu_millScale)","v":2.014489699768339},{"$f":"Sigma_hMax(AK557,X557,AF557)","v":732.53129253075849},{"$f":"Sigma_hMin(X557,Y557,AG557,AE557,AK557,AL557,AJ557,AI557,Z557,IF(L557=1,mu_redLead,mu_millScale))","v":60.313921546696101},672.21737098406243,8.2336307215385693E-2,214.63568453757341,{"$f":"tau_n(N557,W557,U557,D557)","v":131.45679776396929},{"$f":"tau_hMax(X557,Z557,AH557,W557,U557)","v":114.63041811441741},{"$f":"tau_hMin(X557,Y557,AS557,AE557,Z557,AI557,IF(L557=1,mu_redLead,mu_millScale),W557,U557)","v":32.502900514971657},82.127517599445753]
[546,"Baron1955","R; L",3,2,10.3,54.8,71.400000000000006,7.14,15.88,89,null,442,206.84280000000001,0,277500,1,"C1T6",null,546,0.6932038834951455,0.44743701129452657,0.18795620437956206,206.84280000000001,0,{"$f":"IF(OR(X558>=1.6*D558*AD558,D558=1),calcLoadFraction(G558,F558,I558,J558,K558,D558,1),\"Condition for spring model not fulfilled\")","v":0.41095611305009305},{"$f":"IF(L558>2,L558,IF(L558=2,1,sigma_cl0(I558+J558)))","v":157.34549420162355},{"$f":"Sigma_cl(AA558,U558,V558,X558)","v":143.75304792382283},{"$f":"Sigma_cl(AA558,U558,V558,Y558)","v":157.34549420162355},{"$f":"sigma_Slip(AB558,W558,U558,IF(L558=1,mu_redLead,mu_millScale))","v":24.880958452931573},{"$f":"sigma_Slip(AC558,W558,U558,IF(L558=1,mu_redLead,mu_millScale))","v":27.233556161265927},{"$f":"Sigma_p(AB558,V558)","v":-24.149315180376377},{"$f":"Sigma_p(AC558,V558)","v":-26.432732985951443},{"$f":"beta_1(X558,AD558,Z558)","v":0.70729425071297447},{"$f":"beta_1(Y558,AE558,Z558)","v":0},{"$f":"k_tHole(W558,U558)","v":2.5354739618111553},{"$f":"K_t1Mu(Z558,AH558,D558,W558,U558,SIGN(X558),mu_millScale)","v":3.6582400146929688},{"$f":"K_t1Mu(Z558,AI558,D558,W558,U558,SIGN(Y558),mu_millScale)","v":2.014489699768339},{"$f":"Sigma_hMax(AK558,X558,AF558)","v":732.53129253075849},{"$f":"Sigma_hMin(X558,Y558,AG558,AE558,AK558,AL558,AJ558,AI558,Z558,IF(L558=1,mu_redLead,mu_millScale))","v":60.313921546696101},672.21737098406243,8.2336307215385693E-2,214.63568453757341,{"$f":"tau_n(N558,W558,U558,D558)","v":131.45679776396929},{"$f":"tau_hMax(X558,Z558,AH558,W558,U558)","v":114.63041811441741},{"$f":"tau_hMin(X558,Y558,AS558,AE558,Z558,AI558,IF(L558=1,mu_redLead,mu_millScale),W558,U558)","v":32.502900514971657},82.127517599445753]
[547,"Baron1955","R; L",3,2,10.3,54.8,66.7,7.14,15.88,89,null,442,186.15852000000001,0,328000,1,"C2T1",null,547,0.6932038834951455,0.44743701129452657,0.18795620437956206,186.15852000000001,0,{"$f":"IF(OR(X559>=1.6*D559*AD559,D559=1),calcLoadFraction(G559,F559,I559,J559,K559,D559,1),\"Condition for spring model not fulfilled\")","v":0.41095611305009305},{"$f":"IF(L559>2,L559,IF(L559=2,1,sigma_cl0(I559+J559)))","v":157.34549420162355},{"$f":"Sigma_cl(AA559,U559,V559,X559)","v":145.11229255160291},{"$f":"Sigma_cl(AA559,U559,V559,Y559)","v":157.34549420162355},{"$f":"sigma_Slip(AB559,W559,U559,IF(L559=1,mu_redLead,mu_millScale))","v":25.116218223765006},{"$f":"sigma_Slip(AC559,W559,U559,IF(L559=1,mu_redLead,mu_millScale))","v":27.233556161265927},{"$f":"Sigma_p(AB559,V559)","v":-24.377656960933884},{"$f":"Sigma_p(AC559,V559)","v":-26.432732985951443},{"$f":"beta_1(X559,AD559,Z559)","v":0.67169621842203142},{"$f":"beta_1(Y559,AE559,Z559)","v":0},{"$f":"k_tHole(W559,U559)","v":2.5354739618111553},{"$f":"K_t1Mu(Z559,AH559,D559,W559,U559,SIGN(X559),mu_millScale)","v":3.5929582448417574},{"$f":"K_t1Mu(Z559,AI559,D559,W559,U559,SIGN(Y559),mu_millScale)","v":2.014489699768339},{"$f":"Sigma_hMax(AK559,X559,AF559)","v":644.48213232060539},{"$f":"Sigma_hMin(X559,Y559,AG559,AE559,AK559,AL559,AJ559,AI559,Z559,IF(L559=1,mu_redLead,mu_millScale))","v":55.925066476891622},588.55706584371376,8.6775200850829834E-2,188.02201661120344,{"$f":"tau_n(N559,W559,U559,D559)","v":118.31111798757235},{"$f":"tau_hMax(X559,Z559,AH559,W559,U559)","v":97.974974994322082},{"$f":"tau_hMin(X559,Y559,AS559,AE559,Z559,AI559,IF(L559=1,mu_redLead,mu_millScale),W559,U559)","v":29.797428065678481},68.177546928643608]
[548,"Baron1955","R; L",3,2,10.3,54.8,66.7,7.14,15.88,89,null,442,186.15852000000001,0,2528500,1,"C2T2",null,548,0.6932038834951455,0.44743701129452657,0.18795620437956206,186.15852000000001,0,{"$f":"IF(OR(X560>=1.6*D560*AD560,D560=1),calcLoadFraction(G560,F560,I560,J560,K560,D560,1),\"Condition for spring model not fulfilled\")","v":0.41095611305009305},{"$f":"IF(L560>2,L560,IF(L560=2,1,sigma_cl0(I560+J560)))","v":157.34549420162355},{"$f":"Sigma_cl(AA560,U560,V560,X560)","v":145.11229255160291},{"$f":"Sigma_cl(AA560,U560,V560,Y560)","v":157.34549420162355},{"$f":"sigma_Slip(AB560,W560,U560,IF(L560=1,mu_redLead,mu_millScale))","v":25.116218223765006},{"$f":"sigma_Slip(AC560,W560,U560,IF(L560=1,mu_redLead,mu_millScale))","v":27.233556161265927},{"$f":"Sigma_p(AB560,V560)","v":-24.377656960933884},{"$f":"Sigma_p(AC560,V560)","v":-26.432732985951443},{"$f":"beta_1(X560,AD560,Z560)","v":0.67169621842203142},{"$f":"beta_1(Y560,AE560,Z560)","v":0},{"$f":"k_tHole(W560,U560)","v":2.5354739618111553},{"$f":"K_t1Mu(Z560,AH560,D560,W560,U560,SIGN(X560),mu_millScale)","v":3.5929582448417574},{"$f":"K_t1Mu(Z560,AI560,D560,W560,U560,SIGN(Y560),mu_millScale)","v":2.014489699768339},{"$f":"Sigma_hMax(AK560,X560,AF560)","v":644.48213232060539},{"$f":"Sigma_hMin(X560,Y560,AG560,AE560,AK560,AL560,AJ560,AI560,Z560,IF(L560=1,mu_redLead,mu_millScale))","v":55.925066476891622},588.55706584371376,8.6775200850829834E-2,188.02201661120344,{"$f":"tau_n(N560,W560,U560,D560)","v":118.31111798757235},{"$f":"tau_hMax(X560,Z560,AH560,W560,U560)","v":97.974974994322082},{"$f":"tau_hMin(X560,Y560,AS560,AE560,Z560,AI560,IF(L560=1,mu_redLead,mu_millScale),W560,U560)","v":29.797428065678481},68.177546928643608]
[549,"Baron1955","R; L",3,2,10.3,54.8,66.7,7.14,15.88,89,null,442,186.15852000000001,0,749200,1,"C2T3",null,549,0.6932038834951455,0.44743701129452657,0.18795620437956206,186.15852000000001,0,{"$f":"IF(OR(X561>=1.6*D561*AD561,D561=1),calcLoadFraction(G561,F561,I561,J561,K561,D561,1),\"Condition for spring model not fulfilled\")","v":0.41095611305009305},{"$f":"IF(L561>2,L561,IF(L561=2,1,sigma_cl0(I561+J561)))","v":157.34549420162355},{"$f":"Sigma_cl(AA561,U561,V561,X561)","v":145.11229255160291},{"$f":"Sigma_cl(AA561,U561,V561,Y561)","v":157.34549420162355},{"$f":"sigma_Slip(AB561,W561,U561,IF(L561=1,mu_redLead,mu_millScale))","v":25.116218223765006},{"$f":"sigma_Slip(AC561,W561,U561,IF(L561=1,mu_redLead,mu_millScale))","v":27.233556161265927},{"$f":"Sigma_p(AB561,V561)","v":-24.377656960933884},{"$f":"Sigma_p(AC561,V561)","v":-26.432732985951443},{"$f":"beta_1(X561,AD561,Z561)","v":0.67169621842203142},{"$f":"beta_1(Y561,AE561,Z561)","v":0},{"$f":"k_tHole(W561,U561)","v":2.5354739618111553},{"$f":"K_t1Mu(Z561,AH561,D561,W561,U561,SIGN(X561),mu_millScale)","v":3.5929582448417574},{"$f":"K_t1Mu(Z561,AI561,D561,W561,U561,SIGN(Y561),mu_millScale)","v":2.014489699768339},{"$f":"Sigma_hMax(AK561,X561,AF561)","v":644.48213232060539},{"$f":"Sigma_hMin(X561,Y561,AG561,AE561,AK561,AL561,AJ561,AI561,Z561,IF(L561=1,mu_redLead,mu_millScale))","v":55.925066476891622},588.55706584371376,8.6775200850829834E-2,188.02201661120344,{"$f":"tau_n(N561,W561,U561,D561)","v":118.31111798757235},{"$f":"tau_hMax(X561,Z561,AH561,W561,U561)","v":97.974974994322082},{"$f":"tau_hMin(X561,Y561,AS561,AE561,Z561,AI561,IF(L561=1,mu_redLead,mu_millScale),W561,U561)","v":29.797428065678481},68.177546928643608]
[550,"Baron1955","R; L",3,2,10.3,54.8,66.7,7.14,15.88,89,null,442,206.84280000000001,0,91500,1,"C2T4",null,550,0.6932038834951455,0.44743701129452657,0.18795620437956206,206.84280000000001,0,{"$f":"IF(OR(X562>=1.6*D562*AD562,D562=1),calcLoadFraction(G562,F562,I562,J562,K562,D562,1),\"Condition for spring model not fulfilled\")","v":0.41095611305009305},{"$f":"IF(L562>2,L562,IF(L562=2,1,sigma_cl0(I562+J562)))","v":157.34549420162355},{"$f":"Sigma_cl(AA562,U562,V562,X562)","v":143.75304792382283},{"$f":"Sigma_cl(AA562,U562,V562,Y562)","v":157.34549420162355},{"$f":"sigma_Slip(AB562,W562,U562,IF(L562=1,mu_redLead,mu_millScale))","v":24.880958452931573},{"$f":"sigma_Slip(AC562,W562,U562,IF(L562=1,mu_redLead,mu_millScale))","v":27.233556161265927},{"$f":"Sigma_p(AB562,V562)","v":-24.149315180376377},{"$f":"Sigma_p(AC562,V562)","v":-26.432732985951443},{"$f":"beta_1(X562,AD562,Z562)","v":0.70729425071297447},{"$f":"beta_1(Y562,AE562,Z562)","v":0},{"$f":"k_tHole(W562,U562)","v":2.5354739618111553},{"$f":"K_t1Mu(Z562,AH562,D562,W562,U562,SIGN(X562),mu_millScale)","v":3.6582400146929688},{"$f":"K_t1Mu(Z562,AI562,D562,W562,U562,SIGN(Y562),mu_millScale)","v":2.014489699768339},{"$f":"Sigma_hMax(AK562,X562,AF562)","v":732.53129253075849},{"$f":"Sigma_hMin(X562,Y562,AG562,AE562,AK562,AL562,AJ562,AI562,Z562,IF(L562=1,mu_redLead,mu_millScale))","v":60.313921546696101},672.21737098406243,8.2336307215385693E-2,214.63568453757341,{"$f":"tau_n(N562,W562,U562,D562)","v":131.45679776396929},{"$f":"tau_hMax(X562,Z562,AH562,W562,U562)","v":114.63041811441741},{"$f":"tau_hMin(X562,Y562,AS562,AE562,Z562,AI562,IF(L562=1,mu_redLead,mu_millScale),W562,U562)","v":32.502900514971657},82.127517599445753]
[551,"Baron1955","R; L",3,2,10.3,54.8,66.7,7.14,15.88,89,null,442,206.84280000000001,0,1022900,1,"C2T5",null,551,0.6932038834951455,0.44743701129452657,0.18795620437956206,206.84280000000001,0,{"$f":"IF(OR(X563>=1.6*D563*AD563,D563=1),calcLoadFraction(G563,F563,I563,J563,K563,D563,1),\"Condition for spring model not fulfilled\")","v":0.41095611305009305},{"$f":"IF(L563>2,L563,IF(L563=2,1,sigma_cl0(I563+J563)))","v":157.34549420162355},{"$f":"Sigma_cl(AA563,U563,V563,X563)","v":143.75304792382283},{"$f":"Sigma_cl(AA563,U563,V563,Y563)","v":157.34549420162355},{"$f":"sigma_Slip(AB563,W563,U563,IF(L563=1,mu_redLead,mu_millScale))","v":24.880958452931573},{"$f":"sigma_Slip(AC563,W563,U563,IF(L563=1,mu_redLead,mu_millScale))","v":27.233556161265927},{"$f":"Sigma_p(AB563,V563)","v":-24.149315180376377},{"$f":"Sigma_p(AC563,V563)","v":-26.432732985951443},{"$f":"beta_1(X563,AD563,Z563)","v":0.70729425071297447},{"$f":"beta_1(Y563,AE563,Z563)","v":0},{"$f":"k_tHole(W563,U563)","v":2.5354739618111553},{"$f":"K_t1Mu(Z563,AH563,D563,W563,U563,SIGN(X563),mu_millScale)","v":3.6582400146929688},{"$f":"K_t1Mu(Z563,AI563,D563,W563,U563,SIGN(Y563),mu_millScale)","v":2.014489699768339},{"$f":"Sigma_hMax(AK563,X563,AF563)","v":732.53129253075849},{"$f":"Sigma_hMin(X563,Y563,AG563,AE563,AK563,AL563,AJ563,AI563,Z563,IF(L563=1,mu_redLead,mu_millScale))","v":60.313921546696101},672.21737098406243,8.2336307215385693E-2,214.63568453757341,{"$f":"tau_n(N563,W563,U563,D563)","v":131.45679776396929},{"$f":"tau_hMax(X563,Z563,AH563,W563,U563)","v":114.63041811441741},{"$f":"tau_hMin(X563,Y563,AS563,AE563,Z563,AI563,IF(L563=1,mu_redLead,mu_millScale),W563,U563)","v":32.502900514971657},82.127517599445753]
[552,"Baron1955","R; L",3,2,10.3,54.8,66.7,7.14,15.88,89,null,442,206.84280000000001,0,141800,1,"C2T6",null,552,0.6932038834951455,0.44743701129452657,0.18795620437956206,206.84280000000001,0,{"$f":"IF(OR(X564>=1.6*D564*AD564,D564=1),calcLoadFraction(G564,F564,I564,J564,K564,D564,1),\"Condition for spring model not fulfilled\")","v":0.41095611305009305},{"$f":"IF(L564>2,L564,IF(L564=2,1,sigma_cl0(I564+J564)))","v":157.34549420162355},{"$f":"Sigma_cl(AA564,U564,V564,X564)","v":143.75304792382283},{"$f":"Sigma_cl(AA564,U564,V564,Y564)","v":157.34549420162355},{"$f":"sigma_Slip(AB564,W564,U564,IF(L564=1,mu_redLead,mu_millScale))","v":24.880958452931573},{"$f":"sigma_Slip(AC564,W564,U564,IF(L564=1,mu_redLead,mu_millScale))","v":27.233556161265927},{"$f":"Sigma_p(AB564,V564)","v":-24.149315180376377},{"$f":"Sigma_p(AC564,V564)","v":-26.432732985951443},{"$f":"beta_1(X564,AD564,Z564)","v":0.70729425071297447},{"$f":"beta_1(Y564,AE564,Z564)","v":0},{"$f":"k_tHole(W564,U564)","v":2.5354739618111553},{"$f":"K_t1Mu(Z564,AH564,D564,W564,U564,SIGN(X564),mu_millScale)","v":3.6582400146929688},{"$f":"K_t1Mu(Z564,AI564,D564,W564,U564,SIGN(Y564),mu_millScale)","v":2.014489699768339},{"$f":"Sigma_hMax(AK564,X564,AF564)","v":732.53129253075849},{"$f":"Sigma_hMin(X564,Y564,AG564,AE564,AK564,AL564,AJ564,AI564,Z564,IF(L564=1,mu_redLead,mu_millScale))","v":60.313921546696101},672.21737098406243,8.2336307215385693E-2,214.63568453757341,{"$f":"tau_n(N564,W564,U564,D564)","v":131.45679776396929},{"$f":"tau_hMax(X564,Z564,AH564,W564,U564)","v":114.63041811441741},{"$f":"tau_hMin(X564,Y564,AS564,AE564,Z564,AI564,IF(L564=1,mu_redLead,mu_millScale),W564,U564)","v":32.502900514971657},82.127517599445753]
[553,"Baron1955","R; L",3,2,13.5,69.099999999999994,100,10.32,12.7,89,null,434,186.15852000000001,0,831100,1,"C3V1",null,{"$f":"A565","v":553},0.76444444444444448,0.58644656820156382,0.19536903039073808,186.15852000000001,0,{"$f":"IF(OR(X565>=1.6*D565*AD565,D565=1),calcLoadFraction(G565,F565,I565,J565,K565,D565,1),\"Condition for spring model not fulfilled\")","v":0.36871212004566067},{"$f":"IF(L565>2,L565,IF(L565=2,1,sigma_cl0(I565+J565)))","v":157.34549420162355},{"$f":"Sigma_cl(AA565,U565,V565,X565)","v":141.30328706415099},{"$f":"Sigma_cl(AA565,U565,V565,Y565)","v":157.34549420162355},{"$f":"sigma_Slip(AB565,W565,U565,IF(L565=1,mu_redLead,mu_millScale))","v":23.264789674330348},{"$f":"sigma_Slip(AC565,W565,U565,IF(L565=1,mu_redLead,mu_millScale))","v":25.906048647986786},{"$f":"Sigma_p(AB565,V565)","v":-31.9952018977291},{"$f":"Sigma_p(AC565,V565)","v":-35.627627348777537},{"$f":"beta_1(X565,AD565,Z565)","v":0.66105533739661804},{"$f":"beta_1(Y565,AE565,Z565)","v":0},{"$f":"k_tHole(W565,U565)","v":2.520943031075852},{"$f":"K_t1Mu(Z565,AH565,D565,W565,U565,SIGN(X565),mu_millScale)","v":3.4090346854325846},{"$f":"K_t1Mu(Z565,AI565,D565,W565,U565,SIGN(Y565),mu_millScale)","v":2.0561919063246963},{"$f":"Sigma_hMax(AK565,X565,AF565)","v":602.62564977106649},{"$f":"Sigma_hMin(X565,Y565,AG565,AE565,AK565,AL565,AJ565,AI565,Z565,IF(L565=1,mu_redLead,mu_millScale))","v":39.021015461896766},563.60463430916968,6.4751667103317936E-2,179.59073919473394,{"$f":"tau_n(N565,W565,U565,D565)","v":124.37375224596832},{"$f":"tau_hMax(X565,Z565,AH565,W565,U565)","v":90.944244874764365},{"$f":"tau_hMin(X565,Y565,AS565,AE565,Z565,AI565,IF(L565=1,mu_redLead,mu_millScale),W565,U565)","v":28.733209810548072},62.21103506421629]
[554,"Baron1955","R; L",3,2,13.5,69.099999999999994,100,10.32,12.7,89,null,434,186.15852000000001,0,722700,1,"C3V2",null,554,0.76444444444444448,0.58644656820156382,0.19536903039073808,186.15852000000001,0,{"$f":"IF(OR(X566>=1.6*D566*AD566,D566=1),calcLoadFraction(G566,F566,I566,J566,K566,D566,1),\"Condition for spring model not fulfilled\")","v":0.36871212004566067},{"$f":"IF(L566>2,L566,IF(L566=2,1,sigma_cl0(I566+J566)))","v":157.34549420162355},{"$f":"Sigma_cl(AA566,U566,V566,X566)","v":141.30328706415099},{"$f":"Sigma_cl(AA566,U566,V566,Y566)","v":157.34549420162355},{"$f":"sigma_Slip(AB566,W566,U566,IF(L566=1,mu_redLead,mu_millScale))","v":23.264789674330348},{"$f":"sigma_Slip(AC566,W566,U566,IF(L566=1,mu_redLead,mu_millScale))","v":25.906048647986786},{"$f":"Sigma_p(AB566,V566)","v":-31.9952018977291},{"$f":"Sigma_p(AC566,V566)","v":-35.627627348777537},{"$f":"beta_1(X566,AD566,Z566)","v":0.66105533739661804},{"$f":"beta_1(Y566,AE566,Z566)","v":0},{"$f":"k_tHole(W566,U566)","v":2.520943031075852},{"$f":"K_t1Mu(Z566,AH566,D566,W566,U566,SIGN(X566),mu_millScale)","v":3.4090346854325846},{"$f":"K_t1Mu(Z566,AI566,D566,W566,U566,SIGN(Y566),mu_millScale)","v":2.0561919063246963},{"$f":"Sigma_hMax(AK566,X566,AF566)","v":602.62564977106649},{"$f":"Sigma_hMin(X566,Y566,AG566,AE566,AK566,AL566,AJ566,AI566,Z566,IF(L566=1,mu_redLead,mu_millScale))","v":39.021015461896766},563.60463430916968,6.4751667103317936E-2,179.59073919473394,{"$f":"tau_n(N566,W566,U566,D566)","v":124.37375224596832},{"$f":"tau_hMax(X566,Z566,AH566,W566,U566)","v":90.944244874764365},{"$f":"tau_hMin(X566,Y566,AS566,AE566,Z566,AI566,IF(L566=1,mu_redLead,mu_millScale),W566,U566)","v":28.733209810548072},62.21103506421629]
[555,"Baron1955","R; L",3,2,13.5,69.099999999999994,100,10.32,12.7,89,null,434,186.15852000000001,0,264100,1,"C3V3",null,555,0.76444444444444448,0.58644656820156382,0.19536903039073808,186.15852000000001,0,{"$f":"IF(OR(X567>=1.6*D567*AD567,D567=1),calcLoadFraction(G567,F567,I567,J567,K567,D567,1),\"Condition for spring model not fulfilled\")","v":0.36871212004566067},{"$f":"IF(L567>2,L567,IF(L567=2,1,sigma_cl0(I567+J567)))","v":157.34549420162355},{"$f":"Sigma_cl(AA567,U567,V567,X567)","v":141.30328706415099},{"$f":"Sigma_cl(AA567,U567,V567,Y567)","v":157.34549420162355},{"$f":"sigma_Slip(AB567,W567,U567,IF(L567=1,mu_redLead,mu_millScale))","v":23.264789674330348},{"$f":"sigma_Slip(AC567,W567,U567,IF(L567=1,mu_redLead,mu_millScale))","v":25.906048647986786},{"$f":"Sigma_p(AB567,V567)","v":-31.9952018977291},{"$f":"Sigma_p(AC567,V567)","v":-35.627627348777537},{"$f":"beta_1(X567,AD567,Z567)","v":0.66105533739661804},{"$f":"beta_1(Y567,AE567,Z567)","v":0},{"$f":"k_tHole(W567,U567)","v":2.520943031075852},{"$f":"K_t1Mu(Z567,AH567,D567,W567,U567,SIGN(X567),mu_millScale)","v":3.4090346854325846},{"$f":"K_t1Mu(Z567,AI567,D567,W567,U567,SIGN(Y567),mu_millScale)","v":2.0561919063246963},{"$f":"Sigma_hMax(AK567,X567,AF567)","v":602.62564977106649},{"$f":"Sigma_hMin(X567,Y567,AG567,AE567,AK567,AL567,AJ567,AI567,Z567,IF(L567=1,mu_redLead,mu_millScale))","v":39.021015461896766},563.60463430916968,6.4751667103317936E-2,179.59073919473394,{"$f":"tau_n(N567,W567,U567,D567)","v":124.37375224596832},{"$f":"tau_hMax(X567,Z567,AH567,W567,U567)","v":90.944244874764365},{"$f":"tau_hMin(X567,Y567,AS567,AE567,Z567,AI567,IF(L567=1,mu_redLead,mu_millScale),W567,U567)","v":28.733209810548072},62.21103506421629]
[556,"Baron1955","R; L",3,2,13.5,69.099999999999994,100,10.32,12.7,89,null,434,165.47424000000001,0,1100700,1,"C3V4",null,556,0.76444444444444448,0.58644656820156382,0.19536903039073808,165.47424000000001,0,{"$f":"IF(OR(X568>=1.6*D568*AD568,D568=1),calcLoadFraction(G568,F568,I568,J568,K568,D568,1),\"Condition for spring model not fulfilled\")","v":0.36871212004566067},{"$f":"IF(L568>2,L568,IF(L568=2,1,sigma_cl0(I568+J568)))","v":157.34549420162355},{"$f":"Sigma_cl(AA568,U568,V568,X568)","v":143.08575452387018},{"$f":"Sigma_cl(AA568,U568,V568,Y568)","v":157.34549420162355},{"$f":"sigma_Slip(AB568,W568,U568,IF(L568=1,mu_redLead,mu_millScale))","v":23.558262893625511},{"$f":"sigma_Slip(AC568,W568,U568,IF(L568=1,mu_redLead,mu_millScale))","v":25.906048647986786},{"$f":"Sigma_p(AB568,V568)","v":-32.398804725623371},{"$f":"Sigma_p(AC568,V568)","v":-35.627627348777537},{"$f":"beta_1(X568,AD568,Z568)","v":0.61387719264818807},{"$f":"beta_1(Y568,AE568,Z568)","v":0},{"$f":"k_tHole(W568,U568)","v":2.520943031075852},{"$f":"K_t1Mu(Z568,AH568,D568,W568,U568,SIGN(X568),mu_millScale)","v":3.3257974640268286},{"$f":"K_t1Mu(Z568,AI568,D568,W568,U568,SIGN(Y568),mu_millScale)","v":2.0561919063246963},{"$f":"Sigma_hMax(AK568,X568,AF568)","v":517.93500302814346},{"$f":"Sigma_hMin(X568,Y568,AG568,AE568,AK568,AL568,AJ568,AI568,Z568,IF(L568=1,mu_redLead,mu_millScale))","v":33.690841946365623},484.24416108177786,6.5048397481131309E-2,154.30798901152357,{"$f":"tau_n(N568,W568,U568,D568)","v":110.55444644086073},{"$f":"tau_hMax(X568,Z568,AH568,W568,U568)","v":75.069993990175448},{"$f":"tau_hMin(X568,Y568,AS568,AE568,Z568,AI568,IF(L568=1,mu_redLead,mu_millScale),W568,U568)","v":25.561360530149233},49.508633460026218]
[557,"Baron1955","R; L",3,2,13.5,69.099999999999994,100,10.32,12.7,89,null,434,165.47424000000001,0,497100,1,"C3V5",null,557,0.76444444444444448,0.58644656820156382,0.19536903039073808,165.47424000000001,0,{"$f":"IF(OR(X569>=1.6*D569*AD569,D569=1),calcLoadFraction(G569,F569,I569,J569,K569,D569,1),\"Condition for spring model not fulfilled\")","v":0.36871212004566067},{"$f":"IF(L569>2,L569,IF(L569=2,1,sigma_cl0(I569+J569)))","v":157.34549420162355},{"$f":"Sigma_cl(AA569,U569,V569,X569)","v":143.08575452387018},{"$f":"Sigma_cl(AA569,U569,V569,Y569)","v":157.34549420162355},{"$f":"sigma_Slip(AB569,W569,U569,IF(L569=1,mu_redLead,mu_millScale))","v":23.558262893625511},{"$f":"sigma_Slip(AC569,W569,U569,IF(L569=1,mu_redLead,mu_millScale))","v":25.906048647986786},{"$f":"Sigma_p(AB569,V569)","v":-32.398804725623371},{"$f":"Sigma_p(AC569,V569)","v":-35.627627348777537},{"$f":"beta_1(X569,AD569,Z569)","v":0.61387719264818807},{"$f":"beta_1(Y569,AE569,Z569)","v":0},{"$f":"k_tHole(W569,U569)","v":2.520943031075852},{"$f":"K_t1Mu(Z569,AH569,D569,W569,U569,SIGN(X569),mu_millScale)","v":3.3257974640268286},{"$f":"K_t1Mu(Z569,AI569,D569,W569,U569,SIGN(Y569),mu_millScale)","v":2.0561919063246963},{"$f":"Sigma_hMax(AK569,X569,AF569)","v":517.93500302814346},{"$f":"Sigma_hMin(X569,Y569,AG569,AE569,AK569,AL569,AJ569,AI569,Z569,IF(L569=1,mu_redLead,mu_millScale))","v":33.690841946365623},484.24416108177786,6.5048397481131309E-2,154.30798901152357,{"$f":"tau_n(N569,W569,U569,D569)","v":110.55444644086073},{"$f":"tau_hMax(X569,Z569,AH569,W569,U569)","v":75.069993990175448},{"$f":"tau_hMin(X569,Y569,AS569,AE569,Z569,AI569,IF(L569=1,mu_redLead,mu_millScale),W569,U569)","v":25.561360530149233},49.508633460026218]
[558,"Baron1955","R; L",3,2,13.5,69.099999999999994,100,10.32,12.7,89,null,434,165.47424000000001,0,1701100,1,"C3V6",null,558,0.76444444444444448,0.58644656820156382,0.19536903039073808,165.47424000000001,0,{"$f":"IF(OR(X570>=1.6*D570*AD570,D570=1),calcLoadFraction(G570,F570,I570,J570,K570,D570,1),\"Condition for spring model not fulfilled\")","v":0.36871212004566067},{"$f":"IF(L570>2,L570,IF(L570=2,1,sigma_cl0(I570+J570)))","v":157.34549420162355},{"$f":"Sigma_cl(AA570,U570,V570,X570)","v":143.08575452387018},{"$f":"Sigma_cl(AA570,U570,V570,Y570)","v":157.34549420162355},{"$f":"sigma_Slip(AB570,W570,U570,IF(L570=1,mu_redLead,mu_millScale))","v":23.558262893625511},{"$f":"sigma_Slip(AC570,W570,U570,IF(L570=1,mu_redLead,mu_millScale))","v":25.906048647986786},{"$f":"Sigma_p(AB570,V570)","v":-32.398804725623371},{"$f":"Sigma_p(AC570,V570)","v":-35.627627348777537},{"$f":"beta_1(X570,AD570,Z570)","v":0.61387719264818807},{"$f":"beta_1(Y570,AE570,Z570)","v":0},{"$f":"k_tHole(W570,U570)","v":2.520943031075852},{"$f":"K_t1Mu(Z570,AH570,D570,W570,U570,SIGN(X570),mu_millScale)","v":3.3257974640268286},{"$f":"K_t1Mu(Z570,AI570,D570,W570,U570,SIGN(Y570),mu_millScale)","v":2.0561919063246963},{"$f":"Sigma_hMax(AK570,X570,AF570)","v":517.93500302814346},{"$f":"Sigma_hMin(X570,Y570,AG570,AE570,AK570,AL570,AJ570,AI570,Z570,IF(L570=1,mu_redLead,mu_millScale))","v":33.690841946365623},484.24416108177786,6.5048397481131309E-2,154.30798901152357,{"$f":"tau_n(N570,W570,U570,D570)","v":110.55444644086073},{"$f":"tau_hMax(X570,Z570,AH570,W570,U570)","v":75.069993990175448},{"$f":"tau_hMin(X570,Y570,AS570,AE570,Z570,AI570,IF(L570=1,mu_redLead,mu_millScale),W570,U570)","v":25.561360530149233},49.508633460026218]
[559,"Baron1955","R; L",3,2,13.5,69.099999999999994,95.3,10.32,38.1,89,null,434,186.15852000000001,0,366200,1,"C4V1",null,559,0.76444444444444448,0.27881040892193309,0.19536903039073808,186.15852000000001,0,{"$f":"IF(OR(X571>=1.6*D571*AD571,D571=1),calcLoadFraction(G571,F571,I571,J571,K571,D571,1),\"Condition for spring model not fulfilled\")","v":0.39269348099354834},{"$f":"IF(L571>2,L571,IF(L571=2,1,sigma_cl0(I571+J571)))","v":206.83023818095617},{"$f":"Sigma_cl(AA571,U571,V571,X571)","v":197.1859951205488},{"$f":"Sigma_cl(AA571,U571,V571,Y571)","v":206.83023818095617},{"$f":"sigma_Slip(AB571,W571,U571,IF(L571=1,mu_redLead,mu_millScale))","v":32.465562539393723},{"$f":"sigma_Slip(AC571,W571,U571,IF(L571=1,mu_redLead,mu_millScale))","v":34.053432793725698},{"$f":"Sigma_p(AB571,V571)","v":-18.651224059820812},{"$f":"Sigma_p(AC571,V571)","v":-19.563443703498159},{"$f":"beta_1(X571,AD571,Z571)","v":0.55589432469525124},{"$f":"beta_1(Y571,AE571,Z571)","v":0},{"$f":"k_tHole(W571,U571)","v":2.520943031075852},{"$f":"K_t1Mu(Z571,AH571,D571,W571,U571,SIGN(X571),mu_millScale)","v":3.2601713825211136},{"$f":"K_t1Mu(Z571,AI571,D571,W571,U571,SIGN(Y571),mu_millScale)","v":2.0259640839460502},{"$f":"Sigma_hMax(AK571,X571,AF571)","v":588.25745545666359},{"$f":"Sigma_hMin(X571,Y571,AG571,AE571,AK571,AL571,AJ571,AI571,Z571,IF(L571=1,mu_redLead,mu_millScale))","v":63.781490217664661},524.47596523899892,0.10842444855739425,167.99180831036881,{"$f":"tau_n(N571,W571,U571,D571)","v":124.37375224596832},{"$f":"tau_hMax(X571,Z571,AH571,W571,U571)","v":81.450906751314236},{"$f":"tau_hMin(X571,Y571,AS571,AE571,Z571,AI571,IF(L571=1,mu_redLead,mu_millScale),W571,U571)","v":29.363108273250447},52.087798478063789]
[560,"Baron1955","R; L",3,2,13.5,69.099999999999994,95.3,10.32,38.1,89,null,434,186.15852000000001,0,450000,1,"C4V2",null,560,0.76444444444444448,0.27881040892193309,0.19536903039073808,186.15852000000001,0,{"$f":"IF(OR(X572>=1.6*D572*AD572,D572=1),calcLoadFraction(G572,F572,I572,J572,K572,D572,1),\"Condition for spring model not fulfilled\")","v":0.39269348099354834},{"$f":"IF(L572>2,L572,IF(L572=2,1,sigma_cl0(I572+J572)))","v":206.83023818095617},{"$f":"Sigma_cl(AA572,U572,V572,X572)","v":197.1859951205488},{"$f":"Sigma_cl(AA572,U572,V572,Y572)","v":206.83023818095617},{"$f":"sigma_Slip(AB572,W572,U572,IF(L572=1,mu_redLead,mu_millScale))","v":32.465562539393723},{"$f":"sigma_Slip(AC572,W572,U572,IF(L572=1,mu_redLead,mu_millScale))","v":34.053432793725698},{"$f":"Sigma_p(AB572,V572)","v":-18.651224059820812},{"$f":"Sigma_p(AC572,V572)","v":-19.563443703498159},{"$f":"beta_1(X572,AD572,Z572)","v":0.55589432469525124},{"$f":"beta_1(Y572,AE572,Z572)","v":0},{"$f":"k_tHole(W572,U572)","v":2.520943031075852},{"$f":"K_t1Mu(Z572,AH572,D572,W572,U572,SIGN(X572),mu_millScale)","v":3.2601713825211136},{"$f":"K_t1Mu(Z572,AI572,D572,W572,U572,SIGN(Y572),mu_millScale)","v":2.0259640839460502},{"$f":"Sigma_hMax(AK572,X572,AF572)","v":588.25745545666359},{"$f":"Sigma_hMin(X572,Y572,AG572,AE572,AK572,AL572,AJ572,AI572,Z572,IF(L572=1,mu_redLead,mu_millScale))","v":63.781490217664661},524.47596523899892,0.10842444855739425,167.99180831036881,{"$f":"tau_n(N572,W572,U572,D572)","v":124.37375224596832},{"$f":"tau_hMax(X572,Z572,AH572,W572,U572)","v":81.450906751314236},{"$f":"tau_hMin(X572,Y572,AS572,AE572,Z572,AI572,IF(L572=1,mu_redLead,mu_millScale),W572,U572)","v":29.363108273250447},52.087798478063789]
[561,"Baron1955","R; L",3,2,13.5,69.099999999999994,95.3,10.32,38.1,89,null,434,186.15852000000001,0,511300,1,"C4V3",null,561,0.76444444444444448,0.27881040892193309,0.19536903039073808,186.15852000000001,0,{"$f":"IF(OR(X573>=1.6*D573*AD573,D573=1),calcLoadFraction(G573,F573,I573,J573,K573,D573,1),\"Condition for spring model not fulfilled\")","v":0.39269348099354834},{"$f":"IF(L573>2,L573,IF(L573=2,1,sigma_cl0(I573+J573)))","v":206.83023818095617},{"$f":"Sigma_cl(AA573,U573,V573,X573)","v":197.1859951205488},{"$f":"Sigma_cl(AA573,U573,V573,Y573)","v":206.83023818095617},{"$f":"sigma_Slip(AB573,W573,U573,IF(L573=1,mu_redLead,mu_millScale))","v":32.465562539393723},{"$f":"sigma_Slip(AC573,W573,U573,IF(L573=1,mu_redLead,mu_millScale))","v":34.053432793725698},{"$f":"Sigma_p(AB573,V573)","v":-18.651224059820812},{"$f":"Sigma_p(AC573,V573)","v":-19.563443703498159},{"$f":"beta_1(X573,AD573,Z573)","v":0.55589432469525124},{"$f":"beta_1(Y573,AE573,Z573)","v":0},{"$f":"k_tHole(W573,U573)","v":2.520943031075852},{"$f":"K_t1Mu(Z573,AH573,D573,W573,U573,SIGN(X573),mu_millScale)","v":3.2601713825211136},{"$f":"K_t1Mu(Z573,AI573,D573,W573,U573,SIGN(Y573),mu_millScale)","v":2.0259640839460502},{"$f":"Sigma_hMax(AK573,X573,AF573)","v":588.25745545666359},{"$f":"Sigma_hMin(X573,Y573,AG573,AE573,AK573,AL573,AJ573,AI573,Z573,IF(L573=1,mu_redLead,mu_millScale))","v":63.781490217664661},524.47596523899892,0.10842444855739425,167.99180831036881,{"$f":"tau_n(N573,W573,U573,D573)","v":124.37375224596832},{"$f":"tau_hMax(X573,Z573,AH573,W573,U573)","v":81.450906751314236},{"$f":"tau_hMin(X573,Y573,AS573,AE573,Z573,AI573,IF(L573=1,mu_redLead,mu_millScale),W573,U573)","v":29.363108273250447},52.087798478063789]
[562,"Baron1955","R; L",3,2,13.5,69.099999999999994,95.3,10.32,38.1,89,null,434,165.47424000000001,0,900900,1,"C4V4",null,562,0.76444444444444448,0.27881040892193309,0.19536903039073808,165.47424000000001,0,{"$f":"IF(OR(X574>=1.6*D574*AD574,D574=1),calcLoadFraction(G574,F574,I574,J574,K574,D574,1),\"Condition for spring model not fulfilled\")","v":0.39269348099354834},{"$f":"IF(L574>2,L574,IF(L574=2,1,sigma_cl0(I574+J574)))","v":206.83023818095617},{"$f":"Sigma_cl(AA574,U574,V574,X574)","v":198.25757768281628},{"$f":"Sigma_cl(AA574,U574,V574,Y574)","v":206.83023818095617},{"$f":"sigma_Slip(AB574,W574,U574,IF(L574=1,mu_redLead,mu_millScale))","v":32.641992567652828},{"$f":"sigma_Slip(AC574,W574,U574,IF(L574=1,mu_redLead,mu_millScale))","v":34.053432793725698},{"$f":"Sigma_p(AB574,V574)","v":-18.752581798007181},{"$f":"Sigma_p(AC574,V574)","v":-19.563443703498159},{"$f":"beta_1(X574,AD574,Z574)","v":0.49766599910813192},{"$f":"beta_1(Y574,AE574,Z574)","v":0},{"$f":"k_tHole(W574,U574)","v":2.520943031075852},{"$f":"K_t1Mu(Z574,AH574,D574,W574,U574,SIGN(X574),mu_millScale)","v":3.1336554136727726},{"$f":"K_t1Mu(Z574,AI574,D574,W574,U574,SIGN(Y574),mu_millScale)","v":2.0259640839460502},{"$f":"Sigma_hMax(AK574,X574,AF574)","v":499.78666620138051},{"$f":"Sigma_hMin(X574,Y574,AG574,AE574,AK574,AL574,AJ574,AI574,Z574,IF(L574=1,mu_redLead,mu_millScale))","v":55.261895074977339},444.52477112640315,0.1105709671988538,142.42119007401928,{"$f":"tau_n(N574,W574,U574,D574)","v":110.55444644086073},{"$f":"tau_hMax(X574,Z574,AH574,W574,U574)","v":64.817030601199832},{"$f":"tau_hMin(X574,Y574,AS574,AE574,Z574,AI574,IF(L574=1,mu_redLead,mu_millScale),W574,U574)","v":25.064782547460183},39.752248053739649]
[563,"Baron1955","R; L",3,2,13.5,69.099999999999994,95.3,10.32,38.1,89,null,434,165.47424000000001,0,1745700,1,"C4V5",null,563,0.76444444444444448,0.27881040892193309,0.19536903039073808,165.47424000000001,0,{"$f":"IF(OR(X575>=1.6*D575*AD575,D575=1),calcLoadFraction(G575,F575,I575,J575,K575,D575,1),\"Condition for spring model not fulfilled\")","v":0.39269348099354834},{"$f":"IF(L575>2,L575,IF(L575=2,1,sigma_cl0(I575+J575)))","v":206.83023818095617},{"$f":"Sigma_cl(AA575,U575,V575,X575)","v":198.25757768281628},{"$f":"Sigma_cl(AA575,U575,V575,Y575)","v":206.83023818095617},{"$f":"sigma_Slip(AB575,W575,U575,IF(L575=1,mu_redLead,mu_millScale))","v":32.641992567652828},{"$f":"sigma_Slip(AC575,W575,U575,IF(L575=1,mu_redLead,mu_millScale))","v":34.053432793725698},{"$f":"Sigma_p(AB575,V575)","v":-18.752581798007181},{"$f":"Sigma_p(AC575,V575)","v":-19.563443703498159},{"$f":"beta_1(X575,AD575,Z575)","v":0.49766599910813192},{"$f":"beta_1(Y575,AE575,Z575)","v":0},{"$f":"k_tHole(W575,U575)","v":2.520943031075852},{"$f":"K_t1Mu(Z575,AH575,D575,W575,U575,SIGN(X575),mu_millScale)","v":3.1336554136727726},{"$f":"K_t1Mu(Z575,AI575,D575,W575,U575,SIGN(Y575),mu_millScale)","v":2.0259640839460502},{"$f":"Sigma_hMax(AK575,X575,AF575)","v":499.78666620138051},{"$f":"Sigma_hMin(X575,Y575,AG575,AE575,AK575,AL575,AJ575,AI575,Z575,IF(L575=1,mu_redLead,mu_millScale))","v":55.261895074977339},444.52477112640315,0.1105709671988538,142.42119007401928,{"$f":"tau_n(N575,W575,U575,D575)","v":110.55444644086073},{"$f":"tau_hMax(X575,Z575,AH575,W575,U575)","v":64.817030601199832},{"$f":"tau_hMin(X575,Y575,AS575,AE575,Z575,AI575,IF(L575=1,mu_redLead,mu_millScale),W575,U575)","v":25.064782547460183},39.752248053739649]
[564,"Baron1955","R; L",3,2,13.5,69.099999999999994,95.3,10.32,38.1,89,null,434,165.47424000000001,0,2354400,1,"C4V6",null,564,0.76444444444444448,0.27881040892193309,0.19536903039073808,165.47424000000001,0,{"$f":"IF(OR(X576>=1.6*D576*AD576,D576=1),calcLoadFraction(G576,F576,I576,J576,K576,D576,1),\"Condition for spring model not fulfilled\")","v":0.39269348099354834},{"$f":"IF(L576>2,L576,IF(L576=2,1,sigma_cl0(I576+J576)))","v":206.83023818095617},{"$f":"Sigma_cl(AA576,U576,V576,X576)","v":198.25757768281628},{"$f":"Sigma_cl(AA576,U576,V576,Y576)","v":206.83023818095617},{"$f":"sigma_Slip(AB576,W576,U576,IF(L576=1,mu_redLead,mu_millScale))","v":32.641992567652828},{"$f":"sigma_Slip(AC576,W576,U576,IF(L576=1,mu_redLead,mu_millScale))","v":34.053432793725698},{"$f":"Sigma_p(AB576,V576)","v":-18.752581798007181},{"$f":"Sigma_p(AC576,V576)","v":-19.563443703498159},{"$f":"beta_1(X576,AD576,Z576)","v":0.49766599910813192},{"$f":"beta_1(Y576,AE576,Z576)","v":0},{"$f":"k_tHole(W576,U576)","v":2.520943031075852},{"$f":"K_t1Mu(Z576,AH576,D576,W576,U576,SIGN(X576),mu_millScale)","v":3.1336554136727726},{"$f":"K_t1Mu(Z576,AI576,D576,W576,U576,SIGN(Y576),mu_millScale)","v":2.0259640839460502},{"$f":"Sigma_hMax(AK576,X576,AF576)","v":499.78666620138051},{"$f":"Sigma_hMin(X576,Y576,AG576,AE576,AK576,AL576,AJ576,AI576,Z576,IF(L576=1,mu_redLead,mu_millScale))","v":55.261895074977339},444.52477112640315,0.1105709671988538,142.42119007401928,{"$f":"tau_n(N576,W576,U576,D576)","v":110.55444644086073},{"$f":"tau_hMax(X576,Z576,AH576,W576,U576)","v":64.817030601199832},{"$f":"tau_hMin(X576,Y576,AS576,AE576,Z576,AI576,IF(L576=1,mu_redLead,mu_millScale),W576,U576)","v":25.064782547460183},39.752248053739649]
[565,"Baron1955","R; L",3,3,10.3,50.8,63.5,7.14,15.88,89,null,442,186.15852000000001,0,1443200,1,"D1T1",null,565,0.6932038834951455,0.44743701129452657,0.20275590551181105,186.15852000000001,0,{"$f":"IF(OR(X577>=1.6*D577*AD577,D577=1),calcLoadFraction(G577,F577,I577,J577,K577,D577,1),\"Condition for spring model not fulfilled\")","v":0.41574003409144855},{"$f":"IF(L577>2,L577,IF(L577=2,1,sigma_cl0(I577+J577)))","v":157.34549420162355},{"$f":"Sigma_cl(AA577,U577,V577,X577)","v":145.11229255160291},{"$f":"Sigma_cl(AA577,U577,V577,Y577)","v":157.34549420162355},{"$f":"sigma_Slip(AB577,W577,U577,IF(L577=1,mu_redLead,mu_millScale))","v":27.596832369322044},{"$f":"sigma_Slip(AC577,W577,U577,IF(L577=1,mu_redLead,mu_millScale))","v":29.923290103119353},{"$f":"Sigma_p(AB577,V577)","v":-24.377656960933884},{"$f":"Sigma_p(AC577,V577)","v":-26.432732985951443},{"$f":"beta_1(X577,AD577,Z577)","v":0.64342206081763709},{"$f":"beta_1(Y577,AE577,Z577)","v":0},{"$f":"k_tHole(W577,U577)","v":2.5067268685226347},{"$f":"K_t1Mu(Z577,AH577,D577,W577,U577,SIGN(X577),mu_millScale)","v":3.4130701168347573},{"$f":"K_t1Mu(Z577,AI577,D577,W577,U577,SIGN(Y577),mu_millScale)","v":1.9856535116338596},{"$f":"Sigma_hMax(AK577,X577,AF577)","v":610.99442464525168},{"$f":"Sigma_hMin(X577,Y577,AG577,AE577,AK577,AL577,AJ577,AI577,Z577,IF(L577=1,mu_redLead,mu_millScale))","v":55.106092297133863},555.88833234811784,9.0190826747934577E-2,177.65789290437698,{"$f":"tau_n(N577,W577,U577,D577)","v":107.67641075273438},{"$f":"tau_hMax(X577,Z577,AH577,W577,U577)","v":86.409127489530874},{"$f":"tau_hMin(X577,Y577,AS577,AE577,Z577,AI577,IF(L577=1,mu_redLead,mu_millScale),W577,U577)","v":27.727679600063556},58.681447889467321]
[566,"Baron1955","R; L",3,3,10.3,50.8,63.5,7.14,15.88,89,null,442,186.15852000000001,0,1280100,1,"D1T2",null,566,0.6932038834951455,0.44743701129452657,0.20275590551181105,186.15852000000001,0,{"$f":"IF(OR(X578>=1.6*D578*AD578,D578=1),calcLoadFraction(G578,F578,I578,J578,K578,D578,1),\"Condition for spring model not fulfilled\")","v":0.41574003409144855},{"$f":"IF(L578>2,L578,IF(L578=2,1,sigma_cl0(I578+J578)))","v":157.34549420162355},{"$f":"Sigma_cl(AA578,U578,V578,X578)","v":145.11229255160291},{"$f":"Sigma_cl(AA578,U578,V578,Y578)","v":157.34549420162355},{"$f":"sigma_Slip(AB578,W578,U578,IF(L578=1,mu_redLead,mu_millScale))","v":27.596832369322044},{"$f":"sigma_Slip(AC578,W578,U578,IF(L578=1,mu_redLead,mu_millScale))","v":29.923290103119353},{"$f":"Sigma_p(AB578,V578)","v":-24.377656960933884},{"$f":"Sigma_p(AC578,V578)","v":-26.432732985951443},{"$f":"beta_1(X578,AD578,Z578)","v":0.64342206081763709},{"$f":"beta_1(Y578,AE578,Z578)","v":0},{"$f":"k_tHole(W578,U578)","v":2.5067268685226347},{"$f":"K_t1Mu(Z578,AH578,D578,W578,U578,SIGN(X578),mu_millScale)","v":3.4130701168347573},{"$f":"K_t1Mu(Z578,AI578,D578,W578,U578,SIGN(Y578),mu_millScale)","v":1.9856535116338596},{"$f":"Sigma_hMax(AK578,X578,AF578)","v":610.99442464525168},{"$f":"Sigma_hMin(X578,Y578,AG578,AE578,AK578,AL578,AJ578,AI578,Z578,IF(L578=1,mu_redLead,mu_millScale))","v":55.106092297133863},555.88833234811784,9.0190826747934577E-2,177.65789290437698,{"$f":"tau_n(N578,W578,U578,D578)","v":107.67641075273438},{"$f":"tau_hMax(X578,Z578,AH578,W578,U578)","v":86.409127489530874},{"$f":"tau_hMin(X578,Y578,AS578,AE578,Z578,AI578,IF(L578=1,mu_redLead,mu_millScale),W578,U578)","v":27.727679600063556},58.681447889467321]
[567,"Baron1955","R; L",3,3,10.3,50.8,63.5,7.14,15.88,89,null,442,186.15852000000001,0,1188100,1,"D1T3",null,567,0.6932038834951455,0.44743701129452657,0.20275590551181105,186.15852000000001,0,{"$f":"IF(OR(X579>=1.6*D579*AD579,D579=1),calcLoadFraction(G579,F579,I579,J579,K579,D579,1),\"Condition for spring model not fulfilled\")","v":0.41574003409144855},{"$f":"IF(L579>2,L579,IF(L579=2,1,sigma_cl0(I579+J579)))","v":157.34549420162355},{"$f":"Sigma_cl(AA579,U579,V579,X579)","v":145.11229255160291},{"$f":"Sigma_cl(AA579,U579,V579,Y579)","v":157.34549420162355},{"$f":"sigma_Slip(AB579,W579,U579,IF(L579=1,mu_redLead,mu_millScale))","v":27.596832369322044},{"$f":"sigma_Slip(AC579,W579,U579,IF(L579=1,mu_redLead,mu_millScale))","v":29.923290103119353},{"$f":"Sigma_p(AB579,V579)","v":-24.377656960933884},{"$f":"Sigma_p(AC579,V579)","v":-26.432732985951443},{"$f":"beta_1(X579,AD579,Z579)","v":0.64342206081763709},{"$f":"beta_1(Y579,AE579,Z579)","v":0},{"$f":"k_tHole(W579,U579)","v":2.5067268685226347},{"$f":"K_t1Mu(Z579,AH579,D579,W579,U579,SIGN(X579),mu_millScale)","v":3.4130701168347573},{"$f":"K_t1Mu(Z579,AI579,D579,W579,U579,SIGN(Y579),mu_millScale)","v":1.9856535116338596},{"$f":"Sigma_hMax(AK579,X579,AF579)","v":610.99442464525168},{"$f":"Sigma_hMin(X579,Y579,AG579,AE579,AK579,AL579,AJ579,AI579,Z579,IF(L579=1,mu_redLead,mu_millScale))","v":55.106092297133863},555.88833234811784,9.0190826747934577E-2,177.65789290437698,{"$f":"tau_n(N579,W579,U579,D579)","v":107.67641075273438},{"$f":"tau_hMax(X579,Z579,AH579,W579,U579)","v":86.409127489530874},{"$f":"tau_hMin(X579,Y579,AS579,AE579,Z579,AI579,IF(L579=1,mu_redLead,mu_millScale),W579,U579)","v":27.727679600063556},58.681447889467321]
[568,"Baron1955","R; L",3,3,10.3,50.8,63.5,7.14,15.88,89,null,442,206.84280000000001,0,861700,1,"D1T4",null,568,0.6932038834951455,0.44743701129452657,0.20275590551181105,206.84280000000001,0,{"$f":"IF(OR(X580>=1.6*D580*AD580,D580=1),calcLoadFraction(G580,F580,I580,J580,K580,D580,1),\"Condition for spring model not fulfilled\")","v":0.41574003409144855},{"$f":"IF(L580>2,L580,IF(L580=2,1,sigma_cl0(I580+J580)))","v":157.34549420162355},{"$f":"Sigma_cl(AA580,U580,V580,X580)","v":143.75304792382283},{"$f":"Sigma_cl(AA580,U580,V580,Y580)","v":157.34549420162355},{"$f":"sigma_Slip(AB580,W580,U580,IF(L580=1,mu_redLead,mu_millScale))","v":27.33833706556679},{"$f":"sigma_Slip(AC580,W580,U580,IF(L580=1,mu_redLead,mu_millScale))","v":29.923290103119353},{"$f":"Sigma_p(AB580,V580)","v":-24.149315180376377},{"$f":"Sigma_p(AC580,V580)","v":-26.432732985951443},{"$f":"beta_1(X580,AD580,Z580)","v":0.68208586460400045},{"$f":"beta_1(Y580,AE580,Z580)","v":0},{"$f":"k_tHole(W580,U580)","v":2.5067268685226347},{"$f":"K_t1Mu(Z580,AH580,D580,W580,U580,SIGN(X580),mu_millScale)","v":3.4833546813070151},{"$f":"K_t1Mu(Z580,AI580,D580,W580,U580,SIGN(Y580),mu_millScale)","v":1.9856535116338596},{"$f":"Sigma_hMax(AK580,X580,AF580)","v":696.35752049427435},{"$f":"Sigma_hMin(X580,Y580,AG580,AE580,AK580,AL580,AJ580,AI580,Z580,IF(L580=1,mu_redLead,mu_millScale))","v":59.990029446205497},636.36749104806881,8.6148318472420021E-2,203.28053607363589,{"$f":"tau_n(N580,W580,U580,D580)","v":119.64045639192709},{"$f":"tau_hMax(X580,Z580,AH580,W580,U580)","v":101.77947644242715},{"$f":"tau_hMin(X580,Y580,AS580,AE580,Z580,AI580,IF(L580=1,mu_redLead,mu_millScale),W580,U580)","v":30.494428916860667},71.285047525566483]
[569,"Baron1955","R; L",3,3,10.3,50.8,63.5,7.14,15.88,89,null,442,206.84280000000001,0,227800,1,"D1T5",null,569,0.6932038834951455,0.44743701129452657,0.20275590551181105,206.84280000000001,0,{"$f":"IF(OR(X581>=1.6*D581*AD581,D581=1),calcLoadFraction(G581,F581,I581,J581,K581,D581,1),\"Condition for spring model not fulfilled\")","v":0.41574003409144855},{"$f":"IF(L581>2,L581,IF(L581=2,1,sigma_cl0(I581+J581)))","v":157.34549420162355},{"$f":"Sigma_cl(AA581,U581,V581,X581)","v":143.75304792382283},{"$f":"Sigma_cl(AA581,U581,V581,Y581)","v":157.34549420162355},{"$f":"sigma_Slip(AB581,W581,U581,IF(L581=1,mu_redLead,mu_millScale))","v":27.33833706556679},{"$f":"sigma_Slip(AC581,W581,U581,IF(L581=1,mu_redLead,mu_millScale))","v":29.923290103119353},{"$f":"Sigma_p(AB581,V581)","v":-24.149315180376377},{"$f":"Sigma_p(AC581,V581)","v":-26.432732985951443},{"$f":"beta_1(X581,AD581,Z581)","v":0.68208586460400045},{"$f":"beta_1(Y581,AE581,Z581)","v":0},{"$f":"k_tHole(W581,U581)","v":2.5067268685226347},{"$f":"K_t1Mu(Z581,AH581,D581,W581,U581,SIGN(X581),mu_millScale)","v":3.4833546813070151},{"$f":"K_t1Mu(Z581,AI581,D581,W581,U581,SIGN(Y581),mu_millScale)","v":1.9856535116338596},{"$f":"Sigma_hMax(AK581,X581,AF581)","v":696.35752049427435},{"$f":"Sigma_hMin(X581,Y581,AG581,AE581,AK581,AL581,AJ581,AI581,Z581,IF(L581=1,mu_redLead,mu_millScale))","v":59.990029446205497},636.36749104806881,8.6148318472420021E-2,203.28053607363589,{"$f":"tau_n(N581,W581,U581,D581)","v":119.64045639192709},{"$f":"tau_hMax(X581,Z581,AH581,W581,U581)","v":101.77947644242715},{"$f":"tau_hMin(X581,Y581,AS581,AE581,Z581,AI581,IF(L581=1,mu_redLead,mu_millScale),W581,U581)","v":30.494428916860667},71.285047525566483]
[570,"Baron1955","R; L",3,3,10.3,50.8,63.5,7.14,15.88,89,null,442,206.84280000000001,0,829900,1,"D1T6",null,570,0.6932038834951455,0.44743701129452657,0.20275590551181105,206.84280000000001,0,{"$f":"IF(OR(X582>=1.6*D582*AD582,D582=1),calcLoadFraction(G582,F582,I582,J582,K582,D582,1),\"Condition for spring model not fulfilled\")","v":0.41574003409144855},{"$f":"IF(L582>2,L582,IF(L582=2,1,sigma_cl0(I582+J582)))","v":157.34549420162355},{"$f":"Sigma_cl(AA582,U582,V582,X582)","v":143.75304792382283},{"$f":"Sigma_cl(AA582,U582,V582,Y582)","v":157.34549420162355},{"$f":"sigma_Slip(AB582,W582,U582,IF(L582=1,mu_redLead,mu_millScale))","v":27.33833706556679},{"$f":"sigma_Slip(AC582,W582,U582,IF(L582=1,mu_redLead,mu_millScale))","v":29.923290103119353},{"$f":"Sigma_p(AB582,V582)","v":-24.149315180376377},{"$f":"Sigma_p(AC582,V582)","v":-26.432732985951443},{"$f":"beta_1(X582,AD582,Z582)","v":0.68208586460400045},{"$f":"beta_1(Y582,AE582,Z582)","v":0},{"$f":"k_tHole(W582,U582)","v":2.5067268685226347},{"$f":"K_t1Mu(Z582,AH582,D582,W582,U582,SIGN(X582),mu_millScale)","v":3.4833546813070151},{"$f":"K_t1Mu(Z582,AI582,D582,W582,U582,SIGN(Y582),mu_millScale)","v":1.9856535116338596},{"$f":"Sigma_hMax(AK582,X582,AF582)","v":696.35752049427435},{"$f":"Sigma_hMin(X582,Y582,AG582,AE582,AK582,AL582,AJ582,AI582,Z582,IF(L582=1,mu_redLead,mu_millScale))","v":59.990029446205497},636.36749104806881,8.6148318472420021E-2,203.28053607363589,{"$f":"tau_n(N582,W582,U582,D582)","v":119.64045639192709},{"$f":"tau_hMax(X582,Z582,AH582,W582,U582)","v":101.77947644242715},{"$f":"tau_hMin(X582,Y582,AS582,AE582,Z582,AI582,IF(L582=1,mu_redLead,mu_millScale),W582,U582)","v":30.494428916860667},71.285047525566483]
[571,"Baron1955","R; L",3,3,10.3,61.1,79.400000000000006,7.14,15.88,89,null,442,165.47424000000001,0,1106100,1,"D2T1",null,571,0.6932038834951455,0.44743701129452657,0.16857610474631751,165.47424000000001,0,{"$f":"IF(OR(X583>=1.6*D583*AD583,D583=1),calcLoadFraction(G583,F583,I583,J583,K583,D583,1),\"Condition for spring model not fulfilled\")","v":0.4044733645801733},{"$f":"IF(L583>2,L583,IF(L583=2,1,sigma_cl0(I583+J583)))","v":157.34549420162355},{"$f":"Sigma_cl(AA583,U583,V583,X583)","v":146.47153717938298},{"$f":"Sigma_cl(AA583,U583,V583,Y583)","v":157.34549420162355},{"$f":"sigma_Slip(AB583,W583,U583,IF(L583=1,mu_redLead,mu_millScale))","v":22.207495487394301},{"$f":"sigma_Slip(AC583,W583,U583,IF(L583=1,mu_redLead,mu_millScale))","v":23.856166322368768},{"$f":"Sigma_p(AB583,V583)","v":-24.605998741491391},{"$f":"Sigma_p(AC583,V583)","v":-26.432732985951443},{"$f":"beta_1(X583,AD583,Z583)","v":0.66819780117274052},{"$f":"beta_1(Y583,AE583,Z583)","v":0},{"$f":"k_tHole(W583,U583)","v":2.5747348156271581},{"$f":"K_t1Mu(Z583,AH583,D583,W583,U583,SIGN(X583),mu_millScale)","v":3.7800286121738229},{"$f":"K_t1Mu(Z583,AI583,D583,W583,U583,SIGN(Y583),mu_millScale)","v":2.0540289887379437},{"$f":"Sigma_hMax(AK583,X583,AF583)","v":600.89136303622672},{"$f":"Sigma_hMin(X583,Y583,AG583,AE583,AK583,AL583,AJ583,AI583,Z583,IF(L583=1,mu_redLead,mu_millScale))","v":51.98778390852209},548.90357912770469,8.651777526945055E-2,175.34884731599902,{"$f":"tau_n(N583,W583,U583,D583)","v":120.05402833994859},{"$f":"tau_hMax(X583,Z583,AH583,W583,U583)","v":97.340363052991052},{"$f":"tau_hMin(X583,Y583,AS583,AE583,Z583,AI583,IF(L583=1,mu_redLead,mu_millScale),W583,U583)","v":29.629229673831563},67.711133379159492]
[572,"Baron1955","R; L",3,3,10.3,61.1,79.400000000000006,7.14,15.88,89,null,442,165.47424000000001,0,3000000,0,"D2T2",null,572,0.6932038834951455,0.44743701129452657,0.16857610474631751,165.47424000000001,0,{"$f":"IF(OR(X584>=1.6*D584*AD584,D584=1),calcLoadFraction(G584,F584,I584,J584,K584,D584,1),\"Condition for spring model not fulfilled\")","v":0.4044733645801733},{"$f":"IF(L584>2,L584,IF(L584=2,1,sigma_cl0(I584+J584)))","v":157.34549420162355},{"$f":"Sigma_cl(AA584,U584,V584,X584)","v":146.47153717938298},{"$f":"Sigma_cl(AA584,U584,V584,Y584)","v":157.34549420162355},{"$f":"sigma_Slip(AB584,W584,U584,IF(L584=1,mu_redLead,mu_millScale))","v":22.207495487394301},{"$f":"sigma_Slip(AC584,W584,U584,IF(L584=1,mu_redLead,mu_millScale))","v":23.856166322368768},{"$f":"Sigma_p(AB584,V584)","v":-24.605998741491391},{"$f":"Sigma_p(AC584,V584)","v":-26.432732985951443},{"$f":"beta_1(X584,AD584,Z584)","v":0.66819780117274052},{"$f":"beta_1(Y584,AE584,Z584)","v":0},{"$f":"k_tHole(W584,U584)","v":2.5747348156271581},{"$f":"K_t1Mu(Z584,AH584,D584,W584,U584,SIGN(X584),mu_millScale)","v":3.7800286121738229},{"$f":"K_t1Mu(Z584,AI584,D584,W584,U584,SIGN(Y584),mu_millScale)","v":2.0540289887379437},{"$f":"Sigma_hMax(AK584,X584,AF584)","v":600.89136303622672},{"$f":"Sigma_hMin(X584,Y584,AG584,AE584,AK584,AL584,AJ584,AI584,Z584,IF(L584=1,mu_redLead,mu_millScale))","v":51.98778390852209},548.90357912770469,8.651777526945055E-2,175.34884731599902,{"$f":"tau_n(N584,W584,U584,D584)","v":120.05402833994859},{"$f":"tau_hMax(X584,Z584,AH584,W584,U584)","v":97.340363052991052},{"$f":"tau_hMin(X584,Y584,AS584,AE584,Z584,AI584,IF(L584=1,mu_redLead,mu_millScale),W584,U584)","v":29.629229673831563},67.711133379159492]
[573,"Baron1955","R; L",3,3,10.3,61.1,79.400000000000006,7.14,15.88,89,null,442,165.47424000000001,0,1000400,1,"D2T3",null,573,0.6932038834951455,0.44743701129452657,0.16857610474631751,165.47424000000001,0,{"$f":"IF(OR(X585>=1.6*D585*AD585,D585=1),calcLoadFraction(G585,F585,I585,J585,K585,D585,1),\"Condition for spring model not fulfilled\")","v":0.4044733645801733},{"$f":"IF(L585>2,L585,IF(L585=2,1,sigma_cl0(I585+J585)))","v":157.34549420162355},{"$f":"Sigma_cl(AA585,U585,V585,X585)","v":146.47153717938298},{"$f":"Sigma_cl(AA585,U585,V585,Y585)","v":157.34549420162355},{"$f":"sigma_Slip(AB585,W585,U585,IF(L585=1,mu_redLead,mu_millScale))","v":22.207495487394301},{"$f":"sigma_Slip(AC585,W585,U585,IF(L585=1,mu_redLead,mu_millScale))","v":23.856166322368768},{"$f":"Sigma_p(AB585,V585)","v":-24.605998741491391},{"$f":"Sigma_p(AC585,V585)","v":-26.432732985951443},{"$f":"beta_1(X585,AD585,Z585)","v":0.66819780117274052},{"$f":"beta_1(Y585,AE585,Z585)","v":0},{"$f":"k_tHole(W585,U585)","v":2.5747348156271581},{"$f":"K_t1Mu(Z585,AH585,D585,W585,U585,SIGN(X585),mu_millScale)","v":3.7800286121738229},{"$f":"K_t1Mu(Z585,AI585,D585,W585,U585,SIGN(Y585),mu_millScale)","v":2.0540289887379437},{"$f":"Sigma_hMax(AK585,X585,AF585)","v":600.89136303622672},{"$f":"Sigma_hMin(X585,Y585,AG585,AE585,AK585,AL585,AJ585,AI585,Z585,IF(L585=1,mu_redLead,mu_millScale))","v":51.98778390852209},548.90357912770469,8.651777526945055E-2,175.34884731599902,{"$f":"tau_n(N585,W585,U585,D585)","v":120.05402833994859},{"$f":"tau_hMax(X585,Z585,AH585,W585,U585)","v":97.340363052991052},{"$f":"tau_hMin(X585,Y585,AS585,AE585,Z585,AI585,IF(L585=1,mu_redLead,mu_millScale),W585,U585)","v":29.629229673831563},67.711133379159492]
[574,"Baron1955","R; L",3,3,10.3,61.1,79.400000000000006,7.14,15.88,89,null,442,186.15852000000001,0,1166000,1,"D2T4",null,574,0.6932038834951455,0.44743701129452657,0.16857610474631751,186.15852000000001,0,{"$f":"IF(OR(X586>=1.6*D586*AD586,D586=1),calcLoadFraction(G586,F586,I586,J586,K586,D586,1),\"Condition for spring model not fulfilled\")","v":0.4044733645801733},{"$f":"IF(L586>2,L586,IF(L586=2,1,sigma_cl0(I586+J586)))","v":157.34549420162355},{"$f":"Sigma_cl(AA586,U586,V586,X586)","v":145.11229255160291},{"$f":"Sigma_cl(AA586,U586,V586,Y586)","v":157.34549420162355},{"$f":"sigma_Slip(AB586,W586,U586,IF(L586=1,mu_redLead,mu_millScale))","v":22.001411633022492},{"$f":"sigma_Slip(AC586,W586,U586,IF(L586=1,mu_redLead,mu_millScale))","v":23.856166322368768},{"$f":"Sigma_p(AB586,V586)","v":-24.377656960933884},{"$f":"Sigma_p(AC586,V586)","v":-26.432732985951443},{"$f":"beta_1(X586,AD586,Z586)","v":0.70780168899743112},{"$f":"beta_1(Y586,AE586,Z586)","v":0},{"$f":"k_tHole(W586,U586)","v":2.5747348156271581},{"$f":"K_t1Mu(Z586,AH586,D586,W586,U586,SIGN(X586),mu_millScale)","v":3.8600435279240441},{"$f":"K_t1Mu(Z586,AI586,D586,W586,U586,SIGN(Y586),mu_millScale)","v":2.0540289887379437},{"$f":"Sigma_hMax(AK586,X586,AF586)","v":694.20233333298484},{"$f":"Sigma_hMin(X586,Y586,AG586,AE586,AK586,AL586,AJ586,AI586,Z586,IF(L586=1,mu_redLead,mu_millScale))","v":56.729797285393722},637.47253604759112,8.1719398742185451E-2,203.52706195447166,{"$f":"tau_n(N586,W586,U586,D586)","v":135.06078188244217},{"$f":"tau_hMax(X586,Z586,AH586,W586,U586)","v":115.99841007043192},{"$f":"tau_hMin(X586,Y586,AS586,AE586,Z586,AI586,IF(L586=1,mu_redLead,mu_millScale),W586,U586)","v":32.644274341873455},83.354135728558461]
[575,"Baron1955","R; L",3,3,10.3,61.1,79.400000000000006,7.14,15.88,89,null,442,186.15852000000001,0,266300,1,"D2T5",null,575,0.6932038834951455,0.44743701129452657,0.16857610474631751,186.15852000000001,0,{"$f":"IF(OR(X587>=1.6*D587*AD587,D587=1),calcLoadFraction(G587,F587,I587,J587,K587,D587,1),\"Condition for spring model not fulfilled\")","v":0.4044733645801733},{"$f":"IF(L587>2,L587,IF(L587=2,1,sigma_cl0(I587+J587)))","v":157.34549420162355},{"$f":"Sigma_cl(AA587,U587,V587,X587)","v":145.11229255160291},{"$f":"Sigma_cl(AA587,U587,V587,Y587)","v":157.34549420162355},{"$f":"sigma_Slip(AB587,W587,U587,IF(L587=1,mu_redLead,mu_millScale))","v":22.001411633022492},{"$f":"sigma_Slip(AC587,W587,U587,IF(L587=1,mu_redLead,mu_millScale))","v":23.856166322368768},{"$f":"Sigma_p(AB587,V587)","v":-24.377656960933884},{"$f":"Sigma_p(AC587,V587)","v":-26.432732985951443},{"$f":"beta_1(X587,AD587,Z587)","v":0.70780168899743112},{"$f":"beta_1(Y587,AE587,Z587)","v":0},{"$f":"k_tHole(W587,U587)","v":2.5747348156271581},{"$f":"K_t1Mu(Z587,AH587,D587,W587,U587,SIGN(X587),mu_millScale)","v":3.8600435279240441},{"$f":"K_t1Mu(Z587,AI587,D587,W587,U587,SIGN(Y587),mu_millScale)","v":2.0540289887379437},{"$f":"Sigma_hMax(AK587,X587,AF587)","v":694.20233333298484},{"$f":"Sigma_hMin(X587,Y587,AG587,AE587,AK587,AL587,AJ587,AI587,Z587,IF(L587=1,mu_redLead,mu_millScale))","v":56.729797285393722},637.47253604759112,8.1719398742185451E-2,203.52706195447166,{"$f":"tau_n(N587,W587,U587,D587)","v":135.06078188244217},{"$f":"tau_hMax(X587,Z587,AH587,W587,U587)","v":115.99841007043192},{"$f":"tau_hMin(X587,Y587,AS587,AE587,Z587,AI587,IF(L587=1,mu_redLead,mu_millScale),W587,U587)","v":32.644274341873455},83.354135728558461]
[576,"Baron1955","R; L",3,3,10.3,61.1,79.400000000000006,7.14,15.88,89,null,442,186.15852000000001,0,413300,1,"D2T6",null,576,0.6932038834951455,0.44743701129452657,0.16857610474631751,186.15852000000001,0,{"$f":"IF(OR(X588>=1.6*D588*AD588,D588=1),calcLoadFraction(G588,F588,I588,J588,K588,D588,1),\"Condition for spring model not fulfilled\")","v":0.4044733645801733},{"$f":"IF(L588>2,L588,IF(L588=2,1,sigma_cl0(I588+J588)))","v":157.34549420162355},{"$f":"Sigma_cl(AA588,U588,V588,X588)","v":145.11229255160291},{"$f":"Sigma_cl(AA588,U588,V588,Y588)","v":157.34549420162355},{"$f":"sigma_Slip(AB588,W588,U588,IF(L588=1,mu_redLead,mu_millScale))","v":22.001411633022492},{"$f":"sigma_Slip(AC588,W588,U588,IF(L588=1,mu_redLead,mu_millScale))","v":23.856166322368768},{"$f":"Sigma_p(AB588,V588)","v":-24.377656960933884},{"$f":"Sigma_p(AC588,V588)","v":-26.432732985951443},{"$f":"beta_1(X588,AD588,Z588)","v":0.70780168899743112},{"$f":"beta_1(Y588,AE588,Z588)","v":0},{"$f":"k_tHole(W588,U588)","v":2.5747348156271581},{"$f":"K_t1Mu(Z588,AH588,D588,W588,U588,SIGN(X588),mu_millScale)","v":3.8600435279240441},{"$f":"K_t1Mu(Z588,AI588,D588,W588,U588,SIGN(Y588),mu_millScale)","v":2.0540289887379437},{"$f":"Sigma_hMax(AK588,X588,AF588)","v":694.20233333298484},{"$f":"Sigma_hMin(X588,Y588,AG588,AE588,AK588,AL588,AJ588,AI588,Z588,IF(L588=1,mu_redLead,mu_millScale))","v":56.729797285393722},637.47253604759112,8.1719398742185451E-2,{"$f":"AO588/3.16*(1-0.9*AP588)/(1-AP588)","v":203.52706195447166},{"$f":"tau_n(N588,W588,U588,D588)","v":135.06078188244217},{"$f":"tau_hMax(X588,Z588,AH588,W588,U588)","v":115.99841007043192},{"$f":"tau_hMin(X588,Y588,AS588,AE588,Z588,AI588,IF(L588=1,mu_redLead,mu_millScale),W588,U588)","v":32.644274341873455},{"$f":"(AS588-AT588)","v":83.354135728558461}]
[577,"Baron1955","R; L",4,3,10.3,61.9,85.7,7.14,15.88,89,null,411,186.15852000000001,0,98900,1,"E1X1",null,577,0.6932038834951455,0.44743701129452657,0.16639741518578355,186.15852000000001,0,{"$f":"IF(OR(X589>=1.6*D589*AD589,D589=1),calcLoadFraction(G589,F589,I589,J589,K589,D589,1),\"Condition for spring model not fulfilled\")","v":0.35560944988197174},{"$f":"IF(L589>2,L589,IF(L589=2,1,sigma_cl0(I589+J589)))","v":157.34549420162355},{"$f":"Sigma_cl(AA589,U589,V589,X589)","v":145.11229255160291},{"$f":"Sigma_cl(AA589,U589,V589,Y589)","v":157.34549420162355},{"$f":"sigma_Slip(AB589,W589,U589,IF(L589=1,mu_redLead,mu_millScale))","v":21.660304475921372},{"$f":"sigma_Slip(AC589,W589,U589,IF(L589=1,mu_redLead,mu_millScale))","v":23.486303278611118},{"$f":"Sigma_p(AB589,V589)","v":-24.377656960933884},{"$f":"Sigma_p(AC589,V589)","v":-26.432732985951443},{"$f":"beta_1(X589,AD589,Z589)","v":0.67280372835735325},{"$f":"beta_1(Y589,AE589,Z589)","v":0},{"$f":"k_tHole(W589,U589)","v":2.5792648255492967},{"$f":"K_t1Mu(Z589,AH589,D589,W589,U589,SIGN(X589),mu_millScale)","v":3.6667123771354562},{"$f":"K_t1Mu(Z589,AI589,D589,W589,U589,SIGN(Y589),mu_millScale)","v":2.1206593526925439},{"$f":"Sigma_hMax(AK589,X589,AF589)","v":658.21209243228452},{"$f":"Sigma_hMin(X589,Y589,AG589,AE589,AK589,AL589,AJ589,AI589,Z589,IF(L589=1,mu_redLead,mu_millScale))","v":51.996923425428136},606.2151690068564,7.8997216889900079E-2,193.48571561689849,{"$f":"tau_n(N589,W589,U589,D589)","v":102.89079249705729},{"$f":"tau_hMax(X589,Z589,AH589,W589,U589)","v":98.468695929165648},{"$f":"tau_hMin(X589,Y589,AS589,AE589,Z589,AI589,IF(L589=1,mu_redLead,mu_millScale),W589,U589)","v":29.881208398986349},68.587487530179303]
[578,"Baron1955","R; L",4,3,10.3,61.9,85.7,7.14,15.88,89,null,411,186.15852000000001,0,542900,1,"E1X2",null,578,0.6932038834951455,0.44743701129452657,0.16639741518578355,186.15852000000001,0,{"$f":"IF(OR(X590>=1.6*D590*AD590,D590=1),calcLoadFraction(G590,F590,I590,J590,K590,D590,1),\"Condition for spring model not fulfilled\")","v":0.35560944988197174},{"$f":"IF(L590>2,L590,IF(L590=2,1,sigma_cl0(I590+J590)))","v":157.34549420162355},{"$f":"Sigma_cl(AA590,U590,V590,X590)","v":145.11229255160291},{"$f":"Sigma_cl(AA590,U590,V590,Y590)","v":157.34549420162355},{"$f":"sigma_Slip(AB590,W590,U590,IF(L590=1,mu_redLead,mu_millScale))","v":21.660304475921372},{"$f":"sigma_Slip(AC590,W590,U590,IF(L590=1,mu_redLead,mu_millScale))","v":23.486303278611118},{"$f":"Sigma_p(AB590,V590)","v":-24.377656960933884},{"$f":"Sigma_p(AC590,V590)","v":-26.432732985951443},{"$f":"beta_1(X590,AD590,Z590)","v":0.67280372835735325},{"$f":"beta_1(Y590,AE590,Z590)","v":0},{"$f":"k_tHole(W590,U590)","v":2.5792648255492967},{"$f":"K_t1Mu(Z590,AH590,D590,W590,U590,SIGN(X590),mu_millScale)","v":3.6667123771354562},{"$f":"K_t1Mu(Z590,AI590,D590,W590,U590,SIGN(Y590),mu_millScale)","v":2.1206593526925439},{"$f":"Sigma_hMax(AK590,X590,AF590)","v":658.21209243228452},{"$f":"Sigma_hMin(X590,Y590,AG590,AE590,AK590,AL590,AJ590,AI590,Z590,IF(L590=1,mu_redLead,mu_millScale))","v":51.996923425428136},606.2151690068564,7.8997216889900079E-2,193.48571561689849,{"$f":"tau_n(N590,W590,U590,D590)","v":102.89079249705729},{"$f":"tau_hMax(X590,Z590,AH590,W590,U590)","v":98.468695929165648},{"$f":"tau_hMin(X590,Y590,AS590,AE590,Z590,AI590,IF(L590=1,mu_redLead,mu_millScale),W590,U590)","v":29.881208398986349},68.587487530179303]
[579,"Baron1955","R; L",4,3,10.3,61.9,85.7,7.14,15.88,89,null,411,186.15852000000001,0,219900,1,"E1X3",null,579,0.6932038834951455,0.44743701129452657,0.16639741518578355,186.15852000000001,0,{"$f":"IF(OR(X591>=1.6*D591*AD591,D591=1),calcLoadFraction(G591,F591,I591,J591,K591,D591,1),\"Condition for spring model not fulfilled\")","v":0.35560944988197174},{"$f":"IF(L591>2,L591,IF(L591=2,1,sigma_cl0(I591+J591)))","v":157.34549420162355},{"$f":"Sigma_cl(AA591,U591,V591,X591)","v":145.11229255160291},{"$f":"Sigma_cl(AA591,U591,V591,Y591)","v":157.34549420162355},{"$f":"sigma_Slip(AB591,W591,U591,IF(L591=1,mu_redLead,mu_millScale))","v":21.660304475921372},{"$f":"sigma_Slip(AC591,W591,U591,IF(L591=1,mu_redLead,mu_millScale))","v":23.486303278611118},{"$f":"Sigma_p(AB591,V591)","v":-24.377656960933884},{"$f":"Sigma_p(AC591,V591)","v":-26.432732985951443},{"$f":"beta_1(X591,AD591,Z591)","v":0.67280372835735325},{"$f":"beta_1(Y591,AE591,Z591)","v":0},{"$f":"k_tHole(W591,U591)","v":2.5792648255492967},{"$f":"K_t1Mu(Z591,AH591,D591,W591,U591,SIGN(X591),mu_millScale)","v":3.6667123771354562},{"$f":"K_t1Mu(Z591,AI591,D591,W591,U591,SIGN(Y591),mu_millScale)","v":2.1206593526925439},{"$f":"Sigma_hMax(AK591,X591,AF591)","v":658.21209243228452},{"$f":"Sigma_hMin(X591,Y591,AG591,AE591,AK591,AL591,AJ591,AI591,Z591,IF(L591=1,mu_redLead,mu_millScale))","v":51.996923425428136},606.2151690068564,7.8997216889900079E-2,193.48571561689849,{"$f":"tau_n(N591,W591,U591,D591)","v":102.89079249705729},{"$f":"tau_hMax(X591,Z591,AH591,W591,U591)","v":98.468695929165648},{"$f":"tau_hMin(X591,Y591,AS591,AE591,Z591,AI591,IF(L591=1,mu_redLead,mu_millScale),W591,U591)","v":29.881208398986349},68.587487530179303]
[580,"Baron1955","R; L",4,3,10.3,61.9,85.7,7.14,15.88,89,null,411,165.47424000000001,0,340400,1,"E1X4",null,580,0.6932038834951455,0.44743701129452657,0.16639741518578355,165.47424000000001,0,{"$f":"IF(OR(X592>=1.6*D592*AD592,D592=1),calcLoadFraction(G592,F592,I592,J592,K592,D592,1),\"Condition for spring model not fulfilled\")","v":0.35560944988197174},{"$f":"IF(L592>2,L592,IF(L592=2,1,sigma_cl0(I592+J592)))","v":157.34549420162355},{"$f":"Sigma_cl(AA592,U592,V592,X592)","v":146.47153717938298},{"$f":"Sigma_cl(AA592,U592,V592,Y592)","v":157.34549420162355},{"$f":"sigma_Slip(AB592,W592,U592,IF(L592=1,mu_redLead,mu_millScale))","v":21.863193231775789},{"$f":"sigma_Slip(AC592,W592,U592,IF(L592=1,mu_redLead,mu_millScale))","v":23.486303278611118},{"$f":"Sigma_p(AB592,V592)","v":-24.605998741491391},{"$f":"Sigma_p(AC592,V592)","v":-26.432732985951443},{"$f":"beta_1(X592,AD592,Z592)","v":0.62845629734609576},{"$f":"beta_1(Y592,AE592,Z592)","v":0},{"$f":"k_tHole(W592,U592)","v":2.5792648255492967},{"$f":"K_t1Mu(Z592,AH592,D592,W592,U592,SIGN(X592),mu_millScale)","v":3.5806181823216003},{"$f":"K_t1Mu(Z592,AI592,D592,W592,U592,SIGN(Y592),mu_millScale)","v":2.1206593526925439},{"$f":"Sigma_hMax(AK592,X592,AF592)","v":567.89407370835693},{"$f":"Sigma_hMin(X592,Y592,AG592,AE592,AK592,AL592,AJ592,AI592,Z592,IF(L592=1,mu_redLead,mu_millScale))","v":46.707183731200168},521.18688997715674,8.2246295380759213E-2,166.41063555388504,{"$f":"tau_n(N592,W592,U592,D592)","v":91.458482219606481},{"$f":"tau_hMax(X592,Z592,AH592,W592,U592)","v":81.758394927421037},{"$f":"tau_hMin(X592,Y592,AS592,AE592,Z592,AI592,IF(L592=1,mu_redLead,mu_millScale),W592,U592)","v":26.773694688675395},54.984700238745646]
[581,"Baron1955","R; L",4,3,10.3,61.9,85.7,7.14,15.88,89,null,411,165.47424000000001,0,659500,1,"E1X5",null,581,0.6932038834951455,0.44743701129452657,0.16639741518578355,165.47424000000001,0,{"$f":"IF(OR(X593>=1.6*D593*AD593,D593=1),calcLoadFraction(G593,F593,I593,J593,K593,D593,1),\"Condition for spring model not fulfilled\")","v":0.35560944988197174},{"$f":"IF(L593>2,L593,IF(L593=2,1,sigma_cl0(I593+J593)))","v":157.34549420162355},{"$f":"Sigma_cl(AA593,U593,V593,X593)","v":146.47153717938298},{"$f":"Sigma_cl(AA593,U593,V593,Y593)","v":157.34549420162355},{"$f":"sigma_Slip(AB593,W593,U593,IF(L593=1,mu_redLead,mu_millScale))","v":21.863193231775789},{"$f":"sigma_Slip(AC593,W593,U593,IF(L593=1,mu_redLead,mu_millScale))","v":23.486303278611118},{"$f":"Sigma_p(AB593,V593)","v":-24.605998741491391},{"$f":"Sigma_p(AC593,V593)","v":-26.432732985951443},{"$f":"beta_1(X593,AD593,Z593)","v":0.62845629734609576},{"$f":"beta_1(Y593,AE593,Z593)","v":0},{"$f":"k_tHole(W593,U593)","v":2.5792648255492967},{"$f":"K_t1Mu(Z593,AH593,D593,W593,U593,SIGN(X593),mu_millScale)","v":3.5806181823216003},{"$f":"K_t1Mu(Z593,AI593,D593,W593,U593,SIGN(Y593),mu_millScale)","v":2.1206593526925439},{"$f":"Sigma_hMax(AK593,X593,AF593)","v":567.89407370835693},{"$f":"Sigma_hMin(X593,Y593,AG593,AE593,AK593,AL593,AJ593,AI593,Z593,IF(L593=1,mu_redLead,mu_millScale))","v":46.707183731200168},521.18688997715674,8.2246295380759213E-2,166.41063555388504,{"$f":"tau_n(N593,W593,U593,D593)","v":91.458482219606481},{"$f":"tau_hMax(X593,Z593,AH593,W593,U593)","v":81.758394927421037},{"$f":"tau_hMin(X593,Y593,AS593,AE593,Z593,AI593,IF(L593=1,mu_redLead,mu_millScale),W593,U593)","v":26.773694688675395},54.984700238745646]
[582,"Baron1955","R; L",4,3,10.3,61.9,85.7,7.14,15.88,89,null,411,165.47424000000001,0,334200,1,"E1X6",null,582,0.6932038834951455,0.44743701129452657,0.16639741518578355,165.47424000000001,0,{"$f":"IF(OR(X594>=1.6*D594*AD594,D594=1),calcLoadFraction(G594,F594,I594,J594,K594,D594,1),\"Condition for spring model not fulfilled\")","v":0.35560944988197174},{"$f":"IF(L594>2,L594,IF(L594=2,1,sigma_cl0(I594+J594)))","v":157.34549420162355},{"$f":"Sigma_cl(AA594,U594,V594,X594)","v":146.47153717938298},{"$f":"Sigma_cl(AA594,U594,V594,Y594)","v":157.34549420162355},{"$f":"sigma_Slip(AB594,W594,U594,IF(L594=1,mu_redLead,mu_millScale))","v":21.863193231775789},{"$f":"sigma_Slip(AC594,W594,U594,IF(L594=1,mu_redLead,mu_millScale))","v":23.486303278611118},{"$f":"Sigma_p(AB594,V594)","v":-24.605998741491391},{"$f":"Sigma_p(AC594,V594)","v":-26.432732985951443},{"$f":"beta_1(X594,AD594,Z594)","v":0.62845629734609576},{"$f":"beta_1(Y594,AE594,Z594)","v":0},{"$f":"k_tHole(W594,U594)","v":2.5792648255492967},{"$f":"K_t1Mu(Z594,AH594,D594,W594,U594,SIGN(X594),mu_millScale)","v":3.5806181823216003},{"$f":"K_t1Mu(Z594,AI594,D594,W594,U594,SIGN(Y594),mu_millScale)","v":2.1206593526925439},{"$f":"Sigma_hMax(AK594,X594,AF594)","v":567.89407370835693},{"$f":"Sigma_hMin(X594,Y594,AG594,AE594,AK594,AL594,AJ594,AI594,Z594,IF(L594=1,mu_redLead,mu_millScale))","v":46.707183731200168},521.18688997715674,8.2246295380759213E-2,166.41063555388504,{"$f":"tau_n(N594,W594,U594,D594)","v":91.458482219606481},{"$f":"tau_hMax(X594,Z594,AH594,W594,U594)","v":81.758394927421037},{"$f":"tau_hMin(X594,Y594,AS594,AE594,Z594,AI594,IF(L594=1,mu_redLead,mu_millScale),W594,U594)","v":26.773694688675395},54.984700238745646]
[583,"Maljaars2024","R; S",1,1,13,40,null,10,10,81,null,518,200,0.1,109500,1,"-",null,583,{"$f":"I595/F595","v":0.76923076923076927},0.65,0.32500000000000001,222.22222222222223,22.222222222222225,{"$f":"IF(OR(X595>=1.6*D595*AD595,D595=1),calcLoadFraction(G595,F595,I595,J595,K595,D595,1),\"Condition for spring model not fulfilled\")","v":1},{"$f":"IF(L595>2,L595,IF(L595=2,1,sigma_cl0(I595+J595)))","v":145.43508356491702},{"$f":"Sigma_cl(AA595,U595,V595,X595)","v":124.91639785404951},{"$f":"Sigma_cl(AA595,U595,V595,Y595)","v":143.38321499383028},{"$f":"sigma_Slip(AB595,W595,U595,IF(L595=1,mu_redLead,mu_millScale))","v":40.529963298864573},{"$f":"sigma_Slip(AC595,W595,U595,IF(L595=1,mu_redLead,mu_millScale))","v":46.521646006499545},{"$f":"Sigma_p(AB595,V595)","v":-31.505946588808413},{"$f":"Sigma_p(AC595,V595)","v":-36.163578128512341},{"$f":"beta_1(X595,AD595,Z595)","v":0.81761516515510946},{"$f":"beta_1(Y595,AE595,Z595)","v":0},{"$f":"k_tHole(W595,U595)","v":2.3075468749999999},{"$f":"K_t1Mu(Z595,AH595,D595,W595,U595,SIGN(X595),mu_millScale)","v":4.0669238078203049},{"$f":"K_t1Mu(Z595,AI595,D595,W595,U595,SIGN(Y595),mu_millScale)","v":1.1537734374999999},{"$f":"Sigma_hMax(AK595,X595,AF595)","v":872.25489959348158},{"$f":"Sigma_hMin(X595,Y595,AG595,AE595,AK595,AL595,AJ595,AI595,Z595,IF(L595=1,mu_redLead,mu_millScale))","v":164.59178737094282},707.66311222253876,0.18869689060806832,229.15262372140288,{"$f":"tau_n(N595,W595,U595,D595)","v":203.41696827044083},{"$f":"tau_hMax(X595,Z595,AH595,W595,U595)","v":184.79644234198685},{"$f":"tau_hMin(X595,Y595,AS595,AE595,Z595,AI595,IF(L595=1,mu_redLead,mu_millScale),W595,U595)","v":54.918733604419387},129.87770873756745]
[584,"Maljaars2024","R; S",1,1,13,40,null,10,10,81,1,518,200,0.1,89775,1,"-",null,584,0.76923076923076927,0.65,0.32500000000000001,222.22222222222223,22.222222222222225,{"$f":"IF(OR(X596>=1.6*D596*AD596,D596=1),calcLoadFraction(G596,F596,I596,J596,K596,D596,1),\"Condition for spring model not fulfilled\")","v":1},{"$f":"IF(L596>2,L596,IF(L596=2,1,sigma_cl0(I596+J596)))","v":145.43508356491702},{"$f":"Sigma_cl(AA596,U596,V596,X596)","v":124.91639785404951},{"$f":"Sigma_cl(AA596,U596,V596,Y596)","v":143.38321499383028},{"$f":"sigma_Slip(AB596,W596,U596,IF(L596=1,mu_redLead,mu_millScale))","v":7.3690842361571951},{"$f":"sigma_Slip(AC596,W596,U596,IF(L596=1,mu_redLead,mu_millScale))","v":8.4584810920908264},{"$f":"Sigma_p(AB596,V596)","v":-31.505946588808413},{"$f":"Sigma_p(AC596,V596)","v":-36.163578128512341},{"$f":"beta_1(X596,AD596,Z596)","v":0.96683912093729263},{"$f":"beta_1(Y596,AE596,Z596)","v":0.61936835085591291},{"$f":"k_tHole(W596,U596)","v":2.3075468749999999},{"$f":"K_t1Mu(Z596,AH596,D596,W596,U596,SIGN(X596),mu_millScale)","v":4.2476859749582436},{"$f":"K_t1Mu(Z596,AI596,D596,W596,U596,SIGN(Y596),mu_millScale)","v":3.5269409849871769},{"$f":"Sigma_hMax(AK596,X596,AF596)","v":912.42427006857906},{"$f":"Sigma_hMin(X596,Y596,AG596,AE596,AK596,AL596,AJ596,AI596,Z596,IF(L596=1,mu_redLead,mu_millScale))","v":79.28313084560034},833.14113922297872,8.6892834229016405E-2,266.1612190846642,{"$f":"tau_n(N596,W596,U596,D596)","v":203.41696827044083},{"$f":"tau_hMax(X596,Z596,AH596,W596,U596)","v":218.5238697625802},{"$f":"tau_hMin(X596,Y596,AS596,AE596,Z596,AI596,IF(L596=1,mu_redLead,mu_millScale),W596,U596)","v":30.260482321977129},188.26338744060308]
[585,"Maljaars2024","R; S",1,1,13,40,null,10,10,81,null,518,200,0.1,124400,1,"-",null,585,0.76923076923076927,0.65,0.32500000000000001,222.22222222222223,22.222222222222225,{"$f":"IF(OR(X597>=1.6*D597*AD597,D597=1),calcLoadFraction(G597,F597,I597,J597,K597,D597,1),\"Condition for spring model not fulfilled\")","v":1},{"$f":"IF(L597>2,L597,IF(L597=2,1,sigma_cl0(I597+J597)))","v":145.43508356491702},{"$f":"Sigma_cl(AA597,U597,V597,X597)","v":124.91639785404951},{"$f":"Sigma_cl(AA597,U597,V597,Y597)","v":143.38321499383028},{"$f":"sigma_Slip(AB597,W597,U597,IF(L597=1,mu_redLead,mu_millScale))","v":40.529963298864573},{"$f":"sigma_Slip(AC597,W597,U597,IF(L597=1,mu_redLead,mu_millScale))","v":46.521646006499545},{"$f":"Sigma_p(AB597,V597)","v":-31.505946588808413},{"$f":"Sigma_p(AC597,V597)","v":-36.163578128512341},{"$f":"beta_1(X597,AD597,Z597)","v":0.81761516515510946},{"$f":"beta_1(Y597,AE597,Z597)","v":0},{"$f":"k_tHole(W597,U597)","v":2.3075468749999999},{"$f":"K_t1Mu(Z597,AH597,D597,W597,U597,SIGN(X597),mu_millScale)","v":4.0669238078203049},{"$f":"K_t1Mu(Z597,AI597,D597,W597,U597,SIGN(Y597),mu_millScale)","v":1.1537734374999999},{"$f":"Sigma_hMax(AK597,X597,AF597)","v":872.25489959348158},{"$f":"Sigma_hMin(X597,Y597,AG597,AE597,AK597,AL597,AJ597,AI597,Z597,IF(L597=1,mu_redLead,mu_millScale))","v":164.59178737094282},707.66311222253876,0.18869689060806832,229.15262372140288,{"$f":"tau_n(N597,W597,U597,D597)","v":203.41696827044083},{"$f":"tau_hMax(X597,Z597,AH597,W597,U597)","v":184.79644234198685},{"$f":"tau_hMin(X597,Y597,AS597,AE597,Z597,AI597,IF(L597=1,mu_redLead,mu_millScale),W597,U597)","v":54.918733604419387},129.87770873756745]
[586,"Livieri2001","R; S",2,2,7.5,25,27.5,5,6,45,1,null,240,0,79877,1,"SeriesA","Grade S355",586,0.66666666666666663,0.68181818181818177,0.3,240,0,{"$f":"IF(OR(X598>=1.6*D598*AD598,D598=1),calcLoadFraction(G598,F598,I598,J598,K598,D598,1),\"Condition for spring model not fulfilled\")","v":0.51136758434697738},{"$f":"IF(L598>2,L598,IF(L598=2,1,sigma_cl0(I598+J598)))","v":89.016410028378033},{"$f":"Sigma_cl(AA598,U598,V598,X598)","v":69.252651853939625},{"$f":"Sigma_cl(AA598,U598,V598,Y598)","v":89.016410028378033},{"$f":"sigma_Slip(AB598,W598,U598,IF(L598=1,mu_redLead,mu_millScale))","v":4.1958698673189616},{"$f":"sigma_Slip(AC598,W598,U598,IF(L598=1,mu_redLead,mu_millScale))","v":5.3933136498906977},{"$f":"Sigma_p(AB598,V598)","v":-18.344487688749521},{"$f":"Sigma_p(AC598,V598)","v":-23.579753181240307},{"$f":"beta_1(X598,AD598,Z598)","v":0.96581169466157157},{"$f":"beta_1(Y598,AE598,Z598)","v":0},{"$f":"k_tHole(W598,U598)","v":2.343},{"$f":"K_t1Mu(Z598,AH598,D598,W598,U598,SIGN(X598),mu_millScale)","v":3.2313607341237045},{"$f":"K_t1Mu(Z598,AI598,D598,W598,U598,SIGN(Y598),mu_millScale)","v":1.743932874937516},{"$f":"Sigma_hMax(AK598,X598,AF598)","v":757.18208850093959},{"$f":"Sigma_hMin(X598,Y598,AG598,AE598,AK598,AL598,AJ598,AI598,Z598,IF(L598=1,mu_redLead,mu_millScale))","v":-7.6019136169932517},764.7840021179328,-1.0039743058427905E-2,241.77968694817517,{"$f":"tau_n(N598,W598,U598,D598)","v":118.83569059947234},{"$f":"tau_hMax(X598,Z598,AH598,W598,U598)","v":117.38228096087758},{"$f":"tau_hMin(X598,Y598,AS598,AE598,Z598,AI598,IF(L598=1,mu_redLead,mu_millScale),W598,U598)","v":5.2644308026040232},112.11785015827355]
[587,"Livieri2001","R; S",2,2,7.5,25,27.5,5,6,45,1,null,200,0,289621,1,"SeriesA","Grade S355",587,0.66666666666666663,0.68181818181818177,0.3,200,0,{"$f":"IF(OR(X599>=1.6*D599*AD599,D599=1),calcLoadFraction(G599,F599,I599,J599,K599,D599,1),\"Condition for spring model not fulfilled\")","v":0.51136758434697738},{"$f":"IF(L599>2,L599,IF(L599=2,1,sigma_cl0(I599+J599)))","v":89.016410028378033},{"$f":"Sigma_cl(AA599,U599,V599,X599)","v":72.546611549679369},{"$f":"Sigma_cl(AA599,U599,V599,Y599)","v":89.016410028378033},{"$f":"sigma_Slip(AB599,W599,U599,IF(L599=1,mu_redLead,mu_millScale))","v":4.395443831080919},{"$f":"sigma_Slip(AC599,W599,U599,IF(L599=1,mu_redLead,mu_millScale))","v":5.3933136498906977},{"$f":"Sigma_p(AB599,V599)","v":-19.217031937497989},{"$f":"Sigma_p(AC599,V599)","v":-23.579753181240307},{"$f":"beta_1(X599,AD599,Z599)","v":0.95702265879158188},{"$f":"beta_1(Y599,AE599,Z599)","v":0},{"$f":"k_tHole(W599,U599)","v":2.343},{"$f":"K_t1Mu(Z599,AH599,D599,W599,U599,SIGN(X599),mu_millScale)","v":3.2293972763505381},{"$f":"K_t1Mu(Z599,AI599,D599,W599,U599,SIGN(Y599),mu_millScale)","v":1.743932874937516},{"$f":"Sigma_hMax(AK599,X599,AF599)","v":626.66242333260959},{"$f":"Sigma_hMin(X599,Y599,AG599,AE599,AK599,AL599,AJ599,AI599,Z599,IF(L599=1,mu_redLead,mu_millScale))","v":-7.7181691964420187},634.38059252905157,-1.2316310838292431E-2,200.50910620550866,{"$f":"tau_n(N599,W599,U599,D599)","v":99.029742166226953},{"$f":"tau_hMax(X599,Z599,AH599,W599,U599)","v":96.928403367114214},{"$f":"tau_hMin(X599,Y599,AS599,AE599,Z599,AI599,IF(L599=1,mu_redLead,mu_millScale),W599,U599)","v":5.1550078742911305},91.773395492823084]
[588,"Livieri2001","R; S",2,2,7.5,25,27.5,5,6,45,1,null,200,0,325818,1,"SeriesA","Grade S355",588,0.66666666666666663,0.68181818181818177,0.3,200,0,{"$f":"IF(OR(X600>=1.6*D600*AD600,D600=1),calcLoadFraction(G600,F600,I600,J600,K600,D600,1),\"Condition for spring model not fulfilled\")","v":0.51136758434697738},{"$f":"IF(L600>2,L600,IF(L600=2,1,sigma_cl0(I600+J600)))","v":89.016410028378033},{"$f":"Sigma_cl(AA600,U600,V600,X600)","v":72.546611549679369},{"$f":"Sigma_cl(AA600,U600,V600,Y600)","v":89.016410028378033},{"$f":"sigma_Slip(AB600,W600,U600,IF(L600=1,mu_redLead,mu_millScale))","v":4.395443831080919},{"$f":"sigma_Slip(AC600,W600,U600,IF(L600=1,mu_redLead,mu_millScale))","v":5.3933136498906977},{"$f":"Sigma_p(AB600,V600)","v":-19.217031937497989},{"$f":"Sigma_p(AC600,V600)","v":-23.579753181240307},{"$f":"beta_1(X600,AD600,Z600)","v":0.95702265879158188},{"$f":"beta_1(Y600,AE600,Z600)","v":0},{"$f":"k_tHole(W600,U600)","v":2.343},{"$f":"K_t1Mu(Z600,AH600,D600,W600,U600,SIGN(X600),mu_millScale)","v":3.2293972763505381},{"$f":"K_t1Mu(Z600,AI600,D600,W600,U600,SIGN(Y600),mu_millScale)","v":1.743932874937516},{"$f":"Sigma_hMax(AK600,X600,AF600)","v":626.66242333260959},{"$f":"Sigma_hMin(X600,Y600,AG600,AE600,AK600,AL600,AJ600,AI600,Z600,IF(L600=1,mu_redLead,mu_millScale))","v":-7.7181691964420187},634.38059252905157,-1.2316310838292431E-2,200.50910620550866,{"$f":"tau_n(N600,W600,U600,D600)","v":99.029742166226953},{"$f":"tau_hMax(X600,Z600,AH600,W600,U600)","v":96.928403367114214},{"$f":"tau_hMin(X600,Y600,AS600,AE600,Z600,AI600,IF(L600=1,mu_redLead,mu_millScale),W600,U600)","v":5.1550078742911305},91.773395492823084]
[589,"Livieri2001","R; S",2,2,7.5,25,27.5,5,6,45,1,null,200,0,364481,1,"SeriesA","Grade S355",589,0.66666666666666663,0.68181818181818177,0.3,200,0,{"$f":"IF(OR(X601>=1.6*D601*AD601,D601=1),calcLoadFraction(G601,F601,I601,J601,K601,D601,1),\"Condition for spring model not fulfilled\")","v":0.51136758434697738},{"$f":"IF(L601>2,L601,IF(L601=2,1,sigma_cl0(I601+J601)))","v":89.016410028378033},{"$f":"Sigma_cl(AA601,U601,V601,X601)","v":72.546611549679369},{"$f":"Sigma_cl(AA601,U601,V601,Y601)","v":89.016410028378033},{"$f":"sigma_Slip(AB601,W601,U601,IF(L601=1,mu_redLead,mu_millScale))","v":4.395443831080919},{"$f":"sigma_Slip(AC601,W601,U601,IF(L601=1,mu_redLead,mu_millScale))","v":5.3933136498906977},{"$f":"Sigma_p(AB601,V601)","v":-19.217031937497989},{"$f":"Sigma_p(AC601,V601)","v":-23.579753181240307},{"$f":"beta_1(X601,AD601,Z601)","v":0.95702265879158188},{"$f":"beta_1(Y601,AE601,Z601)","v":0},{"$f":"k_tHole(W601,U601)","v":2.343},{"$f":"K_t1Mu(Z601,AH601,D601,W601,U601,SIGN(X601),mu_millScale)","v":3.2293972763505381},{"$f":"K_t1Mu(Z601,AI601,D601,W601,U601,SIGN(Y601),mu_millScale)","v":1.743932874937516},{"$f":"Sigma_hMax(AK601,X601,AF601)","v":626.66242333260959},{"$f":"Sigma_hMin(X601,Y601,AG601,AE601,AK601,AL601,AJ601,AI601,Z601,IF(L601=1,mu_redLead,mu_millScale))","v":-7.7181691964420187},634.38059252905157,-1.2316310838292431E-2,200.50910620550866,{"$f":"tau_n(N601,W601,U601,D601)","v":99.029742166226953},{"$f":"tau_hMax(X601,Z601,AH601,W601,U601)","v":96.928403367114214},{"$f":"tau_hMin(X601,Y601,AS601,AE601,Z601,AI601,IF(L601=1,mu_redLead,mu_millScale),W601,U601)","v":5.1550078742911305},91.773395492823084]
[590,"Livieri2001","R; S",2,2,7.5,25,27.5,5,6,45,1,null,180,0,368274,1,"SeriesA","Grade S355",590,0.66666666666666663,0.68181818181818177,0.3,180,0,{"$f":"IF(OR(X602>=1.6*D602*AD602,D602=1),calcLoadFraction(G602,F602,I602,J602,K602,D602,1),\"Condition for spring model not fulfilled\")","v":0.51136758434697738},{"$f":"IF(L602>2,L602,IF(L602=2,1,sigma_cl0(I602+J602)))","v":89.016410028378033},{"$f":"Sigma_cl(AA602,U602,V602,X602)","v":74.193591397549227},{"$f":"Sigma_cl(AA602,U602,V602,Y602)","v":89.016410028378033},{"$f":"sigma_Slip(AB602,W602,U602,IF(L602=1,mu_redLead,mu_millScale))","v":4.4952308129618963},{"$f":"sigma_Slip(AC602,W602,U602,IF(L602=1,mu_redLead,mu_millScale))","v":5.3933136498906977},{"$f":"Sigma_p(AB602,V602)","v":-19.65330406187222},{"$f":"Sigma_p(AC602,V602)","v":-23.579753181240307},{"$f":"beta_1(X602,AD602,Z602)","v":0.95116330154492201},{"$f":"beta_1(Y602,AE602,Z602)","v":0},{"$f":"k_tHole(W602,U602)","v":2.343},{"$f":"K_t1Mu(Z602,AH602,D602,W602,U602,SIGN(X602),mu_millScale)","v":3.2278485073865397},{"$f":"K_t1Mu(Z602,AI602,D602,W602,U602,SIGN(Y602),mu_millScale)","v":1.743932874937516},{"$f":"Sigma_hMax(AK602,X602,AF602)","v":561.35942726770497},{"$f":"Sigma_hMin(X602,Y602,AG602,AE602,AK602,AL602,AJ602,AI602,Z602,IF(L602=1,mu_redLead,mu_millScale))","v":-7.7966742600227272},569.15610152772774,-1.3888916585887486E-2,179.8659601587739,{"$f":"tau_n(N602,W602,U602,D602)","v":89.126767949604258},{"$f":"tau_hMax(X602,Z602,AH602,W602,U602)","v":86.701464570232517},{"$f":"tau_hMin(X602,Y602,AS602,AE602,Z602,AI602,IF(L602=1,mu_redLead,mu_millScale),W602,U602)","v":5.0849272554992035},81.616537314733307]
[591,"Livieri2001","R; S",2,2,7.5,25,27.5,5,6,45,1,null,180,0,400596,1,"SeriesA","Grade S355",591,0.66666666666666663,0.68181818181818177,0.3,180,0,{"$f":"IF(OR(X603>=1.6*D603*AD603,D603=1),calcLoadFraction(G603,F603,I603,J603,K603,D603,1),\"Condition for spring model not fulfilled\")","v":0.51136758434697738},{"$f":"IF(L603>2,L603,IF(L603=2,1,sigma_cl0(I603+J603)))","v":89.016410028378033},{"$f":"Sigma_cl(AA603,U603,V603,X603)","v":74.193591397549227},{"$f":"Sigma_cl(AA603,U603,V603,Y603)","v":89.016410028378033},{"$f":"sigma_Slip(AB603,W603,U603,IF(L603=1,mu_redLead,mu_millScale))","v":4.4952308129618963},{"$f":"sigma_Slip(AC603,W603,U603,IF(L603=1,mu_redLead,mu_millScale))","v":5.3933136498906977},{"$f":"Sigma_p(AB603,V603)","v":-19.65330406187222},{"$f":"Sigma_p(AC603,V603)","v":-23.579753181240307},{"$f":"beta_1(X603,AD603,Z603)","v":0.95116330154492201},{"$f":"beta_1(Y603,AE603,Z603)","v":0},{"$f":"k_tHole(W603,U603)","v":2.343},{"$f":"K_t1Mu(Z603,AH603,D603,W603,U603,SIGN(X603),mu_millScale)","v":3.2278485073865397},{"$f":"K_t1Mu(Z603,AI603,D603,W603,U603,SIGN(Y603),mu_millScale)","v":1.743932874937516},{"$f":"Sigma_hMax(AK603,X603,AF603)","v":561.35942726770497},{"$f":"Sigma_hMin(X603,Y603,AG603,AE603,AK603,AL603,AJ603,AI603,Z603,IF(L603=1,mu_redLead,mu_millScale))","v":-7.7966742600227272},569.15610152772774,-1.3888916585887486E-2,179.8659601587739,{"$f":"tau_n(N603,W603,U603,D603)","v":89.126767949604258},{"$f":"tau_hMax(X603,Z603,AH603,W603,U603)","v":86.701464570232517},{"$f":"tau_hMin(X603,Y603,AS603,AE603,Z603,AI603,IF(L603=1,mu_redLead,mu_millScale),W603,U603)","v":5.0849272554992035},81.616537314733307]
[592,"Livieri2001","R; S",2,2,7.5,25,27.5,5,6,45,1,null,160,0,526741,1,"SeriesA","Grade S355",592,0.66666666666666663,0.68181818181818177,0.3,160,0,{"$f":"IF(OR(X604>=1.6*D604*AD604,D604=1),calcLoadFraction(G604,F604,I604,J604,K604,D604,1),\"Condition for spring model not fulfilled\")","v":0.51136758434697738},{"$f":"IF(L604>2,L604,IF(L604=2,1,sigma_cl0(I604+J604)))","v":89.016410028378033},{"$f":"Sigma_cl(AA604,U604,V604,X604)","v":75.840571245419099},{"$f":"Sigma_cl(AA604,U604,V604,Y604)","v":89.016410028378033},{"$f":"sigma_Slip(AB604,W604,U604,IF(L604=1,mu_redLead,mu_millScale))","v":4.5950177948428736},{"$f":"sigma_Slip(AC604,W604,U604,IF(L604=1,mu_redLead,mu_millScale))","v":5.3933136498906977},{"$f":"Sigma_p(AB604,V604)","v":-20.08957618624645},{"$f":"Sigma_p(AC604,V604)","v":-23.579753181240307},{"$f":"beta_1(X604,AD604,Z604)","v":0.94383910498659729},{"$f":"beta_1(Y604,AE604,Z604)","v":0},{"$f":"k_tHole(W604,U604)","v":2.343},{"$f":"K_t1Mu(Z604,AH604,D604,W604,U604,SIGN(X604),mu_millScale)","v":3.225645937496016},{"$f":"K_t1Mu(Z604,AI604,D604,W604,U604,SIGN(Y604),mu_millScale)","v":1.743932874937516},{"$f":"Sigma_hMax(AK604,X604,AF604)","v":496.01377381311613},{"$f":"Sigma_hMin(X604,Y604,AG604,AE604,AK604,AL604,AJ604,AI604,Z604,IF(L604=1,mu_redLead,mu_millScale))","v":-7.8958905700969799},503.90966438321311,-1.5918692155254394E-2,159.21521371082386,{"$f":"tau_n(N604,W604,U604,D604)","v":79.223793732981562},{"$f":"tau_hMax(X604,Z604,AH604,W604,U604)","v":76.474525773350834},{"$f":"tau_hMin(X604,Y604,AS604,AE604,Z604,AI604,IF(L604=1,mu_redLead,mu_millScale),W604,U604)","v":5.0000001214159813},71.474525651934854]
[593,"Livieri2001","R; S",2,2,7.5,25,27.5,5,6,45,1,null,160,0,892256,1,"SeriesA","Grade S355",593,0.66666666666666663,0.68181818181818177,0.3,160,0,{"$f":"IF(OR(X605>=1.6*D605*AD605,D605=1),calcLoadFraction(G605,F605,I605,J605,K605,D605,1),\"Condition for spring model not fulfilled\")","v":0.51136758434697738},{"$f":"IF(L605>2,L605,IF(L605=2,1,sigma_cl0(I605+J605)))","v":89.016410028378033},{"$f":"Sigma_cl(AA605,U605,V605,X605)","v":75.840571245419099},{"$f":"Sigma_cl(AA605,U605,V605,Y605)","v":89.016410028378033},{"$f":"sigma_Slip(AB605,W605,U605,IF(L605=1,mu_redLead,mu_millScale))","v":4.5950177948428736},{"$f":"sigma_Slip(AC605,W605,U605,IF(L605=1,mu_redLead,mu_millScale))","v":5.3933136498906977},{"$f":"Sigma_p(AB605,V605)","v":-20.08957618624645},{"$f":"Sigma_p(AC605,V605)","v":-23.579753181240307},{"$f":"beta_1(X605,AD605,Z605)","v":0.94383910498659729},{"$f":"beta_1(Y605,AE605,Z605)","v":0},{"$f":"k_tHole(W605,U605)","v":2.343},{"$f":"K_t1Mu(Z605,AH605,D605,W605,U605,SIGN(X605),mu_millScale)","v":3.225645937496016},{"$f":"K_t1Mu(Z605,AI605,D605,W605,U605,SIGN(Y605),mu_millScale)","v":1.743932874937516},{"$f":"Sigma_hMax(AK605,X605,AF605)","v":496.01377381311613},{"$f":"Sigma_hMin(X605,Y605,AG605,AE605,AK605,AL605,AJ605,AI605,Z605,IF(L605=1,mu_redLead,mu_millScale))","v":-7.8958905700969799},503.90966438321311,-1.5918692155254394E-2,159.21521371082386,{"$f":"tau_n(N605,W605,U605,D605)","v":79.223793732981562},{"$f":"tau_hMax(X605,Z605,AH605,W605,U605)","v":76.474525773350834},{"$f":"tau_hMin(X605,Y605,AS605,AE605,Z605,AI605,IF(L605=1,mu_redLead,mu_millScale),W605,U605)","v":5.0000001214159813},71.474525651934854]
[594,"Livieri2001","R; S",2,2,7.5,25,27.5,5,6,45,1,null,160,0,1528488,1,"SeriesA","Grade S355",594,0.66666666666666663,0.68181818181818177,0.3,160,0,{"$f":"IF(OR(X606>=1.6*D606*AD606,D606=1),calcLoadFraction(G606,F606,I606,J606,K606,D606,1),\"Condition for spring model not fulfilled\")","v":0.51136758434697738},{"$f":"IF(L606>2,L606,IF(L606=2,1,sigma_cl0(I606+J606)))","v":89.016410028378033},{"$f":"Sigma_cl(AA606,U606,V606,X606)","v":75.840571245419099},{"$f":"Sigma_cl(AA606,U606,V606,Y606)","v":89.016410028378033},{"$f":"sigma_Slip(AB606,W606,U606,IF(L606=1,mu_redLead,mu_millScale))","v":4.5950177948428736},{"$f":"sigma_Slip(AC606,W606,U606,IF(L606=1,mu_redLead,mu_millScale))","v":5.3933136498906977},{"$f":"Sigma_p(AB606,V606)","v":-20.08957618624645},{"$f":"Sigma_p(AC606,V606)","v":-23.579753181240307},{"$f":"beta_1(X606,AD606,Z606)","v":0.94383910498659729},{"$f":"beta_1(Y606,AE606,Z606)","v":0},{"$f":"k_tHole(W606,U606)","v":2.343},{"$f":"K_t1Mu(Z606,AH606,D606,W606,U606,SIGN(X606),mu_millScale)","v":3.225645937496016},{"$f":"K_t1Mu(Z606,AI606,D606,W606,U606,SIGN(Y606),mu_millScale)","v":1.743932874937516},{"$f":"Sigma_hMax(AK606,X606,AF606)","v":496.01377381311613},{"$f":"Sigma_hMin(X606,Y606,AG606,AE606,AK606,AL606,AJ606,AI606,Z606,IF(L606=1,mu_redLead,mu_millScale))","v":-7.8958905700969799},503.90966438321311,-1.5918692155254394E-2,159.21521371082386,{"$f":"tau_n(N606,W606,U606,D606)","v":79.223793732981562},{"$f":"tau_hMax(X606,Z606,AH606,W606,U606)","v":76.474525773350834},{"$f":"tau_hMin(X606,Y606,AS606,AE606,Z606,AI606,IF(L606=1,mu_redLead,mu_millScale),W606,U606)","v":5.0000001214159813},71.474525651934854]
[595,"Livieri2001","R; S",2,2,7.5,25,27.5,5,6,45,1,null,140,0,1976047,1,"SeriesA","Grade S355",595,0.66666666666666663,0.68181818181818177,0.3,140,0,{"$f":"IF(OR(X607>=1.6*D607*AD607,D607=1),calcLoadFraction(G607,F607,I607,J607,K607,D607,1),\"Condition for spring model not fulfilled\")","v":0.51136758434697738},{"$f":"IF(L607>2,L607,IF(L607=2,1,sigma_cl0(I607+J607)))","v":89.016410028378033},{"$f":"Sigma_cl(AA607,U607,V607,X607)","v":77.487551093288971},{"$f":"Sigma_cl(AA607,U607,V607,Y607)","v":89.016410028378033},{"$f":"sigma_Slip(AB607,W607,U607,IF(L607=1,mu_redLead,mu_millScale))","v":4.6948047767238528},{"$f":"sigma_Slip(AC607,W607,U607,IF(L607=1,mu_redLead,mu_millScale))","v":5.3933136498906977},{"$f":"Sigma_p(AB607,V607)","v":-20.525848310620685},{"$f":"Sigma_p(AC607,V607)","v":-23.579753181240307},{"$f":"beta_1(X607,AD607,Z607)","v":0.93442228084017964},{"$f":"beta_1(Y607,AE607,Z607)","v":0},{"$f":"k_tHole(W607,U607)","v":2.343},{"$f":"K_t1Mu(Z607,AH607,D607,W607,U607,SIGN(X607),mu_millScale)","v":3.2223840941787687},{"$f":"K_t1Mu(Z607,AI607,D607,W607,U607,SIGN(Y607),mu_millScale)","v":1.743932874937516},{"$f":"Sigma_hMax(AK607,X607,AF607)","v":430.60792487440693},{"$f":"Sigma_hMin(X607,Y607,AG607,AE607,AK607,AL607,AJ607,AI607,Z607,IF(L607=1,mu_redLead,mu_millScale))","v":-8.0251576047334723},438.6330824791404,-1.8636808895410195E-2,138.55397680970478,{"$f":"tau_n(N607,W607,U607,D607)","v":69.320819516358867},{"$f":"tau_hMax(X607,Z607,AH607,W607,U607)","v":66.247586976469137},{"$f":"tau_hMin(X607,Y607,AS607,AE607,Z607,AI607,IF(L607=1,mu_redLead,mu_millScale),W607,U607)","v":4.8945399491778101},61.353047027291325]
[596,"Livieri2001","R; S",2,1,10,30,null,7.5,10,60,1,null,240,0,68988,1,"SeriesB","Grade S355",596,0.75,0.5714285714285714,0.33333333333333331,240,0,{"$f":"IF(OR(X608>=1.6*D608*AD608,D608=1),calcLoadFraction(G608,F608,I608,J608,K608,D608,1),\"Condition for spring model not fulfilled\")","v":0.51826467248887154},{"$f":"IF(L608>2,L608,IF(L608=2,1,sigma_cl0(I608+J608)))","v":133.48852782757527},{"$f":"Sigma_cl(AA608,U608,V608,X608)","v":113.52107365641558},{"$f":"Sigma_cl(AA608,U608,V608,Y608)","v":133.48852782757527},{"$f":"sigma_Slip(AB608,W608,U608,IF(L608=1,mu_redLead,mu_millScale))","v":7.1327394350862896},{"$f":"sigma_Slip(AC608,W608,U608,IF(L608=1,mu_redLead,mu_millScale))","v":8.3873315843463221},{"$f":"Sigma_p(AB608,V608)","v":-25.002602077846646},{"$f":"Sigma_p(AC608,V608)","v":-29.400360970262923},{"$f":"beta_1(X608,AD608,Z608)","v":0.94265527012777239},{"$f":"beta_1(Y608,AE608,Z608)","v":0},{"$f":"k_tHole(W608,U608)","v":2.2962962962962963},{"$f":"K_t1Mu(Z608,AH608,D608,W608,U608,SIGN(X608),mu_millScale)","v":3.0580599404228681},{"$f":"K_t1Mu(Z608,AI608,D608,W608,U608,SIGN(Y608),mu_millScale)","v":1.7012516723275919},{"$f":"Sigma_hMax(AK608,X608,AF608)","v":708.93178362364165},{"$f":"Sigma_hMin(X608,Y608,AG608,AE608,AK608,AL608,AJ608,AI608,Z608,IF(L608=1,mu_redLead,mu_millScale))","v":-6.8499662414636946},715.78174986510533,-9.662377113987897E-3,226.29644089903763,{"$f":"tau_n(N608,W608,U608,D608)","v":114.59155879234834},{"$f":"tau_hMax(X608,Z608,AH608,W608,U608)","v":111.96624895562644},{"$f":"tau_hMin(X608,Y608,AS608,AE608,Z608,AI608,IF(L608=1,mu_redLead,mu_millScale),W608,U608)","v":7.4747689851575654},104.49147997046887]
[597,"Livieri2001","R; S",2,1,10,30,null,7.5,10,60,1,null,240,0,103433,1,"SeriesB","Grade S355",597,0.75,0.5714285714285714,0.33333333333333331,240,0,{"$f":"IF(OR(X609>=1.6*D609*AD609,D609=1),calcLoadFraction(G609,F609,I609,J609,K609,D609,1),\"Condition for spring model not fulfilled\")","v":0.51826467248887154},{"$f":"IF(L609>2,L609,IF(L609=2,1,sigma_cl0(I609+J609)))","v":133.48852782757527},{"$f":"Sigma_cl(AA609,U609,V609,X609)","v":113.52107365641558},{"$f":"Sigma_cl(AA609,U609,V609,Y609)","v":133.48852782757527},{"$f":"sigma_Slip(AB609,W609,U609,IF(L609=1,mu_redLead,mu_millScale))","v":7.1327394350862896},{"$f":"sigma_Slip(AC609,W609,U609,IF(L609=1,mu_redLead,mu_millScale))","v":8.3873315843463221},{"$f":"Sigma_p(AB609,V609)","v":-25.002602077846646},{"$f":"Sigma_p(AC609,V609)","v":-29.400360970262923},{"$f":"beta_1(X609,AD609,Z609)","v":0.94265527012777239},{"$f":"beta_1(Y609,AE609,Z609)","v":0},{"$f":"k_tHole(W609,U609)","v":2.2962962962962963},{"$f":"K_t1Mu(Z609,AH609,D609,W609,U609,SIGN(X609),mu_millScale)","v":3.0580599404228681},{"$f":"K_t1Mu(Z609,AI609,D609,W609,U609,SIGN(Y609),mu_millScale)","v":1.7012516723275919},{"$f":"Sigma_hMax(AK609,X609,AF609)","v":708.93178362364165},{"$f":"Sigma_hMin(X609,Y609,AG609,AE609,AK609,AL609,AJ609,AI609,Z609,IF(L609=1,mu_redLead,mu_millScale))","v":-6.8499662414636946},715.78174986510533,-9.662377113987897E-3,226.29644089903763,{"$f":"tau_n(N609,W609,U609,D609)","v":114.59155879234834},{"$f":"tau_hMax(X609,Z609,AH609,W609,U609)","v":111.96624895562644},{"$f":"tau_hMin(X609,Y609,AS609,AE609,Z609,AI609,IF(L609=1,mu_redLead,mu_millScale),W609,U609)","v":7.4747689851575654},104.49147997046887]
[598,"Livieri2001","R; S",2,1,10,30,null,7.5,10,60,1,null,240,0,108265,1,"SeriesB","Grade S355",598,0.75,0.5714285714285714,0.33333333333333331,240,0,{"$f":"IF(OR(X610>=1.6*D610*AD610,D610=1),calcLoadFraction(G610,F610,I610,J610,K610,D610,1),\"Condition for spring model not fulfilled\")","v":0.51826467248887154},{"$f":"IF(L610>2,L610,IF(L610=2,1,sigma_cl0(I610+J610)))","v":133.48852782757527},{"$f":"Sigma_cl(AA610,U610,V610,X610)","v":113.52107365641558},{"$f":"Sigma_cl(AA610,U610,V610,Y610)","v":133.48852782757527},{"$f":"sigma_Slip(AB610,W610,U610,IF(L610=1,mu_redLead,mu_millScale))","v":7.1327394350862896},{"$f":"sigma_Slip(AC610,W610,U610,IF(L610=1,mu_redLead,mu_millScale))","v":8.3873315843463221},{"$f":"Sigma_p(AB610,V610)","v":-25.002602077846646},{"$f":"Sigma_p(AC610,V610)","v":-29.400360970262923},{"$f":"beta_1(X610,AD610,Z610)","v":0.94265527012777239},{"$f":"beta_1(Y610,AE610,Z610)","v":0},{"$f":"k_tHole(W610,U610)","v":2.2962962962962963},{"$f":"K_t1Mu(Z610,AH610,D610,W610,U610,SIGN(X610),mu_millScale)","v":3.0580599404228681},{"$f":"K_t1Mu(Z610,AI610,D610,W610,U610,SIGN(Y610),mu_millScale)","v":1.7012516723275919},{"$f":"Sigma_hMax(AK610,X610,AF610)","v":708.93178362364165},{"$f":"Sigma_hMin(X610,Y610,AG610,AE610,AK610,AL610,AJ610,AI610,Z610,IF(L610=1,mu_redLead,mu_millScale))","v":-6.8499662414636946},715.78174986510533,-9.662377113987897E-3,226.29644089903763,{"$f":"tau_n(N610,W610,U610,D610)","v":114.59155879234834},{"$f":"tau_hMax(X610,Z610,AH610,W610,U610)","v":111.96624895562644},{"$f":"tau_hMin(X610,Y610,AS610,AE610,Z610,AI610,IF(L610=1,mu_redLead,mu_millScale),W610,U610)","v":7.4747689851575654},104.49147997046887]
[599,"Livieri2001","R; S",2,1,10,30,null,7.5,10,60,1,null,200,0,229526,1,"SeriesB","Grade S355",599,0.75,0.5714285714285714,0.33333333333333331,200,0,{"$f":"IF(OR(X611>=1.6*D611*AD611,D611=1),calcLoadFraction(G611,F611,I611,J611,K611,D611,1),\"Condition for spring model not fulfilled\")","v":0.51826467248887154},{"$f":"IF(L611>2,L611,IF(L611=2,1,sigma_cl0(I611+J611)))","v":133.48852782757527},{"$f":"Sigma_cl(AA611,U611,V611,X611)","v":116.8489826849422},{"$f":"Sigma_cl(AA611,U611,V611,Y611)","v":133.48852782757527},{"$f":"sigma_Slip(AB611,W611,U611,IF(L611=1,mu_redLead,mu_millScale))","v":7.3418381266296286},{"$f":"sigma_Slip(AC611,W611,U611,IF(L611=1,mu_redLead,mu_millScale))","v":8.3873315843463221},{"$f":"Sigma_p(AB611,V611)","v":-25.735561893249358},{"$f":"Sigma_p(AC611,V611)","v":-29.400360970262923},{"$f":"beta_1(X611,AD611,Z611)","v":0.92916902775398724},{"$f":"beta_1(Y611,AE611,Z611)","v":0},{"$f":"k_tHole(W611,U611)","v":2.2962962962962963},{"$f":"K_t1Mu(Z611,AH611,D611,W611,U611,SIGN(X611),mu_millScale)","v":3.0535667544929987},{"$f":"K_t1Mu(Z611,AI611,D611,W611,U611,SIGN(Y611),mu_millScale)","v":1.7012516723275919},{"$f":"Sigma_hMax(AK611,X611,AF611)","v":584.97778900535036},{"$f":"Sigma_hMin(X611,Y611,AG611,AE611,AK611,AL611,AJ611,AI611,Z611,IF(L611=1,mu_redLead,mu_millScale))","v":-7.1164221809790824},592.0942111863294,-1.2165286126639576E-2,187.14638258488341,{"$f":"tau_n(N611,W611,U611,D611)","v":95.492965660290281},{"$f":"tau_hMax(X611,Z611,AH611,W611,U611)","v":91.970322184746266},{"$f":"tau_hMin(X611,Y611,AS611,AE611,Z611,AI611,IF(L611=1,mu_redLead,mu_millScale),W611,U611)","v":7.2512419349544919},84.719080249791773]
[600,"Livieri2001","R; S",2,1,10,30,null,7.5,10,60,1,null,200,0,360194,1,"SeriesB","Grade S355",600,0.75,0.5714285714285714,0.33333333333333331,200,0,{"$f":"IF(OR(X612>=1.6*D612*AD612,D612=1),calcLoadFraction(G612,F612,I612,J612,K612,D612,1),\"Condition for spring model not fulfilled\")","v":0.51826467248887154},{"$f":"IF(L612>2,L612,IF(L612=2,1,sigma_cl0(I612+J612)))","v":133.48852782757527},{"$f":"Sigma_cl(AA612,U612,V612,X612)","v":116.8489826849422},{"$f":"Sigma_cl(AA612,U612,V612,Y612)","v":133.48852782757527},{"$f":"sigma_Slip(AB612,W612,U612,IF(L612=1,mu_redLead,mu_millScale))","v":7.3418381266296286},{"$f":"sigma_Slip(AC612,W612,U612,IF(L612=1,mu_redLead,mu_millScale))","v":8.3873315843463221},{"$f":"Sigma_p(AB612,V612)","v":-25.735561893249358},{"$f":"Sigma_p(AC612,V612)","v":-29.400360970262923},{"$f":"beta_1(X612,AD612,Z612)","v":0.92916902775398724},{"$f":"beta_1(Y612,AE612,Z612)","v":0},{"$f":"k_tHole(W612,U612)","v":2.2962962962962963},{"$f":"K_t1Mu(Z612,AH612,D612,W612,U612,SIGN(X612),mu_millScale)","v":3.0535667544929987},{"$f":"K_t1Mu(Z612,AI612,D612,W612,U612,SIGN(Y612),mu_millScale)","v":1.7012516723275919},{"$f":"Sigma_hMax(AK612,X612,AF612)","v":584.97778900535036},{"$f":"Sigma_hMin(X612,Y612,AG612,AE612,AK612,AL612,AJ612,AI612,Z612,IF(L612=1,mu_redLead,mu_millScale))","v":-7.1164221809790824},592.0942111863294,-1.2165286126639576E-2,187.14638258488341,{"$f":"tau_n(N612,W612,U612,D612)","v":95.492965660290281},{"$f":"tau_hMax(X612,Z612,AH612,W612,U612)","v":91.970322184746266},{"$f":"tau_hMin(X612,Y612,AS612,AE612,Z612,AI612,IF(L612=1,mu_redLead,mu_millScale),W612,U612)","v":7.2512419349544919},84.719080249791773]
[601,"Livieri2001","R; S",2,1,10,30,null,7.5,10,60,1,null,200,0,439796,1,"SeriesB","Grade S355",601,0.75,0.5714285714285714,0.33333333333333331,200,0,{"$f":"IF(OR(X613>=1.6*D613*AD613,D613=1),calcLoadFraction(G613,F613,I613,J613,K613,D613,1),\"Condition for spring model not fulfilled\")","v":0.51826467248887154},{"$f":"IF(L613>2,L613,IF(L613=2,1,sigma_cl0(I613+J613)))","v":133.48852782757527},{"$f":"Sigma_cl(AA613,U613,V613,X613)","v":116.8489826849422},{"$f":"Sigma_cl(AA613,U613,V613,Y613)","v":133.48852782757527},{"$f":"sigma_Slip(AB613,W613,U613,IF(L613=1,mu_redLead,mu_millScale))","v":7.3418381266296286},{"$f":"sigma_Slip(AC613,W613,U613,IF(L613=1,mu_redLead,mu_millScale))","v":8.3873315843463221},{"$f":"Sigma_p(AB613,V613)","v":-25.735561893249358},{"$f":"Sigma_p(AC613,V613)","v":-29.400360970262923},{"$f":"beta_1(X613,AD613,Z613)","v":0.92916902775398724},{"$f":"beta_1(Y613,AE613,Z613)","v":0},{"$f":"k_tHole(W613,U613)","v":2.2962962962962963},{"$f":"K_t1Mu(Z613,AH613,D613,W613,U613,SIGN(X613),mu_millScale)","v":3.0535667544929987},{"$f":"K_t1Mu(Z613,AI613,D613,W613,U613,SIGN(Y613),mu_millScale)","v":1.7012516723275919},{"$f":"Sigma_hMax(AK613,X613,AF613)","v":584.97778900535036},{"$f":"Sigma_hMin(X613,Y613,AG613,AE613,AK613,AL613,AJ613,AI613,Z613,IF(L613=1,mu_redLead,mu_millScale))","v":-7.1164221809790824},592.0942111863294,-1.2165286126639576E-2,187.14638258488341,{"$f":"tau_n(N613,W613,U613,D613)","v":95.492965660290281},{"$f":"tau_hMax(X613,Z613,AH613,W613,U613)","v":91.970322184746266},{"$f":"tau_hMin(X613,Y613,AS613,AE613,Z613,AI613,IF(L613=1,mu_redLead,mu_millScale),W613,U613)","v":7.2512419349544919},84.719080249791773]
[602,"Livieri2001","R; S",2,1,10,30,null,7.5,10,60,1,null,180,0,345796,1,"SeriesB","Grade S355",602,0.75,0.5714285714285714,0.33333333333333331,180,0,{"$f":"IF(OR(X614>=1.6*D614*AD614,D614=1),calcLoadFraction(G614,F614,I614,J614,K614,D614,1),\"Condition for spring model not fulfilled\")","v":0.51826467248887154},{"$f":"IF(L614>2,L614,IF(L614=2,1,sigma_cl0(I614+J614)))","v":133.48852782757527},{"$f":"Sigma_cl(AA614,U614,V614,X614)","v":118.5129371992055},{"$f":"Sigma_cl(AA614,U614,V614,Y614)","v":133.48852782757527},{"$f":"sigma_Slip(AB614,W614,U614,IF(L614=1,mu_redLead,mu_millScale))","v":7.4463874724012982},{"$f":"sigma_Slip(AC614,W614,U614,IF(L614=1,mu_redLead,mu_millScale))","v":8.3873315843463221},{"$f":"Sigma_p(AB614,V614)","v":-26.102041800950712},{"$f":"Sigma_p(AC614,V614)","v":-29.400360970262923},{"$f":"beta_1(X614,AD614,Z614)","v":0.92017819950479718},{"$f":"beta_1(Y614,AE614,Z614)","v":0},{"$f":"k_tHole(W614,U614)","v":2.2962962962962963},{"$f":"K_t1Mu(Z614,AH614,D614,W614,U614,SIGN(X614),mu_millScale)","v":3.0500767818409016},{"$f":"K_t1Mu(Z614,AI614,D614,W614,U614,SIGN(Y614),mu_millScale)","v":1.7012516723275919},{"$f":"Sigma_hMax(AK614,X614,AF614)","v":522.91177893041163},{"$f":"Sigma_hMin(X614,Y614,AG614,AE614,AK614,AL614,AJ614,AI614,Z614,IF(L614=1,mu_redLead,mu_millScale))","v":-7.2968771395687178},530.20865606998029,-1.3954317790458064E-2,167.55663555570362,{"$f":"tau_n(N614,W614,U614,D614)","v":85.943669094261253},{"$f":"tau_hMax(X614,Z614,AH614,W614,U614)","v":81.972358799306193},{"$f":"tau_hMin(X614,Y614,AS614,AE614,Z614,AI614,IF(L614=1,mu_redLead,mu_millScale),W614,U614)","v":7.1080256431360826},74.864333156170105]
[603,"Livieri2001","R; S",2,1,10,30,null,7.5,10,60,1,null,180,0,601334,1,"SeriesB","Grade S355",603,0.75,0.5714285714285714,0.33333333333333331,180,0,{"$f":"IF(OR(X615>=1.6*D615*AD615,D615=1),calcLoadFraction(G615,F615,I615,J615,K615,D615,1),\"Condition for spring model not fulfilled\")","v":0.51826467248887154},{"$f":"IF(L615>2,L615,IF(L615=2,1,sigma_cl0(I615+J615)))","v":133.48852782757527},{"$f":"Sigma_cl(AA615,U615,V615,X615)","v":118.5129371992055},{"$f":"Sigma_cl(AA615,U615,V615,Y615)","v":133.48852782757527},{"$f":"sigma_Slip(AB615,W615,U615,IF(L615=1,mu_redLead,mu_millScale))","v":7.4463874724012982},{"$f":"sigma_Slip(AC615,W615,U615,IF(L615=1,mu_redLead,mu_millScale))","v":8.3873315843463221},{"$f":"Sigma_p(AB615,V615)","v":-26.102041800950712},{"$f":"Sigma_p(AC615,V615)","v":-29.400360970262923},{"$f":"beta_1(X615,AD615,Z615)","v":0.92017819950479718},{"$f":"beta_1(Y615,AE615,Z615)","v":0},{"$f":"k_tHole(W615,U615)","v":2.2962962962962963},{"$f":"K_t1Mu(Z615,AH615,D615,W615,U615,SIGN(X615),mu_millScale)","v":3.0500767818409016},{"$f":"K_t1Mu(Z615,AI615,D615,W615,U615,SIGN(Y615),mu_millScale)","v":1.7012516723275919},{"$f":"Sigma_hMax(AK615,X615,AF615)","v":522.91177893041163},{"$f":"Sigma_hMin(X615,Y615,AG615,AE615,AK615,AL615,AJ615,AI615,Z615,IF(L615=1,mu_redLead,mu_millScale))","v":-7.2968771395687178},530.20865606998029,-1.3954317790458064E-2,167.55663555570362,{"$f":"tau_n(N615,W615,U615,D615)","v":85.943669094261253},{"$f":"tau_hMax(X615,Z615,AH615,W615,U615)","v":81.972358799306193},{"$f":"tau_hMin(X615,Y615,AS615,AE615,Z615,AI615,IF(L615=1,mu_redLead,mu_millScale),W615,U615)","v":7.1080256431360826},74.864333156170105]
[604,"Livieri2001","R; S",2,1,10,30,null,7.5,10,60,1,null,180,0,2284591,0,"SeriesB","Grade S355",604,0.75,0.5714285714285714,0.33333333333333331,180,0,{"$f":"IF(OR(X616>=1.6*D616*AD616,D616=1),calcLoadFraction(G616,F616,I616,J616,K616,D616,1),\"Condition for spring model not fulfilled\")","v":0.51826467248887154},{"$f":"IF(L616>2,L616,IF(L616=2,1,sigma_cl0(I616+J616)))","v":133.48852782757527},{"$f":"Sigma_cl(AA616,U616,V616,X616)","v":118.5129371992055},{"$f":"Sigma_cl(AA616,U616,V616,Y616)","v":133.48852782757527},{"$f":"sigma_Slip(AB616,W616,U616,IF(L616=1,mu_redLead,mu_millScale))","v":7.4463874724012982},{"$f":"sigma_Slip(AC616,W616,U616,IF(L616=1,mu_redLead,mu_millScale))","v":8.3873315843463221},{"$f":"Sigma_p(AB616,V616)","v":-26.102041800950712},{"$f":"Sigma_p(AC616,V616)","v":-29.400360970262923},{"$f":"beta_1(X616,AD616,Z616)","v":0.92017819950479718},{"$f":"beta_1(Y616,AE616,Z616)","v":0},{"$f":"k_tHole(W616,U616)","v":2.2962962962962963},{"$f":"K_t1Mu(Z616,AH616,D616,W616,U616,SIGN(X616),mu_millScale)","v":3.0500767818409016},{"$f":"K_t1Mu(Z616,AI616,D616,W616,U616,SIGN(Y616),mu_millScale)","v":1.7012516723275919},{"$f":"Sigma_hMax(AK616,X616,AF616)","v":522.91177893041163},{"$f":"Sigma_hMin(X616,Y616,AG616,AE616,AK616,AL616,AJ616,AI616,Z616,IF(L616=1,mu_redLead,mu_millScale))","v":-7.2968771395687178},530.20865606998029,-1.3954317790458064E-2,167.55663555570362,{"$f":"tau_n(N616,W616,U616,D616)","v":85.943669094261253},{"$f":"tau_hMax(X616,Z616,AH616,W616,U616)","v":81.972358799306193},{"$f":"tau_hMin(X616,Y616,AS616,AE616,Z616,AI616,IF(L616=1,mu_redLead,mu_millScale),W616,U616)","v":7.1080256431360826},74.864333156170105]
[605,"Livieri2001","R; S",2,1,10,30,null,7.5,10,60,1,null,160,0,509164,1,"SeriesB","Grade S355",605,0.75,0.5714285714285714,0.33333333333333331,160,0,{"$f":"IF(OR(X617>=1.6*D617*AD617,D617=1),calcLoadFraction(G617,F617,I617,J617,K617,D617,1),\"Condition for spring model not fulfilled\")","v":0.51826467248887154},{"$f":"IF(L617>2,L617,IF(L617=2,1,sigma_cl0(I617+J617)))","v":133.48852782757527},{"$f":"Sigma_cl(AA617,U617,V617,X617)","v":120.17689171346881},{"$f":"Sigma_cl(AA617,U617,V617,Y617)","v":133.48852782757527},{"$f":"sigma_Slip(AB617,W617,U617,IF(L617=1,mu_redLead,mu_millScale))","v":7.5509368181729677},{"$f":"sigma_Slip(AC617,W617,U617,IF(L617=1,mu_redLead,mu_millScale))","v":8.3873315843463221},{"$f":"Sigma_p(AB617,V617)","v":-26.468521708652069},{"$f":"Sigma_p(AC617,V617)","v":-29.400360970262923},{"$f":"beta_1(X617,AD617,Z617)","v":0.90893966419330963},{"$f":"beta_1(Y617,AE617,Z617)","v":0},{"$f":"k_tHole(W617,U617)","v":2.2962962962962963},{"$f":"K_t1Mu(Z617,AH617,D617,W617,U617,SIGN(X617),mu_millScale)","v":3.0451684532985581},{"$f":"K_t1Mu(Z617,AI617,D617,W617,U617,SIGN(Y617),mu_millScale)","v":1.7012516723275919},{"$f":"Sigma_hMax(AK617,X617,AF617)","v":460.75843081911722},{"$f":"Sigma_hMin(X617,Y617,AG617,AE617,AK617,AL617,AJ617,AI617,Z617,IF(L617=1,mu_redLead,mu_millScale))","v":-7.5254231207208537},468.28385393983808,-1.6332686755926459E-2,147.95294671764745,{"$f":"tau_n(N617,W617,U617,D617)","v":76.394372528232225},{"$f":"tau_hMax(X617,Z617,AH617,W617,U617)","v":71.974395413866119},{"$f":"tau_hMin(X617,Y617,AS617,AE617,Z617,AI617,IF(L617=1,mu_redLead,mu_millScale),W617,U617)","v":6.9346234109207705},65.039772002945355]
[606,"Livieri2001","R; S",2,1,10,30,null,7.5,10,60,1,null,160,0,688895,1,"SeriesB","Grade S355",606,0.75,0.5714285714285714,0.33333333333333331,160,0,{"$f":"IF(OR(X618>=1.6*D618*AD618,D618=1),calcLoadFraction(G618,F618,I618,J618,K618,D618,1),\"Condition for spring model not fulfilled\")","v":0.51826467248887154},{"$f":"IF(L618>2,L618,IF(L618=2,1,sigma_cl0(I618+J618)))","v":133.48852782757527},{"$f":"Sigma_cl(AA618,U618,V618,X618)","v":120.17689171346881},{"$f":"Sigma_cl(AA618,U618,V618,Y618)","v":133.48852782757527},{"$f":"sigma_Slip(AB618,W618,U618,IF(L618=1,mu_redLead,mu_millScale))","v":7.5509368181729677},{"$f":"sigma_Slip(AC618,W618,U618,IF(L618=1,mu_redLead,mu_millScale))","v":8.3873315843463221},{"$f":"Sigma_p(AB618,V618)","v":-26.468521708652069},{"$f":"Sigma_p(AC618,V618)","v":-29.400360970262923},{"$f":"beta_1(X618,AD618,Z618)","v":0.90893966419330963},{"$f":"beta_1(Y618,AE618,Z618)","v":0},{"$f":"k_tHole(W618,U618)","v":2.2962962962962963},{"$f":"K_t1Mu(Z618,AH618,D618,W618,U618,SIGN(X618),mu_millScale)","v":3.0451684532985581},{"$f":"K_t1Mu(Z618,AI618,D618,W618,U618,SIGN(Y618),mu_millScale)","v":1.7012516723275919},{"$f":"Sigma_hMax(AK618,X618,AF618)","v":460.75843081911722},{"$f":"Sigma_hMin(X618,Y618,AG618,AE618,AK618,AL618,AJ618,AI618,Z618,IF(L618=1,mu_redLead,mu_millScale))","v":-7.5254231207208537},468.28385393983808,-1.6332686755926459E-2,147.95294671764745,{"$f":"tau_n(N618,W618,U618,D618)","v":76.394372528232225},{"$f":"tau_hMax(X618,Z618,AH618,W618,U618)","v":71.974395413866119},{"$f":"tau_hMin(X618,Y618,AS618,AE618,Z618,AI618,IF(L618=1,mu_redLead,mu_millScale),W618,U618)","v":6.9346234109207705},65.039772002945355]
[607,"Livieri2001","R; S",2,1,10,30,null,7.5,10,60,1,null,160,0,836335,1,"SeriesB","Grade S355",607,0.75,0.5714285714285714,0.33333333333333331,160,0,{"$f":"IF(OR(X619>=1.6*D619*AD619,D619=1),calcLoadFraction(G619,F619,I619,J619,K619,D619,1),\"Condition for spring model not fulfilled\")","v":0.51826467248887154},{"$f":"IF(L619>2,L619,IF(L619=2,1,sigma_cl0(I619+J619)))","v":133.48852782757527},{"$f":"Sigma_cl(AA619,U619,V619,X619)","v":120.17689171346881},{"$f":"Sigma_cl(AA619,U619,V619,Y619)","v":133.48852782757527},{"$f":"sigma_Slip(AB619,W619,U619,IF(L619=1,mu_redLead,mu_millScale))","v":7.5509368181729677},{"$f":"sigma_Slip(AC619,W619,U619,IF(L619=1,mu_redLead,mu_millScale))","v":8.3873315843463221},{"$f":"Sigma_p(AB619,V619)","v":-26.468521708652069},{"$f":"Sigma_p(AC619,V619)","v":-29.400360970262923},{"$f":"beta_1(X619,AD619,Z619)","v":0.90893966419330963},{"$f":"beta_1(Y619,AE619,Z619)","v":0},{"$f":"k_tHole(W619,U619)","v":2.2962962962962963},{"$f":"K_t1Mu(Z619,AH619,D619,W619,U619,SIGN(X619),mu_millScale)","v":3.0451684532985581},{"$f":"K_t1Mu(Z619,AI619,D619,W619,U619,SIGN(Y619),mu_millScale)","v":1.7012516723275919},{"$f":"Sigma_hMax(AK619,X619,AF619)","v":460.75843081911722},{"$f":"Sigma_hMin(X619,Y619,AG619,AE619,AK619,AL619,AJ619,AI619,Z619,IF(L619=1,mu_redLead,mu_millScale))","v":-7.5254231207208537},468.28385393983808,-1.6332686755926459E-2,147.95294671764745,{"$f":"tau_n(N619,W619,U619,D619)","v":76.394372528232225},{"$f":"tau_hMax(X619,Z619,AH619,W619,U619)","v":71.974395413866119},{"$f":"tau_hMin(X619,Y619,AS619,AE619,Z619,AI619,IF(L619=1,mu_redLead,mu_millScale),W619,U619)","v":6.9346234109207705},65.039772002945355]
[608,"Silva2021","R; S",2,1,9.5,25,null,4,8,56,null,null,198,0.01,391735,0,"R2-01",null,608,0.42105263157894735,0.79166666666666663,0.38,200,2,{"$f":"IF(OR(X620>=1.6*D620*AD620,D620=1),calcLoadFraction(G620,F620,I620,J620,K620,D620,1),\"Condition for spring model not fulfilled\")","v":"Condition for spring model not fulfilled"},{"$f":"IF(L620>2,L620,IF(L620=2,1,sigma_cl0(I620+J620)))","v":97.488051910432219},{"$f":"Sigma_cl(AA620,U620,V620,X620)","v":86.13258442321343},{"$f":"Sigma_cl(AA620,U620,V620,Y620)","v":97.374497235560028},{"$f":"sigma_Slip(AB620,W620,U620,IF(L620=1,mu_redLead,mu_millScale))","v":64.991538428702285},{"$f":"sigma_Slip(AC620,W620,U620,IF(L620=1,mu_redLead,mu_millScale))","v":73.47414943414698},{"$f":"Sigma_p(AB620,V620)","v":-26.4801184525673},{"$f":"Sigma_p(AC620,V620)","v":-29.936269047581174},{"$f":"beta_1(X620,AD620,Z620)","v":{"$error":"#VALUE!"}},{"$f":"beta_1(Y620,AE620,Z620)","v":{"$error":"#VALUE!"}},{"$f":"k_tHole(W620,U620)","v":2.2383280000000001},{"$f":"K_t1Mu(Z620,AH620,D620,W620,U620,SIGN(X620),mu_millScale)","v":{"$error":"#VALUE!"}},{"$f":"K_t1Mu(Z620,AI620,D620,W620,U620,SIGN(Y620),mu_millScale)","v":{"$error":"#VALUE!"}},{"$f":"Sigma_hMax(AK620,X620,AF620)","v":{"$error":"#VALUE!"}},{"$f":"Sigma_hMin(X620,Y620,AG620,AE620,AK620,AL620,AJ620,AI620,Z620,IF(L620=1,mu_redLead,mu_millScale))","v":{"$error":"#VALUE!"}},{"$error":"#VALUE!"},{"$error":"#VALUE!"},{"$error":"#VALUE!"},{"$f":"tau_n(N620,W620,U620,D620)","v":43.297198391347123},{"$f":"tau_hMax(X620,Z620,AH620,W620,U620)","v":{"$error":"#VALUE!"}},{"$f":"tau_hMin(X620,Y620,AS620,AE620,Z620,AI620,IF(L620=1,mu_redLead,mu_millScale),W620,U620)","v":{"$error":"#VALUE!"}},{"$error":"#VALUE!"}]
[609,"Silva2021","R; S",2,1,9.5,25,null,4,8,56,null,null,379.9,0.01,77904,1,"R2-10",null,609,0.42105263157894735,0.79166666666666663,0.38,383.73737373737373,3.8373737373737375,{"$f":"IF(OR(X621>=1.6*D621*AD621,D621=1),calcLoadFraction(G621,F621,I621,J621,K621,D621,1),\"Condition for spring model not fulfilled\")","v":0.551947932093794},{"$f":"IF(L621>2,L621,IF(L621=2,1,sigma_cl0(I621+J621)))","v":97.488051910432219},{"$f":"Sigma_cl(AA621,U621,V621,X621)","v":75.700465554904866},{"$f":"Sigma_cl(AA621,U621,V621,Y621)","v":97.270176046876941},{"$f":"sigma_Slip(AB621,W621,U621,IF(L621=1,mu_redLead,mu_millScale))","v":57.119959294479301},{"$f":"sigma_Slip(AC621,W621,U621,IF(L621=1,mu_redLead,mu_millScale))","v":73.395433642804747},{"$f":"Sigma_p(AB621,V621)","v":-23.27292636383644},{"$f":"Sigma_p(AC621,V621)","v":-29.904197126693866},{"$f":"beta_1(X621,AD621,Z621)","v":0.73031569034979638},{"$f":"beta_1(Y621,AE621,Z621)","v":0},{"$f":"k_tHole(W621,U621)","v":2.2383280000000001},{"$f":"K_t1Mu(Z621,AH621,D621,W621,U621,SIGN(X621),mu_millScale)","v":2.730306568833063},{"$f":"K_t1Mu(Z621,AI621,D621,W621,U621,SIGN(Y621),mu_millScale)","v":1.6206077445261813},{"$f":"Sigma_hMax(AK621,X621,AF621)","v":1024.4477458580632},{"$f":"Sigma_hMin(X621,Y621,AG621,AE621,AK621,AL621,AJ621,AI621,Z621,IF(L621=1,mu_redLead,mu_millScale))","v":115.94559172992038},908.50215412814282,0.11317862936269724,291.16984598137185,{"$f":"tau_n(N621,W621,U621,D621)","v":83.073766004407929},{"$f":"tau_hMax(X621,Z621,AH621,W621,U621)","v":67.649944058551455},{"$f":"tau_hMin(X621,Y621,AS621,AE621,Z621,AI621,IF(L621=1,mu_redLead,mu_millScale),W621,U621)","v":20.731376248689159},46.918567809862296]
[610,"Silva2021","R; S",2,1,9.5,25,null,4,8,56,null,null,375.7,0.01,28764,1,"R2-02",null,610,0.42105263157894735,0.79166666666666663,0.38,379.49494949494948,3.7949494949494951,{"$f":"IF(OR(X622>=1.6*D622*AD622,D622=1),calcLoadFraction(G622,F622,I622,J622,K622,D622,1),\"Condition for spring model not fulfilled\")","v":0.551947932093794},{"$f":"IF(L622>2,L622,IF(L622=2,1,sigma_cl0(I622+J622)))","v":97.488051910432219},{"$f":"Sigma_cl(AA622,U622,V622,X622)","v":75.941339107664049},{"$f":"Sigma_cl(AA622,U622,V622,Y622)","v":97.272584782404536},{"$f":"sigma_Slip(AB622,W622,U622,IF(L622=1,mu_redLead,mu_millScale))","v":57.301710984219469},{"$f":"sigma_Slip(AC622,W622,U622,IF(L622=1,mu_redLead,mu_millScale))","v":73.397251159702151},{"$f":"Sigma_p(AB622,V622)","v":-23.346979177320055},{"$f":"Sigma_p(AC622,V622)","v":-29.904937654828704},{"$f":"beta_1(X622,AD622,Z622)","v":0.72643314428895178},{"$f":"beta_1(Y622,AE622,Z622)","v":0},{"$f":"k_tHole(W622,U622)","v":2.2383280000000001},{"$f":"K_t1Mu(Z622,AH622,D622,W622,U622,SIGN(X622),mu_millScale)","v":2.7260424585835037},{"$f":"K_t1Mu(Z622,AI622,D622,W622,U622,SIGN(Y622),mu_millScale)","v":1.6206077445261813},{"$f":"Sigma_hMax(AK622,X622,AF622)","v":1011.1723659639146},{"$f":"Sigma_hMin(X622,Y622,AG622,AE622,AK622,AL622,AJ622,AI622,Z622,IF(L622=1,mu_redLead,mu_millScale))","v":115.17062347503283},896.00174248888175,0.11389811208422886,287.18949520138761,{"$f":"tau_n(N622,W622,U622,D622)","v":82.155340583985421},{"$f":"tau_hMax(X622,Z622,AH622,W622,U622)","v":66.546368894050872},{"$f":"tau_hMin(X622,Y622,AS622,AE622,Z622,AI622,IF(L622=1,mu_redLead,mu_millScale),W622,U622)","v":20.53802166112834},46.008347232922532]
[611,"Silva2021","R; S",2,1,9.5,25,null,4,8,56,null,null,379.6,0.01,18631,1,"R2-03",null,611,0.42105263157894735,0.79166666666666663,0.38,383.43434343434348,3.8343434343434346,{"$f":"IF(OR(X623>=1.6*D623*AD623,D623=1),calcLoadFraction(G623,F623,I623,J623,K623,D623,1),\"Condition for spring model not fulfilled\")","v":0.551947932093794},{"$f":"IF(L623>2,L623,IF(L623=2,1,sigma_cl0(I623+J623)))","v":97.488051910432219},{"$f":"Sigma_cl(AA623,U623,V623,X623)","v":75.717670808673375},{"$f":"Sigma_cl(AA623,U623,V623,Y623)","v":97.270348099414633},{"$f":"sigma_Slip(AB623,W623,U623,IF(L623=1,mu_redLead,mu_millScale))","v":57.132941558032172},{"$f":"sigma_Slip(AC623,W623,U623,IF(L623=1,mu_redLead,mu_millScale))","v":73.395563465440276},{"$f":"Sigma_p(AB623,V623)","v":-23.278215850513838},{"$f":"Sigma_p(AC623,V623)","v":-29.904250021560642},{"$f":"beta_1(X623,AD623,Z623)","v":0.730041214857726},{"$f":"beta_1(Y623,AE623,Z623)","v":0},{"$f":"k_tHole(W623,U623)","v":2.2383280000000001},{"$f":"K_t1Mu(Z623,AH623,D623,W623,U623,SIGN(X623),mu_millScale)","v":2.730006610770507},{"$f":"K_t1Mu(Z623,AI623,D623,W623,U623,SIGN(Y623),mu_millScale)","v":1.6206077445261813},{"$f":"Sigma_hMax(AK623,X623,AF623)","v":1023.5000765216928},{"$f":"Sigma_hMin(X623,Y623,AG623,AE623,AK623,AL623,AJ623,AI623,Z623,IF(L623=1,mu_redLead,mu_millScale))","v":115.8907362768628},907.60934024483004,0.11322982668522207,290.88557401028993,{"$f":"tau_n(N623,W623,U623,D623)","v":83.008164188663486},{"$f":"tau_hMax(X623,Z623,AH623,W623,U623)","v":67.571117261087139},{"$f":"tau_hMin(X623,Y623,AS623,AE623,Z623,AI623,IF(L623=1,mu_redLead,mu_millScale),W623,U623)","v":20.717648685585548},46.853468575501594]
[612,"Silva2021","R; S",2,1,9.5,25,null,4,8,56,null,null,314.2,0.01,361858,1,"R2-04",null,612,0.42105263157894735,0.79166666666666663,0.38,317.37373737373736,3.1737373737373735,{"$f":"IF(OR(X624>=1.6*D624*AD624,D624=1),calcLoadFraction(G624,F624,I624,J624,K624,D624,1),\"Condition for spring model not fulfilled\")","v":0.551947932093794},{"$f":"IF(L624>2,L624,IF(L624=2,1,sigma_cl0(I624+J624)))","v":97.488051910432219},{"$f":"Sigma_cl(AA624,U624,V624,X624)","v":79.468416130209278},{"$f":"Sigma_cl(AA624,U624,V624,Y624)","v":97.307855552629988},{"$f":"sigma_Slip(AB624,W624,U624,IF(L624=1,mu_redLead,mu_millScale))","v":59.963075012557631},{"$f":"sigma_Slip(AC624,W624,U624,IF(L624=1,mu_redLead,mu_millScale))","v":73.423864799985537},{"$f":"Sigma_p(AB624,V624)","v":-24.431323946187277},{"$f":"Sigma_p(AC624,V624)","v":-29.915781102517375},{"$f":"beta_1(X624,AD624,Z624)","v":0.65769377310918675},{"$f":"beta_1(Y624,AE624,Z624)","v":0},{"$f":"k_tHole(W624,U624)","v":2.2383280000000001},{"$f":"K_t1Mu(Z624,AH624,D624,W624,U624,SIGN(X624),mu_millScale)","v":2.6434852762408712},{"$f":"K_t1Mu(Z624,AI624,D624,W624,U624,SIGN(Y624),mu_millScale)","v":1.6206077445261813},{"$f":"Sigma_hMax(AK624,X624,AF624)","v":814.54147786682449},{"$f":"Sigma_hMin(X624,Y624,AG624,AE624,AK624,AL624,AJ624,AI624,Z624,IF(L624=1,mu_redLead,mu_millScale))","v":101.7625315930333},712.77894627379123,0.12493228934091337,228.78329095984003,{"$f":"tau_n(N624,W624,U624,D624)","v":68.706968356370027},{"$f":"tau_hMax(X624,Z624,AH624,W624,U624)","v":50.386875413863613},{"$f":"tau_hMin(X624,Y624,AS624,AE624,Z624,AI624,IF(L624=1,mu_redLead,mu_millScale),W624,U624)","v":17.379350780675185},33.007524633188424]
[613,"Silva2021","R; S",2,1,9.5,25,null,4,8,56,null,null,258.89999999999998,0.01,807561,1,"R2-05",null,613,0.42105263157894735,0.79166666666666663,0.38,261.5151515151515,2.6151515151515152,{"$f":"IF(OR(X625>=1.6*D625*AD625,D625=1),calcLoadFraction(G625,F625,I625,J625,K625,D625,1),\"Condition for spring model not fulfilled\")","v":0.551947932093794},{"$f":"IF(L625>2,L625,IF(L625=2,1,sigma_cl0(I625+J625)))","v":97.488051910432219},{"$f":"Sigma_cl(AA625,U625,V625,X625)","v":82.639917908205234},{"$f":"Sigma_cl(AA625,U625,V625,Y625)","v":97.339570570409947},{"$f":"sigma_Slip(AB625,W625,U625,IF(L625=1,mu_redLead,mu_millScale))","v":62.35613892746985},{"$f":"sigma_Slip(AC625,W625,U625,IF(L625=1,mu_redLead,mu_millScale))","v":73.447795439134651},{"$f":"Sigma_p(AB625,V625)","v":-25.406352657054878},{"$f":"Sigma_p(AC625,V625)","v":-29.925531389626052},{"$f":"beta_1(X625,AD625,Z625)","v":0.56799949990838738},{"$f":"beta_1(Y625,AE625,Z625)","v":0},{"$f":"k_tHole(W625,U625)","v":2.2383280000000001},{"$f":"K_t1Mu(Z625,AH625,D625,W625,U625,SIGN(X625),mu_millScale)","v":2.5185848322777304},{"$f":"K_t1Mu(Z625,AI625,D625,W625,U625,SIGN(Y625),mu_millScale)","v":1.6206077445261813},{"$f":"Sigma_hMax(AK625,X625,AF625)","v":633.24174135981821},{"$f":"Sigma_hMin(X625,Y625,AG625,AE625,AK625,AL625,AJ625,AI625,Z625,IF(L625=1,mu_redLead,mu_millScale))","v":85.052927472765717},548.18881388705245,0.13431352028393415,176.16902108681299,{"$f":"tau_n(N625,W625,U625,D625)","v":56.614366987473581},{"$f":"tau_hMax(X625,Z625,AH625,W625,U625)","v":35.856469081272472},{"$f":"tau_hMin(X625,Y625,AS625,AE625,Z625,AI625,IF(L625=1,mu_redLead,mu_millScale),W625,U625)","v":13.866163496889461},21.990305584383009]
[614,"Silva2021","R; S",2,1,9.5,25,null,4,8,56,null,null,320.2,0.01,47843,1,"R2-06",null,614,0.42105263157894735,0.79166666666666663,0.38,323.43434343434342,3.2343434343434341,{"$f":"IF(OR(X626>=1.6*D626*AD626,D626=1),calcLoadFraction(G626,F626,I626,J626,K626,D626,1),\"Condition for spring model not fulfilled\")","v":0.551947932093794},{"$f":"IF(L626>2,L626,IF(L626=2,1,sigma_cl0(I626+J626)))","v":97.488051910432219},{"$f":"Sigma_cl(AA626,U626,V626,X626)","v":79.124311054839012},{"$f":"Sigma_cl(AA626,U626,V626,Y626)","v":97.30441450187628},{"$f":"sigma_Slip(AB626,W626,U626,IF(L626=1,mu_redLead,mu_millScale))","v":59.703429741500258},{"$f":"sigma_Slip(AC626,W626,U626,IF(L626=1,mu_redLead,mu_millScale))","v":73.421268347274946},{"$f":"Sigma_p(AB626,V626)","v":-24.325534212639255},{"$f":"Sigma_p(AC626,V626)","v":-29.914723205181893},{"$f":"beta_1(X626,AD626,Z626)","v":0.66556244718552249},{"$f":"beta_1(Y626,AE626,Z626)","v":0},{"$f":"k_tHole(W626,U626)","v":2.2383280000000001},{"$f":"K_t1Mu(Z626,AH626,D626,W626,U626,SIGN(X626),mu_millScale)","v":2.6535739358842898},{"$f":"K_t1Mu(Z626,AI626,D626,W626,U626,SIGN(Y626),mu_millScale)","v":1.6206077445261813},{"$f":"Sigma_hMax(AK626,X626,AF626)","v":833.93140949458257},{"$f":"Sigma_hMin(X626,Y626,AG626,AE626,AK626,AL626,AJ626,AI626,Z626,IF(L626=1,mu_redLead,mu_millScale))","v":103.26965693188379},730.66175256269878,0.12383471321037304,234.49010071388832,{"$f":"tau_n(N626,W626,U626,D626)","v":70.019004671259339},{"$f":"tau_hMax(X626,Z626,AH626,W626,U626)","v":51.963411363150179},{"$f":"tau_hMin(X626,Y626,AS626,AE626,Z626,AI626,IF(L626=1,mu_redLead,mu_millScale),W626,U626)","v":17.717808225522319},34.24560313762786]
[615,"Silva2021","R; S",2,1,9.5,25,null,4,8,56,null,null,238.3,0.01,1130000,1,"R2-07",null,615,0.42105263157894735,0.79166666666666663,0.38,240.70707070707073,2.4070707070707074,{"$f":"IF(OR(X627>=1.6*D627*AD627,D627=1),calcLoadFraction(G627,F627,I627,J627,K627,D627,1),\"Condition for spring model not fulfilled\")","v":0.551947932093794},{"$f":"IF(L627>2,L627,IF(L627=2,1,sigma_cl0(I627+J627)))","v":97.488051910432219},{"$f":"Sigma_cl(AA627,U627,V627,X627)","v":83.821345333643151},{"$f":"Sigma_cl(AA627,U627,V627,Y627)","v":97.351384844664324},{"$f":"sigma_Slip(AB627,W627,U627,IF(L627=1,mu_redLead,mu_millScale))","v":63.24758769143353},{"$f":"sigma_Slip(AC627,W627,U627,IF(L627=1,mu_redLead,mu_millScale))","v":73.45670992677428},{"$f":"Sigma_p(AB627,V627)","v":-25.769564075569754},{"$f":"Sigma_p(AC627,V627)","v":-29.9291635038112},{"$f":"beta_1(X627,AD627,Z627)","v":0.52394513523079722},{"$f":"beta_1(Y627,AE627,Z627)","v":0},{"$f":"k_tHole(W627,U627)","v":2.2383280000000001},{"$f":"K_t1Mu(Z627,AH627,D627,W627,U627,SIGN(X627),mu_millScale)","v":2.4516313441695616},{"$f":"K_t1Mu(Z627,AI627,D627,W627,U627,SIGN(Y627),mu_millScale)","v":1.6206077445261813},{"$f":"Sigma_hMax(AK627,X627,AF627)","v":564.35543523312379},{"$f":"Sigma_hMin(X627,Y627,AG627,AE627,AK627,AL627,AJ627,AI627,Z627,IF(L627=1,mu_redLead,mu_millScale))","v":77.168554905970069},487.18688032715374,0.13673750634490356,156.61510627144011,{"$f":"tau_n(N627,W627,U627,D627)","v":52.109708973020304},{"$f":"tau_hMax(X627,Z627,AH627,W627,U627)","v":30.443695655388623},{"$f":"tau_hMin(X627,Y627,AS627,AE627,Z627,AI627,IF(L627=1,mu_redLead,mu_millScale),W627,U627)","v":12.338498714678645},18.10519694070998]
[616,"Silva2021","R; S",2,1,9.5,25,null,4,8,56,null,null,317.7,0.01,127102,1,"R2-08",null,616,0.42105263157894735,0.79166666666666663,0.38,320.90909090909088,3.209090909090909,{"$f":"IF(OR(X628>=1.6*D628*AD628,D628=1),calcLoadFraction(G628,F628,I628,J628,K628,D628,1),\"Condition for spring model not fulfilled\")","v":0.551947932093794},{"$f":"IF(L628>2,L628,IF(L628=2,1,sigma_cl0(I628+J628)))","v":97.488051910432219},{"$f":"Sigma_cl(AA628,U628,V628,X628)","v":79.26768816957663},{"$f":"Sigma_cl(AA628,U628,V628,Y628)","v":97.305848273023656},{"$f":"sigma_Slip(AB628,W628,U628,IF(L628=1,mu_redLead,mu_millScale))","v":59.811615271107499},{"$f":"sigma_Slip(AC628,W628,U628,IF(L628=1,mu_redLead,mu_millScale))","v":73.422350202571025},{"$f":"Sigma_p(AB628,V628)","v":-24.369613268284265},{"$f":"Sigma_p(AC628,V628)","v":-29.915163995738343},{"$f":"beta_1(X628,AD628,Z628)","v":0.66231995243840158},{"$f":"beta_1(Y628,AE628,Z628)","v":0},{"$f":"k_tHole(W628,U628)","v":2.2383280000000001},{"$f":"K_t1Mu(Z628,AH628,D628,W628,U628,SIGN(X628),mu_millScale)","v":2.6494354051153515},{"$f":"K_t1Mu(Z628,AI628,D628,W628,U628,SIGN(Y628),mu_millScale)","v":1.6206077445261813},{"$f":"Sigma_hMax(AK628,X628,AF628)","v":825.85829400964212},{"$f":"Sigma_hMin(X628,Y628,AG628,AE628,AK628,AL628,AJ628,AI628,Z628,IF(L628=1,mu_redLead,mu_millScale))","v":102.64778476100828},723.2105092486338,0.12429224905236569,232.1124328242831,{"$f":"tau_n(N628,W628,U628,D628)","v":69.472322873388791},{"$f":"tau_hMax(X628,Z628,AH628,W628,U628)","v":51.306521384280771},{"$f":"tau_hMin(X628,Y628,AS628,AE628,Z628,AI628,IF(L628=1,mu_redLead,mu_millScale),W628,U628)","v":17.577676008376191},33.728845375904584]
[617,"Silva2021","R; S",2,1,9.5,25,null,4,8,56,null,null,277.8,0.01,868598,1,"R2-09",null,{"$f":"A629","v":617},0.42105263157894735,0.79166666666666663,0.38,280.60606060606062,2.8060606060606061,{"$f":"IF(OR(X629>=1.6*D629*AD629,D629=1),calcLoadFraction(G629,F629,I629,J629,K629,D629,1),\"Condition for spring model not fulfilled\")","v":0.551947932093794},{"$f":"IF(L629>2,L629,IF(L629=2,1,sigma_cl0(I629+J629)))","v":97.488051910432219},{"$f":"Sigma_cl(AA629,U629,V629,X629)","v":81.555986920788897},{"$f":"Sigma_cl(AA629,U629,V629,Y629)","v":97.32873126053579},{"$f":"sigma_Slip(AB629,W629,U629,IF(L629=1,mu_redLead,mu_millScale))","v":61.538256323639096},{"$f":"sigma_Slip(AC629,W629,U629,IF(L629=1,mu_redLead,mu_millScale))","v":73.439616613096348},{"$f":"Sigma_p(AB629,V629)","v":-25.07311499637861},{"$f":"Sigma_p(AC629,V629)","v":-29.922199013019288},{"$f":"beta_1(X629,AD629,Z629)","v":0.60267121516076194},{"$f":"beta_1(Y629,AE629,Z629)","v":0},{"$f":"k_tHole(W629,U629)","v":2.2383280000000001},{"$f":"K_t1Mu(Z629,AH629,D629,W629,U629,SIGN(X629),mu_millScale)","v":2.5688717557119918},{"$f":"K_t1Mu(Z629,AI629,D629,W629,U629,SIGN(Y629),mu_millScale)","v":1.6206077445261813},{"$f":"Sigma_hMax(AK629,X629,AF629)","v":695.76786857613797},{"$f":"Sigma_hMin(X629,Y629,AG629,AE629,AK629,AL629,AJ629,AI629,Z629,IF(L629=1,mu_redLead,mu_millScale))","v":91.409811519235717},604.35805705690223,0.13137975415033518,194.14526525595753,{"$f":"tau_n(N629,W629,U629,D629)","v":60.747281379374904},{"$f":"tau_hMax(X629,Z629,AH629,W629,U629)","v":40.822557321525153},{"$f":"tau_hMin(X629,Y629,AS629,AE629,Z629,AI629,IF(L629=1,mu_redLead,mu_millScale),W629,U629)","v":15.154501887936316},25.668055433588837]
[618,"Parola1965","R; L",2,2,11.9,73,null,4.75,6.4,146,2,459,165.474175,-1,138400,0,"1Fr 12","Reduced clamping",618,0.39915966386554619,1.0672645739910314,0.16301369863013698,82.737087500000001,-82.737087500000001,{"$f":"IF(OR(X630>=1.6*D630*AD630,D630=1),calcLoadFraction(G630,F630,I630,J630,K630,D630,1),\"Condition for spring model not fulfilled\")","v":0.52013911268269919},{"$f":"IF(L630>2,L630,IF(L630=2,1,sigma_cl0(I630+J630)))","v":1},{"$f":"Sigma_cl(AA630,U630,V630,X630)","v":0},{"$f":"Sigma_cl(AA630,U630,V630,Y630)","v":6.2728616242100887},{"$f":"sigma_Slip(AB630,W630,U630,IF(L630=1,mu_redLead,mu_millScale))","v":0},{"$f":"sigma_Slip(AC630,W630,U630,IF(L630=1,mu_redLead,mu_millScale))","v":1.5865677714918411},{"$f":"Sigma_p(AB630,V630)","v":0},{"$f":"Sigma_p(AC630,V630)","v":-2.5468669605242731},{"$f":"beta_1(X630,AD630,Z630)","v":1},{"$f":"beta_1(Y630,AE630,Z630)","v":0.96313290765680692},{"$f":"k_tHole(W630,U630)","v":2.5863474629643437},{"$f":"K_t1Mu(Z630,AH630,D630,W630,U630,SIGN(X630),mu_millScale)","v":4.7331252227178968},{"$f":"K_t1Mu(Z630,AI630,D630,W630,U630,SIGN(Y630),mu_millScale)","v":0},{"$f":"Sigma_hMax(AK630,X630,AF630)","v":391.60499570046761},{"$f":"Sigma_hMin(X630,Y630,AG630,AE630,AK630,AL630,AJ630,AI630,Z630,IF(L630=1,mu_redLead,mu_millScale))","v":-8.9237951351834788},400.52879083565108,-2.2787745899976074E-2,126.4672187728268,{"$f":"tau_n(N630,W630,U630,D630)","v":107.94965234582119},{"$f":"tau_hMax(X630,Z630,AH630,W630,U630)","v":56.148836385561296},{"$f":"tau_hMin(X630,Y630,AS630,AE630,Z630,AI630,IF(L630=1,mu_redLead,mu_millScale),W630,U630)","v":-54.078792049571966},110.22762843513325]
[619,"Parola1965","R; L",2,2,11.9,73,null,4.75,6.4,146,2,459,96.526602100000005,0,542800,1,"1Fr 13","Reduced clamping",619,0.39915966386554619,1.0672645739910314,0.16301369863013698,96.526602100000005,0,{"$f":"IF(OR(X631>=1.6*D631*AD631,D631=1),calcLoadFraction(G631,F631,I631,J631,K631,D631,1),\"Condition for spring model not fulfilled\")","v":0.52013911268269919},{"$f":"IF(L631>2,L631,IF(L631=2,1,sigma_cl0(I631+J631)))","v":1},{"$f":"Sigma_cl(AA631,U631,V631,X631)","v":0},{"$f":"Sigma_cl(AA631,U631,V631,Y631)","v":1},{"$f":"sigma_Slip(AB631,W631,U631,IF(L631=1,mu_redLead,mu_millScale))","v":0},{"$f":"sigma_Slip(AC631,W631,U631,IF(L631=1,mu_redLead,mu_millScale))","v":0.25292567675468691},{"$f":"Sigma_p(AB631,V631)","v":0},{"$f":"Sigma_p(AC631,V631)","v":-0.40601357292733004},{"$f":"beta_1(X631,AD631,Z631)","v":1},{"$f":"beta_1(Y631,AE631,Z631)","v":0.51373455564573289},{"$f":"k_tHole(W631,U631)","v":2.5863474629643437},{"$f":"K_t1Mu(Z631,AH631,D631,W631,U631,SIGN(X631),mu_millScale)","v":4.7331252227178968},{"$f":"K_t1Mu(Z631,AI631,D631,W631,U631,SIGN(Y631),mu_millScale)","v":0.37896674670601233},{"$f":"Sigma_hMax(AK631,X631,AF631)","v":456.87249506276436},{"$f":"Sigma_hMin(X631,Y631,AG631,AE631,AK631,AL631,AJ631,AI631,Z631,IF(L631=1,mu_redLead,mu_millScale))","v":0.86273595046998219},456.00975911229438,1.8883516950423138E-3,144.33418756561434,{"$f":"tau_n(N631,W631,U631,D631)","v":62.970630545935123},{"$f":"tau_hMax(X631,Z631,AH631,W631,U631)","v":65.506975794465546},{"$f":"tau_hMin(X631,Y631,AS631,AE631,Z631,AI631,IF(L631=1,mu_redLead,mu_millScale),W631,U631)","v":0.58793155416065301},64.919044240304899]
[620,"Parola1965","R; L",2,2,11.9,73,null,4.75,6.4,146,2,459,96.526602100000005,0,1358700,2,"1Fr 14","Reduced clamping",620,0.39915966386554619,1.0672645739910314,0.16301369863013698,96.526602100000005,0,{"$f":"IF(OR(X632>=1.6*D632*AD632,D632=1),calcLoadFraction(G632,F632,I632,J632,K632,D632,1),\"Condition for spring model not fulfilled\")","v":0.52013911268269919},{"$f":"IF(L632>2,L632,IF(L632=2,1,sigma_cl0(I632+J632)))","v":1},{"$f":"Sigma_cl(AA632,U632,V632,X632)","v":0},{"$f":"Sigma_cl(AA632,U632,V632,Y632)","v":1},{"$f":"sigma_Slip(AB632,W632,U632,IF(L632=1,mu_redLead,mu_millScale))","v":0},{"$f":"sigma_Slip(AC632,W632,U632,IF(L632=1,mu_redLead,mu_millScale))","v":0.25292567675468691},{"$f":"Sigma_p(AB632,V632)","v":0},{"$f":"Sigma_p(AC632,V632)","v":-0.40601357292733004},{"$f":"beta_1(X632,AD632,Z632)","v":1},{"$f":"beta_1(Y632,AE632,Z632)","v":0.51373455564573289},{"$f":"k_tHole(W632,U632)","v":2.5863474629643437},{"$f":"K_t1Mu(Z632,AH632,D632,W632,U632,SIGN(X632),mu_millScale)","v":4.7331252227178968},{"$f":"K_t1Mu(Z632,AI632,D632,W632,U632,SIGN(Y632),mu_millScale)","v":0.37896674670601233},{"$f":"Sigma_hMax(AK632,X632,AF632)","v":456.87249506276436},{"$f":"Sigma_hMin(X632,Y632,AG632,AE632,AK632,AL632,AJ632,AI632,Z632,IF(L632=1,mu_redLead,mu_millScale))","v":0.86273595046998219},456.00975911229438,1.8883516950423138E-3,144.33418756561434,{"$f":"tau_n(N632,W632,U632,D632)","v":62.970630545935123},{"$f":"tau_hMax(X632,Z632,AH632,W632,U632)","v":65.506975794465546},{"$f":"tau_hMin(X632,Y632,AS632,AE632,Z632,AI632,IF(L632=1,mu_redLead,mu_millScale),W632,U632)","v":0.58793155416065301},64.919044240304899]
[621,"Parola1965","R; L",2,2,11.9,73,null,4.75,6.4,146,2,459,206.8427188,0,35300,1,"1Fr 19","Reduced clamping",621,0.39915966386554619,1.0672645739910314,0.16301369863013698,206.8427188,0,{"$f":"IF(OR(X633>=1.6*D633*AD633,D633=1),calcLoadFraction(G633,F633,I633,J633,K633,D633,1),\"Condition for spring model not fulfilled\")","v":0.52013911268269919},{"$f":"IF(L633>2,L633,IF(L633=2,1,sigma_cl0(I633+J633)))","v":1},{"$f":"Sigma_cl(AA633,U633,V633,X633)","v":0},{"$f":"Sigma_cl(AA633,U633,V633,Y633)","v":1},{"$f":"sigma_Slip(AB633,W633,U633,IF(L633=1,mu_redLead,mu_millScale))","v":0},{"$f":"sigma_Slip(AC633,W633,U633,IF(L633=1,mu_redLead,mu_millScale))","v":0.25292567675468691},{"$f":"Sigma_p(AB633,V633)","v":0},{"$f":"Sigma_p(AC633,V633)","v":-0.40601357292733004},{"$f":"beta_1(X633,AD633,Z633)","v":1},{"$f":"beta_1(Y633,AE633,Z633)","v":0.51373455564573289},{"$f":"k_tHole(W633,U633)","v":2.5863474629643437},{"$f":"K_t1Mu(Z633,AH633,D633,W633,U633,SIGN(X633),mu_millScale)","v":4.7331252227178968},{"$f":"K_t1Mu(Z633,AI633,D633,W633,U633,SIGN(Y633),mu_millScale)","v":0.37896674670601233},{"$f":"Sigma_hMax(AK633,X633,AF633)","v":979.01248948782529},{"$f":"Sigma_hMin(X633,Y633,AG633,AE633,AK633,AL633,AJ633,AI633,Z633,IF(L633=1,mu_redLead,mu_millScale))","v":0.86528804767556655},978.14720144014973,8.8383759856653699E-4,309.56763615345477,{"$f":"tau_n(N633,W633,U633,D633)","v":134.93706546489477},{"$f":"tau_hMax(X633,Z633,AH633,W633,U633)","v":140.37209099783533},{"$f":"tau_hMin(X633,Y633,AS633,AE633,Z633,AI633,IF(L633=1,mu_redLead,mu_millScale),W633,U633)","v":0.64087109593706004},139.73121990189827]
[622,"Parola1965","R; L",2,2,11.9,73,null,4.75,6.4,146,2,459,206.8427188,0,48800,1,"1Fr 23","Reduced clamping",622,0.39915966386554619,1.0672645739910314,0.16301369863013698,206.8427188,0,{"$f":"IF(OR(X634>=1.6*D634*AD634,D634=1),calcLoadFraction(G634,F634,I634,J634,K634,D634,1),\"Condition for spring model not fulfilled\")","v":0.52013911268269919},{"$f":"IF(L634>2,L634,IF(L634=2,1,sigma_cl0(I634+J634)))","v":1},{"$f":"Sigma_cl(AA634,U634,V634,X634)","v":0},{"$f":"Sigma_cl(AA634,U634,V634,Y634)","v":1},{"$f":"sigma_Slip(AB634,W634,U634,IF(L634=1,mu_redLead,mu_millScale))","v":0},{"$f":"sigma_Slip(AC634,W634,U634,IF(L634=1,mu_redLead,mu_millScale))","v":0.25292567675468691},{"$f":"Sigma_p(AB634,V634)","v":0},{"$f":"Sigma_p(AC634,V634)","v":-0.40601357292733004},{"$f":"beta_1(X634,AD634,Z634)","v":1},{"$f":"beta_1(Y634,AE634,Z634)","v":0.51373455564573289},{"$f":"k_tHole(W634,U634)","v":2.5863474629643437},{"$f":"K_t1Mu(Z634,AH634,D634,W634,U634,SIGN(X634),mu_millScale)","v":4.7331252227178968},{"$f":"K_t1Mu(Z634,AI634,D634,W634,U634,SIGN(Y634),mu_millScale)","v":0.37896674670601233},{"$f":"Sigma_hMax(AK634,X634,AF634)","v":979.01248948782529},{"$f":"Sigma_hMin(X634,Y634,AG634,AE634,AK634,AL634,AJ634,AI634,Z634,IF(L634=1,mu_redLead,mu_millScale))","v":0.86528804767556655},978.14720144014973,8.8383759856653699E-4,309.56763615345477,{"$f":"tau_n(N634,W634,U634,D634)","v":134.93706546489477},{"$f":"tau_hMax(X634,Z634,AH634,W634,U634)","v":140.37209099783533},{"$f":"tau_hMin(X634,Y634,AS634,AE634,Z634,AI634,IF(L634=1,mu_redLead,mu_millScale),W634,U634)","v":0.64087109593706004},139.73121990189827]
[623,"Parola1965","R; L",2,2,11.9,73,null,4.75,6.4,146,2,459,131.00038860000001,0.5,84100,1,"1Fr 24","Reduced clamping",623,0.39915966386554619,1.0672645739910314,0.16301369863013698,262.00077720000002,131.00038860000001,{"$f":"IF(OR(X635>=1.6*D635*AD635,D635=1),calcLoadFraction(G635,F635,I635,J635,K635,D635,1),\"Condition for spring model not fulfilled\")","v":0.52013911268269919},{"$f":"IF(L635>2,L635,IF(L635=2,1,sigma_cl0(I635+J635)))","v":1},{"$f":"Sigma_cl(AA635,U635,V635,X635)","v":0},{"$f":"Sigma_cl(AA635,U635,V635,Y635)","v":0},{"$f":"sigma_Slip(AB635,W635,U635,IF(L635=1,mu_redLead,mu_millScale))","v":0},{"$f":"sigma_Slip(AC635,W635,U635,IF(L635=1,mu_redLead,mu_millScale))","v":0},{"$f":"Sigma_p(AB635,V635)","v":0},{"$f":"Sigma_p(AC635,V635)","v":0},{"$f":"beta_1(X635,AD635,Z635)","v":1},{"$f":"beta_1(Y635,AE635,Z635)","v":1},{"$f":"k_tHole(W635,U635)","v":2.5863474629643437},{"$f":"K_t1Mu(Z635,AH635,D635,W635,U635,SIGN(X635),mu_millScale)","v":4.7331252227178968},{"$f":"K_t1Mu(Z635,AI635,D635,W635,U635,SIGN(Y635),mu_millScale)","v":4.7331252227178968},{"$f":"Sigma_hMax(AK635,X635,AF635)","v":1240.0824869370122},{"$f":"Sigma_hMin(X635,Y635,AG635,AE635,AK635,AL635,AJ635,AI635,Z635,IF(L635=1,mu_redLead,mu_millScale))","v":517.7344382962026},722.34804864080957,0.41750000000000004,244.97515584507269,{"$f":"tau_n(N635,W635,U635,D635)","v":85.460141478496439},{"$f":"tau_hMax(X635,Z635,AH635,W635,U635)","v":177.8046486334523},{"$f":"tau_hMin(X635,Y635,AS635,AE635,Z635,AI635,IF(L635=1,mu_redLead,mu_millScale),W635,U635)","v":95.94589869348502},81.858749939967282]
[624,"Parola1965","R; L",2,2,11.9,73,null,4.75,6.4,146,2,459,131.00038860000001,0.5,83100,1,"1Fr 25","Reduced clamping",624,0.39915966386554619,1.0672645739910314,0.16301369863013698,262.00077720000002,131.00038860000001,{"$f":"IF(OR(X636>=1.6*D636*AD636,D636=1),calcLoadFraction(G636,F636,I636,J636,K636,D636,1),\"Condition for spring model not fulfilled\")","v":0.52013911268269919},{"$f":"IF(L636>2,L636,IF(L636=2,1,sigma_cl0(I636+J636)))","v":1},{"$f":"Sigma_cl(AA636,U636,V636,X636)","v":0},{"$f":"Sigma_cl(AA636,U636,V636,Y636)","v":0},{"$f":"sigma_Slip(AB636,W636,U636,IF(L636=1,mu_redLead,mu_millScale))","v":0},{"$f":"sigma_Slip(AC636,W636,U636,IF(L636=1,mu_redLead,mu_millScale))","v":0},{"$f":"Sigma_p(AB636,V636)","v":0},{"$f":"Sigma_p(AC636,V636)","v":0},{"$f":"beta_1(X636,AD636,Z636)","v":1},{"$f":"beta_1(Y636,AE636,Z636)","v":1},{"$f":"k_tHole(W636,U636)","v":2.5863474629643437},{"$f":"K_t1Mu(Z636,AH636,D636,W636,U636,SIGN(X636),mu_millScale)","v":4.7331252227178968},{"$f":"K_t1Mu(Z636,AI636,D636,W636,U636,SIGN(Y636),mu_millScale)","v":4.7331252227178968},{"$f":"Sigma_hMax(AK636,X636,AF636)","v":1240.0824869370122},{"$f":"Sigma_hMin(X636,Y636,AG636,AE636,AK636,AL636,AJ636,AI636,Z636,IF(L636=1,mu_redLead,mu_millScale))","v":517.7344382962026},722.34804864080957,0.41750000000000004,244.97515584507269,{"$f":"tau_n(N636,W636,U636,D636)","v":85.460141478496439},{"$f":"tau_hMax(X636,Z636,AH636,W636,U636)","v":177.8046486334523},{"$f":"tau_hMin(X636,Y636,AS636,AE636,Z636,AI636,IF(L636=1,mu_redLead,mu_millScale),W636,U636)","v":95.94589869348502},81.858749939967282]
[625,"Parola1965","R; L",2,2,11.9,73,null,4.75,6.4,146,2,459,103.4213594,0.5,180100,1,"1Fr 26","Reduced clamping",625,0.39915966386554619,1.0672645739910314,0.16301369863013698,206.8427188,103.4213594,{"$f":"IF(OR(X637>=1.6*D637*AD637,D637=1),calcLoadFraction(G637,F637,I637,J637,K637,D637,1),\"Condition for spring model not fulfilled\")","v":0.52013911268269919},{"$f":"IF(L637>2,L637,IF(L637=2,1,sigma_cl0(I637+J637)))","v":1},{"$f":"Sigma_cl(AA637,U637,V637,X637)","v":0},{"$f":"Sigma_cl(AA637,U637,V637,Y637)","v":0},{"$f":"sigma_Slip(AB637,W637,U637,IF(L637=1,mu_redLead,mu_millScale))","v":0},{"$f":"sigma_Slip(AC637,W637,U637,IF(L637=1,mu_redLead,mu_millScale))","v":0},{"$f":"Sigma_p(AB637,V637)","v":0},{"$f":"Sigma_p(AC637,V637)","v":0},{"$f":"beta_1(X637,AD637,Z637)","v":1},{"$f":"beta_1(Y637,AE637,Z637)","v":1},{"$f":"k_tHole(W637,U637)","v":2.5863474629643437},{"$f":"K_t1Mu(Z637,AH637,D637,W637,U637,SIGN(X637),mu_millScale)","v":4.7331252227178968},{"$f":"K_t1Mu(Z637,AI637,D637,W637,U637,SIGN(Y637),mu_millScale)","v":4.7331252227178968},{"$f":"Sigma_hMax(AK637,X637,AF637)","v":979.01248948782529},{"$f":"Sigma_hMin(X637,Y637,AG637,AE637,AK637,AL637,AJ637,AI637,Z637,IF(L637=1,mu_redLead,mu_millScale))","v":408.73771436116704},570.27477512665826,0.41749999999999998,193.40143878568827,{"$f":"tau_n(N637,W637,U637,D637)","v":67.468532732447386},{"$f":"tau_hMax(X637,Z637,AH637,W637,U637)","v":140.37209099783533},{"$f":"tau_hMin(X637,Y637,AS637,AE637,Z637,AI637,IF(L637=1,mu_redLead,mu_millScale),W637,U637)","v":75.746762111016409},64.62532888681892]
[626,"Parola1965","R; L",2,2,11.9,73,null,4.75,6.4,146,2,459,137.89514589999999,0,305700,1,"1Fr 27","Reduced clamping",626,0.39915966386554619,1.0672645739910314,0.16301369863013698,137.89514589999999,0,{"$f":"IF(OR(X638>=1.6*D638*AD638,D638=1),calcLoadFraction(G638,F638,I638,J638,K638,D638,1),\"Condition for spring model not fulfilled\")","v":0.52013911268269919},{"$f":"IF(L638>2,L638,IF(L638=2,1,sigma_cl0(I638+J638)))","v":1},{"$f":"Sigma_cl(AA638,U638,V638,X638)","v":0},{"$f":"Sigma_cl(AA638,U638,V638,Y638)","v":1},{"$f":"sigma_Slip(AB638,W638,U638,IF(L638=1,mu_redLead,mu_millScale))","v":0},{"$f":"sigma_Slip(AC638,W638,U638,IF(L638=1,mu_redLead,mu_millScale))","v":0.25292567675468691},{"$f":"Sigma_p(AB638,V638)","v":0},{"$f":"Sigma_p(AC638,V638)","v":-0.40601357292733004},{"$f":"beta_1(X638,AD638,Z638)","v":1},{"$f":"beta_1(Y638,AE638,Z638)","v":0.51373455564573289},{"$f":"k_tHole(W638,U638)","v":2.5863474629643437},{"$f":"K_t1Mu(Z638,AH638,D638,W638,U638,SIGN(X638),mu_millScale)","v":4.7331252227178968},{"$f":"K_t1Mu(Z638,AI638,D638,W638,U638,SIGN(Y638),mu_millScale)","v":0.37896674670601233},{"$f":"Sigma_hMax(AK638,X638,AF638)","v":652.67499314965437},{"$f":"Sigma_hMin(X638,Y638,AG638,AE638,AK638,AL638,AJ638,AI638,Z638,IF(L638=1,mu_redLead,mu_millScale))","v":0.86417024292316946},651.81082290673123,1.3240437461115053E-3,206.29659491488084,{"$f":"tau_n(N638,W638,U638,D638)","v":89.958043665008688},{"$f":"tau_hMax(X638,Z638,AH638,W638,U638)","v":93.581394021178269},{"$f":"tau_hMin(X638,Y638,AS638,AE638,Z638,AI638,IF(L638=1,mu_redLead,mu_millScale),W638,U638)","v":0.61227657075436226},92.969117450423909]
[627,"Parola1965","R; L",2,2,11.9,73,null,4.75,6.4,146,2,459,165.474175,-1,615500,0,"1Fr 28","Reduced clamping",627,0.39915966386554619,1.0672645739910314,0.16301369863013698,82.737087500000001,-82.737087500000001,{"$f":"IF(OR(X639>=1.6*D639*AD639,D639=1),calcLoadFraction(G639,F639,I639,J639,K639,D639,1),\"Condition for spring model not fulfilled\")","v":0.52013911268269919},{"$f":"IF(L639>2,L639,IF(L639=2,1,sigma_cl0(I639+J639)))","v":1},{"$f":"Sigma_cl(AA639,U639,V639,X639)","v":0},{"$f":"Sigma_cl(AA639,U639,V639,Y639)","v":6.2728616242100887},{"$f":"sigma_Slip(AB639,W639,U639,IF(L639=1,mu_redLead,mu_millScale))","v":0},{"$f":"sigma_Slip(AC639,W639,U639,IF(L639=1,mu_redLead,mu_millScale))","v":1.5865677714918411},{"$f":"Sigma_p(AB639,V639)","v":0},{"$f":"Sigma_p(AC639,V639)","v":-2.5468669605242731},{"$f":"beta_1(X639,AD639,Z639)","v":1},{"$f":"beta_1(Y639,AE639,Z639)","v":0.96313290765680692},{"$f":"k_tHole(W639,U639)","v":2.5863474629643437},{"$f":"K_t1Mu(Z639,AH639,D639,W639,U639,SIGN(X639),mu_millScale)","v":4.7331252227178968},{"$f":"K_t1Mu(Z639,AI639,D639,W639,U639,SIGN(Y639),mu_millScale)","v":0},{"$f":"Sigma_hMax(AK639,X639,AF639)","v":391.60499570046761},{"$f":"Sigma_hMin(X639,Y639,AG639,AE639,AK639,AL639,AJ639,AI639,Z639,IF(L639=1,mu_redLead,mu_millScale))","v":-8.9237951351834788},400.52879083565108,-2.2787745899976074E-2,126.4672187728268,{"$f":"tau_n(N639,W639,U639,D639)","v":107.94965234582119},{"$f":"tau_hMax(X639,Z639,AH639,W639,U639)","v":56.148836385561296},{"$f":"tau_hMin(X639,Y639,AS639,AE639,Z639,AI639,IF(L639=1,mu_redLead,mu_millScale),W639,U639)","v":-54.078792049571966},110.22762843513325]
[628,"Parola1965","R; L",2,2,11.9,73,null,4.75,6.4,146,2,459,275.79029170000001,-1,36000,0,"1Fr 29","Reduced clamping",628,0.39915966386554619,1.0672645739910314,0.16301369863013698,137.89514585000001,-137.89514585000001,{"$f":"IF(OR(X640>=1.6*D640*AD640,D640=1),calcLoadFraction(G640,F640,I640,J640,K640,D640,1),\"Condition for spring model not fulfilled\")","v":0.52013911268269919},{"$f":"IF(L640>2,L640,IF(L640=2,1,sigma_cl0(I640+J640)))","v":1},{"$f":"Sigma_cl(AA640,U640,V640,X640)","v":0},{"$f":"Sigma_cl(AA640,U640,V640,Y640)","v":9.788102708078986},{"$f":"sigma_Slip(AB640,W640,U640,IF(L640=1,mu_redLead,mu_millScale))","v":0},{"$f":"sigma_Slip(AC640,W640,U640,IF(L640=1,mu_redLead,mu_millScale))","v":2.4756625015852611},{"$f":"Sigma_p(AB640,V640)","v":0},{"$f":"Sigma_p(AC640,V640)","v":-3.9741025526868241},{"$f":"beta_1(X640,AD640,Z640)","v":1},{"$f":"beta_1(Y640,AE640,Z640)","v":0.96548380232392905},{"$f":"k_tHole(W640,U640)","v":2.5863474629643437},{"$f":"K_t1Mu(Z640,AH640,D640,W640,U640,SIGN(X640),mu_millScale)","v":4.7331252227178968},{"$f":"K_t1Mu(Z640,AI640,D640,W640,U640,SIGN(Y640),mu_millScale)","v":0},{"$f":"Sigma_hMax(AK640,X640,AF640)","v":652.67499291299816},{"$f":"Sigma_hMin(X640,Y640,AG640,AE640,AK640,AL640,AJ640,AI640,Z640,IF(L640=1,mu_redLead,mu_millScale))","v":-13.931538824891682},666.6065317378899,-2.134529279682202E-2,210.51056261246856,{"$f":"tau_n(N640,W640,U640,D640)","v":179.91608726478086},{"$f":"tau_hMax(X640,Z640,AH640,W640,U640)","v":93.581393987246187},{"$f":"tau_hMin(X640,Y640,AS640,AE640,Z640,AI640,IF(L640=1,mu_redLead,mu_millScale),W640,U640)","v":-90.351320093580128},183.93271408082632]
[629,"Parola1965","R; L",2,2,11.9,73,null,4.75,6.4,146,2,459,137.89514589999999,0,278200,0,"1Fr 30","Reduced clamping",629,{"$f":"I641/F641","v":0.39915966386554619},{"$f":"F641/(J641+I641)","v":1.0672645739910314},{"$f":"F641/G641","v":0.16301369863013698},137.89514589999999,0,{"$f":"IF(OR(X641>=1.6*D641*AD641,D641=1),calcLoadFraction(G641,F641,I641,J641,K641,D641,1),\"Condition for spring model not fulfilled\")","v":0.52013911268269919},{"$f":"IF(L641>2,L641,IF(L641=2,1,sigma_cl0(I641+J641)))","v":1},{"$f":"Sigma_cl(AA641,U641,V641,X641)","v":0},{"$f":"Sigma_cl(AA641,U641,V641,Y641)","v":1},{"$f":"sigma_Slip(AB641,W641,U641,IF(L641=1,mu_redLead,mu_millScale))","v":0},{"$f":"sigma_Slip(AC641,W641,U641,IF(L641=1,mu_redLead,mu_millScale))","v":0.25292567675468691},{"$f":"Sigma_p(AB641,V641)","v":0},{"$f":"Sigma_p(AC641,V641)","v":-0.40601357292733004},{"$f":"beta_1(X641,AD641,Z641)","v":1},{"$f":"beta_1(Y641,AE641,Z641)","v":0.51373455564573289},{"$f":"k_tHole(W641,U641)","v":2.5863474629643437},{"$f":"K_t1Mu(Z641,AH641,D641,W641,U641,SIGN(X641),mu_millScale)","v":4.7331252227178968},{"$f":"K_t1Mu(Z641,AI641,D641,W641,U641,SIGN(Y641),mu_millScale)","v":0.37896674670601233},{"$f":"Sigma_hMax(AK641,X641,AF641)","v":652.67499314965437},{"$f":"Sigma_hMin(X641,Y641,AG641,AE641,AK641,AL641,AJ641,AI641,Z641,IF(L641=1,mu_redLead,mu_millScale))","v":0.86417024292316946},651.81082290673123,1.3240437461115053E-3,206.29659491488084,{"$f":"tau_n(N641,W641,U641,D641)","v":89.958043665008688},{"$f":"tau_hMax(X641,Z641,AH641,W641,U641)","v":93.581394021178269},{"$f":"tau_hMin(X641,Y641,AS641,AE641,Z641,AI641,IF(L641=1,mu_redLead,mu_millScale),W641,U641)","v":0.61227657075436226},92.969117450423909]
[630,"Parola1965","R; L",2,2,11.9,73,null,4.75,6.4,146,2,459,275.79029170000001,-1,44000,0,"1Fr 31","Reduced clamping",630,0.39915966386554619,1.0672645739910314,0.16301369863013698,137.89514585000001,-137.89514585000001,{"$f":"IF(OR(X642>=1.6*D642*AD642,D642=1),calcLoadFraction(G642,F642,I642,J642,K642,D642,1),\"Condition for spring model not fulfilled\")","v":0.52013911268269919},{"$f":"IF(L642>2,L642,IF(L642=2,1,sigma_cl0(I642+J642)))","v":1},{"$f":"Sigma_cl(AA642,U642,V642,X642)","v":0},{"$f":"Sigma_cl(AA642,U642,V642,Y642)","v":9.788102708078986},{"$f":"sigma_Slip(AB642,W642,U642,IF(L642=1,mu_redLead,mu_millScale))","v":0},{"$f":"sigma_Slip(AC642,W642,U642,IF(L642=1,mu_redLead,mu_millScale))","v":2.4756625015852611},{"$f":"Sigma_p(AB642,V642)","v":0},{"$f":"Sigma_p(AC642,V642)","v":-3.9741025526868241},{"$f":"beta_1(X642,AD642,Z642)","v":1},{"$f":"beta_1(Y642,AE642,Z642)","v":0.96548380232392905},{"$f":"k_tHole(W642,U642)","v":2.5863474629643437},{"$f":"K_t1Mu(Z642,AH642,D642,W642,U642,SIGN(X642),mu_millScale)","v":4.7331252227178968},{"$f":"K_t1Mu(Z642,AI642,D642,W642,U642,SIGN(Y642),mu_millScale)","v":0},{"$f":"Sigma_hMax(AK642,X642,AF642)","v":652.67499291299816},{"$f":"Sigma_hMin(X642,Y642,AG642,AE642,AK642,AL642,AJ642,AI642,Z642,IF(L642=1,mu_redLead,mu_millScale))","v":-13.931538824891682},{"$f":"(AM642-AN642)","v":666.6065317378899},{"$f":"AN642/AM642","v":-2.134529279682202E-2},210.51056261246856,{"$f":"tau_n(N642,W642,U642,D642)","v":179.91608726478086},{"$f":"tau_hMax(X642,Z642,AH642,W642,U642)","v":93.581393987246187},{"$f":"tau_hMin(X642,Y642,AS642,AE642,Z642,AI642,IF(L642=1,mu_redLead,mu_millScale),W642,U642)","v":-90.351320093580128},183.93271408082632]
[631,"Parola1965","R; L",2,2,11.9,64.5,null,5.55,7.9,129,2,475,124.1056313,0,2014300,1,"2Fr 18","Reduced clamping",631,0.46638655462184869,0.88475836431226773,0.18449612403100776,124.1056313,0,{"$f":"IF(OR(X643>=1.6*D643*AD643,D643=1),calcLoadFraction(G643,F643,I643,J643,K643,D643,1),\"Condition for spring model not fulfilled\")","v":0.5232883250511724},{"$f":"IF(L643>2,L643,IF(L643=2,1,sigma_cl0(I643+J643)))","v":1},{"$f":"Sigma_cl(AA643,U643,V643,X643)","v":0},{"$f":"Sigma_cl(AA643,U643,V643,Y643)","v":1},{"$f":"sigma_Slip(AB643,W643,U643,IF(L643=1,mu_redLead,mu_millScale))","v":0},{"$f":"sigma_Slip(AC643,W643,U643,IF(L643=1,mu_redLead,mu_millScale))","v":0.25144847921121172},{"$f":"Sigma_p(AB643,V643)","v":0},{"$f":"Sigma_p(AC643,V643)","v":-0.34201276610283027},{"$f":"beta_1(X643,AD643,Z643)","v":1},{"$f":"beta_1(Y643,AE643,Z643)","v":0.51948387308923327},{"$f":"k_tHole(W643,U643)","v":2.5423480569379171},{"$f":"K_t1Mu(Z643,AH643,D643,W643,U643,SIGN(X643),mu_millScale)","v":4.3699864604228154},{"$f":"K_t1Mu(Z643,AI643,D643,W643,U643,SIGN(Y643),mu_millScale)","v":0.49591534269185233},{"$f":"Sigma_hMax(AK643,X643,AF643)","v":542.33992844322597},{"$f":"Sigma_hMin(X643,Y643,AG643,AE643,AK643,AL643,AJ643,AI643,Z643,IF(L643=1,mu_redLead,mu_millScale))","v":0.79280133660362373},541.54712710662238,1.4618162798364144E-3,171.4007617848996,{"$f":"tau_n(N643,W643,U643,D643)","v":81.437872397308766},{"$f":"tau_hMax(X643,Z643,AH643,W643,U643)","v":85.23097568503762},{"$f":"tau_hMin(X643,Y643,AS643,AE643,Z643,AI643,IF(L643=1,mu_redLead,mu_millScale),W643,U643)","v":0.60582817682563228},84.625147508211981]
[632,"Parola1965","R; L",2,2,11.9,64.5,null,5.55,7.9,129,2,475,124.1056313,0,1314700,1,"2Fr 19","Reduced clamping",632,0.46638655462184869,0.88475836431226773,0.18449612403100776,124.1056313,0,{"$f":"IF(OR(X644>=1.6*D644*AD644,D644=1),calcLoadFraction(G644,F644,I644,J644,K644,D644,1),\"Condition for spring model not fulfilled\")","v":0.5232883250511724},{"$f":"IF(L644>2,L644,IF(L644=2,1,sigma_cl0(I644+J644)))","v":1},{"$f":"Sigma_cl(AA644,U644,V644,X644)","v":0},{"$f":"Sigma_cl(AA644,U644,V644,Y644)","v":1},{"$f":"sigma_Slip(AB644,W644,U644,IF(L644=1,mu_redLead,mu_millScale))","v":0},{"$f":"sigma_Slip(AC644,W644,U644,IF(L644=1,mu_redLead,mu_millScale))","v":0.25144847921121172},{"$f":"Sigma_p(AB644,V644)","v":0},{"$f":"Sigma_p(AC644,V644)","v":-0.34201276610283027},{"$f":"beta_1(X644,AD644,Z644)","v":1},{"$f":"beta_1(Y644,AE644,Z644)","v":0.51948387308923327},{"$f":"k_tHole(W644,U644)","v":2.5423480569379171},{"$f":"K_t1Mu(Z644,AH644,D644,W644,U644,SIGN(X644),mu_millScale)","v":4.3699864604228154},{"$f":"K_t1Mu(Z644,AI644,D644,W644,U644,SIGN(Y644),mu_millScale)","v":0.49591534269185233},{"$f":"Sigma_hMax(AK644,X644,AF644)","v":542.33992844322597},{"$f":"Sigma_hMin(X644,Y644,AG644,AE644,AK644,AL644,AJ644,AI644,Z644,IF(L644=1,mu_redLead,mu_millScale))","v":0.79280133660362373},541.54712710662238,1.4618162798364144E-3,171.4007617848996,{"$f":"tau_n(N644,W644,U644,D644)","v":81.437872397308766},{"$f":"tau_hMax(X644,Z644,AH644,W644,U644)","v":85.23097568503762},{"$f":"tau_hMin(X644,Y644,AS644,AE644,Z644,AI644,IF(L644=1,mu_redLead,mu_millScale),W644,U644)","v":0.60582817682563228},84.625147508211981]
[633,"Parola1965","R; L",2,2,11.9,64.5,null,5.55,7.9,129,2,475,193.05320420000001,0,127000,1,"2Fr 21","Reduced clamping",633,0.46638655462184869,0.88475836431226773,0.18449612403100776,{"$f":"N645/(1-O645)","v":193.05320420000001},{"$f":"X645*O645","v":0},{"$f":"IF(OR(X645>=1.6*D645*AD645,D645=1),calcLoadFraction(G645,F645,I645,J645,K645,D645,1),\"Condition for spring model not fulfilled\")","v":0.5232883250511724},{"$f":"IF(L645>2,L645,IF(L645=2,1,sigma_cl0(I645+J645)))","v":1},{"$f":"Sigma_cl(AA645,U645,V645,X645)","v":0},{"$f":"Sigma_cl(AA645,U645,V645,Y645)","v":1},{"$f":"sigma_Slip(AB645,W645,U645,IF(L645=1,mu_redLead,mu_millScale))","v":0},{"$f":"sigma_Slip(AC645,W645,U645,IF(L645=1,mu_redLead,mu_millScale))","v":0.25144847921121172},{"$f":"Sigma_p(AB645,V645)","v":0},{"$f":"Sigma_p(AC645,V645)","v":-0.34201276610283027},{"$f":"beta_1(X645,AD645,Z645)","v":1},{"$f":"beta_1(Y645,AE645,Z645)","v":0.51948387308923327},{"$f":"k_tHole(W645,U645)","v":2.5423480569379171},{"$f":"K_t1Mu(Z645,AH645,D645,W645,U645,SIGN(X645),mu_millScale)","v":4.3699864604228154},{"$f":"K_t1Mu(Z645,AI645,D645,W645,U645,SIGN(Y645),mu_millScale)","v":0.49591534269185233},{"$f":"Sigma_hMax(AK645,X645,AF645)","v":843.63988849524105},{"$f":"Sigma_hMin(X645,Y645,AG645,AE645,AK645,AL645,AJ645,AI645,Z645,IF(L645=1,mu_redLead,mu_millScale))","v":0.79397605686973238},842.84591243837133,9.4113148002746569E-4,266.74851583672734,{"$f":"tau_n(N645,W645,U645,D645)","v":126.68113481109373},{"$f":"tau_hMax(X645,Z645,AH645,W645,U645)","v":132.581517701758},{"$f":"tau_hMin(X645,Y645,AS645,AE645,Z645,AI645,IF(L645=1,mu_redLead,mu_millScale),W645,U645)","v":0.63678036478652111},131.94473733697149]
[634,"Parola1965","R; L",2,2,11.9,64.5,null,5.55,7.9,129,2,475,124.1056313,0,1239800,1,"2Fr 27","Reduced clamping",634,0.46638655462184869,0.88475836431226773,0.18449612403100776,124.1056313,0,{"$f":"IF(OR(X646>=1.6*D646*AD646,D646=1),calcLoadFraction(G646,F646,I646,J646,K646,D646,1),\"Condition for spring model not fulfilled\")","v":0.5232883250511724},{"$f":"IF(L646>2,L646,IF(L646=2,1,sigma_cl0(I646+J646)))","v":1},{"$f":"Sigma_cl(AA646,U646,V646,X646)","v":0},{"$f":"Sigma_cl(AA646,U646,V646,Y646)","v":1},{"$f":"sigma_Slip(AB646,W646,U646,IF(L646=1,mu_redLead,mu_millScale))","v":0},{"$f":"sigma_Slip(AC646,W646,U646,IF(L646=1,mu_redLead,mu_millScale))","v":0.25144847921121172},{"$f":"Sigma_p(AB646,V646)","v":0},{"$f":"Sigma_p(AC646,V646)","v":-0.34201276610283027},{"$f":"beta_1(X646,AD646,Z646)","v":1},{"$f":"beta_1(Y646,AE646,Z646)","v":0.51948387308923327},{"$f":"k_tHole(W646,U646)","v":2.5423480569379171},{"$f":"K_t1Mu(Z646,AH646,D646,W646,U646,SIGN(X646),mu_millScale)","v":4.3699864604228154},{"$f":"K_t1Mu(Z646,AI646,D646,W646,U646,SIGN(Y646),mu_millScale)","v":0.49591534269185233},{"$f":"Sigma_hMax(AK646,X646,AF646)","v":542.33992844322597},{"$f":"Sigma_hMin(X646,Y646,AG646,AE646,AK646,AL646,AJ646,AI646,Z646,IF(L646=1,mu_redLead,mu_millScale))","v":0.79280133660362373},541.54712710662238,1.4618162798364144E-3,171.4007617848996,{"$f":"tau_n(N646,W646,U646,D646)","v":81.437872397308766},{"$f":"tau_hMax(X646,Z646,AH646,W646,U646)","v":85.23097568503762},{"$f":"tau_hMin(X646,Y646,AS646,AE646,Z646,AI646,IF(L646=1,mu_redLead,mu_millScale),W646,U646)","v":0.60582817682563228},84.625147508211981]
[635,"Parola1965","R; L",2,2,11.9,64.5,null,5.55,7.9,129,2,475,193.05320420000001,0,137700,1,"2Fr 28","Reduced clamping",635,0.46638655462184869,0.88475836431226773,0.18449612403100776,193.05320420000001,0,{"$f":"IF(OR(X647>=1.6*D647*AD647,D647=1),calcLoadFraction(G647,F647,I647,J647,K647,D647,1),\"Condition for spring model not fulfilled\")","v":0.5232883250511724},{"$f":"IF(L647>2,L647,IF(L647=2,1,sigma_cl0(I647+J647)))","v":1},{"$f":"Sigma_cl(AA647,U647,V647,X647)","v":0},{"$f":"Sigma_cl(AA647,U647,V647,Y647)","v":1},{"$f":"sigma_Slip(AB647,W647,U647,IF(L647=1,mu_redLead,mu_millScale))","v":0},{"$f":"sigma_Slip(AC647,W647,U647,IF(L647=1,mu_redLead,mu_millScale))","v":0.25144847921121172},{"$f":"Sigma_p(AB647,V647)","v":0},{"$f":"Sigma_p(AC647,V647)","v":-0.34201276610283027},{"$f":"beta_1(X647,AD647,Z647)","v":1},{"$f":"beta_1(Y647,AE647,Z647)","v":0.51948387308923327},{"$f":"k_tHole(W647,U647)","v":2.5423480569379171},{"$f":"K_t1Mu(Z647,AH647,D647,W647,U647,SIGN(X647),mu_millScale)","v":4.3699864604228154},{"$f":"K_t1Mu(Z647,AI647,D647,W647,U647,SIGN(Y647),mu_millScale)","v":0.49591534269185233},{"$f":"Sigma_hMax(AK647,X647,AF647)","v":843.63988849524105},{"$f":"Sigma_hMin(X647,Y647,AG647,AE647,AK647,AL647,AJ647,AI647,Z647,IF(L647=1,mu_redLead,mu_millScale))","v":0.79397605686973238},842.84591243837133,9.4113148002746569E-4,266.74851583672734,{"$f":"tau_n(N647,W647,U647,D647)","v":126.68113481109373},{"$f":"tau_hMax(X647,Z647,AH647,W647,U647)","v":132.581517701758},{"$f":"tau_hMin(X647,Y647,AS647,AE647,Z647,AI647,IF(L647=1,mu_redLead,mu_millScale),W647,U647)","v":0.63678036478652111},131.94473733697149]
[636,"Parola1965","R; L",2,2,11.9,52.5,null,7.15,9.5,105,2,438,165.474175,0,203500,1,"3Fr 16","Reduced clamping",636,0.60084033613445376,0.71471471471471482,0.22666666666666668,165.474175,0,{"$f":"IF(OR(X648>=1.6*D648*AD648,D648=1),calcLoadFraction(G648,F648,I648,J648,K648,D648,1),\"Condition for spring model not fulfilled\")","v":0.51832504748893504},{"$f":"IF(L648>2,L648,IF(L648=2,1,sigma_cl0(I648+J648)))","v":1},{"$f":"Sigma_cl(AA648,U648,V648,X648)","v":0},{"$f":"Sigma_cl(AA648,U648,V648,Y648)","v":1},{"$f":"sigma_Slip(AB648,W648,U648,IF(L648=1,mu_redLead,mu_millScale))","v":0},{"$f":"sigma_Slip(AC648,W648,U648,IF(L648=1,mu_redLead,mu_millScale))","v":0.25286904315039793},{"$f":"Sigma_p(AB648,V648)","v":0},{"$f":"Sigma_p(AC648,V648)","v":-0.27783115516233925},{"$f":"beta_1(X648,AD648,Z648)","v":1},{"$f":"beta_1(Y648,AE648,Z648)","v":0.51214195729988132},{"$f":"k_tHole(W648,U648)","v":2.4624877037037036},{"$f":"K_t1Mu(Z648,AH648,D648,W648,U648,SIGN(X648),mu_millScale)","v":3.8264623295798859},{"$f":"K_t1Mu(Z648,AI648,D648,W648,U648,SIGN(Y648),mu_millScale)","v":0.71725138476024675},{"$f":"Sigma_hMax(AK648,X648,AF648)","v":633.18069715580975},{"$f":"Sigma_hMin(X648,Y648,AG648,AE648,AK648,AL648,AJ648,AI648,Z648,IF(L648=1,mu_redLead,mu_millScale))","v":0.68612204429627599},632.49457511151343,1.0836117515557154E-3,200.17822383415918,{"$f":"tau_n(N648,W648,U648,D648)","v":107.97382919965004},{"$f":"tau_hMax(X648,Z648,AH648,W648,U648)","v":111.93108029494154},{"$f":"tau_hMin(X648,Y648,AS648,AE648,Z648,AI648,IF(L648=1,mu_redLead,mu_millScale),W648,U648)","v":0.62477565512918698},111.30630463981235]
[637,"Parola1965","R; L",2,2,11.9,52.5,null,7.15,9.5,105,2,438,206.8427188,0,71800,1,"3Fr 19","Reduced clamping",637,0.60084033613445376,0.71471471471471482,0.22666666666666668,206.8427188,0,{"$f":"IF(OR(X649>=1.6*D649*AD649,D649=1),calcLoadFraction(G649,F649,I649,J649,K649,D649,1),\"Condition for spring model not fulfilled\")","v":0.51832504748893504},{"$f":"IF(L649>2,L649,IF(L649=2,1,sigma_cl0(I649+J649)))","v":1},{"$f":"Sigma_cl(AA649,U649,V649,X649)","v":0},{"$f":"Sigma_cl(AA649,U649,V649,Y649)","v":1},{"$f":"sigma_Slip(AB649,W649,U649,IF(L649=1,mu_redLead,mu_millScale))","v":0},{"$f":"sigma_Slip(AC649,W649,U649,IF(L649=1,mu_redLead,mu_millScale))","v":0.25286904315039793},{"$f":"Sigma_p(AB649,V649)","v":0},{"$f":"Sigma_p(AC649,V649)","v":-0.27783115516233925},{"$f":"beta_1(X649,AD649,Z649)","v":1},{"$f":"beta_1(Y649,AE649,Z649)","v":0.51214195729988132},{"$f":"k_tHole(W649,U649)","v":2.4624877037037036},{"$f":"K_t1Mu(Z649,AH649,D649,W649,U649,SIGN(X649),mu_millScale)","v":3.8264623295798859},{"$f":"K_t1Mu(Z649,AI649,D649,W649,U649,SIGN(Y649),mu_millScale)","v":0.71725138476024675},{"$f":"Sigma_hMax(AK649,X649,AF649)","v":791.47587163608523},{"$f":"Sigma_hMin(X649,Y649,AG649,AE649,AK649,AL649,AJ649,AI649,Z649,IF(L649=1,mu_redLead,mu_millScale))","v":0.68654758674515592},790.78932404934005,8.6742705791646095E-4,250.27151228101721,{"$f":"tau_n(N649,W649,U649,D649)","v":134.96728653218813},{"$f":"tau_hMax(X649,Z649,AH649,W649,U649)","v":139.91385040249824},{"$f":"tau_hMin(X649,Y649,AS649,AE649,Z649,AI649,IF(L649=1,mu_redLead,mu_millScale),W649,U649)","v":0.64063624965653965},139.27321415284169]
[638,"Parola1965","R; L",2,2,11.9,52.5,null,7.15,9.5,105,2,438,117.210874,0,1634500,1,"3Fr 20","Reduced clamping",638,0.60084033613445376,0.71471471471471482,0.22666666666666668,117.210874,0,{"$f":"IF(OR(X650>=1.6*D650*AD650,D650=1),calcLoadFraction(G650,F650,I650,J650,K650,D650,1),\"Condition for spring model not fulfilled\")","v":0.51832504748893504},{"$f":"IF(L650>2,L650,IF(L650=2,1,sigma_cl0(I650+J650)))","v":1},{"$f":"Sigma_cl(AA650,U650,V650,X650)","v":0},{"$f":"Sigma_cl(AA650,U650,V650,Y650)","v":1},{"$f":"sigma_Slip(AB650,W650,U650,IF(L650=1,mu_redLead,mu_millScale))","v":0},{"$f":"sigma_Slip(AC650,W650,U650,IF(L650=1,mu_redLead,mu_millScale))","v":0.25286904315039793},{"$f":"Sigma_p(AB650,V650)","v":0},{"$f":"Sigma_p(AC650,V650)","v":-0.27783115516233925},{"$f":"beta_1(X650,AD650,Z650)","v":1},{"$f":"beta_1(Y650,AE650,Z650)","v":0.51214195729988132},{"$f":"k_tHole(W650,U650)","v":2.4624877037037036},{"$f":"K_t1Mu(Z650,AH650,D650,W650,U650,SIGN(X650),mu_millScale)","v":3.8264623295798859},{"$f":"K_t1Mu(Z650,AI650,D650,W650,U650,SIGN(Y650),mu_millScale)","v":0.71725138476024675},{"$f":"Sigma_hMax(AK650,X650,AF650)","v":448.5029939781345},{"$f":"Sigma_hMin(X650,Y650,AG650,AE650,AK650,AL650,AJ650,AI650,Z650,IF(L650=1,mu_redLead,mu_millScale))","v":0.68524710894705343},447.81774686918743,1.5278540347502356E-3,141.73616189243106,{"$f":"tau_n(N650,W650,U650,D650)","v":76.481462376940101},{"$f":"tau_hMax(X650,Z650,AH650,W650,U650)","v":79.284515237101346},{"$f":"tau_hMin(X650,Y650,AS650,AE650,Z650,AI650,IF(L650=1,mu_redLead,mu_millScale),W650,U650)","v":0.60087297929888117},78.683642257802461]
[639,"Parola1965","R; L",2,2,11.9,52.5,null,7.15,9.5,105,2,438,330.94835010000003,-1,83000,3,"3Fr 14","Reduced clamping",639,0.60084033613445376,0.71471471471471482,0.22666666666666668,165.47417505000001,-165.47417505000001,{"$f":"IF(OR(X651>=1.6*D651*AD651,D651=1),calcLoadFraction(G651,F651,I651,J651,K651,D651,1),\"Condition for spring model not fulfilled\")","v":0.51832504748893504},{"$f":"IF(L651>2,L651,IF(L651=2,1,sigma_cl0(I651+J651)))","v":1},{"$f":"Sigma_cl(AA651,U651,V651,X651)","v":0},{"$f":"Sigma_cl(AA651,U651,V651,Y651)","v":13.629332477156122},{"$f":"sigma_Slip(AB651,W651,U651,IF(L651=1,mu_redLead,mu_millScale))","v":0},{"$f":"sigma_Slip(AC651,W651,U651,IF(L651=1,mu_redLead,mu_millScale))","v":3.4464362622771114},{"$f":"Sigma_p(AB651,V651)","v":0},{"$f":"Sigma_p(AC651,V651)","v":-3.7866531862198727},{"$f":"beta_1(X651,AD651,Z651)","v":1},{"$f":"beta_1(Y651,AE651,Z651)","v":0.95981741885943583},{"$f":"k_tHole(W651,U651)","v":2.4624877037037036},{"$f":"K_t1Mu(Z651,AH651,D651,W651,U651,SIGN(X651),mu_millScale)","v":3.8264623295798859},{"$f":"K_t1Mu(Z651,AI651,D651,W651,U651,SIGN(Y651),mu_millScale)","v":0},{"$f":"Sigma_hMax(AK651,X651,AF651)","v":633.18069734713288},{"$f":"Sigma_hMin(X651,Y651,AG651,AE651,AK651,AL651,AJ651,AI651,Z651,IF(L651=1,mu_redLead,mu_millScale))","v":-15.933996433037301},649.11469378017023,-2.5165006608376912E-2,204.91180194204637,{"$f":"tau_n(N651,W651,U651,D651)","v":215.94765846455127},{"$f":"tau_hMax(X651,Z651,AH651,W651,U651)","v":111.93108032876286},{"$f":"tau_hMin(X651,Y651,AS651,AE651,Z651,AI651,IF(L651=1,mu_redLead,mu_millScale),W651,U651)","v":-107.43340061130134},219.3644809400642]
[640,"Parola1965","R; L",2,2,11.9,52.5,null,7.15,9.5,105,2,438,330.94835010000003,-1,123200,1,"3Fr 22","Reduced clamping",640,0.60084033613445376,0.71471471471471482,0.22666666666666668,165.47417505000001,-165.47417505000001,{"$f":"IF(OR(X652>=1.6*D652*AD652,D652=1),calcLoadFraction(G652,F652,I652,J652,K652,D652,1),\"Condition for spring model not fulfilled\")","v":0.51832504748893504},{"$f":"IF(L652>2,L652,IF(L652=2,1,sigma_cl0(I652+J652)))","v":1},{"$f":"Sigma_cl(AA652,U652,V652,X652)","v":0},{"$f":"Sigma_cl(AA652,U652,V652,Y652)","v":13.629332477156122},{"$f":"sigma_Slip(AB652,W652,U652,IF(L652=1,mu_redLead,mu_millScale))","v":0},{"$f":"sigma_Slip(AC652,W652,U652,IF(L652=1,mu_redLead,mu_millScale))","v":3.4464362622771114},{"$f":"Sigma_p(AB652,V652)","v":0},{"$f":"Sigma_p(AC652,V652)","v":-3.7866531862198727},{"$f":"beta_1(X652,AD652,Z652)","v":1},{"$f":"beta_1(Y652,AE652,Z652)","v":0.95981741885943583},{"$f":"k_tHole(W652,U652)","v":2.4624877037037036},{"$f":"K_t1Mu(Z652,AH652,D652,W652,U652,SIGN(X652),mu_millScale)","v":3.8264623295798859},{"$f":"K_t1Mu(Z652,AI652,D652,W652,U652,SIGN(Y652),mu_millScale)","v":0},{"$f":"Sigma_hMax(AK652,X652,AF652)","v":633.18069734713288},{"$f":"Sigma_hMin(X652,Y652,AG652,AE652,AK652,AL652,AJ652,AI652,Z652,IF(L652=1,mu_redLead,mu_millScale))","v":-15.933996433037301},649.11469378017023,-2.5165006608376912E-2,{"$f":"AO652/3.16*(1-0.9*AP652)/(1-AP652)","v":204.91180194204637},{"$f":"tau_n(N652,W652,U652,D652)","v":215.94765846455127},{"$f":"tau_hMax(X652,Z652,AH652,W652,U652)","v":111.93108032876286},{"$f":"tau_hMin(X652,Y652,AS652,AE652,Z652,AI652,IF(L652=1,mu_redLead,mu_millScale),W652,U652)","v":-107.43340061130134},{"$f":"(AS652-AT652)","v":219.3644809400642}]
[641,"Parola1965","R; L",2,2,11.9,52.5,null,7.15,9.5,105,2,438,157.20046629999999,0.5,66200,0,"3Fr 23","Reduced clamping",641,0.60084033613445376,0.71471471471471482,0.22666666666666668,314.40093259999998,157.20046629999999,{"$f":"IF(OR(X653>=1.6*D653*AD653,D653=1),calcLoadFraction(G653,F653,I653,J653,K653,D653,1),\"Condition for spring model not fulfilled\")","v":0.51832504748893504},{"$f":"IF(L653>2,L653,IF(L653=2,1,sigma_cl0(I653+J653)))","v":1},{"$f":"Sigma_cl(AA653,U653,V653,X653)","v":0},{"$f":"Sigma_cl(AA653,U653,V653,Y653)","v":0},{"$f":"sigma_Slip(AB653,W653,U653,IF(L653=1,mu_redLead,mu_millScale))","v":0},{"$f":"sigma_Slip(AC653,W653,U653,IF(L653=1,mu_redLead,mu_millScale))","v":0},{"$f":"Sigma_p(AB653,V653)","v":0},{"$f":"Sigma_p(AC653,V653)","v":0},{"$f":"beta_1(X653,AD653,Z653)","v":1},{"$f":"beta_1(Y653,AE653,Z653)","v":1},{"$f":"k_tHole(W653,U653)","v":2.4624877037037036},{"$f":"K_t1Mu(Z653,AH653,D653,W653,U653,SIGN(X653),mu_millScale)","v":3.8264623295798859},{"$f":"K_t1Mu(Z653,AI653,D653,W653,U653,SIGN(Y653),mu_millScale)","v":3.8264623295798859},{"$f":"Sigma_hMax(AK653,X653,AF653)","v":1203.0433249786845},{"$f":"Sigma_hMin(X653,Y653,AG653,AE653,AK653,AL653,AJ653,AI653,Z653,IF(L653=1,mu_redLead,mu_millScale))","v":502.2705881786008},700.77273680008375,0.41750000000000004,237.65816317023535,{"$f":"tau_n(N653,W653,U653,D653)","v":102.5751377722931},{"$f":"tau_hMax(X653,Z653,AH653,W653,U653)","v":212.66905262803152},{"$f":"tau_hMin(X653,Y653,AS653,AE653,Z653,AI653,IF(L653=1,mu_redLead,mu_millScale),W653,U653)","v":114.75922331340884},97.909829314622684]
[642,"Parola1965","R; L",2,2,11.9,52.5,null,7.15,9.5,105,2,438,157.20046629999999,0.5,75800,1,"3Fr 24","Reduced clamping",642,0.60084033613445376,0.71471471471471482,0.22666666666666668,314.40093259999998,157.20046629999999,{"$f":"IF(OR(X654>=1.6*D654*AD654,D654=1),calcLoadFraction(G654,F654,I654,J654,K654,D654,1),\"Condition for spring model not fulfilled\")","v":0.51832504748893504},{"$f":"IF(L654>2,L654,IF(L654=2,1,sigma_cl0(I654+J654)))","v":1},{"$f":"Sigma_cl(AA654,U654,V654,X654)","v":0},{"$f":"Sigma_cl(AA654,U654,V654,Y654)","v":0},{"$f":"sigma_Slip(AB654,W654,U654,IF(L654=1,mu_redLead,mu_millScale))","v":0},{"$f":"sigma_Slip(AC654,W654,U654,IF(L654=1,mu_redLead,mu_millScale))","v":0},{"$f":"Sigma_p(AB654,V654)","v":0},{"$f":"Sigma_p(AC654,V654)","v":0},{"$f":"beta_1(X654,AD654,Z654)","v":1},{"$f":"beta_1(Y654,AE654,Z654)","v":1},{"$f":"k_tHole(W654,U654)","v":2.4624877037037036},{"$f":"K_t1Mu(Z654,AH654,D654,W654,U654,SIGN(X654),mu_millScale)","v":3.8264623295798859},{"$f":"K_t1Mu(Z654,AI654,D654,W654,U654,SIGN(Y654),mu_millScale)","v":3.8264623295798859},{"$f":"Sigma_hMax(AK654,X654,AF654)","v":1203.0433249786845},{"$f":"Sigma_hMin(X654,Y654,AG654,AE654,AK654,AL654,AJ654,AI654,Z654,IF(L654=1,mu_redLead,mu_millScale))","v":502.2705881786008},700.77273680008375,0.41750000000000004,237.65816317023535,{"$f":"tau_n(N654,W654,U654,D654)","v":102.5751377722931},{"$f":"tau_hMax(X654,Z654,AH654,W654,U654)","v":212.66905262803152},{"$f":"tau_hMin(X654,Y654,AS654,AE654,Z654,AI654,IF(L654=1,mu_redLead,mu_millScale),W654,U654)","v":114.75922331340884},97.909829314622684]
[643,"Parola1965","R; L",2,2,11.9,52.5,null,7.15,9.5,105,2,438,131.00038860000001,0.5,221200,1,"3Fr 26","Reduced clamping",643,0.60084033613445376,0.71471471471471482,0.22666666666666668,262.00077720000002,131.00038860000001,{"$f":"IF(OR(X655>=1.6*D655*AD655,D655=1),calcLoadFraction(G655,F655,I655,J655,K655,D655,1),\"Condition for spring model not fulfilled\")","v":0.51832504748893504},{"$f":"IF(L655>2,L655,IF(L655=2,1,sigma_cl0(I655+J655)))","v":1},{"$f":"Sigma_cl(AA655,U655,V655,X655)","v":0},{"$f":"Sigma_cl(AA655,U655,V655,Y655)","v":0},{"$f":"sigma_Slip(AB655,W655,U655,IF(L655=1,mu_redLead,mu_millScale))","v":0},{"$f":"sigma_Slip(AC655,W655,U655,IF(L655=1,mu_redLead,mu_millScale))","v":0},{"$f":"Sigma_p(AB655,V655)","v":0},{"$f":"Sigma_p(AC655,V655)","v":0},{"$f":"beta_1(X655,AD655,Z655)","v":1},{"$f":"beta_1(Y655,AE655,Z655)","v":1},{"$f":"k_tHole(W655,U655)","v":2.4624877037037036},{"$f":"K_t1Mu(Z655,AH655,D655,W655,U655,SIGN(X655),mu_millScale)","v":3.8264623295798859},{"$f":"K_t1Mu(Z655,AI655,D655,W655,U655,SIGN(Y655),mu_millScale)","v":3.8264623295798859},{"$f":"Sigma_hMax(AK655,X655,AF655)","v":1002.5361042764528},{"$f":"Sigma_hMin(X655,Y655,AG655,AE655,AK655,AL655,AJ655,AI655,Z655,IF(L655=1,mu_redLead,mu_millScale))","v":418.55882353541898},583.97728074103384,0.41749999999999993,198.04846933372653,{"$f":"tau_n(N655,W655,U655,D655)","v":85.479281487786125},{"$f":"tau_hMax(X655,Z655,AH655,W655,U655)","v":177.22421054590717},{"$f":"tau_hMin(X655,Y655,AS655,AE655,Z655,AI655,IF(L655=1,mu_redLead,mu_millScale),W655,U655)","v":95.632686106674356},81.591524439232813]
[644,"Parola1965","R; L",2,2,11.9,52.5,null,7.15,9.5,105,2,438,220.63223339999999,-1,182800,0,"3Fr 28","Reduced clamping",644,0.60084033613445376,0.71471471471471482,0.22666666666666668,110.31611669999999,-110.31611669999999,{"$f":"IF(OR(X656>=1.6*D656*AD656,D656=1),calcLoadFraction(G656,F656,I656,J656,K656,D656,1),\"Condition for spring model not fulfilled\")","v":0.51832504748893504},{"$f":"IF(L656>2,L656,IF(L656=2,1,sigma_cl0(I656+J656)))","v":1},{"$f":"Sigma_cl(AA656,U656,V656,X656)","v":0},{"$f":"Sigma_cl(AA656,U656,V656,Y656)","v":9.4195549847707483},{"$f":"sigma_Slip(AB656,W656,U656,IF(L656=1,mu_redLead,mu_millScale))","v":0},{"$f":"sigma_Slip(AC656,W656,U656,IF(L656=1,mu_redLead,mu_millScale))","v":2.3819138559015403},{"$f":"Sigma_p(AB656,V656)","v":0},{"$f":"Sigma_p(AC656,V656)","v":-2.6170458425340279},{"$f":"beta_1(X656,AD656,Z656)","v":1},{"$f":"beta_1(Y656,AE656,Z656)","v":0.95834329746692026},{"$f":"k_tHole(W656,U656)","v":2.4624877037037036},{"$f":"K_t1Mu(Z656,AH656,D656,W656,U656,SIGN(X656),mu_millScale)","v":3.8264623295798859},{"$f":"K_t1Mu(Z656,AI656,D656,W656,U656,SIGN(Y656),mu_millScale)","v":0},{"$f":"Sigma_hMax(AK656,X656,AF656)","v":422.12046489808853},{"$f":"Sigma_hMin(X656,Y656,AG656,AE656,AK656,AL656,AJ656,AI656,Z656,IF(L656=1,mu_redLead,mu_millScale))","v":-11.009205998772149},433.12967089686066,-2.608072082321352E-2,136.71795895474162,{"$f":"tau_n(N656,W656,U656,D656)","v":143.96510564303415},{"$f":"tau_hMax(X656,Z656,AH656,W656,U656)","v":74.620720219175226},{"$f":"tau_hMin(X656,Y656,AS656,AE656,Z656,AI656,IF(L656=1,mu_redLead,mu_millScale),W656,U656)","v":-71.512267074200878},146.13298729337612]
[645,"Parola1965","R; L",2,2,11.9,42.5,null,9.5500000000000007,12.2,85,2,448,193.05320420000001,-1,456400,0,"4Fr 28","Reduced clamping",645,0.80252100840336138,0.54712643678160922,0.28000000000000003,96.526602100000005,-96.526602100000005,{"$f":"IF(OR(X657>=1.6*D657*AD657,D657=1),calcLoadFraction(G657,F657,I657,J657,K657,D657,1),\"Condition for spring model not fulfilled\")","v":0.51467514807732706},{"$f":"IF(L657>2,L657,IF(L657=2,1,sigma_cl0(I657+J657)))","v":1},{"$f":"Sigma_cl(AA657,U657,V657,X657)","v":0},{"$f":"Sigma_cl(AA657,U657,V657,Y657)","v":9.3627278976900996},{"$f":"sigma_Slip(AB657,W657,U657,IF(L657=1,mu_redLead,mu_millScale))","v":0},{"$f":"sigma_Slip(AC657,W657,U657,IF(L657=1,mu_redLead,mu_millScale))","v":2.351826851299482},{"$f":"Sigma_p(AB657,V657)","v":0},{"$f":"Sigma_p(AC657,V657)","v":-1.9677720884712651},{"$f":"beta_1(X657,AD657,Z657)","v":1},{"$f":"beta_1(Y657,AE657,Z657)","v":0.95266034072514394},{"$f":"k_tHole(W657,U657)","v":2.3732479999999998},{"$f":"K_t1Mu(Z657,AH657,D657,W657,U657,SIGN(X657),mu_millScale)","v":3.390060760978471},{"$f":"K_t1Mu(Z657,AI657,D657,W657,U657,SIGN(Y657),mu_millScale)","v":0.18579157714534933},{"$f":"Sigma_hMax(AK657,X657,AF657)","v":327.23104616979208},{"$f":"Sigma_hMin(X657,Y657,AG657,AE657,AK657,AL657,AJ657,AI657,Z657,IF(L657=1,mu_redLead,mu_millScale))","v":-26.78508167744554},354.01612784723761,-8.1853729928630992E-2,111.18279103781424,{"$f":"tau_n(N657,W657,U657,D657)","v":126.81131787019464},{"$f":"tau_hMax(X657,Z657,AH657,W657,U657)","v":65.266633802723419},{"$f":"tau_hMin(X657,Y657,AS657,AE657,Z657,AI657,IF(L657=1,mu_redLead,mu_millScale),W657,U657)","v":-62.176933596485696},127.44356739920912]
[646,"Parola1965","R; L",2,2,11.9,42.5,null,9.5500000000000007,12.2,85,2,448,158.57941769999999,0.5,134000,0,"4Fr 29","Reduced clamping",646,0.80252100840336138,0.54712643678160922,0.28000000000000003,317.15883539999999,158.57941769999999,{"$f":"IF(OR(X658>=1.6*D658*AD658,D658=1),calcLoadFraction(G658,F658,I658,J658,K658,D658,1),\"Condition for spring model not fulfilled\")","v":0.51467514807732706},{"$f":"IF(L658>2,L658,IF(L658=2,1,sigma_cl0(I658+J658)))","v":1},{"$f":"Sigma_cl(AA658,U658,V658,X658)","v":0},{"$f":"Sigma_cl(AA658,U658,V658,Y658)","v":0},{"$f":"sigma_Slip(AB658,W658,U658,IF(L658=1,mu_redLead,mu_millScale))","v":0},{"$f":"sigma_Slip(AC658,W658,U658,IF(L658=1,mu_redLead,mu_millScale))","v":0},{"$f":"Sigma_p(AB658,V658)","v":0},{"$f":"Sigma_p(AC658,V658)","v":0},{"$f":"beta_1(X658,AD658,Z658)","v":1},{"$f":"beta_1(Y658,AE658,Z658)","v":1},{"$f":"k_tHole(W658,U658)","v":2.3732479999999998},{"$f":"K_t1Mu(Z658,AH658,D658,W658,U658,SIGN(X658),mu_millScale)","v":3.390060760978471},{"$f":"K_t1Mu(Z658,AI658,D658,W658,U658,SIGN(Y658),mu_millScale)","v":3.390060760978471},{"$f":"Sigma_hMax(AK658,X658,AF658)","v":1075.1877228871697},{"$f":"Sigma_hMin(X658,Y658,AG658,AE658,AK658,AL658,AJ658,AI658,Z658,IF(L658=1,mu_redLead,mu_millScale))","v":448.89087430539331},626.29684858177643,0.41749999999999998,212.40061266212524,{"$f":"tau_n(N658,W658,U658,D658)","v":104.16643965562872},{"$f":"tau_hMax(X658,Z658,AH658,W658,U658)","v":214.44751101779468},{"$f":"tau_hMin(X658,Y658,AS658,AE658,Z658,AI658,IF(L658=1,mu_redLead,mu_millScale),W658,U658)","v":115.71890456924915},98.728606448545534]
[647,"Parola1965","R; L",2,2,11.9,42.5,null,9.5500000000000007,12.2,85,2,448,330.94835010000003,-1,62400,3,"4Fr 30","Reduced clamping",647,0.80252100840336138,0.54712643678160922,0.28000000000000003,165.47417505000001,-165.47417505000001,{"$f":"IF(OR(X659>=1.6*D659*AD659,D659=1),calcLoadFraction(G659,F659,I659,J659,K659,D659,1),\"Condition for spring model not fulfilled\")","v":0.51467514807732706},{"$f":"IF(L659>2,L659,IF(L659=2,1,sigma_cl0(I659+J659)))","v":1},{"$f":"Sigma_cl(AA659,U659,V659,X659)","v":0},{"$f":"Sigma_cl(AA659,U659,V659,Y659)","v":15.336104969325238},{"$f":"sigma_Slip(AB659,W659,U659,IF(L659=1,mu_redLead,mu_millScale))","v":0},{"$f":"sigma_Slip(AC659,W659,U659,IF(L659=1,mu_redLead,mu_millScale))","v":3.8522814990815761},{"$f":"Sigma_p(AB659,V659)","v":0},{"$f":"Sigma_p(AC659,V659)","v":-3.2232015748261729},{"$f":"beta_1(X659,AD659,Z659)","v":1},{"$f":"beta_1(Y659,AE659,Z659)","v":0.95476708335937477},{"$f":"k_tHole(W659,U659)","v":2.3732479999999998},{"$f":"K_t1Mu(Z659,AH659,D659,W659,U659,SIGN(X659),mu_millScale)","v":3.390060760978471},{"$f":"K_t1Mu(Z659,AI659,D659,W659,U659,SIGN(Y659),mu_millScale)","v":0.1834194697887426},{"$f":"Sigma_hMax(AK659,X659,AF659)","v":560.96750779228773},{"$f":"Sigma_hMin(X659,Y659,AG659,AE659,AK659,AL659,AJ659,AI659,Z659,IF(L659=1,mu_redLead,mu_millScale))","v":-44.873431396940568},605.84093918922827,-7.9992924320237246E-2,190.3017709017513,{"$f":"tau_n(N659,W659,U659,D659)","v":217.39083066277107},{"$f":"tau_hMax(X659,Z659,AH659,W659,U659)","v":111.88565796201483},{"$f":"tau_hMin(X659,Y659,AS659,AE659,Z659,AI659,IF(L659=1,mu_redLead,mu_millScale),W659,U659)","v":-106.82474332213751},218.71040128415234]
[648,"Parola1965","R; L",2,2,11.9,42.5,null,9.5500000000000007,12.2,85,2,448,193.05320420000001,-1,1716200,2,"4Fr 15","Reduced clamping",648,0.80252100840336138,0.54712643678160922,0.28000000000000003,96.526602100000005,-96.526602100000005,{"$f":"IF(OR(X660>=1.6*D660*AD660,D660=1),calcLoadFraction(G660,F660,I660,J660,K660,D660,1),\"Condition for spring model not fulfilled\")","v":0.51467514807732706},{"$f":"IF(L660>2,L660,IF(L660=2,1,sigma_cl0(I660+J660)))","v":1},{"$f":"Sigma_cl(AA660,U660,V660,X660)","v":0},{"$f":"Sigma_cl(AA660,U660,V660,Y660)","v":9.3627278976900996},{"$f":"sigma_Slip(AB660,W660,U660,IF(L660=1,mu_redLead,mu_millScale))","v":0},{"$f":"sigma_Slip(AC660,W660,U660,IF(L660=1,mu_redLead,mu_millScale))","v":2.351826851299482},{"$f":"Sigma_p(AB660,V660)","v":0},{"$f":"Sigma_p(AC660,V660)","v":-1.9677720884712651},{"$f":"beta_1(X660,AD660,Z660)","v":1},{"$f":"beta_1(Y660,AE660,Z660)","v":0.95266034072514394},{"$f":"k_tHole(W660,U660)","v":2.3732479999999998},{"$f":"K_t1Mu(Z660,AH660,D660,W660,U660,SIGN(X660),mu_millScale)","v":3.390060760978471},{"$f":"K_t1Mu(Z660,AI660,D660,W660,U660,SIGN(Y660),mu_millScale)","v":0.18579157714534933},{"$f":"Sigma_hMax(AK660,X660,AF660)","v":327.23104616979208},{"$f":"Sigma_hMin(X660,Y660,AG660,AE660,AK660,AL660,AJ660,AI660,Z660,IF(L660=1,mu_redLead,mu_millScale))","v":-26.78508167744554},354.01612784723761,-8.1853729928630992E-2,111.18279103781424,{"$f":"tau_n(N660,W660,U660,D660)","v":126.81131787019464},{"$f":"tau_hMax(X660,Z660,AH660,W660,U660)","v":65.266633802723419},{"$f":"tau_hMin(X660,Y660,AS660,AE660,Z660,AI660,IF(L660=1,mu_redLead,mu_millScale),W660,U660)","v":-62.176933596485696},127.44356739920912]
[649,"Parola1965","R; L",2,2,11.9,42.5,null,9.5500000000000007,12.2,85,2,448,206.8427188,0,106200,1,"4Fr 17","Reduced clamping",649,0.80252100840336138,0.54712643678160922,0.28000000000000003,206.8427188,0,{"$f":"IF(OR(X661>=1.6*D661*AD661,D661=1),calcLoadFraction(G661,F661,I661,J661,K661,D661,1),\"Condition for spring model not fulfilled\")","v":0.51467514807732706},{"$f":"IF(L661>2,L661,IF(L661=2,1,sigma_cl0(I661+J661)))","v":1},{"$f":"Sigma_cl(AA661,U661,V661,X661)","v":0},{"$f":"Sigma_cl(AA661,U661,V661,Y661)","v":1},{"$f":"sigma_Slip(AB661,W661,U661,IF(L661=1,mu_redLead,mu_millScale))","v":0},{"$f":"sigma_Slip(AC661,W661,U661,IF(L661=1,mu_redLead,mu_millScale))","v":0.25119034505741716},{"$f":"Sigma_p(AB661,V661)","v":0},{"$f":"Sigma_p(AC661,V661)","v":-0.21017080812064812},{"$f":"beta_1(X661,AD661,Z661)","v":1},{"$f":"beta_1(Y661,AE661,Z661)","v":0.51194390093287112},{"$f":"k_tHole(W661,U661)","v":2.3732479999999998},{"$f":"K_t1Mu(Z661,AH661,D661,W661,U661,SIGN(X661),mu_millScale)","v":3.390060760978471},{"$f":"K_t1Mu(Z661,AI661,D661,W661,U661,SIGN(Y661),mu_millScale)","v":0.85119388978422028},{"$f":"Sigma_hMax(AK661,X661,AF661)","v":701.20938469798386},{"$f":"Sigma_hMin(X661,Y661,AG661,AE661,AK661,AL661,AJ661,AI661,Z661,IF(L661=1,mu_redLead,mu_millScale))","v":0.60768085960288443},700.60170383838101,8.6661826390788696E-4,221.7286303558042,{"$f":"tau_n(N661,W661,U661,D661)","v":135.86926915602101},{"$f":"tau_hMax(X661,Z661,AH661,W661,U661)","v":139.85707244406663},{"$f":"tau_hMin(X661,Y661,AS661,AE661,Z661,AI661,IF(L661=1,mu_redLead,mu_millScale),W661,U661)","v":0.64060710267072507},139.21646534139592]
[650,"Parola1965","R; L",2,2,11.9,42.5,null,9.5500000000000007,12.2,85,2,448,158.57941769999999,0.5,98700,1,"4Fr 18","Reduced clamping",650,0.80252100840336138,0.54712643678160922,0.28000000000000003,317.15883539999999,158.57941769999999,{"$f":"IF(OR(X662>=1.6*D662*AD662,D662=1),calcLoadFraction(G662,F662,I662,J662,K662,D662,1),\"Condition for spring model not fulfilled\")","v":0.51467514807732706},{"$f":"IF(L662>2,L662,IF(L662=2,1,sigma_cl0(I662+J662)))","v":1},{"$f":"Sigma_cl(AA662,U662,V662,X662)","v":0},{"$f":"Sigma_cl(AA662,U662,V662,Y662)","v":0},{"$f":"sigma_Slip(AB662,W662,U662,IF(L662=1,mu_redLead,mu_millScale))","v":0},{"$f":"sigma_Slip(AC662,W662,U662,IF(L662=1,mu_redLead,mu_millScale))","v":0},{"$f":"Sigma_p(AB662,V662)","v":0},{"$f":"Sigma_p(AC662,V662)","v":0},{"$f":"beta_1(X662,AD662,Z662)","v":1},{"$f":"beta_1(Y662,AE662,Z662)","v":1},{"$f":"k_tHole(W662,U662)","v":2.3732479999999998},{"$f":"K_t1Mu(Z662,AH662,D662,W662,U662,SIGN(X662),mu_millScale)","v":3.390060760978471},{"$f":"K_t1Mu(Z662,AI662,D662,W662,U662,SIGN(Y662),mu_millScale)","v":3.390060760978471},{"$f":"Sigma_hMax(AK662,X662,AF662)","v":1075.1877228871697},{"$f":"Sigma_hMin(X662,Y662,AG662,AE662,AK662,AL662,AJ662,AI662,Z662,IF(L662=1,mu_redLead,mu_millScale))","v":448.89087430539331},626.29684858177643,0.41749999999999998,212.40061266212524,{"$f":"tau_n(N662,W662,U662,D662)","v":104.16643965562872},{"$f":"tau_hMax(X662,Z662,AH662,W662,U662)","v":214.44751101779468},{"$f":"tau_hMin(X662,Y662,AS662,AE662,Z662,AI662,IF(L662=1,mu_redLead,mu_millScale),W662,U662)","v":115.71890456924915},98.728606448545534]
[651,"Parola1965","R; L",2,2,11.9,42.5,null,9.5500000000000007,12.2,85,2,448,137.89514589999999,0.5,198400,1,"4Fr 22","Reduced clamping",651,0.80252100840336138,0.54712643678160922,0.28000000000000003,275.79029179999998,137.89514589999999,{"$f":"IF(OR(X663>=1.6*D663*AD663,D663=1),calcLoadFraction(G663,F663,I663,J663,K663,D663,1),\"Condition for spring model not fulfilled\")","v":0.51467514807732706},{"$f":"IF(L663>2,L663,IF(L663=2,1,sigma_cl0(I663+J663)))","v":1},{"$f":"Sigma_cl(AA663,U663,V663,X663)","v":0},{"$f":"Sigma_cl(AA663,U663,V663,Y663)","v":0},{"$f":"sigma_Slip(AB663,W663,U663,IF(L663=1,mu_redLead,mu_millScale))","v":0},{"$f":"sigma_Slip(AC663,W663,U663,IF(L663=1,mu_redLead,mu_millScale))","v":0},{"$f":"Sigma_p(AB663,V663)","v":0},{"$f":"Sigma_p(AC663,V663)","v":0},{"$f":"beta_1(X663,AD663,Z663)","v":1},{"$f":"beta_1(Y663,AE663,Z663)","v":1},{"$f":"k_tHole(W663,U663)","v":2.3732479999999998},{"$f":"K_t1Mu(Z663,AH663,D663,W663,U663,SIGN(X663),mu_millScale)","v":3.390060760978471},{"$f":"K_t1Mu(Z663,AI663,D663,W663,U663,SIGN(Y663),mu_millScale)","v":3.390060760978471},{"$f":"Sigma_hMax(AK663,X663,AF663)","v":934.9458464899825},{"$f":"Sigma_hMin(X663,Y663,AG663,AE663,AK663,AL663,AJ663,AI663,Z663,IF(L663=1,mu_redLead,mu_millScale))","v":390.33989090956771},544.60595558041473,0.41750000000000004,184.69618502258589,{"$f":"tau_n(N663,W663,U663,D663)","v":90.579512792576409},{"$f":"tau_hMax(X663,Z663,AH663,W663,U663)","v":186.47609663716563},{"$f":"tau_hMin(X663,Y663,AS663,AE663,Z663,AI663,IF(L663=1,mu_redLead,mu_millScale),W663,U663)","v":100.6251344619787},85.850962175186922]
[652,"Parola1965","R; L",2,2,11.9,42.5,null,9.5500000000000007,12.2,85,2,448,124.1056313,0.5,419300,1,"4Fr 23","Reduced clamping",652,0.80252100840336138,0.54712643678160922,0.28000000000000003,248.2112626,124.1056313,{"$f":"IF(OR(X664>=1.6*D664*AD664,D664=1),calcLoadFraction(G664,F664,I664,J664,K664,D664,1),\"Condition for spring model not fulfilled\")","v":0.51467514807732706},{"$f":"IF(L664>2,L664,IF(L664=2,1,sigma_cl0(I664+J664)))","v":1},{"$f":"Sigma_cl(AA664,U664,V664,X664)","v":0},{"$f":"Sigma_cl(AA664,U664,V664,Y664)","v":0},{"$f":"sigma_Slip(AB664,W664,U664,IF(L664=1,mu_redLead,mu_millScale))","v":0},{"$f":"sigma_Slip(AC664,W664,U664,IF(L664=1,mu_redLead,mu_millScale))","v":0},{"$f":"Sigma_p(AB664,V664)","v":0},{"$f":"Sigma_p(AC664,V664)","v":0},{"$f":"beta_1(X664,AD664,Z664)","v":1},{"$f":"beta_1(Y664,AE664,Z664)","v":1},{"$f":"k_tHole(W664,U664)","v":2.3732479999999998},{"$f":"K_t1Mu(Z664,AH664,D664,W664,U664,SIGN(X664),mu_millScale)","v":3.390060760978471},{"$f":"K_t1Mu(Z664,AI664,D664,W664,U664,SIGN(Y664),mu_millScale)","v":3.390060760978471},{"$f":"Sigma_hMax(AK664,X664,AF664)","v":841.45126177318309},{"$f":"Sigma_hMin(X664,Y664,AG664,AE664,AK664,AL664,AJ664,AI664,Z664,IF(L664=1,mu_redLead,mu_millScale))","v":351.30590179030395},490.14535998287914,0.41749999999999998,166.22656650693338,{"$f":"tau_n(N664,W664,U664,D664)","v":81.521561506750047},{"$f":"tau_hMax(X664,Z664,AH664,W664,U664)","v":167.82848695992604},{"$f":"tau_hMin(X664,Y664,AS664,AE664,Z664,AI664,IF(L664=1,mu_redLead,mu_millScale),W664,U664)","v":90.562621008483617},77.265865951442422]
[653,"Parola1965","R; L",2,2,11.9,42.5,null,9.5500000000000007,12.2,85,2,448,330.94835010000003,-1,52900,3,"4Fr 24","Reduced clamping",653,0.80252100840336138,0.54712643678160922,0.28000000000000003,165.47417505000001,-165.47417505000001,{"$f":"IF(OR(X665>=1.6*D665*AD665,D665=1),calcLoadFraction(G665,F665,I665,J665,K665,D665,1),\"Condition for spring model not fulfilled\")","v":0.51467514807732706},{"$f":"IF(L665>2,L665,IF(L665=2,1,sigma_cl0(I665+J665)))","v":1},{"$f":"Sigma_cl(AA665,U665,V665,X665)","v":0},{"$f":"Sigma_cl(AA665,U665,V665,Y665)","v":15.336104969325238},{"$f":"sigma_Slip(AB665,W665,U665,IF(L665=1,mu_redLead,mu_millScale))","v":0},{"$f":"sigma_Slip(AC665,W665,U665,IF(L665=1,mu_redLead,mu_millScale))","v":3.8522814990815761},{"$f":"Sigma_p(AB665,V665)","v":0},{"$f":"Sigma_p(AC665,V665)","v":-3.2232015748261729},{"$f":"beta_1(X665,AD665,Z665)","v":1},{"$f":"beta_1(Y665,AE665,Z665)","v":0.95476708335937477},{"$f":"k_tHole(W665,U665)","v":2.3732479999999998},{"$f":"K_t1Mu(Z665,AH665,D665,W665,U665,SIGN(X665),mu_millScale)","v":3.390060760978471},{"$f":"K_t1Mu(Z665,AI665,D665,W665,U665,SIGN(Y665),mu_millScale)","v":0.1834194697887426},{"$f":"Sigma_hMax(AK665,X665,AF665)","v":560.96750779228773},{"$f":"Sigma_hMin(X665,Y665,AG665,AE665,AK665,AL665,AJ665,AI665,Z665,IF(L665=1,mu_redLead,mu_millScale))","v":-44.873431396940568},605.84093918922827,-7.9992924320237246E-2,190.3017709017513,{"$f":"tau_n(N665,W665,U665,D665)","v":217.39083066277107},{"$f":"tau_hMax(X665,Z665,AH665,W665,U665)","v":111.88565796201483},{"$f":"tau_hMin(X665,Y665,AS665,AE665,Z665,AI665,IF(L665=1,mu_redLead,mu_millScale),W665,U665)","v":-106.82474332213751},218.71040128415234]
[654,"Jia_etal2022","R; S",1,1,11.5,30,null,4,8,35,2,null,200,0.1,85300,1,"BJ-1","Reduced clamping",654,0.34782608695652173,0.95833333333333337,0.38333333333333336,222.22222222222223,22.222222222222225,{"$f":"IF(OR(X666>=1.6*D666*AD666,D666=1),calcLoadFraction(G666,F666,I666,J666,K666,D666,1),\"Condition for spring model not fulfilled\")","v":1},{"$f":"IF(L666>2,L666,IF(L666=2,1,sigma_cl0(I666+J666)))","v":1},{"$f":"Sigma_cl(AA666,U666,V666,X666)","v":0},{"$f":"Sigma_cl(AA666,U666,V666,Y666)","v":0},{"$f":"sigma_Slip(AB666,W666,U666,IF(L666=1,mu_redLead,mu_millScale))","v":0},{"$f":"sigma_Slip(AC666,W666,U666,IF(L666=1,mu_redLead,mu_millScale))","v":0},{"$f":"Sigma_p(AB666,V666)","v":0},{"$f":"Sigma_p(AC666,V666)","v":0},{"$f":"beta_1(X666,AD666,Z666)","v":1},{"$f":"beta_1(Y666,AE666,Z666)","v":1},{"$f":"k_tHole(W666,U666)","v":2.2345046296296296},{"$f":"K_t1Mu(Z666,AH666,D666,W666,U666,SIGN(X666),mu_millScale)","v":3.801161042162168},{"$f":"K_t1Mu(Z666,AI666,D666,W666,U666,SIGN(Y666),mu_millScale)","v":3.801161042162168},{"$f":"Sigma_hMax(AK666,X666,AF666)","v":844.70245381381517},{"$f":"Sigma_hMin(X666,Y666,AG666,AE666,AK666,AL666,AJ666,AI666,Z666,IF(L666=1,mu_redLead,mu_millScale))","v":59.382582503111209},785.319871310704,7.0300000000000001E-2,250.39814226614402,{"$f":"tau_n(N666,W666,U666,D666)","v":71.243649238679069},{"$f":"tau_hMax(X666,Z666,AH666,W666,U666)","v":79.159610265198964},{"$f":"tau_hMin(X666,Y666,AS666,AE666,Z666,AI666,IF(L666=1,mu_redLead,mu_millScale),W666,U666)","v":10.197733243634577},68.961877021564391]
[655,"Jia_etal2022","R; S",1,1,11.5,30,null,4,8,35,2,null,160,0.1,238900,1,"BJ-2","Reduced clamping",655,0.34782608695652173,0.95833333333333337,0.38333333333333336,177.77777777777777,17.777777777777779,{"$f":"IF(OR(X667>=1.6*D667*AD667,D667=1),calcLoadFraction(G667,F667,I667,J667,K667,D667,1),\"Condition for spring model not fulfilled\")","v":1},{"$f":"IF(L667>2,L667,IF(L667=2,1,sigma_cl0(I667+J667)))","v":1},{"$f":"Sigma_cl(AA667,U667,V667,X667)","v":0},{"$f":"Sigma_cl(AA667,U667,V667,Y667)","v":7.0317564812059183E-2},{"$f":"sigma_Slip(AB667,W667,U667,IF(L667=1,mu_redLead,mu_millScale))","v":0},{"$f":"sigma_Slip(AC667,W667,U667,IF(L667=1,mu_redLead,mu_millScale))","v":6.5142076903554669E-2},{"$f":"Sigma_p(AB667,V667)","v":0},{"$f":"Sigma_p(AC667,V667)","v":-2.5905371559100904E-2},{"$f":"beta_1(X667,AD667,Z667)","v":1},{"$f":"beta_1(Y667,AE667,Z667)","v":0.99633575817417508},{"$f":"k_tHole(W667,U667)","v":2.2345046296296296},{"$f":"K_t1Mu(Z667,AH667,D667,W667,U667,SIGN(X667),mu_millScale)","v":3.801161042162168},{"$f":"K_t1Mu(Z667,AI667,D667,W667,U667,SIGN(Y667),mu_millScale)","v":3.8010891023029125},{"$f":"Sigma_hMax(AK667,X667,AF667)","v":675.76196305105202},{"$f":"Sigma_hMin(X667,Y667,AG667,AE667,AK667,AL667,AJ667,AI667,Z667,IF(L667=1,mu_redLead,mu_millScale))","v":47.728499862247752},628.03346318880426,7.0629160076951525E-2,200.25516239716109,{"$f":"tau_n(N667,W667,U667,D667)","v":56.994919390943252},{"$f":"tau_hMax(X667,Z667,AH667,W667,U667)","v":63.327688212159167},{"$f":"tau_hMin(X667,Y667,AS667,AE667,Z667,AI667,IF(L667=1,mu_redLead,mu_millScale),W667,U667)","v":8.1821182379580399},55.145569974201123]
[656,"Jia_etal2022","R; S",1,1,11.5,30,null,4,8,35,2,null,140,0.1,442600,1,"BJ-3","Reduced clamping",656,0.34782608695652173,0.95833333333333337,0.38333333333333336,155.55555555555554,15.555555555555555,{"$f":"IF(OR(X668>=1.6*D668*AD668,D668=1),calcLoadFraction(G668,F668,I668,J668,K668,D668,1),\"Condition for spring model not fulfilled\")","v":1},{"$f":"IF(L668>2,L668,IF(L668=2,1,sigma_cl0(I668+J668)))","v":1},{"$f":"Sigma_cl(AA668,U668,V668,X668)","v":0},{"$f":"Sigma_cl(AA668,U668,V668,Y668)","v":0.18652786921055184},{"$f":"sigma_Slip(AB668,W668,U668,IF(L668=1,mu_redLead,mu_millScale))","v":0},{"$f":"sigma_Slip(AC668,W668,U668,IF(L668=1,mu_redLead,mu_millScale))","v":0.17279911261497694},{"$f":"Sigma_p(AB668,V668)","v":0},{"$f":"Sigma_p(AC668,V668)","v":-6.8717876834068659E-2},{"$f":"beta_1(X668,AD668,Z668)","v":1},{"$f":"beta_1(Y668,AE668,Z668)","v":0.98889148561760865},{"$f":"k_tHole(W668,U668)","v":2.2345046296296296},{"$f":"K_t1Mu(Z668,AH668,D668,W668,U668,SIGN(X668),mu_millScale)","v":3.801161042162168},{"$f":"K_t1Mu(Z668,AI668,D668,W668,U668,SIGN(Y668),mu_millScale)","v":3.8005023374133753},{"$f":"Sigma_hMax(AK668,X668,AF668)","v":591.29171766967056},{"$f":"Sigma_hMin(X668,Y668,AG668,AE668,AK668,AL668,AJ668,AI668,Z668,IF(L668=1,mu_redLead,mu_millScale))","v":42.159442635892468},549.13227503377811,7.1300580366737268E-2,175.11019598017955,{"$f":"tau_n(N668,W668,U668,D668)","v":49.870554467075344},{"$f":"tau_hMax(X668,Z668,AH668,W668,U668)","v":55.411727185639265},{"$f":"tau_hMin(X668,Y668,AS668,AE668,Z668,AI668,IF(L668=1,mu_redLead,mu_millScale),W668,U668)","v":7.2018251005624689},48.209902085076799]
[657,"Jia_etal2022","R; S",1,1,11.5,30,null,4,8,35,2,null,120,0.1,5000000,0,"BJ-4","Reduced clamping",657,0.34782608695652173,0.95833333333333337,0.38333333333333336,133.33333333333334,13.333333333333336,{"$f":"IF(OR(X669>=1.6*D669*AD669,D669=1),calcLoadFraction(G669,F669,I669,J669,K669,D669,1),\"Condition for spring model not fulfilled\")","v":1},{"$f":"IF(L669>2,L669,IF(L669=2,1,sigma_cl0(I669+J669)))","v":1},{"$f":"Sigma_cl(AA669,U669,V669,X669)","v":0},{"$f":"Sigma_cl(AA669,U669,V669,Y669)","v":0.30273817360904431},{"$f":"sigma_Slip(AB669,W669,U669,IF(L669=1,mu_redLead,mu_millScale))","v":0},{"$f":"sigma_Slip(AC669,W669,U669,IF(L669=1,mu_redLead,mu_millScale))","v":0.28045614832639904},{"$f":"Sigma_p(AB669,V669)","v":0},{"$f":"Sigma_p(AC669,V669)","v":-0.11153038210903633},{"$f":"beta_1(X669,AD669,Z669)","v":1},{"$f":"beta_1(Y669,AE669,Z669)","v":0.9789657888755201},{"$f":"k_tHole(W669,U669)","v":2.2345046296296296},{"$f":"K_t1Mu(Z669,AH669,D669,W669,U669,SIGN(X669),mu_millScale)","v":3.801161042162168},{"$f":"K_t1Mu(Z669,AI669,D669,W669,U669,SIGN(Y669),mu_millScale)","v":3.7988110928951366},{"$f":"Sigma_hMax(AK669,X669,AF669)","v":506.8214722882891},{"$f":"Sigma_hMin(X669,Y669,AG669,AE669,AK669,AL669,AJ669,AI669,Z669,IF(L669=1,mu_redLead,mu_millScale))","v":36.593116884794483},470.22835540349462,7.2201196842701376E-2,149.96445161138419,{"$f":"tau_n(N669,W669,U669,D669)","v":42.746189543207436},{"$f":"tau_hMax(X669,Z669,AH669,W669,U669)","v":47.495766159119377},{"$f":"tau_hMin(X669,Y669,AS669,AE669,Z669,AI669,IF(L669=1,mu_redLead,mu_millScale),W669,U669)","v":6.2214067273441032},41.274359431775274]
[658,"Jia_etal2022","R; S",1,1,11.5,30,null,4,8,35,2,null,120,0.1,833900,1,"BJ-5","Reduced clamping",658,0.34782608695652173,0.95833333333333337,0.38333333333333336,133.33333333333334,13.333333333333336,{"$f":"IF(OR(X670>=1.6*D670*AD670,D670=1),calcLoadFraction(G670,F670,I670,J670,K670,D670,1),\"Condition for spring model not fulfilled\")","v":1},{"$f":"IF(L670>2,L670,IF(L670=2,1,sigma_cl0(I670+J670)))","v":1},{"$f":"Sigma_cl(AA670,U670,V670,X670)","v":0},{"$f":"Sigma_cl(AA670,U670,V670,Y670)","v":0.30273817360904431},{"$f":"sigma_Slip(AB670,W670,U670,IF(L670=1,mu_redLead,mu_millScale))","v":0},{"$f":"sigma_Slip(AC670,W670,U670,IF(L670=1,mu_redLead,mu_millScale))","v":0.28045614832639904},{"$f":"Sigma_p(AB670,V670)","v":0},{"$f":"Sigma_p(AC670,V670)","v":-0.11153038210903633},{"$f":"beta_1(X670,AD670,Z670)","v":1},{"$f":"beta_1(Y670,AE670,Z670)","v":0.9789657888755201},{"$f":"k_tHole(W670,U670)","v":2.2345046296296296},{"$f":"K_t1Mu(Z670,AH670,D670,W670,U670,SIGN(X670),mu_millScale)","v":3.801161042162168},{"$f":"K_t1Mu(Z670,AI670,D670,W670,U670,SIGN(Y670),mu_millScale)","v":3.7988110928951366},{"$f":"Sigma_hMax(AK670,X670,AF670)","v":506.8214722882891},{"$f":"Sigma_hMin(X670,Y670,AG670,AE670,AK670,AL670,AJ670,AI670,Z670,IF(L670=1,mu_redLead,mu_millScale))","v":36.593116884794483},470.22835540349462,7.2201196842701376E-2,149.96445161138419,{"$f":"tau_n(N670,W670,U670,D670)","v":42.746189543207436},{"$f":"tau_hMax(X670,Z670,AH670,W670,U670)","v":47.495766159119377},{"$f":"tau_hMin(X670,Y670,AS670,AE670,Z670,AI670,IF(L670=1,mu_redLead,mu_millScale),W670,U670)","v":6.2214067273441032},41.274359431775274]
[659,"Jia_etal2022","R; S",1,1,11.5,30,null,4,8,35,2,null,100,0.1,5175500,0,"BJ-6","Reduced clamping",659,0.34782608695652173,0.95833333333333337,0.38333333333333336,111.11111111111111,11.111111111111112,{"$f":"IF(OR(X671>=1.6*D671*AD671,D671=1),calcLoadFraction(G671,F671,I671,J671,K671,D671,1),\"Condition for spring model not fulfilled\")","v":1},{"$f":"IF(L671>2,L671,IF(L671=2,1,sigma_cl0(I671+J671)))","v":1},{"$f":"Sigma_cl(AA671,U671,V671,X671)","v":0},{"$f":"Sigma_cl(AA671,U671,V671,Y671)","v":0.41894847800753693},{"$f":"sigma_Slip(AB671,W671,U671,IF(L671=1,mu_redLead,mu_millScale))","v":0},{"$f":"sigma_Slip(AC671,W671,U671,IF(L671=1,mu_redLead,mu_millScale))","v":0.3881131840378213},{"$f":"Sigma_p(AB671,V671)","v":0},{"$f":"Sigma_p(AC671,V671)","v":-0.15434288738400406},{"$f":"beta_1(X671,AD671,Z671)","v":1},{"$f":"beta_1(Y671,AE671,Z671)","v":0.96506981343659604},{"$f":"k_tHole(W671,U671)","v":2.2345046296296296},{"$f":"K_t1Mu(Z671,AH671,D671,W671,U671,SIGN(X671),mu_millScale)","v":3.801161042162168},{"$f":"K_t1Mu(Z671,AI671,D671,W671,U671,SIGN(Y671),mu_millScale)","v":3.7947260571866379},{"$f":"Sigma_hMax(AK671,X671,AF671)","v":422.35122690690758},{"$f":"Sigma_hMin(X671,Y671,AG671,AE671,AK671,AL671,AJ671,AI671,Z671,IF(L671=1,mu_redLead,mu_millScale))","v":31.030879745936289},391.32034716097132,7.3471740506571209E-2,124.81754276441929,{"$f":"tau_n(N671,W671,U671,D671)","v":35.621824619339534},{"$f":"tau_hMax(X671,Z671,AH671,W671,U671)","v":39.579805132599482},{"$f":"tau_hMin(X671,Y671,AS671,AE671,Z671,AI671,IF(L671=1,mu_redLead,mu_millScale),W671,U671)","v":5.2407894703790081},34.339015662220476]
[648,"Wichtowski 2007","B; L",1,1,8,45,null,6,12,80,160,465,159.93579703143993,0.1,2557000,3,1,"Fitted bolts; σcl,0 derived from torque",648,0.75,0.44444444444444442,0.17777777777777778,{"$f":"N672/(1-O672)","v":177.70644114604437},{"$f":"X672*O672","v":17.770644114604437},{"$f":"IF(OR(X672>=1.6*D672*AD672,D672=1),calcLoadFraction(G672,F672,I672,J672,K672,D672,1),\"Condition for spring model not fulfilled\")","v":0.99999999999999989},{"$f":"IF(L672>2,L672,IF(L672=2,1,sigma_cl0(I672+J672)))","v":160},{"$f":"Sigma_cl(AA672,U672,V672,X672)","v":147.42165511537493},{"$f":"Sigma_cl(AA672,U672,V672,Y672)","v":158.74216551153751},{"$f":"sigma_Slip(AB672,W672,U672,IF(L672=1,mu_redLead,mu_millScale))","v":22.030385669148743},{"$f":"sigma_Slip(AC672,W672,U672,IF(L672=1,mu_redLead,mu_millScale))","v":23.722099208817578},{"$f":"Sigma_p(AB672,V672)","v":-24.576127311446161},{"$f":"Sigma_p(AC672,V672)","v":-26.463328377727134},{"$f":"beta_1(X672,AD672,Z672)","v":0.87602933508165004},{"$f":"beta_1(Y672,AE672,Z672)","v":0},{"$f":"k_tHole(W672,U672)","v":2.5558628257887515},{"$f":"K_t1Mu(Z672,AH672,D672,W672,U672,SIGN(X672),mu_millScale)","v":6.3729322437849909},{"$f":"K_t1Mu(Z672,AI672,D672,W672,U672,SIGN(Y672),mu_millScale)","v":1.277931412894376},{"$f":"Sigma_hMax(AK672,X672,AF672)","v":1107.9349813964598},{"$f":"Sigma_hMin(X672,Y672,AG672,AE672,AK672,AL672,AJ672,AI672,Z672,IF(L672=1,mu_redLead,mu_millScale))","v":179.54698539309985},{"$f":"(AM672-AN672)","v":928.38799600335994},{"$f":"AN672/AM672","v":0.16205552528614614},299.47553624768034,{"$f":"tau_n(N672,W672,U672,D672)","v":353.1821951435341},{"$f":"tau_hMax(X672,Z672,AH672,W672,U672)","v":343.77551508251969},{"$f":"tau_hMin(X672,Y672,AS672,AE672,Z672,AI672,IF(L672=1,mu_redLead,mu_millScale),W672,U672)","v":84.256314686870937},259.51920039564874]
[649,"Wichtowski 2007","B; L",1,1,8,45,null,6,12,80,160,465,159.93579703143993,0.1,3034000,0,2,"Fitted bolts; σcl,0 derived from torque",649,{"$f":"I673/F673","v":0.75},{"$f":"F673/(J673+I673)","v":0.44444444444444442},{"$f":"F673/G673","v":0.17777777777777778},{"$f":"N673/(1-O673)","v":177.70644114604437},{"$f":"X673*O673","v":17.770644114604437},{"$f":"IF(OR(X673>=1.6*D673*AD673,D673=1),calcLoadFraction(G673,F673,I673,J673,K673,D673,1),\"Condition for spring model not fulfilled\")","v":0.99999999999999989},{"$f":"IF(L673>2,L673,IF(L673=2,1,sigma_cl0(I673+J673)))","v":160},{"$f":"Sigma_cl(AA673,U673,V673,X673)","v":147.42165511537493},{"$f":"Sigma_cl(AA673,U673,V673,Y673)","v":158.74216551153751},{"$f":"sigma_Slip(AB673,W673,U673,IF(L673=1,mu_redLead,mu_millScale))","v":22.030385669148743},{"$f":"sigma_Slip(AC673,W673,U673,IF(L673=1,mu_redLead,mu_millScale))","v":23.722099208817578},{"$f":"Sigma_p(AB673,V673)","v":-24.576127311446161},{"$f":"Sigma_p(AC673,V673)","v":-26.463328377727134},{"$f":"beta_1(X673,AD673,Z673)","v":0.87602933508165004},{"$f":"beta_1(Y673,AE673,Z673)","v":0},{"$f":"k_tHole(W673,U673)","v":2.5558628257887515},{"$f":"K_t1Mu(Z673,AH673,D673,W673,U673,SIGN(X673),mu_millScale)","v":6.3729322437849909},{"$f":"K_t1Mu(Z673,AI673,D673,W673,U673,SIGN(Y673),mu_millScale)","v":1.277931412894376},{"$f":"Sigma_hMax(AK673,X673,AF673)","v":1107.9349813964598},{"$f":"Sigma_hMin(X673,Y673,AG673,AE673,AK673,AL673,AJ673,AI673,Z673,IF(L673=1,mu_redLead,mu_millScale))","v":179.54698539309985},{"$f":"(AM673-AN673)","v":928.38799600335994},{"$f":"AN673/AM673","v":0.16205552528614614},299.47553624768034,{"$f":"tau_n(N673,W673,U673,D673)","v":353.1821951435341},{"$f":"tau_hMax(X673,Z673,AH673,W673,U673)","v":343.77551508251969},{"$f":"tau_hMin(X673,Y673,AS673,AE673,Z673,AI673,IF(L673=1,mu_redLead,mu_millScale),W673,U673)","v":84.256314686870937},259.51920039564874]
[650,"Wichtowski 2007","B; L",1,1,8,45,null,6,12,80,160,465,159.93579703143993,0.1,3320000,0,3,"Fitted bolts; σcl,0 derived from torque",650,0.75,0.44444444444444442,0.17777777777777778,177.70644114604437,17.770644114604437,{"$f":"IF(OR(X674>=1.6*D674*AD674,D674=1),calcLoadFraction(G674,F674,I674,J674,K674,D674,1),\"Condition for spring model not fulfilled\")","v":0.99999999999999989},{"$f":"IF(L674>2,L674,IF(L674=2,1,sigma_cl0(I674+J674)))","v":160},{"$f":"Sigma_cl(AA674,U674,V674,X674)","v":147.42165511537493},{"$f":"Sigma_cl(AA674,U674,V674,Y674)","v":158.74216551153751},{"$f":"sigma_Slip(AB674,W674,U674,IF(L674=1,mu_redLead,mu_millScale))","v":22.030385669148743},{"$f":"sigma_Slip(AC674,W674,U674,IF(L674=1,mu_redLead,mu_millScale))","v":23.722099208817578},{"$f":"Sigma_p(AB674,V674)","v":-24.576127311446161},{"$f":"Sigma_p(AC674,V674)","v":-26.463328377727134},{"$f":"beta_1(X674,AD674,Z674)","v":0.87602933508165004},{"$f":"beta_1(Y674,AE674,Z674)","v":0},{"$f":"k_tHole(W674,U674)","v":2.5558628257887515},{"$f":"K_t1Mu(Z674,AH674,D674,W674,U674,SIGN(X674),mu_millScale)","v":6.3729322437849909},{"$f":"K_t1Mu(Z674,AI674,D674,W674,U674,SIGN(Y674),mu_millScale)","v":1.277931412894376},{"$f":"Sigma_hMax(AK674,X674,AF674)","v":1107.9349813964598},{"$f":"Sigma_hMin(X674,Y674,AG674,AE674,AK674,AL674,AJ674,AI674,Z674,IF(L674=1,mu_redLead,mu_millScale))","v":179.54698539309985},928.38799600335994,0.16205552528614614,299.47553624768034,{"$f":"tau_n(N674,W674,U674,D674)","v":353.1821951435341},{"$f":"tau_hMax(X674,Z674,AH674,W674,U674)","v":343.77551508251969},{"$f":"tau_hMin(X674,Y674,AS674,AE674,Z674,AI674,IF(L674=1,mu_redLead,mu_millScale),W674,U674)","v":84.256314686870937},259.51920039564874]
[651,"Wichtowski 2007","B; L",1,1,8,45,null,6,12,80,160,465,159.93579703143993,0.1,1295000,3,4,"Fitted bolts; σcl,0 derived from torque",651,0.75,0.44444444444444442,0.17777777777777778,177.70644114604437,17.770644114604437,{"$f":"IF(OR(X675>=1.6*D675*AD675,D675=1),calcLoadFraction(G675,F675,I675,J675,K675,D675,1),\"Condition for spring model not fulfilled\")","v":0.99999999999999989},{"$f":"IF(L675>2,L675,IF(L675=2,1,sigma_cl0(I675+J675)))","v":160},{"$f":"Sigma_cl(AA675,U675,V675,X675)","v":147.42165511537493},{"$f":"Sigma_cl(AA675,U675,V675,Y675)","v":158.74216551153751},{"$f":"sigma_Slip(AB675,W675,U675,IF(L675=1,mu_redLead,mu_millScale))","v":22.030385669148743},{"$f":"sigma_Slip(AC675,W675,U675,IF(L675=1,mu_redLead,mu_millScale))","v":23.722099208817578},{"$f":"Sigma_p(AB675,V675)","v":-24.576127311446161},{"$f":"Sigma_p(AC675,V675)","v":-26.463328377727134},{"$f":"beta_1(X675,AD675,Z675)","v":0.87602933508165004},{"$f":"beta_1(Y675,AE675,Z675)","v":0},{"$f":"k_tHole(W675,U675)","v":2.5558628257887515},{"$f":"K_t1Mu(Z675,AH675,D675,W675,U675,SIGN(X675),mu_millScale)","v":6.3729322437849909},{"$f":"K_t1Mu(Z675,AI675,D675,W675,U675,SIGN(Y675),mu_millScale)","v":1.277931412894376},{"$f":"Sigma_hMax(AK675,X675,AF675)","v":1107.9349813964598},{"$f":"Sigma_hMin(X675,Y675,AG675,AE675,AK675,AL675,AJ675,AI675,Z675,IF(L675=1,mu_redLead,mu_millScale))","v":179.54698539309985},928.38799600335994,0.16205552528614614,299.47553624768034,{"$f":"tau_n(N675,W675,U675,D675)","v":353.1821951435341},{"$f":"tau_hMax(X675,Z675,AH675,W675,U675)","v":343.77551508251969},{"$f":"tau_hMin(X675,Y675,AS675,AE675,Z675,AI675,IF(L675=1,mu_redLead,mu_millScale),W675,U675)","v":84.256314686870937},259.51920039564874]
[652,"Wichtowski 2007","B; L",1,1,8,45,null,6,12,80,160,465,159.93579703143993,0.1,1413000,3,5,"Fitted bolts; σcl,0 derived from torque",652,0.75,0.44444444444444442,0.17777777777777778,177.70644114604437,17.770644114604437,{"$f":"IF(OR(X676>=1.6*D676*AD676,D676=1),calcLoadFraction(G676,F676,I676,J676,K676,D676,1),\"Condition for spring model not fulfilled\")","v":0.99999999999999989},{"$f":"IF(L676>2,L676,IF(L676=2,1,sigma_cl0(I676+J676)))","v":160},{"$f":"Sigma_cl(AA676,U676,V676,X676)","v":147.42165511537493},{"$f":"Sigma_cl(AA676,U676,V676,Y676)","v":158.74216551153751},{"$f":"sigma_Slip(AB676,W676,U676,IF(L676=1,mu_redLead,mu_millScale))","v":22.030385669148743},{"$f":"sigma_Slip(AC676,W676,U676,IF(L676=1,mu_redLead,mu_millScale))","v":23.722099208817578},{"$f":"Sigma_p(AB676,V676)","v":-24.576127311446161},{"$f":"Sigma_p(AC676,V676)","v":-26.463328377727134},{"$f":"beta_1(X676,AD676,Z676)","v":0.87602933508165004},{"$f":"beta_1(Y676,AE676,Z676)","v":0},{"$f":"k_tHole(W676,U676)","v":2.5558628257887515},{"$f":"K_t1Mu(Z676,AH676,D676,W676,U676,SIGN(X676),mu_millScale)","v":6.3729322437849909},{"$f":"K_t1Mu(Z676,AI676,D676,W676,U676,SIGN(Y676),mu_millScale)","v":1.277931412894376},{"$f":"Sigma_hMax(AK676,X676,AF676)","v":1107.9349813964598},{"$f":"Sigma_hMin(X676,Y676,AG676,AE676,AK676,AL676,AJ676,AI676,Z676,IF(L676=1,mu_redLead,mu_millScale))","v":179.54698539309985},928.38799600335994,0.16205552528614614,299.47553624768034,{"$f":"tau_n(N676,W676,U676,D676)","v":353.1821951435341},{"$f":"tau_hMax(X676,Z676,AH676,W676,U676)","v":343.77551508251969},{"$f":"tau_hMin(X676,Y676,AS676,AE676,Z676,AI676,IF(L676=1,mu_redLead,mu_millScale),W676,U676)","v":84.256314686870937},259.51920039564874]
[653,"Wichtowski 2007","B; L",1,1,8,45,null,6,12,80,160,465,159.93579703143993,0.1,1441000,3,6,"Fitted bolts; σcl,0 derived from torque",653,0.75,0.44444444444444442,0.17777777777777778,177.70644114604437,17.770644114604437,{"$f":"IF(OR(X677>=1.6*D677*AD677,D677=1),calcLoadFraction(G677,F677,I677,J677,K677,D677,1),\"Condition for spring model not fulfilled\")","v":0.99999999999999989},{"$f":"IF(L677>2,L677,IF(L677=2,1,sigma_cl0(I677+J677)))","v":160},{"$f":"Sigma_cl(AA677,U677,V677,X677)","v":147.42165511537493},{"$f":"Sigma_cl(AA677,U677,V677,Y677)","v":158.74216551153751},{"$f":"sigma_Slip(AB677,W677,U677,IF(L677=1,mu_redLead,mu_millScale))","v":22.030385669148743},{"$f":"sigma_Slip(AC677,W677,U677,IF(L677=1,mu_redLead,mu_millScale))","v":23.722099208817578},{"$f":"Sigma_p(AB677,V677)","v":-24.576127311446161},{"$f":"Sigma_p(AC677,V677)","v":-26.463328377727134},{"$f":"beta_1(X677,AD677,Z677)","v":0.87602933508165004},{"$f":"beta_1(Y677,AE677,Z677)","v":0},{"$f":"k_tHole(W677,U677)","v":2.5558628257887515},{"$f":"K_t1Mu(Z677,AH677,D677,W677,U677,SIGN(X677),mu_millScale)","v":6.3729322437849909},{"$f":"K_t1Mu(Z677,AI677,D677,W677,U677,SIGN(Y677),mu_millScale)","v":1.277931412894376},{"$f":"Sigma_hMax(AK677,X677,AF677)","v":1107.9349813964598},{"$f":"Sigma_hMin(X677,Y677,AG677,AE677,AK677,AL677,AJ677,AI677,Z677,IF(L677=1,mu_redLead,mu_millScale))","v":179.54698539309985},928.38799600335994,0.16205552528614614,299.47553624768034,{"$f":"tau_n(N677,W677,U677,D677)","v":353.1821951435341},{"$f":"tau_hMax(X677,Z677,AH677,W677,U677)","v":343.77551508251969},{"$f":"tau_hMin(X677,Y677,AS677,AE677,Z677,AI677,IF(L677=1,mu_redLead,mu_millScale),W677,U677)","v":84.256314686870937},259.51920039564874]
[654,"Wichtowski 2007","B; L",1,1,8,45,null,6,12,80,160,465,159.93579703143993,0.1,456000,3,7,"Fitted bolts; σcl,0 derived from torque",654,0.75,0.44444444444444442,0.17777777777777778,177.70644114604437,17.770644114604437,{"$f":"IF(OR(X678>=1.6*D678*AD678,D678=1),calcLoadFraction(G678,F678,I678,J678,K678,D678,1),\"Condition for spring model not fulfilled\")","v":0.99999999999999989},{"$f":"IF(L678>2,L678,IF(L678=2,1,sigma_cl0(I678+J678)))","v":160},{"$f":"Sigma_cl(AA678,U678,V678,X678)","v":147.42165511537493},{"$f":"Sigma_cl(AA678,U678,V678,Y678)","v":158.74216551153751},{"$f":"sigma_Slip(AB678,W678,U678,IF(L678=1,mu_redLead,mu_millScale))","v":22.030385669148743},{"$f":"sigma_Slip(AC678,W678,U678,IF(L678=1,mu_redLead,mu_millScale))","v":23.722099208817578},{"$f":"Sigma_p(AB678,V678)","v":-24.576127311446161},{"$f":"Sigma_p(AC678,V678)","v":-26.463328377727134},{"$f":"beta_1(X678,AD678,Z678)","v":0.87602933508165004},{"$f":"beta_1(Y678,AE678,Z678)","v":0},{"$f":"k_tHole(W678,U678)","v":2.5558628257887515},{"$f":"K_t1Mu(Z678,AH678,D678,W678,U678,SIGN(X678),mu_millScale)","v":6.3729322437849909},{"$f":"K_t1Mu(Z678,AI678,D678,W678,U678,SIGN(Y678),mu_millScale)","v":1.277931412894376},{"$f":"Sigma_hMax(AK678,X678,AF678)","v":1107.9349813964598},{"$f":"Sigma_hMin(X678,Y678,AG678,AE678,AK678,AL678,AJ678,AI678,Z678,IF(L678=1,mu_redLead,mu_millScale))","v":179.54698539309985},928.38799600335994,0.16205552528614614,299.47553624768034,{"$f":"tau_n(N678,W678,U678,D678)","v":353.1821951435341},{"$f":"tau_hMax(X678,Z678,AH678,W678,U678)","v":343.77551508251969},{"$f":"tau_hMin(X678,Y678,AS678,AE678,Z678,AI678,IF(L678=1,mu_redLead,mu_millScale),W678,U678)","v":84.256314686870937},259.51920039564874]
[655,"Wichtowski 2007","B; L",1,1,8,45,null,6,12,80,160,465,159.93579703143993,0.1,483000,3,8,"Fitted bolts; σcl,0 derived from torque",655,0.75,0.44444444444444442,0.17777777777777778,177.70644114604437,17.770644114604437,{"$f":"IF(OR(X679>=1.6*D679*AD679,D679=1),calcLoadFraction(G679,F679,I679,J679,K679,D679,1),\"Condition for spring model not fulfilled\")","v":0.99999999999999989},{"$f":"IF(L679>2,L679,IF(L679=2,1,sigma_cl0(I679+J679)))","v":160},{"$f":"Sigma_cl(AA679,U679,V679,X679)","v":147.42165511537493},{"$f":"Sigma_cl(AA679,U679,V679,Y679)","v":158.74216551153751},{"$f":"sigma_Slip(AB679,W679,U679,IF(L679=1,mu_redLead,mu_millScale))","v":22.030385669148743},{"$f":"sigma_Slip(AC679,W679,U679,IF(L679=1,mu_redLead,mu_millScale))","v":23.722099208817578},{"$f":"Sigma_p(AB679,V679)","v":-24.576127311446161},{"$f":"Sigma_p(AC679,V679)","v":-26.463328377727134},{"$f":"beta_1(X679,AD679,Z679)","v":0.87602933508165004},{"$f":"beta_1(Y679,AE679,Z679)","v":0},{"$f":"k_tHole(W679,U679)","v":2.5558628257887515},{"$f":"K_t1Mu(Z679,AH679,D679,W679,U679,SIGN(X679),mu_millScale)","v":6.3729322437849909},{"$f":"K_t1Mu(Z679,AI679,D679,W679,U679,SIGN(Y679),mu_millScale)","v":1.277931412894376},{"$f":"Sigma_hMax(AK679,X679,AF679)","v":1107.9349813964598},{"$f":"Sigma_hMin(X679,Y679,AG679,AE679,AK679,AL679,AJ679,AI679,Z679,IF(L679=1,mu_redLead,mu_millScale))","v":179.54698539309985},928.38799600335994,0.16205552528614614,299.47553624768034,{"$f":"tau_n(N679,W679,U679,D679)","v":353.1821951435341},{"$f":"tau_hMax(X679,Z679,AH679,W679,U679)","v":343.77551508251969},{"$f":"tau_hMin(X679,Y679,AS679,AE679,Z679,AI679,IF(L679=1,mu_redLead,mu_millScale),W679,U679)","v":84.256314686870937},259.51920039564874]
[656,"Wichtowski 2007","B; L",1,1,8,45,null,6,12,80,160,465,159.93579703143993,0.1,493000,3,9,"Fitted bolts; σcl,0 derived from torque",656,0.75,0.44444444444444442,0.17777777777777778,177.70644114604437,17.770644114604437,{"$f":"IF(OR(X680>=1.6*D680*AD680,D680=1),calcLoadFraction(G680,F680,I680,J680,K680,D680,1),\"Condition for spring model not fulfilled\")","v":0.99999999999999989},{"$f":"IF(L680>2,L680,IF(L680=2,1,sigma_cl0(I680+J680)))","v":160},{"$f":"Sigma_cl(AA680,U680,V680,X680)","v":147.42165511537493},{"$f":"Sigma_cl(AA680,U680,V680,Y680)","v":158.74216551153751},{"$f":"sigma_Slip(AB680,W680,U680,IF(L680=1,mu_redLead,mu_millScale))","v":22.030385669148743},{"$f":"sigma_Slip(AC680,W680,U680,IF(L680=1,mu_redLead,mu_millScale))","v":23.722099208817578},{"$f":"Sigma_p(AB680,V680)","v":-24.576127311446161},{"$f":"Sigma_p(AC680,V680)","v":-26.463328377727134},{"$f":"beta_1(X680,AD680,Z680)","v":0.87602933508165004},{"$f":"beta_1(Y680,AE680,Z680)","v":0},{"$f":"k_tHole(W680,U680)","v":2.5558628257887515},{"$f":"K_t1Mu(Z680,AH680,D680,W680,U680,SIGN(X680),mu_millScale)","v":6.3729322437849909},{"$f":"K_t1Mu(Z680,AI680,D680,W680,U680,SIGN(Y680),mu_millScale)","v":1.277931412894376},{"$f":"Sigma_hMax(AK680,X680,AF680)","v":1107.9349813964598},{"$f":"Sigma_hMin(X680,Y680,AG680,AE680,AK680,AL680,AJ680,AI680,Z680,IF(L680=1,mu_redLead,mu_millScale))","v":179.54698539309985},928.38799600335994,0.16205552528614614,299.47553624768034,{"$f":"tau_n(N680,W680,U680,D680)","v":353.1821951435341},{"$f":"tau_hMax(X680,Z680,AH680,W680,U680)","v":343.77551508251969},{"$f":"tau_hMin(X680,Y680,AS680,AE680,Z680,AI680,IF(L680=1,mu_redLead,mu_millScale),W680,U680)","v":84.256314686870937},259.51920039564874]
[657,"Wichtowski 2007","B; L",1,1,8,45,null,6,12,80,160,465,159.93579703143993,0.1,320000,3,10,"Fitted bolts; σcl,0 derived from torque",657,0.75,0.44444444444444442,0.17777777777777778,177.70644114604437,17.770644114604437,{"$f":"IF(OR(X681>=1.6*D681*AD681,D681=1),calcLoadFraction(G681,F681,I681,J681,K681,D681,1),\"Condition for spring model not fulfilled\")","v":0.99999999999999989},{"$f":"IF(L681>2,L681,IF(L681=2,1,sigma_cl0(I681+J681)))","v":160},{"$f":"Sigma_cl(AA681,U681,V681,X681)","v":147.42165511537493},{"$f":"Sigma_cl(AA681,U681,V681,Y681)","v":158.74216551153751},{"$f":"sigma_Slip(AB681,W681,U681,IF(L681=1,mu_redLead,mu_millScale))","v":22.030385669148743},{"$f":"sigma_Slip(AC681,W681,U681,IF(L681=1,mu_redLead,mu_millScale))","v":23.722099208817578},{"$f":"Sigma_p(AB681,V681)","v":-24.576127311446161},{"$f":"Sigma_p(AC681,V681)","v":-26.463328377727134},{"$f":"beta_1(X681,AD681,Z681)","v":0.87602933508165004},{"$f":"beta_1(Y681,AE681,Z681)","v":0},{"$f":"k_tHole(W681,U681)","v":2.5558628257887515},{"$f":"K_t1Mu(Z681,AH681,D681,W681,U681,SIGN(X681),mu_millScale)","v":6.3729322437849909},{"$f":"K_t1Mu(Z681,AI681,D681,W681,U681,SIGN(Y681),mu_millScale)","v":1.277931412894376},{"$f":"Sigma_hMax(AK681,X681,AF681)","v":1107.9349813964598},{"$f":"Sigma_hMin(X681,Y681,AG681,AE681,AK681,AL681,AJ681,AI681,Z681,IF(L681=1,mu_redLead,mu_millScale))","v":179.54698539309985},928.38799600335994,0.16205552528614614,299.47553624768034,{"$f":"tau_n(N681,W681,U681,D681)","v":353.1821951435341},{"$f":"tau_hMax(X681,Z681,AH681,W681,U681)","v":343.77551508251969},{"$f":"tau_hMin(X681,Y681,AS681,AE681,Z681,AI681,IF(L681=1,mu_redLead,mu_millScale),W681,U681)","v":84.256314686870937},259.51920039564874]
[658,"Wichtowski 2007","B; L",1,1,8,45,null,6,12,80,160,465,159.93579703143993,0.1,477000,3,11,"Fitted bolts; σcl,0 derived from torque",658,0.75,0.44444444444444442,0.17777777777777778,177.70644114604437,17.770644114604437,{"$f":"IF(OR(X682>=1.6*D682*AD682,D682=1),calcLoadFraction(G682,F682,I682,J682,K682,D682,1),\"Condition for spring model not fulfilled\")","v":0.99999999999999989},{"$f":"IF(L682>2,L682,IF(L682=2,1,sigma_cl0(I682+J682)))","v":160},{"$f":"Sigma_cl(AA682,U682,V682,X682)","v":147.42165511537493},{"$f":"Sigma_cl(AA682,U682,V682,Y682)","v":158.74216551153751},{"$f":"sigma_Slip(AB682,W682,U682,IF(L682=1,mu_redLead,mu_millScale))","v":22.030385669148743},{"$f":"sigma_Slip(AC682,W682,U682,IF(L682=1,mu_redLead,mu_millScale))","v":23.722099208817578},{"$f":"Sigma_p(AB682,V682)","v":-24.576127311446161},{"$f":"Sigma_p(AC682,V682)","v":-26.463328377727134},{"$f":"beta_1(X682,AD682,Z682)","v":0.87602933508165004},{"$f":"beta_1(Y682,AE682,Z682)","v":0},{"$f":"k_tHole(W682,U682)","v":2.5558628257887515},{"$f":"K_t1Mu(Z682,AH682,D682,W682,U682,SIGN(X682),mu_millScale)","v":6.3729322437849909},{"$f":"K_t1Mu(Z682,AI682,D682,W682,U682,SIGN(Y682),mu_millScale)","v":1.277931412894376},{"$f":"Sigma_hMax(AK682,X682,AF682)","v":1107.9349813964598},{"$f":"Sigma_hMin(X682,Y682,AG682,AE682,AK682,AL682,AJ682,AI682,Z682,IF(L682=1,mu_redLead,mu_millScale))","v":179.54698539309985},928.38799600335994,0.16205552528614614,299.47553624768034,{"$f":"tau_n(N682,W682,U682,D682)","v":353.1821951435341},{"$f":"tau_hMax(X682,Z682,AH682,W682,U682)","v":343.77551508251969},{"$f":"tau_hMin(X682,Y682,AS682,AE682,Z682,AI682,IF(L682=1,mu_redLead,mu_millScale),W682,U682)","v":84.256314686870937},259.51920039564874]
[659,"Wichtowski 2007","B; L",1,1,8,45,null,6,12,80,160,465,159.93579703143993,0.1,488000,3,12,"Fitted bolts; σcl,0 derived from torque",659,{"$f":"I683/F683","v":0.75},{"$f":"F683/(J683+I683)","v":0.44444444444444442},{"$f":"F683/G683","v":0.17777777777777778},{"$f":"N683/(1-O683)","v":177.70644114604437},{"$f":"X683*O683","v":17.770644114604437},{"$f":"IF(OR(X683>=1.6*D683*AD683,D683=1),calcLoadFraction(G683,F683,I683,J683,K683,D683,1),\"Condition for spring model not fulfilled\")","v":0.99999999999999989},{"$f":"IF(L683>2,L683,IF(L683=2,1,sigma_cl0(I683+J683)))","v":160},{"$f":"Sigma_cl(AA683,U683,V683,X683)","v":147.42165511537493},{"$f":"Sigma_cl(AA683,U683,V683,Y683)","v":158.74216551153751},{"$f":"sigma_Slip(AB683,W683,U683,IF(L683=1,mu_redLead,mu_millScale))","v":22.030385669148743},{"$f":"sigma_Slip(AC683,W683,U683,IF(L683=1,mu_redLead,mu_millScale))","v":23.722099208817578},{"$f":"Sigma_p(AB683,V683)","v":-24.576127311446161},{"$f":"Sigma_p(AC683,V683)","v":-26.463328377727134},{"$f":"beta_1(X683,AD683,Z683)","v":0.87602933508165004},{"$f":"beta_1(Y683,AE683,Z683)","v":0},{"$f":"k_tHole(W683,U683)","v":2.5558628257887515},{"$f":"K_t1Mu(Z683,AH683,D683,W683,U683,SIGN(X683),mu_millScale)","v":6.3729322437849909},{"$f":"K_t1Mu(Z683,AI683,D683,W683,U683,SIGN(Y683),mu_millScale)","v":1.277931412894376},{"$f":"Sigma_hMax(AK683,X683,AF683)","v":1107.9349813964598},{"$f":"Sigma_hMin(X683,Y683,AG683,AE683,AK683,AL683,AJ683,AI683,Z683,IF(L683=1,mu_redLead,mu_millScale))","v":179.54698539309985},{"$f":"(AM683-AN683)","v":928.38799600335994},{"$f":"AN683/AM683","v":0.16205552528614614},299.47553624768034,{"$f":"tau_n(N683,W683,U683,D683)","v":353.1821951435341},{"$f":"tau_hMax(X683,Z683,AH683,W683,U683)","v":343.77551508251969},{"$f":"tau_hMin(X683,Y683,AS683,AE683,Z683,AI683,IF(L683=1,mu_redLead,mu_millScale),W683,U683)","v":84.256314686870937},259.51920039564874]
[660,"Wichtowski 2007","B; L",1,1,8,45,null,6,12,80,160,465,159.93579703143993,0.1,83000,3,13,"Fitted bolts; σcl,0 derived from torque",660,0.75,0.44444444444444442,0.17777777777777778,177.70644114604437,17.770644114604437,{"$f":"IF(OR(X684>=1.6*D684*AD684,D684=1),calcLoadFraction(G684,F684,I684,J684,K684,D684,1),\"Condition for spring model not fulfilled\")","v":0.99999999999999989},{"$f":"IF(L684>2,L684,IF(L684=2,1,sigma_cl0(I684+J684)))","v":160},{"$f":"Sigma_cl(AA684,U684,V684,X684)","v":147.42165511537493},{"$f":"Sigma_cl(AA684,U684,V684,Y684)","v":158.74216551153751},{"$f":"sigma_Slip(AB684,W684,U684,IF(L684=1,mu_redLead,mu_millScale))","v":22.030385669148743},{"$f":"sigma_Slip(AC684,W684,U684,IF(L684=1,mu_redLead,mu_millScale))","v":23.722099208817578},{"$f":"Sigma_p(AB684,V684)","v":-24.576127311446161},{"$f":"Sigma_p(AC684,V684)","v":-26.463328377727134},{"$f":"beta_1(X684,AD684,Z684)","v":0.87602933508165004},{"$f":"beta_1(Y684,AE684,Z684)","v":0},{"$f":"k_tHole(W684,U684)","v":2.5558628257887515},{"$f":"K_t1Mu(Z684,AH684,D684,W684,U684,SIGN(X684),mu_millScale)","v":6.3729322437849909},{"$f":"K_t1Mu(Z684,AI684,D684,W684,U684,SIGN(Y684),mu_millScale)","v":1.277931412894376},{"$f":"Sigma_hMax(AK684,X684,AF684)","v":1107.9349813964598},{"$f":"Sigma_hMin(X684,Y684,AG684,AE684,AK684,AL684,AJ684,AI684,Z684,IF(L684=1,mu_redLead,mu_millScale))","v":179.54698539309985},928.38799600335994,0.16205552528614614,299.47553624768034,{"$f":"tau_n(N684,W684,U684,D684)","v":353.1821951435341},{"$f":"tau_hMax(X684,Z684,AH684,W684,U684)","v":343.77551508251969},{"$f":"tau_hMin(X684,Y684,AS684,AE684,Z684,AI684,IF(L684=1,mu_redLead,mu_millScale),W684,U684)","v":84.256314686870937},259.51920039564874]
[661,"Wichtowski 2007","B; L",1,1,8,45,null,6,12,80,160,465,159.93579703143993,0.1,94400,3,14,"Fitted bolts; σcl,0 derived from torque",661,0.75,0.44444444444444442,0.17777777777777778,177.70644114604437,17.770644114604437,{"$f":"IF(OR(X685>=1.6*D685*AD685,D685=1),calcLoadFraction(G685,F685,I685,J685,K685,D685,1),\"Condition for spring model not fulfilled\")","v":0.99999999999999989},{"$f":"IF(L685>2,L685,IF(L685=2,1,sigma_cl0(I685+J685)))","v":160},{"$f":"Sigma_cl(AA685,U685,V685,X685)","v":147.42165511537493},{"$f":"Sigma_cl(AA685,U685,V685,Y685)","v":158.74216551153751},{"$f":"sigma_Slip(AB685,W685,U685,IF(L685=1,mu_redLead,mu_millScale))","v":22.030385669148743},{"$f":"sigma_Slip(AC685,W685,U685,IF(L685=1,mu_redLead,mu_millScale))","v":23.722099208817578},{"$f":"Sigma_p(AB685,V685)","v":-24.576127311446161},{"$f":"Sigma_p(AC685,V685)","v":-26.463328377727134},{"$f":"beta_1(X685,AD685,Z685)","v":0.87602933508165004},{"$f":"beta_1(Y685,AE685,Z685)","v":0},{"$f":"k_tHole(W685,U685)","v":2.5558628257887515},{"$f":"K_t1Mu(Z685,AH685,D685,W685,U685,SIGN(X685),mu_millScale)","v":6.3729322437849909},{"$f":"K_t1Mu(Z685,AI685,D685,W685,U685,SIGN(Y685),mu_millScale)","v":1.277931412894376},{"$f":"Sigma_hMax(AK685,X685,AF685)","v":1107.9349813964598},{"$f":"Sigma_hMin(X685,Y685,AG685,AE685,AK685,AL685,AJ685,AI685,Z685,IF(L685=1,mu_redLead,mu_millScale))","v":179.54698539309985},928.38799600335994,0.16205552528614614,299.47553624768034,{"$f":"tau_n(N685,W685,U685,D685)","v":353.1821951435341},{"$f":"tau_hMax(X685,Z685,AH685,W685,U685)","v":343.77551508251969},{"$f":"tau_hMin(X685,Y685,AS685,AE685,Z685,AI685,IF(L685=1,mu_redLead,mu_millScale),W685,U685)","v":84.256314686870937},259.51920039564874]
[662,"Wichtowski 2007","B; L",1,1,8,45,null,6,12,80,160,465,159.93579703143993,0.1,107000,3,15,"Fitted bolts; σcl,0 derived from torque",662,0.75,0.44444444444444442,0.17777777777777778,177.70644114604437,17.770644114604437,{"$f":"IF(OR(X686>=1.6*D686*AD686,D686=1),calcLoadFraction(G686,F686,I686,J686,K686,D686,1),\"Condition for spring model not fulfilled\")","v":0.99999999999999989},{"$f":"IF(L686>2,L686,IF(L686=2,1,sigma_cl0(I686+J686)))","v":160},{"$f":"Sigma_cl(AA686,U686,V686,X686)","v":147.42165511537493},{"$f":"Sigma_cl(AA686,U686,V686,Y686)","v":158.74216551153751},{"$f":"sigma_Slip(AB686,W686,U686,IF(L686=1,mu_redLead,mu_millScale))","v":22.030385669148743},{"$f":"sigma_Slip(AC686,W686,U686,IF(L686=1,mu_redLead,mu_millScale))","v":23.722099208817578},{"$f":"Sigma_p(AB686,V686)","v":-24.576127311446161},{"$f":"Sigma_p(AC686,V686)","v":-26.463328377727134},{"$f":"beta_1(X686,AD686,Z686)","v":0.87602933508165004},{"$f":"beta_1(Y686,AE686,Z686)","v":0},{"$f":"k_tHole(W686,U686)","v":2.5558628257887515},{"$f":"K_t1Mu(Z686,AH686,D686,W686,U686,SIGN(X686),mu_millScale)","v":6.3729322437849909},{"$f":"K_t1Mu(Z686,AI686,D686,W686,U686,SIGN(Y686),mu_millScale)","v":1.277931412894376},{"$f":"Sigma_hMax(AK686,X686,AF686)","v":1107.9349813964598},{"$f":"Sigma_hMin(X686,Y686,AG686,AE686,AK686,AL686,AJ686,AI686,Z686,IF(L686=1,mu_redLead,mu_millScale))","v":179.54698539309985},928.38799600335994,0.16205552528614614,299.47553624768034,{"$f":"tau_n(N686,W686,U686,D686)","v":353.1821951435341},{"$f":"tau_hMax(X686,Z686,AH686,W686,U686)","v":343.77551508251969},{"$f":"tau_hMin(X686,Y686,AS686,AE686,Z686,AI686,IF(L686=1,mu_redLead,mu_millScale),W686,U686)","v":84.256314686870937},259.51920039564874]

{"sheet":"data without full details","index":1,"n_rows":35,"n_cols":6,"rows_kept":35,"cut":false,"hidden":false,"merged":[]}
["ID","Source","Δtn [MPa]","R","N","FailureType c)"]
[663,"Pipinato 2009",352.9,0.1111111111111111,184000,2]
[664,"Pipinato 2009",308.77,0.125,560000,2]
[665,"Pipinato 2009",330.82,0.11764705882352941,208850,2]
[666,"Pipinato 2009",264.66000000000003,0.14285714285714285,504515,2]
[667,"Bruhweiler 1990",110,0.1,20000000,1]
[668,"Bruhweiler 1990",154,0.1,1700000,2]
[669,"Bruhweiler 1990",154,0.1,10000000,1]
[670,"Bruhweiler 1990",110,0.1,20000000,1]
[671,"Bruhweiler 1990",154,0.1,10000000,1]
[672,"Bruhweiler 1990",220,0.1,880000,2]
[673,"Bruhweiler 1990",154,0.1,8200000,2]
[674,"Bruhweiler 1990",154,0.1,10000000,1]
[675,"Bruhweiler 1990",220,0.1,350000,2]
[676,"Bruhweiler 1990",220,0.1,530000,2]
[677,"Stadelmann 1984",261.98069732494997,"unknown",366467,2]
[678,"Stadelmann 1984",272.32288525311998,"unknown",396012,2]
[679,"Stadelmann 1984",264.52882647409899,"unknown",476083,2]
[680,"Stadelmann 1984",274.97160666267098,"unknown",509504,2]
[681,"Stadelmann 1984",231.004821407451,"unknown",639829,2]
[682,"Stadelmann 1984",261.98069732494997,"unknown",761781,2]
[683,"Stadelmann 1984",291.41380412618298,"unknown",743544,2]
[684,"Stadelmann 1984",261.98069732494997,"unknown",984859,2]
[685,"Stadelmann 1984",271.00810785061702,"unknown",1201332,2]
[686,"Stadelmann 1984",290.006855591224,"unknown",1213032,2]
[687,"Stadelmann 1984",252.03128156883699,"unknown",1279448,2]
[688,"Stadelmann 1984",231.004821407451,"unknown",1213032,2]
[689,"Stadelmann 1984",231.004821407451,"unknown",1155649,2]
[690,"Stadelmann 1984",222.23179716055901,"unknown",819217,2]
[691,"Stadelmann 1984",222.23179716055901,"unknown",893886,2]
[692,"Stadelmann 1984",211.732556297435,"unknown",1048900,2]
[693,"Stadelmann 1984",220.09110297701599,"unknown",970645,2]
[694,"Stadelmann 1984",220.09110297701599,"unknown",1023790,2]
[695,"Stadelmann 1984",232.12552558661599,"unknown",980098,2]
[696,"Stadelmann 1984",231.004821407451,"unknown",1023790,2]