Workbook

Sheet README
A1: Collection of CBS microdata for RVO 'polymer converter' target group
A2: Accompanying memo: Target group and scope of the circular plastics regulation
A3: Sheet name | B3: Description | C3: CBS Microdata sets used | D3: Related chapters in Memo
A4: General ABR Group | B4: Information about all companies in the ABR that fall within the SBI code range 20-22. Companies are group into 4 categories: General (all 20-22), Group 20, Group 21, Group 2 | C4: ABR, PS_Industrie, IHG | D4: 1
A5: NRK Groups | B5: Information about the activities of NRK members. The companies are split into two groups: those within SBI range 20-22, and those outside that range | C5: ABR, PS_Industrie, IHG | D5: 2, 3
A6: Production SBI20-22 & NRK | B6: Information about the production of polymers and plastic products by company groups defined by their SBI code and also subgroupped for NRK members: General (20-22), ABR 20, ABR 21, ABR 22, NRK within, NRK outside | C6: ABR, PRODCOM | D6: 4
A7: Polymer Trade | B7: Information about the import/export of polymers in NL | C7: IHG | D7: 5
A8: Polymer Production NL | B8: Overview of the production of polymers in NL | C8: PRODCOM | D8: 6
A9: Product codes | B9: Collection of product code categories used

Sheet General ABR Group
A1: YEAR | B1: Group | C1: Total | D1: INKOPEN120100 | E1: INKOPEN120200 | F1: OMZETPH210000 | G1: OMZETPS211140 | H1: OMZETPS211150 | I1: SUBSIDI130000 | J1: Invoer | K1: Uitvoer | L1: Wederuitvoer | M1: Production | N1: Apparent Consumption | O1: Product Codes Imported
A2: Description (NL) | C2: Totaal aantal bedrijven | D2: Inkopen grond- en hulpstoffen voor zelfvervaardigde producten binnenland | E2: Inkopen grond- en hulpstoffen voor zelfvervaardigde producten buitenland | F2: Omzet | G2: Gefactureerde omzet zelfvervaardigde producten buitenland | H2: Gefactureerde omzet zelfvervaardigde producten binnenland | I2: Ontvangen overige subsidies | J2: Geldwaarde van de invoer van goederen | K2: Waarde van uitvoer van goederen | L2: Waarde van wederuitvoer van goederen | M2: Verkoop van geproduceerde polymeren (Sheet Production, column F) | N2: Productie + Invoer - Uitvoer - Wederuitvoer | O2: Goederencode van polymeren geïmporteerd/geëxporteerd per groep
A3: Description (EN) | B3: SBI code groups: General (20-22), Group 20, Group 21, Group 22 | C3: Total number of companies in the group | D3: Purchasing raw materials and consumables for self-manufactured products domestically | E3: Purchasing raw materials and consumables for self-manufactured products abroad | F3: Revenue | G3: Invoiced turnover for self-manufactured products abroad | H3: Invoiced turnover of self-manufactured products domestically | I3: Received other subsidies | J3: Total value of import of polymers | K3: Total export value for polymers | L3: Total re-export value for polymers | M3: Sale of produced polymers (Sheet Production, column F) | N3: Production + Imports - Exports - Re-Exports | O3: Polymer product codes imported/exported by the group
A4: Units | D4: 1000s EUR | E4: 1000s EUR | F4: 1000s EUR | G4: 1000s EUR | H4: 1000s EUR | I4: 1000s EUR | J4: 1000s EUR | K4: 1000s EUR | L4: 1000s EUR | M4: 1000s EUR | N4: 1000s EUR | O4: Combined Nomenclature (CN)
A5: 2016 | B5: General | C5: 2538 | D5: 25722724 | E5: 5413983.6 | F5: 62080682 | G5: 7844510.4 | H5: 45704398 | I5: 26555.9 | J5: 353042.06 | K5: 428449.92 | L5: 71660.782 | M5: ='Production SBI20-22 & NRK'!F9 -> 10580603 | N5: =Table2[[#This Row],[Production]]+Table2[[#This Row],[Invoer]]-Table2[[#This Row],[Uitvoer]]-Table2[[#This Row],[Wederuitvoer]] -> 10433534 | O5: 39069060.0, 39013000.0, 39029010.0, 39059990.0, 39023000.0, 39059100.0, 39029020.0, 39044000.0, 39069090.0, 39039010.0, 39033000.0, 39049000.0, 39139000.0, 39043000.0, 39032000.0, 39046980.0, 39052100.0, 39019090.0, 39072091.0, 39069020.0, 39029090.0, 39045090.0, 39232100.0, 39052900.0, 39069030.0, 39069040.0, 39039090.0, 39119092.0, 39119099.0
A6: 2016 | B6: Group 20 | C6: 896 | D6: 20491551 | E6: 4529263.4 | F6: 47447378 | G6: 5868346.6 | H6: 35138805 | I6: 17636.102 | J6: 227579.16 | K6: 347176.62 | M6: ='Production SBI20-22 & NRK'!F11 -> 10476437 | N6: N/A
A7: 2016 | B7: Group 21 | C7: 225 | D7: 1699509.2 | F7: 5624501.7 | H7: 3643351.8 | J7: 8795.088 | N7: N/A
A8: 2016 | B8: Group 22 | C8: 1417 | D8: 3531663.3 | E8: 466387.19 | F8: 9008802.6 | G8: 955253.11 | H8: 6922241.4 | I8: 1258.7984 | J8: 116667.81 | K8: 81269.56 | M8: ='Production SBI20-22 & NRK'!F15 -> 102304 | N8: =Table2[[#This Row],[Production]]+Table2[[#This Row],[Invoer]]-Table2[[#This Row],[Uitvoer]]-Table2[[#This Row],[Wederuitvoer]] -> 137702.25
A9: 2017 | B9: General | C9: 2531 | D9: 24939117 | E9: 4648718.5 | F9: 59860866 | G9: 8317844.4 | H9: 41763114 | I9: 29584.805 | J9: 416127.08 | M9: ='Production SBI20-22 & NRK'!F21 -> 13329033 | N9: N/A | O9: 39069060.0, 39013000.0, 39029010.0, 39059990.0, 39023000.0, 39059100.0, 39029020.0, 39044000.0, 39069090.0, 39039010.0, 39033000.0, 39049000.0, 39139000.0, 39043000.0, 39032000.0, 39046980.0, 39052100.0, 39019080.0, 39072091.0, 39069020.0, 39029090.0, 39045090.0, 39232100.0, 39052900.0, 39069030.0, 39014000.0, 39069040.0, 39039090.0, 39119092.0, 39119099.0
A10: 2017 | B10: Group 20 | C10: 909 | D10: 20347569 | E10: 3365498.6 | F10: 45164704 | G10: 5981759.5 | H10: 31966528 | I10: 21125.885 | J10: 284009.1 | K10: 441739.31 | L10: 55491.91 | M10: ='Production SBI20-22 & NRK'!F23 -> 13206206 | N10: =Table2[[#This Row],[Production]]+Table2[[#This Row],[Invoer]]-Table2[[#This Row],[Uitvoer]]-Table2[[#This Row],[Wederuitvoer]] -> 12992984
A11: 2017 | B11: Group 21 | C11: 208 | D11: 1092385.6 | F11: 5683489.9 | H11: 2757722.2 | J11: 8940.144 | N11: N/A
A12: 2017 | B12: Group 22 | C12: 1414 | D12: 3499162.3 | E12: 626409.92 | F12: 9012672.4 | G12: 907524.83 | H12: 7038864 | I12: 1784.9206 | J12: 123177.84 | K12: 89601.266 | M12: ='Production SBI20-22 & NRK'!F27 -> 117794 | N12: =Table2[[#This Row],[Production]]+Table2[[#This Row],[Invoer]]-Table2[[#This Row],[Uitvoer]]-Table2[[#This Row],[Wederuitvoer]] -> 151370.57
A13: 2018 | B13: General | C13: 2543 | D13: 27290943 | E13: 10923698 | F13: 76261947 | G13: 17247605 | H13: 45342235 | I13: 27270.256 | J13: 500254.7 | M13: ='Production SBI20-22 & NRK'!F33 -> 12190670 | N13: N/A | O13: 39069060.0, 39013000.0, 29125000.0, 39029010.0, 39059990.0, 39023000.0, 39059100.0, 39029020.0, 39044000.0, 39069090.0, 39039010.0, 39033000.0, 39049000.0, 39139000.0, 39043000.0, 39032000.0, 39052100.0, 39046980.0, 39019080.0, 39072091.0, 39069020.0, 39029090.0, 39045090.0, 39232100.0, 39052900.0, 39069030.0, 39014000.0, 39069040.0, 39039090.0, 39119092.0, 39119099.0
A14: 2018 | B14: Group 20 | C14: 939 | D14: 22265489 | F14: 61093495 | H14: 35085121 | I14: 19600.353 | J14: 354874.95 | K14: 358262.14 | L14: 60868.459 | M14: ='Production SBI20-22 & NRK'!F35 -> 11909851 | N14: =Table2[[#This Row],[Production]]+Table2[[#This Row],[Invoer]]-Table2[[#This Row],[Uitvoer]]-Table2[[#This Row],[Wederuitvoer]] -> 11845595
A15: 2018 | B15: Group 21 | C15: 210 | D15: 1258526.2 | F15: 5762346.7 | H15: 3137229.7 | J15: 8591.085 | N15: N/A
A16: 2018 | B16: Group 22 | C16: 1394 | D16: 3766927.5 | E16: 433321.95 | F16: 9406105.1 | G16: 1082021.9 | H16: 7119883.8 | I16: 1179.903 | J16: 136788.67 | K16: 96216.054 | M16: ='Production SBI20-22 & NRK'!F39 -> 280819 | N16: N/A
A17: 2019 | B17: General | C17: 2715 | D17: 25503137 | E17: 11556150 | F17: 76188784 | G17: 18465568 | H17: 43909892 | I17: 38480.972 | J17: 541446.94 | M17: ='Production SBI20-22 & NRK'!F45 -> 11612887 | N17: =Table2[[#This Row],[Production]]+Table2[[#This Row],[Invoer]]-Table2[[#This Row],[Uitvoer]]-Table2[[#This Row],[Wederuitvoer]] -> 12154334 | O17: 39069060.0, 39013000.0, 39029010.0, 39059990.0, 39205910.0, 39023000.0, 39059100.0, 39029020.0, 39044000.0, 39069090.0, 39039010.0, 39033000.0, 39049000.0, 39139000.0, 39043000.0, 39032000.0, 39052100.0, 39046980.0, 39019080.0, 39072091.0, 39069020.0, 39029090.0, 39045090.0, 39232100.0, 39052900.0, 39014000.0, 39069040.0, 39039090.0, 39119092.0, 39119099.0
A18: 2019 | B18: Group 20 | C18: 1045 | D18: 20272913 | E18: 10284382 | F18: 60043287 | H18: 33290576 | J18: 386470.36 | K18: 348386.7 | M18: ='Production SBI20-22 & NRK'!F47 -> 11360274 | N18: =Table2[[#This Row],[Production]]+Table2[[#This Row],[Invoer]]-Table2[[#This Row],[Uitvoer]]-Table2[[#This Row],[Wederuitvoer]] -> 11398358
A19: 2019 | B19: Group 21 | C19: 248 | D19: 1554072.4 | F19: 6438243.5 | H19: 3254817.5 | J19: 9517.24 | N19: N/A
A20: 2019 | B20: Group 22 | C20: 1422 | D20: 3676151.1 | E20: 486535.41 | F20: 9707253.7 | G20: 1113485.3 | H20: 7364498.3 | I20: 1559.6609 | J20: 145459.34 | M20: ='Production SBI20-22 & NRK'!F51 -> 252613 | N20: N/A
A21: 2020 | B21: General | C21: 2762 | D21: 21281639 | E21: 9785678.8 | F21: 68983273 | G21: 17984391 | H21: 38153159 | I21: 32089.103 | J21: 475349.13 | M21: ='Production SBI20-22 & NRK'!F57 -> 10093400 | N21: N/A | O21: 39069060.0, 39013000.0, 39029010.0, 39059990.0, 39205910.0, 39023000.0, 39059100.0, 39029020.0, 39044000.0, 39069090.0, 39039010.0, 39033000.0, 39049000.0, 39139000.0, 39043000.0, 39032000.0, 39052100.0, 39046980.0, 39019080.0, 39072091.0, 39069020.0, 39029090.0, 39045090.0, 39232100.0, 39052900.0, 39069030.0, 39014000.0, 39039090.0, 39119092.0, 39119099.0
A22: 2020 | B22: Group 20 | C22: 1099 | D22: 16373158 | E22: 8321487.9 | F22: 53068830 | H22: 28016841 | I22: 19194.015 | J22: 352118.26 | K22: 336190.63 | M22: ='Production SBI20-22 & NRK'!F59 -> 9909950 | N22: =Table2[[#This Row],[Production]]+Table2[[#This Row],[Invoer]]-Table2[[#This Row],[Uitvoer]]-Table2[[#This Row],[Wederuitvoer]] -> 9925877.6
A23: 2020 | B23: Group 21 | C23: 253 | D23: 1552956.6 | F23: 6832215.4 | H23: 3120320.7 | J23: 8854.941 | N23: N/A
A24: 2020 | B24: Group 22 | C24: 1410 | D24: 3355524.7 | E24: 487421.49 | F24: 9082227.8 | G24: 1010279.5 | H24: 7015997.2 | I24: 1980.5474 | J24: 114375.93 | K24: 53838.768 | L24: 5648.28 | M24: ='Production SBI20-22 & NRK'!F63 -> 183446 | N24: =Table2[[#This Row],[Production]]+Table2[[#This Row],[Invoer]]-Table2[[#This Row],[Uitvoer]]-Table2[[#This Row],[Wederuitvoer]] -> 238334.88
A25: 2021 | B25: General | C25: 2867 | D25: 30872436 | E25: 12589751 | F25: 87526128 | G25: 22933873 | H25: 49065278 | I25: 33198.637 | J25: 585573.95 | N25: N/A | O25: 39069060.0, 39013000.0, 39029010.0, 39059990.0, 39205910.0, 39023000.0, 39059100.0, 39029020.0, 39044000.0, 39069090.0, 39039010.0, 39033000.0, 39049000.0, 39139000.0, 39043000.0, 39032000.0, 39046980.0, 39052100.0, 39019080.0, 39072091.0, 39069020.0, 39029090.0, 39045090.0, 39232100.0, 39052900.0, 39069030.0, 39014000.0, 39069040.0, 39039090.0, 39119092.0, 39119099.0
A26: 2021 | B26: Group 20 | C26: 1188 | D26: 24065692 | E26: 11012685 | F26: 68546945 | G26: 19296916 | H26: 36563919 | I26: 22485.507 | J26: 416031.53 | K26: 584389.78 | L26: 70065.479 | N26: N/A
A27: 2021 | B27: Group 21 | C27: 250 | D27: 2380294 | F27: 7999566.4 | H27: 4386431.9 | J27: 9069.381 | K27: 343.522 | L27: 197.024 | N27: N/A
A28: 2021 | B28: Group 22 | C28: 1429 | D28: 4426450.7 | E28: 598924.96 | F28: 10979617 | G28: 1485196.9 | H28: 8114926.9 | I28: 1605.13 | J28: 160473.04 | K28: 69650.601 | L28: 7106.669 | N28: N/A
A29: 2022 | B29: General | C29: 3019 | D29: 40875458 | E29: 14819280 | F29: 1.1042147e+08 | G29: 24578990 | H29: 63123858 | I29: 40925.05 | J29: 885202 | N29: N/A | O29: 39069060.0, 39013000.0, 39029010.0, 39059990.0, 39023000.0, 39059100.0, 39029020.0, 39044000.0, 39069090.0, 39039010.0, 39033000.0, 39049000.0, 39139000.0, 39043000.0, 39032000.0, 39046980.0, 39052100.0, 39019080.0, 39069020.0, 39029090.0, 39045090.0, 39232100.0, 39052900.0, 39069030.0, 39014000.0, 39039090.0, 39119092.0, 39119099.0
A30: 2022 | B30: Group 20 | C30: 1282 | D30: 33511487 | E30: 13080926 | F30: 86373778 | G30: 20620995 | H30: 48310507 | I30: 20714.148 | J30: 698468.98 | K30: 3720425.7 | L30: 621013.33 | N30: N/A
A31: 2022 | B31: Group 21 | C31: 264 | D31: 2280231.8 | F31: 11912359 | H31: 5582787 | I31: 18782.964 | N31: N/A
A32: 2022 | B32: Group 22 | C32: 1473 | D32: 5083740 | E32: 484554.74 | F32: 12135330 | G32: 1262633 | H32: 9230564.4 | I32: 1427.9374 | J32: 147242.76 | K32: 190619.83 | L32: 12365.061 | N32: N/A

Sheet NRK Groups
A1: Year | B1: Group | C1: Number of companies | D1: INKOPEN120100 | E1: INKOPEN120200 | F1: OMZETPH210000 | G1: OMZETPS211140 | H1: OMZETPS211150 | I1: SUBSIDI130000 | J1: SBIs | K1: Sector Code | L1: Gk-Sbs | M1: Invoer | N1: Uitvoer | O1: Wederuitvoer | P1: Production | Q1: Apparent Consumption | R1: Product codes
A2: Description (NL) | C2: Totaal aantal bedrijven | D2: Inkopen grond- en hulpstoffen voor zelfvervaardigde producten binnenland | E2: Inkopen grond- en hulpstoffen voor zelfvervaardigde producten buitenland | F2: Omzet | G2: Gefactureerde omzet zelfvervaardigde producten buitenland | H2: Gefactureerde omzet zelfvervaardigde producten binnenland | I2: Ontvangen overige subsidies | J2: Unieke SBI-waarden in de groep | K2: Sectorcode gecoördineerd van ondernemingsidentificatie-nummer | L2: Bedrijfsgrootte op basis van het aantal werkzame personen (berekend volgens de SBS-verordening uit 2002). | M2: Geldwaarde van de invoer van goederen | N2: Waarde van uitvoer van goederen | O2: Waarde van wederuitvoer van goederen | P2: Verkoop van geproduceerde polymeren (Sheet Production, column F) | Q2: Productie + Invoer - Uitvoer - Wederuitvoer | R2: Goederencode
A3: Description (EN) | B3: Within SBI range 20-22 or outside the range | C3: Total number of companies | D3: Purchasing raw materials and consumables for self-manufactured products domestically | E3: Purchasing raw materials and consumables for self-manufactured products abroad | F3: Revenue | G3: Invoiced turnover for self-manufactured products abroad | H3: Invoiced turnover of self-manufactured products domestically | I3: Received other subsidies | J3: Unique SBI values in the group | K3: Sector code coordinated from enterprise identification number. Listed in descending order of frequency | L3: Business size based on the number of employees (according to 2002 SBS Regulation). Listed in descending order of frequency | M3: Total import value for polymers | N3: Total export value for polymers | O3: Total re-export value for polymers | P3: Sale of produced polymers (Sheet Production, column F) | Q3: Production + Imports - Exports - Re-Exports | R3: Polymer product codes imported/exported by the group
A4: Units | D4: 1000s EUR | E4: 1000s EUR | F4: 1000s EUR | G4: 1000s EUR | H4: 1000s EUR | I4: 1000s EUR | M4: 1000 EUR | N4: 1000 EUR | O4: 1000 EUR | P4: 1000s EUR | Q4: 1000s EUR | R4: Combined Nomenclature (CN)
A5: 2016 | B5: Within | C5: 210 | D5: 3498737.2 | F5: 9465791.8 | G5: 758670.72 | H5: 5877665.4 | J5: ['2012' '20141' '2016' '2017' '2030' '2041' '2052' '2059' '2060' '2219' '2221' '2222' '2223' '2229'] | K5: 11021, 11031, 11032 | L5: ['50', '60', '40', '72', '30'] | M5: 107392.26 | N5: 86133.039 | P5: ='Production SBI20-22 & NRK'!F7 -> 4113722 | Q5: N/A | R5: [39013000.0, 39029010.0, 39059990.0, 39023000.0, 39059100.0, 39029020.0, 39044000.0, 39069090.0, 39039010.0, 39033000.0, 39049000.0, 39043000.0, 39139000.0, 39032000.0, 39046980.0, 39052100.0, 39019090.0, 39072091.0, 39069020.0, 39029090.0, 39045090.0, 39232100.0, 39052900.0, 39069030.0, 39039090.0, 39119092.0, 39119099.0]
A6: 2016 | B6: Outside | C6: 203 | D6: 793423.59 | E6: 50941 | F6: 1583016.7 | G6: 91345.221 | H6: 1359606.1 | J6: ['1041' '1395' '1399' '1520' '16231' '16239' '1624' '17211' '1724' '18124' '18129' '2399' '2442' '2453' '2512' '2562' '2573' '2896' '2899' '3012' '3103' '3109' '3230' '32502' '3812' '3821' '3832' '4321' '43222' '4329' '4332' '4391' '45203' '45312' '4612' '4619' '46462' '46497' '46499' '4662' '4663' '46694' '46696' '46699' '46723' '46738' '46751' '46762' '46769' '46779' '46902' '52101' '52242' '6202' '6420' '6832' '69105' '70101' '70102' '70221' '70222' '7112' '72111' '72192' '72199' '74102' '7490' '8292' '8542' '9411' '94995'] | K6: 11021, 11031 | L6: ['50', '40', '30', '60', '71'] | M6: 93848.317 | N6: 64605.994 | O6: 10054.91 | Q6: N/A | R6: [39069060.0, 39013000.0, 39029010.0, 39059990.0, 39023000.0, 39059100.0, 39044000.0, 39069090.0, 39049000.0, 39033000.0, 39043000.0, 39139000.0, 39032000.0, 39046980.0, 39052100.0, 39019090.0, 39029090.0, 39232100.0, 39052900.0, 39039090.0, 39119099.0]
A7: 2017 | B7: Within | C7: 216 | D7: 3538500.2 | E7: 537414.68 | F7: 10500044 | G7: 8415.0701 | H7: 6530729.4 | I7: 964.1044 | J7: ['2012' '20141' '2016' '2017' '2030' '2041' '2052' '2059' '2060' '2219' '2221' '2222' '2223' '2229'] | K7: 11002 | L7: ['50', '60', '40', '72', '30'] | M7: 128348.3 | N7: 78898.568 | O7: 3731.443 | P7: ='Production SBI20-22 & NRK'!F19 -> 4799160 | Q7: =qu2_table_ext[[#This Row],[Production]]+qu2_table_ext[[#This Row],[Invoer]]-qu2_table_ext[[#This Row],[Uitvoer]]-qu2_table_ext[[#This Row],[Wederuitvoer]] -> 4844878.3 | R7: [39069060.0, 39013000.0, 39029010.0, 39059990.0, 39023000.0, 39029020.0, 39059100.0, 39044000.0, 39069090.0, 39039010.0, 39033000.0, 39049000.0, 39043000.0, 39139000.0, 39032000.0, 39046980.0, 39052100.0, 39019080.0, 39069020.0, 39029090.0, 39045090.0, 39232100.0, 39052900.0, 39069030.0, 39014000.0, 39069040.0, 39039090.0, 39119092.0, 39119099.0]
A8: 2017 | B8: Outside | C8: 196 | D8: 768107.45 | E8: 51245 | F8: 1490477 | H8: 1268967 | J8: ['1041' '1395' '1396' '1520' '16231' '16239' '1624' '17211' '1724' '18124' '18129' '23611' '2399' '2442' '2453' '2512' '2562' '2573' '2896' '2899' '2932' '3011' '3012' '3103' '3109' '3230' '32502' '3812' '3821' '3832' '4321' '43222' '4329' '4332' '4391' '45203' '45312' '4612' '4619' '46462' '46497' '46499' '4662' '4663' '46694' '46696' '46699' '46723' '46738' '46751' '46762' '46769' '46779' '46902' '52101' '52242' '6202' '6420' '6832' '70101' '70102' '70221' '70222' '7112' '71202' '72111' '72192' '72199' '74102' '7490' '8292' '8542' '9411' '94995'] | K8: 11002 | L8: ['50', '40', '30', '60', '71'] | M8: 101434.44 | N8: 77812.898 | O8: 12155.907 | Q8: N/A | R8: [39013000.0, 29125000.0, 39029010.0, 39059990.0, 39023000.0, 39059100.0, 39044000.0, 39069090.0, 39049000.0, 39033000.0, 39139000.0, 39043000.0, 39032000.0, 39046980.0, 39052100.0, 39019080.0, 39069020.0, 39029090.0, 39045090.0, 39232100.0, 39052900.0, 39014000.0, 39039090.0, 39119092.0, 39119099.0]
A9: 2018 | B9: Within | C9: 215 | D9: 3555014.3 | E9: 312087.87 | F9: 10946575 | G9: 974184.57 | H9: 6384366.7 | I9: 788.2805 | J9: ['2012' '20141' '2016' '2017' '2041' '2052' '2060' '2219' '2221' '2222' '2223' '2229'] | K9: 11002, 11003 | L9: ['50', '60', '40', '30', '72'] | M9: 144443.58 | N9: 97388.58 | O9: 5685.901 | P9: ='Production SBI20-22 & NRK'!F31 -> 4908501 | Q9: =qu2_table_ext[[#This Row],[Production]]+qu2_table_ext[[#This Row],[Invoer]]-qu2_table_ext[[#This Row],[Uitvoer]]-qu2_table_ext[[#This Row],[Wederuitvoer]] -> 4949870.1 | R9: [39069060.0, 39013000.0, 39029010.0, 39059990.0, 39023000.0, 39059100.0, 39029020.0, 39044000.0, 39069090.0, 39039010.0, 39033000.0, 39049000.0, 39043000.0, 39139000.0, 39032000.0, 39052100.0, 39046980.0, 39019080.0, 39069020.0, 39029090.0, 39045090.0, 39232100.0, 39052900.0, 39069030.0, 39014000.0, 39039090.0, 39119092.0, 39119099.0]
A10: 2018 | B10: Outside | C10: 198 | D10: 956100.64 | E10: 76455 | F10: 1874830.5 | G10: 161464.55 | H10: 1590872 | I10: 332 | J10: ['1041' '1395' '1396' '1520' '16239' '1624' '17211' '1724' '18124' '18129' '23611' '2399' '2442' '2453' '2512' '2562' '2573' '2896' '2899' '29202' '2931' '2932' '3011' '3012' '3103' '3230' '32502' '3812' '3821' '3832' '4321' '43222' '4329' '4332' '4391' '45203' '45312' '4612' '4614' '4619' '46462' '46497' '46499' '4662' '4663' '46694' '46696' '46699' '46723' '46738' '46751' '46762' '46769' '46779' '46902' '52101' '52242' '6202' '6420' '6832' '70101' '70102' '70221' '70222' '7112' '71202' '72111' '72192' '72199' '74102' '7490' '8292' '8542' '9411' '94995'] | K10: 11002, 11003 | L10: ['50', '40', '30', '60', '72'] | M10: 120997.97 | N10: 96531.61 | O10: 19435.649 | Q10: N/A | R10: [39069060.0, 39013000.0, 29125000.0, 39029010.0, 39059990.0, 39023000.0, 39059100.0, 39029020.0, 39044000.0, 39069090.0, 39033000.0, 39049000.0, 39139000.0, 39043000.0, 39032000.0, 39052100.0, 39046980.0, 39019080.0, 39069020.0, 39029090.0, 39045090.0, 39232100.0, 39052900.0, 39014000.0, 39039090.0, 39119092.0, 39119099.0]
A11: 2019 | B11: Within | C11: 216 | D11: 3241795.3 | E11: 401481.14 | F11: 10977394 | G11: 845230.28 | H11: 6334824.5 | I11: 655.1847 | J11: ['2012' '20141' '2016' '2017' '2041' '2052' '2060' '2219' '2221' '2222' '2223' '2229'] | K11: 11002, 11003 | L11: ['50', '40', '60', '30', '71'] | M11: 168639.85 | N11: 77289.717 | O11: 9821.998 | P11: ='Production SBI20-22 & NRK'!F43 -> 4707859 | Q11: =qu2_table_ext[[#This Row],[Production]]+qu2_table_ext[[#This Row],[Invoer]]-qu2_table_ext[[#This Row],[Uitvoer]]-qu2_table_ext[[#This Row],[Wederuitvoer]] -> 4789387.1 | R11: [39069060.0, 39013000.0, 39029010.0, 39059990.0, 39023000.0, 39059100.0, 39029020.0, 39044000.0, 39069090.0, 39039010.0, 39033000.0, 39049000.0, 39139000.0, 39043000.0, 39032000.0, 39052100.0, 39046980.0, 39019080.0, 39069020.0, 39029090.0, 39045090.0, 39232100.0, 39052900.0, 39014000.0, 39039090.0, 39119092.0, 39119099.0]
A12: 2019 | B12: Outside | C12: 191 | D12: 921276.26 | E12: 77934 | F12: 1823140.6 | G12: 191215.9 | H12: 1477218.6 | I12: 462 | J12: ['1041' '1395' '1396' '1520' '16239' '1624' '17211' '1724' '18124' '18129' '23611' '2399' '2442' '2453' '2512' '2562' '2573' '2896' '2899' '29202' '2931' '2932' '3011' '3012' '3103' '3230' '32502' '3812' '3821' '3832' '4321' '43222' '4329' '4332' '4391' '45203' '45312' '4612' '4614' '4619' '46462' '46497' '46499' '4662' '4663' '46694' '46696' '46699' '46723' '46738' '46751' '46762' '46769' '46779' '46902' '52101' '52242' '6202' '6420' '6832' '70101' '70102' '70221' '70222' '7112' '71202' '72111' '72192' '72199' '74102' '7490' '8292' '8542' '9411' '94995'] | K12: 11002, 11003 | L12: ['50', '40', '30', '60', '22'] | M12: 113457.58 | O12: 14871.904 | Q12: N/A | R12: [39013000.0, 29125000.0, 39029010.0, 39059990.0, 39023000.0, 39059100.0, 39029020.0, 39044000.0, 39069090.0, 39033000.0, 39049000.0, 39043000.0, 39139000.0, 39032000.0, 39052100.0, 39019080.0, 39069020.0, 39029090.0, 39045090.0, 39232100.0, 39052900.0, 39014000.0, 39039090.0, 39119099.0]
A13: 2020 | B13: Within | C13: 212 | D13: 3049208.3 | E13: 298861.88 | F13: 10101878 | G13: 589687.97 | H13: 6115966 | J13: ['2012' '20141' '2016' '2017' '2041' '2052' '2060' '2219' '2221' '2222' '2223' '2229'] | K13: 11002, 11003 | L13: ['50', '60', '40', '71', '30'] | M13: 144046.09 | N13: 105576.56 | O13: 9402.338 | P13: ='Production SBI20-22 & NRK'!F55 -> 4061823 | Q13: =qu2_table_ext[[#This Row],[Production]]+qu2_table_ext[[#This Row],[Invoer]]-qu2_table_ext[[#This Row],[Uitvoer]]-qu2_table_ext[[#This Row],[Wederuitvoer]] -> 4090890.2 | R13: [39069060.0, 39013000.0, 39029010.0, 39059990.0, 39205910.0, 39023000.0, 39059100.0, 39029020.0, 39044000.0, 39069090.0, 39039010.0, 39033000.0, 39049000.0, 39139000.0, 39043000.0, 39032000.0, 39052100.0, 39046980.0, 39019080.0, 39069020.0, 39029090.0, 39045090.0, 39232100.0, 39052900.0, 39069030.0, 39014000.0, 39039090.0, 39119092.0, 39119099.0]
A14: 2020 | B14: Outside | C14: 192 | D14: 859051.41 | E14: 110683.63 | F14: 1891558.3 | G14: 198603.26 | H14: 1526966.9 | J14: ['1084' '1395' '1396' '1520' '16239' '1624' '17211' '1724' '18124' '18129' '23611' '2399' '2442' '2453' '2512' '2562' '2573' '2620' '2896' '2899' '29202' '2931' '2932' '3012' '3103' '3230' '32502' '32999' '3812' '3821' '3832' '4321' '43222' '4329' '4332' '4391' '45203' '45312' '4612' '4614' '4619' '46462' '46497' '46499' '4662' '4663' '46694' '46696' '46699' '46723' '46738' '46751' '46762' '46769' '46779' '46902' '52101' '52242' '6202' '6420' '6832' '70101' '70102' '70221' '70222' '7112' '71202' '72111' '72192' '72199' '74102' '7490' '8292' '8542' '9411' '94995'] | K14: 11002, 11003 | L14: ['50', '40', '60', '30'] | M14: 117427.54 | N14: 75774.254 | O14: 15267.907 | Q14: N/A | R14: [39013000.0, 39029010.0, 39059990.0, 39023000.0, 39029020.0, 39059100.0, 39044000.0, 39069090.0, 39033000.0, 39049000.0, 39139000.0, 39043000.0, 39032000.0, 39052100.0, 39019080.0, 39029090.0, 39045090.0, 39232100.0, 39052900.0, 39069030.0, 39014000.0, 39039090.0, 39119099.0]
A15: 2021 | B15: Within | C15: 216 | D15: 3816881.6 | E15: 596676.92 | F15: 12845118 | G15: 1041738.4 | H15: 7130860.9 | J15: ['2012' '20141' '2016' '2017' '2041' '2052' '2060' '2219' '2221' '2222' '2223' '2229'] | K15: 11002, 11003 | L15: ['50', '60', '40', '71', '72'] | M15: 183386.45 | N15: 170764.49 | O15: 10065.622 | P15: N/A | Q15: N/A | R15: [39069060.0, 39013000.0, 39029010.0, 39059990.0, 39023000.0, 39059100.0, 39029020.0, 39044000.0, 39069090.0, 39039010.0, 39033000.0, 39049000.0, 39139000.0, 39043000.0, 39032000.0, 39046980.0, 39052100.0, 39019080.0, 39029090.0, 39045090.0, 39232100.0, 39052900.0, 39069030.0, 39014000.0, 39039090.0, 39119092.0, 39119099.0]
A16: 2021 | B16: Outside | C16: 194 | D16: 1093024.8 | E16: 141435.56 | F16: 2407602.3 | G16: 404255.94 | H16: 1729917.2 | J16: ['1084' '1395' '1396' '1520' '16239' '1624' '17211' '1724' '18124' '18129' '23611' '2399' '2442' '2453' '2512' '2562' '2573' '2620' '2896' '2899' '29202' '2931' '2932' '3012' '3103' '3230' '32502' '32999' '3812' '3821' '3832' '4321' '43222' '4329' '4332' '4391' '45203' '45312' '4612' '4614' '4619' '46462' '46497' '46499' '4662' '4663' '46694' '46696' '46699' '46723' '46738' '46751' '46762' '46769' '46779' '46902' '52101' '52242' '6202' '6420' '6832' '70101' '70102' '70221' '70222' '7112' '71202' '72111' '72192' '72199' '74102' '7490' '8292' '8542' '9411' '94995'] | K16: 11002, 11003 | L16: ['50', '40', '60', '30', '22'] | M16: 168622.82 | N16: 109358.1 | O16: 22557.155 | P16: N/A | Q16: N/A | R16: [39013000.0, 39029010.0, 39059990.0, 39023000.0, 39029020.0, 39059100.0, 39044000.0, 39069090.0, 39033000.0, 39049000.0, 39139000.0, 39043000.0, 39032000.0, 39052100.0, 39046980.0, 39019080.0, 39029090.0, 39045090.0, 39232100.0, 39052900.0, 39014000.0, 39039090.0, 39119099.0]
A17: 2022 | B17: Within | C17: 207 | D17: 4365078.7 | E17: 605253.2 | F17: 16294675 | G17: 1229282.5 | H17: 7743945.7 | I17: 281.0298 | J17: ['2012' '20141' '2016' '2017' '2041' '2052' '2060' '2219' '2221' '2222' '2223' '2229'] | K17: 11002, 11003 | L17: ['50', '60', '40', '71', '30'] | M17: 225036.1 | P17: N/A | Q17: N/A | R17: [39069060.0, 39013000.0, 39029010.0, 39059990.0, 39023000.0, 39059100.0, 39029020.0, 39044000.0, 39069090.0, 39039010.0, 39033000.0, 39049000.0, 39139000.0, 39043000.0, 39032000.0, 39046980.0, 39052100.0, 39019080.0, 39069020.0, 39029090.0, 39045090.0, 39232100.0, 39052900.0, 39069030.0, 39014000.0, 39069040.0, 39039090.0, 39119092.0, 39119099.0]
A18: 2022 | B18: Outside | C18: 192 | D18: 1221255 | F18: 2641688.6 | G18: 427100 | H18: 1847204.2 | J18: ['1084' '1395' '1396' '1520' '16239' '1624' '17211' '1724' '18124' '18129' '23611' '2399' '2442' '2453' '2512' '2562' '2573' '2620' '2896' '2899' '29202' '2931' '2932' '3012' '3103' '3230' '32502' '32999' '3812' '3821' '3832' '4321' '43222' '4329' '4332' '4391' '45203' '45312' '4612' '4614' '46462' '46497' '46499' '4662' '4663' '46694' '46696' '46699' '46738' '46751' '46762' '46769' '46779' '46902' '52101' '52242' '6202' '6209' '6420' '6832' '70101' '70102' '70221' '70222' '7112' '71202' '72111' '72192' '72199' '74102' '7490' '8292' '8542' '9411' '94995'] | K18: 11002, 11003 | L18: ['50', '40', '60', '30', '71'] | M18: 226441.36 | N18: 190767.49 | O18: 99619.068 | P18: N/A | Q18: N/A | R18: [39013000.0, 39059990.0, 39023000.0, 39059100.0, 39029020.0, 39044000.0, 39069090.0, 39039010.0, 39033000.0, 39049000.0, 39139000.0, 39043000.0, 39032000.0, 39052100.0, 39046980.0, 39019080.0, 39069020.0, 39029090.0, 39045090.0, 39232100.0, 39052900.0, 39014000.0, 39069040.0, 39039090.0, 39119099.0]

Sheet Production SBI20-22 & NRK
A1: Year | B1: Company group | C1: Product group | D1: Number of companies | E1: number of products | F1: Waarde | G1: TechHoev_7 | H1: VerkHoev_7 | I1: TechHoev_6 | J1: VerkHoev_6 | K1: TechHoev_9 | L1: VerkHoev_9 | M1: TechHoev_13 | N1: VerkHoev_13 | O1: TechHoev_28 | P1: VerkHoev_28 | Q1: VerkHoev_12
A2: Description (NL) | B2: Bedrijfs- en SBI-codegroepen zoals beschreven in de bladen Algemeen ABR en NRK: | C2: Polymer: polymeerproductcodes. Plastic Products: producten waar plastic in zit. | D2: Aantal bedrijven dat een van de productcodes produceert | E2: Aantal unieke geproduceerde productcodes | F2: Totale waarde | G2: Gewicht van geproduceerd producten | H2: Gewicht van de verkochte producten. | I2: Gewicht van geproduceerd producten | J2: Gewicht van de verkochte producten. | K2: Aantal van de geproduceerde producten. | L2: Aantal van de verkochte producten. | M2: Aantal van de geproduceerde producten. | N2: Aantal van de verkochte producten. | O2: Aantal van de geproduceerde producten. | P2: Aantal van de verkochte producten | Q2: Volume van de verkochte producten
A3: Description (EN) | B3: Company and SBI code groups as described in sheets General ABR and NRK: | C3: Polymer product codes. Plastic Products: products that have plastic in them. | D3: Number of companies that produce any of the product codes | E3: Number of unique product codes produced | F3: Total sales | G3: Weight of products producted | H3: Weight of products sold | I3: Weight of products producted | J3: Weight of products sold | K3: Number of units of products produced | L3: Number of units of products sold | M3: Number of units of products produced | N3: Number of units of products sold | O3: Number of units of products produced | P3: Number of products sold | Q3: Volume of products sold
A4: Units | D4: 1 | F4: 1000s EUR | G4: Tons | H4: Tons | I4: kg | J4: kg | K4: 1000 | L4: 1000 | M4: 1 | N4: 1 | O4: Pairs | P4: Pairs | Q4: 1 cubic meter
A5: 2016 | B5: NRK outside | C5: polymer
A6: 2016 | B6: NRK outside | C6: plastic product | D6: 42 | E6: 30 | F6: 657453
A7: 2016 | B7: NRK within | C7: polymer | D7: 55 | E7: 25 | F7: 4113722 | G7: 2932747
A8: 2016 | B8: NRK within | C8: plastic product | D8: 204 | E8: 68 | F8: 3385187 | G8: 2
A9: 2016 | B9: ABR general (20-22) | C9: polymer | D9: 189 | E9: 40 | F9: 10580603 | G9: 9575347
A10: 2016 | B10: ABR general (20-22) | C10: plastic product | D10: 530 | E10: 110 | F10: 8003105 | G10: 24136
A11: 2016 | B11: ABR 20 | C11: polymer | D11: 178 | E11: 39 | F11: 10476437 | G11: 9487915
A12: 2016 | B12: ABR 20 | C12: plastic product | D12: 109 | E12: 31 | F12: 2404192 | G12: 24136
A13: 2016 | B13: ABR 21 | C13: polymer
A14: 2016 | B14: ABR 21 | C14: plastic product
A15: 2016 | B15: ABR 22 | C15: polymer | D15: 10 | E15: 8 | F15: 102304 | G15: 86337
A16: 2016 | B16: ABR 22 | C16: plastic product | D16: 420 | E16: 97 | F16: 5598775
A17: 2017 | B17: NRK outside | C17: polymer
A18: 2017 | B18: NRK outside | C18: plastic product | D18: 30 | E18: 19 | F18: 596683 | H18: 243901 | J18: 19404 | P18: 6446272
A19: 2017 | B19: NRK within | C19: polymer | D19: 60 | E19: 28 | F19: 4799160 | G19: 3179052 | H19: 3070403
A20: 2017 | B20: NRK within | C20: plastic product | D20: 219 | E20: 68 | F20: 3495416 | G20: 30 | H20: 999466 | J20: 15999139 | L20: 672837 | N20: 224
A21: 2017 | B21: ABR general (20-22) | C21: polymer | D21: 193 | E21: 42 | F21: 13329033 | G21: 9388006 | H21: 10047550
A22: 2017 | B22: ABR general (20-22) | C22: plastic product | D22: 531 | E22: 105 | F22: 7541483 | G22: 2590 | H22: 2529495 | J22: 17469160 | L22: 2225557 | N22: 300049
A23: 2017 | B23: ABR 20 | C23: polymer | D23: 179 | E23: 42 | F23: 13206206 | G23: 9309549 | H23: 10001454
A24: 2017 | B24: ABR 20 | C24: plastic product | D24: 113 | E24: 29 | F24: 1733307 | G24: 2590 | H24: 463297
A25: 2017 | B25: ABR 21 | C25: polymer
A26: 2017 | B26: ABR 21 | C26: plastic product | E26: 0
A27: 2017 | B27: ABR 22 | C27: polymer | D27: 12 | E27: 10 | F27: 117794 | G27: 77950 | H27: 45589
A28: 2017 | B28: ABR 22 | C28: plastic product | D28: 418 | E28: 92 | F28: 5808176 | H28: 2066198 | J28: 17469160 | L28: 2225557 | N28: 300049
A29: 2018 | B29: NRK outside | C29: polymer
A30: 2018 | B30: NRK outside | C30: plastic product | D30: 32 | E30: 21 | F30: 612593 | H30: 278996 | L30: 161 | P30: 6657228
A31: 2018 | B31: NRK within | C31: polymer | D31: 47 | E31: 25 | F31: 4908501 | H31: 3052433
A32: 2018 | B32: NRK within | C32: plastic product | D32: 187 | E32: 63 | F32: 3443598 | H32: 1036306 | J32: 16976052 | L32: 471225 | N32: 255
A33: 2018 | B33: ABR general (20-22) | C33: polymer | D33: 190 | E33: 40 | F33: 12190670 | H33: 8455068
A34: 2018 | B34: ABR general (20-22) | C34: plastic product | D34: 492 | E34: 107 | F34: 7475206 | H34: 1852900 | J34: 22240920 | L34: 2327626 | N34: 487
A35: 2018 | B35: ABR 20 | C35: polymer | D35: 179 | E35: 40 | F35: 11909851 | H35: 8373975
A36: 2018 | B36: ABR 20 | C36: plastic product | D36: 112 | E36: 28 | F36: 1762964 | H36: 328263 | L36: 8300
A37: 2018 | B37: ABR 21 | C37: polymer | E37: 0
A38: 2018 | B38: ABR 21 | C38: plastic product | E38: 0
A39: 2018 | B39: ABR 22 | C39: polymer | D39: 11 | E39: 10 | F39: 280819 | H39: 81093
A40: 2018 | B40: ABR 22 | C40: plastic product | D40: 380 | E40: 91 | F40: 5712242 | H40: 1524637 | J40: 22240920 | L40: 2319326 | N40: 487
...

Sheet Polymer Trade
A1: Year | B1: gsrt | C1: Invoer | D1: Relevant Share Invoer | E1: Invoer Observations | F1: Uitvoer | G1: Relevant Share Uitvoer | H1: Uitvoer Observations | I1: Wederuitvoer | J1: Relevant Share Wederuitvoer | K1: Wederuitvoer observations
A2: Description (NL) | B2: Goederencode | C2: Geldwaarde van de invoer van goederen | D2: Het percentage van de totale invoer van alle polymeren | E2: Aantal bedrijven dat bijdraagt ​​aan de invoerwaarde | F2: Waarde van uitvoer van goederen | G2: Het percentage van de totale uitvoer van alle polymeren | H2: Aantal bedrijven dat bijdraagt ​​aan de uitvoerwaarde | I2: Waarde van wederuitvoer van goederen | J2: Het percentage van de totale wederuitvoer van alle polymeren | K2: Aantal bedrijven dat bijdraagt ​​aan de wederuitvoerwaarde
A3: Description (EN) | B3: Product Code | C3: Total import value for product code | D3: The % of the total import of all polymers | E3: Number of companies that contribute to import value | F3: Total export value | G3: The % of the total export of all polymers | H3: Number of companies that contribute to export | I3: Total re-export value | J3: The % of the total re-export of all polymers | K3: Number of companies that contribute to re-export
A4: Units | B4: Combined Nomenclature (CN) | C4: EUR | D4: % | E4: 1 | F4: EUR | G4: % | H4: 1 | I4: EUR | J4: % | K4: 1
A5: 2016 | B5: 39232100 | C5: 308565833 | D5: 21.454946 | E5: 32 | F5: 283534559 | G5: 7.447724 | H5: 32 | I5: 130141924 | J5: 23.892522 | K5: 32
A6: 2016 | B6: 39019090 | C6: 184152749 | D6: 12.804358 | E6: 32 | F6: 980648956 | G6: 25.759127 | H6: 32
A7: 2016 | B7: 39023000 | C7: 161673967 | D7: 11.241382 | E7: 32 | F7: 863120529 | G7: 22.671958 | H7: 32 | I7: 48852686 | J7: 8.9687768 | K7: 32
A8: 2016 | B8: 39039090 | C8: 86771840 | D8: 6.0333484 | E8: 32 | F8: 249331590 | G8: 6.5492999 | H8: 32 | I8: 30706263 | J8: 5.6373076 | K8: 32
A9: 2016 | B9: 39119099 | C9: 61282660 | D9: 4.2610556 | E9: 32 | F9: 84647485 | G9: 2.2234718 | H9: 32 | I9: 27099601 | J9: 4.975167 | K9: 32
A10: 2016 | B10: 39013000 | C10: 45176056 | D10: 3.1411444 | E10: 32 | I10: 12803969 | J10: 2.3506576 | K10: 32
A11: 2016 | B11: 39033000 | C11: 24777938 | D11: 1.7228392 | E11: 32 | F11: 247775195 | G11: 6.5084174 | H11: 32
A12: 2016 | B12: 39069090 | F12: 584695341 | G12: 15.358444 | H12: 32 | I12: 124242646 | J12: 22.809484 | K12: 32
A13: 2016 | B13: 39052100 | F13: 80298866 | G13: 2.1092448 | H13: 32
A14: 2016 | B14: 39046980 | F14: 67166519 | G14: 1.7642918 | H14: 32
A15: 2016 | B15: 39029020 | F15: 66309447 | G15: 1.7417787 | H15: 32
A16: 2016 | B16: 39139000 | I16: 44080982 | J16: 8.0927482 | K16: 32
A17: 2016 | B17: 39029090 | I17: 20207395 | J17: 3.7098393 | K17: 32
A18: 2016 | B18: TOTAL | C18: =C5/(D5/100) -> 1.4382037e+09 | F18: =F5/(G5/100) -> 3806996049 | I18: =I5/(J5/100) -> 544697311
A19: 2017 | B19: 39069090 | C19: 346448873 | D19: 21.940776 | E19: 33 | F19: 644192862 | G19: 15.264936 | H19: 33 | I19: 133570227 | J19: 20.840648 | K19: 33
A20: 2017 | B20: 39232100 | C20: 312112702 | D20: 19.766249 | E20: 33 | F20: 289740857 | G20: 6.8657633 | H20: 33 | I20: 124857855 | J20: 19.481278 | K20: 33
A21: 2017 | B21: 39023000 | C21: 185669914 | D21: 11.758566 | E21: 33 | F21: 1033077542 | G21: 24.480033 | H21: 33 | I21: 70667206 | J21: 11.026038 | K21: 33
A22: 2017 | B22: 39019080 | C22: 115551180 | D22: 7.3179125 | E22: 33 | F22: 92169822 | G22: 2.1840764 | H22: 33
A23: 2017 | B23: 39014000 | C23: 98299642 | D23: 6.2253642 | E23: 33 | F23: 892373236 | G23: 21.145873 | H23: 33 | I23: 23980904 | J23: 3.7416841 | K23: 33
A24: 2017 | B24: 39039090 | C24: 92354384 | D24: 5.8488481 | E24: 33 | F24: 248224278 | G24: 5.8819773 | H24: 33 | I24: 32527861 | J24: 5.0752457 | K24: 33
A25: 2017 | B25: 39119099 | C25: 76127753 | D25: 4.8212076 | E25: 33 | F25: 80376937 | G25: 1.9046296 | H25: 33 | I25: 31895969 | J25: 4.9766531 | K25: 33
A26: 2017 | B26: 39029090 | C26: 50214354 | D26: 3.1800995 | E26: 33 | I26: 24184860 | J26: 3.7735068 | K26: 33
A27: 2017 | B27: 39013000 | C27: 49065031 | D27: 3.1073123 | E27: 33
A28: 2017 | B28: 39033000 | F28: 352850916 | G28: 8.3612332 | H28: 33
A29: 2017 | B29: 39052100 | F29: 85618869 | G29: 2.0288436 | H29: 33
A30: 2017 | B30: 39029020 | F30: 81187600 | G30: 1.9238393 | H30: 33
A31: 2017 | B31: 39139000 | I31: 39989851 | J31: 6.2395224 | K31: 33
A32: 2017 | B32: TOTAL | C32: =C19/(D19/100) -> 1579018341 | F32: =F19/(G19/100) -> 4220082238 | I32: =I19/(J19/100) -> 640912048
A33: 2018 | B33: 39069090 | C33: 364038444 | D33: 21.286976 | E33: 33 | F33: 685863275 | G33: 15.534338 | H33: 33 | I33: 132094121 | J33: 19.437197 | K33: 33
A34: 2018 | B34: 39232100 | C34: 336965924 | D34: 19.703923 | E34: 33 | F34: 317163752 | G34: 7.1835438 | H34: 33 | I34: 90190366 | J34: 13.271203 | K34: 33
A35: 2018 | B35: 39023000 | C35: 219384537 | D35: 12.828407 | E35: 33 | F35: 1153086387 | G35: 26.116624 | H35: 33 | I35: 98249561 | J35: 14.457086 | K35: 33
A36: 2018 | B36: 39014000 | C36: 119171792 | D36: 6.9685143 | E36: 33 | F36: 844676685 | G36: 19.131354 | H36: 33 | I36: 23968411 | J36: 3.5268694 | K36: 33
A37: 2018 | B37: 39019080 | C37: 115073710 | D37: 6.7288809 | E37: 33 | F37: 102359993 | G37: 2.3183844 | H37: 33
A38: 2018 | B38: 39119099 | C38: 78489410 | D38: 4.5896312 | E38: 33 | F38: 83548942 | G38: 1.8923269 | H38: 33 | I38: 53641353 | J38: 7.893141 | K38: 33
A39: 2018 | B39: 39039090 | C39: 77660771 | D39: 4.5411769 | E39: 33 | F39: 205423501 | G39: 4.6527029 | H39: 33 | I39: 26898428 | J39: 3.9580114 | K39: 33
A40: 2018 | B40: 39029090 | C40: 58810978 | D40: 3.4389442 | E40: 33 | I40: 29745584 | J40: 4.3769606 | K40: 33
...

Sheet Polymer Production NL
A1: Year | B1: Top 10 Product codes | C1: Total Waarde | D1: Total Techoev7 | E1: Total Verkhoev7 | F1: Total number of companies
A2: Description (NL) | B2: De 10 meest geproduceerde polymeercodes - in afnemende volgorde | C2: Totale waarde | D2: Gewicht van geproduceerd producten | E2: Gewicht van de verkochte producten. | F2: Aantal bedrijven dat producten verkoopt die binnen de polymeercodes vallen
A3: Description (EN) | B3: The 10 most produced polymer codes - in descreasing order | C3: Total sales | D3: Weight of products producted | E3: Weight of products sold | F3: Number of companies that sell any products within the polymer codes
A4: Units | B4: PCC8 | C4: 1000s EUR | D4: Tons | E4: Tons | F4: 1
A5: 2019 | B5: 20165130, 20164015, 20161090, 20161039, 20163010, 20164040, 20165390, 20164062, 20162035, 20165630 | C5: 11669117 | D5: 7897265 | E5: 7639761 | F5: 224
A6: 2020 | B6: 20164015, 20165130, 20161090, 20161039, 20163010, 20164040, 20164062, 20165390, 20161050, 20162035 | C6: 10108688 | D6: 7282258 | E6: 6906799 | F6: 235

Sheet Product Codes
A1: Group | B1: Polymers | C1: Plastic Products | D1: Polymers
A2: Source | B2: Provided by RVO | C2: Provided by RVO | D2: Collected from CBS
A3: Format | B3: PCC8 | C3: PCC8 | D3: CN | E3: Description
A4: Codes | B4: 20146150 | C4: 15153010 | D4: 29125000 | E4: Polymeren, cyclisch, van aldehyden
B5: 20146170 | C5: 34051000 | D5: 39013000 | E5: Copolymeren van ethyleen en vinylacetaat in primaire vormen
B6: 20146380 | C6: 34052000 | D6: 39014000 | E6: Copolymeren van ethyleen en alfa-olefine, met een relatieve dichtheid van minder dan 0,94, in primaire vormen
B7: 20161035 | C7: 34053000 | D7: 39019080 | E7: Polymeren van ethyleen, in primaire vormen (m.u.v. polyethyleen; copolymeren van ethyleen en vinylacetaat; copolymeren van ethyleen en alfa-olefine; ionomeerharsen bestaande uit een zout van een terpolymeer van ethyleen, isobutylacrylaat en methacrylzuur; A-B-A-blokcopolymeren, bestaande uit polystyreen, ethyleen-butyleen-copolymeer en polystyreen, bevattende <= 35 gewichtspercenten styreen, in blokken in onregelmatige vorm, stukken, klonters, poeder, korrels, vlokken e.d.)
B8: 20161039 | C8: 34054000 | D8: 39019090 | E8: Polymeren van ethyleen, in primaire vormen (m.u.v. polyethyleen; copolymeren van ethyleen en vinylacetaat; ionomeerharsen bestaande uit een zout van een terpolymeer van ethyleen, isobutylacrylaat en methacrylzuur; A-B-A-blokcopolymeren, bestaande uit poly
B9: 20161050 | C9: 34059010 | D9: 39023000 | E9: Copolymeren van propyleen in primaire vormen
B10: 20161070 | C10: 34059090 | D10: 39029010 | E10: A-B-A-blokcopolymeren van propyleen of van andere olefinen, bestaande uit polystyreen, een ethyleen-butyleen-copolymeer en polystyreen, bevattende <= 35 gewichtspercenten styreen, in blokken in onregelmatige vorm, stukken, klonters, poeder, korrels, vlokken e.d.
B11: 20161090 | C11: 38122010 | D11: 39029020 | E11: Poly"but-1-een", copolymeren van but-1-een en ethyleen bevattende <= 10 gewichtspercenten ethyleen, en mengsels van poly"but-1-een" met polyethyleen en/of polypropyleen bevattende <= 10 gewichtspercenten polyethyleen en/of <= 25 gewichtspercenten polypropyleen, in blokken in onregelmatige vorm, stukken, klonters, poeder, korrels, vlokken e.d.
B12: 20162035 | C12: 38122090 | D12: 39029090 | E12: Polymeren van propyleen of van andere olefinen, in primaire vormen (m.u.v. polypropyleen; polyisobutyleen; copolymeren van propyleen; A-B-A-blokcopolymeren, bestaande uit polystyreen, een ethyleen-butyleen-copolymeer en polystyreen, bevattende <= 35 gewichtspercenten styreen, in blokken in onregelmatige vorm, stukken, klonters, poeder, korrels, vlokken e.d.; poly"but-1-een", copolymeren van but-1-een en ethyleen bevattende <= 10 gewichtspercenten ethyleen, en mengsels van poly"but-1-een" met polyethyleen en/of polypropyleen bevattende <= 10 gewichtspercenten polyethyleen en/of <= 25 gewichtspercenten polypropyleen, in blokken in onregelmatige vorm, stukken, klonters, poeder, korrels, vlokken e.d.)
B13: 20162039 | C13: 39011010 | D13: 39032000 | E13: Copolymeren van styreen en acrylonitrol "SAN", in primaire vormen
B14: 20162050 | C14: 39011090 | D14: 39033000 | E14: Copolymeren van acrylonitrol, butadieen en styreen "ABS", in primaire vormen
B15: 20162070 | C15: 39012010 | D15: 39039010 | E15: Copolymeren enkel van allylalcohol met styreen, met een acetylgetal van >= 175, in primaire vormen
B16: 20162090 | C16: 39012090 | D16: 39039090 | E16: Polymeren van styreen, in primaire vormen (m.u.v. polystyreen; copolymeren van styreen en acrylonitrol [SAN]; copolymeren van acrylonitril, butadieen en styreen [ABS]; copolymeren enkel van allylalcohol met styreen, met een acetylgetal van >= 175; gebromeerd polystyreen, bevattende >= 58, doch <= 71 gewichtspercenten broom, in blokken in onregelmatige vorm, stukken, klonters, poeder, korrels, vlokken e.d.)
... B20: 20163040 | C20: 39019080 | D20: 39045090 | E20: Polymeren van vinylideenchloride, in primaire vormen (m.u.v. copolymeren van vinylideenchloride en acrylonitril, in de vorm van expandeerbare bolletjes met een diameter van >= 4 doch <= 20 micrometer)
B21: 20163060 | C21: 39021000 | D21: 39046980 | E21: Polymeren van vinylchloride of van andere halogeenolefinen, in primaire vormen, fluorhoudend (m.u.v. fluorelastomeer FKM, polytetrafluorethyleen; poly"vinylfluoride", in blokken in onregelmatige vorm, stukken, klonters, poeder, korrels, vlokken e.d.)
B22: 20163090 | C22: 39022000 | D22: 39049000 | E22: Polymeren van vinylchloride of van andere halogeenolefinen, in primaire vormen (m.u.v. poly"vinylchloride", copolymeren van vinylchloride, polymeren van vinylideenchloride en fluorhoudende polymeren)
B23: 20164013 | C23: 39023000 | D23: 39052100 | E23: Copolymeren van vinylacetaat, in waterige dispersie
B24: 20164015 | C24: 39029010 | D24: 39052900 | E24: Copolymeren van vinylacetaat, in primaire vormen (m.u.v. die in waterige dispersie)
B25: 20164020 | C25: 39029020 | D25: 39059100 | E25: Copolymeren van vinyl, in primaire vormen (m.u.v. die van vinylchloride en vinylacetaat, alsmede andere van vinylchloride of van vinylacetaat)
B26: 20164030 | C26: 39029090 | D26: 39059990 | E26: Polymeren van vinylesters en andere vinylpolymeren, in primaire vormen (m.u.v. die van vinylchloride of van andere halogeenolefinen; poly"vinylacetaat"; copolymeren; poly"vinylalcohol", ook indien niet-gehydrolyseerde acetaatgroepen bevattend; poly"vinylformal" in blokken in onregelmatige vorm, stukken, klonters, poeder, korrels, vlokken e.d., met een molecuulgewicht van >= 10.000 doch <= 40.000 en met een gehalte aan acetylgroepen, berekend als vinylacetaat, van >= 9,5 doch <= 13 gewichtspercenten en aan hydroxylgroepen, berekend als vinylalcohol, van >= 5 doch <= 6,5 gewichtspercenten)
B27: 20164040 | C27: 39031100 | D27: 39069020 | E27: Copolymeren van 2-diisopropylaminoëthylmethacrylaat en decylmethacrylaat, opgelost in N,N-dimethylaceetamide, met een gehalte aan copolymeer van >=55 gewichtspercenten
B28: 20164050 | C28: 39031900 | D28: 39069030 | E28: Copolymeren van acrylzuur en 2-ethylhexylacrylaat, bevattende >= 10 doch <= 11 gewichtspercenten 2-ethyl-hexylacrylaat, in primaire vormen
B29: 20164062 | C29: 39032000 | D29: 39069040 | E29: Copolymeren van acrylonitril en methylacrylaat, gewijzigd met polybutadieenacrylonitril "NBR", in primaire vormen
B30: 20164064 | C30: 39033000 | D30: 39069060 | E30: Copolymeren van methylacrylaat, ethyleen en een monomeer met een niet-eindstandige carboxylgroep als substituent, bevattende >=50 gewichtspercenten methylacrylaat, ook indien vermengd met siliciumdioxide, in primaire vormen
B31: 20164070 | C31: 39039010 | D31: 39069090 | E31: Acrylpolymeren in primaire vormen (m.u.v. poly"methylmethacrylaat"; poly[N-"3-hydroxyimino-1,1-dimethylbutyl"acrylamide]; copolymeren van 2-diisopropylaminoëthylmethacrylaat en decylmethacrylaat opgelost in N,N-dimethylaceetamide, met een gehalte aan copolymeer van >=55 gewichtspercenten; copolymeren van acrylzuur en 2-ethylhexylacrylaat bevattende >= 10, doch <= 11 gewichtspercenten 2-ethyl-hexylacrylaat; copolymeren van acrylonitril en methylacrylaat gewijzigd met polybutadieenacrylonitril [NBR]; polymerisatieproducten van acrylzuur, alkylmethacrylaat en kleine hoeveelheden andere monomeren bestemd om te worden gebruikt als verdikkingsmiddel bij de vervaardiging van pasta's voor de textieldruk; copolymeren van methylacrylaat, ethyleen en een monomeer met een niet-eindstandige carboxylgroep als substituent, bevattende >= 50 gewichtspercenten methylacrylaat, ook indien vermengd met siliciumdioxide)
B32: 20164080 | C32: 39039020 | D32: 39072091 | E32: Copolymeren van 1-chloor-2,3-epoxypropaan en ethyleenoxide, in primaire vormen
... B37: 20165250 | C37: 39043000 | D37: 39232100 | E37: Zakken van polymeren van ethyleen
B38: 20165270 | C38: 39044000
B39: 20165350 | C39: 39045010
B40: 20165390 | C40: 39045090
B41: 20165450 | C41: 39095010
B42: 20165490 | C42: 39095090
B43: 20165550 | C43: 39119019
B44: 20165570 | C44: 39119092
B45: 20165630 | C45: 39119099
B46: 20165650 | C46: 39121100
B47: 20165670 | C47: 39121200
...
